{"text_format":"1","workbook":"xlsx","n_sheets":15,"sheets":["Amis Exchange rate","COVER","Weekly Pig prices","Prices","Weekly Piglet prices","Class S","Class E","Class R","Graphs Prices","Monthly piglet prices","Monthly pig prices-Classe E","Monthly pig prices-Classe S ","Monthly pig prices-Class R","Annual pig price","Annual piglet price"],"not_rendered":{"charts":5,"images":4,"macros":1,"external_links":2,"defined_names":64,"comments":0,"pivot_tables":1},"unopened":[],"bounds":{"document_bytes":16777216,"sheet_cells":100000,"rows_first":2000,"rows_last":500,"rows_between":2000,"halvings":0,"cell_chars":16384,"cell_head_chars":4096},"cells_cut":0,"cells_raw":0,"read":"whole","date_system":"1900"}

{"sheet":"Amis Exchange rate","index":0,"n_rows":1465,"n_cols":116,"rows_kept":562,"cut":true,"hidden":true,"merged":[],"bounds":{"rows_first":250,"rows_last":62,"rows_between":250,"halvings":3}}
["AMIS2-MILK",null,null,null,null,null,null,null,null,null,null,null,null,null,null,null,null,null,null,null,null,null,null,null,null,null,"DAILY",null,null,null,null,null,null,null,null,null,null,null,null,null,null,null,null,null,null,null,null,null,null,null,null,null,"WEEKLY",null,null,null,null,null,null,null,null,null,null,null,null,null,null,null,null,null,null,null,null,null,null,null,null,null,"MONTHLY",null,null,null,null,null,null,null,null,null,null,null,null,null,null,null,null,null,null,null,null,null,null,null,null,null,"ANNUAL"]
["From : ",{"$f":"A5","v":"2010-01-01"},"to : ",{"$f":" MAX(A5:A1100)","v":"2013-06-01"}]
["Min of RATE","FROM_CURRENCY_CODE",null,null,null,null,null,null,null,null,null,null,null,null,null,null,null,null,null,null,null,null,null,null,null,null,"Day",{"$f":"MATCH(AB4,$A4:$Z4,0)","v":2},3,4,5,6,7,8,9,10,11,12,null,null,null,null,null,null,null,null,null,null,null,null,null,null,"Monday",null,null,null,null,null,null,null,null,null,null,null,null,null,null,null,null,null,null,null,null,null,null,null,null,null,"1st of month",null,null,null,null,null,null,null,null,null,null,null,null,null,null,null,null,null,null,null,null,null,null,null,null,null,"1st of year"]
["BEGIN_DATE","BGN","CZK","DKK","GBP","HUF","LTL","LVL","PLN","RON","SEK","USD",null,null,null,null,null,null,null,null,null,null,"Line","Week","Month","Year",null,{"$f":"B4","v":"BGN"},{"$f":"C4","v":"CZK"},"DKK","GBP","HUF","LTL","LVL","PLN","RON","SEK","USD",null,null,null,null,null,null,null,null,null,null,null,null,null,null,null,{"$f":"B4","v":"BGN"},{"$f":"C4","v":"CZK"},"DKK","GBP","HUF","LTL","LVL","PLN","RON","SEK","USD",null,null,null,null,null,null,null,null,null,null,null,null,null,null,null,{"$f":"B4","v":"BGN"},{"$f":"C4","v":"CZK"},"DKK","GBP","HUF","LTL","LVL","PLN","RON","SEK","USD",null,null,null,null,null,null,null,null,null,null,null,null,null,null,null,{"$f":"AB4","v":"BGN"},"CZK","DKK","GBP","HUF","LTL","LVL","PLN","RON","SEK","USD"]
["2010-01-01",1.9558,26.472999999999999,7.4417999999999997,0.8881,270.42,3.4527999999999999,0.70930000000000004,4.1044999999999998,4.2363,10.252000000000001,1.4406000000000001,null,null,null,null,null,null,null,null,null,null,{"$f":"IF(AA5>MaxDate,\"\",MATCH(AA5,$A:$A,1))","v":5},{"$f":"IF(W5=\"\",\"\",IF(WEEKDAY(AA5,2)=1,AA5,X4))","v":"Week"},{"$f":"IF(W5=\"\",\"\",DATE(YEAR(AA5),MONTH(AA5),1))","v":"2010-01-01"},{"$f":"IF(W5=\"\",\"\",DATE(YEAR(AA5),1,1))","v":"2010-01-01"},{"$f":"A5","v":"2010-01-01"},{"$f":"IF($W5=\"\",\"\",INDEX($A:$Z,$W5,AB$3))","v":1.9558},26.472999999999999,7.4417999999999997,0.8881,270.42,3.4527999999999999,0.70930000000000004,4.1044999999999998,4.2363,10.252000000000001,1.4406000000000001,null,null,null,null,null,null,null,null,null,null,null,null,null,null,{"$f":"AA5+8-WEEKDAY(AA5,2)","v":"2010-01-04"},{"$f":"IF(MaxDate>=$BA6,SUMIF($X:$X,$BA5,AB:AB)/COUNTIF($X:$X,$BA5),\"\")","v":1.9558},{"$f":"IF(MaxDate>=$BA6,SUMIF($X:$X,$BA5,AC:AC)/COUNTIF($X:$X,$BA5),\"\")","v":26.331285714285716},{"$f":"IF(MaxDate>=$BA6,SUMIF($X:$X,$BA5,AD:AD)/COUNTIF($X:$X,$BA5),\"\")","v":7.4412285714285717},{"$f":"IF(MaxDate>=$BA6,SUMIF($X:$X,$BA5,AE:AE)/COUNTIF($X:$X,$BA5),\"\")","v":0.89499285714285703},{"$f":"IF(MaxDate>=$BA6,SUMIF($X:$X,$BA5,AF:AF)/COUNTIF($X:$X,$BA5),\"\")","v":269.59857142857146},{"$f":"IF(MaxDate>=$BA6,SUMIF($X:$X,$BA5,AG:AG)/COUNTIF($X:$X,$BA5),\"\")","v":3.4527999999999999},{"$f":"IF(MaxDate>=$BA6,SUMIF($X:$X,$BA5,AH:AH)/COUNTIF($X:$X,$BA5),\"\")","v":0.70934285714285716},{"$f":"IF(MaxDate>=$BA6,SUMIF($X:$X,$BA5,AI:AI)/COUNTIF($X:$X,$BA5),\"\")","v":4.1049857142857133},{"$f":"IF(MaxDate>=$BA6,SUMIF($X:$X,$BA5,AJ:AJ)/COUNTIF($X:$X,$BA5),\"\")","v":4.1881714285714287},{"$f":"IF(MaxDate>=$BA6,SUMIF($X:$X,$BA5,AK:AK)/COUNTIF($X:$X,$BA5),\"\")","v":10.215285714285713},{"$f":"IF(MaxDate>=$BA6,SUMIF($X:$X,$BA5,AL:AL)/COUNTIF($X:$X,$BA5),\"\")","v":1.4348142857142858},null,null,null,null,null,null,null,null,null,null,null,null,null,null,{"$f":"DATE(YEAR($AA$5),MONTH($AA$5),1)","v":"2010-01-01"},{"$f":"IF(MaxDate>=$CA6,SUMIF($Y:$Y,$CA5,AB:AB)/COUNTIF($Y:$Y,$CA5),\"\")","v":1.9557999999999982},{"$f":"IF(MaxDate>=$CA6,SUMIF($Y:$Y,$CA5,AC:AC)/COUNTIF($Y:$Y,$CA5),\"\")","v":26.182709677419346},{"$f":"IF(MaxDate>=$CA6,SUMIF($Y:$Y,$CA5,AD:AD)/COUNTIF($Y:$Y,$CA5),\"\")","v":7.4424903225806478},{"$f":"IF(MaxDate>=$CA6,SUMIF($Y:$Y,$CA5,AE:AE)/COUNTIF($Y:$Y,$CA5),\"\")","v":0.88327258064516123},{"$f":"IF(MaxDate>=$CA6,SUMIF($Y:$Y,$CA5,AF:AF)/COUNTIF($Y:$Y,$CA5),\"\")","v":269.60548387096782},{"$f":"IF(MaxDate>=$CA6,SUMIF($Y:$Y,$CA5,AG:AG)/COUNTIF($Y:$Y,$CA5),\"\")","v":3.4527999999999976},{"$f":"IF(MaxDate>=$CA6,SUMIF($Y:$Y,$CA5,AH:AH)/COUNTIF($Y:$Y,$CA5),\"\")","v":0.70881935483871006},{"$f":"IF(MaxDate>=$CA6,SUMIF($Y:$Y,$CA5,AI:AI)/COUNTIF($Y:$Y,$CA5),\"\")","v":4.0765193548387106},{"$f":"IF(MaxDate>=$CA6,SUMIF($Y:$Y,$CA5,AJ:AJ)/COUNTIF($Y:$Y,$CA5),\"\")","v":4.1499870967741943},{"$f":"IF(MaxDate>=$CA6,SUMIF($Y:$Y,$CA5,AK:AK)/COUNTIF($Y:$Y,$CA5),\"\")","v":10.202838709677417},{"$f":"IF(MaxDate>=$CA6,SUMIF($Y:$Y,$CA5,AL:AL)/COUNTIF($Y:$Y,$CA5),\"\")","v":1.4277290322580647},null,null,null,null,null,null,null,null,null,null,null,null,null,null,{"$f":"DATE(YEAR($AA$5),1,1)","v":"2010-01-01"},{"$f":"IF(MaxDate>=$DA6,SUMIF($Z:$Z,$DA5,AB:AB)/COUNTIF($Z:$Z,$DA5),\"\")","v":1.9558002739725948},25.302438356164409,7.4471978082191699,0.85840323287671338,275.39098630136965,3.452800000000019,0.70871835616438406,3.9959487671232918,4.2115509589041107,9.5500164383561543,1.3269421917808208]
["2010-01-05",1.9558,26.285,7.4414999999999996,0.89139999999999997,269.85000000000002,3.4527999999999999,0.70930000000000004,4.1029999999999998,4.2252999999999998,10.193,1.4389000000000001,null,null,null,null,null,null,null,null,null,null,5,{"$f":"IF(W6=\"\",\"\",IF(WEEKDAY(AA6,2)=1,AA6,X5))","v":"Week"},{"$f":"IF(W6=\"\",\"\",DATE(YEAR(AA6),MONTH(AA6),1))","v":"2010-01-01"},{"$f":"IF(W6=\"\",\"\",DATE(YEAR(AA6),1,1))","v":"2010-01-01"},{"$f":"1+AA5","v":"2010-01-02"},1.9558,26.472999999999999,7.4417999999999997,0.8881,270.42,3.4527999999999999,0.70930000000000004,4.1044999999999998,4.2363,10.252000000000001,1.4406000000000001,null,null,null,null,null,null,null,null,null,null,null,null,null,null,{"$f":"7+BA5","v":"2010-01-11"},1.9558,26.123999999999999,7.4410571428571428,0.89095714285714289,267.43857142857138,3.4527999999999999,0.70894285714285721,4.0637428571428575,4.1271142857142857,10.185971428571431,1.4439857142857142,null,null,null,null,null,null,null,null,null,null,null,null,null,null,{"$f":"EDATE(CA5,1)","v":"2010-02-01"},1.9557999999999984,25.990249999999996,7.4440035714285733,0.87576428571428555,271.32214285714286,3.4527999999999976,0.70901785714285681,4.0186321428571423,4.12195,9.9634178571428578,1.3671928571428571,null,null,null,null,null,null,null,null,null,null,null,null,null,null,{"$f":"EDATE(DA5,12)","v":"2011-01-01"},1.9557999999999922,24.589701369863015,7.4506600000000009,0.86809575342465806,279.22909589041149,3.452800000000019,0.70632082191780976,4.1189389041095872,4.2380673972602727,9.0291934246575423,1.3923221917808208]
["2010-01-06",1.9558,26.231000000000002,7.4414999999999996,0.90044999999999997,269,3.4527999999999999,0.70940000000000003,4.0919999999999996,4.1929999999999996,10.212,1.4441999999999999,null,null,null,null,null,null,null,null,null,null,5,"Week","2010-01-01","2010-01-01",{"$f":"1+AA6","v":"2010-01-03"},1.9558,26.472999999999999,7.4417999999999997,0.8881,270.42,3.4527999999999999,0.70930000000000004,4.1044999999999998,4.2363,10.252000000000001,1.4406000000000001,null,null,null,null,null,null,null,null,null,null,null,null,null,null,{"$f":"7+BA6","v":"2010-01-18"},1.9558,25.996571428571428,7.4431285714285718,0.87523571428571412,269.42142857142858,3.4527999999999999,0.7084571428571429,4.0534571428571429,4.1254857142857144,10.157928571428572,1.4212571428571426,null,null,null,null,null,null,null,null,null,null,null,null,null,null,"2010-03-01",1.9557999999999982,25.551870967741937,7.4415483870967751,0.90165000000000028,265.45548387096773,3.4527999999999976,0.70828064516129008,3.8929709677419368,4.0865129032258052,9.7230548387096789,1.3569774193548383,null,null,null,null,null,null,null,null,null,null,null,null,null,null,{"$f":"EDATE(DA6,12)","v":"2012-01-01"},1.955799999999992,25.14799180327871,7.4437106557376893,0.81112765027322409,289.4013114754095,3.452800000000019,0.69730409836065732,4.1844300546448077,4.4584256830601063,8.7060491803278577,1.285318306010931]
["2010-01-07",1.9558,26.338000000000001,7.4406999999999996,0.89859999999999995,268.88,3.4527999999999999,0.70950000000000002,4.0952999999999999,4.1585000000000001,10.186999999999999,1.4350000000000001,null,null,null,null,null,null,null,null,null,null,5,"2010-01-04","2010-01-01","2010-01-01","2010-01-04",1.9558,26.472999999999999,7.4417999999999997,0.8881,270.42,3.4527999999999999,0.70930000000000004,4.1044999999999998,4.2363,10.252000000000001,1.4406000000000001,null,null,null,null,null,null,null,null,null,null,null,null,null,null,"2010-01-25",1.9558,26.154571428571426,7.4448428571428567,0.86983571428571427,271.61428571428576,3.4527999999999999,0.70832857142857153,4.0718999999999994,4.1221857142857141,10.2311,1.405342857142857,null,null,null,null,null,null,null,null,null,null,null,null,null,null,"2010-04-01",1.9558033333333318,25.308400000000002,7.4431000000000012,0.87609333333333339,265.32866666666661,3.4527999999999976,0.70776333333333308,3.8721666666666676,4.1279133333333329,9.6728333333333349,1.3420333333333334,null,null,null,null,null,null,null,null,null,null,null,null,null,null,{"$f":"EDATE(DA7,12)","v":"2013-01-01"},"","","","","","","","","","",""]
["2010-01-08",1.9558,26.37,7.4410999999999996,0.89959999999999996,270.3,3.4527999999999999,0.70930000000000004,4.1224999999999996,4.1730999999999998,10.212,1.4303999999999999,null,null,null,null,null,null,null,null,null,null,6,"2010-01-04","2010-01-01","2010-01-01","2010-01-05",1.9558,26.285,7.4414999999999996,0.89139999999999997,269.85000000000002,3.4527999999999999,0.70930000000000004,4.1029999999999998,4.2252999999999998,10.193,1.4389000000000001,null,null,null,null,null,null,null,null,null,null,null,null,null,null,"2010-02-01",1.9558,26.114285714285717,7.4449285714285702,0.87299285714285701,271.93857142857138,3.4527999999999999,0.70878571428571424,4.0325999999999995,4.1136857142857144,10.174771428571429,1.3861285714285714,null,null,null,null,null,null,null,null,null,null,null,null,null,null,"2010-05-01",1.9557999999999982,25.686064516129029,7.4415645161290334,0.85978064516129016,276.23677419354834,3.4527999999999976,0.70747741935483843,4.0502709677419348,4.1735612903225805,9.6723354838709685,1.2637032258064513,null,null,null,null,null,null,null,null,null,null,null,null,null,null,{"$f":"EDATE(DA8,12)","v":"2014-01-01"},"","","","","","","","","","",""]
["2010-01-09",1.9558,26.311,7.4409999999999998,0.89339999999999997,269.37,3.4527999999999999,0.70930000000000004,4.1087999999999996,4.1654999999999998,10.2255,1.4273,null,null,null,null,null,null,null,null,null,null,7,"2010-01-04","2010-01-01","2010-01-01","2010-01-06",1.9558,26.231000000000002,7.4414999999999996,0.90044999999999997,269,3.4527999999999999,0.70940000000000003,4.0919999999999996,4.1929999999999996,10.212,1.4441999999999999,null,null,null,null,null,null,null,null,null,null,null,null,null,null,"2010-02-08",1.9558,26.088285714285718,7.4447142857142854,0.87503571428571425,271.85857142857145,3.4527999999999999,0.70905714285714283,4.0568857142857144,4.1263714285714288,10.049414285714287,1.3675428571428576,null,null,null,null,null,null,null,null,null,null,null,null,null,null,"2010-06-01",1.9557999999999984,25.78436666666666,7.4404666666666657,0.82909433333333327,281.63666666666666,3.4527999999999976,0.70816333333333326,4.1067633333333324,4.2362500000000001,9.5729799999999994,1.2210966666666667,null,null,null,null,null,null,null,null,null,null,null,null,null,null,{"$f":"EDATE(DA9,12)","v":"2015-01-01"}]
["2010-01-12",1.9558,26.192,7.4410999999999996,0.89890000000000003,266.7,3.4527999999999999,0.70930000000000004,4.0583,4.1280999999999999,10.1995,1.4528000000000001,null,null,null,null,null,null,null,null,null,null,8,"2010-01-04","2010-01-01","2010-01-01","2010-01-07",1.9558,26.338000000000001,7.4406999999999996,0.89859999999999995,268.88,3.4527999999999999,0.70950000000000002,4.0952999999999999,4.1585000000000001,10.186999999999999,1.4350000000000001,null,null,null,null,null,null,null,null,null,null,null,null,null,null,"2010-02-15",1.9558,25.890571428571427,7.4433857142857152,0.87188571428571426,271.26285714285711,3.4527999999999999,0.7089714285714287,4.0048428571428571,4.1244428571428582,9.8533571428571438,1.3594142857142859,null,null,null,null,null,null,null,null,null,null,null,null,null,null,"2010-07-01",1.9557999999999982,25.365741935483864,7.4520290322580625,0.83514193548387095,283.75677419354849,3.4527999999999976,0.70907741935483859,4.0873806451612884,4.2660096774193539,9.4944161290322562,1.2754032258064518]
["2010-01-13",1.9558,26.257999999999999,7.4405000000000001,0.8972,268.18,3.4527999999999999,0.70930000000000004,4.0838000000000001,4.1405000000000003,10.221500000000001,1.4480999999999999,null,null,null,null,null,null,null,null,null,null,9,"2010-01-04","2010-01-01","2010-01-01","2010-01-08",1.9558,26.37,7.4410999999999996,0.89959999999999996,270.3,3.4527999999999999,0.70930000000000004,4.1224999999999996,4.1730999999999998,10.212,1.4303999999999999,null,null,null,null,null,null,null,null,null,null,null,null,null,null,"2010-02-22",1.9558,25.86785714285714,7.4429857142857134,0.8831428571428569,270.2285714285714,3.4527999999999999,0.70925714285714292,3.9802,4.1232999999999995,9.7761285714285719,1.3556857142857142,null,null,null,null,null,null,null,null,null,null,null,null,null,null,"2010-08-01",1.9557999999999982,24.800838709677414,7.4499322580645178,0.82409354838709648,281.39096774193547,3.4527999999999976,0.70850000000000013,3.9911741935483871,4.2390064516129033,9.4263580645161298,1.289825806451613]
["2010-01-14",1.9558,26.167999999999999,7.4405000000000001,0.89459999999999995,266.82,3.4527999999999999,0.70899999999999996,4.0563000000000002,4.1178999999999997,10.197800000000001,1.4562999999999999,null,null,null,null,null,null,null,null,null,null,10,"2010-01-04","2010-01-01","2010-01-01","2010-01-09",1.9558,26.311,7.4409999999999998,0.89339999999999997,269.37,3.4527999999999999,0.70930000000000004,4.1087999999999996,4.1654999999999998,10.2255,1.4273,null,null,null,null,null,null,null,null,null,null,null,null,null,null,"2010-03-01",1.9558,25.828285714285716,7.442328571428571,0.90306428571428565,267.40714285714284,3.4527999999999999,0.70912857142857144,3.9109285714285713,4.1004428571428573,9.742228571428571,1.3588,null,null,null,null,null,null,null,null,null,null,null,null,null,null,"2010-09-01",1.9557999999999984,24.66523333333334,7.4471433333333339,0.8377833333333331,282.60033333333325,3.4527999999999976,0.70902999999999983,3.9560799999999992,4.2644133333333327,9.2359999999999971,1.3018933333333338]
["2010-01-15",1.9558,26.045000000000002,7.4402999999999997,0.89049999999999996,267.39999999999998,3.4527999999999999,0.7087,4.0591999999999997,4.1292,10.1715,1.4486000000000001,null,null,null,null,null,null,null,null,null,null,10,"2010-01-04","2010-01-01","2010-01-01","2010-01-10",1.9558,26.311,7.4409999999999998,0.89339999999999997,269.37,3.4527999999999999,0.70930000000000004,4.1087999999999996,4.1654999999999998,10.2255,1.4273,null,null,null,null,null,null,null,null,null,null,null,null,null,null,"2010-03-08",1.9558,25.602857142857143,7.4414571428571437,0.90684285714285706,266.48714285714289,3.4527999999999999,0.70830000000000004,3.8868857142857145,4.0934714285714282,9.7184714285714282,1.3656857142857142,null,null,null,null,null,null,null,null,null,null,null,null,null,null,"2010-10-01",1.9557999999999982,24.530967741935481,7.4562580645161285,0.87572419354838715,274.18225806451625,3.4527999999999976,0.70942580645161302,3.9511645161290327,4.2776354838709674,9.2709580645161314,1.3890483870967738]
["2010-01-16",1.9558,25.946999999999999,7.4420000000000002,0.88105,266.8,3.4527999999999999,0.70850000000000002,4.0399000000000003,4.1043000000000003,10.143000000000001,1.4374,null,null,null,null,null,null,null,null,null,null,10,"2010-01-11","2010-01-01","2010-01-01","2010-01-11",{"$f":"IF($W15=\"\",\"\",INDEX($A:$Z,$W15,AB$3))","v":1.9558},26.311,7.4409999999999998,0.89339999999999997,269.37,3.4527999999999999,0.70930000000000004,4.1087999999999996,4.1654999999999998,10.2255,1.4273,null,null,null,null,null,null,null,null,null,null,null,null,null,null,"2010-03-15",1.9558,25.418142857142861,7.4409142857142854,0.90069999999999983,263.50000000000006,3.4527999999999999,0.70788571428571423,3.8836714285714287,4.0845142857142864,9.7124142857142868,1.3672142857142855,null,null,null,null,null,null,null,null,null,null,null,null,null,null,"2010-11-01",1.9557999999999984,24.631033333333338,7.4547066666666675,0.85600166666666666,275.21699999999993,3.4527999999999976,0.70944666666666667,3.9489766666666668,4.2945000000000002,9.3285500000000017,1.3692933333333328]
["2010-01-19",1.9558,25.888999999999999,7.4417999999999997,0.87949999999999995,267.75,3.4527999999999999,0.70850000000000002,4.0227000000000004,4.1052999999999997,10.1295,1.4369000000000001,null,null,null,null,null,null,null,null,null,null,11,"2010-01-11","2010-01-01","2010-01-01","2010-01-12",1.9558,26.192,7.4410999999999996,0.89890000000000003,266.7,3.4527999999999999,0.70930000000000004,4.0583,4.1280999999999999,10.1995,1.4528000000000001,null,null,null,null,null,null,null,null,null,null,null,null,null,null,"2010-03-22",1.9558,25.407,7.4410714285714281,0.89768571428571431,264.34714285714284,3.4527999999999999,0.70784285714285711,3.8935571428571429,4.0744857142857143,9.7054714285714283,1.3419714285714286,null,null,null,null,null,null,null,null,null,null,null,null,null,null,"2010-12-01",1.9557999999999982,25.171870967741935,7.452712903225807,0.8470016129032254,277.66935483870964,3.4527999999999976,0.70963225806451602,3.9982612903225809,4.2946806451612902,9.063890322580642,1.3206354838709675]
["2010-01-20",1.9558,25.905000000000001,7.4420999999999999,0.87429999999999997,267.94,3.4527999999999999,0.70850000000000002,4.0303000000000004,4.1204999999999998,10.1518,1.4278999999999999,null,null,null,null,null,null,null,null,null,null,12,"2010-01-11","2010-01-01","2010-01-01","2010-01-13",1.9558,26.257999999999999,7.4405000000000001,0.8972,268.18,3.4527999999999999,0.70930000000000004,4.0838000000000001,4.1405000000000003,10.221500000000001,1.4480999999999999,null,null,null,null,null,null,null,null,null,null,null,null,null,null,"2010-03-29",1.9558,25.415571428571429,7.4438142857142866,0.89106428571428575,265.2885714285714,3.4527999999999999,0.70854285714285703,3.8659285714285718,4.0904000000000007,9.7377857142857156,1.3455571428571427,null,null,null,null,null,null,null,null,null,null,null,null,null,null,"2011-01-01",1.9557999999999982,24.49512903225807,7.4519193548387115,0.84806806451612915,275.53129032258067,3.4527999999999976,0.70380645161290301,3.8956935483870967,4.2621193548387089,8.9237999999999982,1.3355774193548391]
["2010-01-21",1.9558,25.89,7.4421999999999997,0.86919999999999997,268.99,3.4527999999999999,0.70850000000000002,4.0232000000000001,4.1277999999999997,10.1165,1.4132,null,null,null,null,null,null,null,null,null,null,13,"2010-01-11","2010-01-01","2010-01-01","2010-01-14",1.9558,26.167999999999999,7.4405000000000001,0.89459999999999995,266.82,3.4527999999999999,0.70899999999999996,4.0563000000000002,4.1178999999999997,10.197800000000001,1.4562999999999999,null,null,null,null,null,null,null,null,null,null,null,null,null,null,"2010-04-05",1.9558142857142857,25.279857142857139,7.4438571428571425,0.87856428571428569,266.47714285714289,3.4527999999999999,0.70742857142857141,3.8526857142857138,4.1153714285714287,9.694685714285713,1.3390857142857142,null,null,null,null,null,null,null,null,null,null,null,null,null,null,"2011-02-01",1.9557999999999984,24.273035714285719,7.4553357142857122,0.8468067857142858,271.28357142857146,3.4527999999999976,0.70365714285714276,3.9257035714285715,4.2471607142857151,8.7948785714285709,1.3640178571428569]
["2010-01-22",1.9558,25.978999999999999,7.4425999999999997,0.87,270.43,3.4527999999999999,0.70879999999999999,4.0545,4.1275000000000004,10.137499999999999,1.4064000000000001,null,null,null,null,null,null,null,null,null,null,14,"2010-01-11","2010-01-01","2010-01-01","2010-01-15",1.9558,26.045000000000002,7.4402999999999997,0.89049999999999996,267.39999999999998,3.4527999999999999,0.7087,4.0591999999999997,4.1292,10.1715,1.4486000000000001,null,null,null,null,null,null,null,null,null,null,null,null,null,null,"2010-04-12",1.9558,25.148714285714284,7.4428857142857145,0.87837857142857145,264.33428571428573,3.4527999999999999,0.70744285714285715,3.869728571428571,4.141,9.7158857142857151,1.3540142857142858,null,null,null,null,null,null,null,null,null,null,null,null,null,null,"2011-03-01",1.9557999999999982,24.386354838709675,7.4574322580645163,0.86584032258064525,271.10774193548394,3.4527999999999976,0.70701935483870959,4.0153612903225806,4.1647258064516119,8.8803935483870955,1.3985741935483864]
["2010-01-23",1.9558,26.183,7.4455999999999998,0.87629999999999997,272.02,3.4527999999999999,0.70820000000000005,4.1017999999999999,4.1464999999999996,10.2136,1.4135,null,null,null,null,null,null,null,null,null,null,15,"2010-01-11","2010-01-01","2010-01-01","2010-01-16",1.9558,25.946999999999999,7.4420000000000002,0.88105,266.8,3.4527999999999999,0.70850000000000002,4.0399000000000003,4.1043000000000003,10.143000000000001,1.4374,null,null,null,null,null,null,null,null,null,null,null,null,null,null,"2010-04-19",1.9558,25.314,7.4422714285714289,0.87206428571428574,264.46999999999997,3.4527999999999999,0.70772857142857137,3.8826999999999998,4.139671428571428,9.6318000000000001,1.3398142857142854,null,null,null,null,null,null,null,null,null,null,null,null,null,null,"2011-04-01",1.9557999999999984,24.309666666666658,7.4573333333333363,0.88255833333333333,265.21466666666674,3.4527999999999976,0.70920666666666643,3.970386666666665,4.1025333333333327,8.9569099999999988,1.4430699999999994]
["2010-01-26",1.9558,26.010999999999999,7.4450000000000003,0.87729999999999997,271.18,3.4527999999999999,0.70830000000000004,4.0674000000000001,4.1185,10.2075,1.4151,null,null,null,null,null,null,null,null,null,null,15,"2010-01-11","2010-01-01","2010-01-01","2010-01-17",1.9558,25.946999999999999,7.4420000000000002,0.88105,266.8,3.4527999999999999,0.70850000000000002,4.0399000000000003,4.1043000000000003,10.143000000000001,1.4374,null,null,null,null,null,null,null,null,null,null,null,null,null,null,"2010-04-26",1.9558,25.501857142857141,7.4422571428571436,0.8680000000000001,266.63428571428568,3.4527999999999999,0.70775714285714286,3.9081571428571427,4.1291142857142855,9.6045571428571428,1.3293285714285712,null,null,null,null,null,null,null,null,null,null,null,null,null,null,"2011-05-01",1.9557999999999982,24.366838709677417,7.4566322580645146,0.8785854838709678,266.90290322580643,3.4527999999999976,0.70933225806451605,3.9403451612903204,4.112774193548387,8.9584032258064532,1.4373258064516128]
["2010-01-27",1.9558,26.097000000000001,7.4450000000000003,0.87329999999999997,272.75,3.4527999999999999,0.70820000000000005,4.0902000000000003,4.1284999999999998,10.2723,1.4085000000000001,null,null,null,null,null,null,null,null,null,null,15,"2010-01-18","2010-01-01","2010-01-01","2010-01-18",1.9558,25.946999999999999,7.4420000000000002,0.88105,266.8,3.4527999999999999,0.70850000000000002,4.0399000000000003,4.1043000000000003,10.143000000000001,1.4374,null,null,null,null,null,null,null,null,null,null,null,null,null,null,"2010-05-03",1.9558,25.800714285714285,7.4429285714285713,0.8622428571428572,275.38571428571424,3.4527999999999999,0.70712857142857144,4.0302428571428575,4.1609714285714281,9.6716142857142859,1.2969285714285712,null,null,null,null,null,null,null,null,null,null,null,null,null,null,"2011-06-01",1.9557999999999984,24.288966666666671,7.4577566666666684,0.88624833333333342,266.86966666666672,3.4527999999999976,0.70915666666666655,3.9675099999999994,4.1874799999999999,9.1034033333333344,1.4380166666666663]
["2010-01-28",1.9558,26.113,7.4450000000000003,0.86724999999999997,271.75,3.4527999999999999,0.70789999999999997,4.0808,4.1147999999999998,10.2446,1.4072,null,null,null,null,null,null,null,null,null,null,16,"2010-01-18","2010-01-01","2010-01-01","2010-01-19",1.9558,25.888999999999999,7.4417999999999997,0.87949999999999995,267.75,3.4527999999999999,0.70850000000000002,4.0227000000000004,4.1052999999999997,10.1295,1.4369000000000001,null,null,null,null,null,null,null,null,null,null,null,null,null,null,"2010-05-10",1.9558,25.557857142857141,7.4409571428571422,0.85832857142857144,275.62428571428569,3.4527999999999999,0.70755714285714277,4.0174714285714286,4.1799428571428567,9.6233428571428572,1.2667142857142859,null,null,null,null,null,null,null,null,null,null,null,null,null,null,"2011-07-01",1.9557999999999982,24.336258064516127,7.4561193548387079,0.88626290322580625,267.35806451612899,3.4527999999999976,0.70922903225806433,3.991741935483871,4.2394290322580659,9.1310548387096748,1.4283774193548393]
["2010-01-29",1.9558,26.231999999999999,7.4447000000000001,0.86160000000000003,271.3,3.4527999999999999,0.70830000000000004,4.0705,4.1360000000000001,10.2021,1.3998999999999999,null,null,null,null,null,null,null,null,null,null,17,"2010-01-18","2010-01-01","2010-01-01","2010-01-20",1.9558,25.905000000000001,7.4420999999999999,0.87429999999999997,267.94,3.4527999999999999,0.70850000000000002,4.0303000000000004,4.1204999999999998,10.1518,1.4278999999999999,null,null,null,null,null,null,null,null,null,null,null,null,null,null,"2010-05-17",1.9558,25.70814285714286,7.4411428571428564,0.86208571428571434,279.49857142857138,3.4527999999999999,0.70741428571428566,4.0830428571428561,4.1945285714285712,9.6772571428571439,1.2409571428571429,null,null,null,null,null,null,null,null,null,null,null,null,null,null,"2011-08-01",1.9557999999999982,24.274322580645169,7.4496161290322584,0.87594838709677414,272.5032258064515,3.4527999999999976,0.70935161290322579,4.119312903225806,4.2530870967741929,9.1695870967741957,1.4325419354838709]
["2010-01-30",1.9558,26.222999999999999,7.4443000000000001,0.86655000000000004,271.14999999999998,3.4527999999999999,0.7087,4.0462999999999996,4.1055000000000001,10.238799999999999,1.3966000000000001,null,null,null,null,null,null,null,null,null,null,18,"2010-01-18","2010-01-01","2010-01-01","2010-01-21",{"$f":"IF($W25=\"\",\"\",INDEX($A:$Z,$W25,AB$3))","v":1.9558},25.89,7.4421999999999997,0.86919999999999997,268.99,3.4527999999999999,0.70850000000000002,4.0232000000000001,4.1277999999999997,10.1165,1.4132,null,null,null,null,null,null,null,null,null,null,null,null,null,null,"2010-05-24",1.9558,25.709571428571429,7.4410285714285704,0.85486428571428574,277.45857142857142,3.4527999999999999,0.70775714285714297,4.1070000000000002,4.1725285714285709,9.7336428571428577,1.2344571428571431,null,null,null,null,null,null,null,null,null,null,null,null,null,null,"2011-09-01",1.9557999999999984,24.52343333333333,7.4466866666666682,0.87248499999999996,283.98300000000006,3.4527999999999976,0.70929999999999993,4.3287866666666677,4.2759633333333325,9.1281299999999987,1.3813700000000007]
["2010-02-02",1.9558,26.065000000000001,7.4454000000000002,0.87485000000000002,271.35000000000002,3.4527999999999999,0.7087,4.0045000000000002,4.0862999999999996,10.1417,1.3913,null,null,null,null,null,null,null,null,null,null,19,"2010-01-18","2010-01-01","2010-01-01","2010-01-22",1.9558,25.978999999999999,7.4425999999999997,0.87,270.43,3.4527999999999999,0.70879999999999999,4.0545,4.1275000000000004,10.137499999999999,1.4064000000000001,null,null,null,null,null,null,null,null,null,null,null,null,null,null,"2010-05-31",1.9558,25.793142857142861,7.4401571428571431,0.83676142857142843,279.25142857142856,3.4527999999999999,0.70865714285714276,4.1165571428571424,4.1916000000000002,9.5834428571428578,1.2207428571428571,null,null,null,null,null,null,null,null,null,null,null,null,null,null,"2011-10-01",1.9557999999999982,24.824193548387104,7.4440741935483876,0.87025161290322572,296.22516129032255,3.4527999999999976,0.70636774193548413,4.3569129032258056,4.3262548387096773,9.1271806451612889,1.3701258064516124]
["2010-02-03",1.9558,25.998000000000001,7.4454000000000002,0.87375000000000003,270.25,3.4527999999999999,0.7087,3.9916999999999998,4.0914999999999999,10.1229,1.3936999999999999,null,null,null,null,null,null,null,null,null,null,20,"2010-01-18","2010-01-01","2010-01-01","2010-01-23",1.9558,26.183,7.4455999999999998,0.87629999999999997,272.02,3.4527999999999999,0.70820000000000005,4.1017999999999999,4.1464999999999996,10.2136,1.4135,null,null,null,null,null,null,null,null,null,null,null,null,null,null,"2010-06-07",1.9558,25.874285714285712,7.4388142857142849,0.82711428571428569,282.82,3.4527999999999999,0.70779999999999998,4.1272142857142864,4.2200714285714289,9.6016142857142874,1.2038571428571427,null,null,null,null,null,null,null,null,null,null,null,null,null,null,"2011-11-01",1.9557999999999984,25.469533333333331,7.4413666666666671,0.85812999999999984,308.85433333333339,3.4527999999999976,0.70180666666666658,4.426213333333334,4.3559966666666678,9.1381766666666628,1.3575499999999998]
["2010-02-04",1.9558,26.024000000000001,7.4450000000000003,0.87619999999999998,270.02,3.4527999999999999,0.70889999999999997,3.9826999999999999,4.1005000000000003,10.106,1.3984000000000001,null,null,null,null,null,null,null,null,null,null,20,"2010-01-18","2010-01-01","2010-01-01","2010-01-24",1.9558,26.183,7.4455999999999998,0.87629999999999997,272.02,3.4527999999999999,0.70820000000000005,4.1017999999999999,4.1464999999999996,10.2136,1.4135,null,null,null,null,null,null,null,null,null,null,null,null,null,null,"2010-06-14",1.9558,25.711000000000002,7.4386857142857128,0.83274999999999999,279.86857142857144,3.4527999999999999,0.70755714285714288,4.0774999999999997,4.2334428571428573,9.5806714285714296,1.2288285714285714,null,null,null,null,null,null,null,null,null,null,null,null,null,null,"2011-12-01",1.9557999999999982,25.50554838709677,7.4341161290322573,0.84477580645161299,304.40483870967745,3.4527999999999976,0.69749354838709687,4.4776032258064511,4.329187096774195,9.0224967741935487,1.3202161290322583]
["2010-02-05",1.9558,26.12,7.4446000000000003,0.87309999999999999,272.60000000000002,3.4527999999999999,0.70909999999999995,4.0279999999999996,4.125,10.132999999999999,1.3847,null,null,null,null,null,null,null,null,null,null,20,"2010-01-25","2010-01-01","2010-01-01","2010-01-25",1.9558,26.183,7.4455999999999998,0.87629999999999997,272.02,3.4527999999999999,0.70820000000000005,4.1017999999999999,4.1464999999999996,10.2136,1.4135,null,null,null,null,null,null,null,null,null,null,null,null,null,null,"2010-06-21",1.9558,25.767000000000003,7.4421714285714273,0.82748571428571427,281.81,3.4527999999999999,0.70831428571428579,4.0856428571428571,4.2479999999999993,9.5491142857142854,1.2306000000000001,null,null,null,null,null,null,null,null,null,null,null,null,null,null,"2012-01-01",1.9557999999999982,25.545451612903221,7.4352580645161312,0.83233677419354823,308.0667741935485,3.4527999999999976,0.69900645161290353,4.3822967741935486,4.3406935483870948,8.8530064516129023,1.2896677419354843]
["2010-02-06",1.9558,26.184999999999999,7.4448999999999996,0.87324999999999997,274.10000000000002,3.4527999999999999,0.7087,4.0875000000000004,4.1435000000000004,10.240500000000001,1.3691,null,null,null,null,null,null,null,null,null,null,21,"2010-01-25","2010-01-01","2010-01-01","2010-01-26",1.9558,26.010999999999999,7.4450000000000003,0.87729999999999997,271.18,3.4527999999999999,0.70830000000000004,4.0674000000000001,4.1185,10.2075,1.4151,null,null,null,null,null,null,null,null,null,null,null,null,null,null,"2010-06-28",1.9558,25.751428571428569,7.4476000000000004,0.8205714285714284,285.94714285714286,3.4527999999999999,0.70922857142857132,4.1498571428571429,4.3310142857142866,9.5535999999999994,1.2360857142857142,null,null,null,null,null,null,null,null,null,null,null,null,null,null,"2012-02-01",1.9557999999999984,25.066068965517243,7.4340103448275867,0.83665,290.96034482758614,3.4527999999999976,0.69892413793103436,4.1888482758620702,4.3513413793103455,8.8247413793103462,1.3216517241379309]
["2010-02-09",1.9558,26.167999999999999,7.4442000000000004,0.87609999999999999,273.89999999999998,3.4527999999999999,0.70879999999999999,4.1040000000000001,4.1369999999999996,10.1616,1.3674999999999999,null,null,null,null,null,null,null,null,null,null,22,"2010-01-25","2010-01-01","2010-01-01","2010-01-27",1.9558,26.097000000000001,7.4450000000000003,0.87329999999999997,272.75,3.4527999999999999,0.70820000000000005,4.0902000000000003,4.1284999999999998,10.2723,1.4085000000000001,null,null,null,null,null,null,null,null,null,null,null,null,null,null,"2010-07-05",1.9558,25.505714285714287,7.453214285714286,0.83167142857142873,283.28142857142859,3.4527999999999999,0.70920000000000005,4.1032857142857146,4.2462571428571438,9.5561857142857143,1.2594142857142858,null,null,null,null,null,null,null,null,null,null,null,null,null,null,"2012-03-01",1.9557999999999982,24.678774193548389,7.4353645161290292,0.83456129032258064,291.96741935483868,3.4527999999999976,0.69762258064516114,4.133735483870967,4.3658258064516131,8.8827935483870988,1.3206354838709677]
["2010-02-10",1.9558,26.099,7.4447999999999999,0.88039999999999996,272,3.4527999999999999,0.70920000000000005,4.0774999999999997,4.1280000000000001,10.121700000000001,1.3759999999999999,null,null,null,null,null,null,null,null,null,null,23,"2010-01-25","2010-01-01","2010-01-01","2010-01-28",1.9558,26.113,7.4450000000000003,0.86724999999999997,271.75,3.4527999999999999,0.70789999999999997,4.0808,4.1147999999999998,10.2446,1.4072,null,null,null,null,null,null,null,null,null,null,null,null,null,null,"2010-07-12",1.9558,25.402714285714286,7.4527000000000001,0.83782142857142861,279.37142857142857,3.4527999999999999,0.70885714285714285,4.0759285714285713,4.2560999999999991,9.4465714285714295,1.2758428571428571,null,null,null,null,null,null,null,null,null,null,null,null,null,null,"2012-04-01",1.9557999999999984,24.795166666666663,7.43926,0.82283833333333367,295.00299999999999,3.4527999999999976,0.69930333333333339,4.1768233333333331,4.3774333333333315,8.8577933333333316,1.3166033333333325]
["2010-02-11",1.9558,26.108000000000001,7.4448999999999996,0.87980000000000003,271.55,3.4527999999999999,0.70909999999999995,4.0663,4.1180000000000003,10.0335,1.3740000000000001,null,null,null,null,null,null,null,null,null,null,24,"2010-01-25","2010-01-01","2010-01-01","2010-01-29",1.9558,26.231999999999999,7.4447000000000001,0.86160000000000003,271.3,3.4527999999999999,0.70830000000000004,4.0705,4.1360000000000001,10.2021,1.3998999999999999,null,null,null,null,null,null,null,null,null,null,null,null,null,null,"2010-07-19",1.9558,25.298857142857145,7.4519857142857138,0.84253571428571428,286.15571428571428,3.4527999999999999,0.70895714285714284,4.0988571428571436,4.2676285714285713,9.4719857142857133,1.2894571428571429,null,null,null,null,null,null,null,null,null,null,null,null,null,null,"2012-05-01",1.9557999999999982,25.257967741935474,7.4339516129032255,0.80474419354838722,292.84451612903229,3.4527999999999976,0.6981935483870968,4.278870967741935,4.4374451612903236,8.9888838709677419,1.2840870967741935]
["2010-02-12",1.9558,26.007999999999999,7.4451999999999998,0.87749999999999995,270.5,3.4527999999999999,0.70940000000000003,4.0285000000000002,4.1044999999999998,9.9597999999999995,1.3717999999999999,null,null,null,null,null,null,null,null,null,null,25,"2010-01-25","2010-01-01","2010-01-01","2010-01-30",1.9558,26.222999999999999,7.4443000000000001,0.86655000000000004,271.14999999999998,3.4527999999999999,0.7087,4.0462999999999996,4.1055000000000001,10.238799999999999,1.3966000000000001,null,null,null,null,null,null,null,null,null,null,null,null,null,null,"2010-07-26",1.9558,24.956714285714288,7.4516714285714292,0.8357285714285716,285.08142857142855,3.4527999999999999,0.70901428571428571,4.0196857142857132,4.2557714285714283,9.4579000000000004,1.2996857142857141,null,null,null,null,null,null,null,null,null,null,null,null,null,null,"2012-06-01",1.9557999999999984,25.646733333333326,7.432383333333334,0.80598833333333364,294.67966666666672,3.4527999999999976,0.69700666666666655,4.305369999999999,4.4644666666666657,8.8851099999999992,1.2510166666666664]
["2010-02-13",1.9558,26.024999999999999,7.4444999999999997,0.86909999999999998,270.48,3.4527999999999999,0.70909999999999995,4.0171999999999999,4.1268000000000002,9.9144000000000005,1.3572,null,null,null,null,null,null,null,null,null,null,25,"2010-01-25","2010-01-01","2010-01-01","2010-01-31",{"$f":"IF($W35=\"\",\"\",INDEX($A:$Z,$W35,AB$3))","v":1.9558},26.222999999999999,7.4443000000000001,0.86655000000000004,271.14999999999998,3.4527999999999999,0.7087,4.0462999999999996,4.1055000000000001,10.238799999999999,1.3966000000000001,null,null,null,null,null,null,null,null,null,null,null,null,null,null,"2010-08-02",1.9558,24.738,7.4510571428571444,0.82979999999999987,281.13571428571424,3.4527999999999999,0.70845714285714301,3.9935142857142858,4.2483714285714296,9.3831285714285713,1.3152000000000001,null,null,null,null,null,null,null,null,null,null,null,null,null,null,"2012-07-01",1.9557999999999982,25.477935483870962,7.4382838709677435,0.78910000000000013,286.6183870967742,3.4527999999999976,0.69629677419354841,4.1891516129032258,4.5531387096774205,8.5662129032258072,1.2303225806451616]
["2010-02-16",1.9558,26.001999999999999,7.4436999999999998,0.86760000000000004,271.38,3.4527999999999999,0.70850000000000002,4.0167999999999999,4.1150000000000002,9.8804999999999996,1.3607,null,null,null,null,null,null,null,null,null,null,25,"2010-02-01","2010-02-01","2010-01-01","2010-02-01",1.9558,26.222999999999999,7.4443000000000001,0.86655000000000004,271.14999999999998,3.4527999999999999,0.7087,4.0462999999999996,4.1055000000000001,10.238799999999999,1.3966000000000001,null,null,null,null,null,null,null,null,null,null,null,null,null,null,"2010-08-09",1.9558,24.825428571428571,7.450628571428572,0.82664285714285712,280.52714285714285,3.4527999999999999,0.70851428571428576,4.0020428571428566,4.2359142857142853,9.4483000000000015,1.2995142857142856,null,null,null,null,null,null,null,null,null,null,null,null,null,null,"2012-08-01",1.9557999999999982,25.055451612903216,7.4448419354838711,0.78801741935483849,278.70935483870966,3.4527999999999976,0.6963064516129035,4.0907096774193548,4.5268225806451605,8.2738774193548394,1.2373354838709674]
["2010-02-17",1.9558,26.027999999999999,7.4429999999999996,0.87050000000000005,272.37,3.4527999999999999,0.70860000000000001,4.0134999999999996,4.1134000000000004,9.8770000000000007,1.3649,null,null,null,null,null,null,null,null,null,null,26,"2010-02-01","2010-02-01","2010-01-01","2010-02-02",1.9558,26.065000000000001,7.4454000000000002,0.87485000000000002,271.35000000000002,3.4527999999999999,0.7087,4.0045000000000002,4.0862999999999996,10.1417,1.3913,null,null,null,null,null,null,null,null,null,null,null,null,null,null,"2010-08-16",1.9558,24.822571428571429,7.4501285714285714,0.82104999999999995,279.26285714285717,3.4527999999999999,0.70844285714285715,3.973071428571429,4.2312000000000003,9.4665428571428585,1.2802428571428572,null,null,null,null,null,null,null,null,null,null,null,null,null,null,"2012-09-01",1.9557999999999984,24.744633333333336,7.4537433333333336,0.79845733333333324,284.0716666666666,3.4527999999999976,0.69620000000000004,4.1316133333333331,4.4991033333333341,8.4819433333333336,1.2848499999999998]
["2010-02-18",1.9558,25.928999999999998,7.4435000000000002,0.86899999999999999,270.83,3.4527999999999999,0.70920000000000005,3.9769999999999999,4.1188000000000002,9.8183000000000007,1.3726,null,null,null,null,null,null,null,null,null,null,27,"2010-02-01","2010-02-01","2010-01-01","2010-02-03",1.9558,25.998000000000001,7.4454000000000002,0.87375000000000003,270.25,3.4527999999999999,0.7087,3.9916999999999998,4.0914999999999999,10.1229,1.3936999999999999,null,null,null,null,null,null,null,null,null,null,null,null,null,null,"2010-08-23",1.9558,24.826285714285717,7.4484714285714277,0.81892142857142858,283.26428571428568,3.4527999999999999,0.70847142857142853,3.9954714285714283,4.2388714285714286,9.4194714285714269,1.2679714285714287,null,null,null,null,null,null,null,null,null,null,null,null,null,null,"2012-10-01",1.9557999999999982,24.930354838709668,7.4580580645161305,0.80619354838709689,281.92580645161286,3.4527999999999976,0.69618709677419377,4.1059548387096774,4.5646129032258056,8.6123741935483853,1.2973322580645159]
["2010-02-19",1.9558,25.72,7.4432,0.87039999999999995,271.18,3.4527999999999999,0.70899999999999996,4.0007999999999999,4.1351000000000004,9.7912999999999997,1.3567,null,null,null,null,null,null,null,null,null,null,28,"2010-02-01","2010-02-01","2010-01-01","2010-02-04",1.9558,26.024000000000001,7.4450000000000003,0.87619999999999998,270.02,3.4527999999999999,0.70889999999999997,3.9826999999999999,4.1005000000000003,10.106,1.3984000000000001,null,null,null,null,null,null,null,null,null,null,null,null,null,null,"2010-08-30",1.9558,24.75057142857143,7.4455428571428559,0.82744285714285704,285.16857142857145,3.4527999999999999,0.70879999999999999,3.9789999999999992,4.2611857142857144,9.3491999999999997,1.2768428571428572,null,null,null,null,null,null,null,null,null,null,null,null,null,null,"2012-11-01",1.9557999999999984,25.361266666666666,7.4585966666666659,0.80346666666666655,282.45633333333342,3.4527999999999976,0.69620333333333351,4.1354100000000011,4.5294133333333342,8.6039933333333316,1.2820433333333334]
["2010-02-20",1.9558,25.765000000000001,7.4428999999999998,0.87829999999999997,271.3,3.4527999999999999,0.70920000000000005,4.0042999999999997,4.1310000000000002,9.8460000000000001,1.3519000000000001,null,null,null,null,null,null,null,null,null,null,29,"2010-02-01","2010-02-01","2010-01-01","2010-02-05",1.9558,26.12,7.4446000000000003,0.87309999999999999,272.60000000000002,3.4527999999999999,0.70909999999999995,4.0279999999999996,4.125,10.132999999999999,1.3847,null,null,null,null,null,null,null,null,null,null,null,null,null,null,"2010-09-06",1.9558,24.69857142857143,7.4454142857142855,0.82824285714285728,285.43714285714287,3.4527999999999999,0.70891428571428583,3.9399714285714289,4.2822428571428572,9.2652142857142881,1.2759142857142858,null,null,null,null,null,null,null,null,null,null,null,null,null,null,"2012-12-01",1.9557999999999982,25.209387096774183,7.4604451612903206,0.81238064516129005,285.56806451612903,3.4527999999999976,0.69648709677419374,4.0950322580645153,4.4850870967741923,8.6496677419354846,1.3104000000000005]
["2010-02-23",1.9558,25.75,7.4436,0.87970000000000004,269.75,3.4527999999999999,0.70930000000000004,3.9620000000000002,4.1269999999999998,9.8089999999999993,1.3626,null,null,null,null,null,null,null,null,null,null,30,"2010-02-01","2010-02-01","2010-01-01","2010-02-06",1.9558,26.184999999999999,7.4448999999999996,0.87324999999999997,274.10000000000002,3.4527999999999999,0.7087,4.0875000000000004,4.1435000000000004,10.240500000000001,1.3691,null,null,null,null,null,null,null,null,null,null,null,null,null,null,"2010-09-13",1.9558,24.643857142857144,7.446414285714285,0.83330000000000004,282.92142857142852,3.4527999999999999,0.70877142857142861,3.9451999999999998,4.2542285714285715,9.2119857142857153,1.2937571428571428,null,null,null,null,null,null,null,null,null,null,null,null,null,null,"2013-01-01",1.9557999999999982,25.531419354838711,7.4614161290322576,0.83041935483870977,294.09451612903223,3.4527999999999976,0.69775806451612898,4.1343193548387092,4.3858451612903222,8.6202225806451569,1.32688064516129]
["2010-02-24",1.9558,25.805,7.4433999999999996,0.88019999999999998,269.8,3.4527999999999999,0.70930000000000004,3.9702999999999999,4.1241000000000003,9.7912999999999997,1.3576999999999999,null,null,null,null,null,null,null,null,null,null,30,"2010-02-01","2010-02-01","2010-01-01","2010-02-07",1.9558,26.184999999999999,7.4448999999999996,0.87324999999999997,274.10000000000002,3.4527999999999999,0.7087,4.0875000000000004,4.1435000000000004,10.240500000000001,1.3691,null,null,null,null,null,null,null,null,null,null,null,null,null,null,"2010-09-20",1.9558,24.639714285714287,7.4490857142857134,0.8474571428571428,280.27857142857141,3.4527999999999999,0.70927142857142855,3.9608571428571437,4.2569142857142861,9.185771428571428,1.3252142857142857,null,null,null,null,null,null,null,null,null,null,null,null,null,null,"2013-02-01",1.9557999999999984,25.464607142857144,7.4599821428571422,0.86089107142857135,292.50535714285724,3.4527999999999976,0.69980000000000009,4.1717500000000003,4.385014285714286,8.5203964285714289,1.3380714285714286]
["2010-02-25",1.9558,25.88,7.4427000000000003,0.87749999999999995,270.5,3.4527999999999999,0.70930000000000004,3.9925999999999999,4.1260000000000003,9.7850000000000001,1.3547,null,null,null,null,null,null,null,null,null,null,30,"2010-02-08","2010-02-01","2010-01-01","2010-02-08",1.9558,26.184999999999999,7.4448999999999996,0.87324999999999997,274.10000000000002,3.4527999999999999,0.7087,4.0875000000000004,4.1435000000000004,10.240500000000001,1.3691,null,null,null,null,null,null,null,null,null,null,null,null,null,null,"2010-09-27",1.9558,24.547285714285717,7.4515000000000002,0.85866428571428588,276.14142857142855,3.4527999999999999,0.70941428571428577,3.9621571428571434,4.2615857142857143,9.1907428571428564,1.3580000000000001,null,null,null,null,null,null,null,null,null,null,null,null,null,null,"2013-03-01",1.9557999999999982,25.656354838709678,7.4555322580645154,0.85994516129032272,302.42612903225802,3.4527999999999976,0.70128709677419354,4.1572354838709673,4.3913483870967758,8.3557225806451587,1.2976096774193546]
["2010-02-26",1.9558,25.934999999999999,7.4427000000000003,0.88090000000000002,270.45,3.4527999999999999,0.70930000000000004,3.9925999999999999,4.1260000000000003,9.7495999999999992,1.3489,null,null,null,null,null,null,null,null,null,null,31,"2010-02-08","2010-02-01","2010-01-01","2010-02-09",1.9558,26.167999999999999,7.4442000000000004,0.87609999999999999,273.89999999999998,3.4527999999999999,0.70879999999999999,4.1040000000000001,4.1369999999999996,10.1616,1.3674999999999999,null,null,null,null,null,null,null,null,null,null,null,null,null,null,"2010-10-04",1.9558,24.487857142857145,7.4549285714285727,0.87104999999999999,273.36571428571426,3.4527999999999999,0.70912857142857155,3.9605142857142859,4.2692571428571426,9.282114285714286,1.3826428571428571,null,null,null,null,null,null,null,null,null,null,null,null,null,null,"2013-04-01",1.9557999999999984,25.827066666666664,7.4553299999999991,0.84997333333333325,299.05833333333334,3.4527999999999976,0.70062999999999998,4.1379400000000013,4.3828900000000006,8.4373299999999993,1.3010133333333334]
["2010-02-27",1.9558,25.97,7.4428000000000001,0.89270000000000005,269.89999999999998,3.4527999999999999,0.70920000000000005,3.9698000000000002,4.1144999999999996,9.7260000000000009,1.357,null,null,null,null,null,null,null,null,null,null,32,"2010-02-08","2010-02-01","2010-01-01","2010-02-10",{"$f":"IF($W45=\"\",\"\",INDEX($A:$Z,$W45,AB$3))","v":1.9558},26.099,7.4447999999999999,0.88039999999999996,272,3.4527999999999999,0.70920000000000005,4.0774999999999997,4.1280000000000001,10.121700000000001,1.3759999999999999,null,null,null,null,null,null,null,null,null,null,null,null,null,null,"2010-10-11",1.9558,24.49942857142857,7.4567428571428573,0.87695714285714288,274.12428571428569,3.4527999999999999,0.70937142857142843,3.9390285714285715,4.2736571428571422,9.2543857142857142,1.3982857142857144,null,null,null,null,null,null,null,null,null,null,null,null,null,null,"2013-05-01",1.9557999999999982,25.879967741935484,7.4537032258064535,0.84820322580645169,292.80387096774194,3.4527999999999976,0.70005161290322571,4.1704548387096771,4.3326161290322585,8.5690516129032268,1.298590322580645]
["2010-03-02",1.9558,25.933,7.4427000000000003,0.90669999999999995,269.45,3.4527999999999999,0.70920000000000005,3.94,4.1109999999999998,9.7649000000000008,1.3525,null,null,null,null,null,null,null,null,null,null,33,"2010-02-08","2010-02-01","2010-01-01","2010-02-11",1.9558,26.108000000000001,7.4448999999999996,0.87980000000000003,271.55,3.4527999999999999,0.70909999999999995,4.0663,4.1180000000000003,10.0335,1.3740000000000001,null,null,null,null,null,null,null,null,null,null,null,null,null,null,"2010-10-18",1.9558,24.552285714285716,7.4576000000000002,0.88279999999999992,275.49714285714288,3.4527999999999999,0.70964285714285713,3.9449999999999994,4.2972285714285716,9.2767285714285723,1.3941285714285716,null,null,null,null,null,null,null,null,null,null,null,null,null,null,"2013-06-01","","","","","","","","","","",""]
["2010-03-03",1.9558,25.77,7.4423000000000004,0.90634999999999999,266.89999999999998,3.4527999999999999,0.70930000000000004,3.9146999999999998,4.1066000000000003,9.7316000000000003,1.3548,null,null,null,null,null,null,null,null,null,null,34,"2010-02-08","2010-02-01","2010-01-01","2010-02-12",1.9558,26.007999999999999,7.4451999999999998,0.87749999999999995,270.5,3.4527999999999999,0.70940000000000003,4.0285000000000002,4.1044999999999998,9.9597999999999995,1.3717999999999999,null,null,null,null,null,null,null,null,null,null,null,null,null,null,"2010-10-25",1.9558,24.606142857142856,7.4575142857142867,0.87666428571428567,273.61285714285714,3.4527999999999999,0.70962857142857139,3.9593714285714285,4.2747000000000002,9.3040571428571432,1.3893,null,null,null,null,null,null,null,null,null,null,null,null,null,null,"2013-07-01","","","","","","","","","","",""]
["2010-03-04",1.9558,25.765000000000001,7.4420000000000002,0.90569999999999995,266.02,3.4527999999999999,0.70930000000000004,3.9,4.1005000000000003,9.7944999999999993,1.3641000000000001,null,null,null,null,null,null,null,null,null,null,35,"2010-02-08","2010-02-01","2010-01-01","2010-02-13",1.9558,26.024999999999999,7.4444999999999997,0.86909999999999998,270.48,3.4527999999999999,0.70909999999999995,4.0171999999999999,4.1268000000000002,9.9144000000000005,1.3572,null,null,null,null,null,null,null,null,null,null,null,null,null,null,"2010-11-01",1.9558,24.529428571428575,7.4552428571428582,0.8703142857142856,272.15428571428572,3.4527999999999999,0.70969999999999989,3.9379142857142857,4.285914285714286,9.3030714285714282,1.403242857142857,null,null,null,null,null,null,null,null,null,null,null,null,null,null,"2013-08-01","","","","","","","","","","",""]
["2010-03-05",1.9558,25.818000000000001,7.4423000000000004,0.90500000000000003,266.02,3.4527999999999999,0.70909999999999995,3.9009999999999998,4.0884999999999998,9.7430000000000003,1.3668,null,null,null,null,null,null,null,null,null,null,35,"2010-02-08","2010-02-01","2010-01-01","2010-02-14",1.9558,26.024999999999999,7.4444999999999997,0.86909999999999998,270.48,3.4527999999999999,0.70909999999999995,4.0171999999999999,4.1268000000000002,9.9144000000000005,1.3572,null,null,null,null,null,null,null,null,null,null,null,null,null,null,"2010-11-08",1.9558,24.607857142857142,7.4538714285714294,0.85718571428571422,274.91714285714284,3.4527999999999999,0.70931428571428579,3.9187428571428566,4.2882428571428575,9.3167714285714283,1.3834,null,null,null,null,null,null,null,null,null,null,null,null,null,null,"2013-09-01","","","","","","","","","","",""]
["2010-03-06",1.9558,25.771000000000001,7.4420999999999999,0.90249999999999997,266.77999999999997,3.4527999999999999,0.70889999999999997,3.8755000000000002,4.0910000000000002,9.7178000000000004,1.3582000000000001,null,null,null,null,null,null,null,null,null,null,35,"2010-02-15","2010-02-01","2010-01-01","2010-02-15",1.9558,26.024999999999999,7.4444999999999997,0.86909999999999998,270.48,3.4527999999999999,0.70909999999999995,4.0171999999999999,4.1268000000000002,9.9144000000000005,1.3572,null,null,null,null,null,null,null,null,null,null,null,null,null,null,"2010-11-15",1.9558,24.649285714285714,7.4548142857142849,0.85159285714285715,275.87714285714287,3.4527999999999999,0.7092857142857143,3.9380857142857146,4.2960000000000003,9.3781142857142878,1.3632142857142857,null,null,null,null,null,null,null,null,null,null,null,null,null,null,"2013-10-01","","","","","","","","","","",""]
["2010-03-09",1.9558,25.577999999999999,7.4420000000000002,0.90239999999999998,265.33999999999997,3.4527999999999999,0.70840000000000003,3.8681000000000001,4.09,9.6793999999999993,1.3662000000000001,null,null,null,null,null,null,null,null,null,null,36,"2010-02-15","2010-02-01","2010-01-01","2010-02-16",1.9558,26.001999999999999,7.4436999999999998,0.86760000000000004,271.38,3.4527999999999999,0.70850000000000002,4.0167999999999999,4.1150000000000002,9.8804999999999996,1.3607,null,null,null,null,null,null,null,null,null,null,null,null,null,null,"2010-11-22",1.9558,24.706,7.455057142857143,0.84824285714285708,276.48428571428576,3.4527999999999999,0.70944285714285715,3.975857142857143,4.3053000000000008,9.3347571428571428,1.3418142857142856,null,null,null,null,null,null,null,null,null,null,null,null,null,null,"2013-11-01","","","","","","","","","","",""]
["2010-03-10",1.9558,25.666,7.4417,0.90639999999999998,267.2,3.4527999999999999,0.70840000000000003,3.8954,4.0999999999999996,9.7279999999999998,1.3556999999999999,null,null,null,null,null,null,null,null,null,null,37,"2010-02-15","2010-02-01","2010-01-01","2010-02-17",1.9558,26.027999999999999,7.4429999999999996,0.87050000000000005,272.37,3.4527999999999999,0.70860000000000001,4.0134999999999996,4.1134000000000004,9.8770000000000007,1.3649,null,null,null,null,null,null,null,null,null,null,null,null,null,null,"2010-11-29",1.9558,24.914999999999999,7.4531285714285715,0.84373571428571437,279.98857142857145,3.4527999999999999,0.70961428571428553,4.0229142857142861,4.3021142857142847,9.1798714285714276,1.316157142857143,null,null,null,null,null,null,null,null,null,null,null,null,null,null,"2013-12-01","","","","","","","","","","",""]
["2010-03-11",1.9558,25.616,7.4410999999999996,0.91139999999999999,266.87,3.4527999999999999,0.70799999999999996,3.86,4.0949999999999998,9.718,1.361,null,null,null,null,null,null,null,null,null,null,38,"2010-02-15","2010-02-01","2010-01-01","2010-02-18",1.9558,25.928999999999998,7.4435000000000002,0.86899999999999999,270.83,3.4527999999999999,0.70920000000000005,3.9769999999999999,4.1188000000000002,9.8183000000000007,1.3726,null,null,null,null,null,null,null,null,null,null,null,null,null,null,"2010-12-06",1.9558,25.091285714285714,7.4539571428571421,0.84158571428571438,278.40285714285716,3.4527999999999999,0.70972857142857126,4.0255571428571431,4.3007142857142853,9.1186857142857143,1.3255857142857141,null,null,null,null,null,null,null,null,null,null,null,null,null,null,"2014-01-01"]
["2010-03-12",1.9558,25.555,7.4409000000000001,0.90859999999999996,266.92,3.4527999999999999,0.70799999999999996,3.9011999999999998,4.0952999999999999,9.7285000000000004,1.3656999999999999,null,null,null,null,null,null,null,null,null,null,39,"2010-02-15","2010-02-01","2010-01-01","2010-02-19",1.9558,25.72,7.4432,0.87039999999999995,271.18,3.4527999999999999,0.70899999999999996,4.0007999999999999,4.1351000000000004,9.7912999999999997,1.3567,null,null,null,null,null,null,null,null,null,null,null,null,null,null,"2010-12-13",1.9558,25.178428571428565,7.4520571428571429,0.84772857142857128,275.3857142857143,3.4527999999999999,0.70971428571428574,3.9931571428571431,4.2924999999999995,9.0778571428571428,1.3294857142857146]
["2010-03-13",1.9558,25.516999999999999,7.4412000000000003,0.9083,266.14999999999998,3.4527999999999999,0.70820000000000005,3.9039999999999999,4.0914999999999999,9.7287999999999997,1.3765000000000001,null,null,null,null,null,null,null,null,null,null,40,"2010-02-15","2010-02-01","2010-01-01","2010-02-20",{"$f":"IF($W55=\"\",\"\",INDEX($A:$Z,$W55,AB$3))","v":1.9558},25.765000000000001,7.4428999999999998,0.87829999999999997,271.3,3.4527999999999999,0.70920000000000005,4.0042999999999997,4.1310000000000002,9.8460000000000001,1.3519000000000001,null,null,null,null,null,null,null,null,null,null,null,null,null,null,"2010-12-20",1.9558,25.283142857142856,7.4515571428571432,0.84927857142857133,276.60142857142858,3.4527999999999999,0.70950000000000002,3.9819999999999998,4.2890714285714298,8.9870000000000001,1.3133714285714286]
["2010-03-16",1.9558,25.49,7.4413999999999998,0.91049999999999998,264.60000000000002,3.4527999999999999,0.70760000000000001,3.895,4.0880000000000001,9.7142999999999997,1.3705000000000001,null,null,null,null,null,null,null,null,null,null,40,"2010-02-15","2010-02-01","2010-01-01","2010-02-21",1.9558,25.765000000000001,7.4428999999999998,0.87829999999999997,271.3,3.4527999999999999,0.70920000000000005,4.0042999999999997,4.1310000000000002,9.8460000000000001,1.3519000000000001,null,null,null,null,null,null,null,null,null,null,null,null,null,null,"2010-12-27",1.9558,25.236857142857144,7.4534999999999991,0.85585000000000011,278.78285714285715,3.4527999999999999,0.7095285714285714,3.9722571428571434,4.2821571428571437,8.9850285714285718,1.3224285714285713]
["2010-03-17",1.9558,25.504000000000001,7.4406999999999996,0.90690000000000004,264.19,3.4527999999999999,0.7077,3.8864999999999998,4.0892999999999997,9.7241999999999997,1.3723000000000001,null,null,null,null,null,null,null,null,null,null,40,"2010-02-22","2010-02-01","2010-01-01","2010-02-22",1.9558,25.765000000000001,7.4428999999999998,0.87829999999999997,271.3,3.4527999999999999,0.70920000000000005,4.0042999999999997,4.1310000000000002,9.8460000000000001,1.3519000000000001,null,null,null,null,null,null,null,null,null,null,null,null,null,null,"2011-01-03",1.9558,24.821714285714286,7.4521285714285712,0.85003000000000006,277.10428571428571,3.4527999999999999,0.70551428571428576,3.9113285714285717,4.2637428571428568,8.9404428571428571,1.3193857142857144]
["2010-03-18",1.9558,25.402000000000001,7.4405999999999999,0.8962,262.24,3.4527999999999999,0.70779999999999998,3.8681999999999999,4.0811999999999999,9.7402999999999995,1.3755999999999999,null,null,null,null,null,null,null,null,null,null,41,"2010-02-22","2010-02-01","2010-01-01","2010-02-23",1.9558,25.75,7.4436,0.87970000000000004,269.75,3.4527999999999999,0.70930000000000004,3.9620000000000002,4.1269999999999998,9.8089999999999993,1.3626,null,null,null,null,null,null,null,null,null,null,null,null,null,null,"2011-01-10",1.9558,24.470571428571436,7.4498428571428565,0.83624285714285718,277.18714285714287,3.4527999999999999,0.70121428571428568,3.8768285714285708,4.260185714285714,8.9184714285714293,1.3097428571428573]
["2010-03-19",1.9558,25.283999999999999,7.4406999999999996,0.89400000000000002,261.92,3.4527999999999999,0.70809999999999995,3.8730000000000002,4.0776000000000003,9.7242999999999995,1.3660000000000001,null,null,null,null,null,null,null,null,null,null,42,"2010-02-22","2010-02-01","2010-01-01","2010-02-24",1.9558,25.805,7.4433999999999996,0.88019999999999998,269.8,3.4527999999999999,0.70930000000000004,3.9702999999999999,4.1241000000000003,9.7912999999999997,1.3576999999999999,null,null,null,null,null,null,null,null,null,null,null,null,null,null,"2011-01-17",1.9558,24.321714285714286,7.451485714285714,0.84247857142857152,274.26000000000005,3.4527999999999999,0.70265714285714276,3.8789000000000002,4.2621714285714285,8.9446142857142839,1.3435857142857144]
["2010-03-20",1.9558,25.364999999999998,7.4409000000000001,0.89449999999999996,262.7,3.4527999999999999,0.70789999999999997,3.8795000000000002,4.0819999999999999,9.6775000000000002,1.3548,null,null,null,null,null,null,null,null,null,null,43,"2010-02-22","2010-02-01","2010-01-01","2010-02-25",1.9558,25.88,7.4427000000000003,0.87749999999999995,270.5,3.4527999999999999,0.70930000000000004,3.9925999999999999,4.1260000000000003,9.7850000000000001,1.3547,null,null,null,null,null,null,null,null,null,null,null,null,null,null,"2011-01-24",1.9558,24.240142857142853,7.4534714285714285,0.85806428571428572,273.43,3.4527999999999999,0.70408571428571431,3.8901428571428567,4.2630857142857144,8.8898714285714284,1.3643571428571428]
["2010-03-23",1.9558,25.465,7.4404000000000003,0.89900000000000002,265.3,3.4527999999999999,0.70799999999999996,3.9249999999999998,4.0914999999999999,9.7584999999999997,1.3471,null,null,null,null,null,null,null,null,null,null,44,"2010-02-22","2010-02-01","2010-01-01","2010-02-26",1.9558,25.934999999999999,7.4427000000000003,0.88090000000000002,270.45,3.4527999999999999,0.70930000000000004,3.9925999999999999,4.1260000000000003,9.7495999999999992,1.3489,null,null,null,null,null,null,null,null,null,null,null,null,null,null,"2011-01-31",1.9558,24.118571428571432,7.4546571428571431,0.85290714285714286,271.02714285714285,3.4527999999999999,0.70231428571428578,3.9135999999999997,4.2604857142857142,8.8433571428571423,1.3709571428571425]
["2010-03-24",1.9558,25.442,7.4405000000000001,0.90049999999999997,264.61,3.4527999999999999,0.70809999999999995,3.8952,4.0724999999999998,9.7285000000000004,1.3519000000000001,null,null,null,null,null,null,null,null,null,null,45,"2010-02-22","2010-02-01","2010-01-01","2010-02-27",1.9558,25.97,7.4428000000000001,0.89270000000000005,269.89999999999998,3.4527999999999999,0.70920000000000005,3.9698000000000002,4.1144999999999996,9.7260000000000009,1.357,null,null,null,null,null,null,null,null,null,null,null,null,null,null,"2011-02-07",1.9558,24.151999999999997,7.4555285714285713,0.8464571428571428,270.99714285714288,3.4527999999999999,0.70299999999999996,3.9038571428571425,4.2593714285714279,8.8016142857142849,1.3588285714285713]
["2010-03-25",1.9558,25.378,7.4404000000000003,0.89459999999999995,264.02999999999997,3.4527999999999999,0.70789999999999997,3.8885999999999998,4.0685000000000002,9.6921999999999997,1.3338000000000001,null,null,null,null,null,null,null,null,null,null,45,"2010-02-22","2010-02-01","2010-01-01","2010-02-28",1.9558,25.97,7.4428000000000001,0.89270000000000005,269.89999999999998,3.4527999999999999,0.70920000000000005,3.9698000000000002,4.1144999999999996,9.7260000000000009,1.357,null,null,null,null,null,null,null,null,null,null,null,null,null,null,"2011-02-14",1.9558,24.311142857142858,7.4558714285714283,0.84071428571428564,270.74285714285713,3.4527999999999999,0.70491428571428572,3.9196285714285715,4.2486142857142859,8.7464285714285701,1.3542571428571428]
["2010-03-26",1.9558,25.363,7.4417,0.89439999999999997,263.73,3.4527999999999999,0.70740000000000003,3.8879999999999999,4.0632999999999999,9.6649999999999991,1.3355999999999999,null,null,null,null,null,null,null,null,null,null,45,"2010-03-01","2010-03-01","2010-01-01","2010-03-01",1.9558,25.97,7.4428000000000001,0.89270000000000005,269.89999999999998,3.4527999999999999,0.70920000000000005,3.9698000000000002,4.1144999999999996,9.7260000000000009,1.357,null,null,null,null,null,null,null,null,null,null,null,null,null,null,"2011-02-21",1.9558,24.477428571428568,7.4551000000000007,0.84794857142857138,272.20857142857142,3.4527999999999999,0.70441428571428566,3.9579,4.2265857142857142,8.7911142857142863,1.3712857142857142]
["2010-03-27",1.9558,25.417999999999999,7.4417999999999997,0.90039999999999998,265.02999999999997,3.4527999999999999,0.70779999999999998,3.8893,4.0717999999999996,9.7082999999999995,1.3352999999999999,null,null,null,null,null,null,null,null,null,null,46,"2010-03-01","2010-03-01","2010-01-01","2010-03-02",{"$f":"IF($W65=\"\",\"\",INDEX($A:$Z,$W65,AB$3))","v":1.9558},25.933,7.4427000000000003,0.90669999999999995,269.45,3.4527999999999999,0.70920000000000005,3.94,4.1109999999999998,9.7649000000000008,1.3525,null,null,null,null,null,null,null,null,null,null,null,null,null,null,"2011-02-28",1.9558,24.329714285714289,7.4562428571428558,0.85324285714285708,271.75,3.4527999999999999,0.70489999999999997,3.9779000000000004,4.2070999999999996,8.7780142857142867,1.3856285714285712]
["2010-03-30",1.9558,25.452999999999999,7.4419000000000004,0.89939999999999998,266,3.4527999999999999,0.70799999999999996,3.8915999999999999,4.0682,9.7759999999999998,1.3471,null,null,null,null,null,null,null,null,null,null,47,"2010-03-01","2010-03-01","2010-01-01","2010-03-03",1.9558,25.77,7.4423000000000004,0.90634999999999999,266.89999999999998,3.4527999999999999,0.70930000000000004,3.9146999999999998,4.1066000000000003,9.7316000000000003,1.3548,null,null,null,null,null,null,null,null,null,null,null,null,null,null,"2011-03-07",1.9558,24.299000000000003,7.4577428571428568,0.85964285714285726,272.52714285714285,3.4527999999999999,0.70619999999999994,4.000285714285714,4.193542857142857,8.8286428571428583,1.3881999999999999]
["2010-03-31",1.9558,25.443000000000001,7.4439000000000002,0.89329999999999998,265.89999999999998,3.4527999999999999,0.70879999999999999,3.8759000000000001,4.0715000000000003,9.7803000000000004,1.3482000000000001,null,null,null,null,null,null,null,null,null,null,48,"2010-03-01","2010-03-01","2010-01-01","2010-03-04",1.9558,25.765000000000001,7.4420000000000002,0.90569999999999995,266.02,3.4527999999999999,0.70930000000000004,3.9,4.1005000000000003,9.7944999999999993,1.3641000000000001,null,null,null,null,null,null,null,null,null,null,null,null,null,null,"2011-03-14",1.9558,24.37142857142857,7.4580142857142855,0.8681214285714286,273.39,3.4527999999999999,0.70674285714285712,4.0557428571428575,4.1789571428571426,8.9155714285714289,1.3974285714285715]
["2010-04-01",1.9558,25.44,7.4447000000000001,0.88980000000000004,265.75,3.4527999999999999,0.70850000000000002,3.8673000000000002,4.0970000000000004,9.7134999999999998,1.3479000000000001,null,null,null,null,null,null,null,null,null,null,49,"2010-03-01","2010-03-01","2010-01-01","2010-03-05",1.9558,25.818000000000001,7.4423000000000004,0.90500000000000003,266.02,3.4527999999999999,0.70909999999999995,3.9009999999999998,4.0884999999999998,9.7430000000000003,1.3668,null,null,null,null,null,null,null,null,null,null,null,null,null,null,"2011-03-21",1.9558,24.477714285714285,7.4573714285714283,0.87327142857142859,269.28142857142859,3.4527999999999999,0.70871428571428563,4.0308428571428569,4.1204000000000001,8.9428571428571413,1.4146999999999998]
["2010-04-02",1.9558,25.385000000000002,7.4447999999999999,0.88485000000000003,264.77999999999997,3.4527999999999999,0.70889999999999997,3.8458000000000001,4.1081000000000003,9.7287999999999997,1.3468,null,null,null,null,null,null,null,null,null,null,{"$f":"IF(AA69>MaxDate,\"\",MATCH(AA69,$A:$A,1))","v":50},"2010-03-01","2010-03-01","2010-01-01","2010-03-06",1.9558,25.771000000000001,7.4420999999999999,0.90249999999999997,266.77999999999997,3.4527999999999999,0.70889999999999997,3.8755000000000002,4.0910000000000002,9.7178000000000004,1.3582000000000001,null,null,null,null,null,null,null,null,null,null,null,null,null,null,"2011-03-28",{"$f":"IF(MaxDate>=$BA70,SUMIF($X:$X,$BA69,AB:AB)/COUNTIF($X:$X,$BA69),\"\")","v":1.9558},{"$f":"IF(MaxDate>=$BA70,SUMIF($X:$X,$BA69,AC:AC)/COUNTIF($X:$X,$BA69),\"\")","v":24.52542857142857},{"$f":"IF(MaxDate>=$BA70,SUMIF($X:$X,$BA69,AD:AD)/COUNTIF($X:$X,$BA69),\"\")","v":7.4570857142857152},{"$f":"IF(MaxDate>=$BA70,SUMIF($X:$X,$BA69,AE:AE)/COUNTIF($X:$X,$BA69),\"\")","v":0.88044285714285719},{"$f":"IF(MaxDate>=$BA70,SUMIF($X:$X,$BA69,AF:AF)/COUNTIF($X:$X,$BA69),\"\")","v":266.67857142857144},{"$f":"IF(MaxDate>=$BA70,SUMIF($X:$X,$BA69,AG:AG)/COUNTIF($X:$X,$BA69),\"\")","v":3.4527999999999999},{"$f":"IF(MaxDate>=$BA70,SUMIF($X:$X,$BA69,AH:AH)/COUNTIF($X:$X,$BA69),\"\")","v":0.70920000000000005},{"$f":"IF(MaxDate>=$BA70,SUMIF($X:$X,$BA69,AI:AI)/COUNTIF($X:$X,$BA69),\"\")","v":4.0119857142857143},{"$f":"IF(MaxDate>=$BA70,SUMIF($X:$X,$BA69,AJ:AJ)/COUNTIF($X:$X,$BA69),\"\")","v":4.1178714285714282},{"$f":"IF(MaxDate>=$BA70,SUMIF($X:$X,$BA69,AK:AK)/COUNTIF($X:$X,$BA69),\"\")","v":8.9539857142857162},{"$f":"IF(MaxDate>=$BA70,SUMIF($X:$X,$BA69,AL:AL)/COUNTIF($X:$X,$BA69),\"\")","v":1.4113142857142855}]
["2010-04-07",1.9558,25.295000000000002,7.4440999999999997,0.88239999999999996,265.27999999999997,3.4527999999999999,0.70760000000000001,3.8349000000000002,4.0940000000000003,9.6630000000000003,1.3395999999999999,null,null,null,null,null,null,null,null,null,null,50,{"$f":"IF(W70=\"\",\"\",IF(WEEKDAY(AA70,2)=1,AA70,X69))","v":"2010-03-01"},{"$f":"IF(W70=\"\",\"\",DATE(YEAR(AA70),MONTH(AA70),1))","v":"2010-03-01"},{"$f":"IF(W70=\"\",\"\",DATE(YEAR(AA70),1,1))","v":"2010-01-01"},"2010-03-07",1.9558,25.771000000000001,7.4420999999999999,0.90249999999999997,266.77999999999997,3.4527999999999999,0.70889999999999997,3.8755000000000002,4.0910000000000002,9.7178000000000004,1.3582000000000001,null,null,null,null,null,null,null,null,null,null,null,null,null,null,"2011-04-04",1.9558,24.448857142857147,7.4569714285714284,0.87865714285714291,264.54285714285709,3.4527999999999999,0.70907142857142857,3.9942285714285712,4.1179999999999994,8.9932285714285722,1.4275999999999998]
["2010-04-08",1.9558,25.24,7.4435000000000002,0.87885000000000002,266.2,3.4527999999999999,0.70699999999999996,3.8384999999999998,4.0942999999999996,9.6754999999999995,1.3340000000000001,null,null,null,null,null,null,null,null,null,null,50,"2010-03-08","2010-03-01","2010-01-01",{"$f":"1+AA70","v":"2010-03-08"},1.9558,25.771000000000001,7.4420999999999999,0.90249999999999997,266.77999999999997,3.4527999999999999,0.70889999999999997,3.8755000000000002,4.0910000000000002,9.7178000000000004,1.3582000000000001,null,null,null,null,null,null,null,null,null,null,null,null,null,null,{"$f":"7+BA70","v":"2011-04-11"},1.9558,24.342571428571425,7.4580285714285717,0.88469999999999993,266.24285714285713,3.4527999999999999,0.70915714285714271,3.9587428571428576,4.1061714285714288,9.0107857142857135,1.4442714285714284]
["2010-04-09",1.9559,25.19,7.4438000000000004,0.875,268.89999999999998,3.4527999999999999,0.70679999999999998,3.8498000000000001,4.1185,9.6784999999999997,1.3295999999999999,null,null,null,null,null,null,null,null,null,null,51,"2010-03-08","2010-03-01","2010-01-01","2010-03-09",1.9558,25.577999999999999,7.4420000000000002,0.90239999999999998,265.33999999999997,3.4527999999999999,0.70840000000000003,3.8681000000000001,4.09,9.6793999999999993,1.3662000000000001,null,null,null,null,null,null,null,null,null,null,null,null,null,null,"2011-04-18",1.9558,24.177142857142858,7.4576428571428579,0.88141428571428548,265.26428571428568,3.4527999999999999,0.70927142857142844,3.9591000000000003,4.088857142857143,8.912685714285713,1.4470571428571426]
["2010-04-10",1.9558,25.231999999999999,7.4429999999999996,0.872,267.7,3.4527999999999999,0.70640000000000003,3.8769999999999998,4.1422999999999996,9.6941000000000006,1.3384,null,null,null,null,null,null,null,null,null,null,52,"2010-03-08","2010-03-01","2010-01-01","2010-03-10",1.9558,25.666,7.4417,0.90639999999999998,267.2,3.4527999999999999,0.70840000000000003,3.8954,4.0999999999999996,9.7279999999999998,1.3556999999999999,null,null,null,null,null,null,null,null,null,null,null,null,null,null,"2011-04-25",1.9558,24.166571428571427,7.4570857142857152,0.88690714285714289,264.33571428571429,3.4527999999999999,0.70929999999999993,3.9389285714285718,4.0795285714285709,8.9135857142857144,1.4709571428571431]
["2010-04-13",1.9558,25.164999999999999,7.4429999999999996,0.88249999999999995,265.20999999999998,3.4527999999999999,0.70650000000000002,3.8664999999999998,4.1280000000000001,9.7460000000000004,1.3585,null,null,null,null,null,null,null,null,null,null,53,"2010-03-08","2010-03-01","2010-01-01","2010-03-11",1.9558,25.616,7.4410999999999996,0.91139999999999999,266.87,3.4527999999999999,0.70799999999999996,3.86,4.0949999999999998,9.718,1.361,null,null,null,null,null,null,null,null,null,null,null,null,null,null,"2011-05-02",1.9558,24.165285714285712,7.4571142857142858,0.89202857142857128,264.84571428571428,3.4527999999999999,0.70939999999999992,3.9423857142857139,4.1053714285714289,8.9886428571428585,1.4739285714285713]
["2010-04-14",1.9558,25.155000000000001,7.4435000000000002,0.88119999999999998,264.58,3.4527999999999999,0.70660000000000001,3.8828,4.1390000000000002,9.7575000000000003,1.3583000000000001,null,null,null,null,null,null,null,null,null,null,54,"2010-03-08","2010-03-01","2010-01-01","2010-03-12",{"$f":"IF($W75=\"\",\"\",INDEX($A:$Z,$W75,AB$3))","v":1.9558},25.555,7.4409000000000001,0.90859999999999996,266.92,3.4527999999999999,0.70799999999999996,3.9011999999999998,4.0952999999999999,9.7285000000000004,1.3656999999999999,null,null,null,null,null,null,null,null,null,null,null,null,null,null,"2011-05-09",1.9558,24.258142857142854,7.4562857142857144,0.87683571428571427,265.29285714285709,3.4527999999999999,0.70934285714285716,3.9246000000000003,4.1063857142857145,8.9785571428571433,1.4332285714285713]
["2010-04-15",1.9558,25.047999999999998,7.4431000000000003,0.88139999999999996,262.64999999999998,3.4527999999999999,0.70820000000000005,3.8549000000000002,4.1440000000000001,9.7326999999999995,1.3614999999999999,null,null,null,null,null,null,null,null,null,null,55,"2010-03-08","2010-03-01","2010-01-01","2010-03-13",1.9558,25.516999999999999,7.4412000000000003,0.9083,266.14999999999998,3.4527999999999999,0.70820000000000005,3.9039999999999999,4.0914999999999999,9.7287999999999997,1.3765000000000001,null,null,null,null,null,null,null,null,null,null,null,null,null,null,"2011-05-16",1.9558,24.448571428571427,7.4566857142857135,0.87705714285714287,268.18142857142857,3.4527999999999999,0.70927142857142855,3.925642857142857,4.1132714285714282,8.9740571428571432,1.4222857142857142]
["2010-04-16",1.9558,25.085000000000001,7.4428000000000001,0.87734999999999996,263.3,3.4527999999999999,0.70820000000000005,3.8582999999999998,4.1410999999999998,9.7068999999999992,1.3544,null,null,null,null,null,null,null,null,null,null,55,"2010-03-08","2010-03-01","2010-01-01","2010-03-14",1.9558,25.516999999999999,7.4412000000000003,0.9083,266.14999999999998,3.4527999999999999,0.70820000000000005,3.9039999999999999,4.0914999999999999,9.7287999999999997,1.3765000000000001,null,null,null,null,null,null,null,null,null,null,null,null,null,null,"2011-05-23",1.9558,24.564428571428572,7.4564571428571442,0.86986428571428576,269.2285714285714,3.4527999999999999,0.70929999999999993,3.9591000000000003,4.1267571428571426,8.9150714285714283,1.4159000000000004]
["2010-04-17",1.9558,25.178000000000001,7.4424000000000001,0.87709999999999999,263.45,3.4527999999999999,0.70809999999999995,3.8742999999999999,4.1463000000000001,9.6869999999999994,1.3534999999999999,null,null,null,null,null,null,null,null,null,null,55,"2010-03-15","2010-03-01","2010-01-01","2010-03-15",1.9558,25.516999999999999,7.4412000000000003,0.9083,266.14999999999998,3.4527999999999999,0.70820000000000005,3.9039999999999999,4.0914999999999999,9.7287999999999997,1.3765000000000001,null,null,null,null,null,null,null,null,null,null,null,null,null,null,"2011-05-30",1.9558,24.510714285714283,7.4555428571428584,0.87728571428571434,266.63428571428574,3.4527999999999999,0.7093857142857144,3.9637285714285717,4.1304714285714281,8.9341571428571438,1.4395142857142855]
["2010-04-20",1.9558,25.25,7.4427000000000003,0.88049999999999995,265.38,3.4527999999999999,0.70799999999999996,3.9030999999999998,4.1577999999999999,9.6980000000000004,1.3431999999999999,null,null,null,null,null,null,null,null,null,null,56,"2010-03-15","2010-03-01","2010-01-01","2010-03-16",1.9558,25.49,7.4413999999999998,0.91049999999999998,264.60000000000002,3.4527999999999999,0.70760000000000001,3.895,4.0880000000000001,9.7142999999999997,1.3705000000000001,null,null,null,null,null,null,null,null,null,null,null,null,null,null,"2011-06-06",1.9558,24.231428571428573,7.4568714285714277,0.8899071428571429,265.25428571428569,3.4527999999999999,0.70902857142857134,3.9500999999999999,4.153314285714286,9.0404857142857136,1.4561428571428574]
["2010-04-21",1.9558,25.309000000000001,7.4423000000000004,0.87649999999999995,264.93,3.4527999999999999,0.70740000000000003,3.8860999999999999,4.1470000000000002,9.6449999999999996,1.3486,null,null,null,null,null,null,null,null,null,null,57,"2010-03-15","2010-03-01","2010-01-01","2010-03-17",1.9558,25.504000000000001,7.4406999999999996,0.90690000000000004,264.19,3.4527999999999999,0.7077,3.8864999999999998,4.0892999999999997,9.7241999999999997,1.3723000000000001,null,null,null,null,null,null,null,null,null,null,null,null,null,null,"2011-06-13",1.9558,24.163428571428572,7.4588285714285716,0.88145714285714294,266.39000000000004,3.4527999999999999,0.70894285714285721,3.9528142857142856,4.1974,9.1514571428571418,1.431542857142857]
["2010-04-22",1.9558,25.286000000000001,7.4420999999999999,0.86899999999999999,264.13,3.4527999999999999,0.7077,3.8713000000000002,4.1369999999999996,9.5953999999999997,1.3372999999999999,null,null,null,null,null,null,null,null,null,null,58,"2010-03-15","2010-03-01","2010-01-01","2010-03-18",1.9558,25.402000000000001,7.4405999999999999,0.8962,262.24,3.4527999999999999,0.70779999999999998,3.8681999999999999,4.0811999999999999,9.7402999999999995,1.3755999999999999,null,null,null,null,null,null,null,null,null,null,null,null,null,null,"2011-06-20",1.9558,24.266285714285711,7.4587571428571433,0.88694285714285725,268.50714285714287,3.4527999999999999,0.70919999999999994,3.9865142857142861,4.2349428571428573,9.1709000000000014,1.4275285714285715]
["2010-04-23",1.9558,25.364999999999998,7.4420000000000002,0.86675000000000002,264.5,3.4527999999999999,0.70750000000000002,3.8795000000000002,4.1416000000000004,9.6151999999999997,1.3339000000000001,null,null,null,null,null,null,null,null,null,null,59,"2010-03-15","2010-03-01","2010-01-01","2010-03-19",1.9558,25.283999999999999,7.4406999999999996,0.89400000000000002,261.92,3.4527999999999999,0.70809999999999995,3.8730000000000002,4.0776000000000003,9.7242999999999995,1.3660000000000001,null,null,null,null,null,null,null,null,null,null,null,null,null,null,"2011-06-27",1.9558,24.360714285714288,7.4587714285714286,0.89782857142857153,267.31571428571431,3.4527999999999999,0.70930000000000004,3.9903000000000004,4.2271000000000001,9.1793142857142858,1.4362857142857144]
["2010-04-24",1.9558,25.405000000000001,7.4421999999999997,0.86729999999999996,264.45,3.4527999999999999,0.7077,3.8822999999999999,4.1239999999999997,9.5909999999999993,1.3310999999999999,null,null,null,null,null,null,null,null,null,null,60,"2010-03-15","2010-03-01","2010-01-01","2010-03-20",1.9558,25.364999999999998,7.4409000000000001,0.89449999999999996,262.7,3.4527999999999999,0.70789999999999997,3.8795000000000002,4.0819999999999999,9.6775000000000002,1.3548,null,null,null,null,null,null,null,null,null,null,null,null,null,null,"2011-07-04",1.9558,24.271571428571427,7.4589571428571428,0.89689285714285716,264.11714285714282,3.4527999999999999,0.7091142857142857,3.9487714285714288,4.2090142857142867,9.0943714285714261,1.435685714285714]
["2010-04-27",1.9558,25.43,7.4420000000000002,0.86240000000000006,263.42,3.4527999999999999,0.7077,3.8788,4.1177999999999999,9.5679999999999996,1.3321000000000001,null,null,null,null,null,null,null,null,null,null,60,"2010-03-15","2010-03-01","2010-01-01","2010-03-21",1.9558,25.364999999999998,7.4409000000000001,0.89449999999999996,262.7,3.4527999999999999,0.70789999999999997,3.8795000000000002,4.0819999999999999,9.6775000000000002,1.3548,null,null,null,null,null,null,null,null,null,null,null,null,null,null,"2011-07-11",1.9558,24.347571428571431,7.4575428571428573,0.88211428571428563,268.28571428571428,3.4527999999999999,0.70917142857142856,4.0140000000000002,4.2585714285714289,9.187557142857143,1.4120000000000001]
["2010-04-28",1.9558,25.513999999999999,7.4421999999999997,0.86704999999999999,266.75,3.4527999999999999,0.70799999999999996,3.9165999999999999,4.1280000000000001,9.577,1.329,null,null,null,null,null,null,null,null,null,null,60,"2010-03-22","2010-03-01","2010-01-01","2010-03-22",{"$f":"IF($W85=\"\",\"\",INDEX($A:$Z,$W85,AB$3))","v":1.9558},25.364999999999998,7.4409000000000001,0.89449999999999996,262.7,3.4527999999999999,0.70789999999999997,3.8795000000000002,4.0819999999999999,9.6775000000000002,1.3548,null,null,null,null,null,null,null,null,null,null,null,null,null,null,"2011-07-18",1.9558,24.442857142857147,7.455228571428572,0.87918571428571435,269.37,3.4527999999999999,0.70930000000000004,4.0081857142857142,4.2506571428571425,9.1607142857142865,1.4223142857142859]
["2010-04-29",1.9558,25.57,7.4423000000000004,0.87080000000000002,269.89999999999998,3.4527999999999999,0.70799999999999996,3.9315000000000002,4.1369999999999996,9.6257999999999999,1.3245,null,null,null,null,null,null,null,null,null,null,61,"2010-03-22","2010-03-01","2010-01-01","2010-03-23",1.9558,25.465,7.4404000000000003,0.89900000000000002,265.3,3.4527999999999999,0.70799999999999996,3.9249999999999998,4.0914999999999999,9.7584999999999997,1.3471,null,null,null,null,null,null,null,null,null,null,null,null,null,null,"2011-07-25",1.9558,24.289285714285711,7.4515857142857129,0.87917857142857148,268.53142857142859,3.4527999999999999,0.70935714285714291,4.0030571428571431,4.2388428571428562,9.0763285714285722,1.435257142857143]
["2010-04-30",1.9558,25.54,7.4420999999999999,0.86785000000000001,268.27999999999997,3.4527999999999999,0.70809999999999995,3.9152999999999998,4.1369999999999996,9.6266999999999996,1.3255999999999999,null,null,null,null,null,null,null,null,null,null,62,"2010-03-22","2010-03-01","2010-01-01","2010-03-24",1.9558,25.442,7.4405000000000001,0.90049999999999997,264.61,3.4527999999999999,0.70809999999999995,3.8952,4.0724999999999998,9.7285000000000004,1.3519000000000001,null,null,null,null,null,null,null,null,null,null,null,null,null,null,"2011-08-01",1.9558,24.239142857142856,7.4491000000000005,0.87261428571428556,271.52285714285711,3.4527999999999999,0.70934285714285727,4.024457142857143,4.2310285714285714,9.1056857142857144,1.4240571428571427]
["2010-05-01",1.9558,25.527000000000001,7.4424999999999999,0.87029999999999996,266.82,3.4527999999999999,0.70740000000000003,3.9163000000000001,4.13,9.6217000000000006,1.3314999999999999,null,null,null,null,null,null,null,null,null,null,63,"2010-03-22","2010-03-01","2010-01-01","2010-03-25",1.9558,25.378,7.4404000000000003,0.89459999999999995,264.02999999999997,3.4527999999999999,0.70789999999999997,3.8885999999999998,4.0685000000000002,9.6921999999999997,1.3338000000000001,null,null,null,null,null,null,null,null,null,null,null,null,null,null,"2011-08-08",1.9558,24.187000000000005,7.4496571428571432,0.87485000000000013,274.29428571428576,3.4527999999999999,0.70932857142857142,4.1103714285714288,4.2684428571428574,9.2354000000000003,1.4236714285714289]
["2010-05-04",1.9558,25.57,7.4424999999999999,0.86799999999999999,268.02999999999997,3.4527999999999999,0.70709999999999995,3.9159999999999999,4.1269999999999998,9.6095000000000006,1.3238000000000001,null,null,null,null,null,null,null,null,null,null,64,"2010-03-22","2010-03-01","2010-01-01","2010-03-26",1.9558,25.363,7.4417,0.89439999999999997,263.73,3.4527999999999999,0.70740000000000003,3.8879999999999999,4.0632999999999999,9.6649999999999991,1.3355999999999999,null,null,null,null,null,null,null,null,null,null,null,null,null,null,"2011-08-15",1.9558,24.384142857142855,7.4493857142857154,0.87419285714285722,271.76428571428579,3.4527999999999999,0.70924285714285706,4.1572571428571425,4.2662142857142857,9.2201000000000004,1.4362142857142857]
["2010-05-05",1.9558,25.71,7.4428000000000001,0.86324999999999996,273.39999999999998,3.4527999999999999,0.70709999999999995,3.9584999999999999,4.1420000000000003,9.5896000000000008,1.3089,null,null,null,null,null,null,null,null,null,null,65,"2010-03-22","2010-03-01","2010-01-01","2010-03-27",1.9558,25.417999999999999,7.4417999999999997,0.90039999999999998,265.02999999999997,3.4527999999999999,0.70779999999999998,3.8893,4.0717999999999996,9.7082999999999995,1.3352999999999999,null,null,null,null,null,null,null,null,null,null,null,null,null,null,"2011-08-22",1.9558,24.349285714285713,7.4497428571428559,0.8784142857142857,272.36142857142858,3.4527999999999999,0.70947142857142864,4.1664142857142856,4.2552428571428562,9.1307142857142853,1.4417285714285712]
["2010-05-06",1.9558,25.878,7.4427000000000003,0.85509999999999997,276.83,3.4527999999999999,0.70669999999999999,4.032,4.1712999999999996,9.6418999999999997,1.2924,null,null,null,null,null,null,null,null,null,null,65,"2010-03-22","2010-03-01","2010-01-01","2010-03-28",1.9558,25.417999999999999,7.4417999999999997,0.90039999999999998,265.02999999999997,3.4527999999999999,0.70779999999999998,3.8893,4.0717999999999996,9.7082999999999995,1.3352999999999999,null,null,null,null,null,null,null,null,null,null,null,null,null,null,"2011-08-29",1.9558,24.179857142857141,7.4504714285714284,0.88264285714285706,273.42428571428576,3.4527999999999999,0.70934285714285716,4.163671428571428,4.2350428571428571,9.1316142857142868,1.4362285714285714]
["2010-05-07",1.9558,25.968,7.4429999999999996,0.84294999999999998,279.42,3.4527999999999999,0.70720000000000005,4.0922999999999998,4.1805000000000003,9.7119999999999997,1.2726999999999999,null,null,null,null,null,null,null,null,null,null,65,"2010-03-29","2010-03-01","2010-01-01","2010-03-29",1.9558,25.417999999999999,7.4417999999999997,0.90039999999999998,265.02999999999997,3.4527999999999999,0.70779999999999998,3.8893,4.0717999999999996,9.7082999999999995,1.3352999999999999,null,null,null,null,null,null,null,null,null,null,null,null,null,null,"2011-09-05",1.9558,24.41957142857143,7.4482714285714282,0.87394285714285702,277.6742857142857,3.4527999999999999,0.70927142857142855,4.2404000000000002,4.2498714285714287,9.0039285714285722,1.4027714285714286]
["2010-05-08",1.9558,25.975999999999999,7.4435000000000002,0.86804999999999999,281.60000000000002,3.4527999999999999,0.70720000000000005,4.1482999999999999,4.1879999999999997,9.7632999999999992,1.2746,null,null,null,null,null,null,null,null,null,null,66,"2010-03-29","2010-03-01","2010-01-01","2010-03-30",1.9558,25.452999999999999,7.4419000000000004,0.89939999999999998,266,3.4527999999999999,0.70799999999999996,3.8915999999999999,4.0682,9.7759999999999998,1.3471,null,null,null,null,null,null,null,null,null,null,null,null,null,null,"2011-09-12",1.9558,24.499571428571425,7.4476428571428572,0.86786428571428564,284.63428571428574,3.4527999999999999,0.70929999999999993,4.3372714285714284,4.2776571428571435,9.0998571428571449,1.3737428571428569]
["2010-05-11",1.9558,25.603000000000002,7.4419000000000004,0.86404999999999998,273.2,3.4527999999999999,0.70740000000000003,4.0279999999999996,4.1683000000000003,9.6860999999999997,1.2968999999999999,null,null,null,null,null,null,null,null,null,null,67,"2010-03-29","2010-03-01","2010-01-01","2010-03-31",1.9558,25.443000000000001,7.4439000000000002,0.89329999999999998,265.89999999999998,3.4527999999999999,0.70879999999999999,3.8759000000000001,4.0715000000000003,9.7803000000000004,1.3482000000000001,null,null,null,null,null,null,null,null,null,null,null,null,null,null,"2011-09-19",1.9558,24.755428571428574,7.4456428571428557,0.87187857142857139,291.08571428571429,3.4527999999999999,0.7092857142857143,4.4315142857142851,4.2959999999999994,9.2096857142857136,1.3579285714285716]
["2010-05-12",1.9558,25.59,7.4424999999999999,0.85960000000000003,276.10000000000002,3.4527999999999999,0.70760000000000001,4.0499000000000001,4.1798000000000002,9.6562999999999999,1.2698,null,null,null,null,null,null,null,null,null,null,68,"2010-03-29","2010-04-01","2010-01-01","2010-04-01",{"$f":"IF($W95=\"\",\"\",INDEX($A:$Z,$W95,AB$3))","v":1.9558},25.44,7.4447000000000001,0.88980000000000004,265.75,3.4527999999999999,0.70850000000000002,3.8673000000000002,4.0970000000000004,9.7134999999999998,1.3479000000000001,null,null,null,null,null,null,null,null,null,null,null,null,null,null,"2011-09-26",1.9558,24.659571428571429,7.441814285714285,0.8696357142857144,290.69428571428574,3.4527999999999999,0.70934285714285716,4.4218285714285717,4.3261571428571424,9.2368857142857141,1.3537285714285718]
["2010-05-13",1.9558,25.39,7.4417999999999997,0.84940000000000004,273.76,3.4527999999999999,0.70820000000000005,3.9706999999999999,4.1740000000000004,9.5780999999999992,1.2685999999999999,null,null,null,null,null,null,null,null,null,null,69,"2010-03-29","2010-04-01","2010-01-01","2010-04-02",1.9558,25.385000000000002,7.4447999999999999,0.88485000000000003,264.77999999999997,3.4527999999999999,0.70889999999999997,3.8458000000000001,4.1081000000000003,9.7287999999999997,1.3468,null,null,null,null,null,null,null,null,null,null,null,null,null,null,"2011-10-03",1.9558,24.823428571428568,7.4429428571428575,0.86316428571428561,296.47571428571428,3.4527999999999999,0.7089714285714287,4.3882714285714286,4.3193428571428569,9.161428571428571,1.3355000000000001]
["2010-05-14",1.9558,25.416,7.4387999999999996,0.85299999999999998,272.45,3.4527999999999999,0.70750000000000002,3.9538000000000002,4.1805000000000003,9.5305999999999997,1.2586999999999999,null,null,null,null,null,null,null,null,null,null,69,"2010-03-29","2010-04-01","2010-01-01","2010-04-03",1.9558,25.385000000000002,7.4447999999999999,0.88485000000000003,264.77999999999997,3.4527999999999999,0.70889999999999997,3.8458000000000001,4.1081000000000003,9.7287999999999997,1.3468,null,null,null,null,null,null,null,null,null,null,null,null,null,null,"2011-10-10",1.9558,24.764000000000003,7.4444857142857135,0.87210000000000021,293.50142857142856,3.4527999999999999,0.70628571428571429,4.3220000000000001,4.3205428571428577,9.1302285714285709,1.3677285714285716]
["2010-05-15",1.9558,25.465,7.4390999999999998,0.85709999999999997,276.13,3.4527999999999999,0.70750000000000002,3.9857999999999998,4.1844999999999999,9.5745000000000005,1.2492000000000001,null,null,null,null,null,null,null,null,null,null,69,"2010-03-29","2010-04-01","2010-01-01","2010-04-04",1.9558,25.385000000000002,7.4447999999999999,0.88485000000000003,264.77999999999997,3.4527999999999999,0.70889999999999997,3.8458000000000001,4.1081000000000003,9.7287999999999997,1.3468,null,null,null,null,null,null,null,null,null,null,null,null,null,null,"2011-10-17",1.9558,24.884142857142855,7.4454571428571423,0.87206428571428574,296.28571428571428,3.4527999999999999,0.70534285714285716,4.3492428571428565,4.3351571428571427,9.1264428571428571,1.3784285714285713]
["2010-05-18",1.9558,25.56,7.4405000000000001,0.85540000000000005,277.82,3.4527999999999999,0.70740000000000003,4.0194999999999999,4.1925999999999997,9.6035000000000004,1.2349000000000001,null,null,null,null,null,null,null,null,null,null,69,"2010-04-05","2010-04-01","2010-01-01","2010-04-05",1.9558,25.385000000000002,7.4447999999999999,0.88485000000000003,264.77999999999997,3.4527999999999999,0.70889999999999997,3.8458000000000001,4.1081000000000003,9.7287999999999997,1.3468,null,null,null,null,null,null,null,null,null,null,null,null,null,null,"2011-10-24",1.9558,24.862999999999996,7.444285714285714,0.87340714285714272,299.09857142857146,3.4527999999999999,0.70437142857142843,4.3589571428571423,4.3231571428571423,9.0688142857142857,1.3979571428571429]
["2010-05-19",1.9558,25.457999999999998,7.4404000000000003,0.85894999999999999,277.38,3.4527999999999999,0.70740000000000003,3.9990000000000001,4.1950000000000003,9.5545000000000009,1.2427999999999999,null,null,null,null,null,null,null,null,null,null,69,"2010-04-05","2010-04-01","2010-01-01","2010-04-06",1.9558,25.385000000000002,7.4447999999999999,0.88485000000000003,264.77999999999997,3.4527999999999999,0.70889999999999997,3.8458000000000001,4.1081000000000003,9.7287999999999997,1.3468,null,null,null,null,null,null,null,null,null,null,null,null,null,null,"2011-10-31",1.9558,24.938714285714287,7.4419428571428572,0.86447142857142867,304.24857142857144,3.4527999999999999,0.70344285714285715,4.3697285714285714,4.3446571428571428,9.0589285714285719,1.3845142857142856]
["2010-05-20",1.9558,25.727,7.4405999999999999,0.85804999999999998,279.5,3.4527999999999999,0.70740000000000003,4.0830000000000002,4.1965000000000003,9.6074999999999999,1.2270000000000001,null,null,null,null,null,null,null,null,null,null,70,"2010-04-05","2010-04-01","2010-01-01","2010-04-07",1.9558,25.295000000000002,7.4440999999999997,0.88239999999999996,265.27999999999997,3.4527999999999999,0.70760000000000001,3.8349000000000002,4.0940000000000003,9.6630000000000003,1.3395999999999999,null,null,null,null,null,null,null,null,null,null,null,null,null,null,"2011-11-07",1.9558,25.358571428571427,7.4431428571428579,0.85666428571428566,308.61857142857144,3.4527999999999999,0.70221428571428579,4.3864999999999998,4.3521142857142863,9.079699999999999,1.3693142857142857]
["2010-05-21",1.9558,25.913,7.4421999999999997,0.86439999999999995,283,3.4527999999999999,0.70740000000000003,4.1879999999999997,4.2031000000000001,9.7387999999999995,1.2334000000000001,null,null,null,null,null,null,null,null,null,null,71,"2010-04-05","2010-04-01","2010-01-01","2010-04-08",1.9558,25.24,7.4435000000000002,0.87885000000000002,266.2,3.4527999999999999,0.70699999999999996,3.8384999999999998,4.0942999999999996,9.6754999999999995,1.3340000000000001,null,null,null,null,null,null,null,null,null,null,null,null,null,null,"2011-11-14",1.9558,25.630571428571425,7.442614285714285,0.85589285714285723,311.09428571428572,3.4527999999999999,0.70214285714285729,4.4200000000000008,4.3577285714285718,9.1370142857142866,1.3565285714285713]
["2010-05-22",1.9558,25.917000000000002,7.4425999999999997,0.87034999999999996,281.33,3.4527999999999999,0.70740000000000003,4.1529999999999996,4.1950000000000003,9.8309999999999995,1.2497,null,null,null,null,null,null,null,null,null,null,72,"2010-04-05","2010-04-01","2010-01-01","2010-04-09",1.9559,25.19,7.4438000000000004,0.875,268.89999999999998,3.4527999999999999,0.70679999999999998,3.8498000000000001,4.1185,9.6784999999999997,1.3295999999999999,null,null,null,null,null,null,null,null,null,null,null,null,null,null,"2011-11-21",1.9558,25.70785714285714,7.439628571428571,0.85947857142857143,309.42,3.4527999999999999,0.70154285714285713,4.4744571428571422,4.3609714285714292,9.2149000000000001,1.3398142857142861]
["2010-05-25",1.9558,25.664000000000001,7.4420999999999999,0.86080000000000001,278.33999999999997,3.4527999999999999,0.70740000000000003,4.1150000000000002,4.1820000000000004,9.7959999999999994,1.236,null,null,null,null,null,null,null,null,null,null,73,"2010-04-05","2010-04-01","2010-01-01","2010-04-10",1.9558,25.231999999999999,7.4429999999999996,0.872,267.7,3.4527999999999999,0.70640000000000003,3.8769999999999998,4.1422999999999996,9.6941000000000006,1.3384,null,null,null,null,null,null,null,null,null,null,null,null,null,null,"2011-11-28",1.9558,25.477142857142859,7.435542857142857,0.85757142857142843,306.54571428571433,3.4527999999999999,0.69768571428571424,4.5021142857142857,4.3581714285714295,9.1669,1.3406428571428572]
["2010-05-26",1.9558,25.646999999999998,7.4404000000000003,0.85204999999999997,280.38,3.4527999999999999,0.70740000000000003,4.1642000000000001,4.1839000000000004,9.8275000000000006,1.2222999999999999,null,null,null,null,null,null,null,null,null,null,73,"2010-04-05","2010-04-01","2010-01-01","2010-04-11",{"$f":"IF($W105=\"\",\"\",INDEX($A:$Z,$W105,AB$3))","v":1.9558},25.231999999999999,7.4429999999999996,0.872,267.7,3.4527999999999999,0.70640000000000003,3.8769999999999998,4.1422999999999996,9.6941000000000006,1.3384,null,null,null,null,null,null,null,null,null,null,null,null,null,null,"2011-12-05",1.9558,25.298000000000002,7.4345714285714291,0.85607857142857147,301.89714285714291,3.4527999999999999,0.6978428571428571,4.4819571428571425,4.3478000000000003,9.0357857142857139,1.3414571428571429]
["2010-05-27",1.9558,25.55,7.4402999999999997,0.85470000000000002,277.44,3.4527999999999999,0.70820000000000005,4.109,4.1711,9.6989999999999998,1.2309000000000001,null,null,null,null,null,null,null,null,null,null,73,"2010-04-12","2010-04-01","2010-01-01","2010-04-12",1.9558,25.231999999999999,7.4429999999999996,0.872,267.7,3.4527999999999999,0.70640000000000003,3.8769999999999998,4.1422999999999996,9.6941000000000006,1.3384,null,null,null,null,null,null,null,null,null,null,null,null,null,null,"2011-12-12",1.9558,25.507857142857141,7.4342285714285712,0.84383571428571436,304.04142857142858,3.4527999999999999,0.69751428571428575,4.5270142857142863,4.3421714285714277,9.0506999999999973,1.3136571428571426]
["2010-05-28",1.9558,25.629000000000001,7.4396000000000004,0.84624999999999995,276.86,3.4527999999999999,0.70789999999999997,4.0848000000000004,4.1464999999999996,9.6660000000000004,1.2255,null,null,null,null,null,null,null,null,null,null,74,"2010-04-12","2010-04-01","2010-01-01","2010-04-13",1.9558,25.164999999999999,7.4429999999999996,0.88249999999999995,265.20999999999998,3.4527999999999999,0.70650000000000002,3.8664999999999998,4.1280000000000001,9.7460000000000004,1.3585,null,null,null,null,null,null,null,null,null,null,null,null,null,null,"2011-12-19",1.9558,25.578142857142858,7.4335000000000004,0.83545000000000003,304.25428571428574,3.4527999999999999,0.69681428571428572,4.4582142857142859,4.3081142857142858,8.9897714285714283,1.3055999999999999]
["2010-05-29",1.9558,25.78,7.4410999999999996,0.84994999999999998,273.93,3.4527999999999999,0.70799999999999996,4.0614999999999997,4.1646000000000001,9.6579999999999995,1.2383999999999999,null,null,null,null,null,null,null,null,null,null,75,"2010-04-12","2010-04-01","2010-01-01","2010-04-14",1.9558,25.155000000000001,7.4435000000000002,0.88119999999999998,264.58,3.4527999999999999,0.70660000000000001,3.8828,4.1390000000000002,9.7575000000000003,1.3583000000000001,null,null,null,null,null,null,null,null,null,null,null,null,null,null,"2011-12-26",1.9558,25.823857142857143,7.4341857142857135,0.83435714285714291,309.46714285714285,3.4527999999999999,0.6979428571428572,4.4335999999999993,4.3024857142857149,8.948142857142857,1.300342857142857]
["2010-06-01",1.9558,25.504999999999999,7.4394999999999998,0.84863,275.52999999999997,3.4527999999999999,0.70899999999999996,4.0791000000000004,4.1855000000000002,9.6229999999999993,1.2306999999999999,null,null,null,null,null,null,null,null,null,null,76,"2010-04-12","2010-04-01","2010-01-01","2010-04-15",1.9558,25.047999999999998,7.4431000000000003,0.88139999999999996,262.64999999999998,3.4527999999999999,0.70820000000000005,3.8549000000000002,4.1440000000000001,9.7326999999999995,1.3614999999999999,null,null,null,null,null,null,null,null,null,null,null,null,null,null,"2012-01-02",1.9558,25.765285714285714,7.4351142857142856,0.83088428571428552,317.45714285714286,3.4527999999999999,0.69871428571428584,4.4850285714285709,4.3323999999999998,8.8842857142857135,1.2888571428571429]
["2010-06-02",1.9558,25.628,7.4393000000000002,0.8347,276.62,3.4527999999999999,0.70930000000000004,4.1139999999999999,4.1867999999999999,9.6163000000000007,1.2155,null,null,null,null,null,null,null,null,null,null,77,"2010-04-12","2010-04-01","2010-01-01","2010-04-16",1.9558,25.085000000000001,7.4428000000000001,0.87734999999999996,263.3,3.4527999999999999,0.70820000000000005,3.8582999999999998,4.1410999999999998,9.7068999999999992,1.3544,null,null,null,null,null,null,null,null,null,null,null,null,null,null,"2012-01-09",1.9558,25.679428571428566,7.4360000000000008,0.82877857142857125,312.18,3.4527999999999999,0.69887142857142848,4.4505857142857135,4.3498999999999999,8.8462428571428582,1.2758285714285713]
["2010-06-03",1.9558,25.779,7.4402999999999997,0.83345000000000002,275.88,3.4527999999999999,0.70899999999999996,4.1007999999999996,4.1872999999999996,9.5668000000000006,1.2218,null,null,null,null,null,null,null,null,null,null,78,"2010-04-12","2010-04-01","2010-01-01","2010-04-17",1.9558,25.178000000000001,7.4424000000000001,0.87709999999999999,263.45,3.4527999999999999,0.70809999999999995,3.8742999999999999,4.1463000000000001,9.6869999999999994,1.3534999999999999,null,null,null,null,null,null,null,null,null,null,null,null,null,null,"2012-01-16",1.9558,25.495714285714286,7.4358000000000004,0.83262142857142851,306.85857142857145,3.4527999999999999,0.69978571428571434,4.354342857142858,4.3382428571428582,8.8209285714285723,1.2825142857142857]
["2010-06-04",1.9558,25.75,7.4413,0.8357,275.2,3.4527999999999999,0.70850000000000002,4.0705,4.1900000000000004,9.5210000000000008,1.2267999999999999,null,null,null,null,null,null,null,null,null,null,78,"2010-04-12","2010-04-01","2010-01-01","2010-04-18",1.9558,25.178000000000001,7.4424000000000001,0.87709999999999999,263.45,3.4527999999999999,0.70809999999999995,3.8742999999999999,4.1463000000000001,9.6869999999999994,1.3534999999999999,null,null,null,null,null,null,null,null,null,null,null,null,null,null,"2012-01-23",1.9558,25.301857142857141,7.434685714285715,0.83550000000000002,298.57571428571424,3.4527999999999999,0.69855714285714277,4.2697571428571433,4.3443857142857141,8.8392571428571411,1.3042714285714285]
["2010-06-05",1.9558,26.055,7.4398,0.82745000000000002,288.8,3.4527999999999999,0.70840000000000003,4.1950000000000003,4.2134999999999998,9.5495000000000001,1.206,null,null,null,null,null,null,null,null,null,null,78,"2010-04-19","2010-04-01","2010-01-01","2010-04-19",1.9558,25.178000000000001,7.4424000000000001,0.87709999999999999,263.45,3.4527999999999999,0.70809999999999995,3.8742999999999999,4.1463000000000001,9.6869999999999994,1.3534999999999999,null,null,null,null,null,null,null,null,null,null,null,null,null,null,"2012-01-30",1.9558,25.15,7.4337142857142871,0.83300000000000007,293.2657142857143,3.4527999999999999,0.69952857142857128,4.2122999999999999,4.3457428571428576,8.8764285714285709,1.3145714285714285]
["2010-06-08",1.9558,25.898,7.4377000000000004,0.8246,285.7,3.4527999999999999,0.70830000000000004,4.1502999999999997,4.2359,9.6448999999999998,1.1959,null,null,null,null,null,null,null,null,null,null,79,"2010-04-19","2010-04-01","2010-01-01","2010-04-20",1.9558,25.25,7.4427000000000003,0.88049999999999995,265.38,3.4527999999999999,0.70799999999999996,3.9030999999999998,4.1577999999999999,9.6980000000000004,1.3431999999999999,null,null,null,null,null,null,null,null,null,null,null,null,null,null,"2012-02-06",1.9558,25.047285714285714,7.432900000000001,0.8335285714285714,292.02571428571429,3.4527999999999999,0.69915714285714281,4.1943571428571431,4.3506857142857145,8.8168571428571436,1.3179285714285716]
["2010-06-09",1.9558,25.92,7.4382000000000001,0.82804999999999995,282.2,3.4527999999999999,0.70750000000000002,4.133,4.2164999999999999,9.6597000000000008,1.1941999999999999,null,null,null,null,null,null,null,null,null,null,80,"2010-04-19","2010-04-01","2010-01-01","2010-04-21",{"$f":"IF($W115=\"\",\"\",INDEX($A:$Z,$W115,AB$3))","v":1.9558},25.309000000000001,7.4423000000000004,0.87649999999999995,264.93,3.4527999999999999,0.70740000000000003,3.8860999999999999,4.1470000000000002,9.6449999999999996,1.3486,null,null,null,null,null,null,null,null,null,null,null,null,null,null,"2012-02-13",1.9558,25.118142857142857,7.4329571428571422,0.83403571428571432,291.34571428571422,3.4527999999999999,0.69878571428571434,4.1986714285714282,4.3514428571428576,8.8076428571428576,1.3143428571428573]
["2010-06-10",1.9558,25.891999999999999,7.4387999999999996,0.82589999999999997,281.8,3.4527999999999999,0.70750000000000002,4.1124000000000001,4.2157,9.6176999999999992,1.2010000000000001,null,null,null,null,null,null,null,null,null,null,81,"2010-04-19","2010-04-01","2010-01-01","2010-04-22",1.9558,25.286000000000001,7.4420999999999999,0.86899999999999999,264.13,3.4527999999999999,0.7077,3.8713000000000002,4.1369999999999996,9.5953999999999997,1.3372999999999999,null,null,null,null,null,null,null,null,null,null,null,null,null,null,"2012-02-20",1.9558,25.018999999999998,7.4356,0.84149999999999991,288.75857142857143,3.4527999999999999,0.69837142857142864,4.1761714285714282,4.355142857142857,8.8176857142857141,1.3285857142857143]
["2010-06-11",1.9558,25.965,7.4390000000000001,0.82520000000000004,282.04000000000002,3.4527999999999999,0.7077,4.1218000000000004,4.2202999999999999,9.5775000000000006,1.2044999999999999,null,null,null,null,null,null,null,null,null,null,82,"2010-04-19","2010-04-01","2010-01-01","2010-04-23",1.9558,25.364999999999998,7.4420000000000002,0.86675000000000002,264.5,3.4527999999999999,0.70750000000000002,3.8795000000000002,4.1416000000000004,9.6151999999999997,1.3339000000000001,null,null,null,null,null,null,null,null,null,null,null,null,null,null,"2012-02-27",1.9558,24.880571428571432,7.4352999999999998,0.84075,289.32,3.4527999999999999,0.69854285714285702,4.1332142857142857,4.350314285714286,8.824128571428572,1.3349]
["2010-06-12",1.9558,25.695,7.4390999999999998,0.82930000000000004,279.60000000000002,3.4527999999999999,0.70760000000000001,4.0890000000000004,4.2192999999999996,9.5809999999999995,1.2126999999999999,null,null,null,null,null,null,null,null,null,null,83,"2010-04-19","2010-04-01","2010-01-01","2010-04-24",1.9558,25.405000000000001,7.4421999999999997,0.86729999999999996,264.45,3.4527999999999999,0.7077,3.8822999999999999,4.1239999999999997,9.5909999999999993,1.3310999999999999,null,null,null,null,null,null,null,null,null,null,null,null,null,null,"2012-03-05",1.9558,24.775571428571428,7.4346285714285711,0.83504999999999996,292.42428571428576,3.4527999999999999,0.69767142857142872,4.1227428571428577,4.3542428571428573,8.8841142857142863,1.3190571428571427]
["2010-06-15",1.9558,25.681000000000001,7.4375,0.83079999999999998,279,3.4527999999999999,0.70760000000000001,4.077,4.2275,9.5670000000000002,1.2249000000000001,null,null,null,null,null,null,null,null,null,null,83,"2010-04-19","2010-04-01","2010-01-01","2010-04-25",1.9558,25.405000000000001,7.4421999999999997,0.86729999999999996,264.45,3.4527999999999999,0.7077,3.8822999999999999,4.1239999999999997,9.5909999999999993,1.3310999999999999,null,null,null,null,null,null,null,null,null,null,null,null,null,null,"2012-03-12",1.9558,24.579714285714285,7.4351000000000003,0.83353571428571438,292.07857142857137,3.4527999999999999,0.69677142857142849,4.1266857142857143,4.3689142857142862,8.8912285714285719,1.310257142857143]
["2010-06-16",1.9558,25.663,7.4377000000000004,0.83199999999999996,280.10000000000002,3.4527999999999999,0.70760000000000001,4.0734000000000004,4.2358000000000002,9.6214999999999993,1.2258,null,null,null,null,null,null,null,null,null,null,83,"2010-04-26","2010-04-01","2010-01-01","2010-04-26",1.9558,25.405000000000001,7.4421999999999997,0.86729999999999996,264.45,3.4527999999999999,0.7077,3.8822999999999999,4.1239999999999997,9.5909999999999993,1.3310999999999999,null,null,null,null,null,null,null,null,null,null,null,null,null,null,"2012-03-19",1.9558,24.617571428571431,7.435542857142857,0.83299999999999996,291.92142857142852,3.4527999999999999,0.69684285714285721,4.1479857142857144,4.3761428571428569,8.9054285714285726,1.3191428571428572]
["2010-06-17",1.9558,25.741,7.4382000000000001,0.83084999999999998,281.07,3.4527999999999999,0.70730000000000004,4.0925000000000002,4.2359999999999998,9.6013999999999999,1.2277,null,null,null,null,null,null,null,null,null,null,84,"2010-04-26","2010-04-01","2010-01-01","2010-04-27",1.9558,25.43,7.4420000000000002,0.86240000000000006,263.42,3.4527999999999999,0.7077,3.8788,4.1177999999999999,9.5679999999999996,1.3321000000000001,null,null,null,null,null,null,null,null,null,null,null,null,null,null,"2012-03-26",1.9558,24.685571428571425,7.4371285714285715,0.83571428571428563,293.68142857142863,3.4527999999999999,0.69912857142857143,4.1521285714285714,4.3752571428571425,8.8801714285714279,1.3310285714285712]
["2010-06-18",1.9558,25.731000000000002,7.4386999999999999,0.83489999999999998,279.20999999999998,3.4527999999999999,0.70760000000000001,4.0755999999999997,4.2355,9.5739999999999998,1.2363,null,null,null,null,null,null,null,null,null,null,85,"2010-04-26","2010-04-01","2010-01-01","2010-04-28",1.9558,25.513999999999999,7.4421999999999997,0.86704999999999999,266.75,3.4527999999999999,0.70799999999999996,3.9165999999999999,4.1280000000000001,9.577,1.329,null,null,null,null,null,null,null,null,null,null,null,null,null,null,"2012-04-02",1.9558,24.69014285714286,7.4399714285714298,0.82837142857142865,295.31428571428569,3.4527999999999999,0.70008571428571442,4.1570428571428568,4.3764571428571424,8.814742857142857,1.3190857142857142]
["2010-06-19",1.9558,25.733000000000001,7.4398,0.8357,280.05,3.4527999999999999,0.70760000000000001,4.0674999999999999,4.24,9.5599000000000007,1.2372000000000001,null,null,null,null,null,null,null,null,null,null,86,"2010-04-26","2010-04-01","2010-01-01","2010-04-29",1.9558,25.57,7.4423000000000004,0.87080000000000002,269.89999999999998,3.4527999999999999,0.70799999999999996,3.9315000000000002,4.1369999999999996,9.6257999999999999,1.3245,null,null,null,null,null,null,null,null,null,null,null,null,null,null,"2012-04-09",1.9558,24.761285714285716,7.4389142857142856,0.82507857142857133,296.68571428571425,3.4527999999999999,0.69905714285714293,4.1782142857142848,4.3738714285714293,8.8695714285714295,1.3118571428571428]
["2010-06-22",1.9558,25.76,7.4401999999999999,0.83409999999999995,278.02999999999997,3.4527999999999999,0.70830000000000004,4.0380000000000003,4.2314999999999996,9.5177999999999994,1.2391000000000001,null,null,null,null,null,null,null,null,null,null,87,"2010-04-26","2010-04-01","2010-01-01","2010-04-30",1.9558,25.54,7.4420999999999999,0.86785000000000001,268.27999999999997,3.4527999999999999,0.70809999999999995,3.9152999999999998,4.1369999999999996,9.6266999999999996,1.3255999999999999,null,null,null,null,null,null,null,null,null,null,null,null,null,null,"2012-04-16",1.9558,24.833428571428573,7.4389142857142847,0.82066428571428562,297.23285714285714,3.4527999999999999,0.69864285714285723,4.1881000000000004,4.3755285714285721,8.8613857142857153,1.3123857142857143]
["2010-06-23",1.9558,25.788,7.4419000000000004,0.83399999999999996,280.43,3.4527999999999999,0.70840000000000003,4.0601000000000003,4.2314999999999996,9.5579999999999998,1.2258,null,null,null,null,null,null,null,null,null,null,88,"2010-04-26","2010-05-01","2010-01-01","2010-05-01",{"$f":"IF($W125=\"\",\"\",INDEX($A:$Z,$W125,AB$3))","v":1.9558},25.527000000000001,7.4424999999999999,0.87029999999999996,266.82,3.4527999999999999,0.70740000000000003,3.9163000000000001,4.13,9.6217000000000006,1.3314999999999999,null,null,null,null,null,null,null,null,null,null,null,null,null,null,"2012-04-23",1.9558,24.89442857142857,7.4392571428571426,0.81673571428571423,291.89857142857142,3.4527999999999999,0.69925714285714291,4.1871714285714292,4.381742857142858,8.8808571428571419,1.3194714285714286]
["2010-06-24",1.9558,25.725000000000001,7.4438000000000004,0.82289999999999996,280.38,3.4527999999999999,0.70840000000000003,4.0662000000000003,4.2234999999999996,9.5120000000000005,1.2271000000000001,null,null,null,null,null,null,null,null,null,null,88,"2010-04-26","2010-05-01","2010-01-01","2010-05-02",1.9558,25.527000000000001,7.4424999999999999,0.87029999999999996,266.82,3.4527999999999999,0.70740000000000003,3.9163000000000001,4.13,9.6217000000000006,1.3314999999999999,null,null,null,null,null,null,null,null,null,null,null,null,null,null,"2012-04-30",1.9558,24.926571428571428,7.4382857142857146,0.81262857142857137,285.30428571428575,3.4527999999999999,0.69922857142857142,4.1746285714285714,4.4070285714285715,8.9010428571428584,1.3167857142857144]
["2010-06-25",1.9558,25.773,7.4427000000000003,0.81850000000000001,283.77999999999997,3.4527999999999999,0.70850000000000002,4.1207000000000003,4.2374999999999998,9.5740999999999996,1.2262,null,null,null,null,null,null,null,null,null,null,88,"2010-05-03","2010-05-01","2010-01-01","2010-05-03",1.9558,25.527000000000001,7.4424999999999999,0.87029999999999996,266.82,3.4527999999999999,0.70740000000000003,3.9163000000000001,4.13,9.6217000000000006,1.3314999999999999,null,null,null,null,null,null,null,null,null,null,null,null,null,null,"2012-05-07",1.9558,25.155999999999999,7.4352,0.80546000000000006,288.08571428571429,3.4527999999999999,0.69844285714285714,4.2146428571428576,4.4186714285714279,8.9322285714285723,1.2998428571428569]
["2010-06-26",1.9558,25.795000000000002,7.4433999999999996,0.8236,285,3.4527999999999999,0.70850000000000002,4.1234999999999999,4.2859999999999996,9.5609999999999999,1.2294,null,null,null,null,null,null,null,null,null,null,89,"2010-05-03","2010-05-01","2010-01-01","2010-05-04",1.9558,25.57,7.4424999999999999,0.86799999999999999,268.02999999999997,3.4527999999999999,0.70709999999999995,3.9159999999999999,4.1269999999999998,9.6095000000000006,1.3238000000000001,null,null,null,null,null,null,null,null,null,null,null,null,null,null,"2012-05-14",1.9558,25.400571428571428,7.4331285714285729,0.8016928571428571,294.37,3.4527999999999999,0.69745714285714289,4.3197571428571422,4.4417999999999997,9.0659285714285716,1.2787428571428572]
["2010-06-29",1.9558,25.745000000000001,7.4443000000000001,0.82,285.02,3.4527999999999999,0.70879999999999999,4.1322000000000001,4.3404999999999996,9.5584000000000007,1.2339,null,null,null,null,null,null,null,null,null,null,90,"2010-05-03","2010-05-01","2010-01-01","2010-05-05",1.9558,25.71,7.4428000000000001,0.86324999999999996,273.39999999999998,3.4527999999999999,0.70709999999999995,3.9584999999999999,4.1420000000000003,9.5896000000000008,1.3089,null,null,null,null,null,null,null,null,null,null,null,null,null,null,"2012-05-21",1.9558,25.369,7.4316428571428563,0.80376428571428582,299.30142857142852,3.4527999999999999,0.69782857142857135,4.3457000000000008,4.4581142857142853,9.0471714285714278,1.2649571428571431]
["2010-06-30",1.9558,25.753,7.4485999999999999,0.81040000000000001,286.76,3.4527999999999999,0.70930000000000004,4.1603000000000003,4.3738000000000001,9.5241000000000007,1.2198,null,null,null,null,null,null,null,null,null,null,91,"2010-05-03","2010-05-01","2010-01-01","2010-05-06",1.9558,25.878,7.4427000000000003,0.85509999999999997,276.83,3.4527999999999999,0.70669999999999999,4.032,4.1712999999999996,9.6418999999999997,1.2924,null,null,null,null,null,null,null,null,null,null,null,null,null,null,"2012-05-28",1.9558,25.595571428571429,7.4309285714285727,0.80106428571428556,301.37857142857143,3.4527999999999999,0.69807142857142856,4.3796000000000008,4.4695142857142853,8.9854000000000003,1.2445714285714284]
["2010-07-01",1.9558,25.690999999999999,7.4488000000000003,0.81745000000000001,286,3.4527999999999999,0.70930000000000004,4.1470000000000002,4.37,9.5259,1.2271000000000001,null,null,null,null,null,null,null,null,null,null,92,"2010-05-03","2010-05-01","2010-01-01","2010-05-07",1.9558,25.968,7.4429999999999996,0.84294999999999998,279.42,3.4527999999999999,0.70720000000000005,4.0922999999999998,4.1805000000000003,9.7119999999999997,1.2726999999999999,null,null,null,null,null,null,null,null,null,null,null,null,null,null,"2012-06-04",1.9558,25.584571428571426,7.4317285714285717,0.80775714285714284,299.93428571428569,3.4527999999999999,0.6971857142857143,4.3435571428571418,4.4671000000000003,8.9871142857142861,1.2457714285714285]
["2010-07-02",1.9558,25.77,7.4486999999999997,0.82215000000000005,287.45,3.4527999999999999,0.70930000000000004,4.1769999999999996,4.3441999999999998,9.6018000000000008,1.2327999999999999,null,null,null,null,null,null,null,null,null,null,93,"2010-05-03","2010-05-01","2010-01-01","2010-05-08",1.9558,25.975999999999999,7.4435000000000002,0.86804999999999999,281.60000000000002,3.4527999999999999,0.70720000000000005,4.1482999999999999,4.1879999999999997,9.7632999999999992,1.2746,null,null,null,null,null,null,null,null,null,null,null,null,null,null,"2012-06-11",1.9558,25.551428571428573,7.4318285714285706,0.8083999999999999,296.68285714285713,3.4527999999999999,0.6969428571428572,4.3079142857142863,4.4622000000000002,8.8637142857142859,1.2540142857142857]
["2010-07-03",1.9558,25.753,7.4497,0.82520000000000004,285.7,3.4527999999999999,0.7097,4.1544999999999996,4.3013000000000003,9.5519999999999996,1.2547999999999999,null,null,null,null,null,null,null,null,null,null,{"$f":"IF(AA133>MaxDate,\"\",MATCH(AA133,$A:$A,1))","v":93},"2010-05-03","2010-05-01","2010-01-01","2010-05-09",1.9558,25.975999999999999,7.4435000000000002,0.86804999999999999,281.60000000000002,3.4527999999999999,0.70720000000000005,4.1482999999999999,4.1879999999999997,9.7632999999999992,1.2746,null,null,null,null,null,null,null,null,null,null,null,null,null,null,"2012-06-18",{"$f":"IF(MaxDate>=$BA134,SUMIF($X:$X,$BA133,AB:AB)/COUNTIF($X:$X,$BA133),\"\")","v":1.9558},{"$f":"IF(MaxDate>=$BA134,SUMIF($X:$X,$BA133,AC:AC)/COUNTIF($X:$X,$BA133),\"\")","v":25.609428571428573},{"$f":"IF(MaxDate>=$BA134,SUMIF($X:$X,$BA133,AD:AD)/COUNTIF($X:$X,$BA133),\"\")","v":7.4331428571428564},{"$f":"IF(MaxDate>=$BA134,SUMIF($X:$X,$BA133,AE:AE)/COUNTIF($X:$X,$BA133),\"\")","v":0.80635000000000001},{"$f":"IF(MaxDate>=$BA134,SUMIF($X:$X,$BA133,AF:AF)/COUNTIF($X:$X,$BA133),\"\")","v":289.42142857142858},{"$f":"IF(MaxDate>=$BA134,SUMIF($X:$X,$BA133,AG:AG)/COUNTIF($X:$X,$BA133),\"\")","v":3.4527999999999999},{"$f":"IF(MaxDate>=$BA134,SUMIF($X:$X,$BA133,AH:AH)/COUNTIF($X:$X,$BA133),\"\")","v":0.6968714285714287},{"$f":"IF(MaxDate>=$BA134,SUMIF($X:$X,$BA133,AI:AI)/COUNTIF($X:$X,$BA133),\"\")","v":4.2625285714285708},{"$f":"IF(MaxDate>=$BA134,SUMIF($X:$X,$BA133,AJ:AJ)/COUNTIF($X:$X,$BA133),\"\")","v":4.4671714285714286},{"$f":"IF(MaxDate>=$BA134,SUMIF($X:$X,$BA133,AK:AK)/COUNTIF($X:$X,$BA133),\"\")","v":8.8281857142857145},{"$f":"IF(MaxDate>=$BA134,SUMIF($X:$X,$BA133,AL:AL)/COUNTIF($X:$X,$BA133),\"\")","v":1.2612142857142854}]
["2010-07-06",1.9558,25.585999999999999,7.4512999999999998,0.82750000000000001,286.2,3.4527999999999999,0.70930000000000004,4.1268000000000002,4.2526999999999999,9.5995000000000008,1.2531000000000001,null,null,null,null,null,null,null,null,null,null,93,{"$f":"IF(W134=\"\",\"\",IF(WEEKDAY(AA134,2)=1,AA134,X133))","v":"2010-05-10"},{"$f":"IF(W134=\"\",\"\",DATE(YEAR(AA134),MONTH(AA134),1))","v":"2010-05-01"},{"$f":"IF(W134=\"\",\"\",DATE(YEAR(AA134),1,1))","v":"2010-01-01"},"2010-05-10",1.9558,25.975999999999999,7.4435000000000002,0.86804999999999999,281.60000000000002,3.4527999999999999,0.70720000000000005,4.1482999999999999,4.1879999999999997,9.7632999999999992,1.2746,null,null,null,null,null,null,null,null,null,null,null,null,null,null,"2012-06-25",1.9558,25.793857142857139,7.4335285714285719,0.80271428571428571,287.4628571428571,3.4527999999999999,0.6966,4.2564857142857146,4.4561000000000002,8.8011999999999997,1.2511142857142858]
["2010-07-07",1.9558,25.484999999999999,7.4534000000000002,0.82950000000000002,284.85000000000002,3.4527999999999999,0.70909999999999995,4.1009000000000002,4.2361000000000004,9.625,1.2579,null,null,null,null,null,null,null,null,null,null,94,"2010-05-10","2010-05-01","2010-01-01",{"$f":"1+AA134","v":"2010-05-11"},{"$f":"IF($W135=\"\",\"\",INDEX($A:$Z,$W135,AB$3))","v":1.9558},25.603000000000002,7.4419000000000004,0.86404999999999998,273.2,3.4527999999999999,0.70740000000000003,4.0279999999999996,4.1683000000000003,9.6860999999999997,1.2968999999999999,null,null,null,null,null,null,null,null,null,null,null,null,null,null,{"$f":"7+BA134","v":"2012-07-02"},1.9558,25.580999999999996,7.4368285714285713,0.80117857142857141,286.67285714285714,3.4527999999999999,0.69644285714285714,4.2170999999999994,4.4842142857142866,8.6954000000000011,1.2499714285714287]
["2010-07-08",1.9558,25.547999999999998,7.4531999999999998,0.83189999999999997,284.47000000000003,3.4527999999999999,0.70950000000000002,4.1219999999999999,4.2317999999999998,9.6159999999999997,1.2566999999999999,null,null,null,null,null,null,null,null,null,null,95,"2010-05-10","2010-05-01","2010-01-01","2010-05-12",1.9558,25.59,7.4424999999999999,0.85960000000000003,276.10000000000002,3.4527999999999999,0.70760000000000001,4.0499000000000001,4.1798000000000002,9.6562999999999999,1.2698,null,null,null,null,null,null,null,null,null,null,null,null,null,null,"2012-07-09",1.9558,25.470857142857145,7.4383285714285705,0.79056428571428561,288.65428571428572,3.4527999999999999,0.69618571428571452,4.2065428571428569,4.5403285714285708,8.5888428571428594,1.2251857142857143]
["2010-07-09",1.9558,25.448,7.4542999999999999,0.83560000000000001,281.27,3.4527999999999999,0.70920000000000005,4.0789999999999997,4.2272999999999996,9.5473999999999997,1.266,null,null,null,null,null,null,null,null,null,null,96,"2010-05-10","2010-05-01","2010-01-01","2010-05-13",1.9558,25.39,7.4417999999999997,0.84940000000000004,273.76,3.4527999999999999,0.70820000000000005,3.9706999999999999,4.1740000000000004,9.5780999999999992,1.2685999999999999,null,null,null,null,null,null,null,null,null,null,null,null,null,null,"2012-07-16",1.9558,25.410285714285717,7.439514285714286,0.78310714285714289,286.54285714285714,3.4527999999999999,0.69608571428571431,4.1756142857142864,4.5761571428571424,8.5289857142857137,1.2223428571428572]
["2010-07-10",1.9558,25.36,7.4553000000000003,0.83599999999999997,280.24,3.4527999999999999,0.70879999999999999,4.0698999999999996,4.2373000000000003,9.4766999999999992,1.2637,null,null,null,null,null,null,null,null,null,null,97,"2010-05-10","2010-05-01","2010-01-01","2010-05-14",1.9558,25.416,7.4387999999999996,0.85299999999999998,272.45,3.4527999999999999,0.70750000000000002,3.9538000000000002,4.1805000000000003,9.5305999999999997,1.2586999999999999,null,null,null,null,null,null,null,null,null,null,null,null,null,null,"2012-07-23",1.9558,25.481857142857141,7.4390285714285715,0.7812214285714284,285.9942857142857,3.4527999999999999,0.69634285714285704,4.167414285714286,4.616657142857143,8.4625142857142848,1.2203142857142859]
["2010-07-13",1.9558,25.324999999999999,7.4551999999999996,0.83630000000000004,278.91000000000003,3.4527999999999999,0.7087,4.077,4.2460000000000004,9.4559999999999995,1.2572000000000001,null,null,null,null,null,null,null,null,null,null,98,"2010-05-10","2010-05-01","2010-01-01","2010-05-15",1.9558,25.465,7.4390999999999998,0.85709999999999997,276.13,3.4527999999999999,0.70750000000000002,3.9857999999999998,4.1844999999999999,9.5745000000000005,1.2492000000000001,null,null,null,null,null,null,null,null,null,null,null,null,null,null,"2012-07-30",1.9558,25.287285714285712,7.4406714285714282,0.78565000000000007,279.92857142857144,3.4527999999999999,0.69654285714285713,4.105785714285715,4.6087285714285713,8.3458428571428573,1.2282999999999997]
["2010-07-14",1.9558,25.344000000000001,7.4554999999999998,0.83179999999999998,277.8,3.4527999999999999,0.7087,4.0747999999999998,4.2614999999999998,9.4032999999999998,1.2568999999999999,null,null,null,null,null,null,null,null,null,null,98,"2010-05-10","2010-05-01","2010-01-01","2010-05-16",1.9558,25.465,7.4390999999999998,0.85709999999999997,276.13,3.4527999999999999,0.70750000000000002,3.9857999999999998,4.1844999999999999,9.5745000000000005,1.2492000000000001,null,null,null,null,null,null,null,null,null,null,null,null,null,null,"2012-08-06",1.9558,25.182142857142853,7.4427142857142865,0.78913571428571427,277.74857142857144,3.4527999999999999,0.69624285714285716,4.0749714285714287,4.561928571428572,8.271585714285715,1.2317285714285713]
["2010-07-15",1.9558,25.47,7.4501999999999997,0.83430000000000004,278.02,3.4527999999999999,0.7087,4.0662000000000003,4.2577999999999996,9.4117999999999995,1.2703,null,null,null,null,null,null,null,null,null,null,98,"2010-05-17","2010-05-01","2010-01-01","2010-05-17",1.9558,25.465,7.4390999999999998,0.85709999999999997,276.13,3.4527999999999999,0.70750000000000002,3.9857999999999998,4.1844999999999999,9.5745000000000005,1.2492000000000001,null,null,null,null,null,null,null,null,null,null,null,null,null,null,"2012-08-13",1.9558,25.043428571428571,7.4441285714285721,0.78472857142857144,278.85142857142858,3.4527999999999999,0.69624285714285716,4.0838857142857146,4.5066571428571427,8.24287142857143,1.2311714285714286]
["2010-07-16",1.9558,25.463999999999999,7.4503000000000004,0.83565,278.93,3.4527999999999999,0.70889999999999997,4.0608000000000004,4.2584999999999997,9.4161999999999999,1.2827999999999999,null,null,null,null,null,null,null,null,null,null,99,"2010-05-17","2010-05-01","2010-01-01","2010-05-18",1.9558,25.56,7.4405000000000001,0.85540000000000005,277.82,3.4527999999999999,0.70740000000000003,4.0194999999999999,4.1925999999999997,9.6035000000000004,1.2349000000000001,null,null,null,null,null,null,null,null,null,null,null,null,null,null,"2012-08-20",1.9558,24.913000000000004,7.4471142857142851,0.78787142857142867,277.33285714285711,3.4527999999999999,0.69628571428571429,4.0819999999999999,4.4891000000000005,8.2725857142857144,1.2439857142857143]
["2010-07-17",1.9558,25.428000000000001,7.4512,0.84535000000000005,280.85000000000002,3.4527999999999999,0.70909999999999995,4.0914000000000001,4.2657999999999996,9.4809999999999999,1.3,null,null,null,null,null,null,null,null,null,null,100,"2010-05-17","2010-05-01","2010-01-01","2010-05-19",1.9558,25.457999999999998,7.4404000000000003,0.85894999999999999,277.38,3.4527999999999999,0.70740000000000003,3.9990000000000001,4.1950000000000003,9.5545000000000009,1.2427999999999999,null,null,null,null,null,null,null,null,null,null,null,null,null,null,"2012-08-27",1.9558,24.855142857142855,7.4496857142857147,0.79287714285714284,281.80142857142857,3.4527999999999999,0.69620000000000004,4.1409571428571432,4.4668142857142863,8.2974285714285703,1.2556571428571428]
["2010-07-20",1.9558,25.428999999999998,7.4528999999999996,0.84830000000000005,289.18,3.4527999999999999,0.70879999999999999,4.1292,4.2729999999999997,9.5312000000000001,1.2957000000000001,null,null,null,null,null,null,null,null,null,null,101,"2010-05-17","2010-05-01","2010-01-01","2010-05-20",1.9558,25.727,7.4405999999999999,0.85804999999999998,279.5,3.4527999999999999,0.70740000000000003,4.0830000000000002,4.1965000000000003,9.6074999999999999,1.2270000000000001,null,null,null,null,null,null,null,null,null,null,null,null,null,null,"2012-09-03",1.9558,24.754999999999995,7.451428571428572,0.79369999999999996,285.33428571428573,3.4527999999999999,0.69622857142857153,4.1674571428571427,4.4827142857142857,8.4395571428571419,1.2626571428571427]
["2010-07-21",1.9558,25.35,7.452,0.84745000000000004,290.57,3.4527999999999999,0.70889999999999997,4.1353999999999997,4.2770000000000001,9.5007000000000001,1.2844,null,null,null,null,null,null,null,null,null,null,102,"2010-05-17","2010-05-01","2010-01-01","2010-05-21",{"$f":"IF($W145=\"\",\"\",INDEX($A:$Z,$W145,AB$3))","v":1.9558},25.913,7.4421999999999997,0.86439999999999995,283,3.4527999999999999,0.70740000000000003,4.1879999999999997,4.2031000000000001,9.7387999999999995,1.2334000000000001,null,null,null,null,null,null,null,null,null,null,null,null,null,null,"2012-09-10",1.9558,24.493285714285715,7.4535857142857145,0.80175000000000007,283.95,3.4527999999999999,0.69620000000000015,4.0946428571428575,4.4940571428571428,8.516628571428571,1.2895000000000001]
["2010-07-22",1.9558,25.346,7.4519000000000002,0.83945000000000003,284.89999999999998,3.4527999999999999,0.70879999999999999,4.0986000000000002,4.2610000000000001,9.4595000000000002,1.2817000000000001,null,null,null,null,null,null,null,null,null,null,103,"2010-05-17","2010-05-01","2010-01-01","2010-05-22",1.9558,25.917000000000002,7.4425999999999997,0.87034999999999996,281.33,3.4527999999999999,0.70740000000000003,4.1529999999999996,4.1950000000000003,9.8309999999999995,1.2497,null,null,null,null,null,null,null,null,null,null,null,null,null,null,"2012-09-17",1.9558,24.733285714285717,7.454828571428572,0.80259571428571441,282.93285714285719,3.4527999999999999,0.69620000000000004,4.1195285714285719,4.5071571428571433,8.5403285714285708,1.3023857142857143]
["2010-07-23",1.9558,25.178999999999998,7.4519000000000002,0.84279999999999999,283.25,3.4527999999999999,0.70889999999999997,4.0974000000000004,4.2670000000000003,9.4495000000000005,1.2849999999999999,null,null,null,null,null,null,null,null,null,null,103,"2010-05-17","2010-05-01","2010-01-01","2010-05-23",1.9558,25.917000000000002,7.4425999999999997,0.87034999999999996,281.33,3.4527999999999999,0.70740000000000003,4.1529999999999996,4.1950000000000003,9.8309999999999995,1.2497,null,null,null,null,null,null,null,null,null,null,null,null,null,null,"2012-09-24",1.9558,24.969714285714282,7.4558285714285715,0.79670000000000007,284.19,3.4527999999999999,0.69622857142857153,4.1319999999999997,4.5227142857142857,8.4728999999999992,1.2916428571428571]
["2010-07-24",1.9558,25.18,7.452,0.83720000000000006,287.17,3.4527999999999999,0.70909999999999995,4.07,4.2648000000000001,9.4410000000000007,1.2897000000000001,null,null,null,null,null,null,null,null,null,null,103,"2010-05-24","2010-05-01","2010-01-01","2010-05-24",1.9558,25.917000000000002,7.4425999999999997,0.87034999999999996,281.33,3.4527999999999999,0.70740000000000003,4.1529999999999996,4.1950000000000003,9.8309999999999995,1.2497,null,null,null,null,null,null,null,null,null,null,null,null,null,null,"2012-10-01",1.9558,25.014428571428567,7.455671428571427,0.80117857142857152,284.69142857142862,3.4527999999999999,0.69617142857142866,4.0910142857142855,4.5461142857142862,8.5457142857142863,1.2942285714285713]
["2010-07-27",1.9558,25.125,7.4526000000000003,0.83425000000000005,287.37,3.4527999999999999,0.70879999999999999,4.0353000000000003,4.2563000000000004,9.4862000000000002,1.2930999999999999,null,null,null,null,null,null,null,null,null,null,104,"2010-05-24","2010-05-01","2010-01-01","2010-05-25",1.9558,25.664000000000001,7.4420999999999999,0.86080000000000001,278.33999999999997,3.4527999999999999,0.70740000000000003,4.1150000000000002,4.1820000000000004,9.7959999999999994,1.236,null,null,null,null,null,null,null,null,null,null,null,null,null,null,"2012-10-08",1.9558,24.934428571428572,7.4578285714285704,0.8061071428571428,282.3857142857143,3.4527999999999999,0.69614285714285717,4.0854714285714291,4.5698428571428575,8.6322428571428578,1.2951428571428572]
["2010-07-28",1.9558,25.09,7.4530000000000003,0.83819999999999995,283.74,3.4527999999999999,0.70920000000000005,4.0045000000000002,4.2477999999999998,9.4614999999999991,1.3032999999999999,null,null,null,null,null,null,null,null,null,null,105,"2010-05-24","2010-05-01","2010-01-01","2010-05-26",1.9558,25.646999999999998,7.4404000000000003,0.85204999999999997,280.38,3.4527999999999999,0.70740000000000003,4.1642000000000001,4.1839000000000004,9.8275000000000006,1.2222999999999999,null,null,null,null,null,null,null,null,null,null,null,null,null,null,"2012-10-15",1.9558,24.850285714285715,7.4591285714285709,0.81036428571428576,279.03285714285715,3.4527999999999999,0.69620000000000004,4.0994571428571422,4.5773857142857137,8.6222714285714286,1.3042142857142858]
["2010-07-29",1.9558,24.984999999999999,7.452,0.83394999999999997,282.24,3.4527999999999999,0.70909999999999995,4.0069999999999997,4.2545000000000002,9.4794999999999998,1.2991999999999999,null,null,null,null,null,null,null,null,null,null,106,"2010-05-24","2010-05-01","2010-01-01","2010-05-27",1.9558,25.55,7.4402999999999997,0.85470000000000002,277.44,3.4527999999999999,0.70820000000000005,4.109,4.1711,9.6989999999999998,1.2309000000000001,null,null,null,null,null,null,null,null,null,null,null,null,null,null,"2012-10-22",1.9558,24.900571428571428,7.458971428571429,0.80807142857142844,280.74714285714288,3.4527999999999999,0.69625714285714291,4.1319000000000008,4.5715571428571433,8.6387999999999998,1.2979142857142858]
["2010-07-30",1.9558,24.763000000000002,7.4500999999999999,0.8367,283.81,3.4527999999999999,0.70930000000000004,4.0039999999999996,4.2653999999999996,9.4704999999999995,1.3069,null,null,null,null,null,null,null,null,null,null,107,"2010-05-24","2010-05-01","2010-01-01","2010-05-28",1.9558,25.629000000000001,7.4396000000000004,0.84624999999999995,276.86,3.4527999999999999,0.70789999999999997,4.0848000000000004,4.1464999999999996,9.6660000000000004,1.2255,null,null,null,null,null,null,null,null,null,null,null,null,null,null,"2012-10-29",1.9558,25.09957142857143,7.4596142857142862,0.80353571428571413,282.97285714285715,3.4527999999999999,0.69617142857142866,4.1304714285714281,4.5399571428571424,8.6201714285714282,1.2919428571428571]
["2010-07-31",1.9558,24.777000000000001,7.4509999999999996,0.83489999999999998,285.62,3.4527999999999999,0.70879999999999999,4.0084999999999997,4.2507999999999999,9.4332999999999991,1.3028,null,null,null,null,null,null,null,null,null,null,108,"2010-05-24","2010-05-01","2010-01-01","2010-05-29",1.9558,25.78,7.4410999999999996,0.84994999999999998,273.93,3.4527999999999999,0.70799999999999996,4.0614999999999997,4.1646000000000001,9.6579999999999995,1.2383999999999999,null,null,null,null,null,null,null,null,null,null,null,null,null,null,"2012-11-05",1.9558,25.340142857142862,7.4590000000000014,0.79884285714285708,283.0385714285714,3.4527999999999999,0.69620000000000004,4.1389714285714287,4.5235000000000003,8.5644000000000009,1.2756714285714286]
["2010-08-03",1.9558,24.68,7.4507000000000003,0.82599999999999996,281.64999999999998,3.4527999999999999,0.70850000000000002,3.9889999999999999,4.2447999999999997,9.3569999999999993,1.3072999999999999,null,null,null,null,null,null,null,null,null,null,108,"2010-05-24","2010-05-01","2010-01-01","2010-05-30",1.9558,25.78,7.4410999999999996,0.84994999999999998,273.93,3.4527999999999999,0.70799999999999996,4.0614999999999997,4.1646000000000001,9.6579999999999995,1.2383999999999999,null,null,null,null,null,null,null,null,null,null,null,null,null,null,"2012-11-12",1.9558,25.47728571428571,7.4580857142857147,0.80169285714285721,284.29428571428576,3.4527999999999999,0.69621428571428567,4.1687142857142856,4.5347714285714291,8.6193857142857127,1.2728142857142859]
["2010-08-04",1.9558,24.713999999999999,7.4500999999999999,0.82979999999999998,281.81,3.4527999999999999,0.70840000000000003,3.9964,4.2409999999999997,9.3650000000000002,1.3221000000000001,null,null,null,null,null,null,null,null,null,null,108,"2010-05-31","2010-05-01","2010-01-01","2010-05-31",{"$f":"IF($W155=\"\",\"\",INDEX($A:$Z,$W155,AB$3))","v":1.9558},25.78,7.4410999999999996,0.84994999999999998,273.93,3.4527999999999999,0.70799999999999996,4.0614999999999997,4.1646000000000001,9.6579999999999995,1.2383999999999999,null,null,null,null,null,null,null,null,null,null,null,null,null,null,"2012-11-19",1.9558,25.419285714285714,7.4580000000000002,0.80598571428571442,281.49571428571431,3.4527999999999999,0.69614285714285729,4.1296571428571429,4.5354285714285725,8.6202571428571417,1.2833142857142856]
["2010-08-05",1.9558,24.734999999999999,7.4512999999999998,0.82840000000000003,281.89,3.4527999999999999,0.70860000000000001,4.0035999999999996,4.2561999999999998,9.3842999999999996,1.3206,null,null,null,null,null,null,null,null,null,null,109,"2010-05-31","2010-06-01","2010-01-01","2010-06-01",1.9558,25.504999999999999,7.4394999999999998,0.84863,275.52999999999997,3.4527999999999999,0.70899999999999996,4.0791000000000004,4.1855000000000002,9.6229999999999993,1.2306999999999999,null,null,null,null,null,null,null,null,null,null,null,null,null,null,"2012-11-26",1.9558,25.278714285714283,7.4590857142857141,0.80959285714285734,280.69142857142856,3.4527999999999999,0.69625714285714291,4.1039571428571424,4.5178714285714294,8.6265285714285707,1.2955857142857143]
["2010-08-06",1.9558,24.75,7.4512999999999998,0.82930000000000004,279.68,3.4527999999999999,0.70830000000000004,3.9830999999999999,4.2538,9.3823000000000008,1.3184,null,null,null,null,null,null,null,null,null,null,110,"2010-05-31","2010-06-01","2010-01-01","2010-06-02",1.9558,25.628,7.4393000000000002,0.8347,276.62,3.4527999999999999,0.70930000000000004,4.1139999999999999,4.1867999999999999,9.6163000000000007,1.2155,null,null,null,null,null,null,null,null,null,null,null,null,null,null,"2012-12-03",1.9558,25.227142857142859,7.4596714285714301,0.81009285714285717,282.76142857142855,3.4527999999999999,0.69635714285714279,4.123157142857143,4.5336857142857143,8.6373142857142859,1.3011714285714286]
["2010-08-07",1.9558,24.754999999999999,7.4515000000000002,0.83009999999999995,278.64999999999998,3.4527999999999999,0.70830000000000004,3.9870000000000001,4.2460000000000004,9.3800000000000008,1.3176000000000001,null,null,null,null,null,null,null,null,null,null,111,"2010-05-31","2010-06-01","2010-01-01","2010-06-03",1.9558,25.779,7.4402999999999997,0.83345000000000002,275.88,3.4527999999999999,0.70899999999999996,4.1007999999999996,4.1872999999999996,9.5668000000000006,1.2218,null,null,null,null,null,null,null,null,null,null,null,null,null,null,"2012-12-10",1.9558,25.251285714285711,7.4602000000000004,0.80838571428571426,283.28000000000003,3.4527999999999999,0.69624285714285716,4.1013142857142864,4.5118000000000009,8.6848714285714284,1.3015285714285714]
["2010-08-10",1.9558,24.768000000000001,7.4508999999999999,0.83040000000000003,279.27999999999997,3.4527999999999999,0.70889999999999997,3.9813999999999998,4.2328000000000001,9.3940000000000001,1.3252999999999999,null,null,null,null,null,null,null,null,null,null,112,"2010-05-31","2010-06-01","2010-01-01","2010-06-04",1.9558,25.75,7.4413,0.8357,275.2,3.4527999999999999,0.70850000000000002,4.0705,4.1900000000000004,9.5210000000000008,1.2267999999999999,null,null,null,null,null,null,null,null,null,null,null,null,null,null,"2012-12-17",1.9558,25.216142857142859,7.4610428571428562,0.81362857142857137,286.67,3.4527999999999999,0.69629999999999992,4.0776428571428571,4.4644428571428572,8.6794571428571423,1.3197857142857143]
["2010-08-11",1.9558,24.774999999999999,7.4500999999999999,0.83520000000000005,279.05,3.4527999999999999,0.70809999999999995,3.9841000000000002,4.2365000000000004,9.4029000000000007,1.3132999999999999,null,null,null,null,null,null,null,null,null,null,113,"2010-05-31","2010-06-01","2010-01-01","2010-06-05",1.9558,26.055,7.4398,0.82745000000000002,288.8,3.4527999999999999,0.70840000000000003,4.1950000000000003,4.2134999999999998,9.5495000000000001,1.206,null,null,null,null,null,null,null,null,null,null,null,null,null,null,"2012-12-24",1.9558,25.13785714285714,7.4610000000000003,0.81721428571428578,290.11142857142858,3.4527999999999999,0.69694285714285709,4.0771285714285712,4.428585714285715,8.6059571428571431,1.3213571428571431]
["2010-08-12",1.9558,24.82,7.4504000000000001,0.82779999999999998,282.12,3.4527999999999999,0.70830000000000004,4.0054999999999996,4.2380000000000004,9.4789999999999992,1.3016000000000001,null,null,null,null,null,null,null,null,null,null,113,"2010-05-31","2010-06-01","2010-01-01","2010-06-06",1.9558,26.055,7.4398,0.82745000000000002,288.8,3.4527999999999999,0.70840000000000003,4.1950000000000003,4.2134999999999998,9.5495000000000001,1.206,null,null,null,null,null,null,null,null,null,null,null,null,null,null,"2012-12-31",1.9558,25.232857142857142,7.4600999999999997,0.81407142857142867,291.44142857142862,3.4527999999999999,0.69765714285714286,4.0890000000000004,4.4341857142857135,8.5568142857142853,1.3137000000000001]
["2010-08-13",1.9558,24.89,7.4507000000000003,0.8206,282.43,3.4527999999999999,0.70840000000000003,4.0243000000000002,4.2374999999999998,9.4779999999999998,1.2789999999999999,null,null,null,null,null,null,null,null,null,null,113,"2010-06-07","2010-06-01","2010-01-01","2010-06-07",1.9558,26.055,7.4398,0.82745000000000002,288.8,3.4527999999999999,0.70840000000000003,4.1950000000000003,4.2134999999999998,9.5495000000000001,1.206,null,null,null,null,null,null,null,null,null,null,null,null,null,null,"2013-01-07",1.9558,25.552142857142858,7.4603714285714293,0.81673571428571434,292.94142857142862,3.4527999999999999,0.69715714285714281,4.1083000000000007,4.4005428571428578,8.5762285714285706,1.3122000000000003]
["2010-08-14",1.9558,24.885000000000002,7.4504000000000001,0.82120000000000004,281.08,3.4527999999999999,0.70879999999999999,4.016,4.2302999999999997,9.5021000000000004,1.2799,null,null,null,null,null,null,null,null,null,null,114,"2010-06-07","2010-06-01","2010-01-01","2010-06-08",1.9558,25.898,7.4377000000000004,0.8246,285.7,3.4527999999999999,0.70830000000000004,4.1502999999999997,4.2359,9.6448999999999998,1.1959,null,null,null,null,null,null,null,null,null,null,null,null,null,null,"2013-01-14",1.9558,25.604999999999997,7.4624857142857133,0.83189285714285721,294.63,3.4527999999999999,0.69747142857142852,4.1260714285714286,4.3572571428571427,8.6402714285714293,1.3319285714285716]
["2010-08-17",1.9558,24.853000000000002,7.4497999999999998,0.82110000000000005,280.2,3.4527999999999999,0.70850000000000002,3.9929000000000001,4.2313000000000001,9.4943000000000008,1.282,null,null,null,null,null,null,null,null,null,null,115,"2010-06-07","2010-06-01","2010-01-01","2010-06-09",1.9558,25.92,7.4382000000000001,0.82804999999999995,282.2,3.4527999999999999,0.70750000000000002,4.133,4.2164999999999999,9.6597000000000008,1.1941999999999999,null,null,null,null,null,null,null,null,null,null,null,null,null,null,"2013-01-21",1.9558,25.611142857142855,7.4628714285714297,0.84332142857142856,294.97999999999996,3.4527999999999999,0.69809999999999994,4.1710857142857147,4.361128571428571,8.6864714285714282,1.3368714285714287]
["2010-08-18",1.9558,24.805,7.4492000000000003,0.82299999999999995,279.5,3.4527999999999999,0.70850000000000002,3.9708999999999999,4.2382999999999997,9.4329999999999998,1.286,null,null,null,null,null,null,null,null,null,null,116,"2010-06-07","2010-06-01","2010-01-01","2010-06-10",{"$f":"IF($W165=\"\",\"\",INDEX($A:$Z,$W165,AB$3))","v":1.9558},25.891999999999999,7.4387999999999996,0.82589999999999997,281.8,3.4527999999999999,0.70750000000000002,4.1124000000000001,4.2157,9.6176999999999992,1.2010000000000001,null,null,null,null,null,null,null,null,null,null,null,null,null,null,"2013-01-28",1.9558,25.643000000000004,7.4607428571428569,0.85688571428571425,295.25428571428569,3.4527999999999999,0.69938571428571439,4.1909285714285716,4.3803142857142854,8.629542857142857,1.3532142857142857]
["2010-08-19",1.9558,24.815999999999999,7.4497,0.82330000000000003,278.37,3.4527999999999999,0.70840000000000003,3.9413999999999998,4.2385000000000002,9.4452999999999996,1.288,null,null,null,null,null,null,null,null,null,null,117,"2010-06-07","2010-06-01","2010-01-01","2010-06-11",1.9558,25.965,7.4390000000000001,0.82520000000000004,282.04000000000002,3.4527999999999999,0.7077,4.1218000000000004,4.2202999999999999,9.5775000000000006,1.2044999999999999,null,null,null,null,null,null,null,null,null,null,null,null,null,null,"2013-02-04",1.9558,25.492428571428572,7.4600571428571447,0.85738571428571431,292.99285714285719,3.4527999999999999,0.69991428571428582,4.1740571428571434,4.3882142857142847,8.5944428571428571,1.3506285714285717]
["2010-08-20",1.9558,24.792999999999999,7.4505999999999997,0.82055,276.89,3.4527999999999999,0.70830000000000004,3.9283000000000001,4.226,9.4389000000000003,1.2836000000000001,null,null,null,null,null,null,null,null,null,null,118,"2010-06-07","2010-06-01","2010-01-01","2010-06-12",1.9558,25.695,7.4390999999999998,0.82930000000000004,279.60000000000002,3.4527999999999999,0.70760000000000001,4.0890000000000004,4.2192999999999996,9.5809999999999995,1.2126999999999999,null,null,null,null,null,null,null,null,null,null,null,null,null,null,"2013-02-11",1.9558,25.339428571428574,7.4604714285714291,0.85822142857142869,291.6571428571429,3.4527999999999999,0.69964285714285712,4.1740571428571425,4.3936714285714285,8.5111285714285714,1.3379999999999999]
["2010-08-21",1.9558,24.803000000000001,7.4505999999999997,0.81910000000000005,279.39999999999998,3.4527999999999999,0.70830000000000004,3.9809999999999999,4.2270000000000003,9.4761000000000006,1.2710999999999999,null,null,null,null,null,null,null,null,null,null,118,"2010-06-07","2010-06-01","2010-01-01","2010-06-13",1.9558,25.695,7.4390999999999998,0.82930000000000004,279.60000000000002,3.4527999999999999,0.70760000000000001,4.0890000000000004,4.2192999999999996,9.5809999999999995,1.2126999999999999,null,null,null,null,null,null,null,null,null,null,null,null,null,null,"2013-02-18",1.9558,25.440142857142856,7.4596571428571439,0.86385714285714277,292.00285714285712,3.4527999999999999,0.69965714285714287,4.1694000000000004,4.3811428571428568,8.4527714285714293,1.3279142857142858]
["2010-08-24",1.9558,24.805,7.4493999999999998,0.81689999999999996,280.70999999999998,3.4527999999999999,0.70850000000000002,3.9904000000000002,4.2237999999999998,9.3940000000000001,1.2704,null,null,null,null,null,null,null,null,null,null,118,"2010-06-14","2010-06-01","2010-01-01","2010-06-14",1.9558,25.695,7.4390999999999998,0.82930000000000004,279.60000000000002,3.4527999999999999,0.70760000000000001,4.0890000000000004,4.2192999999999996,9.5809999999999995,1.2126999999999999,null,null,null,null,null,null,null,null,null,null,null,null,null,null,"2013-02-25",1.9558,25.600142857142856,7.4578428571428583,0.86581428571428576,294.69,3.4527999999999999,0.70024285714285706,4.1543428571428569,4.3702428571428573,8.4293285714285719,1.3113285714285714]
["2010-08-25",1.9558,24.888000000000002,7.4486999999999997,0.81930000000000003,285.39999999999998,3.4527999999999999,0.70799999999999996,4.0220000000000002,4.2417999999999996,9.4164999999999992,1.2611000000000001,null,null,null,null,null,null,null,null,null,null,119,"2010-06-14","2010-06-01","2010-01-01","2010-06-15",1.9558,25.681000000000001,7.4375,0.83079999999999998,279,3.4527999999999999,0.70760000000000001,4.077,4.2275,9.5670000000000002,1.2249000000000001,null,null,null,null,null,null,null,null,null,null,null,null,null,null,"2013-03-04",1.9558,25.561000000000003,7.456028571428571,0.86570000000000014,297.7342857142857,3.4527999999999999,0.70075714285714275,4.1421714285714284,4.3603857142857141,8.3346,1.3038000000000001]
["2010-08-26",1.9558,24.92,7.4474999999999998,0.81850000000000001,284.35000000000002,3.4527999999999999,0.70840000000000003,4.0069999999999997,4.2404999999999999,9.4710000000000001,1.2613000000000001,null,null,null,null,null,null,null,null,null,null,120,"2010-06-14","2010-06-01","2010-01-01","2010-06-16",1.9558,25.663,7.4377000000000004,0.83199999999999996,280.10000000000002,3.4527999999999999,0.70760000000000001,4.0734000000000004,4.2358000000000002,9.6214999999999993,1.2258,null,null,null,null,null,null,null,null,null,null,null,null,null,null,"2013-03-11",1.9558,25.577714285714283,7.4575142857142867,0.86887857142857139,303.83714285714285,3.4527999999999999,0.7011571428571427,4.1463714285714284,4.3825428571428571,8.334657142857143,1.3032428571428571]
["2010-08-27",1.9558,24.858000000000001,7.4469000000000003,0.81745000000000001,283.63,3.4527999999999999,0.70850000000000002,3.9906999999999999,4.2519999999999998,9.4297000000000004,1.2693000000000001,null,null,null,null,null,null,null,null,null,null,121,"2010-06-14","2010-06-01","2010-01-01","2010-06-17",1.9558,25.741,7.4382000000000001,0.83084999999999998,281.07,3.4527999999999999,0.70730000000000004,4.0925000000000002,4.2359999999999998,9.6013999999999999,1.2277,null,null,null,null,null,null,null,null,null,null,null,null,null,null,"2013-03-18",1.9558,25.712714285714281,7.4542857142857146,0.85550000000000004,306.05285714285714,3.4527999999999999,0.70172857142857137,4.1665857142857146,4.4161142857142854,8.3685428571428577,1.2958571428571428]
["2010-08-28",1.9558,24.754999999999999,7.4481000000000002,0.8206,284.68,3.4527999999999999,0.70879999999999999,3.9885999999999999,4.2435,9.3744999999999994,1.2713000000000001,null,null,null,null,null,null,null,null,null,null,122,"2010-06-14","2010-06-01","2010-01-01","2010-06-18",1.9558,25.731000000000002,7.4386999999999999,0.83489999999999998,279.20999999999998,3.4527999999999999,0.70760000000000001,4.0755999999999997,4.2355,9.5739999999999998,1.2363,null,null,null,null,null,null,null,null,null,null,null,null,null,null,"2013-03-25",1.9558,25.770857142857146,7.4540428571428574,0.84790714285714286,305.08285714285722,3.4527999999999999,0.70178571428571423,4.1773571428571428,4.4188142857142854,8.3690428571428566,1.2846714285714285]
["2010-08-31",1.9558,24.808,7.4467999999999996,0.8165,283.49,3.4527999999999999,0.7087,3.9805999999999999,4.2343999999999999,9.3872,1.27,null,null,null,null,null,null,null,null,null,null,123,"2010-06-14","2010-06-01","2010-01-01","2010-06-19",1.9558,25.733000000000001,7.4398,0.8357,280.05,3.4527999999999999,0.70760000000000001,4.0674999999999999,4.24,9.5599000000000007,1.2372000000000001,null,null,null,null,null,null,null,null,null,null,null,null,null,null,"2013-04-01",1.9558,25.790285714285716,7.4545285714285727,0.84745000000000004,302.35571428571433,3.4527999999999999,0.70134285714285716,4.1817857142857147,4.4208571428571437,8.3643714285714292,1.2854857142857141]
["2010-09-01",1.9558,24.85,7.4447999999999999,0.82479999999999998,287.68,3.4527999999999999,0.70930000000000004,4.0134999999999996,4.2568000000000001,9.3889999999999993,1.268,null,null,null,null,null,null,null,null,null,null,123,"2010-06-14","2010-06-01","2010-01-01","2010-06-20",{"$f":"IF($W175=\"\",\"\",INDEX($A:$Z,$W175,AB$3))","v":1.9558},25.733000000000001,7.4398,0.8357,280.05,3.4527999999999999,0.70760000000000001,4.0674999999999999,4.24,9.5599000000000007,1.2372000000000001,null,null,null,null,null,null,null,null,null,null,null,null,null,null,"2013-04-08",1.9558,25.828714285714288,7.4553999999999991,0.85114285714285731,297.36142857142852,3.4527999999999999,0.70084285714285699,4.1241285714285709,4.3998142857142852,8.3511000000000006,1.3045142857142857]
["2010-09-02",1.9558,24.734999999999999,7.4446000000000003,0.83104999999999996,286.3,3.4527999999999999,0.70909999999999995,3.9895999999999998,4.2648000000000001,9.3490000000000002,1.28,null,null,null,null,null,null,null,null,null,null,123,"2010-06-21","2010-06-01","2010-01-01","2010-06-21",1.9558,25.733000000000001,7.4398,0.8357,280.05,3.4527999999999999,0.70760000000000001,4.0674999999999999,4.24,9.5599000000000007,1.2372000000000001,null,null,null,null,null,null,null,null,null,null,null,null,null,null,"2013-04-15",1.9558,25.863714285714284,7.455742857142857,0.85491428571428574,296.08571428571435,3.4527999999999999,0.70041428571428566,4.1090142857142862,4.375171428571428,8.4407857142857132,1.3095142857142859]
["2010-09-03",1.9558,24.71,7.4447000000000001,0.83274999999999999,285.02999999999997,3.4527999999999999,0.7087,3.9767000000000001,4.2698,9.3185000000000002,1.2818000000000001,null,null,null,null,null,null,null,null,null,null,124,"2010-06-21","2010-06-01","2010-01-01","2010-06-22",1.9558,25.76,7.4401999999999999,0.83409999999999995,278.02999999999997,3.4527999999999999,0.70830000000000004,4.0380000000000003,4.2314999999999996,9.5177999999999994,1.2391000000000001,null,null,null,null,null,null,null,null,null,null,null,null,null,null,"2013-04-22",1.9558,25.855999999999998,7.4554142857142853,0.84866428571428565,300.20142857142855,3.4527999999999999,0.7001142857142858,4.1348285714285709,4.3505142857142856,8.5597000000000012,1.3032285714285714]
["2010-09-04",1.9558,24.698,7.4448999999999996,0.83320000000000005,284.5,3.4527999999999999,0.70850000000000002,3.952,4.2794999999999996,9.3131000000000004,1.2834000000000001,null,null,null,null,null,null,null,null,null,null,125,"2010-06-21","2010-06-01","2010-01-01","2010-06-23",1.9558,25.788,7.4419000000000004,0.83399999999999996,280.43,3.4527999999999999,0.70840000000000003,4.0601000000000003,4.2314999999999996,9.5579999999999998,1.2258,null,null,null,null,null,null,null,null,null,null,null,null,null,null,"2013-04-29",1.9558,25.709857142857143,7.4552571428571426,0.84362857142857128,298.46857142857141,3.4527999999999999,0.69997142857142847,4.1455142857142855,4.3203857142857141,8.5434142857142863,1.3096428571428571]
["2010-09-07",1.9558,24.702999999999999,7.4459,0.83825000000000005,284.7,3.4527999999999999,0.70930000000000004,3.9333,4.2868000000000004,9.3012999999999995,1.2874000000000001,null,null,null,null,null,null,null,null,null,null,126,"2010-06-21","2010-06-01","2010-01-01","2010-06-24",1.9558,25.725000000000001,7.4438000000000004,0.82289999999999996,280.38,3.4527999999999999,0.70840000000000003,4.0662000000000003,4.2234999999999996,9.5120000000000005,1.2271000000000001,null,null,null,null,null,null,null,null,null,null,null,null,null,null,"2013-05-06",1.9558,25.764285714285709,7.4536714285714272,0.84432142857142878,294.51000000000005,3.4527999999999999,0.69998571428571421,4.1419285714285712,4.318542857142857,8.5422285714285699,1.3082999999999998]
["2010-09-08",1.9558,24.725999999999999,7.4448999999999996,0.83160000000000001,286.45,3.4527999999999999,0.70920000000000005,3.9371,4.2919,9.3185000000000002,1.2744,null,null,null,null,null,null,null,null,null,null,127,"2010-06-21","2010-06-01","2010-01-01","2010-06-25",1.9558,25.773,7.4427000000000003,0.81850000000000001,283.77999999999997,3.4527999999999999,0.70850000000000002,4.1207000000000003,4.2374999999999998,9.5740999999999996,1.2262,null,null,null,null,null,null,null,null,null,null,null,null,null,null,"2013-05-13",1.9558,25.928571428571427,7.4532999999999987,0.84542142857142877,292.27714285714285,3.4527999999999999,0.69944285714285725,4.1673857142857145,4.3327,8.5891857142857138,1.2918571428571428]
["2010-09-09",1.9558,24.718,7.4457000000000004,0.82204999999999995,288.95,3.4527999999999999,0.70899999999999996,3.9518,4.2874999999999996,9.2710000000000008,1.2697000000000001,null,null,null,null,null,null,null,null,null,null,128,"2010-06-21","2010-06-01","2010-01-01","2010-06-26",1.9558,25.795000000000002,7.4433999999999996,0.8236,285,3.4527999999999999,0.70850000000000002,4.1234999999999999,4.2859999999999996,9.5609999999999999,1.2294,null,null,null,null,null,null,null,null,null,null,null,null,null,null,"2013-05-20",1.9558,26.050999999999998,7.4533285714285711,0.85202857142857158,290.43,3.4527999999999999,0.70002857142857156,4.1894714285714283,4.351,8.5804285714285715,1.2896714285714286]
["2010-09-10",1.9558,24.683,7.4461000000000004,0.82579999999999998,285.76,3.4527999999999999,0.70879999999999999,3.9380000000000002,4.282,9.2487999999999992,1.2715000000000001,null,null,null,null,null,null,null,null,null,null,128,"2010-06-21","2010-06-01","2010-01-01","2010-06-27",1.9558,25.795000000000002,7.4433999999999996,0.8236,285,3.4527999999999999,0.70850000000000002,4.1234999999999999,4.2859999999999996,9.5609999999999999,1.2294,null,null,null,null,null,null,null,null,null,null,null,null,null,null,"2013-05-27","","","","","","","","","","",""]
["2010-09-11",1.9558,24.681000000000001,7.4451999999999998,0.82340000000000002,283.85000000000002,3.4527999999999999,0.70879999999999999,3.9338000000000002,4.274,9.2019000000000002,1.2725,null,null,null,null,null,null,null,null,null,null,128,"2010-06-28","2010-06-01","2010-01-01","2010-06-28",1.9558,25.795000000000002,7.4433999999999996,0.8236,285,3.4527999999999999,0.70850000000000002,4.1234999999999999,4.2859999999999996,9.5609999999999999,1.2294,null,null,null,null,null,null,null,null,null,null,null,null,null,null,"2013-06-03","","","","","","","","","","",""]
["2010-09-14",1.9558,24.672000000000001,7.4466000000000001,0.83120000000000005,283.76,3.4527999999999999,0.70879999999999999,3.9382999999999999,4.2607999999999997,9.1839999999999993,1.2801,null,null,null,null,null,null,null,null,null,null,129,"2010-06-28","2010-06-01","2010-01-01","2010-06-29",1.9558,25.745000000000001,7.4443000000000001,0.82,285.02,3.4527999999999999,0.70879999999999999,4.1322000000000001,4.3404999999999996,9.5584000000000007,1.2339,null,null,null,null,null,null,null,null,null,null,null,null,null,null,"2013-06-10","","","","","","","","","","",""]
["2010-09-15",1.9558,24.562999999999999,7.4461000000000004,0.83430000000000004,283.76,3.4527999999999999,0.70879999999999999,3.9439000000000002,4.2355,9.2260000000000009,1.2849999999999999,null,null,null,null,null,null,null,null,null,null,130,"2010-06-28","2010-06-01","2010-01-01","2010-06-30",{"$f":"IF($W185=\"\",\"\",INDEX($A:$Z,$W185,AB$3))","v":1.9558},25.753,7.4485999999999999,0.81040000000000001,286.76,3.4527999999999999,0.70930000000000004,4.1603000000000003,4.3738000000000001,9.5241000000000007,1.2198,null,null,null,null,null,null,null,null,null,null,null,null,null,null,"2013-06-17","","","","","","","","","","",""]
["2010-09-16",1.9558,24.614999999999998,7.4470999999999998,0.83550000000000002,281.82,3.4527999999999999,0.70899999999999996,3.9357000000000002,4.2474999999999996,9.1950000000000003,1.2988999999999999,null,null,null,null,null,null,null,null,null,null,131,"2010-06-28","2010-07-01","2010-01-01","2010-07-01",1.9558,25.690999999999999,7.4488000000000003,0.81745000000000001,286,3.4527999999999999,0.70930000000000004,4.1470000000000002,4.37,9.5259,1.2271000000000001,null,null,null,null,null,null,null,null,null,null,null,null,null,null,"2013-06-24","","","","","","","","","","",""]
["2010-09-17",1.9558,24.616,7.4462999999999999,0.83720000000000006,281.62,3.4527999999999999,0.70860000000000001,3.9403000000000001,4.2458,9.218,1.3078000000000001,null,null,null,null,null,null,null,null,null,null,132,"2010-06-28","2010-07-01","2010-01-01","2010-07-02",1.9558,25.77,7.4486999999999997,0.82215000000000005,287.45,3.4527999999999999,0.70930000000000004,4.1769999999999996,4.3441999999999998,9.6018000000000008,1.2327999999999999,null,null,null,null,null,null,null,null,null,null,null,null,null,null,"2013-07-01","","","","","","","","","","",""]
["2010-09-18",1.9558,24.68,7.4467999999999996,0.83574999999999999,282.82,3.4527999999999999,0.7087,3.9622000000000002,4.258,9.2294999999999998,1.306,null,null,null,null,null,null,null,null,null,null,133,"2010-06-28","2010-07-01","2010-01-01","2010-07-03",1.9558,25.753,7.4497,0.82520000000000004,285.7,3.4527999999999999,0.7097,4.1544999999999996,4.3013000000000003,9.5519999999999996,1.2547999999999999,null,null,null,null,null,null,null,null,null,null,null,null,null,null,"2013-07-08","","","","","","","","","","",""]
["2010-09-21",1.9558,24.675000000000001,7.4474,0.83830000000000005,281.25,3.4527999999999999,0.70909999999999995,3.9483000000000001,4.2640000000000002,9.1780000000000008,1.3073999999999999,null,null,null,null,null,null,null,null,null,null,133,"2010-06-28","2010-07-01","2010-01-01","2010-07-04",1.9558,25.753,7.4497,0.82520000000000004,285.7,3.4527999999999999,0.7097,4.1544999999999996,4.3013000000000003,9.5519999999999996,1.2547999999999999,null,null,null,null,null,null,null,null,null,null,null,null,null,null,"2013-07-15","","","","","","","","","","",""]
["2010-09-22",1.9558,24.655000000000001,7.4489000000000001,0.84545000000000003,279.88,3.4527999999999999,0.70930000000000004,3.9449999999999998,4.2667999999999999,9.1458999999999993,1.3120000000000001,null,null,null,null,null,null,null,null,null,null,133,"2010-07-05","2010-07-01","2010-01-01","2010-07-05",1.9558,25.753,7.4497,0.82520000000000004,285.7,3.4527999999999999,0.7097,4.1544999999999996,4.3013000000000003,9.5519999999999996,1.2547999999999999,null,null,null,null,null,null,null,null,null,null,null,null,null,null,"2013-07-22","","","","","","","","","","",""]
["2010-09-23",1.9558,24.577999999999999,7.4499000000000004,0.85529999999999995,279.64999999999998,3.4527999999999999,0.70950000000000002,3.9415,4.2590000000000003,9.1275999999999993,1.3364,null,null,null,null,null,null,null,null,null,null,134,"2010-07-05","2010-07-01","2010-01-01","2010-07-06",1.9558,25.585999999999999,7.4512999999999998,0.82750000000000001,286.2,3.4527999999999999,0.70930000000000004,4.1268000000000002,4.2526999999999999,9.5995000000000008,1.2531000000000001,null,null,null,null,null,null,null,null,null,null,null,null,null,null,"2013-07-29","","","","","","","","","","",""]
["2010-09-24",1.9558,24.623999999999999,7.4496000000000002,0.85050000000000003,280.85000000000002,3.4527999999999999,0.70930000000000004,3.9763999999999999,4.2670000000000003,9.2053999999999991,1.3323,null,null,null,null,null,null,null,null,null,null,135,"2010-07-05","2010-07-01","2010-01-01","2010-07-07",1.9558,25.484999999999999,7.4534000000000002,0.82950000000000002,284.85000000000002,3.4527999999999999,0.70909999999999995,4.1009000000000002,4.2361000000000004,9.625,1.2579,null,null,null,null,null,null,null,null,null,null,null,null,null,null,"2013-08-05","","","","","","","","","","",""]
["2010-09-25",1.9558,24.632999999999999,7.4504999999999999,0.85345000000000004,278.75,3.4527999999999999,0.70950000000000002,3.9763000000000002,4.2417999999999996,9.2070000000000007,1.3411999999999999,null,null,null,null,null,null,null,null,null,null,136,"2010-07-05","2010-07-01","2010-01-01","2010-07-08",1.9558,25.547999999999998,7.4531999999999998,0.83189999999999997,284.47000000000003,3.4527999999999999,0.70950000000000002,4.1219999999999999,4.2317999999999998,9.6159999999999997,1.2566999999999999,null,null,null,null,null,null,null,null,null,null,null,null,null,null,"2013-08-12","","","","","","","","","","",""]
["2010-09-28",1.9558,24.57,7.4503000000000004,0.85040000000000004,276.69,3.4527999999999999,0.70960000000000001,3.9497,4.2430000000000003,9.1709999999999994,1.3476999999999999,null,null,null,null,null,null,null,null,null,null,137,"2010-07-05","2010-07-01","2010-01-01","2010-07-09",1.9558,25.448,7.4542999999999999,0.83560000000000001,281.27,3.4527999999999999,0.70920000000000005,4.0789999999999997,4.2272999999999996,9.5473999999999997,1.266,null,null,null,null,null,null,null,null,null,null,null,null,null,null,"2013-08-19","","","","","","","","","","",""]
["2010-09-29",1.9558,24.617999999999999,7.4515000000000002,0.84984999999999999,277.95,3.4527999999999999,0.70979999999999999,3.9761000000000002,4.2685000000000004,9.2240000000000002,1.3460000000000001,null,null,null,null,null,null,null,null,null,null,138,"2010-07-05","2010-07-01","2010-01-01","2010-07-10",{"$f":"IF($W195=\"\",\"\",INDEX($A:$Z,$W195,AB$3))","v":1.9558},25.36,7.4553000000000003,0.83599999999999997,280.24,3.4527999999999999,0.70879999999999999,4.0698999999999996,4.2373000000000003,9.4766999999999992,1.2637,null,null,null,null,null,null,null,null,null,null,null,null,null,null,"2013-08-26","","","","","","","","","","",""]
["2010-09-30",1.9558,24.57,7.4516999999999998,0.86180000000000001,276.14999999999998,3.4527999999999999,0.70920000000000005,3.9742999999999999,4.2750000000000004,9.1545000000000005,1.3611,null,null,null,null,null,null,null,null,null,null,138,"2010-07-05","2010-07-01","2010-01-01","2010-07-11",1.9558,25.36,7.4553000000000003,0.83599999999999997,280.24,3.4527999999999999,0.70879999999999999,4.0698999999999996,4.2373000000000003,9.4766999999999992,1.2637,null,null,null,null,null,null,null,null,null,null,null,null,null,null,"2013-09-02","","","","","","","","","","",""]
["2010-10-01",1.9558,24.6,7.4519000000000002,0.85994999999999999,275.75,3.4527999999999999,0.70940000000000003,3.9847000000000001,4.2717999999999998,9.1420999999999992,1.3648,null,null,null,null,null,null,null,null,null,null,{"$f":"IF(AA197>MaxDate,\"\",MATCH(AA197,$A:$A,1))","v":138},"2010-07-12","2010-07-01","2010-01-01","2010-07-12",1.9558,25.36,7.4553000000000003,0.83599999999999997,280.24,3.4527999999999999,0.70879999999999999,4.0698999999999996,4.2373000000000003,9.4766999999999992,1.2637,null,null,null,null,null,null,null,null,null,null,null,null,null,null,"2013-09-09",{"$f":"IF(MaxDate>=$BA198,SUMIF($X:$X,$BA197,AB:AB)/COUNTIF($X:$X,$BA197),\"\")","v":""},{"$f":"IF(MaxDate>=$BA198,SUMIF($X:$X,$BA197,AC:AC)/COUNTIF($X:$X,$BA197),\"\")","v":""},{"$f":"IF(MaxDate>=$BA198,SUMIF($X:$X,$BA197,AD:AD)/COUNTIF($X:$X,$BA197),\"\")","v":""},{"$f":"IF(MaxDate>=$BA198,SUMIF($X:$X,$BA197,AE:AE)/COUNTIF($X:$X,$BA197),\"\")","v":""},{"$f":"IF(MaxDate>=$BA198,SUMIF($X:$X,$BA197,AF:AF)/COUNTIF($X:$X,$BA197),\"\")","v":""},{"$f":"IF(MaxDate>=$BA198,SUMIF($X:$X,$BA197,AG:AG)/COUNTIF($X:$X,$BA197),\"\")","v":""},{"$f":"IF(MaxDate>=$BA198,SUMIF($X:$X,$BA197,AH:AH)/COUNTIF($X:$X,$BA197),\"\")","v":""},{"$f":"IF(MaxDate>=$BA198,SUMIF($X:$X,$BA197,AI:AI)/COUNTIF($X:$X,$BA197),\"\")","v":""},{"$f":"IF(MaxDate>=$BA198,SUMIF($X:$X,$BA197,AJ:AJ)/COUNTIF($X:$X,$BA197),\"\")","v":""},{"$f":"IF(MaxDate>=$BA198,SUMIF($X:$X,$BA197,AK:AK)/COUNTIF($X:$X,$BA197),\"\")","v":""},{"$f":"IF(MaxDate>=$BA198,SUMIF($X:$X,$BA197,AL:AL)/COUNTIF($X:$X,$BA197),\"\")","v":""}]
["2010-10-02",1.9558,24.42,7.4523000000000001,0.86760000000000004,273.85000000000002,3.4527999999999999,0.70920000000000005,3.9369999999999998,4.2655000000000003,9.2182999999999993,1.3726,null,null,null,null,null,null,null,null,null,null,139,{"$f":"IF(W198=\"\",\"\",IF(WEEKDAY(AA198,2)=1,AA198,X197))","v":"2010-07-12"},{"$f":"IF(W198=\"\",\"\",DATE(YEAR(AA198),MONTH(AA198),1))","v":"2010-07-01"},{"$f":"IF(W198=\"\",\"\",DATE(YEAR(AA198),1,1))","v":"2010-01-01"},"2010-07-13",1.9558,25.324999999999999,7.4551999999999996,0.83630000000000004,278.91000000000003,3.4527999999999999,0.7087,4.077,4.2460000000000004,9.4559999999999995,1.2572000000000001,null,null,null,null,null,null,null,null,null,null,null,null,null,null,"2013-09-16","","","","","","","","","","",""]
["2010-10-05",1.9558,24.469000000000001,7.4541000000000004,0.86560000000000004,272.22000000000003,3.4527999999999999,0.70920000000000005,3.9483000000000001,4.2759,9.2398000000000007,1.3705000000000001,null,null,null,null,null,null,null,null,null,null,140,"2010-07-12","2010-07-01","2010-01-01",{"$f":"1+AA198","v":"2010-07-14"},1.9558,25.344000000000001,7.4554999999999998,0.83179999999999998,277.8,3.4527999999999999,0.7087,4.0747999999999998,4.2614999999999998,9.4032999999999998,1.2568999999999999,null,null,null,null,null,null,null,null,null,null,null,null,null,null,{"$f":"7+BA198","v":"2013-09-23"},"","","","","","","","","","",""]
["2010-10-06",1.9558,24.498000000000001,7.4549000000000003,0.86670000000000003,272.73,3.4527999999999999,0.70920000000000005,3.9708000000000001,4.2779999999999996,9.2626000000000008,1.3779999999999999,null,null,null,null,null,null,null,null,null,null,141,"2010-07-12","2010-07-01","2010-01-01","2010-07-15",1.9558,25.47,7.4501999999999997,0.83430000000000004,278.02,3.4527999999999999,0.7087,4.0662000000000003,4.2577999999999996,9.4117999999999995,1.2703,null,null,null,null,null,null,null,null,null,null,null,null,null,null,"2013-09-30","","","","","","","","","","",""]
["2010-10-07",1.9558,24.53,7.4546999999999999,0.87260000000000004,270.33,3.4527999999999999,0.70909999999999995,3.9489999999999998,4.2720000000000002,9.2993000000000006,1.3855999999999999,null,null,null,null,null,null,null,null,null,null,142,"2010-07-12","2010-07-01","2010-01-01","2010-07-16",1.9558,25.463999999999999,7.4503000000000004,0.83565,278.93,3.4527999999999999,0.70889999999999997,4.0608000000000004,4.2584999999999997,9.4161999999999999,1.2827999999999999,null,null,null,null,null,null,null,null,null,null,null,null,null,null,"2013-10-07","","","","","","","","","","",""]
["2010-10-08",1.9558,24.518000000000001,7.4561000000000002,0.87465000000000004,273.33,3.4527999999999999,0.70899999999999996,3.9655,4.2648000000000001,9.3208000000000002,1.397,null,null,null,null,null,null,null,null,null,null,143,"2010-07-12","2010-07-01","2010-01-01","2010-07-17",1.9558,25.428000000000001,7.4512,0.84535000000000005,280.85000000000002,3.4527999999999999,0.70909999999999995,4.0914000000000001,4.2657999999999996,9.4809999999999999,1.3,null,null,null,null,null,null,null,null,null,null,null,null,null,null,"2013-10-14","","","","","","","","","","",""]
["2010-10-09",1.9558,24.49,7.4561999999999999,0.87509999999999999,275.55,3.4527999999999999,0.70909999999999995,3.9765000000000001,4.2643000000000004,9.3170000000000002,1.3874,null,null,null,null,null,null,null,null,null,null,143,"2010-07-12","2010-07-01","2010-01-01","2010-07-18",1.9558,25.428000000000001,7.4512,0.84535000000000005,280.85000000000002,3.4527999999999999,0.70909999999999995,4.0914000000000001,4.2657999999999996,9.4809999999999999,1.3,null,null,null,null,null,null,null,null,null,null,null,null,null,null,"2013-10-21","","","","","","","","","","",""]
["2010-10-12",1.9558,24.542000000000002,7.4577,0.87460000000000004,274.02999999999997,3.4527999999999999,0.70899999999999996,3.9605000000000001,4.2667999999999999,9.2714999999999996,1.3935999999999999,null,null,null,null,null,null,null,null,null,null,143,"2010-07-19","2010-07-01","2010-01-01","2010-07-19",1.9558,25.428000000000001,7.4512,0.84535000000000005,280.85000000000002,3.4527999999999999,0.70909999999999995,4.0914000000000001,4.2657999999999996,9.4809999999999999,1.3,null,null,null,null,null,null,null,null,null,null,null,null,null,null,"2013-10-28","","","","","","","","","","",""]
["2010-10-13",1.9558,24.524000000000001,7.4569000000000001,0.87360000000000004,273.85000000000002,3.4527999999999999,0.70909999999999995,3.964,4.2743000000000002,9.2460000000000004,1.3833,null,null,null,null,null,null,null,null,null,null,144,"2010-07-19","2010-07-01","2010-01-01","2010-07-20",{"$f":"IF($W205=\"\",\"\",INDEX($A:$Z,$W205,AB$3))","v":1.9558},25.428999999999998,7.4528999999999996,0.84830000000000005,289.18,3.4527999999999999,0.70879999999999999,4.1292,4.2729999999999997,9.5312000000000001,1.2957000000000001,null,null,null,null,null,null,null,null,null,null,null,null,null,null,"2013-11-04","","","","","","","","","","",""]
["2010-10-14",1.9558,24.47,7.4565000000000001,0.88119999999999998,273.45,3.4527999999999999,0.70950000000000002,3.9544999999999999,4.2773000000000003,9.2661999999999995,1.3957999999999999,null,null,null,null,null,null,null,null,null,null,145,"2010-07-19","2010-07-01","2010-01-01","2010-07-21",1.9558,25.35,7.452,0.84745000000000004,290.57,3.4527999999999999,0.70889999999999997,4.1353999999999997,4.2770000000000001,9.5007000000000001,1.2844,null,null,null,null,null,null,null,null,null,null,null,null,null,null,"2013-11-11","","","","","","","","","","",""]
["2010-10-15",1.9558,24.44,7.4570999999999996,0.87919999999999998,273.63,3.4527999999999999,0.70950000000000002,3.9077000000000002,4.2798999999999996,9.234,1.4100999999999999,null,null,null,null,null,null,null,null,null,null,146,"2010-07-19","2010-07-01","2010-01-01","2010-07-22",1.9558,25.346,7.4519000000000002,0.83945000000000003,284.89999999999998,3.4527999999999999,0.70879999999999999,4.0986000000000002,4.2610000000000001,9.4595000000000002,1.2817000000000001,null,null,null,null,null,null,null,null,null,null,null,null,null,null,"2013-11-18","","","","","","","","","","",""]
["2010-10-16",1.9558,24.515000000000001,7.4564000000000004,0.87749999999999995,274.18,3.4527999999999999,0.7097,3.9049999999999998,4.2765000000000004,9.2230000000000008,1.4089,null,null,null,null,null,null,null,null,null,null,147,"2010-07-19","2010-07-01","2010-01-01","2010-07-23",1.9558,25.178999999999998,7.4519000000000002,0.84279999999999999,283.25,3.4527999999999999,0.70889999999999997,4.0974000000000004,4.2670000000000003,9.4495000000000005,1.2849999999999999,null,null,null,null,null,null,null,null,null,null,null,null,null,null,"2013-11-25","","","","","","","","","","",""]
["2010-10-19",1.9558,24.536000000000001,7.4574999999999996,0.87470000000000003,276.63,3.4527999999999999,0.70920000000000005,3.9226000000000001,4.2815000000000003,9.2871000000000006,1.3895999999999999,null,null,null,null,null,null,null,null,null,null,148,"2010-07-19","2010-07-01","2010-01-01","2010-07-24",1.9558,25.18,7.452,0.83720000000000006,287.17,3.4527999999999999,0.70909999999999995,4.07,4.2648000000000001,9.4410000000000007,1.2897000000000001,null,null,null,null,null,null,null,null,null,null,null,null,null,null,"2013-12-02","","","","","","","","","","",""]
["2010-10-20",1.9558,24.52,7.4573999999999998,0.88060000000000005,276.89,3.4527999999999999,0.70989999999999998,3.9363000000000001,4.298,9.3350000000000009,1.3858999999999999,null,null,null,null,null,null,null,null,null,null,148,"2010-07-19","2010-07-01","2010-01-01","2010-07-25",1.9558,25.18,7.452,0.83720000000000006,287.17,3.4527999999999999,0.70909999999999995,4.07,4.2648000000000001,9.4410000000000007,1.2897000000000001,null,null,null,null,null,null,null,null,null,null,null,null,null,null,"2013-12-09","","","","","","","","","","",""]
["2010-10-21",1.9558,24.503,7.4581,0.88200000000000001,275.58,3.4527999999999999,0.70950000000000002,3.9592999999999998,4.3068,9.3115000000000006,1.3861000000000001,null,null,null,null,null,null,null,null,null,null,148,"2010-07-26","2010-07-01","2010-01-01","2010-07-26",1.9558,25.18,7.452,0.83720000000000006,287.17,3.4527999999999999,0.70909999999999995,4.07,4.2648000000000001,9.4410000000000007,1.2897000000000001,null,null,null,null,null,null,null,null,null,null,null,null,null,null,"2013-12-16","","","","","","","","","","",""]
["2010-10-22",1.9558,24.54,7.4584000000000001,0.89019999999999999,274.5,3.4527999999999999,0.70979999999999999,3.9516,4.3151999999999999,9.2675000000000001,1.4016,null,null,null,null,null,null,null,null,null,null,149,"2010-07-26","2010-07-01","2010-01-01","2010-07-27",1.9558,25.125,7.4526000000000003,0.83425000000000005,287.37,3.4527999999999999,0.70879999999999999,4.0353000000000003,4.2563000000000004,9.4862000000000002,1.2930999999999999,null,null,null,null,null,null,null,null,null,null,null,null,null,null,"2013-12-23","","","","","","","","","","",""]
["2010-10-23",1.9558,24.626000000000001,7.4577,0.88729999999999998,275.35000000000002,3.4527999999999999,0.7097,3.9701,4.3013000000000003,9.2565000000000008,1.3934,null,null,null,null,null,null,null,null,null,null,150,"2010-07-26","2010-07-01","2010-01-01","2010-07-28",1.9558,25.09,7.4530000000000003,0.83819999999999995,283.74,3.4527999999999999,0.70920000000000005,4.0045000000000002,4.2477999999999998,9.4614999999999991,1.3032999999999999,null,null,null,null,null,null,null,null,null,null,null,null,null,null,"2013-12-30","","","","","","","","","","",""]
["2010-10-26",1.9558,24.51,7.4579000000000004,0.89254999999999995,273.52999999999997,3.4527999999999999,0.70950000000000002,3.9316,4.2679999999999998,9.1989999999999998,1.4031,null,null,null,null,null,null,null,null,null,null,151,"2010-07-26","2010-07-01","2010-01-01","2010-07-29",1.9558,24.984999999999999,7.452,0.83394999999999997,282.24,3.4527999999999999,0.70909999999999995,4.0069999999999997,4.2545000000000002,9.4794999999999998,1.2991999999999999,null,null,null,null,null,null,null,null,null,null,null,null,null,null,"2014-01-06"]
["2010-10-27",1.9558,24.617999999999999,7.4577,0.87685000000000002,274.60000000000002,3.4527999999999999,0.7097,3.9352,4.2750000000000004,9.3027999999999995,1.3912,null,null,null,null,null,null,null,null,null,null,152,"2010-07-26","2010-07-01","2010-01-01","2010-07-30",{"$f":"IF($W215=\"\",\"\",INDEX($A:$Z,$W215,AB$3))","v":1.9558},24.763000000000002,7.4500999999999999,0.8367,283.81,3.4527999999999999,0.70930000000000004,4.0039999999999996,4.2653999999999996,9.4704999999999995,1.3069]
["2010-10-28",1.9558,24.663,7.4584999999999999,0.87234999999999996,275.04000000000002,3.4527999999999999,0.70930000000000004,3.9500999999999999,4.2762000000000002,9.3316999999999997,1.3803000000000001,null,null,null,null,null,null,null,null,null,null,153,"2010-07-26","2010-07-01","2010-01-01","2010-07-31",1.9558,24.777000000000001,7.4509999999999996,0.83489999999999998,285.62,3.4527999999999999,0.70879999999999999,4.0084999999999997,4.2507999999999999,9.4332999999999991,1.3028]
["2010-10-29",1.9558,24.63,7.4584000000000001,0.87039999999999995,273.25,3.4527999999999999,0.70979999999999999,3.9645999999999999,4.2698,9.3163999999999998,1.3856999999999999,null,null,null,null,null,null,null,null,null,null,153,"2010-07-26","2010-08-01","2010-01-01","2010-08-01",1.9558,24.777000000000001,7.4509999999999996,0.83489999999999998,285.62,3.4527999999999999,0.70879999999999999,4.0084999999999997,4.2507999999999999,9.4332999999999991,1.3028]
["2010-10-30",1.9558,24.597999999999999,7.4561999999999999,0.86860000000000004,271.76,3.4527999999999999,0.7097,3.9820000000000002,4.2663000000000002,9.3610000000000007,1.3856999999999999,null,null,null,null,null,null,null,null,null,null,153,"2010-08-02","2010-08-01","2010-01-01","2010-08-02",1.9558,24.777000000000001,7.4509999999999996,0.83489999999999998,285.62,3.4527999999999999,0.70879999999999999,4.0084999999999997,4.2507999999999999,9.4332999999999991,1.3028]
["2010-11-02",1.9558,24.533000000000001,7.4569000000000001,0.86675000000000002,270.75,3.4527999999999999,0.7097,3.9701,4.2824999999999998,9.2765000000000004,1.3926000000000001,null,null,null,null,null,null,null,null,null,null,154,"2010-08-02","2010-08-01","2010-01-01","2010-08-03",1.9558,24.68,7.4507000000000003,0.82599999999999996,281.64999999999998,3.4527999999999999,0.70850000000000002,3.9889999999999999,4.2447999999999997,9.3569999999999993,1.3072999999999999]
["2010-11-03",1.9558,24.5,7.4564000000000004,0.87490000000000001,270.75,3.4527999999999999,0.7097,3.9548000000000001,4.2880000000000003,9.3230000000000004,1.4017999999999999,null,null,null,null,null,null,null,null,null,null,155,"2010-08-02","2010-08-01","2010-01-01","2010-08-04",1.9558,24.713999999999999,7.4500999999999999,0.82979999999999998,281.81,3.4527999999999999,0.70840000000000003,3.9964,4.2409999999999997,9.3650000000000002,1.3221000000000001]
["2010-11-04",1.9558,24.497,7.4553000000000003,0.87029999999999996,272,3.4527999999999999,0.7097,3.9327000000000001,4.2977999999999996,9.3239999999999998,1.4014,null,null,null,null,null,null,null,null,null,null,156,"2010-08-02","2010-08-01","2010-01-01","2010-08-05",1.9558,24.734999999999999,7.4512999999999998,0.82840000000000003,281.89,3.4527999999999999,0.70860000000000001,4.0035999999999996,4.2561999999999998,9.3842999999999996,1.3206]
["2010-11-05",1.9558,24.408000000000001,7.4546999999999999,0.87585000000000002,272.39999999999998,3.4527999999999999,0.7097,3.8957999999999999,4.2847999999999997,9.2550000000000008,1.4244000000000001,null,null,null,null,null,null,null,null,null,null,157,"2010-08-02","2010-08-01","2010-01-01","2010-08-06",1.9558,24.75,7.4512999999999998,0.82930000000000004,279.68,3.4527999999999999,0.70830000000000004,3.9830999999999999,4.2538,9.3823000000000008,1.3184]
["2010-11-06",1.9558,24.585000000000001,7.4535999999999998,0.8679,273.70999999999998,3.4527999999999999,0.7097,3.915,4.2910000000000004,9.2910000000000004,1.4084000000000001,null,null,null,null,null,null,null,null,null,null,158,"2010-08-02","2010-08-01","2010-01-01","2010-08-07",1.9558,24.754999999999999,7.4515000000000002,0.83009999999999995,278.64999999999998,3.4527999999999999,0.70830000000000004,3.9870000000000001,4.2460000000000004,9.3800000000000008,1.3176000000000001]
["2010-11-09",1.9558,24.574999999999999,7.4535,0.86270000000000002,274.60000000000002,3.4527999999999999,0.70930000000000004,3.9192999999999998,4.2874999999999996,9.2940000000000005,1.3916999999999999,null,null,null,null,null,null,null,null,null,null,158,"2010-08-02","2010-08-01","2010-01-01","2010-08-08",1.9558,24.754999999999999,7.4515000000000002,0.83009999999999995,278.64999999999998,3.4527999999999999,0.70830000000000004,3.9870000000000001,4.2460000000000004,9.3800000000000008,1.3176000000000001]
["2010-11-10",1.9558,24.582999999999998,7.4543999999999997,0.86234999999999995,274.14999999999998,3.4527999999999999,0.70920000000000005,3.9218999999999999,4.2850000000000001,9.3082999999999991,1.3945000000000001,null,null,null,null,null,null,null,null,null,null,158,"2010-08-09","2010-08-01","2010-01-01","2010-08-09",{"$f":"IF($W225=\"\",\"\",INDEX($A:$Z,$W225,AB$3))","v":1.9558},24.754999999999999,7.4515000000000002,0.83009999999999995,278.64999999999998,3.4527999999999999,0.70830000000000004,3.9870000000000001,4.2460000000000004,9.3800000000000008,1.3176000000000001]
["2010-11-11",1.9558,24.617999999999999,7.4534000000000002,0.85685,273.39999999999998,3.4527999999999999,0.70930000000000004,3.8843000000000001,4.2777000000000003,9.2974999999999994,1.377,null,null,null,null,null,null,null,null,null,null,159,"2010-08-09","2010-08-01","2010-01-01","2010-08-10",1.9558,24.768000000000001,7.4508999999999999,0.83040000000000003,279.27999999999997,3.4527999999999999,0.70889999999999997,3.9813999999999998,4.2328000000000001,9.3940000000000001,1.3252999999999999]
["2010-11-12",1.9558,24.634,7.4538000000000002,0.84909999999999997,276.54000000000002,3.4527999999999999,0.70930000000000004,3.9329000000000001,4.2865000000000002,9.3102,1.37,null,null,null,null,null,null,null,null,null,null,160,"2010-08-09","2010-08-01","2010-01-01","2010-08-11",1.9558,24.774999999999999,7.4500999999999999,0.83520000000000005,279.05,3.4527999999999999,0.70809999999999995,3.9841000000000002,4.2365000000000004,9.4029000000000007,1.3132999999999999]
["2010-11-13",1.9558,24.63,7.4542000000000002,0.85070000000000001,276.01,3.4527999999999999,0.70920000000000005,3.9289000000000001,4.2949999999999999,9.3582000000000001,1.3711,null,null,null,null,null,null,null,null,null,null,161,"2010-08-09","2010-08-01","2010-01-01","2010-08-12",1.9558,24.82,7.4504000000000001,0.82779999999999998,282.12,3.4527999999999999,0.70830000000000004,4.0054999999999996,4.2380000000000004,9.4789999999999992,1.3016000000000001]
["2010-11-16",1.9558,24.626999999999999,7.4541000000000004,0.84789999999999999,276.48,3.4527999999999999,0.70920000000000005,3.93,4.2939999999999996,9.3689999999999998,1.3626,null,null,null,null,null,null,null,null,null,null,162,"2010-08-09","2010-08-01","2010-01-01","2010-08-13",1.9558,24.89,7.4507000000000003,0.8206,282.43,3.4527999999999999,0.70840000000000003,4.0243000000000002,4.2374999999999998,9.4779999999999998,1.2789999999999999]
["2010-11-17",1.9558,24.606999999999999,7.4546999999999999,0.85099999999999998,276.95,3.4527999999999999,0.70920000000000005,3.9371999999999998,4.2925000000000004,9.3752999999999993,1.3612,null,null,null,null,null,null,null,null,null,null,163,"2010-08-09","2010-08-01","2010-01-01","2010-08-14",1.9558,24.885000000000002,7.4504000000000001,0.82120000000000004,281.08,3.4527999999999999,0.70879999999999999,4.016,4.2302999999999997,9.5021000000000004,1.2799]
["2010-11-18",1.9558,24.594999999999999,7.4550000000000001,0.84894999999999998,278.11,3.4527999999999999,0.70950000000000002,3.964,4.2965,9.3979999999999997,1.3481000000000001,null,null,null,null,null,null,null,null,null,null,163,"2010-08-09","2010-08-01","2010-01-01","2010-08-15",1.9558,24.885000000000002,7.4504000000000001,0.82120000000000004,281.08,3.4527999999999999,0.70879999999999999,4.016,4.2302999999999997,9.5021000000000004,1.2799]
["2010-11-19",1.9558,24.648,7.4549000000000003,0.85219999999999996,275.08999999999997,3.4527999999999999,0.70930000000000004,3.9375,4.298,9.3573000000000004,1.3647,null,null,null,null,null,null,null,null,null,null,163,"2010-08-16","2010-08-01","2010-01-01","2010-08-16",1.9558,24.885000000000002,7.4504000000000001,0.82120000000000004,281.08,3.4527999999999999,0.70879999999999999,4.016,4.2302999999999997,9.5021000000000004,1.2799]
["2010-11-20",1.9558,24.719000000000001,7.4554,0.85519999999999996,274.25,3.4527999999999999,0.70930000000000004,3.9344999999999999,4.298,9.3945000000000007,1.3673999999999999,null,null,null,null,null,null,null,null,null,null,164,"2010-08-16","2010-08-01","2010-01-01","2010-08-17",1.9558,24.853000000000002,7.4497999999999998,0.82110000000000005,280.2,3.4527999999999999,0.70850000000000002,3.9929000000000001,4.2313000000000001,9.4943000000000008,1.282]
["2010-11-23",1.9558,24.684999999999999,7.4561000000000002,0.85489999999999999,273.11,3.4527999999999999,0.70930000000000004,3.9340000000000002,4.2972999999999999,9.3855000000000004,1.3647,null,null,null,null,null,null,null,null,null,null,165,"2010-08-16","2010-08-01","2010-01-01","2010-08-18",1.9558,24.805,7.4492000000000003,0.82299999999999995,279.5,3.4527999999999999,0.70850000000000002,3.9708999999999999,4.2382999999999997,9.4329999999999998,1.286]
["2010-11-24",1.9558,24.68,7.4553000000000003,0.84794999999999998,275.3,3.4527999999999999,0.70960000000000001,3.9542999999999999,4.3113000000000001,9.3864999999999998,1.3495999999999999,null,null,null,null,null,null,null,null,null,null,166,"2010-08-16","2010-08-01","2010-01-01","2010-08-19",{"$f":"IF($W235=\"\",\"\",INDEX($A:$Z,$W235,AB$3))","v":1.9558},24.815999999999999,7.4497,0.82330000000000003,278.37,3.4527999999999999,0.70840000000000003,3.9413999999999998,4.2385000000000002,9.4452999999999996,1.288]
["2010-11-25",1.9558,24.687999999999999,7.4547999999999996,0.84379999999999999,275.58,3.4527999999999999,0.70940000000000003,3.9742999999999999,4.306,9.2922999999999991,1.3339000000000001,null,null,null,null,null,null,null,null,null,null,167,"2010-08-16","2010-08-01","2010-01-01","2010-08-20",1.9558,24.792999999999999,7.4505999999999997,0.82055,276.89,3.4527999999999999,0.70830000000000004,3.9283000000000001,4.226,9.4389000000000003,1.2836000000000001]
["2010-11-26",1.9558,24.72,7.4558,0.84645000000000004,277.35000000000002,3.4527999999999999,0.70930000000000004,3.9788999999999999,4.2995000000000001,9.2705000000000002,1.3321000000000001,null,null,null,null,null,null,null,null,null,null,168,"2010-08-16","2010-08-01","2010-01-01","2010-08-21",1.9558,24.803000000000001,7.4505999999999997,0.81910000000000005,279.39999999999998,3.4527999999999999,0.70830000000000004,3.9809999999999999,4.2270000000000003,9.4761000000000006,1.2710999999999999]
["2010-11-27",1.9558,24.725000000000001,7.4539999999999997,0.84470000000000001,279.89999999999998,3.4527999999999999,0.70960000000000001,4.0274999999999999,4.3125,9.3070000000000004,1.3225,null,null,null,null,null,null,null,null,null,null,168,"2010-08-16","2010-08-01","2010-01-01","2010-08-22",1.9558,24.803000000000001,7.4505999999999997,0.81910000000000005,279.39999999999998,3.4527999999999999,0.70830000000000004,3.9809999999999999,4.2270000000000003,9.4761000000000006,1.2710999999999999]
["2010-11-30",1.9558,24.757999999999999,7.4542999999999999,0.84399999999999997,280.58,3.4527999999999999,0.70960000000000001,4.0476000000000001,4.2942999999999998,9.2204999999999995,1.3146,null,null,null,null,null,null,null,null,null,null,168,"2010-08-23","2010-08-01","2010-01-01","2010-08-23",1.9558,24.803000000000001,7.4505999999999997,0.81910000000000005,279.39999999999998,3.4527999999999999,0.70830000000000004,3.9809999999999999,4.2270000000000003,9.4761000000000006,1.2710999999999999]
["2010-12-01",1.9558,24.914999999999999,7.4528999999999996,0.83765000000000001,284.18,3.4527999999999999,0.70930000000000004,4.0692000000000004,4.2925000000000004,9.1715,1.2998000000000001,null,null,null,null,null,null,null,null,null,null,169,"2010-08-23","2010-08-01","2010-01-01","2010-08-24",1.9558,24.805,7.4493999999999998,0.81689999999999996,280.70999999999998,3.4527999999999999,0.70850000000000002,3.9904000000000002,4.2237999999999998,9.3940000000000001,1.2704]
["2010-12-02",1.9558,24.960999999999999,7.4527999999999999,0.83930000000000005,280.45,3.4527999999999999,0.7097,4.0202,4.2972999999999999,9.1539999999999999,1.3115000000000001,null,null,null,null,null,null,null,null,null,null,170,"2010-08-23","2010-08-01","2010-01-01","2010-08-25",1.9558,24.888000000000002,7.4486999999999997,0.81930000000000003,285.39999999999998,3.4527999999999999,0.70799999999999996,4.0220000000000002,4.2417999999999996,9.4164999999999992,1.2611000000000001]
["2010-12-03",1.9558,25.01,7.4520999999999997,0.84450000000000003,278.75,3.4527999999999999,0.7097,4.0054999999999996,4.3036000000000003,9.1531000000000002,1.3154999999999999,null,null,null,null,null,null,null,null,null,null,171,"2010-08-23","2010-08-01","2010-01-01","2010-08-26",1.9558,24.92,7.4474999999999998,0.81850000000000001,284.35000000000002,3.4527999999999999,0.70840000000000003,4.0069999999999997,4.2404999999999999,9.4710000000000001,1.2613000000000001]
["2010-12-04",1.9558,25.018000000000001,7.4528999999999996,0.84799999999999998,278.02999999999997,3.4527999999999999,0.7097,3.9952000000000001,4.3072999999999997,9.1265000000000001,1.3246,null,null,null,null,null,null,null,null,null,null,172,"2010-08-23","2010-08-01","2010-01-01","2010-08-27",1.9558,24.858000000000001,7.4469000000000003,0.81745000000000001,283.63,3.4527999999999999,0.70850000000000002,3.9906999999999999,4.2519999999999998,9.4297000000000004,1.2693000000000001]
["2010-12-07",1.9558,25.042999999999999,7.4524999999999997,0.84719999999999995,280.14999999999998,3.4527999999999999,0.70979999999999999,4.0190000000000001,4.306,9.1114999999999995,1.3280000000000001,null,null,null,null,null,null,null,null,null,null,173,"2010-08-23","2010-08-01","2010-01-01","2010-08-28",1.9558,24.754999999999999,7.4481000000000002,0.8206,284.68,3.4527999999999999,0.70879999999999999,3.9885999999999999,4.2435,9.3744999999999994,1.2713000000000001]
["2010-12-08",1.9558,25.068999999999999,7.4527000000000001,0.84670000000000001,278,3.4527999999999999,0.70979999999999999,4.0117000000000003,4.3005000000000004,9.0980000000000008,1.3363,null,null,null,null,null,null,null,null,null,null,173,"2010-08-23","2010-08-01","2010-01-01","2010-08-29",{"$f":"IF($W245=\"\",\"\",INDEX($A:$Z,$W245,AB$3))","v":1.9558},24.754999999999999,7.4481000000000002,0.8206,284.68,3.4527999999999999,0.70879999999999999,3.9885999999999999,4.2435,9.3744999999999994,1.2713000000000001]
["2010-12-09",1.9558,25.09,7.4545000000000003,0.8367,278.85000000000002,3.4527999999999999,0.7097,4.0632999999999999,4.3005000000000004,9.1484000000000005,1.32,null,null,null,null,null,null,null,null,null,null,173,"2010-08-30","2010-08-01","2010-01-01","2010-08-30",1.9558,24.754999999999999,7.4481000000000002,0.8206,284.68,3.4527999999999999,0.70879999999999999,3.9885999999999999,4.2435,9.3744999999999994,1.2713000000000001]
["2010-12-10",1.9558,25.073,7.4554999999999998,0.83819999999999995,277.39,3.4527999999999999,0.7097,4.0305,4.3007,9.1310000000000002,1.3213999999999999,null,null,null,null,null,null,null,null,null,null,174,"2010-08-30","2010-08-01","2010-01-01","2010-08-31",1.9558,24.808,7.4467999999999996,0.8165,283.49,3.4527999999999999,0.7087,3.9805999999999999,4.2343999999999999,9.3872,1.27]
["2010-12-11",1.9558,25.172999999999998,7.4547999999999996,0.83714999999999995,278.2,3.4527999999999999,0.7097,4.0296000000000003,4.2949999999999999,9.1076999999999995,1.3244,null,null,null,null,null,null,null,null,null,null,175,"2010-08-30","2010-09-01","2010-01-01","2010-09-01",1.9558,24.85,7.4447999999999999,0.82479999999999998,287.68,3.4527999999999999,0.70930000000000004,4.0134999999999996,4.2568000000000001,9.3889999999999993,1.268]
["2010-12-14",1.9558,25.167999999999999,7.4545000000000003,0.84375,278.33999999999997,3.4527999999999999,0.70950000000000002,4.0156000000000001,4.2925000000000004,9.1463999999999999,1.3267,null,null,null,null,null,null,null,null,null,null,176,"2010-08-30","2010-09-01","2010-01-01","2010-09-02",1.9558,24.734999999999999,7.4446000000000003,0.83104999999999996,286.3,3.4527999999999999,0.70909999999999995,3.9895999999999998,4.2648000000000001,9.3490000000000002,1.28]
["2010-12-15",1.9558,25.161999999999999,7.4535999999999998,0.84865000000000002,277.33,3.4527999999999999,0.7097,3.99,4.2915000000000001,9.1283999999999992,1.3434999999999999,null,null,null,null,null,null,null,null,null,null,177,"2010-08-30","2010-09-01","2010-01-01","2010-09-03",1.9558,24.71,7.4447000000000001,0.83274999999999999,285.02999999999997,3.4527999999999999,0.7087,3.9767000000000001,4.2698,9.3185000000000002,1.2818000000000001]
["2010-12-17",1.9558,25.155000000000001,7.4503000000000004,0.84794999999999998,273.7,3.4527999999999999,0.70979999999999999,3.9790000000000001,4.2930000000000001,9.0381,1.3238000000000001,null,null,null,null,null,null,null,null,null,null,178,"2010-08-30","2010-09-01","2010-01-01","2010-09-05",1.9558,24.698,7.4448999999999996,0.83320000000000005,284.5,3.4527999999999999,0.70850000000000002,3.952,4.2794999999999996,9.3131000000000004,1.2834000000000001]
["2010-12-23",1.9558,25.28,7.4520999999999997,0.84919999999999995,276.2,3.4527999999999999,0.70979999999999999,3.9927999999999999,4.2853000000000003,8.9811999999999994,1.3111999999999999,null,null,null,null,null,null,null,null,null,null,181,"2010-09-06","2010-09-01","2010-01-01","2010-09-09",1.9558,24.718,7.4457000000000004,0.82204999999999995,288.95,3.4527999999999999,0.70899999999999996,3.9518,4.2874999999999996,9.2710000000000008,1.2697000000000001]
["2011-01-01",1.9558,25.061,7.4535,0.86075000000000002,277.95,3.4527999999999999,0.70940000000000003,3.9750000000000001,4.2619999999999996,8.9655000000000005,1.3362000000000001,null,null,null,null,null,null,null,null,null,null,186,"2010-09-13","2010-09-01","2010-01-01",{"$f":"1+AA262","v":"2010-09-16"},1.9558,24.614999999999998,7.4470999999999998,0.83550000000000002,281.82,3.4527999999999999,0.70899999999999996,3.9357000000000002,4.2474999999999996,9.1950000000000003,1.2988999999999999]
["2011-01-06",1.9558,24.875,7.4527000000000001,0.84830000000000005,277.05,3.4527999999999999,0.70630000000000004,3.8973,4.2699999999999996,8.9295000000000009,1.3212999999999999,null,null,null,null,null,null,null,null,null,null,188,"2010-09-13","2010-09-01","2010-01-01","2010-09-19",1.9558,24.68,7.4467999999999996,0.83574999999999999,282.82,3.4527999999999999,0.7087,3.9622000000000002,4.258,9.2294999999999998,1.306]
["2011-01-13",1.9558,24.39,7.4496000000000002,0.83155000000000001,275.57,3.4527999999999999,0.70089999999999997,3.8424999999999998,4.2525000000000004,8.8435000000000006,1.2972999999999999,null,null,null,null,null,null,null,null,null,null,192,"2010-09-20","2010-09-01","2010-01-01","2010-09-24",1.9558,24.623999999999999,7.4496000000000002,0.85050000000000003,280.85000000000002,3.4527999999999999,0.70930000000000004,3.9763999999999999,4.2670000000000003,9.2053999999999991,1.3323]
["2011-01-20",1.9558,24.257999999999999,7.4512999999999998,0.84330000000000005,272.39999999999998,3.4527999999999999,0.70289999999999997,3.8658000000000001,4.2595000000000001,8.9324999999999992,1.3506,null,null,null,null,null,null,null,null,null,null,195,"2010-09-27","2010-09-01","2010-01-01","2010-09-29",1.9558,24.617999999999999,7.4515000000000002,0.84984999999999999,277.95,3.4527999999999999,0.70979999999999999,3.9761000000000002,4.2685000000000004,9.2240000000000002,1.3460000000000001]
["2011-01-27",1.9558,24.219000000000001,7.4523000000000001,0.86324999999999996,274.23,3.4527999999999999,0.70399999999999996,3.8730000000000002,4.2699999999999996,8.8584999999999994,1.3681000000000001,null,null,null,null,null,null,null,null,null,null,198,"2010-10-04","2010-10-01","2010-01-01","2010-10-04",1.9558,24.42,7.4523000000000001,0.86760000000000004,273.85000000000002,3.4527999999999999,0.70920000000000005,3.9369999999999998,4.2655000000000003,9.2182999999999993,1.3726]
["2011-01-29",1.9558,24.248000000000001,7.4539999999999997,0.8609,271.7,3.4527999999999999,0.70489999999999997,3.9161000000000001,4.2573999999999996,8.8529999999999998,1.371,null,null,null,null,null,null,null,null,null,null,200,"2010-10-04","2010-10-01","2010-01-01","2010-10-06",1.9558,24.498000000000001,7.4549000000000003,0.86670000000000003,272.73,3.4527999999999999,0.70920000000000005,3.9708000000000001,4.2779999999999996,9.2626000000000008,1.3779999999999999]
["2011-02-10",1.9558,24.212,7.4560000000000004,0.85,271.61,3.4527999999999999,0.70350000000000001,3.8942999999999999,4.2565,8.7885000000000009,1.3647,null,null,null,null,null,null,null,null,null,null,206,"2010-10-11","2010-10-01","2010-01-01","2010-10-14",1.9558,24.47,7.4565000000000001,0.88119999999999998,273.45,3.4527999999999999,0.70950000000000002,3.9544999999999999,4.2773000000000003,9.2661999999999995,1.3957999999999999]
["2011-02-17",1.9558,24.324999999999999,7.4562999999999997,0.84189999999999998,270.77,3.4527999999999999,0.70530000000000004,3.9093,4.2492000000000001,8.7324999999999999,1.351,null,null,null,null,null,null,null,null,null,null,209,"2010-10-18","2010-10-01","2010-01-01","2010-10-19",1.9558,24.536000000000001,7.4574999999999996,0.87470000000000003,276.63,3.4527999999999999,0.70920000000000005,3.9226000000000001,4.2815000000000003,9.2871000000000006,1.3895999999999999]
["2011-02-23",1.9558,24.495000000000001,7.4554,0.84584000000000004,272.73,3.4527999999999999,0.70450000000000002,3.9655,4.2290000000000001,8.7870000000000008,1.3667,null,null,null,null,null,null,null,null,null,null,213,"2010-10-18","2010-10-01","2010-01-01","2010-10-23",1.9558,24.626000000000001,7.4577,0.88729999999999998,275.35000000000002,3.4527999999999999,0.7097,3.9701,4.3013000000000003,9.2565000000000008,1.3934]
["2011-02-24",1.9558,24.527000000000001,7.4550999999999998,0.84589999999999999,272.64999999999998,3.4527999999999999,0.70450000000000002,3.9582999999999999,4.2252999999999998,8.7934999999999999,1.3731,null,null,null,null,null,null,null,null,null,null,213,"2010-10-18","2010-10-01","2010-01-01","2010-10-24",1.9558,24.626000000000001,7.4577,0.88729999999999998,275.35000000000002,3.4527999999999999,0.7097,3.9701,4.3013000000000003,9.2565000000000008,1.3934]
["2011-03-04",1.9558,24.207999999999998,7.4564000000000004,0.85129999999999995,270.89999999999998,3.4527999999999999,0.70450000000000002,3.9826000000000001,4.2045000000000003,8.7576000000000001,1.385,null,null,null,null,null,null,null,null,null,null,218,"2010-10-25","2010-10-01","2010-01-01","2010-10-30",1.9558,24.597999999999999,7.4561999999999999,0.86860000000000004,271.76,3.4527999999999999,0.7097,3.9820000000000002,4.2663000000000002,9.3610000000000007,1.3856999999999999]
["2011-03-09",1.9558,24.233000000000001,7.4576000000000002,0.86050000000000004,272.62,3.4527999999999999,0.70589999999999997,3.9847999999999999,4.1894999999999998,8.8469999999999995,1.3897999999999999,null,null,null,null,null,null,null,null,null,null,219,"2010-11-01","2010-11-01","2010-01-01","2010-11-02",1.9558,24.533000000000001,7.4569000000000001,0.86675000000000002,270.75,3.4527999999999999,0.7097,3.9701,4.2824999999999998,9.2765000000000004,1.3926000000000001]
["2011-03-17",1.9558,24.367999999999999,7.4585999999999997,0.86729999999999996,273.39999999999998,3.4527999999999999,0.70599999999999996,4.0625,4.1787999999999998,8.9730000000000008,1.3951,null,null,null,null,null,null,null,null,null,null,223,"2010-11-08","2010-11-01","2010-01-01","2010-11-08",1.9558,24.585000000000001,7.4535999999999998,0.8679,273.70999999999998,3.4527999999999999,0.7097,3.915,4.2910000000000004,9.2910000000000004,1.4084000000000001]
["2011-03-23",1.9558,24.45,7.4572000000000003,0.86780000000000002,270.43,3.4527999999999999,0.70889999999999997,4.0338000000000003,4.1288,8.9320000000000004,1.4211,null,null,null,null,null,null,null,null,null,null,227,"2010-11-08","2010-11-01","2010-01-01","2010-11-12",1.9558,24.634,7.4538000000000002,0.84909999999999997,276.54000000000002,3.4527999999999999,0.70930000000000004,3.9329000000000001,4.2865000000000002,9.3102,1.37]
["2011-03-31",1.9558,24.527999999999999,7.4573,0.87890000000000001,267.10000000000002,3.4527999999999999,0.70930000000000004,3.988,4.1035000000000004,8.9184999999999999,1.409,null,null,null,null,null,null,null,null,null,null,231,{"$f":"IF(W326=\"\",\"\",IF(WEEKDAY(AA326,2)=1,AA326,X325))","v":"2010-11-15"},{"$f":"IF(W326=\"\",\"\",DATE(YEAR(AA326),MONTH(AA326),1))","v":"2010-11-01"},{"$f":"IF(W326=\"\",\"\",DATE(YEAR(AA326),1,1))","v":"2010-01-01"},"2010-11-18",1.9558,24.594999999999999,7.4550000000000001,0.84894999999999998,278.11,3.4527999999999999,0.70950000000000002,3.964,4.2965,9.3979999999999997,1.3481000000000001]
["2011-04-07",1.9558,24.425999999999998,7.4569000000000001,0.87749999999999995,263.24,3.4527999999999999,0.70899999999999996,3.9857999999999998,4.1005000000000003,9.0123999999999995,1.43,null,null,null,null,null,null,null,null,null,null,234,"2010-11-22","2010-11-01","2010-01-01","2010-11-23",1.9558,24.684999999999999,7.4561000000000002,0.85489999999999999,273.11,3.4527999999999999,0.70930000000000004,3.9340000000000002,4.2972999999999999,9.3855000000000004,1.3647]
["2011-04-15",1.9558,24.268999999999998,7.4585999999999997,0.88249999999999995,267.48,3.4527999999999999,0.70920000000000005,3.9525999999999999,4.1037999999999997,9.0292999999999992,1.4400999999999999,null,null,null,null,null,null,null,null,null,null,238,"2010-11-29","2010-11-01","2010-01-01","2010-11-29",1.9558,24.725000000000001,7.4539999999999997,0.84470000000000001,279.89999999999998,3.4527999999999999,0.70960000000000001,4.0274999999999999,4.3125,9.3070000000000004,1.3225]
["2011-04-21",1.9558,24.173999999999999,7.4576000000000002,0.88670000000000004,264.05,3.4527999999999999,0.70930000000000004,3.9723000000000002,4.0872999999999999,8.9010999999999996,1.4515,null,null,null,null,null,null,null,null,null,null,242,"2010-11-29","2010-12-01","2010-01-01","2010-12-03",1.9558,25.01,7.4520999999999997,0.84450000000000003,278.75,3.4527999999999999,0.7097,4.0054999999999996,4.3036000000000003,9.1531000000000002,1.3154999999999999]
["2011-04-28",1.9558,24.135999999999999,7.4558,0.88639999999999997,264.79000000000002,3.4527999999999999,0.70930000000000004,3.9293999999999998,4.0735999999999999,8.9364000000000008,1.4668000000000001,null,null,null,null,null,null,null,null,null,null,243,"2010-12-06","2010-12-01","2010-01-01","2010-12-06",1.9558,25.018000000000001,7.4528999999999996,0.84799999999999998,278.02999999999997,3.4527999999999999,0.7097,3.9952000000000001,4.3072999999999997,9.1265000000000001,1.3246]
["2011-05-07",1.9558,24.093,7.4569999999999999,0.88390000000000002,264.95,3.4527999999999999,0.70960000000000001,3.9514999999999998,4.1188000000000002,9.0214999999999996,1.4500999999999999,null,null,null,null,null,null,null,null,null,null,248,"2010-12-13","2010-12-01","2010-01-01","2010-12-13",1.9558,25.172999999999998,7.4547999999999996,0.83714999999999995,278.2,3.4527999999999999,0.7097,4.0296000000000003,4.2949999999999999,9.1076999999999995,1.3244]
["2011-05-14",1.9558,24.388000000000002,7.4558,0.87795000000000001,267.05,3.4527999999999999,0.70930000000000004,3.9173,4.1150000000000002,8.9951000000000008,1.4279999999999999,null,null,null,null,null,null,null,null,null,null,253,"2010-12-13","2010-12-01","2010-01-01","2010-12-18",1.9558,25.218,7.4497999999999998,0.85185,272.75,3.4527999999999999,0.70979999999999999,3.9798,4.2934999999999999,9.0222999999999995,1.3260000000000001]
["2011-05-17",1.9558,24.373000000000001,7.4564000000000004,0.87250000000000005,267.93,3.4527999999999999,0.70930000000000004,3.9302999999999999,4.1059999999999999,9.0090000000000003,1.4142999999999999,null,null,null,null,null,null,null,null,null,null,253,"2010-12-13","2010-12-01","2010-01-01","2010-12-19",1.9558,25.218,7.4497999999999998,0.85185,272.75,3.4527999999999999,0.70979999999999999,3.9798,4.2934999999999999,9.0222999999999995,1.3260000000000001]
["2011-05-21",1.9558,24.475999999999999,7.4565000000000001,0.87705,268.8,3.4527999999999999,0.70930000000000004,3.9266000000000001,4.1124999999999998,8.9323999999999995,1.4237,null,null,null,null,null,null,null,null,null,null,256,"2010-12-20","2010-12-01","2010-01-01","2010-12-23",1.9558,25.28,7.4520999999999997,0.84919999999999995,276.2,3.4527999999999999,0.70979999999999999,3.9927999999999999,4.2853000000000003,8.9811999999999994,1.3111999999999999]
["2011-06-01",1.9558,24.547000000000001,7.4561000000000002,0.87204999999999999,266.85000000000002,3.4527999999999999,0.70950000000000002,3.9558,4.1280000000000001,8.8932000000000002,1.4384999999999999,null,null,null,null,null,null,null,null,null,null,261,"2010-12-27","2010-12-01","2010-01-01","2010-12-30",1.9558,25.263000000000002,7.4527999999999999,0.85389999999999999,279.39999999999998,3.4527999999999999,0.7097,3.9666999999999999,4.2986000000000004,8.9885000000000002,1.3136000000000001]
["2011-06-03",1.9558,24.533000000000001,7.4553000000000003,0.88295000000000001,265.95,3.4527999999999999,0.70950000000000002,3.9662999999999999,4.1355000000000004,8.9606999999999992,1.446,null,null,null,null,null,null,null,null,null,null,263,"2010-12-27","2011-01-01","2011-01-01","2011-01-01",1.9558,25.061,7.4535,0.86075000000000002,277.95,3.4527999999999999,0.70940000000000003,3.9750000000000001,4.2619999999999996,8.9655000000000005,1.3362000000000001]
["2011-06-11",1.9558,24.132999999999999,7.4577999999999998,0.88839999999999997,264.55,3.4527999999999999,0.70889999999999997,3.9354,4.1559999999999997,9.0884999999999998,1.4486000000000001,null,null,null,null,null,null,null,null,null,null,267,"2011-01-03","2011-01-01","2011-01-01","2011-01-07",1.9558,24.71,7.4516999999999998,0.84450000000000003,275.95,3.4527999999999999,0.70150000000000001,3.8553000000000002,4.2575000000000003,8.9209999999999994,1.3090999999999999]
["2011-06-18",1.9558,24.13,7.4592000000000001,0.88260000000000005,267.66000000000003,3.4527999999999999,0.70930000000000004,3.9729000000000001,4.2270000000000003,9.1887000000000008,1.427,null,null,null,null,null,null,null,null,null,null,270,"2011-01-10","2011-01-01","2011-01-01","2011-01-12",1.9558,24.553000000000001,7.45,0.83189999999999997,279.24,3.4527999999999999,0.70109999999999995,3.8881999999999999,4.258,8.8740000000000006,1.2948]
["2011-06-25",1.9558,24.378,7.4587000000000003,0.88854999999999995,269.5,3.4527999999999999,0.70930000000000004,3.9918999999999998,4.2240000000000002,9.1801999999999992,1.4219999999999999,null,null,null,null,null,null,null,null,null,null,273,"2011-01-17","2011-01-01","2011-01-01","2011-01-17",1.9558,24.384,7.4497999999999998,0.84219999999999995,276.60000000000002,3.4527999999999999,0.70189999999999997,3.88,4.2652000000000001,8.9764999999999997,1.3349]
["2011-07-05",1.9558,24.277999999999999,7.4593999999999996,0.90149999999999997,264.02999999999997,3.4527999999999999,0.70909999999999995,3.9424999999999999,4.2237,9.0991999999999997,1.45,null,null,null,null,null,null,null,null,null,null,278,"2011-01-17","2011-01-01","2011-01-01","2011-01-23",1.9558,24.285,7.4532999999999996,0.84824999999999995,274.24,3.4527999999999999,0.70350000000000001,3.8748,4.2628000000000004,8.9589999999999996,1.3521000000000001]
["2011-07-08",1.9558,24.28,7.4589999999999996,0.8921,264,3.4527999999999999,0.70920000000000005,3.9464999999999999,4.2068000000000003,9.0950000000000006,1.4247000000000001,null,null,null,null,null,null,null,null,null,null,280,"2011-01-24","2011-01-01","2011-01-01","2011-01-26",{"$f":"IF($W395=\"\",\"\",INDEX($A:$Z,$W395,AB$3))","v":1.9558},24.222000000000001,7.4539,0.86199999999999999,275.22000000000003,3.4527999999999999,0.70279999999999998,3.8755000000000002,4.2605000000000004,8.9074000000000009,1.3595999999999999]
["2011-07-16",1.9558,24.49,7.4568000000000003,0.87749999999999995,270.7,3.4527999999999999,0.70920000000000005,4.0347999999999997,4.2633000000000001,9.2120999999999995,1.4146000000000001,null,null,null,null,null,null,null,null,null,null,284,"2011-01-31","2011-02-01","2011-01-01","2011-02-01",1.9558,24.222999999999999,7.4543999999999997,0.8609,273.85000000000002,3.4527999999999999,0.70299999999999996,3.9361999999999999,4.2590000000000003,8.8670000000000009,1.3692]
["2011-07-22",1.9558,24.411000000000001,7.4542000000000002,0.87870000000000004,267.93,3.4527999999999999,0.70940000000000003,3.9954999999999998,4.2560000000000002,9.1007999999999996,1.4221999999999999,null,null,null,null,null,null,null,null,null,null,288,"2011-01-31","2011-02-01","2011-01-01","2011-02-05",{"$f":"IF($W405=\"\",\"\",INDEX($A:$Z,$W405,AB$3))","v":1.9558},24.018000000000001,7.4543999999999997,0.84719999999999995,270.35000000000002,3.4527999999999999,0.70150000000000001,3.9007999999999998,4.2640000000000002,8.8185000000000002,1.3631]
["2011-07-29",1.9558,24.215,7.4497,0.87390000000000001,268.2,3.4527999999999999,0.70960000000000001,4.0149999999999997,4.2504999999999997,9.0734999999999992,1.4259999999999999,null,null,null,null,null,null,null,null,null,null,291,"2011-02-07","2011-02-01","2011-01-01","2011-02-10",1.9558,24.212,7.4560000000000004,0.85,271.61,3.4527999999999999,0.70350000000000001,3.8942999999999999,4.2565,8.7885000000000009,1.3647]
["2011-08-06",1.9558,24.248000000000001,7.4489000000000001,0.86904999999999999,274.10000000000002,3.4527999999999999,0.70950000000000002,4.0454999999999997,4.2417999999999996,9.2070000000000007,1.4155,null,null,null,null,null,null,null,null,null,null,295,"2011-02-14","2011-02-01","2011-01-01","2011-02-16",1.9558,24.292999999999999,7.4566999999999997,0.83750000000000002,271.06,3.4527999999999999,0.70589999999999997,3.9287000000000001,4.2518000000000002,8.7255000000000003,1.351]
["2011-08-10",1.9558,24.22,7.4497,0.87309999999999999,274.7,3.4527999999999999,0.70920000000000005,4.0956000000000001,4.2625000000000002,9.2126999999999999,1.4267000000000001,null,null,null,null,null,null,null,null,null,null,297,"2011-02-14","2011-02-01","2011-01-01","2011-02-18",1.9558,24.324999999999999,7.4554999999999998,0.84089999999999998,269.25,3.4527999999999999,0.70440000000000003,3.9075000000000002,4.2480000000000002,8.7430000000000003,1.3560000000000001]
["2011-08-13",1.9558,24.186,7.4490999999999996,0.87634999999999996,273.68,3.4527999999999999,0.70930000000000004,4.1517999999999997,4.2835000000000001,9.2376000000000005,1.425,null,null,null,null,null,null,null,null,null,null,298,"2011-02-21","2011-02-01","2011-01-01","2011-02-21",1.9558,24.375,7.4546000000000001,0.83950000000000002,270.05,3.4527999999999999,0.70450000000000002,3.9144999999999999,4.242,8.7327999999999992,1.3627]
["2011-08-25",1.9558,24.488,7.4499000000000004,0.87709999999999999,272.05,3.4527999999999999,0.70930000000000004,4.1566000000000001,4.2569999999999997,9.1234000000000002,1.4433,null,null,null,null,null,null,null,null,null,null,304,"2011-02-28","2011-03-01","2011-01-01","2011-03-01",1.9558,24.353000000000002,7.4564000000000004,0.8528,270.72000000000003,3.4527999999999999,0.70450000000000002,3.9548000000000001,4.2057000000000002,8.7445000000000004,1.3834]
["2011-08-26",1.9558,24.24,7.4496000000000002,0.88119999999999998,272.39999999999998,3.4527999999999999,0.70960000000000001,4.1528,4.2519999999999998,9.1098999999999997,1.4423999999999999,null,null,null,null,null,null,null,null,null,null,305,"2011-02-28","2011-03-01","2011-01-01","2011-03-02",1.9558,24.355,7.4558999999999997,0.84940000000000004,272.64,3.4527999999999999,0.70450000000000002,3.9725000000000001,4.2119999999999997,8.7089999999999996,1.3825000000000001]
["2011-09-03",1.9558,24.303999999999998,7.4496000000000002,0.87890000000000001,275.43,3.4527999999999999,0.70930000000000004,4.1821000000000002,4.2404999999999999,9.1236999999999995,1.4255,null,null,null,null,null,null,null,null,null,null,309,"2011-03-07","2011-03-01","2011-01-01","2011-03-08",1.9558,24.225999999999999,7.4572000000000003,0.86099999999999999,271.66000000000003,3.4527999999999999,0.70609999999999995,3.9731999999999998,4.2004999999999999,8.8755000000000006,1.4028]
["2011-09-13",1.9558,24.521999999999998,7.4471999999999996,0.86014999999999997,282.55,3.4527999999999999,0.70909999999999995,4.3231999999999999,4.2823000000000002,8.9905000000000008,1.3655999999999999,null,null,null,null,null,null,null,null,null,null,313,"2011-03-14","2011-03-01","2011-01-01","2011-03-14",1.9558,24.335000000000001,7.4581999999999997,0.86119999999999997,272.8,3.4527999999999999,0.70669999999999999,4.0411999999999999,4.1882999999999999,8.8130000000000006,1.3773]
["2011-09-17",1.9558,24.457000000000001,7.4478999999999997,0.87170000000000003,287.25,3.4527999999999999,0.70930000000000004,4.3445,4.2679999999999998,9.1609999999999996,1.3759999999999999,null,null,null,null,null,null,null,null,null,null,317,"2011-03-14","2011-03-01","2011-01-01","2011-03-18",1.9558,24.396000000000001,7.4585999999999997,0.86745000000000005,273.74,3.4527999999999999,0.70699999999999996,4.0789999999999997,4.18,8.9905000000000008,1.4004000000000001]
["2011-09-22",1.9558,24.93,7.4471999999999996,0.87309999999999999,293.05,3.4527999999999999,0.70930000000000004,4.4333,4.3029999999999999,9.1170000000000009,1.3635999999999999,null,null,null,null,null,null,null,null,null,null,318,"2011-03-21","2011-03-01","2011-01-01","2011-03-21",1.9558,24.388000000000002,7.4568000000000003,0.87380000000000002,273.35000000000002,3.4527999999999999,0.70699999999999996,4.0587999999999997,4.1704999999999997,8.9064999999999994,1.413]
["2011-09-30",1.9558,24.562999999999999,7.4421999999999997,0.87065000000000003,291.85000000000002,3.4527999999999999,0.70930000000000004,4.4377000000000004,4.3310000000000004,9.2116000000000007,1.3614999999999999,null,null,null,null,null,null,null,null,null,null,323,"2011-03-21","2011-03-01","2011-01-01",{"$f":"1+AA454","v":"2011-03-27"},{"$f":"IF($W455=\"\",\"\",INDEX($A:$Z,$W455,AB$3))","v":1.9558},24.529,7.4580000000000002,0.87780000000000002,266.33,3.4527999999999999,0.70899999999999996,4.0095000000000001,4.0819999999999999,8.9922000000000004,1.4115]
["2011-10-08",1.9558,24.783999999999999,7.4439000000000002,0.86480000000000001,296.63,3.4527999999999999,0.7087,4.3761999999999999,4.3114999999999997,9.1329999999999991,1.3433999999999999,null,null,null,null,null,null,null,null,null,null,328,"2011-03-28","2011-04-01","2011-01-01","2011-04-02",1.9558,24.512,7.4564000000000004,0.88149999999999995,266.26,3.4527999999999999,0.70920000000000005,4.0397999999999996,4.1420000000000003,8.9382000000000001,1.4140999999999999]
["2011-10-15",1.9558,24.74,7.4455999999999998,0.87480000000000002,292.7,3.4527999999999999,0.70540000000000003,4.3099999999999996,4.3288000000000002,9.1395,1.3807,null,null,null,null,null,null,null,null,null,null,331,"2011-04-04","2011-04-01","2011-01-01","2011-04-07",1.9558,24.425999999999998,7.4569000000000001,0.87749999999999995,263.24,3.4527999999999999,0.70899999999999996,3.9857999999999998,4.1005000000000003,9.0123999999999995,1.43]
["2011-10-21",1.9558,24.902999999999999,7.4450000000000003,0.875,296.24,3.4527999999999999,0.70530000000000004,4.3514999999999997,4.3331,9.0977999999999994,1.3807,null,null,null,null,null,null,null,null,null,null,333,"2011-04-11","2011-04-01","2011-01-01","2011-04-11",1.9558,24.43,7.4572000000000003,0.88095000000000001,264.08999999999997,3.4527999999999999,0.70899999999999996,3.956,4.1117999999999997,8.9894999999999996,1.4400999999999999]
["2011-10-26",1.9558,24.905999999999999,7.4451999999999998,0.87009999999999998,297.07,3.4527999999999999,0.70399999999999996,4.3815,4.3235999999999999,9.1110000000000007,1.3917999999999999,null,null,null,null,null,null,null,null,null,null,336,"2011-04-11","2011-04-01","2011-01-01","2011-04-14",1.9558,24.39,7.4584000000000001,0.88980000000000004,266.17,3.4527999999999999,0.70909999999999995,3.9584000000000001,4.1109999999999998,9.0299999999999994,1.4493,null,null,null,null,null,null,null,null,null,null,null,null,null,null,null,null,null,null,null,null,null,null,null,null,null,null,null,null,null,null,null,null,null,null,null,null,null,null,null,null,"","","","","","","","","","","","",null,null,null,null,null,null,null,null,null,null,null,null,null,null,{"$error":"#VALUE!"},"","","","","","","","","","",""]
["2011-11-04",1.9558,24.911000000000001,7.4410999999999996,0.85929999999999995,302.89999999999998,3.4527999999999999,0.70289999999999997,4.3463000000000003,4.3522999999999996,9.0272000000000006,1.3773,null,null,null,null,null,null,null,null,null,null,341,"2011-04-18","2011-04-01","2011-01-01","2011-04-21",1.9558,24.173999999999999,7.4576000000000002,0.88670000000000004,264.05,3.4527999999999999,0.70930000000000004,3.9723000000000002,4.0872999999999999,8.9010999999999996,1.4515,null,null,null,null,null,null,null,null,null,null,null,null,null,null,null,null,null,null,null,null,null,null,null,null,null,null,null,null,null,null,null,null,null,null,null,null,null,null,null,null,"","","","","","","","","","","","",null,null,null,null,null,null,null,null,null,null,null,null,null,null,{"$error":"#VALUE!"},"","","","","","","","","","",""]
["2011-11-05",1.9558,24.992000000000001,7.4427000000000003,0.86124999999999996,304.05,3.4527999999999999,0.70299999999999996,4.3611000000000004,4.3566000000000003,9.1113,1.3773,null,null,null,null,null,null,null,null,null,null,342,"2011-04-18","2011-04-01","2011-01-01","2011-04-22",1.9558,24.18,7.4573,0.88129999999999997,263.8,3.4527999999999999,0.70930000000000004,3.9493,4.0868000000000002,8.8885000000000005,1.4583999999999999,null,null,null,null,null,null,null,null,null,null,null,null,null,null,null,null,null,null,null,null,null,null,null,null,null,null,null,null,null,null,null,null,null,null,null,null,null,null,null,null,"","","","","","","","","","","","",null,null,null,null,null,null,null,null,null,null,null,null,null,null,{"$error":"#VALUE!"},"","","","","","","","","","",""]
["2011-11-12",1.9558,25.701000000000001,7.4421999999999997,0.85680000000000001,310.52,3.4527999999999999,0.70150000000000001,4.4234999999999998,4.3472,9.0935000000000006,1.365,null,null,null,null,null,null,null,null,null,null,343,"2011-04-25","2011-04-01","2011-01-01","2011-04-27",1.9558,24.1,7.4565999999999999,0.88714999999999999,264.48,3.4527999999999999,0.70930000000000004,3.9340000000000002,4.0724999999999998,8.9257000000000009,1.4617,null,null,null,null,null,null,null,null,null,null,null,null,null,null,null,null,null,null,null,null,null,null,null,null,null,null,null,null,null,null,null,null,null,null,null,null,null,null,null,null,"","","","","","","","","","","","",null,null,null,null,null,null,null,null,null,null,null,null,null,null,{"$error":"#VALUE!"},"","","","","","","","","","",""]
["2011-11-18",1.9558,25.646000000000001,7.4427000000000003,0.85399999999999998,312.17,3.4527999999999999,0.70309999999999995,4.4387999999999996,4.3638000000000003,9.1746999999999996,1.3480000000000001,null,null,null,null,null,null,null,null,null,null,346,"2011-04-25","2011-05-01","2011-01-01","2011-05-01",1.9558,24.222999999999999,7.4576000000000002,0.89170000000000005,264.5,3.4527999999999999,0.70930000000000004,3.9356,4.0780000000000003,8.9139999999999997,1.486,null,null,null,null,null,null,null,null,null,null,null,null,null,null,null,null,null,null,null,null,null,null,null,null,null,null,null,null,null,null,null,null,null,null,null,null,null,null,null,null,"","","","","","","","","","","","",null,null,null,null,null,null,null,null,null,null,null,null,null,null,{"$error":"#VALUE!"},"","","","","","","","","","",""]
["2011-11-26",1.9558,26.030999999999999,7.4371999999999998,0.85585,314.32,3.4527999999999999,0.69779999999999998,4.5143000000000004,4.3653000000000004,9.2505000000000006,1.3229,null,null,null,null,null,null,null,null,null,null,351,"2011-05-02","2011-05-01","2011-01-01","2011-05-07",1.9558,24.093,7.4569999999999999,0.88390000000000002,264.95,3.4527999999999999,0.70960000000000001,3.9514999999999998,4.1188000000000002,9.0214999999999996,1.4500999999999999,null,null,null,null,null,null,null,null,null,null,null,null,null,null,null,null,null,null,null,null,null,null,null,null,null,null,null,null,null,null,null,null,null,null,null,null,null,null,null,null,"","","","","","","","","","","","",null,null,null,null,null,null,null,null,null,null,null,null,null,null,{"$error":"#VALUE!"},"","","","","","","","","","",""]
["2011-12-07",1.9558,25.23,7.4348000000000001,0.85655000000000003,300.2,3.4527999999999999,0.69779999999999998,4.4547999999999996,4.3540000000000001,9.0551999999999992,1.3393999999999999,null,null,null,null,null,null,null,null,null,null,356,"2011-05-09","2011-05-01","2011-01-01","2011-05-14",1.9558,24.388000000000002,7.4558,0.87795000000000001,267.05,3.4527999999999999,0.70930000000000004,3.9173,4.1150000000000002,8.9951000000000008,1.4279999999999999,null,null,null,null,null,null,null,null,null,null,null,null,null,null,null,null,null,null,null,null,null,null,null,null,null,null,null,null,null,null,null,null,null,null,null,null,null,null,null,null,"",{"$f":"IF($BA503=\"\",\"\",SUM(BB503:BB509)/7)","v":""},"","","","","","","","","","",null,null,null,null,null,null,null,null,null,null,null,null,null,null,{"$error":"#VALUE!"},{"$f":"IF($BA503=\"\",\"\",SUM(CB503:CB509)/7)","v":""},"","","","","","","","","",""]
["2011-12-10",1.9558,25.475000000000001,7.4348999999999998,0.85314999999999996,305.08,3.4527999999999999,0.69810000000000005,4.5148999999999999,4.3428000000000004,9.0184999999999995,1.3384,null,null,null,null,null,null,null,null,null,null,357,"2011-05-16","2011-05-01","2011-01-01","2011-05-17",1.9558,24.373000000000001,7.4564000000000004,0.87250000000000005,267.93,3.4527999999999999,0.70930000000000004,3.9302999999999999,4.1059999999999999,9.0090000000000003,1.4142999999999999,null,null,null,null,null,null,null,null,null,null,null,null,null,null,null,null,null,null,null,null,null,null,null,null,null,null,null,null,null,null,null,null,null,null,null,null,null,null,null,null,"","","","","","","","","","","","",null,null,null,null,null,null,null,null,null,null,null,null,null,null,{"$error":"#VALUE!"},"","","","","","","","","","",""]
["2011-12-16",1.9558,25.533999999999999,7.4321999999999999,0.83935000000000004,302.25,3.4527999999999999,0.69730000000000003,4.5350000000000001,4.3407999999999998,9.0708000000000002,1.3019000000000001,null,null,null,null,null,null,null,null,null,null,361,"2011-05-16","2011-05-01","2011-01-01","2011-05-21",1.9558,24.475999999999999,7.4565000000000001,0.87705,268.8,3.4527999999999999,0.70930000000000004,3.9266000000000001,4.1124999999999998,8.9323999999999995,1.4237,null,null,null,null,null,null,null,null,null,null,null,null,null,null,null,null,null,null,null,null,null,null,null,null,null,null,null,null,null,null,null,null,null,null,null,null,null,null,null,null,"","","","","","","","","","","","",null,null,null,null,null,null,null,null,null,null,null,null,null,null,{"$error":"#VALUE!"},"","","","","","","","","","",""]
["2011-12-23",1.9558,25.625,7.4336000000000002,0.83250000000000002,306.45,3.4527999999999999,0.69650000000000001,4.4352,4.3,8.9952000000000005,1.3047,null,null,null,null,null,null,null,null,null,null,364,"2011-05-23","2011-05-01","2011-01-01","2011-05-26",{"$f":"IF($W515=\"\",\"\",INDEX($A:$Z,$W515,AB$3))","v":1.9558},24.577000000000002,7.4569000000000001,0.86719999999999997,270.06,3.4527999999999999,0.70930000000000004,3.9678,4.1345000000000001,8.9149999999999991,1.4069,null,null,null,null,null,null,null,null,null,null,null,null,null,null,null,null,null,null,null,null,null,null,null,null,null,null,null,null,null,null,null,null,null,null,null,null,null,null,null,null,"","","","","","","","","","","","",null,null,null,null,null,null,null,null,null,null,null,null,null,null,{"$error":"#VALUE!"},"","","","","","","","","","",""]
["2012-01-03",1.9558,25.504999999999999,7.4335000000000004,0.83513999999999999,314.38,3.4527999999999999,0.69979999999999998,4.4733000000000001,4.3324999999999996,8.9275000000000002,1.2935000000000001,null,null,null,null,null,null,null,null,null,null,368,"2011-05-30","2011-06-01","2011-01-01","2011-06-01",1.9558,24.547000000000001,7.4561000000000002,0.87204999999999999,266.85000000000002,3.4527999999999999,0.70950000000000002,3.9558,4.1280000000000001,8.8932000000000002,1.4384999999999999,null,null,null,null,null,null,null,null,null,null,null,null,null,null,null,null,null,null,null,null,null,null,null,null,null,null,null,null,null,null,null,null,null,null,null,null,null,null,null,null,"","","","","","","","","","","","",null,null,null,null,null,null,null,null,null,null,null,null,null,null,{"$error":"#VALUE!"},"","","","","","","","","","",""]
["2012-01-05",1.9558,25.760999999999999,7.4360999999999997,0.83109999999999995,320.01,3.4527999999999999,0.69869999999999999,4.4894999999999996,4.3215000000000003,8.8985000000000003,1.2948,null,null,null,null,null,null,null,null,null,null,370,"2011-05-30","2011-06-01","2011-01-01","2011-06-03",1.9558,24.533000000000001,7.4553000000000003,0.88295000000000001,265.95,3.4527999999999999,0.70950000000000002,3.9662999999999999,4.1355000000000004,8.9606999999999992,1.446,null,null,null,null,null,null,null,null,null,null,null,null,null,null,null,null,null,null,null,null,null,null,null,null,null,null,null,null,null,null,null,null,null,null,null,null,null,null,null,null,"","","","","","","","","","","","",null,null,null,null,null,null,null,null,null,null,null,null,null,null,{"$error":"#VALUE!"},"","","","","","","","","","",""]
["2012-01-14",1.9558,25.45,7.4364999999999997,0.83320000000000005,309.70999999999998,3.4527999999999999,0.70020000000000004,4.4059999999999997,4.3345000000000002,8.8892000000000007,1.2770999999999999,null,null,null,null,null,null,null,null,null,null,375,"2011-06-06","2011-06-01","2011-01-01","2011-06-10",1.9558,24.138000000000002,7.4579000000000004,0.88939999999999997,264.68,3.4527999999999999,0.70909999999999995,3.9558,4.1630000000000003,9.0604999999999993,1.4614,null,null,null,null,null,null,null,null,null,null,null,null,null,null,null,null,null,null,null,null,null,null,null,null,null,null,null,null,null,null,null,null,null,null,null,null,null,null,null,null,"","","","","","","","","","","","",null,null,null,null,null,null,null,null,null,null,null,null,null,null,{"$error":"#VALUE!"},"","","","","","","","","","",""]
["2012-01-20",1.9558,25.297999999999998,7.4358000000000004,0.83560000000000001,302.11,3.4527999999999999,0.70020000000000004,4.3250000000000002,4.3437999999999999,8.7605000000000004,1.2910999999999999,null,null,null,null,null,null,null,null,null,null,377,"2011-06-13","2011-06-01","2011-01-01","2011-06-14",1.9558,24.132000000000001,7.4587000000000003,0.88060000000000005,265.3,3.4527999999999999,0.70860000000000001,3.9331999999999998,4.1867999999999999,9.1243999999999996,1.4354,null,null,null,null,null,null,null,null,null,null,null,null,null,null,null,null,null,null,null,null,null,null,null,null,null,null,null,null,null,null,null,null,null,null,null,null,null,null,null,null,"","","","","","","","","","","","",null,null,null,null,null,null,null,null,null,null,null,null,null,null,{"$error":"#VALUE!"},"","","","","","","","","","",""]
["2012-01-28",1.9558,25.155999999999999,7.4335000000000004,0.83684999999999998,293.95,3.4527999999999999,0.69910000000000005,4.2206999999999999,4.3456999999999999,8.8965999999999994,1.3145,null,null,null,null,null,null,null,null,null,null,381,"2011-06-20","2011-06-01","2011-01-01","2011-06-20",1.9558,24.13,7.4592000000000001,0.88260000000000005,267.66000000000003,3.4527999999999999,0.70930000000000004,3.9729000000000001,4.2270000000000003,9.1887000000000008,1.427,null,null,null,null,null,null,null,null,null,null,null,null,null,null,null,null,null,null,null,null,null,null,null,null,null,null,null,null,null,null,null,null,null,null,null,null,null,null,null,null,"","","","","","","","","","","","",null,null,null,null,null,null,null,null,null,null,null,null,null,null,{"$error":"#VALUE!"},"","","","","","","","","","",""]
["2012-01-31",1.9558,25.27,7.4340999999999999,0.83579999999999999,296.04000000000002,3.4527999999999999,0.69910000000000005,4.2545000000000002,4.3380000000000001,8.8995999999999995,1.3109999999999999,null,null,null,null,null,null,null,null,null,null,382,"2011-06-20","2011-06-01","2011-01-01","2011-06-21",1.9558,24.125,7.4593999999999996,0.87949999999999995,269,3.4527999999999999,0.70899999999999996,3.9897999999999998,4.2709999999999999,9.1707999999999998,1.4235,null,null,null,null,null,null,null,null,null,null,null,null,null,null,null,null,null,null,null,null,null,null,null,null,null,null,null,null,null,null,null,null,null,null,null,null,null,null,null,null,"","","","","","","","","","","","",null,null,null,null,null,null,null,null,null,null,null,null,null,null,{"$error":"#VALUE!"},"","","","","","","","","","",""]
["2012-02-08",1.9558,25,7.4336000000000002,0.83020000000000005,291.66000000000003,3.4527999999999999,0.69899999999999995,4.1783000000000001,4.3522999999999996,8.8215000000000003,1.3112999999999999,null,null,null,null,null,null,null,null,null,null,386,"2011-06-27","2011-06-01","2011-01-01","2011-06-27",1.9558,24.378,7.4587000000000003,0.88854999999999995,269.5,3.4527999999999999,0.70930000000000004,3.9918999999999998,4.2240000000000002,9.1801999999999992,1.4219999999999999,null,null,null,null,null,null,null,null,null,null,null,null,null,null,null,null,null,null,null,null,null,null,null,null,null,null,null,null,null,null,null,null,null,null,null,null,null,null,null,null,"","","","","","","","","","","","",null,null,null,null,null,null,null,null,null,null,null,null,null,null,{"$error":"#VALUE!"},"","","","","","","","","","",""]
["2012-02-11",1.9558,25.245000000000001,7.4321999999999999,0.83630000000000004,293.58,3.4527999999999999,0.69899999999999995,4.2187999999999999,4.3540000000000001,8.8064999999999998,1.3189,null,null,null,null,null,null,null,null,null,null,389,"2011-06-27","2011-06-01","2011-01-01","2011-06-30",1.9558,24.341999999999999,7.4592000000000001,0.89980000000000004,267.05,3.4527999999999999,0.70930000000000004,3.9986999999999999,4.2104999999999997,9.2047000000000008,1.4424999999999999,null,null,null,null,null,null,null,null,null,null,null,null,null,null,null,null,null,null,null,null,null,null,null,null,null,null,null,null,null,null,null,null,null,null,null,null,null,null,null,null,"","","","","","","","","","","","",null,null,null,null,null,null,null,null,null,null,null,null,null,null,{"$error":"#VALUE!"},"","","","","","","","","","",""]
["2012-02-21",1.9558,24.907,7.4339000000000004,0.83640000000000003,287.39999999999998,3.4527999999999999,0.69820000000000004,4.1680000000000001,4.3525,8.8109999999999999,1.3266,null,null,null,null,null,null,null,null,null,null,393,"2011-07-04","2011-07-01","2011-01-01","2011-07-06",1.9558,24.32,7.4591000000000003,0.89839999999999998,264.64,3.4527999999999999,0.70909999999999995,3.95,4.1805000000000003,9.0806000000000004,1.4460999999999999,null,null,null,null,null,null,null,null,null,null,null,null,null,null,null,null,null,null,null,null,null,null,null,null,null,null,null,null,null,null,null,null,null,null,null,null,null,null,null,null,"","","","","","","","","","","","",null,null,null,null,null,null,null,null,null,null,null,null,null,null,{"$error":"#VALUE!"},"","","","","","","","","","",""]
["2012-02-25",1.9558,25.033000000000001,7.4362000000000004,0.84814999999999996,288.70999999999998,3.4527999999999999,0.6986,4.1665000000000001,4.3525,8.8224999999999998,1.3411999999999999,null,null,null,null,null,null,null,null,null,null,396,"2011-07-04","2011-07-01","2011-01-01","2011-07-10",1.9558,24.224,7.4587000000000003,0.89319999999999999,263.08,3.4527999999999999,0.70909999999999995,3.9401000000000002,4.2009999999999996,9.0838000000000001,1.4241999999999999,null,null,null,null,null,null,null,null,null,null,null,null,null,null,null,null,null,null,null,null,null,null,null,null,null,null,null,null,null,null,null,null,null,null,null,null,null,null,null,null,"","","","","","","","","","","","",null,null,null,null,null,null,null,null,null,null,null,null,null,null,{"$error":"#VALUE!"},"","","","","","","","","","",""]
["2012-03-03",1.9558,24.715,7.4345999999999997,0.8327,289.3,3.4527999999999999,0.69830000000000003,4.1074000000000002,4.3507999999999996,8.8315999999999999,1.3217000000000001,null,null,null,null,null,null,null,null,null,null,400,"2011-07-11","2011-07-01","2011-01-01","2011-07-15",{"$f":"IF($W565=\"\",\"\",INDEX($A:$Z,$W565,AB$3))","v":1.9558},24.434999999999999,7.4570999999999996,0.88095000000000001,269.60000000000002,3.4527999999999999,0.70920000000000005,4.0309999999999997,4.2743000000000002,9.1974999999999998,1.4201999999999999,null,null,null,null,null,null,null,null,null,null,null,null,null,null,null,null,null,null,null,null,null,null,null,null,null,null,null,null,null,null,null,null,null,null,null,null,null,null,null,null,"","","","","","","","","","","","",null,null,null,null,null,null,null,null,null,null,null,null,null,null,{"$error":"#VALUE!"},"","","","","","","","","","",""]
["2012-03-13",1.9558,24.562999999999999,7.4348000000000001,0.83919999999999995,293.48,3.4527999999999999,0.6966,4.1094999999999997,4.3552999999999997,8.9312000000000005,1.3119000000000001,null,null,null,null,null,null,null,null,null,null,404,"2011-07-18","2011-07-01","2011-01-01","2011-07-21",1.9558,24.498000000000001,7.4553000000000003,0.88065000000000004,269.18,3.4527999999999999,0.70930000000000004,3.9916999999999998,4.2474999999999996,9.1713000000000005,1.4207000000000001,null,null,null,null,null,null,null,null,null,null,null,null,null,null,null,null,null,null,null,null,null,null,null,null,null,null,null,null,null,null,null,null,null,null,null,null,null,null,null,null,"","","","","","","","","","","","",null,null,null,null,null,null,null,null,null,null,null,null,null,null,{"$error":"#VALUE!"},"","","","","","","","","","",""]
["2012-03-17",1.9558,24.510999999999999,7.4356,0.82950000000000002,290.64,3.4527999999999999,0.69699999999999995,4.13,4.3822999999999999,8.8559999999999999,1.3116000000000001,null,null,null,null,null,null,null,null,null,null,406,"2011-07-25","2011-07-01","2011-01-01","2011-07-25",{"$f":"IF($W575=\"\",\"\",INDEX($A:$Z,$W575,AB$3))","v":1.9558},24.408000000000001,7.4535999999999998,0.88270000000000004,266.64999999999998,3.4527999999999999,0.70930000000000004,3.9815,4.2305000000000001,9.0786999999999995,1.4391,null,null,null,null,null,null,null,null,null,null,null,null,null,null,null,null,null,null,null,null,null,null,null,null,null,null,null,null,null,null,null,null,null,null,null,null,null,null,null,null,"","","","","","","","","","","","",null,null,null,null,null,null,null,null,null,null,null,null,null,null,{"$error":"#VALUE!"},"","","","","","","","","","",""]
["2012-03-27",1.9558,24.63,7.4356,0.83520000000000005,292.63,3.4527999999999999,0.69679999999999997,4.1375999999999999,4.3639999999999999,8.9276999999999997,1.3275999999999999,null,null,null,null,null,null,null,null,null,null,{"$f":"IF(AA581>MaxDate,\"\",MATCH(AA581,$A:$A,1))","v":411},"2011-07-25","2011-07-01","2011-01-01","2011-07-31",1.9558,24.187999999999999,7.4493999999999998,0.87485000000000002,269.97000000000003,3.4527999999999999,0.70940000000000003,4.0086000000000004,4.2417999999999996,9.0688999999999993,1.4259999999999999,null,null,null,null,null,null,null,null,null,null,null,null,null,null,null,null,null,null,null,null,null,null,null,null,null,null,null,null,null,null,null,null,null,null,null,null,null,null,null,null,{"$f":"IF(AND(WEEKDAY(BA581,2)=1,BA581<=MaxDate-6),BA581,\"\")","v":""},"","","","","","","","","","","",null,null,null,null,null,null,null,null,null,null,null,null,null,null,{"$error":"#VALUE!"},"","","","","","","","","","",""]
["2012-03-30",1.9558,24.777999999999999,7.4371999999999998,0.83579999999999999,294.36,3.4527999999999999,0.70069999999999999,4.1612,4.3807,8.8450000000000006,1.3271999999999999,null,null,null,null,null,null,null,null,null,null,413,"2011-08-01","2011-08-01","2011-01-01","2011-08-03",1.9558,24.231000000000002,7.4489999999999998,0.87180000000000002,270.12,3.4527999999999999,0.70920000000000005,4.0294999999999996,4.2388000000000003,9.0129999999999999,1.417,null,null,null,null,null,null,null,null,null,null,null,null,null,null,null,null,null,null,null,null,null,null,null,null,null,null,null,null,null,null,null,null,null,null,null,null,null,null,null,null,"","","","","","","","","","","","",null,null,null,null,null,null,null,null,null,null,null,null,null,null,{"$error":"#VALUE!"},"","","","","","","","","","",""]
["2012-04-11",1.9558,24.795000000000002,7.4394999999999998,0.82689999999999997,295.75,3.4527999999999999,0.69930000000000003,4.1706000000000003,4.3707000000000003,8.8729999999999993,1.3113999999999999,null,null,null,null,null,null,null,null,null,null,417,"2011-08-08","2011-08-01","2011-01-01","2011-08-09",1.9558,24.196000000000002,7.4493999999999998,0.86909999999999998,273.95,3.4527999999999999,0.70950000000000002,4.0514000000000001,4.2430000000000003,9.2258999999999993,1.4225000000000001,null,null,null,null,null,null,null,null,null,null,null,null,null,null,null,null,null,null,null,null,null,null,null,null,null,null,null,null,null,null,null,null,null,null,null,null,null,null,null,null,"","","","","","","","","","","","",null,null,null,null,null,null,null,null,null,null,null,null,null,null,{"$error":"#VALUE!"},"","","","","","","","","","",""]
["2012-04-18",1.9558,24.798999999999999,7.4397000000000002,0.82340000000000002,297.35000000000002,3.4527999999999999,0.69889999999999997,4.1905000000000001,4.3753000000000002,8.8821999999999992,1.3131999999999999,null,null,null,null,null,null,null,null,null,null,421,"2011-08-08","2011-08-01","2011-01-01","2011-08-14",{"$f":"IF($W595=\"\",\"\",INDEX($A:$Z,$W595,AB$3))","v":1.9558},24.186,7.4490999999999996,0.87634999999999996,273.68,3.4527999999999999,0.70930000000000004,4.1517999999999997,4.2835000000000001,9.2376000000000005,1.425,null,null,null,null,null,null,null,null,null,null,null,null,null,null,null,null,null,null,null,null,null,null,null,null,null,null,null,null,null,null,null,null,null,null,null,null,null,null,null,null,"","","","","","","","","","","","",null,null,null,null,null,null,null,null,null,null,null,null,null,null,{"$error":"#VALUE!"},"","","","","","","","","","",""]
["2012-04-25",1.9558,24.997,7.4401999999999999,0.81540000000000001,297.69,3.4527999999999999,0.69930000000000003,4.2003000000000004,4.3818000000000001,8.8879999999999999,1.3161,null,null,null,null,null,null,null,null,null,null,425,"2011-08-15","2011-08-01","2011-01-01","2011-08-19",1.9558,24.422999999999998,7.4505999999999997,0.87060000000000004,272.13,3.4527999999999999,0.70950000000000002,4.1525999999999996,4.26,9.1590000000000007,1.4369000000000001,null,null,null,null,null,null,null,null,null,null,null,null,null,null,null,null,null,null,null,null,null,null,null,null,null,null,null,null,null,null,null,null,null,null,null,null,null,null,null,null,"","","","","","","","","","","","",null,null,null,null,null,null,null,null,null,null,null,null,null,null,{"$error":"#VALUE!"},"","","","","","","","","","",""]
["2012-04-26",1.9558,24.803999999999998,7.4398999999999997,0.81940000000000002,287.83,3.4527999999999999,0.69930000000000003,4.1738,4.3765000000000001,8.8957999999999995,1.3206,null,null,null,null,null,null,null,null,null,null,426,"2011-08-15","2011-08-01","2011-01-01","2011-08-20",1.9558,24.475000000000001,7.4486999999999997,0.86965000000000003,272.14999999999998,3.4527999999999999,0.70920000000000005,4.1723999999999997,4.2678000000000003,9.2203999999999997,1.4384999999999999,null,null,null,null,null,null,null,null,null,null,null,null,null,null,null,null,null,null,null,null,null,null,null,null,null,null,null,null,null,null,null,null,null,null,null,null,null,null,null,null,"","","","","","","","","","","","",null,null,null,null,null,null,null,null,null,null,null,null,null,null,{"$error":"#VALUE!"},"","","","","","","","","","",""]
["2012-05-08",1.9558,25.024999999999999,7.4366000000000003,0.80647000000000002,286.48,3.4527999999999999,0.69950000000000001,4.1958000000000002,4.4059999999999997,8.9105000000000008,1.3032999999999999,null,null,null,null,null,null,null,null,null,null,431,"2011-08-22","2011-08-01","2011-01-01","2011-08-27",1.9558,24.166,7.4508999999999999,0.88565000000000005,272.66000000000003,3.4527999999999999,0.70960000000000001,4.1750999999999996,4.2445000000000004,9.1082000000000001,1.4401999999999999,null,null,null,null,null,null,null,null,null,null,null,null,null,null,null,null,null,null,null,null,null,null,null,null,null,null,null,null,null,null,null,null,null,null,null,null,null,null,null,null,"","","","","","","","","","","","",null,null,null,null,null,null,null,null,null,null,null,null,null,null,{"$error":"#VALUE!"},"","","","","","","","","","",""]
["2012-05-10",1.9558,25.242999999999999,7.4349999999999996,0.80495000000000005,290.7,3.4527999999999999,0.69830000000000003,4.2153999999999998,4.4210000000000003,8.9097000000000008,1.2949999999999999,null,null,null,null,null,null,null,null,null,null,431,"2011-08-29","2011-08-01","2011-01-01","2011-08-29",1.9558,24.166,7.4508999999999999,0.88565000000000005,272.66000000000003,3.4527999999999999,0.70960000000000001,4.1750999999999996,4.2445000000000004,9.1082000000000001,1.4401999999999999,null,null,null,null,null,null,null,null,null,null,null,null,null,null,null,null,null,null,null,null,null,null,null,null,null,null,null,null,null,null,null,null,null,null,null,null,null,null,null,null,"","","","","","","","","","","","",null,null,null,null,null,null,null,null,null,null,null,null,null,null,{"$error":"#VALUE!"},"","","","","","","","","","",""]
["2012-05-17",1.9558,25.46,7.4330999999999996,0.79925000000000002,294.32,3.4527999999999999,0.6976,4.3499999999999996,4.4400000000000004,9.0969999999999995,1.2738,null,null,null,null,null,null,null,null,null,null,436,"2011-08-29","2011-09-01","2011-01-01","2011-09-03",{"$f":"IF($W615=\"\",\"\",INDEX($A:$Z,$W615,AB$3))","v":1.9558},24.303999999999998,7.4496000000000002,0.87890000000000001,275.43,3.4527999999999999,0.70930000000000004,4.1821000000000002,4.2404999999999999,9.1236999999999995,1.4255,null,null,null,null,null,null,null,null,null,null,null,null,null,null,null,null,null,null,null,null,null,null,null,null,null,null,null,null,null,null,null,null,null,null,null,null,null,null,null,null,"",{"$f":"IF($BA615=\"\",\"\",SUM(BB615:BB621)/7)","v":""},"","","","","","","","","","",null,null,null,null,null,null,null,null,null,null,null,null,null,null,{"$error":"#VALUE!"},{"$f":"IF($BA615=\"\",\"\",SUM(CB615:CB621)/7)","v":""},"","","","","","","","","",""]
["2012-05-24",1.9558,25.495000000000001,7.4316000000000004,0.8044,302,3.4527999999999999,0.69789999999999996,4.367,4.46,9.0604999999999993,1.2659,null,null,null,null,null,null,null,null,null,null,439,"2011-09-05","2011-09-01","2011-01-01","2011-09-08",1.9558,24.456,7.4477000000000002,0.878,276.35000000000002,3.4527999999999999,0.70909999999999995,4.2186000000000003,4.2358000000000002,8.9728999999999992,1.4036,null,null,null,null,null,null,null,null,null,null,null,null,null,null,null,null,null,null,null,null,null,null,null,null,null,null,null,null,null,null,null,null,null,null,null,null,null,null,null,null,"","","","","","","","","","","","",null,null,null,null,null,null,null,null,null,null,null,null,null,null,{"$error":"#VALUE!"},"","","","","","","","","","",""]
["2012-05-31",1.9558,25.658000000000001,7.4311999999999996,0.79774999999999996,298.95,3.4527999999999999,0.69820000000000004,4.3872999999999998,4.4675000000000002,8.9555000000000007,1.2438,null,null,null,null,null,null,null,null,null,null,442,"2011-09-12","2011-09-01","2011-01-01","2011-09-13",{"$f":"IF($W625=\"\",\"\",INDEX($A:$Z,$W625,AB$3))","v":1.9558},24.521999999999998,7.4471999999999996,0.86014999999999997,282.55,3.4527999999999999,0.70909999999999995,4.3231999999999999,4.2823000000000002,8.9905000000000008,1.3655999999999999,null,null,null,null,null,null,null,null,null,null,null,null,null,null,null,null,null,null,null,null,null,null,null,null,null,null,null,null,null,null,null,null,null,null,null,null,null,null,null,null,"","","","","","","","","","","","",null,null,null,null,null,null,null,null,null,null,null,null,null,null,{"$error":"#VALUE!"},"","","","","","","","","","",""]
["2012-06-09",1.9558,25.481000000000002,7.4318999999999997,0.80794999999999995,296.60000000000002,3.4527999999999999,0.69730000000000003,4.2960000000000003,4.4648000000000003,8.9780999999999995,1.2467999999999999,null,null,null,null,null,null,null,null,null,null,447,"2011-09-19","2011-09-01","2011-01-01","2011-09-20",1.9558,24.63,7.4473000000000003,0.86809999999999998,290.41000000000003,3.4527999999999999,0.70930000000000004,4.3644999999999996,4.2874999999999996,9.1684000000000001,1.3641000000000001,null,null,null,null,null,null,null,null,null,null,null,null,null,null,null,null,null,null,null,null,null,null,null,null,null,null,null,null,null,null,null,null,null,null,null,null,null,null,null,null,"","","","","","","","","","","","",null,null,null,null,null,null,null,null,null,null,null,null,null,null,{"$error":"#VALUE!"},"","","","","","","","","","",""]
["2012-06-14",1.9558,25.577999999999999,7.4318,0.80630000000000002,296.43,3.4527999999999999,0.69679999999999997,4.3239999999999998,4.4615999999999998,8.8320000000000007,1.2534000000000001,null,null,null,null,null,null,null,null,null,null,450,"2011-09-19","2011-09-01","2011-01-01","2011-09-23",{"$f":"IF($W635=\"\",\"\",INDEX($A:$Z,$W635,AB$3))","v":1.9558},24.878,7.4458000000000002,0.87324999999999997,293.06,3.4527999999999999,0.70930000000000004,4.4863,4.3055000000000003,9.2761999999999993,1.3448,null,null,null,null,null,null,null,null,null,null,null,null,null,null,null,null,null,null,null,null,null,null,null,null,null,null,null,null,null,null,null,null,null,null,null,null,null,null,null,null,"","","","","","","","","","","","",null,null,null,null,null,null,null,null,null,null,null,null,null,null,{"$error":"#VALUE!"},"","","","","","","","","","",""]
["2012-06-22",1.9558,25.683,7.4329999999999998,0.80694999999999995,285.83,3.4527999999999999,0.69699999999999995,4.2537000000000003,4.4660000000000002,8.8360000000000003,1.2669999999999999,null,null,null,null,null,null,null,null,null,null,454,"2011-09-26","2011-09-01","2011-01-01","2011-09-29",1.9558,24.523,7.4409999999999998,0.87175000000000002,290.38,3.4527999999999999,0.70930000000000004,4.4313000000000002,4.3259999999999996,9.1929999999999996,1.3631,null,null,null,null,null,null,null,null,null,null,null,null,null,null,null,null,null,null,null,null,null,null,null,null,null,null,null,null,null,null,null,null,null,null,null,null,null,null,null,null,"","","","","","","","","","","","",null,null,null,null,null,null,null,null,null,null,null,null,null,null,{"$error":"#VALUE!"},"","","","","","","","","","",""]
["2012-06-28",1.9558,25.916,7.4337,0.79990000000000006,287.27999999999997,3.4527999999999999,0.69650000000000001,4.2515000000000001,4.4470000000000001,8.8241999999999994,1.2478,null,null,null,null,null,null,null,null,null,null,{"$f":"IF(AA645>MaxDate,\"\",MATCH(AA645,$A:$A,1))","v":456},"2011-10-03","2011-10-01","2011-01-01","2011-10-03",{"$f":"IF($W645=\"\",\"\",INDEX($A:$Z,$W645,AB$3))","v":1.9558},24.754000000000001,7.4417,0.86665000000000003,292.55,3.4527999999999999,0.70930000000000004,4.4050000000000002,4.3574999999999999,9.2579999999999991,1.3503000000000001,null,null,null,null,null,null,null,null,null,null,null,null,null,null,null,null,null,null,null,null,null,null,null,null,null,null,null,null,null,null,null,null,null,null,null,null,null,null,null,null,{"$f":"IF(AND(WEEKDAY(BA645,2)=1,BA645<=MaxDate-6),BA645,\"\")","v":""},"","","","","","","","","","","",null,null,null,null,null,null,null,null,null,null,null,null,null,null,{"$error":"#VALUE!"},"","","","","","","","","","",""]
["2012-07-05",1.9558,25.5,7.4366000000000003,0.80320000000000003,285.36,3.4527999999999999,0.69640000000000002,4.2065999999999999,4.4763999999999999,8.6875999999999998,1.256,null,null,null,null,null,null,null,null,null,null,461,"2011-10-03","2011-10-01","2011-01-01","2011-10-08",1.9558,24.783999999999999,7.4439000000000002,0.86480000000000001,296.63,3.4527999999999999,0.7087,4.3761999999999999,4.3114999999999997,9.1329999999999991,1.3433999999999999,null,null,null,null,null,null,null,null,null,null,null,null,null,null,null,null,null,null,null,null,null,null,null,null,null,null,null,null,null,null,null,null,null,null,null,null,null,null,null,null,"","","","","","","","","","","","",null,null,null,null,null,null,null,null,null,null,null,null,null,null,{"$error":"#VALUE!"},"","","","","","","","","","",""]
["2012-07-07",1.9558,25.7,7.4413,0.79649999999999999,287.60000000000002,3.4527999999999999,0.69630000000000003,4.2138999999999998,4.5359999999999996,8.6576000000000004,1.2377,null,null,null,null,null,null,null,null,null,null,461,"2011-10-10","2011-10-01","2011-01-01","2011-10-10",1.9558,24.783999999999999,7.4439000000000002,0.86480000000000001,296.63,3.4527999999999999,0.7087,4.3761999999999999,4.3114999999999997,9.1329999999999991,1.3433999999999999,null,null,null,null,null,null,null,null,null,null,null,null,null,null,null,null,null,null,null,null,null,null,null,null,null,null,null,null,null,null,null,null,null,null,null,null,null,null,null,null,"","","","","","","","","","","","",null,null,null,null,null,null,null,null,null,null,null,null,null,null,{"$error":"#VALUE!"},"","","","","","","","","","",""]
["2012-07-19",1.9558,25.277999999999999,7.4387999999999996,0.78400000000000003,285.89999999999998,3.4527999999999999,0.69589999999999996,4.1795,4.5652999999999997,8.4926999999999992,1.2234,null,null,null,null,null,null,null,null,null,null,467,"2011-10-17","2011-10-01","2011-01-01","2011-10-18",1.9558,24.762,7.4452999999999996,0.874,293.94,3.4527999999999999,0.70489999999999997,4.2927,4.3319999999999999,9.1582000000000008,1.3775999999999999,null,null,null,null,null,null,null,null,null,null,null,null,null,null,null,null,null,null,null,null,null,null,null,null,null,null,null,null,null,null,null,null,null,null,null,null,null,null,null,null,"","","","","","","","","","","","",null,null,null,null,null,null,null,null,null,null,null,null,null,null,{"$error":"#VALUE!"},"","","","","","","","","","",""]
["2012-07-26",1.9558,25.56,7.4386000000000001,0.78320000000000001,288.61,3.4527999999999999,0.69630000000000003,4.1936,4.6093000000000002,8.4591999999999992,1.2134,null,null,null,null,null,null,null,null,null,null,471,"2011-10-17","2011-10-01","2011-01-01","2011-10-23",{"$f":"IF($W665=\"\",\"\",INDEX($A:$Z,$W665,AB$3))","v":1.9558},24.992999999999999,7.4455999999999998,0.86775000000000002,298.45999999999998,3.4527999999999999,0.70530000000000004,4.3935000000000004,4.3304,9.1030999999999995,1.3797999999999999,null,null,null,null,null,null,null,null,null,null,null,null,null,null,null,null,null,null,null,null,null,null,null,null,null,null,null,null,null,null,null,null,null,null,null,null,null,null,null,null,"","","","","","","","","","","","",null,null,null,null,null,null,null,null,null,null,null,null,null,null,{"$error":"#VALUE!"},"","","","","","","","","","",""]
["2012-08-01",1.9558,25.254999999999999,7.4406999999999996,0.78395000000000004,278.94,3.4527999999999999,0.69610000000000005,4.1050000000000004,4.58,8.359,1.2283999999999999,null,null,null,null,null,null,null,null,null,null,474,"2011-10-24","2011-10-01","2011-01-01","2011-10-27",1.9558,24.927,7.4444999999999997,0.87190000000000001,297.86,3.4527999999999999,0.70430000000000004,4.3718000000000004,4.3288000000000002,9.0967000000000002,1.3927,null,null,null,null,null,null,null,null,null,null,null,null,null,null,null,null,null,null,null,null,null,null,null,null,null,null,null,null,null,null,null,null,null,null,null,null,null,null,null,null,"","","","","","","","","","","","",null,null,null,null,null,null,null,null,null,null,null,null,null,null,{"$error":"#VALUE!"},"","","","","","","","","","",""]
["2012-08-02",1.9558,25.358000000000001,7.4417999999999997,0.78749999999999998,280.38,3.4527999999999999,0.69669999999999999,4.1058000000000003,4.5937999999999999,8.3188999999999993,1.2298,null,null,null,null,null,null,null,null,null,null,475,"2011-10-24","2011-10-01","2011-01-01","2011-10-28",1.9558,24.832999999999998,7.4440999999999997,0.87629999999999997,302.2,3.4527999999999999,0.70430000000000004,4.3419999999999996,4.3323,9.0280000000000005,1.4037999999999999,null,null,null,null,null,null,null,null,null,null,null,null,null,null,null,null,null,null,null,null,null,null,null,null,null,null,null,null,null,null,null,null,null,null,null,null,null,null,null,null,"","","","","","","","","","","","",null,null,null,null,null,null,null,null,null,null,null,null,null,null,{"$error":"#VALUE!"},"","","","","","","","","","",""]
["2012-08-10",1.9558,25.135000000000002,7.4424000000000001,0.78710000000000002,276.79000000000002,3.4527999999999999,0.69599999999999995,4.0678000000000001,4.5442999999999998,8.2668999999999997,1.2301,null,null,null,null,null,null,null,null,null,null,479,"2011-10-31","2011-11-01","2011-01-01","2011-11-03",1.9558,25.145,7.4409999999999998,0.8619,305.36,3.4527999999999999,0.70299999999999996,4.3724999999999996,4.3479999999999999,9.0730000000000004,1.3809,null,null,null,null,null,null,null,null,null,null,null,null,null,null,null,null,null,null,null,null,null,null,null,null,null,null,null,null,null,null,null,null,null,null,null,null,null,null,null,null,"","","","","","","","","","","","",null,null,null,null,null,null,null,null,null,null,null,null,null,null,{"$error":"#VALUE!"},"","","","","","","","","","",""]
["2012-08-16",1.9558,24.962,7.4435000000000002,0.78259999999999996,279.39,3.4527999999999999,0.69620000000000004,4.0875000000000004,4.4808000000000003,8.2249999999999996,1.2276,null,null,null,null,null,null,null,null,null,null,481,"2011-11-07","2011-11-01","2011-01-01","2011-11-07",1.9558,24.992000000000001,7.4427000000000003,0.86124999999999996,304.05,3.4527999999999999,0.70299999999999996,4.3611000000000004,4.3566000000000003,9.1113,1.3773,null,null,null,null,null,null,null,null,null,null,null,null,null,null,null,null,null,null,null,null,null,null,null,null,null,null,null,null,null,null,null,null,null,null,null,null,null,null,null,null,"","","","","","","","","","","","",null,null,null,null,null,null,null,null,null,null,null,null,null,null,{"$error":"#VALUE!"},"","","","","","","","","","",""]
["2012-08-23",1.9558,24.968,7.4484000000000004,0.78785000000000005,277.2,3.4527999999999999,0.69630000000000003,4.0761000000000003,4.4930000000000003,8.3412000000000006,1.2447999999999999,null,null,null,null,null,null,null,null,null,null,486,"2011-11-07","2011-11-01","2011-01-01","2011-11-12",{"$f":"IF($W685=\"\",\"\",INDEX($A:$Z,$W685,AB$3))","v":1.9558},25.701000000000001,7.4421999999999997,0.85680000000000001,310.52,3.4527999999999999,0.70150000000000001,4.4234999999999998,4.3472,9.0935000000000006,1.365,null,null,null,null,null,null,null,null,null,null,null,null,null,null,null,null,null,null,null,null,null,null,null,null,null,null,null,null,null,null,null,null,null,null,null,null,null,null,null,null,"","","","","","","","","","","","",null,null,null,null,null,null,null,null,null,null,null,null,null,null,{"$error":"#VALUE!"},"","","","","","","","","","",""]
["2012-08-29",1.9558,24.827999999999999,7.4489999999999998,0.79469999999999996,280.98,3.4527999999999999,0.69630000000000003,4.1012000000000004,4.4562999999999997,8.2405000000000008,1.2547999999999999,null,null,null,null,null,null,null,null,null,null,488,"2011-11-14","2011-11-01","2011-01-01","2011-11-16",1.9558,25.768000000000001,7.4427000000000003,0.85345000000000004,314.77,3.4527999999999999,0.70020000000000004,4.4145000000000003,4.3494999999999999,9.1237999999999992,1.3532,null,null,null,null,null,null,null,null,null,null,null,null,null,null,null,null,null,null,null,null,null,null,null,null,null,null,null,null,null,null,null,null,null,null,null,null,null,null,null,null,"","","","","","","","","","","","",null,null,null,null,null,null,null,null,null,null,null,null,null,null,{"$error":"#VALUE!"},"","","","","","","","","","",""]
["2012-09-06",1.9558,24.794,7.4508999999999999,0.79035,284.60000000000002,3.4527999999999999,0.69620000000000004,4.2008999999999999,4.4882999999999997,8.4414999999999996,1.2578,null,null,null,null,null,null,null,null,null,null,492,"2011-11-21","2011-11-01","2011-01-01","2011-11-22",{"$f":"IF($W695=\"\",\"\",INDEX($A:$Z,$W695,AB$3))","v":1.9558},25.597999999999999,7.4425999999999997,0.86,307.07,3.4527999999999999,0.70379999999999998,4.4469000000000003,4.3628,9.1795000000000009,1.3458000000000001,null,null,null,null,null,null,null,null,null,null,null,null,null,null,null,null,null,null,null,null,null,null,null,null,null,null,null,null,null,null,null,null,null,null,null,null,null,null,null,null,"",{"$f":"IF($BA695=\"\",\"\",SUM(BB695:BB701)/7)","v":""},"","","","","","","","","","",null,null,null,null,null,null,null,null,null,null,null,null,null,null,{"$error":"#VALUE!"},{"$f":"IF($BA695=\"\",\"\",SUM(CB695:CB701)/7)","v":""},"","","","","","","","","",""]
["2012-09-13",1.9558,24.44,7.4541000000000004,0.80169999999999997,283.33,3.4527999999999999,0.69610000000000005,4.0926999999999998,4.5010000000000003,8.4734999999999996,1.2896000000000001,null,null,null,null,null,null,null,null,null,null,496,"2011-11-21","2011-11-01","2011-01-01","2011-11-27",1.9558,26.030999999999999,7.4371999999999998,0.85585,314.32,3.4527999999999999,0.69779999999999998,4.5143000000000004,4.3653000000000004,9.2505000000000006,1.3229,null,null,null,null,null,null,null,null,null,null,null,null,null,null,null,null,null,null,null,null,null,null,null,null,null,null,null,null,null,null,null,null,null,null,null,null,null,null,null,null,"","","","","","","","","","","","",null,null,null,null,null,null,null,null,null,null,null,null,null,null,{"$error":"#VALUE!"},"","","","","","","","","","",""]
["2012-09-20",1.9558,24.87,7.4545000000000003,0.80269999999999997,283.10000000000002,3.4527999999999999,0.69620000000000004,4.1353,4.5042999999999997,8.5213999999999999,1.3002,null,null,null,null,null,null,null,null,null,null,500,"2011-11-28","2011-12-01","2011-01-01","2011-12-02",{"$f":"IF($W705=\"\",\"\",INDEX($A:$Z,$W705,AB$3))","v":1.9558},25.279,7.4329999999999998,0.85909999999999997,302.5,3.4527999999999999,0.69750000000000001,4.5049999999999999,4.3550000000000004,9.1257999999999999,1.3492,null,null,null,null,null,null,null,null,null,null,null,null,null,null,null,null,null,null,null,null,null,null,null,null,null,null,null,null,null,null,null,null,null,null,null,null,null,null,null,null,"","","","","","","","","","","","",null,null,null,null,null,null,null,null,null,null,null,null,null,null,{"$error":"#VALUE!"},"","","","","","","","","","",""]
["2012-09-27",1.9558,24.983000000000001,7.4561000000000002,0.79490000000000005,285.77999999999997,3.4527999999999999,0.69620000000000004,4.1510999999999996,4.5178000000000003,8.4998000000000005,1.2845,null,null,null,null,null,null,null,null,null,null,503,{"$f":"IF(W710=\"\",\"\",IF(WEEKDAY(AA710,2)=1,AA710,X709))","v":"2011-12-05"},{"$f":"IF(W710=\"\",\"\",DATE(YEAR(AA710),MONTH(AA710),1))","v":"2011-12-01"},{"$f":"IF(W710=\"\",\"\",DATE(YEAR(AA710),1,1))","v":"2011-01-01"},"2011-12-07",1.9558,25.23,7.4348000000000001,0.85655000000000003,300.2,3.4527999999999999,0.69779999999999998,4.4547999999999996,4.3540000000000001,9.0551999999999992,1.3393999999999999,null,null,null,null,null,null,null,null,null,null,null,null,null,null,null,null,null,null,null,null,null,null,null,null,null,null,null,null,null,null,null,null,null,null,null,null,null,null,null,null,"","","","","","","","","","","","",null,null,null,null,null,null,null,null,null,null,null,null,null,null,{"$error":"#VALUE!"},"","","","","","","","","","",""]
["2012-10-02",1.9558,25.08,7.4554,0.79830000000000001,285.13,3.4527999999999999,0.69620000000000004,4.1056999999999997,4.5223000000000004,8.4731000000000005,1.2877000000000001,null,null,null,null,null,null,null,null,null,null,506,"2011-12-05","2011-12-01","2011-01-01","2011-12-10",1.9558,25.475000000000001,7.4348999999999998,0.85314999999999996,305.08,3.4527999999999999,0.69810000000000005,4.5148999999999999,4.3428000000000004,9.0184999999999995,1.3384,null,null,null,null,null,null,null,null,null,null,null,null,null,null,null,null,null,null,null,null,null,null,null,null,null,null,null,null,null,null,null,null,null,null,null,null,null,null,null,null,"","","","","","","","","","","","",null,null,null,null,null,null,null,null,null,null,null,null,null,null,{"$error":"#VALUE!"},"","","","","","","","","","",""]
["2012-10-11",1.9558,24.95,7.4581999999999997,0.80495000000000005,282.14999999999998,3.4527999999999999,0.69610000000000005,4.0824999999999996,4.5709999999999997,8.6067999999999998,1.2888999999999999,null,null,null,null,null,null,null,null,null,null,511,"2011-12-12","2011-12-01","2011-01-01","2011-12-17",1.9558,25.343,7.4336000000000002,0.84055000000000002,303.38,3.4527999999999999,0.69750000000000001,4.4890999999999996,4.3345000000000002,9.0336999999999996,1.3064,null,null,null,null,null,null,null,null,null,null,null,null,null,null,null,null,null,null,null,null,null,null,null,null,null,null,null,null,null,null,null,null,null,null,null,null,null,null,null,null,"","","","","","","","","","","","",null,null,null,null,null,null,null,null,null,null,null,null,null,null,{"$error":"#VALUE!"},"","","","","","","","","","",""]
["2012-10-18",1.9558,24.794,7.4592000000000001,0.8115,279,3.4527999999999999,0.69620000000000004,4.1029,4.5777000000000001,8.6586999999999996,1.3120000000000001,null,null,null,null,null,null,null,null,null,null,514,"2011-12-19","2011-12-01","2011-01-01","2011-12-22",{"$f":"IF($W725=\"\",\"\",INDEX($A:$Z,$W725,AB$3))","v":1.9558},25.617999999999999,7.4339000000000004,0.83230000000000004,302.38,3.4527999999999999,0.69650000000000001,4.4568000000000003,4.3063000000000002,9.0021000000000004,1.3053999999999999,null,null,null,null,null,null,null,null,null,null,null,null,null,null,null,null,null,null,null,null,null,null,null,null,null,null,null,null,null,null,null,null,null,null,null,null,null,null,null,null,"","","","","","","","","","","","",null,null,null,null,null,null,null,null,null,null,null,null,null,null,{"$error":"#VALUE!"},"","","","","","","","","","",""]
["2012-10-19",1.9558,24.756,7.4592999999999998,0.81189999999999996,277.19,3.4527999999999999,0.69610000000000005,4.1026999999999996,4.5803000000000003,8.5843000000000007,1.3118000000000001,null,null,null,null,null,null,null,null,null,null,515,"2011-12-19","2011-12-01","2011-01-01","2011-12-23",1.9558,25.625,7.4336000000000002,0.83250000000000002,306.45,3.4527999999999999,0.69650000000000001,4.4352,4.3,8.9952000000000005,1.3047,null,null,null,null,null,null,null,null,null,null,null,null,null,null,null,null,null,null,null,null,null,null,null,null,null,null,null,null,null,null,null,null,null,null,null,null,null,null,null,null,"","","","","","","","","","","","",null,null,null,null,null,null,null,null,null,null,null,null,null,null,{"$error":"#VALUE!"},"","","","","","","","","","",""]
["2012-10-25",1.9558,24.972999999999999,7.4592000000000001,0.80830000000000002,280.89,3.4527999999999999,0.69630000000000003,4.1356999999999999,4.5765000000000002,8.6557999999999993,1.2942,null,null,null,null,null,null,null,null,null,null,516,"2011-12-26","2011-12-01","2011-01-01","2011-12-27",1.9558,25.838999999999999,7.4339000000000004,0.83309999999999995,306.89,3.4527999999999999,0.69650000000000001,4.4397000000000002,4.2960000000000003,8.9648000000000003,1.3057000000000001,null,null,null,null,null,null,null,null,null,null,null,null,null,null,null,null,null,null,null,null,null,null,null,null,null,null,null,null,null,null,null,null,null,null,null,null,null,null,null,null,"","","","","","","","","","","","",null,null,null,null,null,null,null,null,null,null,null,null,null,null,{"$error":"#VALUE!"},"","","","","","","","","","",""]
["2012-11-03",1.9558,25.231999999999999,7.4596,0.80159999999999998,281.42,3.4527999999999999,0.69620000000000004,4.1087999999999996,4.5274999999999999,8.5954999999999995,1.2849999999999999,null,null,null,null,null,null,null,null,null,null,521,"2012-01-02","2012-01-01","2012-01-01","2012-01-03",1.9558,25.504999999999999,7.4335000000000004,0.83513999999999999,314.38,3.4527999999999999,0.69979999999999998,4.4733000000000001,4.3324999999999996,8.9275000000000002,1.2935000000000001,null,null,null,null,null,null,null,null,null,null,null,null,null,null,null,null,null,null,null,null,null,null,null,null,null,null,null,null,null,null,null,null,null,null,null,null,null,null,null,null,"","","","","","","","","","","","",null,null,null,null,null,null,null,null,null,null,null,null,null,null,{"$error":"#VALUE!"},"","","","","","","","","","",""]
["2012-11-08",1.9558,25.395,7.4593999999999996,0.7984,282.10000000000002,3.4527999999999999,0.69630000000000003,4.1131000000000002,4.5163000000000002,8.5547000000000004,1.2746,null,null,null,null,null,null,null,null,null,null,524,"2012-01-02","2012-01-01","2012-01-01","2012-01-06",1.9558,25.914000000000001,7.4359999999999999,0.82674999999999998,320.77999999999997,3.4527999999999999,0.69830000000000003,4.5053999999999998,4.3390000000000004,8.8460999999999999,1.2831999999999999,null,null,null,null,null,null,null,null,null,null,null,null,null,null,null,null,null,null,null,null,null,null,null,null,null,null,null,null,null,null,null,null,null,null,null,null,null,null,null,null,"","","","","","","","","","","","",null,null,null,null,null,null,null,null,null,null,null,null,null,null,{"$error":"#VALUE!"},"","","","","","","","","","",""]
["2012-11-15",1.9558,25.5,7.4581,0.80259999999999998,285.06,3.4527999999999999,0.69610000000000005,4.1775000000000002,4.5430000000000001,8.6259999999999994,1.2726,null,null,null,null,null,null,null,null,null,null,527,"2012-01-09","2012-01-01","2012-01-01","2012-01-11",{"$f":"IF($W745=\"\",\"\",INDEX($A:$Z,$W745,AB$3))","v":1.9558},25.785,7.4355000000000002,0.82820000000000005,312.31,3.4527999999999999,0.69810000000000005,4.4626000000000001,4.3620000000000001,8.8119999999999994,1.2807999999999999,null,null,null,null,null,null,null,null,null,null,null,null,null,null,null,null,null,null,null,null,null,null,null,null,null,null,null,null,null,null,null,null,null,null,null,null,null,null,null,null,"","","","","","","","","","","","",null,null,null,null,null,null,null,null,null,null,null,null,null,null,{"$error":"#VALUE!"},"","","","","","","","","","",""]
["2012-11-22",1.9558,25.484000000000002,7.4573999999999998,0.80369999999999997,281.27,3.4527999999999999,0.69610000000000005,4.1249000000000002,4.5345000000000004,8.6219999999999999,1.2805,null,null,null,null,null,null,null,null,null,null,530,"2012-01-16","2012-01-01","2012-01-01","2012-01-16",1.9558,25.45,7.4364999999999997,0.83320000000000005,309.70999999999998,3.4527999999999999,0.70020000000000004,4.4059999999999997,4.3345000000000002,8.8892000000000007,1.2770999999999999,null,null,null,null,null,null,null,null,null,null,null,null,null,null,null,null,null,null,null,null,null,null,null,null,null,null,null,null,null,null,null,null,null,null,null,null,null,null,null,null,"","","","","","","","","","","","",null,null,null,null,null,null,null,null,null,null,null,null,null,null,{"$error":"#VALUE!"},"","","","","","","","","","",""]
["2012-11-29",1.9558,25.265000000000001,7.4592000000000001,0.80686999999999998,281.10000000000002,3.4527999999999999,0.69650000000000001,4.1075999999999997,4.5156000000000001,8.6173999999999999,1.2890999999999999,null,null,null,null,null,null,null,null,null,null,535,"2012-01-16","2012-01-01","2012-01-01","2012-01-21",{"$f":"IF($W755=\"\",\"\",INDEX($A:$Z,$W755,AB$3))","v":1.9558},25.466000000000001,7.4362000000000004,0.83389999999999997,304.68,3.4527999999999999,0.69899999999999995,4.3196000000000003,4.3440000000000003,8.7804000000000002,1.2902,null,null,null,null,null,null,null,null,null,null,null,null,null,null,null,null,null,null,null,null,null,null,null,null,null,null,null,null,null,null,null,null,null,null,null,null,null,null,null,null,"","","","","","","","","","","","",null,null,null,null,null,null,null,null,null,null,null,null,null,null,{"$error":"#VALUE!"},"","","","","","","","","","",""]
["2012-12-07",1.9558,25.195,7.4592000000000001,0.81135000000000002,283.48,3.4527999999999999,0.69630000000000003,4.1340000000000003,4.5418000000000003,8.6294000000000004,1.3071999999999999,null,null,null,null,null,null,null,null,null,null,539,"2012-01-23","2012-01-01","2012-01-01","2012-01-27",1.9558,25.193000000000001,7.4343000000000004,0.83799999999999997,294.8,3.4527999999999999,0.6986,4.2469999999999999,4.3407999999999998,8.8774999999999995,1.3145,null,null,null,null,null,null,null,null,null,null,null,null,null,null,null,null,null,null,null,null,null,null,null,null,null,null,null,null,null,null,null,null,null,null,null,null,null,null,null,null,"","","","","","","","","","","","",null,null,null,null,null,null,null,null,null,null,null,null,null,null,{"$error":"#VALUE!"},"","","","","","","","","","",""]
["2012-12-13",1.9558,25.265000000000001,7.4603999999999999,0.80774999999999997,282.33,3.4527999999999999,0.69610000000000005,4.0968999999999998,4.5267999999999997,8.6274999999999995,1.304,null,null,null,null,null,null,null,null,null,null,541,"2012-01-30","2012-01-01","2012-01-01","2012-01-31",{"$f":"IF($W765=\"\",\"\",INDEX($A:$Z,$W765,AB$3))","v":1.9558},25.27,7.4340999999999999,0.83579999999999999,296.04000000000002,3.4527999999999999,0.69910000000000005,4.2545000000000002,4.3380000000000001,8.8995999999999995,1.3109999999999999,null,null,null,null,null,null,null,null,null,null,null,null,null,null,null,null,null,null,null,null,null,null,null,null,null,null,null,null,null,null,null,null,null,null,null,null,null,null,null,null,"","","","","","","","","","","","",null,null,null,null,null,null,null,null,null,null,null,null,null,null,{"$error":"#VALUE!"},"","","","","","","","","","",""]
["2012-12-20",1.9558,25.254000000000001,7.4607999999999999,0.81610000000000005,286.81,3.4527999999999999,0.69630000000000003,4.0735999999999999,4.4755000000000003,8.6661999999999999,1.3302,null,null,null,null,null,null,null,null,null,null,545,"2012-01-30","2012-02-01","2012-01-01","2012-02-05",1.9558,25.064,7.4333,0.83220000000000005,291.8,3.4527999999999999,0.69989999999999997,4.1932,4.3484999999999996,8.8480000000000008,1.3160000000000001,null,null,null,null,null,null,null,null,null,null,null,null,null,null,null,null,null,null,null,null,null,null,null,null,null,null,null,null,null,null,null,null,null,null,null,null,null,null,null,null,"","","","","","","","","","","","",null,null,null,null,null,null,null,null,null,null,null,null,null,null,{"$error":"#VALUE!"},"","","","","","","","","","",""]
["2012-12-28",1.9558,25.114999999999998,7.4602000000000004,0.81989999999999996,291.43,3.4527999999999999,0.69710000000000005,4.0688000000000004,4.4215,8.6273,1.3266,null,null,null,null,null,null,null,null,null,null,548,{"$f":"IF(W774=\"\",\"\",IF(WEEKDAY(AA774,2)=1,AA774,X773))","v":"2012-02-06"},{"$f":"IF(W774=\"\",\"\",DATE(YEAR(AA774),MONTH(AA774),1))","v":"2012-02-01"},{"$f":"IF(W774=\"\",\"\",DATE(YEAR(AA774),1,1))","v":"2012-01-01"},"2012-02-09",1.9558,24.812000000000001,7.4328000000000003,0.83494999999999997,289.64999999999998,3.4527999999999999,0.69899999999999995,4.1772999999999998,4.3505000000000003,8.8285,1.3273999999999999,null,null,null,null,null,null,null,null,null,null,null,null,null,null,null,null,null,null,null,null,null,null,null,null,null,null,null,null,null,null,null,null,null,null,null,null,null,null,null,null,"","","","","","","","","","","","",null,null,null,null,null,null,null,null,null,null,null,null,null,null,{"$error":"#VALUE!"},"","","","","","","","","","",""]
["2013-01-08",1.9558,25.539000000000001,7.4596999999999998,0.81169999999999998,291.57,3.4527999999999999,0.69750000000000001,4.1193,4.4222999999999999,8.5144000000000002,1.3039000000000001,null,null,null,null,null,null,null,null,null,null,552,"2012-02-13","2012-02-01","2012-01-01","2012-02-15",1.9558,25.097000000000001,7.4333,0.83765000000000001,291.58,3.4527999999999999,0.69879999999999998,4.1909999999999998,4.3487999999999998,8.7813999999999997,1.3169,null,null,null,null,null,null,null,null,null,null,null,null,null,null,null,null,null,null,null,null,null,null,null,null,null,null,null,null,null,null,null,null,null,null,null,null,null,null,null,null,"","","","","","","","","","","","",null,null,null,null,null,null,null,null,null,null,null,null,null,null,{"$error":"#VALUE!"},"","","","","","","","","","",""]
["2013-01-09",1.9558,25.587,7.4603000000000002,0.8145,292.7,3.4527999999999999,0.69689999999999996,4.1245000000000003,4.4109999999999996,8.5765999999999991,1.3086,null,null,null,null,null,null,null,null,null,null,553,"2012-02-13","2012-02-01","2012-01-01","2012-02-16",1.9558,25.17,7.4324000000000003,0.83479999999999999,289.63,3.4527999999999999,0.69869999999999999,4.1875,4.3470000000000004,8.7860999999999994,1.3091999999999999,null,null,null,null,null,null,null,null,null,null,null,null,null,null,null,null,null,null,null,null,null,null,null,null,null,null,null,null,null,null,null,null,null,null,null,null,null,null,null,null,"","","","","","","","","","","","",null,null,null,null,null,null,null,null,null,null,null,null,null,null,{"$error":"#VALUE!"},"","","","","","","","","","",""]
["2013-01-15",1.9558,25.613,7.4626000000000001,0.83120000000000005,297.08,3.4527999999999999,0.69730000000000003,4.12,4.3848000000000003,8.6178000000000008,1.3341000000000001,null,null,null,null,null,null,null,null,null,null,555,"2012-02-20","2012-02-01","2012-01-01","2012-02-20",{"$f":"IF($W785=\"\",\"\",INDEX($A:$Z,$W785,AB$3))","v":1.9558},25.001000000000001,7.4333999999999998,0.83109999999999995,290.14,3.4527999999999999,0.69879999999999998,4.1816000000000004,4.3544999999999998,8.8315999999999999,1.3159000000000001,null,null,null,null,null,null,null,null,null,null,null,null,null,null,null,null,null,null,null,null,null,null,null,null,null,null,null,null,null,null,null,null,null,null,null,null,null,null,null,null,"","","","","","","","","","","","",null,null,null,null,null,null,null,null,null,null,null,null,null,null,{"$error":"#VALUE!"},"","","","","","","","","","",""]
["2013-01-22",1.9558,25.626000000000001,7.4633000000000003,0.83899999999999997,292.55,3.4527999999999999,0.6976,4.1699000000000002,4.3602999999999996,8.6936,1.3323,null,null,null,null,null,null,null,null,null,null,560,"2012-02-20","2012-02-01","2012-01-01","2012-02-25",1.9558,25.033000000000001,7.4362000000000004,0.84814999999999996,288.70999999999998,3.4527999999999999,0.6986,4.1665000000000001,4.3525,8.8224999999999998,1.3411999999999999,null,null,null,null,null,null,null,null,null,null,null,null,null,null,null,null,null,null,null,null,null,null,null,null,null,null,null,null,null,null,null,null,null,null,null,null,null,null,null,null,"","","","","","","","","","","","",null,null,null,null,null,null,null,null,null,null,null,null,null,null,{"$error":"#VALUE!"},"","","","","","","","","","",""]
["2013-02-01",1.9558,25.619,7.4612999999999996,0.85699999999999998,292.27,3.4527999999999999,0.69950000000000001,4.1944999999999997,4.3842999999999996,8.6325000000000003,1.355,null,null,null,null,null,null,null,null,null,null,565,"2012-02-27","2012-03-01","2012-01-01","2012-03-04",1.9558,24.715,7.4345999999999997,0.8327,289.3,3.4527999999999999,0.69830000000000003,4.1074000000000002,4.3507999999999996,8.8315999999999999,1.3217000000000001,null,null,null,null,null,null,null,null,null,null,null,null,null,null,null,null,null,null,null,null,null,null,null,null,null,null,null,null,null,null,null,null,null,null,null,null,null,null,null,null,"","","","","","","","","","","","",null,null,null,null,null,null,null,null,null,null,null,null,null,null,{"$error":"#VALUE!"},"","","","","","","","","","",""]
["2013-02-05",1.9558,25.669,7.4599000000000002,0.8619,293.23,3.4527999999999999,0.70030000000000003,4.1639999999999997,4.3719999999999999,8.5823,1.3552,null,null,null,null,null,null,null,null,null,null,566,"2012-03-05","2012-03-01","2012-01-01","2012-03-06",1.9558,24.78,7.4340999999999999,0.83465,291.26,3.4527999999999999,0.69799999999999995,4.1260000000000003,4.3502999999999998,8.8382000000000005,1.3220000000000001,null,null,null,null,null,null,null,null,null,null,null,null,null,null,null,null,null,null,null,null,null,null,null,null,null,null,null,null,null,null,null,null,null,null,null,null,null,null,null,null,"","","","","","","","","","","","",null,null,null,null,null,null,null,null,null,null,null,null,null,null,{"$error":"#VALUE!"},"","","","","","","","","","",""]
["2013-02-12",1.9558,25.24,7.4617000000000004,0.85350000000000004,291.72000000000003,3.4527999999999999,0.69950000000000001,4.1536999999999997,4.4002999999999997,8.5754000000000001,1.3391,null,null,null,null,null,null,null,null,null,null,570,"2012-03-05","2012-03-01","2012-01-01","2012-03-11",{"$f":"IF($W805=\"\",\"\",INDEX($A:$Z,$W805,AB$3))","v":1.9558},24.715,7.4352,0.83594999999999997,291.89999999999998,3.4527999999999999,0.69689999999999996,4.0991999999999997,4.3555000000000001,8.9075000000000006,1.3190999999999999,null,null,null,null,null,null,null,null,null,null,null,null,null,null,null,null,null,null,null,null,null,null,null,null,null,null,null,null,null,null,null,null,null,null,null,null,null,null,null,null,"","","","","","","","","","","","",null,null,null,null,null,null,null,null,null,null,null,null,null,null,{"$error":"#VALUE!"},"","","","","","","","","","",""]
["2013-02-20",1.9558,25.434000000000001,7.4599000000000002,0.86309999999999998,290.79000000000002,3.4527999999999999,0.69969999999999999,4.1679000000000004,4.3785999999999996,8.4482999999999997,1.3349,null,null,null,null,null,null,null,null,null,null,575,"2012-03-12","2012-03-01","2012-01-01","2012-03-17",1.9558,24.510999999999999,7.4356,0.82950000000000002,290.64,3.4527999999999999,0.69699999999999995,4.13,4.3822999999999999,8.8559999999999999,1.3116000000000001,null,null,null,null,null,null,null,null,null,null,null,null,null,null,null,null,null,null,null,null,null,null,null,null,null,null,null,null,null,null,null,null,null,null,null,null,null,null,null,null,"","","","","","","","","","","","",null,null,null,null,null,null,null,null,null,null,null,null,null,null,{"$error":"#VALUE!"},"","","","","","","","","","",""]
["2013-02-26",1.9558,25.52,7.4614000000000003,0.87890000000000001,293.54000000000002,3.4527999999999999,0.69989999999999997,4.1470000000000002,4.3773,8.4740000000000002,1.3304,null,null,null,null,null,null,null,null,null,null,577,"2012-03-19","2012-03-01","2012-01-01","2012-03-21",{"$f":"IF($W815=\"\",\"\",INDEX($A:$Z,$W815,AB$3))","v":1.9558},24.463999999999999,7.4352999999999998,0.83220000000000005,289.38,3.4527999999999999,0.6966,4.1269999999999998,4.3788,8.9120000000000008,1.3198000000000001,null,null,null,null,null,null,null,null,null,null,null,null,null,null,null,null,null,null,null,null,null,null,null,null,null,null,null,null,null,null,null,null,null,null,null,null,null,null,null,null,"","","","","","","","","","","","",null,null,null,null,null,null,null,null,null,null,null,null,null,null,{"$error":"#VALUE!"},"","","","","","","","","","",""]
["2013-03-01",1.9558,25.637,7.4560000000000004,0.86299999999999999,295.8,3.4527999999999999,0.70069999999999999,4.1515000000000004,4.3587999999999996,8.4474999999999998,1.3129,null,null,null,null,null,null,null,null,null,null,580,"2012-03-19","2012-03-01","2012-01-01","2012-03-24",1.9558,24.725000000000001,7.4355000000000002,0.83630000000000004,294.48,3.4527999999999999,0.69689999999999996,4.1681999999999997,4.3723000000000001,8.9239999999999995,1.3242,null,null,null,null,null,null,null,null,null,null,null,null,null,null,null,null,null,null,null,null,null,null,null,null,null,null,null,null,null,null,null,null,null,null,null,null,null,null,null,null,"","","","","","","","","","","","",null,null,null,null,null,null,null,null,null,null,null,null,null,null,{"$error":"#VALUE!"},"","","","","","","","","","",""]
["2013-03-12",1.9558,25.542000000000002,7.4569000000000001,0.87334999999999996,303.39999999999998,3.4527999999999999,0.70079999999999998,4.1471999999999998,4.3718000000000004,8.3260000000000005,1.2994000000000001,null,null,null,null,null,null,null,null,null,null,585,"2012-03-26","2012-03-01","2012-01-01","2012-03-31",{"$f":"IF($W825=\"\",\"\",INDEX($A:$Z,$W825,AB$3))","v":1.9558},24.73,7.4398999999999997,0.83389999999999997,294.92,3.4527999999999999,0.70030000000000003,4.1521999999999997,4.3819999999999997,8.8454999999999995,1.3355999999999999,null,null,null,null,null,null,null,null,null,null,null,null,null,null,null,null,null,null,null,null,null,null,null,null,null,null,null,null,null,null,null,null,null,null,null,null,null,null,null,null,"","","","","","","","","","","","",null,null,null,null,null,null,null,null,null,null,null,null,null,null,{"$error":"#VALUE!"},"","","","","","","","","","",""]
["2013-03-19",1.9558,25.62,7.4546999999999999,0.85619999999999996,307.17,3.4527999999999999,0.70120000000000005,4.1565000000000003,4.4153000000000002,8.3369999999999997,1.2928999999999999,null,null,null,null,null,null,null,null,null,null,588,"2012-04-02","2012-04-01","2012-01-01","2012-04-05",1.9558,24.594999999999999,7.4397000000000002,0.82850000000000001,295.63,3.4527999999999999,0.70020000000000004,4.1547999999999998,4.375,8.8185000000000002,1.3142,null,null,null,null,null,null,null,null,null,null,null,null,null,null,null,null,null,null,null,null,null,null,null,null,null,null,null,null,null,null,null,null,null,null,null,null,null,null,null,null,"","","","","","","","","","","","",null,null,null,null,null,null,null,null,null,null,null,null,null,null,{"$error":"#VALUE!"},"","","","","","","","","","",""]
["2013-03-26",1.9558,25.738,7.4542000000000002,0.85160000000000002,306.45,3.4527999999999999,0.70209999999999995,4.1607000000000003,4.415,8.4360999999999997,1.2935000000000001,null,null,null,null,null,null,null,null,null,null,589,"2012-04-09","2012-04-01","2012-01-01","2012-04-10",{"$f":"IF($W835=\"\",\"\",INDEX($A:$Z,$W835,AB$3))","v":1.9558},24.704000000000001,7.4397000000000002,0.82420000000000004,295.95,3.4527999999999999,0.69950000000000001,4.1707000000000001,4.3727999999999998,8.8133999999999997,1.3068,null,null,null,null,null,null,null,null,null,null,null,null,null,null,null,null,null,null,null,null,null,null,null,null,null,null,null,null,null,null,null,null,null,null,null,null,null,null,null,null,"","","","","","","","","","","","",null,null,null,null,null,null,null,null,null,null,null,null,null,null,{"$error":"#VALUE!"},"","","","","","","","","","",""]
["2013-04-04",1.9558,25.827999999999999,7.4535,0.84840000000000004,302.10000000000002,3.4527999999999999,0.70130000000000003,4.1908000000000003,4.4207999999999998,8.3257999999999992,1.2827999999999999,null,null,null,null,null,null,null,null,null,null,593,"2012-04-09","2012-04-01","2012-01-01","2012-04-15",1.9558,24.75,7.4386000000000001,0.82479999999999998,297.05,3.4527999999999999,0.69850000000000001,4.1807999999999996,4.3760000000000003,8.8945000000000007,1.3148,null,null,null,null,null,null,null,null,null,null,null,null,null,null,null,null,null,null,null,null,null,null,null,null,null,null,null,null,null,null,null,null,null,null,null,null,null,null,null,null,"","","","","","","","","","","","",null,null,null,null,null,null,null,null,null,null,null,null,null,null,{"$error":"#VALUE!"},"","","","","","","","","","",""]
["2013-04-06",1.9558,25.763000000000002,7.4546999999999999,0.84909999999999997,301.13,3.4527999999999999,0.70120000000000005,4.1738,4.4215,8.3984000000000005,1.2944,null,null,null,null,null,null,null,null,null,null,594,"2012-04-16","2012-04-01","2012-01-01","2012-04-17",1.9558,24.789000000000001,7.4389000000000003,0.82269999999999999,298.88,3.4527999999999999,0.69879999999999998,4.194,4.3730000000000002,8.8821999999999992,1.3024,null,null,null,null,null,null,null,null,null,null,null,null,null,null,null,null,null,null,null,null,null,null,null,null,null,null,null,null,null,null,null,null,null,null,null,null,null,null,null,null,"","","","","","","","","","","","",null,null,null,null,null,null,null,null,null,null,null,null,null,null,{"$error":"#VALUE!"},"","","","","","","","","","",""]
["2013-04-11",1.9558,25.864999999999998,7.4562999999999997,0.8548,298.11,3.4527999999999999,0.70069999999999999,4.1159999999999997,4.3890000000000002,8.3353000000000002,1.3086,null,null,null,null,null,null,null,null,null,null,597,"2012-04-16","2012-04-01","2012-01-01","2012-04-20",{"$f":"IF($W845=\"\",\"\",INDEX($A:$Z,$W845,AB$3))","v":1.9558},24.841999999999999,7.4389000000000003,0.81710000000000005,297.23,3.4527999999999999,0.69850000000000001,4.1870000000000003,4.375,8.8415999999999997,1.3086,null,null,null,null,null,null,null,null,null,null,null,null,null,null,null,null,null,null,null,null,null,null,null,null,null,null,null,null,null,null,null,null,null,null,null,null,null,null,null,null,"","","","","","","","","","","","",null,null,null,null,null,null,null,null,null,null,null,null,null,null,{"$error":"#VALUE!"},"","","","","","","","","","",""]
["2013-04-18",1.9558,25.853999999999999,7.4561999999999999,0.86129999999999995,294.54000000000002,3.4527999999999999,0.70050000000000001,4.1144999999999996,4.3697999999999997,8.4726999999999997,1.3129,null,null,null,null,null,null,null,null,null,null,600,"2012-04-23","2012-04-01","2012-01-01","2012-04-25",1.9558,24.997,7.4401999999999999,0.81540000000000001,297.69,3.4527999999999999,0.69930000000000003,4.2003000000000004,4.3818000000000001,8.8879999999999999,1.3161,null,null,null,null,null,null,null,null,null,null,null,null,null,null,null,null,null,null,null,null,null,null,null,null,null,null,null,null,null,null,null,null,null,null,null,null,null,null,null,null,"","","","","","","","","","","","",null,null,null,null,null,null,null,null,null,null,null,null,null,null,{"$error":"#VALUE!"},"","","","","","","","","","",""]
["2013-04-25",1.9558,25.908999999999999,7.4553000000000003,0.85250000000000004,299.55,3.4527999999999999,0.70009999999999994,4.1367000000000003,4.3494999999999999,8.5884999999999998,1.3006,null,null,null,null,null,null,null,null,null,null,603,"2012-04-30","2012-04-01","2012-01-01","2012-04-30",{"$f":"IF($W855=\"\",\"\",INDEX($A:$Z,$W855,AB$3))","v":1.9558},24.87,7.4385000000000003,0.81530000000000002,287.25,3.4527999999999999,0.69950000000000001,4.1787999999999998,4.3878000000000004,8.9024000000000001,1.3229,null,null,null,null,null,null,null,null,null,null,null,null,null,null,null,null,null,null,null,null,null,null,null,null,null,null,null,null,null,null,null,null,null,null,null,null,null,null,null,null,"",{"$f":"IF($BA855=\"\",\"\",SUM(BB855:BB861)/7)","v":""},"","","","","","","","","","",null,null,null,null,null,null,null,null,null,null,null,null,null,null,{"$f":"IF(AND(WEEKDAY(CA855,2)=1,CA855<=MaxDate-6),CA855,\"\")","v":{"$error":"#VALUE!"}},{"$f":"IF($BA855=\"\",\"\",SUM(CB855:CB861)/7)","v":""},"","","","","","","","","",""]
["2013-05-03",1.9558,25.65,7.4558999999999997,0.84660000000000002,297.08,3.4527999999999999,0.70009999999999994,4.1464999999999996,4.3215000000000003,8.5503,1.3190999999999999,null,null,null,null,null,null,null,null,null,null,607,"2012-04-30","2012-05-01","2012-01-01","2012-05-05",1.9558,25.023,7.4378000000000002,0.81194999999999995,284.85000000000002,3.4527999999999999,0.69899999999999995,4.1848000000000001,4.4047999999999998,8.9040999999999997,1.3131999999999999,null,null,null,null,null,null,null,null,null,null,null,null,null,null,null,null,null,null,null,null,null,null,null,null,null,null,null,null,null,null,null,null,null,null,null,null,null,null,null,null,"","","","","","","","","","","","",null,null,null,null,null,null,null,null,null,null,null,null,null,null,{"$error":"#VALUE!"},"","","","","","","","","","",""]
["2013-05-10",1.9558,25.792000000000002,7.4535,0.84435000000000004,293.13,3.4527999999999999,0.70009999999999994,4.1261999999999999,4.3253000000000004,8.5395000000000003,1.3142,null,null,null,null,null,null,null,null,null,null,610,"2012-05-07","2012-05-01","2012-01-01","2012-05-10",{"$f":"IF($W865=\"\",\"\",INDEX($A:$Z,$W865,AB$3))","v":1.9558},25.242999999999999,7.4349999999999996,0.80495000000000005,290.7,3.4527999999999999,0.69830000000000003,4.2153999999999998,4.4210000000000003,8.9097000000000008,1.2949999999999999,null,null,null,null,null,null,null,null,null,null,null,null,null,null,null,null,null,null,null,null,null,null,null,null,null,null,null,null,null,null,null,null,null,null,null,null,null,null,null,null,"","","","","","","","","","","","",null,null,null,null,null,null,null,null,null,null,null,null,null,null,{"$error":"#VALUE!"},"","","","","","","","","","",""]
["2013-05-21",1.9558,26.120999999999999,7.4527999999999999,0.84560000000000002,289.99,3.4527999999999999,0.69969999999999999,4.1821000000000002,4.3472999999999997,8.5754000000000001,1.2853000000000001,null,null,null,null,null,null,null,null,null,null,615,"2012-05-14","2012-05-01","2012-01-01","2012-05-17",1.9558,25.46,7.4330999999999996,0.79925000000000002,294.32,3.4527999999999999,0.6976,4.3499999999999996,4.4400000000000004,9.0969999999999995,1.2738,null,null,null,null,null,null,null,null,null,null,null,null,null,null,null,null,null,null,null,null,null,null,null,null,null,null,null,null,null,null,null,null,null,null,null,null,null,null,null,null,"","","","","","","","","","","","",null,null,null,null,null,null,null,null,null,null,null,null,null,null,{"$error":"#VALUE!"},"","","","","","","","","","",""]
["2013-05-24",1.9558,26.094000000000001,7.4541000000000004,0.85514999999999997,292.18,3.4527999999999999,0.70050000000000001,4.2092000000000001,4.3654999999999999,8.5943000000000005,1.2887999999999999,null,null,null,null,null,null,null,null,null,null,617,"2012-05-14","2012-05-01","2012-01-01","2012-05-20",{"$f":"IF($W875=\"\",\"\",INDEX($A:$Z,$W875,AB$3))","v":1.9558},25.332999999999998,7.4329000000000001,0.80420000000000003,297.25,3.4527999999999999,0.69730000000000003,4.3360000000000003,4.4435000000000002,9.0996000000000006,1.2721,null,null,null,null,null,null,null,null,null,null,null,null,null,null,null,null,null,null,null,null,null,null,null,null,null,null,null,null,null,null,null,null,null,null,null,null,null,null,null,null,"","","","","","","","","","","","",null,null,null,null,null,null,null,null,null,null,null,null,null,null,{"$error":"#VALUE!"},"","","","","","","","","","",""]
["2013-05-30",1.9558,25.899000000000001,7.4539,0.85694999999999999,288.02999999999997,3.4527999999999999,0.70130000000000003,4.2249999999999996,4.3460000000000001,8.6082000000000001,1.2951999999999999,null,null,null,null,null,null,null,null,null,null,620,"2012-05-21","2012-05-01","2012-01-01","2012-05-24",1.9558,25.495000000000001,7.4316000000000004,0.8044,302,3.4527999999999999,0.69789999999999996,4.367,4.46,9.0604999999999993,1.2659,null,null,null,null,null,null,null,null,null,null,null,null,null,null,null,null,null,null,null,null,null,null,null,null,null,null,null,null,null,null,null,null,null,null,null,null,null,null,null,null,"","","","","","","","","","","","",null,null,null,null,null,null,null,null,null,null,null,null,null,null,{"$error":"#VALUE!"},"","","","","","","","","","",""]
[null,null,null,null,null,null,null,null,null,null,null,null,null,null,null,null,null,null,null,null,null,null,624,"2012-05-28","2012-05-01","2012-01-01","2012-05-30",{"$f":"IF($W885=\"\",\"\",INDEX($A:$Z,$W885,AB$3))","v":1.9558},25.512,7.4306999999999999,0.7994,297.89999999999998,3.4527999999999999,0.69830000000000003,4.3609999999999998,4.4653,8.9864999999999995,1.2523,null,null,null,null,null,null,null,null,null,null,null,null,null,null,null,null,null,null,null,null,null,null,null,null,null,null,null,null,null,null,null,null,null,null,null,null,null,null,null,null,"","","","","","","","","","","","",null,null,null,null,null,null,null,null,null,null,null,null,null,null,{"$error":"#VALUE!"},"","","","","","","","","","",""]
[null,null,null,null,null,null,null,null,null,null,null,null,null,null,null,null,null,null,null,null,null,null,627,"2012-06-04","2012-06-01","2012-01-01","2012-06-04",1.9558,25.786999999999999,7.4306999999999999,0.80500000000000005,306,3.4527999999999999,0.69799999999999995,4.4124999999999996,4.4722,8.9946999999999999,1.2322,null,null,null,null,null,null,null,null,null,null,null,null,null,null,null,null,null,null,null,null,null,null,null,null,null,null,null,null,null,null,null,null,null,null,null,null,null,null,null,null,"","","","","","","","","","","","",null,null,null,null,null,null,null,null,null,null,null,null,null,null,{"$error":"#VALUE!"},"","","","","","","","","","",""]
[null,null,null,null,null,null,null,null,null,null,null,null,null,null,null,null,null,null,null,null,null,null,629,"2012-06-04","2012-06-01","2012-01-01","2012-06-06",1.9558,25.72,7.4314,0.81005000000000005,302.19,3.4527999999999999,0.69679999999999997,4.3815999999999997,4.4660000000000002,8.9689999999999994,1.2428999999999999,null,null,null,null,null,null,null,null,null,null,null,null,null,null,null,null,null,null,null,null,null,null,null,null,null,null,null,null,null,null,null,null,null,null,null,null,null,null,null,null,"","","","","","","","","","","","",null,null,null,null,null,null,null,null,null,null,null,null,null,null,{"$error":"#VALUE!"},"","","","","","","","","","",""]
[null,null,null,null,null,null,null,null,null,null,null,null,null,null,null,null,null,null,null,null,null,null,635,"2012-06-11","2012-06-01","2012-01-01","2012-06-14",1.9558,25.577999999999999,7.4318,0.80630000000000002,296.43,3.4527999999999999,0.69679999999999997,4.3239999999999998,4.4615999999999998,8.8320000000000007,1.2534000000000001,null,null,null,null,null,null,null,null,null,null,null,null,null,null,null,null,null,null,null,null,null,null,null,null,null,null,null,null,null,null,null,null,null,null,null,null,null,null,null,null,"","","","","","","","","","","","",null,null,null,null,null,null,null,null,null,null,null,null,null,null,{"$error":"#VALUE!"},"","","","","","","","","","",""]
[null,null,null,null,null,null,null,null,null,null,null,null,null,null,null,null,null,null,null,null,null,null,637,"2012-06-11","2012-06-01","2012-01-01",{"$f":"1+AA902","v":"2012-06-17"},1.9558,25.591999999999999,7.4313000000000002,0.81189999999999996,296.64,3.4527999999999999,0.69689999999999996,4.2984,4.4631999999999996,8.8353000000000002,1.2596000000000001,null,null,null,null,null,null,null,null,null,null,null,null,null,null,null,null,null,null,null,null,null,null,null,null,null,null,null,null,null,null,null,null,null,null,null,null,null,null,null,null,"",{"$f":"IF($BA903=\"\",\"\",SUM(BB903:BB909)/7)","v":""},"","","","","","","","","","",null,null,null,null,null,null,null,null,null,null,null,null,null,null,{"$error":"#VALUE!"},{"$f":"IF($BA903=\"\",\"\",SUM(CB903:CB909)/7)","v":""},"","","","","","","","","",""]
[null,null,null,null,null,null,null,null,null,null,null,null,null,null,null,null,null,null,null,null,null,null,638,"2012-06-18","2012-06-01","2012-01-01","2012-06-19",{"$f":"IF($W905=\"\",\"\",INDEX($A:$Z,$W905,AB$3))","v":1.9558},25.492999999999999,7.4324000000000003,0.80600000000000005,292.60000000000002,3.4527999999999999,0.69669999999999999,4.2807000000000004,4.4669999999999996,8.8412000000000006,1.2618,null,null,null,null,null,null,null,null,null,null,null,null,null,null,null,null,null,null,null,null,null,null,null,null,null,null,null,null,null,null,null,null,null,null,null,null,null,null,null,null,"","","","","","","","","","","","",null,null,null,null,null,null,null,null,null,null,null,null,null,null,{"$error":"#VALUE!"},"","","","","","","","","","",""]
[null,null,null,null,null,null,null,null,null,null,null,null,null,null,null,null,null,null,null,null,null,null,642,"2012-06-18","2012-06-01","2012-01-01","2012-06-24",1.9558,25.774999999999999,7.4343000000000004,0.80420000000000003,287.66000000000003,3.4527999999999999,0.69689999999999996,4.2563000000000004,4.4733000000000001,8.8008000000000006,1.2539,null,null,null,null,null,null,null,null,null,null,null,null,null,null,null,null,null,null,null,null,null,null,null,null,null,null,null,null,null,null,null,null,null,null,null,null,null,null,null,null,"","","","","","","","","","","","",null,null,null,null,null,null,null,null,null,null,null,null,null,null,{"$error":"#VALUE!"},"","","","","","","","","","",""]
[null,null,null,null,null,null,null,null,null,null,null,null,null,null,null,null,null,null,null,null,null,null,647,"2012-06-25","2012-06-01","2012-01-01","2012-06-30",1.9558,25.64,7.4333999999999998,0.80679999999999996,287.77,3.4527999999999999,0.69669999999999999,4.2488000000000001,4.4512999999999998,8.7728000000000002,1.2589999999999999,null,null,null,null,null,null,null,null,null,null,null,null,null,null,null,null,null,null,null,null,null,null,null,null,null,null,null,null,null,null,null,null,null,null,null,null,null,null,null,null,"","","","","","","","","","","","",null,null,null,null,null,null,null,null,null,null,null,null,null,null,{"$error":"#VALUE!"},"","","","","","","","","","",""]
[null,null,null,null,null,null,null,null,null,null,null,null,null,null,null,null,null,null,null,null,null,null,649,"2012-07-02","2012-07-01","2012-01-01","2012-07-04",1.9558,25.555,7.4341999999999997,0.80274999999999996,286.23,3.4527999999999999,0.69679999999999997,4.21,4.4530000000000003,8.7304999999999993,1.2575000000000001,null,null,null,null,null,null,null,null,null,null,null,null,null,null,null,null,null,null,null,null,null,null,null,null,null,null,null,null,null,null,null,null,null,null,null,null,null,null,null,null,"","","","","","","","","","","","",null,null,null,null,null,null,null,null,null,null,null,null,null,null,{"$error":"#VALUE!"},"","","","","","","","","","",""]
[null,null,null,null,null,null,null,null,null,null,null,null,null,null,null,null,null,null,null,null,null,null,654,"2012-07-09","2012-07-01","2012-01-01","2012-07-11",1.9558,25.431000000000001,7.4379999999999997,0.79210000000000003,288.12,3.4527999999999999,0.69620000000000004,4.1981999999999999,4.5252999999999997,8.5733999999999995,1.2284999999999999,null,null,null,null,null,null,null,null,null,null,null,null,null,null,null,null,null,null,null,null,null,null,null,null,null,null,null,null,null,null,null,null,null,null,null,null,null,null,null,null,"","","","","","","","","","","","",null,null,null,null,null,null,null,null,null,null,null,null,null,null,{"$error":"#VALUE!"},"","","","","","","","","","",""]
[null,null,null,null,null,null,null,null,null,null,null,null,null,null,null,null,null,null,null,null,null,null,657,"2012-07-09","2012-07-01","2012-01-01","2012-07-14",1.9558,25.395,7.4385000000000003,0.78749999999999998,288.95,3.4527999999999999,0.69610000000000005,4.2112999999999996,4.5614999999999997,8.5746000000000002,1.2184999999999999,null,null,null,null,null,null,null,null,null,null,null,null,null,null,null,null,null,null,null,null,null,null,null,null,null,null,null,null,null,null,null,null,null,null,null,null,null,null,null,null,"","","","","","","","","","","","",null,null,null,null,null,null,null,null,null,null,null,null,null,null,{"$error":"#VALUE!"},"","","","","","","","","","",""]
[null,null,null,null,null,null,null,null,null,null,null,null,null,null,null,null,null,null,null,null,null,null,660,"2012-07-16","2012-07-01","2012-01-01","2012-07-19",{"$f":"IF($W935=\"\",\"\",INDEX($A:$Z,$W935,AB$3))","v":1.9558},25.277999999999999,7.4387999999999996,0.78400000000000003,285.89999999999998,3.4527999999999999,0.69589999999999996,4.1795,4.5652999999999997,8.4926999999999992,1.2234,null,null,null,null,null,null,null,null,null,null,null,null,null,null,null,null,null,null,null,null,null,null,null,null,null,null,null,null,null,null,null,null,null,null,null,null,null,null,null,null,"",{"$f":"IF($BA935=\"\",\"\",SUM(BB935:BB941)/7)","v":""},"","","","","","","","","","",null,null,null,null,null,null,null,null,null,null,null,null,null,null,{"$error":"#VALUE!"},{"$f":"IF($BA935=\"\",\"\",SUM(CB935:CB941)/7)","v":""},"","","","","","","","","",""]
[null,null,null,null,null,null,null,null,null,null,null,null,null,null,null,null,null,null,null,null,null,null,663,"2012-07-23","2012-07-01","2012-01-01","2012-07-24",1.9558,25.579000000000001,7.4396000000000004,0.77980000000000005,288.33999999999997,3.4527999999999999,0.69620000000000004,4.1967999999999996,4.6239999999999997,8.4507999999999992,1.2104999999999999,null,null,null,null,null,null,null,null,null,null,null,null,null,null,null,null,null,null,null,null,null,null,null,null,null,null,null,null,null,null,null,null,null,null,null,null,null,null,null,null,"","","","","","","","","","","","",null,null,null,null,null,null,null,null,null,null,null,null,null,null,{"$error":"#VALUE!"},"","","","","","","","","","",""]
[null,null,null,null,null,null,null,null,null,null,null,null,null,null,null,null,null,null,null,null,null,null,667,"2012-07-23","2012-07-01","2012-01-01","2012-07-29",{"$f":"IF($W945=\"\",\"\",INDEX($A:$Z,$W945,AB$3))","v":1.9558},25.31,7.4390000000000001,0.78295000000000003,282.64999999999998,3.4527999999999999,0.6966,4.1275000000000004,4.6109999999999998,8.5007999999999999,1.2317,null,null,null,null,null,null,null,null,null,null,null,null,null,null,null,null,null,null,null,null,null,null,null,null,null,null,null,null,null,null,null,null,null,null,null,null,null,null,null,null,"","","","","","","","","","","","",null,null,null,null,null,null,null,null,null,null,null,null,null,null,{"$error":"#VALUE!"},"","","","","","","","","","",""]
[null,null,null,null,null,null,null,null,null,null,null,null,null,null,null,null,null,null,null,null,null,null,671,"2012-07-30","2012-08-01","2012-01-01","2012-08-03",1.9558,25.26,7.4417,0.79039999999999999,279.93,3.4527999999999999,0.69689999999999996,4.1031000000000004,4.6188000000000002,8.3339999999999996,1.2345999999999999,null,null,null,null,null,null,null,null,null,null,null,null,null,null,null,null,null,null,null,null,null,null,null,null,null,null,null,null,null,null,null,null,null,null,null,null,null,null,null,null,"","","","","","","","","","","","",null,null,null,null,null,null,null,null,null,null,null,null,null,null,{"$error":"#VALUE!"},"","","","","","","","","","",""]
[null,null,null,null,null,null,null,null,null,null,null,null,null,null,null,null,null,null,null,null,null,null,672,"2012-08-06","2012-08-01","2012-01-01","2012-08-06",1.9558,25.285,7.4414999999999996,0.78744999999999998,278.95,3.4527999999999999,0.69650000000000001,4.0891999999999999,4.6470000000000002,8.2797000000000001,1.2244999999999999,null,null,null,null,null,null,null,null,null,null,null,null,null,null,null,null,null,null,null,null,null,null,null,null,null,null,null,null,null,null,null,null,null,null,null,null,null,null,null,null,"","","","","","","","","","","","",null,null,null,null,null,null,null,null,null,null,null,null,null,null,{"$error":"#VALUE!"},"","","","","","","","","","",""]
[null,null,null,null,null,null,null,null,null,null,null,null,null,null,null,null,null,null,null,null,null,null,677,"2012-08-13","2012-08-01","2012-01-01","2012-08-13",1.9558,25.204999999999998,7.4427000000000003,0.78610000000000002,278.89999999999998,3.4527999999999999,0.69620000000000004,4.0960999999999999,4.5345000000000004,8.2077000000000009,1.2262,null,null,null,null,null,null,null,null,null,null,null,null,null,null,null,null,null,null,null,null,null,null,null,null,null,null,null,null,null,null,null,null,null,null,null,null,null,null,null,null,"","","","","","","","","","","","",null,null,null,null,null,null,null,null,null,null,null,null,null,null,{"$error":"#VALUE!"},"","","","","","","","","","",""]
[null,null,null,null,null,null,null,null,null,null,null,null,null,null,null,null,null,null,null,null,null,null,681,"2012-08-13","2012-08-01","2012-01-01","2012-08-17",1.9558,24.911999999999999,7.4443999999999999,0.78195000000000003,278.39,3.4527999999999999,0.69620000000000004,4.0770999999999997,4.4894999999999996,8.2347000000000001,1.2279,null,null,null,null,null,null,null,null,null,null,null,null,null,null,null,null,null,null,null,null,null,null,null,null,null,null,null,null,null,null,null,null,null,null,null,null,null,null,null,null,"","","","","","","","","","","","",null,null,null,null,null,null,null,null,null,null,null,null,null,null,{"$error":"#VALUE!"},"","","","","","","","","","",""]
[null,null,null,null,null,null,null,null,null,null,null,null,null,null,null,null,null,null,null,null,null,null,{"$f":"IF(AA965>MaxDate,\"\",MATCH(AA965,$A:$A,1))","v":682},"2012-08-13","2012-08-01","2012-01-01","2012-08-18",{"$f":"IF($W965=\"\",\"\",INDEX($A:$Z,$W965,AB$3))","v":1.9558},25.02,7.4459,0.78515000000000001,278.77999999999997,3.4527999999999999,0.69630000000000003,4.0805999999999996,4.4913999999999996,8.2766000000000002,1.2337,null,null,null,null,null,null,null,null,null,null,null,null,null,null,null,null,null,null,null,null,null,null,null,null,null,null,null,null,null,null,null,null,null,null,null,null,null,null,null,null,{"$f":"IF(AND(WEEKDAY(BA965,2)=1,BA965<=MaxDate-6),BA965,\"\")","v":""},"","","","","","","","","","","",null,null,null,null,null,null,null,null,null,null,null,null,null,null,{"$error":"#VALUE!"},"","","","","","","","","","",""]
[null,null,null,null,null,null,null,null,null,null,null,null,null,null,null,null,null,null,null,null,null,null,685,"2012-08-20","2012-08-01","2012-01-01","2012-08-23",1.9558,24.968,7.4484000000000004,0.78785000000000005,277.2,3.4527999999999999,0.69630000000000003,4.0761000000000003,4.4930000000000003,8.3412000000000006,1.2447999999999999,null,null,null,null,null,null,null,null,null,null,null,null,null,null,null,null,null,null,null,null,null,null,null,null,null,null,null,null,null,null,null,null,null,null,null,null,null,null,null,null,"","","","","","","","","","","","",null,null,null,null,null,null,null,null,null,null,null,null,null,null,{"$error":"#VALUE!"},"","","","","","","","","","",""]
[null,null,null,null,null,null,null,null,null,null,null,null,null,null,null,null,null,null,null,null,null,null,690,"2012-08-27","2012-08-01","2012-01-01","2012-08-30",1.9558,24.81,7.4501999999999997,0.79179999999999995,283.41000000000003,3.4527999999999999,0.69630000000000003,4.1555,4.4775,8.3375000000000004,1.2544999999999999,null,null,null,null,null,null,null,null,null,null,null,null,null,null,null,null,null,null,null,null,null,null,null,null,null,null,null,null,null,null,null,null,null,null,null,null,null,null,null,null,"","","","","","","","","","","","",null,null,null,null,null,null,null,null,null,null,null,null,null,null,{"$error":"#VALUE!"},"","","","","","","","","","",""]
[null,null,null,null,null,null,null,null,null,null,null,null,null,null,null,null,null,null,null,null,null,null,692,"2012-08-27","2012-09-01","2012-01-01","2012-09-02",1.9558,24.84,7.4512999999999998,0.79525000000000001,283.64999999999998,3.4527999999999999,0.69599999999999995,4.1764999999999999,4.4633000000000003,8.3361999999999998,1.2611000000000001,null,null,null,null,null,null,null,null,null,null,null,null,null,null,null,null,null,null,null,null,null,null,null,null,null,null,null,null,null,null,null,null,null,null,null,null,null,null,null,null,"","","","","","","","","","","","",null,null,null,null,null,null,null,null,null,null,null,null,null,null,{"$error":"#VALUE!"},"","","","","","","","","","",""]
[null,null,null,null,null,null,null,null,null,null,null,null,null,null,null,null,null,null,null,null,null,null,695,"2012-09-03","2012-09-01","2012-01-01","2012-09-06",1.9558,24.794,7.4508999999999999,0.79035,284.60000000000002,3.4527999999999999,0.69620000000000004,4.2008999999999999,4.4882999999999997,8.4414999999999996,1.2578,null,null,null,null,null,null,null,null,null,null,null,null,null,null,null,null,null,null,null,null,null,null,null,null,null,null,null,null,null,null,null,null,null,null,null,null,null,null,null,null,"","","","","","","","","","","","",null,null,null,null,null,null,null,null,null,null,null,null,null,null,{"$error":"#VALUE!"},"","","","","","","","","","",""]
[null,null,null,null,null,null,null,null,null,null,null,null,null,null,null,null,null,null,null,null,null,null,699,"2012-09-10","2012-09-01","2012-01-01","2012-09-12",1.9558,24.547999999999998,7.4522000000000004,0.79779999999999995,284.88,3.4527999999999999,0.69630000000000003,4.1082000000000001,4.4847999999999999,8.4772999999999996,1.2786999999999999,null,null,null,null,null,null,null,null,null,null,null,null,null,null,null,null,null,null,null,null,null,null,null,null,null,null,null,null,null,null,null,null,null,null,null,null,null,null,null,null,"","","","","","","","","","","","",null,null,null,null,null,null,null,null,null,null,null,null,null,null,{"$error":"#VALUE!"},"","","","","","","","","","",""]
[null,null,null,null,null,null,null,null,null,null,null,null,null,null,null,null,null,null,null,null,null,null,702,"2012-09-17","2012-09-01","2012-01-01","2012-09-17",{"$f":"IF($W995=\"\",\"\",INDEX($A:$Z,$W995,AB$3))","v":1.9558},24.433,7.4554999999999998,0.80745,281.75,3.4527999999999999,0.69610000000000005,4.0602,4.5030000000000001,8.5884,1.3095000000000001,null,null,null,null,null,null,null,null,null,null,null,null,null,null,null,null,null,null,null,null,null,null,null,null,null,null,null,null,null,null,null,null,null,null,null,null,null,null,null,null,"","","","","","","","","","","","",null,null,null,null,null,null,null,null,null,null,null,null,null,null,{"$error":"#VALUE!"},"","","","","","","","","","",""]
[null,null,null,null,null,null,null,null,null,null,null,null,null,null,null,null,null,null,null,null,null,null,707,"2012-09-17","2012-09-01","2012-01-01","2012-09-23",1.9558,24.803000000000001,7.4549000000000003,0.79869999999999997,282.24,3.4527999999999999,0.69620000000000004,4.1296999999999997,4.5172999999999996,8.4955999999999996,1.2988,null,null,null,null,null,null,null,null,null,null,null,null,null,null,null,null,null,null,null,null,null,null,null,null,null,null,null,null,null,null,null,null,null,null,null,null,null,null,null,null,"","","","","","","","","","","","",null,null,null,null,null,null,null,null,null,null,null,null,null,null,{"$error":"#VALUE!"},"","","","","","","","","","",""]
[null,null,null,null,null,null,null,null,null,null,null,null,null,null,null,null,null,null,null,null,null,null,710,"2012-09-24","2012-09-01","2012-01-01","2012-09-27",{"$f":"IF($W1005=\"\",\"\",INDEX($A:$Z,$W1005,AB$3))","v":1.9558},24.983000000000001,7.4561000000000002,0.79490000000000005,285.77999999999997,3.4527999999999999,0.69620000000000004,4.1510999999999996,4.5178000000000003,8.4998000000000005,1.2845,null,null,null,null,null,null,null,null,null,null,null,null,null,null,null,null,null,null,null,null,null,null,null,null,null,null,null,null,null,null,null,null,null,null,null,null,null,null,null,null,"","","","","","","","","","","","",null,null,null,null,null,null,null,null,null,null,null,null,null,null,{"$error":"#VALUE!"},"","","","","","","","","","",""]
[null,null,null,null,null,null,null,null,null,null,null,null,null,null,null,null,null,null,null,null,null,null,712,"2012-09-24","2012-09-01","2012-01-01","2012-09-30",1.9558,25.140999999999998,7.4554999999999998,0.79805000000000004,284.89,3.4527999999999999,0.69620000000000004,4.1037999999999997,4.5382999999999996,8.4497999999999998,1.2929999999999999,null,null,null,null,null,null,null,null,null,null,null,null,null,null,null,null,null,null,null,null,null,null,null,null,null,null,null,null,null,null,null,null,null,null,null,null,null,null,null,null,"","","","","","","","","","","","",null,null,null,null,null,null,null,null,null,null,null,null,null,null,{"$error":"#VALUE!"},"","","","","","","","","","",""]
[null,null,null,null,null,null,null,null,null,null,null,null,null,null,null,null,null,null,null,null,null,null,717,"2012-10-01","2012-10-01","2012-01-01","2012-10-07",{"$f":"IF($W1015=\"\",\"\",INDEX($A:$Z,$W1015,AB$3))","v":1.9558},24.914999999999999,7.4555999999999996,0.80325000000000002,282.75,3.4527999999999999,0.69610000000000005,4.0735000000000001,4.5781999999999998,8.5728000000000009,1.3002,null,null,null,null,null,null,null,null,null,null,null,null,null,null,null,null,null,null,null,null,null,null,null,null,null,null,null,null,null,null,null,null,null,null,null,null,null,null,null,null,"",{"$f":"IF($BA1015=\"\",\"\",SUM(BB1015:BB1021)/7)","v":""},"","","","","","","","","","",null,null,null,null,null,null,null,null,null,null,null,null,null,null,{"$error":"#VALUE!"},{"$f":"IF($BA1015=\"\",\"\",SUM(CB1015:CB1021)/7)","v":""},"","","","","","","","","",""]
[null,null,null,null,null,null,null,null,null,null,null,null,null,null,null,null,null,null,null,null,null,null,721,"2012-10-08","2012-10-01","2012-01-01","2012-10-12",1.9558,24.94,7.4588000000000001,0.80525000000000002,281.85000000000002,3.4527999999999999,0.69610000000000005,4.0910000000000002,4.5702999999999996,8.6626999999999992,1.2918000000000001,null,null,null,null,null,null,null,null,null,null,null,null,null,null,null,null,null,null,null,null,null,null,null,null,null,null,null,null,null,null,null,null,null,null,null,null,null,null,null,null,"","","","","","","","","","","","",null,null,null,null,null,null,null,null,null,null,null,null,null,null,{"$error":"#VALUE!"},"","","","","","","","","","",""]
[null,null,null,null,null,null,null,null,null,null,null,null,null,null,null,null,null,null,null,null,null,null,722,"2012-10-08","2012-10-01","2012-01-01","2012-10-13",1.9558,24.95,7.4588999999999999,0.80649999999999999,281.39999999999998,3.4527999999999999,0.69610000000000005,4.0978000000000003,4.5648,8.6829999999999998,1.2969999999999999,null,null,null,null,null,null,null,null,null,null,null,null,null,null,null,null,null,null,null,null,null,null,null,null,null,null,null,null,null,null,null,null,null,null,null,null,null,null,null,null,"","","","","","","","","","","","",null,null,null,null,null,null,null,null,null,null,null,null,null,null,{"$error":"#VALUE!"},"","","","","","","","","","",""]
[null,null,null,null,null,null,null,null,null,null,null,null,null,null,null,null,null,null,null,null,null,null,724,"2012-10-15","2012-10-01","2012-01-01","2012-10-17",{"$f":"IF($W1025=\"\",\"\",INDEX($A:$Z,$W1025,AB$3))","v":1.9558},24.875,7.4593999999999996,0.80969999999999998,278.51,3.4527999999999999,0.69620000000000004,4.0919999999999996,4.5782999999999996,8.6273999999999997,1.3046,null,null,null,null,null,null,null,null,null,null,null,null,null,null,null,null,null,null,null,null,null,null,null,null,null,null,null,null,null,null,null,null,null,null,null,null,null,null,null,null,"","","","","","","","","","","","",null,null,null,null,null,null,null,null,null,null,null,null,null,null,{"$error":"#VALUE!"},"","","","","","","","","","",""]
[null,null,null,null,null,null,null,null,null,null,null,null,null,null,null,null,null,null,null,null,null,null,727,{"$f":"IF(W1030=\"\",\"\",IF(WEEKDAY(AA1030,2)=1,AA1030,X1029))","v":"2012-10-22"},{"$f":"IF(W1030=\"\",\"\",DATE(YEAR(AA1030),MONTH(AA1030),1))","v":"2012-10-01"},{"$f":"IF(W1030=\"\",\"\",DATE(YEAR(AA1030),1,1))","v":"2012-01-01"},"2012-10-22",1.9558,24.823,7.4589999999999996,0.81274999999999997,279.3,3.4527999999999999,0.69630000000000003,4.1070000000000002,4.5833000000000004,8.5716999999999999,1.3035000000000001,null,null,null,null,null,null,null,null,null,null,null,null,null,null,null,null,null,null,null,null,null,null,null,null,null,null,null,null,null,null,null,null,null,null,null,null,null,null,null,null,"","","","","","","","","","","","",null,null,null,null,null,null,null,null,null,null,null,null,null,null,{"$error":"#VALUE!"},"","","","","","","","","","",""]
[null,null,null,null,null,null,null,null,null,null,null,null,null,null,null,null,null,null,null,null,null,null,733,"2012-10-29","2012-10-01","2012-01-01","2012-10-30",1.9558,25.021000000000001,7.4596999999999998,0.80454999999999999,285.13,3.4527999999999999,0.69610000000000005,4.1489000000000003,4.5486000000000004,8.6219000000000001,1.2898000000000001,null,null,null,null,null,null,null,null,null,null,null,null,null,null,null,null,null,null,null,null,null,null,null,null,null,null,null,null,null,null,null,null,null,null,null,null,null,null,null,null,"","","","","","","","","","","","",null,null,null,null,null,null,null,null,null,null,null,null,null,null,{"$error":"#VALUE!"},"","","","","","","","","","",""]
[null,null,null,null,null,null,null,null,null,null,null,null,null,null,null,null,null,null,null,null,null,null,735,"2012-10-29","2012-11-01","2012-01-01","2012-11-01",1.9558,25.064,7.4598000000000004,0.80645,284.05,3.4527999999999999,0.69620000000000004,4.1390000000000002,4.5419999999999998,8.6,1.2992999999999999,null,null,null,null,null,null,null,null,null,null,null,null,null,null,null,null,null,null,null,null,null,null,null,null,null,null,null,null,null,null,null,null,null,null,null,null,null,null,null,null,"","","","","","","","","","","","",null,null,null,null,null,null,null,null,null,null,null,null,null,null,{"$error":"#VALUE!"},"","","","","","","","","","",""]
[null,null,null,null,null,null,null,null,null,null,null,null,null,null,null,null,null,null,null,null,null,null,738,"2012-11-05","2012-11-01","2012-01-01","2012-11-06",{"$f":"IF($W1045=\"\",\"\",INDEX($A:$Z,$W1045,AB$3))","v":1.9558},25.234000000000002,7.4588999999999999,0.79990000000000006,282.58,3.4527999999999999,0.69620000000000004,4.1226000000000003,4.524,8.5690000000000008,1.2777000000000001,null,null,null,null,null,null,null,null,null,null,null,null,null,null,null,null,null,null,null,null,null,null,null,null,null,null,null,null,null,null,null,null,null,null,null,null,null,null,null,null,"","","","","","","","","","","","",null,null,null,null,null,null,null,null,null,null,null,null,null,null,{"$error":"#VALUE!"},"","","","","","","","","","",""]
[null,null,null,null,null,null,null,null,null,null,null,null,null,null,null,null,null,null,null,null,null,null,742,"2012-11-05","2012-11-01","2012-01-01","2012-11-11",1.9558,25.396000000000001,7.4579000000000004,0.79725000000000001,284.39999999999998,3.4527999999999999,0.69620000000000004,4.1714000000000002,4.5286999999999997,8.5745000000000005,1.2694000000000001,null,null,null,null,null,null,null,null,null,null,null,null,null,null,null,null,null,null,null,null,null,null,null,null,null,null,null,null,null,null,null,null,null,null,null,null,null,null,null,null,"","","","","","","","","","","","",null,null,null,null,null,null,null,null,null,null,null,null,null,null,{"$error":"#VALUE!"},"","","","","","","","","","",""]
[null,null,null,null,null,null,null,null,null,null,null,null,null,null,null,null,null,null,null,null,null,null,746,"2012-11-12","2012-11-01","2012-01-01","2012-11-16",{"$f":"IF($W1055=\"\",\"\",INDEX($A:$Z,$W1055,AB$3))","v":1.9558},25.565999999999999,7.4587000000000003,0.80545,284.27999999999997,3.4527999999999999,0.69610000000000005,4.16,4.5382999999999996,8.6479999999999997,1.2756000000000001,null,null,null,null,null,null,null,null,null,null,null,null,null,null,null,null,null,null,null,null,null,null,null,null,null,null,null,null,null,null,null,null,null,null,null,null,null,null,null,null,"","","","","","","","","","","","",null,null,null,null,null,null,null,null,null,null,null,null,null,null,{"$error":"#VALUE!"},"","","","","","","","","","",""]
[null,null,null,null,null,null,null,null,null,null,null,null,null,null,null,null,null,null,null,null,null,null,747,"2012-11-19","2012-11-01","2012-01-01","2012-11-19",1.9558,25.533999999999999,7.4584999999999999,0.80245,284.18,3.4527999999999999,0.69630000000000003,4.1615000000000002,4.5332999999999997,8.6493000000000002,1.2745,null,null,null,null,null,null,null,null,null,null,null,null,null,null,null,null,null,null,null,null,null,null,null,null,null,null,null,null,null,null,null,null,null,null,null,null,null,null,null,null,"","","","","","","","","","","","",null,null,null,null,null,null,null,null,null,null,null,null,null,null,{"$error":"#VALUE!"},"","","","","","","","","","",""]
[null,null,null,null,null,null,null,null,null,null,null,null,null,null,null,null,null,null,null,null,null,null,752,"2012-11-26","2012-11-01","2012-01-01","2012-11-26",{"$f":"IF($W1065=\"\",\"\",INDEX($A:$Z,$W1065,AB$3))","v":1.9558},25.338999999999999,7.4579000000000004,0.81010000000000004,280.49,3.4527999999999999,0.69610000000000005,4.1192000000000002,4.5373000000000001,8.5878999999999994,1.2908999999999999,null,null,null,null,null,null,null,null,null,null,null,null,null,null,null,null,null,null,null,null,null,null,null,null,null,null,null,null,null,null,null,null,null,null,null,null,null,null,null,null,"","","","","","","","","","","","",null,null,null,null,null,null,null,null,null,null,null,null,null,null,{"$error":"#VALUE!"},"","","","","","","","","","",""]
[null,null,null,null,null,null,null,null,null,null,null,null,null,null,null,null,null,null,null,null,null,null,756,"2012-11-26","2012-11-01","2012-01-01","2012-11-30",1.9558,25.225999999999999,7.4603999999999999,0.81052999999999997,279.3,3.4527999999999999,0.69620000000000004,4.0968,4.51,8.6371000000000002,1.2994000000000001,null,null,null,null,null,null,null,null,null,null,null,null,null,null,null,null,null,null,null,null,null,null,null,null,null,null,null,null,null,null,null,null,null,null,null,null,null,null,null,null,"","","","","","","","","","","","",null,null,null,null,null,null,null,null,null,null,null,null,null,null,{"$error":"#VALUE!"},"","","","","","","","","","",""]
[null,null,null,null,null,null,null,null,null,null,null,null,null,null,null,null,null,null,null,null,null,null,759,"2012-12-03","2012-12-01","2012-01-01","2012-12-05",1.9558,25.242999999999999,7.4603999999999999,0.81230000000000002,282.39,3.4527999999999999,0.69640000000000002,4.1291000000000002,4.5343,8.6265000000000001,1.3091999999999999,null,null,null,null,null,null,null,null,null,null,null,null,null,null,null,null,null,null,null,null,null,null,null,null,null,null,null,null,null,null,null,null,null,null,null,null,null,null,null,null,"","","","","","","","","","","","",null,null,null,null,null,null,null,null,null,null,null,null,null,null,{"$error":"#VALUE!"},"","","","","","","","","","",""]
[null,null,null,null,null,null,null,null,null,null,null,null,null,null,null,null,null,null,null,null,null,null,763,"2012-12-10","2012-12-01","2012-01-01","2012-12-11",1.9558,25.245000000000001,7.4591000000000003,0.8044,283.51,3.4527999999999999,0.69630000000000003,4.1234999999999999,4.5374999999999996,8.6335999999999995,1.2929999999999999,null,null,null,null,null,null,null,null,null,null,null,null,null,null,null,null,null,null,null,null,null,null,null,null,null,null,null,null,null,null,null,null,null,null,null,null,null,null,null,null,"","","","","","","","","","","","",null,null,null,null,null,null,null,null,null,null,null,null,null,null,{"$error":"#VALUE!"},"","","","","","","","","","",""]
[null,null,null,null,null,null,null,null,null,null,null,null,null,null,null,null,null,null,null,null,null,null,765,"2012-12-10","2012-12-01","2012-01-01","2012-12-13",1.9558,25.265000000000001,7.4603999999999999,0.80774999999999997,282.33,3.4527999999999999,0.69610000000000005,4.0968999999999998,4.5267999999999997,8.6274999999999995,1.304,null,null,null,null,null,null,null,null,null,null,null,null,null,null,null,null,null,null,null,null,null,null,null,null,null,null,null,null,null,null,null,null,null,null,null,null,null,null,null,null,"","","","","","","","","","","","",null,null,null,null,null,null,null,null,null,null,null,null,null,null,{"$error":"#VALUE!"},"","","","","","","","","","",""]
[null,null,null,null,null,null,null,null,null,null,null,null,null,null,null,null,null,null,null,null,null,null,767,"2012-12-10","2012-12-01","2012-01-01","2012-12-16",{"$f":"IF($W1085=\"\",\"\",INDEX($A:$Z,$W1085,AB$3))","v":1.9558},25.231000000000002,7.4612999999999996,0.8115,283.76,3.4527999999999999,0.69630000000000003,4.0861000000000001,4.4720000000000004,8.7743000000000002,1.3081,null,null,null,null,null,null,null,null,null,null,null,null,null,null,null,null,null,null,null,null,null,null,null,null,null,null,null,null,null,null,null,null,null,null,null,null,null,null,null,null,"","","","","","","","","","","","",null,null,null,null,null,null,null,null,null,null,null,null,null,null,{"$error":"#VALUE!"},"","","","","","","","","","",""]
[null,null,null,null,null,null,null,null,null,null,null,null,null,null,null,null,null,null,null,null,null,null,{"$f":"IF(AA1093>MaxDate,\"\",MATCH(AA1093,$A:$A,1))","v":772},"2012-12-24","2012-12-01","2012-01-01","2012-12-24",1.9558,25.189,7.4611999999999998,0.81420000000000003,287.2,3.4527999999999999,0.69640000000000002,4.0644999999999998,4.4473000000000003,8.5945,1.3209,null,null,null,null,null,null,null,null,null,null,null,null,null,null,null,null,null,null,null,null,null,null,null,null,null,null,null,null,null,null,null,null,null,null,null,null,null,null,null,null,{"$f":"IF(AND(WEEKDAY(BA1093,2)=1,BA1093<=MaxDate-6),BA1093,\"\")","v":""},"","","","","","","","","","","",null,null,null,null,null,null,null,null,null,null,null,null,null,null,{"$error":"#VALUE!"},"","","","","","","","","","",""]
[null,null,null,null,null,null,null,null,null,null,null,null,null,null,null,null,null,null,null,null,null,null,773,{"$f":"IF(W1094=\"\",\"\",IF(WEEKDAY(AA1094,2)=1,AA1094,X1093))","v":"2012-12-24"},{"$f":"IF(W1094=\"\",\"\",DATE(YEAR(AA1094),MONTH(AA1094),1))","v":"2012-12-01"},{"$f":"IF(W1094=\"\",\"\",DATE(YEAR(AA1094),1,1))","v":"2012-01-01"},"2012-12-25",1.9558,25.126999999999999,7.4615999999999998,0.8175,290.19,3.4527999999999999,0.69650000000000001,4.0815999999999999,4.4180999999999999,8.6323000000000008,1.3218000000000001,null,null,null,null,null,null,null,null,null,null,null,null,null,null,null,null,null,null,null,null,null,null,null,null,null,null,null,null,null,null,null,null,null,null,null,null,null,null,null,null,"","","","","","","","","","","","",null,null,null,null,null,null,null,null,null,null,null,null,null,null,{"$error":"#VALUE!"},"","","","","","","","","","",""]
[null,null,null,null,null,null,null,null,null,null,null,null,null,null,null,null,null,null,null,null,null,null,775,"2012-12-31","2012-12-01","2012-01-01","2012-12-31",1.9558,25.14,7.4603999999999999,0.81694999999999995,290.79000000000002,3.4527999999999999,0.69779999999999998,4.0808999999999997,4.4385000000000003,8.5615000000000006,1.3183,null,null,null,null,null,null,null,null,null,null,null,null,null,null,null,null,null,null,null,null,null,null,null,null,null,null,null,null,null,null,null,null,null,null,null,null,null,null,null,null,"","","","","","","","","","","","",null,null,null,null,null,null,null,null,null,null,null,null,null,null,{"$error":"#VALUE!"},"","","","","","","","","","",""]
[null,null,null,null,null,null,null,null,null,null,null,null,null,null,null,null,null,null,null,null,null,null,779,"2012-12-31","2013-01-01","2013-01-01","2013-01-06",1.9558,25.355,7.4591000000000003,0.81230000000000002,290.95,3.4527999999999999,0.69730000000000003,4.1165000000000003,4.4276,8.5310000000000006,1.3011999999999999,null,null,null,null,null,null,null,null,null,null,null,null,null,null,null,null,null,null,null,null,null,null,null,null,null,null,null,null,null,null,null,null,null,null,null,null,null,null,null,null,"","","","","","","","","","","","",null,null,null,null,null,null,null,null,null,null,null,null,null,null,{"$error":"#VALUE!"},"","","","","","","","","","",""]
[null,null,null,null,null,null,null,null,null,null,null,null,null,null,null,null,null,null,null,null,null,null,782,"2013-01-07","2013-01-01","2013-01-01","2013-01-10",1.9558,25.529,7.4606000000000003,0.81505000000000005,290.66000000000003,3.4527999999999999,0.69679999999999997,4.109,4.4088000000000003,8.5953999999999997,1.3056000000000001,null,null,null,null,null,null,null,null,null,null,null,null,null,null,null,null,null,null,null,null,null,null,null,null,null,null,null,null,null,null,null,null,null,null,null,null,null,null,null,null,"","","","","","","","","","","","",null,null,null,null,null,null,null,null,null,null,null,null,null,null,{"$error":"#VALUE!"},"","","","","","","","","","",""]
[null,null,null,null,null,null,null,null,null,null,null,null,null,null,null,null,null,null,null,null,null,null,785,"2013-01-14","2013-01-01","2013-01-01","2013-01-15",{"$f":"IF($W1115=\"\",\"\",INDEX($A:$Z,$W1115,AB$3))","v":1.9558},25.613,7.4626000000000001,0.83120000000000005,297.08,3.4527999999999999,0.69730000000000003,4.12,4.3848000000000003,8.6178000000000008,1.3341000000000001,null,null,null,null,null,null,null,null,null,null,null,null,null,null,null,null,null,null,null,null,null,null,null,null,null,null,null,null,null,null,null,null,null,null,null,null,null,null,null,null,"","","","","","","","","","","","",null,null,null,null,null,null,null,null,null,null,null,null,null,null,{"$error":"#VALUE!"},"","","","","","","","","","",""]
[null,null,null,null,null,null,null,null,null,null,null,null,null,null,null,null,null,null,null,null,null,null,789,"2013-01-14","2013-01-01","2013-01-01","2013-01-19",1.9558,25.635000000000002,7.4630999999999998,0.83720000000000006,292.74,3.4527999999999999,0.69750000000000001,4.1455000000000002,4.3398000000000003,8.6641999999999992,1.3324,null,null,null,null,null,null,null,null,null,null,null,null,null,null,null,null,null,null,null,null,null,null,null,null,null,null,null,null,null,null,null,null,null,null,null,null,null,null,null,null,"","","","","","","","","","","","",null,null,null,null,null,null,null,null,null,null,null,null,null,null,{"$error":"#VALUE!"},"","","","","","","","","","",""]
[null,null,null,null,null,null,null,null,null,null,null,null,null,null,null,null,null,null,null,null,null,null,793,"2013-01-21","2013-01-01","2013-01-01","2013-01-25",{"$f":"IF($W1125=\"\",\"\",INDEX($A:$Z,$W1125,AB$3))","v":1.9558},25.597000000000001,7.4619999999999997,0.84389999999999998,294.89999999999998,3.4527999999999999,0.69850000000000001,4.1909000000000001,4.3685,8.6879000000000008,1.3349,null,null,null,null,null,null,null,null,null,null,null,null,null,null,null,null,null,null,null,null,null,null,null,null,null,null,null,null,null,null,null,null,null,null,null,null,null,null,null,null,"","","","","","","","","","","","",null,null,null,null,null,null,null,null,null,null,null,null,null,null,{"$error":"#VALUE!"},"","","","","","","","","","",""]
[null,null,null,null,null,null,null,null,null,null,null,null,null,null,null,null,null,null,null,null,null,null,796,"2013-01-28","2013-01-01","2013-01-01","2013-01-30",1.9558,25.658999999999999,7.4595000000000002,0.85360000000000003,297.39999999999998,3.4527999999999999,0.69910000000000005,4.2089999999999996,4.3834999999999997,8.6110000000000007,1.3432999999999999,null,null,null,null,null,null,null,null,null,null,null,null,null,null,null,null,null,null,null,null,null,null,null,null,null,null,null,null,null,null,null,null,null,null,null,null,null,null,null,null,"","","","","","","","","","","","",null,null,null,null,null,null,null,null,null,null,null,null,null,null,{"$error":"#VALUE!"},"","","","","","","","","","",""]
[null,null,null,null,null,null,null,null,null,null,null,null,null,null,null,null,null,null,null,null,null,null,799,"2013-01-28","2013-02-01","2013-01-01","2013-02-03",1.9558,25.638000000000002,7.4602000000000004,0.86170000000000002,292.37,3.4527999999999999,0.70030000000000003,4.1791999999999998,4.375,8.6021999999999998,1.3644000000000001,null,null,null,null,null,null,null,null,null,null,null,null,null,null,null,null,null,null,null,null,null,null,null,null,null,null,null,null,null,null,null,null,null,null,null,null,null,null,null,null,"","","","","","","","","","","","",null,null,null,null,null,null,null,null,null,null,null,null,null,null,{"$error":"#VALUE!"},"","","","","","","","","","",""]
[null,null,null,null,null,null,null,null,null,null,null,null,null,null,null,null,null,null,null,null,null,null,804,"2013-02-04","2013-02-01","2013-01-01","2013-02-09",1.9558,25.242999999999999,7.4603000000000002,0.84635000000000005,292.22000000000003,3.4527999999999999,0.6996,4.1592000000000002,4.3970000000000002,8.5950000000000006,1.3373999999999999,null,null,null,null,null,null,null,null,null,null,null,null,null,null,null,null,null,null,null,null,null,null,null,null,null,null,null,null,null,null,null,null,null,null,null,null,null,null,null,null,"","","","","","","","","","","","",null,null,null,null,null,null,null,null,null,null,null,null,null,null,{"$error":"#VALUE!"},"","","","","","","","","","",""]
[null,null,null,null,null,null,null,null,null,null,null,null,null,null,null,null,null,null,null,null,null,null,805,"2013-02-11","2013-02-01","2013-01-01","2013-02-12",1.9558,25.24,7.4617000000000004,0.85350000000000004,291.72000000000003,3.4527999999999999,0.69950000000000001,4.1536999999999997,4.4002999999999997,8.5754000000000001,1.3391,null,null,null,null,null,null,null,null,null,null,null,null,null,null,null,null,null,null,null,null,null,null,null,null,null,null,null,null,null,null,null,null,null,null,null,null,null,null,null,null,"",{"$f":"IF($BA1143=\"\",\"\",SUM(BB1143:BB1149)/7)","v":""},"","","","","","","","","","",null,null,null,null,null,null,null,null,null,null,null,null,null,null,{"$error":"#VALUE!"},{"$f":"IF($BA1143=\"\",\"\",SUM(CB1143:CB1149)/7)","v":""},"","","","","","","","","",""]
[null,null,null,null,null,null,null,null,null,null,null,null,null,null,null,null,null,null,null,null,null,null,807,"2013-02-11","2013-02-01","2013-01-01","2013-02-14",{"$f":"IF($W1145=\"\",\"\",INDEX($A:$Z,$W1145,AB$3))","v":1.9558},25.422999999999998,7.4615999999999998,0.86599999999999999,289.10000000000002,3.4527999999999999,0.69969999999999999,4.1718000000000002,4.3868,8.4768000000000008,1.3480000000000001,null,null,null,null,null,null,null,null,null,null,null,null,null,null,null,null,null,null,null,null,null,null,null,null,null,null,null,null,null,null,null,null,null,null,null,null,null,null,null,null,"","","","","","","","","","","","",null,null,null,null,null,null,null,null,null,null,null,null,null,null,{"$error":"#VALUE!"},"","","","","","","","","","",""]
[null,null,null,null,null,null,null,null,null,null,null,null,null,null,null,null,null,null,null,null,null,null,810,"2013-02-18","2013-02-01","2013-01-01","2013-02-19",1.9558,25.388000000000002,7.4596,0.8619,291.97000000000003,3.4527999999999999,0.69950000000000001,4.1890999999999998,4.3860999999999999,8.4597999999999995,1.3351999999999999,null,null,null,null,null,null,null,null,null,null,null,null,null,null,null,null,null,null,null,null,null,null,null,null,null,null,null,null,null,null,null,null,null,null,null,null,null,null,null,null,"","","","","","","","","","","","",null,null,null,null,null,null,null,null,null,null,null,null,null,null,{"$error":"#VALUE!"},"","","","","","","","","","",""]
[null,null,null,null,null,null,null,null,null,null,null,null,null,null,null,null,null,null,null,null,null,null,814,"2013-02-18","2013-02-01","2013-01-01","2013-02-23",1.9558,25.492000000000001,7.4596,0.86204999999999998,292.55,3.4527999999999999,0.69969999999999999,4.1539000000000001,4.3784000000000001,8.4572000000000003,1.3186,null,null,null,null,null,null,null,null,null,null,null,null,null,null,null,null,null,null,null,null,null,null,null,null,null,null,null,null,null,null,null,null,null,null,null,null,null,null,null,null,"","","","","","","","","","","","",null,null,null,null,null,null,null,null,null,null,null,null,null,null,{"$error":"#VALUE!"},"","","","","","","","","","",""]
[null,null,null,null,null,null,null,null,null,null,null,null,null,null,null,null,null,null,null,null,null,null,818,"2013-02-25","2013-03-01","2013-01-01","2013-03-01",1.9558,25.637,7.4560000000000004,0.86299999999999999,295.8,3.4527999999999999,0.70069999999999999,4.1515000000000004,4.3587999999999996,8.4474999999999998,1.3129,null,null,null,null,null,null,null,null,null,null,null,null,null,null,null,null,null,null,null,null,null,null,null,null,null,null,null,null,null,null,null,null,null,null,null,null,null,null,null,null,"","","","","","","","","","","","",null,null,null,null,null,null,null,null,null,null,null,null,null,null,{"$error":"#VALUE!"},"","","","","","","","","","",""]
[null,null,null,null,null,null,null,null,null,null,null,null,null,null,null,null,null,null,null,null,null,null,823,"2013-03-04","2013-03-01","2013-01-01","2013-03-08",1.9558,25.51,7.4546000000000001,0.86499999999999999,299.5,3.4527999999999999,0.70050000000000001,4.1512000000000002,4.3550000000000004,8.2940000000000005,1.3009999999999999,null,null,null,null,null,null,null,null,null,null,null,null,null,null,null,null,null,null,null,null,null,null,null,null,null,null,null,null,null,null,null,null,null,null,null,null,null,null,null,null,"","","","","","","","","","","","",null,null,null,null,null,null,null,null,null,null,null,null,null,null,{"$error":"#VALUE!"},"","","","","","","","","","",""]
[null,null,null,null,null,null,null,null,null,null,null,null,null,null,null,null,null,null,null,null,null,null,824,"2013-03-11","2013-03-01","2013-01-01","2013-03-11",1.9558,25.443000000000001,7.4573,0.871,297.64,3.4527999999999999,0.70099999999999996,4.1379999999999999,4.3586999999999998,8.3239000000000001,1.3089999999999999,null,null,null,null,null,null,null,null,null,null,null,null,null,null,null,null,null,null,null,null,null,null,null,null,null,null,null,null,null,null,null,null,null,null,null,null,null,null,null,null,"","","","","","","","","","","","",null,null,null,null,null,null,null,null,null,null,null,null,null,null,{"$error":"#VALUE!"},"","","","","","","","","","",""]
[null,null,null,null,null,null,null,null,null,null,null,null,null,null,null,null,null,null,null,null,null,null,829,"2013-03-11","2013-03-01","2013-01-01","2013-03-16",{"$f":"IF($W1175=\"\",\"\",INDEX($A:$Z,$W1175,AB$3))","v":1.9558},25.574999999999999,7.4581,0.86399999999999999,305.11,3.4527999999999999,0.70140000000000002,4.1505000000000001,4.3930999999999996,8.3514999999999997,1.3086,null,null,null,null,null,null,null,null,null,null,null,null,null,null,null,null,null,null,null,null,null,null,null,null,null,null,null,null,null,null,null,null,null,null,null,null,null,null,null,null,"",{"$f":"IF($BA1175=\"\",\"\",SUM(BB1175:BB1181)/7)","v":""},"","","","","","","","","","",null,null,null,null,null,null,null,null,null,null,null,null,null,null,{"$f":"IF(AND(WEEKDAY(CA1175,2)=1,CA1175<=MaxDate-6),CA1175,\"\")","v":{"$error":"#VALUE!"}},{"$f":"IF($BA1175=\"\",\"\",SUM(CB1175:CB1181)/7)","v":""},"","","","","","","","","",""]
[null,null,null,null,null,null,null,null,null,null,null,null,null,null,null,null,null,null,null,null,null,null,832,"2013-03-18","2013-03-01","2013-01-01","2013-03-21",1.9558,25.67,7.4531999999999998,0.85519999999999996,304.97000000000003,3.4527999999999999,0.70169999999999999,4.1608999999999998,4.4238,8.3374000000000006,1.2945,null,null,null,null,null,null,null,null,null,null,null,null,null,null,null,null,null,null,null,null,null,null,null,null,null,null,null,null,null,null,null,null,null,null,null,null,null,null,null,null,"","","","","","","","","","","","",null,null,null,null,null,null,null,null,null,null,null,null,null,null,{"$error":"#VALUE!"},"","","","","","","","","","",""]
[null,null,null,null,null,null,null,null,null,null,null,null,null,null,null,null,null,null,null,null,null,null,835,"2013-03-25","2013-03-01","2013-01-01","2013-03-26",{"$f":"IF($W1185=\"\",\"\",INDEX($A:$Z,$W1185,AB$3))","v":1.9558},25.738,7.4542000000000002,0.85160000000000002,306.45,3.4527999999999999,0.70209999999999995,4.1607000000000003,4.415,8.4360999999999997,1.2935000000000001,null,null,null,null,null,null,null,null,null,null,null,null,null,null,null,null,null,null,null,null,null,null,null,null,null,null,null,null,null,null,null,null,null,null,null,null,null,null,null,null,"","","","","","","","","","","","",null,null,null,null,null,null,null,null,null,null,null,null,null,null,{"$error":"#VALUE!"},"","","","","","","","","","",""]
[null,null,null,null,null,null,null,null,null,null,null,null,null,null,null,null,null,null,null,null,null,null,837,"2013-03-25","2013-03-01","2013-01-01","2013-03-28",1.9558,25.8,7.4527999999999999,0.84514999999999996,304.12,3.4527999999999999,0.70140000000000002,4.1818,4.4135,8.3019999999999996,1.2767999999999999,null,null,null,null,null,null,null,null,null,null,null,null,null,null,null,null,null,null,null,null,null,null,null,null,null,null,null,null,null,null,null,null,null,null,null,null,null,null,null,null,"","","","","","","","","","","","",null,null,null,null,null,null,null,null,null,null,null,null,null,null,{"$error":"#VALUE!"},"","","","","","","","","","",""]
[null,null,null,null,null,null,null,null,null,null,null,null,null,null,null,null,null,null,null,null,null,null,840,"2013-04-01","2013-04-01","2013-01-01","2013-04-04",1.9558,25.827999999999999,7.4535,0.84840000000000004,302.10000000000002,3.4527999999999999,0.70130000000000003,4.1908000000000003,4.4207999999999998,8.3257999999999992,1.2827999999999999,null,null,null,null,null,null,null,null,null,null,null,null,null,null,null,null,null,null,null,null,null,null,null,null,null,null,null,null,null,null,null,null,null,null,null,null,null,null,null,null,"","","","","","","","","","","","",null,null,null,null,null,null,null,null,null,null,null,null,null,null,{"$error":"#VALUE!"},"","","","","","","","","","",""]
[null,null,null,null,null,null,null,null,null,null,null,null,null,null,null,null,null,null,null,null,null,null,844,"2013-04-08","2013-04-01","2013-01-01","2013-04-10",1.9558,25.762,7.4558,0.85175000000000001,297.64999999999998,3.4527999999999999,0.70089999999999997,4.1303999999999998,4.4086999999999996,8.3765000000000001,1.304,null,null,null,null,null,null,null,null,null,null,null,null,null,null,null,null,null,null,null,null,null,null,null,null,null,null,null,null,null,null,null,null,null,null,null,null,null,null,null,null,"","","","","","","","","","","","",null,null,null,null,null,null,null,null,null,null,null,null,null,null,{"$error":"#VALUE!"},"","","","","","","","","","",""]
[null,null,null,null,null,null,null,null,null,null,null,null,null,null,null,null,null,null,null,null,null,null,847,"2013-04-08","2013-04-01","2013-01-01","2013-04-14",1.9558,25.870999999999999,7.4551999999999996,0.84970000000000001,294.55,3.4527999999999999,0.7006,4.1040000000000001,4.3890000000000002,8.3373000000000008,1.3051999999999999,null,null,null,null,null,null,null,null,null,null,null,null,null,null,null,null,null,null,null,null,null,null,null,null,null,null,null,null,null,null,null,null,null,null,null,null,null,null,null,null,"","","","","","","","","","","","",null,null,null,null,null,null,null,null,null,null,null,null,null,null,{"$error":"#VALUE!"},"","","","","","","","","","",""]
[null,null,null,null,null,null,null,null,null,null,null,null,null,null,null,null,null,null,null,null,null,null,847,"2013-04-15","2013-04-01","2013-01-01","2013-04-15",{"$f":"IF($W1205=\"\",\"\",INDEX($A:$Z,$W1205,AB$3))","v":1.9558},25.870999999999999,7.4551999999999996,0.84970000000000001,294.55,3.4527999999999999,0.7006,4.1040000000000001,4.3890000000000002,8.3373000000000008,1.3051999999999999,null,null,null,null,null,null,null,null,null,null,null,null,null,null,null,null,null,null,null,null,null,null,null,null,null,null,null,null,null,null,null,null,null,null,null,null,null,null,null,null,"","","","","","","","","","","","",null,null,null,null,null,null,null,null,null,null,null,null,null,null,{"$error":"#VALUE!"},"","","","","","","","","","",""]
[null,null,null,null,null,null,null,null,null,null,null,null,null,null,null,null,null,null,null,null,null,null,852,"2013-04-15","2013-04-01","2013-01-01","2013-04-21",1.9558,25.856999999999999,7.4558999999999997,0.85440000000000005,298.24,3.4527999999999999,0.70020000000000004,4.1002999999999998,4.3682999999999996,8.5109999999999992,1.3115000000000001,null,null,null,null,null,null,null,null,null,null,null,null,null,null,null,null,null,null,null,null,null,null,null,null,null,null,null,null,null,null,null,null,null,null,null,null,null,null,null,null,"","","","","","","","","","","","",null,null,null,null,null,null,null,null,null,null,null,null,null,null,{"$error":"#VALUE!"},"","","","","","","","","","",""]
[null,null,null,null,null,null,null,null,null,null,null,null,null,null,null,null,null,null,null,null,null,null,854,"2013-04-22","2013-04-01","2013-01-01","2013-04-24",1.9558,25.908999999999999,7.4541000000000004,0.85165000000000002,299.45,3.4527999999999999,0.70050000000000001,4.1341999999999999,4.3498000000000001,8.5925999999999991,1.2989999999999999,null,null,null,null,null,null,null,null,null,null,null,null,null,null,null,null,null,null,null,null,null,null,null,null,null,null,null,null,null,null,null,null,null,null,null,null,null,null,null,null,"","","","","","","","","","","","",null,null,null,null,null,null,null,null,null,null,null,null,null,null,{"$error":"#VALUE!"},"","","","","","","","","","",""]
[null,null,null,null,null,null,null,null,null,null,null,null,null,null,null,null,null,null,null,null,null,null,858,"2013-04-29","2013-04-01","2013-01-01","2013-04-30",1.9558,25.696999999999999,7.4564000000000004,0.84399999999999997,298.14999999999998,3.4527999999999999,0.7,4.1308999999999996,4.3224999999999998,8.5503,1.3112999999999999,null,null,null,null,null,null,null,null,null,null,null,null,null,null,null,null,null,null,null,null,null,null,null,null,null,null,null,null,null,null,null,null,null,null,null,null,null,null,null,null,"","","","","","","","","","","","",null,null,null,null,null,null,null,null,null,null,null,null,null,null,{"$error":"#VALUE!"},"","","","","","","","","","",""]
[null,null,null,null,null,null,null,null,null,null,null,null,null,null,null,null,null,null,null,null,null,null,861,"2013-04-29","2013-05-01","2013-01-01","2013-05-04",1.9558,25.64,7.4532999999999996,0.84309999999999996,296.12,3.4527999999999999,0.69989999999999997,4.1406999999999998,4.3030999999999997,8.5306999999999995,1.3113999999999999,null,null,null,null,null,null,null,null,null,null,null,null,null,null,null,null,null,null,null,null,null,null,null,null,null,null,null,null,null,null,null,null,null,null,null,null,null,null,null,null,"","","","","","","","","","","","",null,null,null,null,null,null,null,null,null,null,null,null,null,null,{"$error":"#VALUE!"},"","","","","","","","","","",""]
[null,null,null,null,null,null,null,null,null,null,null,null,null,null,null,null,null,null,null,null,null,null,864,"2013-05-06","2013-05-01","2013-01-01","2013-05-09",1.9558,25.861999999999998,7.4535,0.84689999999999999,293.31,3.4527999999999999,0.7,4.1360999999999999,4.3122999999999996,8.5402000000000005,1.3134999999999999,null,null,null,null,null,null,null,null,null,null,null,null,null,null,null,null,null,null,null,null,null,null,null,null,null,null,null,null,null,null,null,null,null,null,null,null,null,null,null,null,"","","","","","","","","","","","",null,null,null,null,null,null,null,null,null,null,null,null,null,null,{"$error":"#VALUE!"},"","","","","","","","","","",""]
[null,null,null,null,null,null,null,null,null,null,null,null,null,null,null,null,null,null,null,null,null,null,868,"2013-05-13","2013-05-01","2013-01-01","2013-05-15",{"$f":"IF($W1235=\"\",\"\",INDEX($A:$Z,$W1235,AB$3))","v":1.9558},25.887,7.4531000000000001,0.84814999999999996,295.52999999999997,3.4527999999999999,0.69930000000000003,4.1665000000000001,4.3315000000000001,8.6333000000000002,1.2977000000000001,null,null,null,null,null,null,null,null,null,null,null,null,null,null,null,null,null,null,null,null,null,null,null,null,null,null,null,null,null,null,null,null,null,null,null,null,null,null,null,null,"","","","","","","","","","","","",null,null,null,null,null,null,null,null,null,null,null,null,null,null,{"$error":"#VALUE!"},"","","","","","","","","","",""]
[null,null,null,null,null,null,null,null,null,null,null,null,null,null,null,null,null,null,null,null,null,null,871,"2013-05-13","2013-05-01","2013-01-01","2013-05-19",1.9558,25.989000000000001,7.4523999999999999,0.84475,290.56,3.4527999999999999,0.69930000000000003,4.1703999999999999,4.3369999999999997,8.5922000000000001,1.2868999999999999,null,null,null,null,null,null,null,null,null,null,null,null,null,null,null,null,null,null,null,null,null,null,null,null,null,null,null,null,null,null,null,null,null,null,null,null,null,null,null,null,"",{"$f":"IF($BA1239=\"\",\"\",SUM(BB1239:BB1245)/7)","v":""},"","","","","","","","","","",null,null,null,null,null,null,null,null,null,null,null,null,null,null,{"$f":"IF(AND(WEEKDAY(CA1239,2)=1,CA1239<=MaxDate-6),CA1239,\"\")","v":{"$error":"#VALUE!"}},{"$f":"IF($BA1239=\"\",\"\",SUM(CB1239:CB1245)/7)","v":""},"","","","","","","","","",""]
[null,null,null,null,null,null,null,null,null,null,null,null,null,null,null,null,null,null,null,null,null,null,876,"2013-05-20","2013-05-01","2013-01-01","2013-05-25",{"$f":"IF($W1245=\"\",\"\",INDEX($A:$Z,$W1245,AB$3))","v":1.9558},25.992999999999999,7.4539,0.85694999999999999,290.39999999999998,3.4527999999999999,0.70030000000000003,4.1981999999999999,4.3550000000000004,8.5980000000000008,1.2939000000000001,null,null,null,null,null,null,null,null,null,null,null,null,null,null,null,null,null,null,null,null,null,null,null,null,null,null,null,null,null,null,null,null,null,null,null,null,null,null,null,null,"","","","","","","","","","","","",null,null,null,null,null,null,null,null,null,null,null,null,null,null,{"$error":"#VALUE!"},"","","","","","","","","","",""]
[null,null,null,null,null,null,null,null,null,null,null,null,null,null,null,null,null,null,null,null,null,null,877,"2013-05-27","2013-05-01","2013-01-01","2013-05-28",1.9558,25.968,7.4531000000000001,0.85560000000000003,289.23,3.4527999999999999,0.70130000000000003,4.1935000000000002,4.3442999999999996,8.5963999999999992,1.2939000000000001,null,null,null,null,null,null,null,null,null,null,null,null,null,null,null,null,null,null,null,null,null,null,null,null,null,null,null,null,null,null,null,null,null,null,null,null,null,null,null,null,"","","","","","","","","","","","",null,null,null,null,null,null,null,null,null,null,null,null,null,null,{"$error":"#VALUE!"},"","","","","","","","","","",""]
[null,null,null,null,null,null,null,null,null,null,null,null,null,null,null,null,null,null,null,null,null,null,"","","","","2013-06-03","","","","","","","","","","","",null,null,null,null,null,null,null,null,null,null,null,null,null,null,null,null,null,null,null,null,null,null,null,null,null,null,null,null,null,null,null,null,null,null,null,null,null,null,null,null,"","","","","","","","","","","","",null,null,null,null,null,null,null,null,null,null,null,null,null,null,{"$error":"#VALUE!"},"","","","","","","","","","",""]
[null,null,null,null,null,null,null,null,null,null,null,null,null,null,null,null,null,null,null,null,null,null,"","","","","2013-06-09","","","","","","","","","","","",null,null,null,null,null,null,null,null,null,null,null,null,null,null,null,null,null,null,null,null,null,null,null,null,null,null,null,null,null,null,null,null,null,null,null,null,null,null,null,null,"","","","","","","","","","","","",null,null,null,null,null,null,null,null,null,null,null,null,null,null,{"$error":"#VALUE!"},"","","","","","","","","","",""]
[null,null,null,null,null,null,null,null,null,null,null,null,null,null,null,null,null,null,null,null,null,null,"","","","","2013-06-10","","","","","","","","","","","",null,null,null,null,null,null,null,null,null,null,null,null,null,null,null,null,null,null,null,null,null,null,null,null,null,null,null,null,null,null,null,null,null,null,null,null,null,null,null,null,"","","","","","","","","","","","",null,null,null,null,null,null,null,null,null,null,null,null,null,null,{"$error":"#VALUE!"},"","","","","","","","","","",""]
[null,null,null,null,null,null,null,null,null,null,null,null,null,null,null,null,null,null,null,null,null,null,"","","","","2013-06-14",{"$f":"IF($W1265=\"\",\"\",INDEX($A:$Z,$W1265,AB$3))","v":""},"","","","","","","","","","",null,null,null,null,null,null,null,null,null,null,null,null,null,null,null,null,null,null,null,null,null,null,null,null,null,null,null,null,null,null,null,null,null,null,null,null,null,null,null,null,"","","","","","","","","","","","",null,null,null,null,null,null,null,null,null,null,null,null,null,null,{"$error":"#VALUE!"},"","","","","","","","","","",""]
[null,null,null,null,null,null,null,null,null,null,null,null,null,null,null,null,null,null,null,null,null,null,"","","","","2013-06-21","","","","","","","","","","","",null,null,null,null,null,null,null,null,null,null,null,null,null,null,null,null,null,null,null,null,null,null,null,null,null,null,null,null,null,null,null,null,null,null,null,null,null,null,null,null,"","","","","","","","","","","","",null,null,null,null,null,null,null,null,null,null,null,null,null,null,{"$error":"#VALUE!"},"","","","","","","","","","",""]
[null,null,null,null,null,null,null,null,null,null,null,null,null,null,null,null,null,null,null,null,null,null,"","","","","2013-06-23","","","","","","","","","","","",null,null,null,null,null,null,null,null,null,null,null,null,null,null,null,null,null,null,null,null,null,null,null,null,null,null,null,null,null,null,null,null,null,null,null,null,null,null,null,null,"","","","","","","","","","","","",null,null,null,null,null,null,null,null,null,null,null,null,null,null,{"$error":"#VALUE!"},"","","","","","","","","","",""]
[null,null,null,null,null,null,null,null,null,null,null,null,null,null,null,null,null,null,null,null,null,null,"","","","","2013-06-29","","","","","","","","","","","",null,null,null,null,null,null,null,null,null,null,null,null,null,null,null,null,null,null,null,null,null,null,null,null,null,null,null,null,null,null,null,null,null,null,null,null,null,null,null,null,"","","","","","","","","","","","",null,null,null,null,null,null,null,null,null,null,null,null,null,null,{"$error":"#VALUE!"},"","","","","","","","","","",""]
[null,null,null,null,null,null,null,null,null,null,null,null,null,null,null,null,null,null,null,null,null,null,{"$f":"IF(AA1285>MaxDate,\"\",MATCH(AA1285,$A:$A,1))","v":""},"","","","2013-07-04",{"$f":"IF($W1285=\"\",\"\",INDEX($A:$Z,$W1285,AB$3))","v":""},"","","","","","","","","","",null,null,null,null,null,null,null,null,null,null,null,null,null,null,null,null,null,null,null,null,null,null,null,null,null,null,null,null,null,null,null,null,null,null,null,null,null,null,null,null,"","","","","","","","","","","","",null,null,null,null,null,null,null,null,null,null,null,null,null,null,{"$error":"#VALUE!"},"","","","","","","","","","",""]
[null,null,null,null,null,null,null,null,null,null,null,null,null,null,null,null,null,null,null,null,null,null,"","","","","2013-07-08","","","","","","","","","","","",null,null,null,null,null,null,null,null,null,null,null,null,null,null,null,null,null,null,null,null,null,null,null,null,null,null,null,null,null,null,null,null,null,null,null,null,null,null,null,null,"","","","","","","","","","","","",null,null,null,null,null,null,null,null,null,null,null,null,null,null,{"$error":"#VALUE!"},"","","","","","","","","","",""]
[null,null,null,null,null,null,null,null,null,null,null,null,null,null,null,null,null,null,null,null,null,null,"","","","","2013-07-15","","","","","","","","","","","",null,null,null,null,null,null,null,null,null,null,null,null,null,null,null,null,null,null,null,null,null,null,null,null,null,null,null,null,null,null,null,null,null,null,null,null,null,null,null,null,"","","","","","","","","","","","",null,null,null,null,null,null,null,null,null,null,null,null,null,null,{"$error":"#VALUE!"},"","","","","","","","","","",""]
[null,null,null,null,null,null,null,null,null,null,null,null,null,null,null,null,null,null,null,null,null,null,"","","","","2013-07-18","","","","","","","","","","","",null,null,null,null,null,null,null,null,null,null,null,null,null,null,null,null,null,null,null,null,null,null,null,null,null,null,null,null,null,null,null,null,null,null,null,null,null,null,null,null,"","","","","","","","","","","","",null,null,null,null,null,null,null,null,null,null,null,null,null,null,{"$error":"#VALUE!"},"","","","","","","","","","",""]
[null,null,null,null,null,null,null,null,null,null,null,null,null,null,null,null,null,null,null,null,null,null,"","","","","2013-07-24",{"$f":"IF($W1305=\"\",\"\",INDEX($A:$Z,$W1305,AB$3))","v":""},"","","","","","","","","","",null,null,null,null,null,null,null,null,null,null,null,null,null,null,null,null,null,null,null,null,null,null,null,null,null,null,null,null,null,null,null,null,null,null,null,null,null,null,null,null,"","","","","","","","","","","","",null,null,null,null,null,null,null,null,null,null,null,null,null,null,{"$error":"#VALUE!"},"","","","","","","","","","",""]
[null,null,null,null,null,null,null,null,null,null,null,null,null,null,null,null,null,null,null,null,null,null,"","","","","2013-07-28","","","","","","","","","","","",null,null,null,null,null,null,null,null,null,null,null,null,null,null,null,null,null,null,null,null,null,null,null,null,null,null,null,null,null,null,null,null,null,null,null,null,null,null,null,null,"","","","","","","","","","","","",null,null,null,null,null,null,null,null,null,null,null,null,null,null,{"$error":"#VALUE!"},"","","","","","","","","","",""]
[null,null,null,null,null,null,null,null,null,null,null,null,null,null,null,null,null,null,null,null,null,null,"","","","","2013-08-02","","","","","","","","","","","",null,null,null,null,null,null,null,null,null,null,null,null,null,null,null,null,null,null,null,null,null,null,null,null,null,null,null,null,null,null,null,null,null,null,null,null,null,null,null,null,"","","","","","","","","","","","",null,null,null,null,null,null,null,null,null,null,null,null,null,null,{"$error":"#VALUE!"},"","","","","","","","","","",""]
[null,null,null,null,null,null,null,null,null,null,null,null,null,null,null,null,null,null,null,null,null,null,"","","","","2013-08-04","","","","","","","","","","","",null,null,null,null,null,null,null,null,null,null,null,null,null,null,null,null,null,null,null,null,null,null,null,null,null,null,null,null,null,null,null,null,null,null,null,null,null,null,null,null,"","","","","","","","","","","","",null,null,null,null,null,null,null,null,null,null,null,null,null,null,{"$error":"#VALUE!"},"","","","","","","","","","",""]
[null,null,null,null,null,null,null,null,null,null,null,null,null,null,null,null,null,null,null,null,null,null,"","","","","2013-08-12","","","","","","","","","","","",null,null,null,null,null,null,null,null,null,null,null,null,null,null,null,null,null,null,null,null,null,null,null,null,null,null,null,null,null,null,null,null,null,null,null,null,null,null,null,null,"","","","","","","","","","","","",null,null,null,null,null,null,null,null,null,null,null,null,null,null,{"$error":"#VALUE!"},"","","","","","","","","","",""]
[null,null,null,null,null,null,null,null,null,null,null,null,null,null,null,null,null,null,null,null,null,null,"","","","","2013-08-17","","","","","","","","","","","",null,null,null,null,null,null,null,null,null,null,null,null,null,null,null,null,null,null,null,null,null,null,null,null,null,null,null,null,null,null,null,null,null,null,null,null,null,null,null,null,"","","","","","","","","","","","",null,null,null,null,null,null,null,null,null,null,null,null,null,null,{"$error":"#VALUE!"},"","","","","","","","","","",""]
[null,null,null,null,null,null,null,null,null,null,null,null,null,null,null,null,null,null,null,null,null,null,"","","","","2013-08-21","","","","","","","","","","","",null,null,null,null,null,null,null,null,null,null,null,null,null,null,null,null,null,null,null,null,null,null,null,null,null,null,null,null,null,null,null,null,null,null,null,null,null,null,null,null,"","","","","","","","","","","","",null,null,null,null,null,null,null,null,null,null,null,null,null,null,{"$error":"#VALUE!"},"","","","","","","","","","",""]
[null,null,null,null,null,null,null,null,null,null,null,null,null,null,null,null,null,null,null,null,null,null,"","","","","2013-08-22","","","","","","","","","","","",null,null,null,null,null,null,null,null,null,null,null,null,null,null,null,null,null,null,null,null,null,null,null,null,null,null,null,null,null,null,null,null,null,null,null,null,null,null,null,null,"","","","","","","","","","","","",null,null,null,null,null,null,null,null,null,null,null,null,null,null,{"$error":"#VALUE!"},"","","","","","","","","","",""]
[null,null,null,null,null,null,null,null,null,null,null,null,null,null,null,null,null,null,null,null,null,null,"","","","","2013-08-28","","","","","","","","","","","",null,null,null,null,null,null,null,null,null,null,null,null,null,null,null,null,null,null,null,null,null,null,null,null,null,null,null,null,null,null,null,null,null,null,null,null,null,null,null,null,"","","","","","","","","","","","",null,null,null,null,null,null,null,null,null,null,null,null,null,null,{"$error":"#VALUE!"},"","","","","","","","","","",""]
[null,null,null,null,null,null,null,null,null,null,null,null,null,null,null,null,null,null,null,null,null,null,"","","","","2013-09-03","","","","","","","","","","","",null,null,null,null,null,null,null,null,null,null,null,null,null,null,null,null,null,null,null,null,null,null,null,null,null,null,null,null,null,null,null,null,null,null,null,null,null,null,null,null,{"$f":"IF(AND(WEEKDAY(BA1346,2)=1,BA1346<=MaxDate-6),BA1346,\"\")","v":""},"","","","","","","","","","","",null,null,null,null,null,null,null,null,null,null,null,null,null,null,{"$error":"#VALUE!"},"","","","","","","","","","",""]
[null,null,null,null,null,null,null,null,null,null,null,null,null,null,null,null,null,null,null,null,null,null,{"$f":"IF(AA1349>MaxDate,\"\",MATCH(AA1349,$A:$A,1))","v":""},"","","","2013-09-06","","","","","","","","","","","",null,null,null,null,null,null,null,null,null,null,null,null,null,null,null,null,null,null,null,null,null,null,null,null,null,null,null,null,null,null,null,null,null,null,null,null,null,null,null,null,"","","","","","","","","","","","",null,null,null,null,null,null,null,null,null,null,null,null,null,null,{"$error":"#VALUE!"},"","","","","","","","","","",""]
[null,null,null,null,null,null,null,null,null,null,null,null,null,null,null,null,null,null,null,null,null,null,"","","","","2013-09-10","","","","","","","","","","","",null,null,null,null,null,null,null,null,null,null,null,null,null,null,null,null,null,null,null,null,null,null,null,null,null,null,null,null,null,null,null,null,null,null,null,null,null,null,null,null,"","","","","","","","","","","","",null,null,null,null,null,null,null,null,null,null,null,null,null,null,{"$error":"#VALUE!"},"","","","","","","","","","",""]
[null,null,null,null,null,null,null,null,null,null,null,null,null,null,null,null,null,null,null,null,null,null,"","","","","2013-09-16","","","","","","","","","","","",null,null,null,null,null,null,null,null,null,null,null,null,null,null,null,null,null,null,null,null,null,null,null,null,null,null,null,null,null,null,null,null,null,null,null,null,null,null,null,null,"","","","","","","","","","","","",null,null,null,null,null,null,null,null,null,null,null,null,null,null,{"$error":"#VALUE!"},"","","","","","","","","","",""]
[null,null,null,null,null,null,null,null,null,null,null,null,null,null,null,null,null,null,null,null,null,null,"","","","","2013-09-22",{"$f":"IF($W1365=\"\",\"\",INDEX($A:$Z,$W1365,AB$3))","v":""},"","","","","","","","","","",null,null,null,null,null,null,null,null,null,null,null,null,null,null,null,null,null,null,null,null,null,null,null,null,null,null,null,null,null,null,null,null,null,null,null,null,null,null,null,null,"","","","","","","","","","","","",null,null,null,null,null,null,null,null,null,null,null,null,null,null,{"$error":"#VALUE!"},"","","","","","","","","","",""]
[null,null,null,null,null,null,null,null,null,null,null,null,null,null,null,null,null,null,null,null,null,null,"","","","","2013-09-27","","","","","","","","","","","",null,null,null,null,null,null,null,null,null,null,null,null,null,null,null,null,null,null,null,null,null,null,null,null,null,null,null,null,null,null,null,null,null,null,null,null,null,null,null,null,"","","","","","","","","","","","",null,null,null,null,null,null,null,null,null,null,null,null,null,null,{"$error":"#VALUE!"},"","","","","","","","","","",""]
[null,null,null,null,null,null,null,null,null,null,null,null,null,null,null,null,null,null,null,null,null,null,"","","","","2013-10-01","","","","","","","","","","","",null,null,null,null,null,null,null,null,null,null,null,null,null,null,null,null,null,null,null,null,null,null,null,null,null,null,null,null,null,null,null,null,null,null,null,null,null,null,null,null,"","","","","","","","","","","","",null,null,null,null,null,null,null,null,null,null,null,null,null,null,{"$error":"#VALUE!"},"","","","","","","","","","",""]
[null,null,null,null,null,null,null,null,null,null,null,null,null,null,null,null,null,null,null,null,null,null,"","","","","2013-10-04","","","","","","","","","","","",null,null,null,null,null,null,null,null,null,null,null,null,null,null,null,null,null,null,null,null,null,null,null,null,null,null,null,null,null,null,null,null,null,null,null,null,null,null,null,null,"","","","","","","","","","","","",null,null,null,null,null,null,null,null,null,null,null,null,null,null,{"$error":"#VALUE!"},"","","","","","","","","","",""]
[null,null,null,null,null,null,null,null,null,null,null,null,null,null,null,null,null,null,null,null,null,null,"","","","","2013-10-11","","","","","","","","","","","",null,null,null,null,null,null,null,null,null,null,null,null,null,null,null,null,null,null,null,null,null,null,null,null,null,null,null,null,null,null,null,null,null,null,null,null,null,null,null,null,"","","","","","","","","","","","",null,null,null,null,null,null,null,null,null,null,null,null,null,null,{"$error":"#VALUE!"},"","","","","","","","","","",""]
[null,null,null,null,null,null,null,null,null,null,null,null,null,null,null,null,null,null,null,null,null,null,"","","","","2013-10-16","","","","","","","","","","","",null,null,null,null,null,null,null,null,null,null,null,null,null,null,null,null,null,null,null,null,null,null,null,null,null,null,null,null,null,null,null,null,null,null,null,null,null,null,null,null,"","","","","","","","","","","","",null,null,null,null,null,null,null,null,null,null,null,null,null,null,{"$error":"#VALUE!"},"","","","","","","","","","",""]
[null,null,null,null,null,null,null,null,null,null,null,null,null,null,null,null,null,null,null,null,null,null,"","","","","2013-10-17","","","","","","","","","","","",null,null,null,null,null,null,null,null,null,null,null,null,null,null,null,null,null,null,null,null,null,null,null,null,null,null,null,null,null,null,null,null,null,null,null,null,null,null,null,null,"","","","","","","","","","","","",null,null,null,null,null,null,null,null,null,null,null,null,null,null,{"$error":"#VALUE!"},"","","","","","","","","","",""]
[null,null,null,null,null,null,null,null,null,null,null,null,null,null,null,null,null,null,null,null,null,null,"","","","","2013-10-21","","","","","","","","","","","",null,null,null,null,null,null,null,null,null,null,null,null,null,null,null,null,null,null,null,null,null,null,null,null,null,null,null,null,null,null,null,null,null,null,null,null,null,null,null,null,"","","","","","","","","","","","",null,null,null,null,null,null,null,null,null,null,null,null,null,null,{"$error":"#VALUE!"},"","","","","","","","","","",""]
[null,null,null,null,null,null,null,null,null,null,null,null,null,null,null,null,null,null,null,null,null,null,"","","","","2013-10-27","","","","","","","","","","","",null,null,null,null,null,null,null,null,null,null,null,null,null,null,null,null,null,null,null,null,null,null,null,null,null,null,null,null,null,null,null,null,null,null,null,null,null,null,null,null,"","","","","","","","","","","","",null,null,null,null,null,null,null,null,null,null,null,null,null,null,{"$error":"#VALUE!"},"","","","","","","","","","",""]
[null,null,null,null,null,null,null,null,null,null,null,null,null,null,null,null,null,null,null,null,null,null,"","","","","2013-10-31","","","","","","","","","","","",null,null,null,null,null,null,null,null,null,null,null,null,null,null,null,null,null,null,null,null,null,null,null,null,null,null,null,null,null,null,null,null,null,null,null,null,null,null,null,null,"","","","","","","","","","","","",null,null,null,null,null,null,null,null,null,null,null,null,null,null,{"$error":"#VALUE!"},"","","","","","","","","","",""]
[null,null,null,null,null,null,null,null,null,null,null,null,null,null,null,null,null,null,null,null,null,null,"","","","","2013-11-01",{"$f":"IF($W1405=\"\",\"\",INDEX($A:$Z,$W1405,AB$3))","v":""},"","","","","","","","","","",null,null,null,null,null,null,null,null,null,null,null,null,null,null,null,null,null,null,null,null,null,null,null,null,null,null,null,null,null,null,null,null,null,null,null,null,null,null,null,null,"","","","","","","","","","","","",null,null,null,null,null,null,null,null,null,null,null,null,null,null,{"$error":"#VALUE!"},"","","","","","","","","","",""]
[null,null,null,null,null,null,null,null,null,null,null,null,null,null,null,null,null,null,null,null,null,null,"","","","","2013-11-02","","","","","","","","","","","",null,null,null,null,null,null,null,null,null,null,null,null,null,null,null,null,null,null,null,null,null,null,null,null,null,null,null,null,null,null,null,null,null,null,null,null,null,null,null,null,"","","","","","","","","","","","",null,null,null,null,null,null,null,null,null,null,null,null,null,null,{"$error":"#VALUE!"},"","","","","","","","","","",""]
[null,null,null,null,null,null,null,null,null,null,null,null,null,null,null,null,null,null,null,null,null,null,"","","","","2013-11-03","","","","","","","","","","","",null,null,null,null,null,null,null,null,null,null,null,null,null,null,null,null,null,null,null,null,null,null,null,null,null,null,null,null,null,null,null,null,null,null,null,null,null,null,null,null,"","","","","","","","","","","","",null,null,null,null,null,null,null,null,null,null,null,null,null,null,{"$error":"#VALUE!"},"","","","","","","","","","",""]
[null,null,null,null,null,null,null,null,null,null,null,null,null,null,null,null,null,null,null,null,null,null,"","","","","2013-11-04","","","","","","","","","","","",null,null,null,null,null,null,null,null,null,null,null,null,null,null,null,null,null,null,null,null,null,null,null,null,null,null,null,null,null,null,null,null,null,null,null,null,null,null,null,null,"","","","","","","","","","","","",null,null,null,null,null,null,null,null,null,null,null,null,null,null,{"$error":"#VALUE!"},"","","","","","","","","","",""]
[null,null,null,null,null,null,null,null,null,null,null,null,null,null,null,null,null,null,null,null,null,null,"","","","","2013-11-05","","","","","","","","","","","",null,null,null,null,null,null,null,null,null,null,null,null,null,null,null,null,null,null,null,null,null,null,null,null,null,null,null,null,null,null,null,null,null,null,null,null,null,null,null,null,"","","","","","","","","","","","",null,null,null,null,null,null,null,null,null,null,null,null,null,null,{"$error":"#VALUE!"},"","","","","","","","","","",""]
[null,null,null,null,null,null,null,null,null,null,null,null,null,null,null,null,null,null,null,null,null,null,"","","","","2013-11-06","","","","","","","","","","","",null,null,null,null,null,null,null,null,null,null,null,null,null,null,null,null,null,null,null,null,null,null,null,null,null,null,null,null,null,null,null,null,null,null,null,null,null,null,null,null,"","","","","","","","","","","","",null,null,null,null,null,null,null,null,null,null,null,null,null,null,{"$error":"#VALUE!"},"","","","","","","","","","",""]
[null,null,null,null,null,null,null,null,null,null,null,null,null,null,null,null,null,null,null,null,null,null,"","","","","2013-11-07","","","","","","","","","","","",null,null,null,null,null,null,null,null,null,null,null,null,null,null,null,null,null,null,null,null,null,null,null,null,null,null,null,null,null,null,null,null,null,null,null,null,null,null,null,null,"","","","","","","","","","","","",null,null,null,null,null,null,null,null,null,null,null,null,null,null,{"$error":"#VALUE!"},"","","","","","","","","","",""]
[null,null,null,null,null,null,null,null,null,null,null,null,null,null,null,null,null,null,null,null,null,null,"","","","","2013-11-08","","","","","","","","","","","",null,null,null,null,null,null,null,null,null,null,null,null,null,null,null,null,null,null,null,null,null,null,null,null,null,null,null,null,null,null,null,null,null,null,null,null,null,null,null,null,"","","","","","","","","","","","",null,null,null,null,null,null,null,null,null,null,null,null,null,null,{"$error":"#VALUE!"},"","","","","","","","","","",""]
[null,null,null,null,null,null,null,null,null,null,null,null,null,null,null,null,null,null,null,null,null,null,{"$f":"IF(AA1413>MaxDate,\"\",MATCH(AA1413,$A:$A,1))","v":""},"","","","2013-11-09","","","","","","","","","","","",null,null,null,null,null,null,null,null,null,null,null,null,null,null,null,null,null,null,null,null,null,null,null,null,null,null,null,null,null,null,null,null,null,null,null,null,null,null,null,null,"","","","","","","","","","","","",null,null,null,null,null,null,null,null,null,null,null,null,null,null,{"$error":"#VALUE!"},"","","","","","","","","","",""]
[null,null,null,null,null,null,null,null,null,null,null,null,null,null,null,null,null,null,null,null,null,null,"",{"$f":"IF(W1414=\"\",\"\",IF(WEEKDAY(AA1414,2)=1,AA1414,X1413))","v":""},{"$f":"IF(W1414=\"\",\"\",DATE(YEAR(AA1414),MONTH(AA1414),1))","v":""},{"$f":"IF(W1414=\"\",\"\",DATE(YEAR(AA1414),1,1))","v":""},"2013-11-10","","","","","","","","","","","",null,null,null,null,null,null,null,null,null,null,null,null,null,null,null,null,null,null,null,null,null,null,null,null,null,null,null,null,null,null,null,null,null,null,null,null,null,null,null,null,"","","","","","","","","","","","",null,null,null,null,null,null,null,null,null,null,null,null,null,null,{"$error":"#VALUE!"},"","","","","","","","","","",""]
[null,null,null,null,null,null,null,null,null,null,null,null,null,null,null,null,null,null,null,null,null,null,"","","","",{"$f":"1+AA1414","v":"2013-11-11"},{"$f":"IF($W1415=\"\",\"\",INDEX($A:$Z,$W1415,AB$3))","v":""},"","","","","","","","","","",null,null,null,null,null,null,null,null,null,null,null,null,null,null,null,null,null,null,null,null,null,null,null,null,null,null,null,null,null,null,null,null,null,null,null,null,null,null,null,null,"",{"$f":"IF($BA1415=\"\",\"\",SUM(BB1415:BB1421)/7)","v":""},"","","","","","","","","","",null,null,null,null,null,null,null,null,null,null,null,null,null,null,{"$error":"#VALUE!"},{"$f":"IF($BA1415=\"\",\"\",SUM(CB1415:CB1421)/7)","v":""},"","","","","","","","","",""]
[null,null,null,null,null,null,null,null,null,null,null,null,null,null,null,null,null,null,null,null,null,null,"","","","","2013-11-12","","","","","","","","","","","",null,null,null,null,null,null,null,null,null,null,null,null,null,null,null,null,null,null,null,null,null,null,null,null,null,null,null,null,null,null,null,null,null,null,null,null,null,null,null,null,"","","","","","","","","","","","",null,null,null,null,null,null,null,null,null,null,null,null,null,null,{"$error":"#VALUE!"},"","","","","","","","","","",""]
[null,null,null,null,null,null,null,null,null,null,null,null,null,null,null,null,null,null,null,null,null,null,"","","","","2013-11-13","","","","","","","","","","","",null,null,null,null,null,null,null,null,null,null,null,null,null,null,null,null,null,null,null,null,null,null,null,null,null,null,null,null,null,null,null,null,null,null,null,null,null,null,null,null,"","","","","","","","","","","","",null,null,null,null,null,null,null,null,null,null,null,null,null,null,{"$error":"#VALUE!"},"","","","","","","","","","",""]
[null,null,null,null,null,null,null,null,null,null,null,null,null,null,null,null,null,null,null,null,null,null,"","","","","2013-11-14","","","","","","","","","","","",null,null,null,null,null,null,null,null,null,null,null,null,null,null,null,null,null,null,null,null,null,null,null,null,null,null,null,null,null,null,null,null,null,null,null,null,null,null,null,null,"","","","","","","","","","","","",null,null,null,null,null,null,null,null,null,null,null,null,null,null,{"$error":"#VALUE!"},"","","","","","","","","","",""]
[null,null,null,null,null,null,null,null,null,null,null,null,null,null,null,null,null,null,null,null,null,null,"","","","","2013-11-15","","","","","","","","","","","",null,null,null,null,null,null,null,null,null,null,null,null,null,null,null,null,null,null,null,null,null,null,null,null,null,null,null,null,null,null,null,null,null,null,null,null,null,null,null,null,"","","","","","","","","","","","",null,null,null,null,null,null,null,null,null,null,null,null,null,null,{"$error":"#VALUE!"},"","","","","","","","","","",""]
[null,null,null,null,null,null,null,null,null,null,null,null,null,null,null,null,null,null,null,null,null,null,"","","","","2013-11-16","","","","","","","","","","","",null,null,null,null,null,null,null,null,null,null,null,null,null,null,null,null,null,null,null,null,null,null,null,null,null,null,null,null,null,null,null,null,null,null,null,null,null,null,null,null,"","","","","","","","","","","","",null,null,null,null,null,null,null,null,null,null,null,null,null,null,{"$error":"#VALUE!"},"","","","","","","","","","",""]
[null,null,null,null,null,null,null,null,null,null,null,null,null,null,null,null,null,null,null,null,null,null,"","","","","2013-11-17","","","","","","","","","","","",null,null,null,null,null,null,null,null,null,null,null,null,null,null,null,null,null,null,null,null,null,null,null,null,null,null,null,null,null,null,null,null,null,null,null,null,null,null,null,null,"","","","","","","","","","","","",null,null,null,null,null,null,null,null,null,null,null,null,null,null,{"$error":"#VALUE!"},"","","","","","","","","","",""]
[null,null,null,null,null,null,null,null,null,null,null,null,null,null,null,null,null,null,null,null,null,null,"","","","","2013-11-18","","","","","","","","","","","",null,null,null,null,null,null,null,null,null,null,null,null,null,null,null,null,null,null,null,null,null,null,null,null,null,null,null,null,null,null,null,null,null,null,null,null,null,null,null,null,"","","","","","","","","","","","",null,null,null,null,null,null,null,null,null,null,null,null,null,null,{"$error":"#VALUE!"},"","","","","","","","","","",""]
[null,null,null,null,null,null,null,null,null,null,null,null,null,null,null,null,null,null,null,null,null,null,"","","","","2013-11-19","","","","","","","","","","","",null,null,null,null,null,null,null,null,null,null,null,null,null,null,null,null,null,null,null,null,null,null,null,null,null,null,null,null,null,null,null,null,null,null,null,null,null,null,null,null,"","","","","","","","","","","","",null,null,null,null,null,null,null,null,null,null,null,null,null,null,{"$error":"#VALUE!"},"","","","","","","","","","",""]
[null,null,null,null,null,null,null,null,null,null,null,null,null,null,null,null,null,null,null,null,null,null,"","","","","2013-11-20","","","","","","","","","","","",null,null,null,null,null,null,null,null,null,null,null,null,null,null,null,null,null,null,null,null,null,null,null,null,null,null,null,null,null,null,null,null,null,null,null,null,null,null,null,null,"","","","","","","","","","","","",null,null,null,null,null,null,null,null,null,null,null,null,null,null,{"$error":"#VALUE!"},"","","","","","","","","","",""]
[null,null,null,null,null,null,null,null,null,null,null,null,null,null,null,null,null,null,null,null,null,null,"","","","","2013-11-21",{"$f":"IF($W1425=\"\",\"\",INDEX($A:$Z,$W1425,AB$3))","v":""},"","","","","","","","","","",null,null,null,null,null,null,null,null,null,null,null,null,null,null,null,null,null,null,null,null,null,null,null,null,null,null,null,null,null,null,null,null,null,null,null,null,null,null,null,null,"","","","","","","","","","","","",null,null,null,null,null,null,null,null,null,null,null,null,null,null,{"$error":"#VALUE!"},"","","","","","","","","","",""]
[null,null,null,null,null,null,null,null,null,null,null,null,null,null,null,null,null,null,null,null,null,null,"","","","","2013-11-22","","","","","","","","","","","",null,null,null,null,null,null,null,null,null,null,null,null,null,null,null,null,null,null,null,null,null,null,null,null,null,null,null,null,null,null,null,null,null,null,null,null,null,null,null,null,"","","","","","","","","","","","",null,null,null,null,null,null,null,null,null,null,null,null,null,null,{"$error":"#VALUE!"},"","","","","","","","","","",""]
[null,null,null,null,null,null,null,null,null,null,null,null,null,null,null,null,null,null,null,null,null,null,"","","","","2013-11-23","","","","","","","","","","","",null,null,null,null,null,null,null,null,null,null,null,null,null,null,null,null,null,null,null,null,null,null,null,null,null,null,null,null,null,null,null,null,null,null,null,null,null,null,null,null,"","","","","","","","","","","","",null,null,null,null,null,null,null,null,null,null,null,null,null,null,{"$error":"#VALUE!"},"","","","","","","","","","",""]
[null,null,null,null,null,null,null,null,null,null,null,null,null,null,null,null,null,null,null,null,null,null,"","","","","2013-11-24","","","","","","","","","","","",null,null,null,null,null,null,null,null,null,null,null,null,null,null,null,null,null,null,null,null,null,null,null,null,null,null,null,null,null,null,null,null,null,null,null,null,null,null,null,null,"","","","","","","","","","","","",null,null,null,null,null,null,null,null,null,null,null,null,null,null,{"$error":"#VALUE!"},"","","","","","","","","","",""]
[null,null,null,null,null,null,null,null,null,null,null,null,null,null,null,null,null,null,null,null,null,null,"","","","","2013-11-25","","","","","","","","","","","",null,null,null,null,null,null,null,null,null,null,null,null,null,null,null,null,null,null,null,null,null,null,null,null,null,null,null,null,null,null,null,null,null,null,null,null,null,null,null,null,"","","","","","","","","","","","",null,null,null,null,null,null,null,null,null,null,null,null,null,null,{"$error":"#VALUE!"},"","","","","","","","","","",""]
[null,null,null,null,null,null,null,null,null,null,null,null,null,null,null,null,null,null,null,null,null,null,"","","","","2013-11-26","","","","","","","","","","","",null,null,null,null,null,null,null,null,null,null,null,null,null,null,null,null,null,null,null,null,null,null,null,null,null,null,null,null,null,null,null,null,null,null,null,null,null,null,null,null,"","","","","","","","","","","","",null,null,null,null,null,null,null,null,null,null,null,null,null,null,{"$error":"#VALUE!"},"","","","","","","","","","",""]
[null,null,null,null,null,null,null,null,null,null,null,null,null,null,null,null,null,null,null,null,null,null,"","","","","2013-11-27","","","","","","","","","","","",null,null,null,null,null,null,null,null,null,null,null,null,null,null,null,null,null,null,null,null,null,null,null,null,null,null,null,null,null,null,null,null,null,null,null,null,null,null,null,null,"",{"$f":"IF($BA1431=\"\",\"\",SUM(BB1431:BB1437)/7)","v":""},"","","","","","","","","","",null,null,null,null,null,null,null,null,null,null,null,null,null,null,{"$f":"IF(AND(WEEKDAY(CA1431,2)=1,CA1431<=MaxDate-6),CA1431,\"\")","v":{"$error":"#VALUE!"}},{"$f":"IF($BA1431=\"\",\"\",SUM(CB1431:CB1437)/7)","v":""},"","","","","","","","","",""]
[null,null,null,null,null,null,null,null,null,null,null,null,null,null,null,null,null,null,null,null,null,null,"","","","","2013-11-28","","","","","","","","","","","",null,null,null,null,null,null,null,null,null,null,null,null,null,null,null,null,null,null,null,null,null,null,null,null,null,null,null,null,null,null,null,null,null,null,null,null,null,null,null,null,"","","","","","","","","","","","",null,null,null,null,null,null,null,null,null,null,null,null,null,null,{"$error":"#VALUE!"},"","","","","","","","","","",""]
[null,null,null,null,null,null,null,null,null,null,null,null,null,null,null,null,null,null,null,null,null,null,"","","","","2013-11-29","","","","","","","","","","","",null,null,null,null,null,null,null,null,null,null,null,null,null,null,null,null,null,null,null,null,null,null,null,null,null,null,null,null,null,null,null,null,null,null,null,null,null,null,null,null,"","","","","","","","","","","","",null,null,null,null,null,null,null,null,null,null,null,null,null,null,{"$error":"#VALUE!"},"","","","","","","","","","",""]
[null,null,null,null,null,null,null,null,null,null,null,null,null,null,null,null,null,null,null,null,null,null,"","","","","2013-11-30","","","","","","","","","","","",null,null,null,null,null,null,null,null,null,null,null,null,null,null,null,null,null,null,null,null,null,null,null,null,null,null,null,null,null,null,null,null,null,null,null,null,null,null,null,null,"","","","","","","","","","","","",null,null,null,null,null,null,null,null,null,null,null,null,null,null,{"$error":"#VALUE!"},"","","","","","","","","","",""]
[null,null,null,null,null,null,null,null,null,null,null,null,null,null,null,null,null,null,null,null,null,null,"","","","","2013-12-01",{"$f":"IF($W1435=\"\",\"\",INDEX($A:$Z,$W1435,AB$3))","v":""},"","","","","","","","","","",null,null,null,null,null,null,null,null,null,null,null,null,null,null,null,null,null,null,null,null,null,null,null,null,null,null,null,null,null,null,null,null,null,null,null,null,null,null,null,null,"","","","","","","","","","","","",null,null,null,null,null,null,null,null,null,null,null,null,null,null,{"$error":"#VALUE!"},"","","","","","","","","","",""]
[null,null,null,null,null,null,null,null,null,null,null,null,null,null,null,null,null,null,null,null,null,null,"","","","","2013-12-02","","","","","","","","","","","",null,null,null,null,null,null,null,null,null,null,null,null,null,null,null,null,null,null,null,null,null,null,null,null,null,null,null,null,null,null,null,null,null,null,null,null,null,null,null,null,"","","","","","","","","","","","",null,null,null,null,null,null,null,null,null,null,null,null,null,null,{"$error":"#VALUE!"},"","","","","","","","","","",""]
[null,null,null,null,null,null,null,null,null,null,null,null,null,null,null,null,null,null,null,null,null,null,"","","","","2013-12-03","","","","","","","","","","","",null,null,null,null,null,null,null,null,null,null,null,null,null,null,null,null,null,null,null,null,null,null,null,null,null,null,null,null,null,null,null,null,null,null,null,null,null,null,null,null,"","","","","","","","","","","","",null,null,null,null,null,null,null,null,null,null,null,null,null,null,{"$error":"#VALUE!"},"","","","","","","","","","",""]
[null,null,null,null,null,null,null,null,null,null,null,null,null,null,null,null,null,null,null,null,null,null,"","","","","2013-12-04","","","","","","","","","","","",null,null,null,null,null,null,null,null,null,null,null,null,null,null,null,null,null,null,null,null,null,null,null,null,null,null,null,null,null,null,null,null,null,null,null,null,null,null,null,null,"","","","","","","","","","","","",null,null,null,null,null,null,null,null,null,null,null,null,null,null,{"$error":"#VALUE!"},"","","","","","","","","","",""]
[null,null,null,null,null,null,null,null,null,null,null,null,null,null,null,null,null,null,null,null,null,null,"","","","","2013-12-05","","","","","","","","","","","",null,null,null,null,null,null,null,null,null,null,null,null,null,null,null,null,null,null,null,null,null,null,null,null,null,null,null,null,null,null,null,null,null,null,null,null,null,null,null,null,"","","","","","","","","","","","",null,null,null,null,null,null,null,null,null,null,null,null,null,null,{"$error":"#VALUE!"},"","","","","","","","","","",""]
[null,null,null,null,null,null,null,null,null,null,null,null,null,null,null,null,null,null,null,null,null,null,"","","","","2013-12-06","","","","","","","","","","","",null,null,null,null,null,null,null,null,null,null,null,null,null,null,null,null,null,null,null,null,null,null,null,null,null,null,null,null,null,null,null,null,null,null,null,null,null,null,null,null,"","","","","","","","","","","","",null,null,null,null,null,null,null,null,null,null,null,null,null,null,{"$error":"#VALUE!"},"","","","","","","","","","",""]
[null,null,null,null,null,null,null,null,null,null,null,null,null,null,null,null,null,null,null,null,null,null,"","","","","2013-12-07","","","","","","","","","","","",null,null,null,null,null,null,null,null,null,null,null,null,null,null,null,null,null,null,null,null,null,null,null,null,null,null,null,null,null,null,null,null,null,null,null,null,null,null,null,null,"","","","","","","","","","","","",null,null,null,null,null,null,null,null,null,null,null,null,null,null,{"$error":"#VALUE!"},"","","","","","","","","","",""]
[null,null,null,null,null,null,null,null,null,null,null,null,null,null,null,null,null,null,null,null,null,null,"","","","","2013-12-08","","","","","","","","","","","",null,null,null,null,null,null,null,null,null,null,null,null,null,null,null,null,null,null,null,null,null,null,null,null,null,null,null,null,null,null,null,null,null,null,null,null,null,null,null,null,"","","","","","","","","","","","",null,null,null,null,null,null,null,null,null,null,null,null,null,null,{"$error":"#VALUE!"},"","","","","","","","","","",""]
[null,null,null,null,null,null,null,null,null,null,null,null,null,null,null,null,null,null,null,null,null,null,"","","","","2013-12-09","","","","","","","","","","","",null,null,null,null,null,null,null,null,null,null,null,null,null,null,null,null,null,null,null,null,null,null,null,null,null,null,null,null,null,null,null,null,null,null,null,null,null,null,null,null,"","","","","","","","","","","","",null,null,null,null,null,null,null,null,null,null,null,null,null,null,{"$error":"#VALUE!"},"","","","","","","","","","",""]
[null,null,null,null,null,null,null,null,null,null,null,null,null,null,null,null,null,null,null,null,null,null,"","","","","2013-12-10","","","","","","","","","","","",null,null,null,null,null,null,null,null,null,null,null,null,null,null,null,null,null,null,null,null,null,null,null,null,null,null,null,null,null,null,null,null,null,null,null,null,null,null,null,null,"","","","","","","","","","","","",null,null,null,null,null,null,null,null,null,null,null,null,null,null,{"$error":"#VALUE!"},"","","","","","","","","","",""]
[null,null,null,null,null,null,null,null,null,null,null,null,null,null,null,null,null,null,null,null,null,null,"","","","","2013-12-11",{"$f":"IF($W1445=\"\",\"\",INDEX($A:$Z,$W1445,AB$3))","v":""},"","","","","","","","","","",null,null,null,null,null,null,null,null,null,null,null,null,null,null,null,null,null,null,null,null,null,null,null,null,null,null,null,null,null,null,null,null,null,null,null,null,null,null,null,null,"","","","","","","","","","","","",null,null,null,null,null,null,null,null,null,null,null,null,null,null,{"$error":"#VALUE!"},"","","","","","","","","","",""]
[null,null,null,null,null,null,null,null,null,null,null,null,null,null,null,null,null,null,null,null,null,null,"","","","","2013-12-12","","","","","","","","","","","",null,null,null,null,null,null,null,null,null,null,null,null,null,null,null,null,null,null,null,null,null,null,null,null,null,null,null,null,null,null,null,null,null,null,null,null,null,null,null,null,"","","","","","","","","","","","",null,null,null,null,null,null,null,null,null,null,null,null,null,null,{"$error":"#VALUE!"},"","","","","","","","","","",""]
[null,null,null,null,null,null,null,null,null,null,null,null,null,null,null,null,null,null,null,null,null,null,"","","","","2013-12-13","","","","","","","","","","","",null,null,null,null,null,null,null,null,null,null,null,null,null,null,null,null,null,null,null,null,null,null,null,null,null,null,null,null,null,null,null,null,null,null,null,null,null,null,null,null,"",{"$f":"IF($BA1447=\"\",\"\",SUM(BB1447:BB1453)/7)","v":""},"","","","","","","","","","",null,null,null,null,null,null,null,null,null,null,null,null,null,null,{"$error":"#VALUE!"},{"$f":"IF($BA1447=\"\",\"\",SUM(CB1447:CB1453)/7)","v":""},"","","","","","","","","",""]
[null,null,null,null,null,null,null,null,null,null,null,null,null,null,null,null,null,null,null,null,null,null,"","","","","2013-12-14","","","","","","","","","","","",null,null,null,null,null,null,null,null,null,null,null,null,null,null,null,null,null,null,null,null,null,null,null,null,null,null,null,null,null,null,null,null,null,null,null,null,null,null,null,null,"","","","","","","","","","","","",null,null,null,null,null,null,null,null,null,null,null,null,null,null,{"$error":"#VALUE!"},"","","","","","","","","","",""]
[null,null,null,null,null,null,null,null,null,null,null,null,null,null,null,null,null,null,null,null,null,null,"","","","","2013-12-15","","","","","","","","","","","",null,null,null,null,null,null,null,null,null,null,null,null,null,null,null,null,null,null,null,null,null,null,null,null,null,null,null,null,null,null,null,null,null,null,null,null,null,null,null,null,"","","","","","","","","","","","",null,null,null,null,null,null,null,null,null,null,null,null,null,null,{"$error":"#VALUE!"},"","","","","","","","","","",""]
[null,null,null,null,null,null,null,null,null,null,null,null,null,null,null,null,null,null,null,null,null,null,"","","","","2013-12-16","","","","","","","","","","","",null,null,null,null,null,null,null,null,null,null,null,null,null,null,null,null,null,null,null,null,null,null,null,null,null,null,null,null,null,null,null,null,null,null,null,null,null,null,null,null,"","","","","","","","","","","","",null,null,null,null,null,null,null,null,null,null,null,null,null,null,{"$error":"#VALUE!"},"","","","","","","","","","",""]
[null,null,null,null,null,null,null,null,null,null,null,null,null,null,null,null,null,null,null,null,null,null,"","","","","2013-12-17","","","","","","","","","","","",null,null,null,null,null,null,null,null,null,null,null,null,null,null,null,null,null,null,null,null,null,null,null,null,null,null,null,null,null,null,null,null,null,null,null,null,null,null,null,null,"","","","","","","","","","","","",null,null,null,null,null,null,null,null,null,null,null,null,null,null,{"$error":"#VALUE!"},"","","","","","","","","","",""]
[null,null,null,null,null,null,null,null,null,null,null,null,null,null,null,null,null,null,null,null,null,null,"","","","","2013-12-18","","","","","","","","","","","",null,null,null,null,null,null,null,null,null,null,null,null,null,null,null,null,null,null,null,null,null,null,null,null,null,null,null,null,null,null,null,null,null,null,null,null,null,null,null,null,"","","","","","","","","","","","",null,null,null,null,null,null,null,null,null,null,null,null,null,null,{"$error":"#VALUE!"},"","","","","","","","","","",""]
[null,null,null,null,null,null,null,null,null,null,null,null,null,null,null,null,null,null,null,null,null,null,"","","","","2013-12-19","","","","","","","","","","","",null,null,null,null,null,null,null,null,null,null,null,null,null,null,null,null,null,null,null,null,null,null,null,null,null,null,null,null,null,null,null,null,null,null,null,null,null,null,null,null,"","","","","","","","","","","","",null,null,null,null,null,null,null,null,null,null,null,null,null,null,{"$error":"#VALUE!"},"","","","","","","","","","",""]
[null,null,null,null,null,null,null,null,null,null,null,null,null,null,null,null,null,null,null,null,null,null,"","","","","2013-12-20","","","","","","","","","","","",null,null,null,null,null,null,null,null,null,null,null,null,null,null,null,null,null,null,null,null,null,null,null,null,null,null,null,null,null,null,null,null,null,null,null,null,null,null,null,null,"","","","","","","","","","","","",null,null,null,null,null,null,null,null,null,null,null,null,null,null,{"$error":"#VALUE!"},"","","","","","","","","","",""]
[null,null,null,null,null,null,null,null,null,null,null,null,null,null,null,null,null,null,null,null,null,null,"","","","","2013-12-21",{"$f":"IF($W1455=\"\",\"\",INDEX($A:$Z,$W1455,AB$3))","v":""},"","","","","","","","","","",null,null,null,null,null,null,null,null,null,null,null,null,null,null,null,null,null,null,null,null,null,null,null,null,null,null,null,null,null,null,null,null,null,null,null,null,null,null,null,null,"","","","","","","","","","","","",null,null,null,null,null,null,null,null,null,null,null,null,null,null,{"$error":"#VALUE!"},"","","","","","","","","","",""]
[null,null,null,null,null,null,null,null,null,null,null,null,null,null,null,null,null,null,null,null,null,null,"","","","","2013-12-22","","","","","","","","","","","",null,null,null,null,null,null,null,null,null,null,null,null,null,null,null,null,null,null,null,null,null,null,null,null,null,null,null,null,null,null,null,null,null,null,null,null,null,null,null,null,{"$f":"IF(AND(WEEKDAY(BA1456,2)=1,BA1456<=MaxDate-6),BA1456,\"\")","v":""},"","","","","","","","","","","",null,null,null,null,null,null,null,null,null,null,null,null,null,null,{"$error":"#VALUE!"},"","","","","","","","","","",""]
[null,null,null,null,null,null,null,null,null,null,null,null,null,null,null,null,null,null,null,null,null,null,"","","","","2013-12-23","","","","","","","","","","","",null,null,null,null,null,null,null,null,null,null,null,null,null,null,null,null,null,null,null,null,null,null,null,null,null,null,null,null,null,null,null,null,null,null,null,null,null,null,null,null,"","","","","","","","","","","","",null,null,null,null,null,null,null,null,null,null,null,null,null,null,{"$error":"#VALUE!"},"","","","","","","","","","",""]
[null,null,null,null,null,null,null,null,null,null,null,null,null,null,null,null,null,null,null,null,null,null,"","","","","2013-12-24","","","","","","","","","","","",null,null,null,null,null,null,null,null,null,null,null,null,null,null,null,null,null,null,null,null,null,null,null,null,null,null,null,null,null,null,null,null,null,null,null,null,null,null,null,null,"","","","","","","","","","","","",null,null,null,null,null,null,null,null,null,null,null,null,null,null,{"$error":"#VALUE!"},"","","","","","","","","","",""]
[null,null,null,null,null,null,null,null,null,null,null,null,null,null,null,null,null,null,null,null,null,null,"","","","","2013-12-25","","","","","","","","","","","",null,null,null,null,null,null,null,null,null,null,null,null,null,null,null,null,null,null,null,null,null,null,null,null,null,null,null,null,null,null,null,null,null,null,null,null,null,null,null,null,"","","","","","","","","","","","",null,null,null,null,null,null,null,null,null,null,null,null,null,null,{"$error":"#VALUE!"},"","","","","","","","","","",""]
[null,null,null,null,null,null,null,null,null,null,null,null,null,null,null,null,null,null,null,null,null,null,"","","","","2013-12-26","","","","","","","","","","","",null,null,null,null,null,null,null,null,null,null,null,null,null,null,null,null,null,null,null,null,null,null,null,null,null,null,null,null,null,null,null,null,null,null,null,null,null,null,null,null,"",{"$f":"IF($BA1460=\"\",\"\",SUM(BB1460:BB1465)/7)","v":""},"","","","","","","","","","",null,null,null,null,null,null,null,null,null,null,null,null,null,null,{"$error":"#VALUE!"},{"$f":"IF($BA1460=\"\",\"\",SUM(CB1460:CB1465)/7)","v":""},"","","","","","","","","",""]
[null,null,null,null,null,null,null,null,null,null,null,null,null,null,null,null,null,null,null,null,null,null,"","","","","2013-12-27","","","","","","","","","","","",null,null,null,null,null,null,null,null,null,null,null,null,null,null,null,null,null,null,null,null,null,null,null,null,null,null,null,null,null,null,null,null,null,null,null,null,null,null,null,null,"",{"$f":"IF($BA1461=\"\",\"\",SUM(BB1461:BB1465)/7)","v":""},"","","","","","","","","","",null,null,null,null,null,null,null,null,null,null,null,null,null,null,{"$error":"#VALUE!"},{"$f":"IF($BA1461=\"\",\"\",SUM(CB1461:CB1465)/7)","v":""},"","","","","","","","","",""]
[null,null,null,null,null,null,null,null,null,null,null,null,null,null,null,null,null,null,null,null,null,null,"","","","","2013-12-28","","","","","","","","","","","",null,null,null,null,null,null,null,null,null,null,null,null,null,null,null,null,null,null,null,null,null,null,null,null,null,null,null,null,null,null,null,null,null,null,null,null,null,null,null,null,"",{"$f":"IF($BA1462=\"\",\"\",SUM(BB1462:BB1465)/7)","v":""},"","","","","","","","","","",null,null,null,null,null,null,null,null,null,null,null,null,null,null,{"$error":"#VALUE!"},{"$f":"IF($BA1462=\"\",\"\",SUM(CB1462:CB1465)/7)","v":""},"","","","","","","","","",""]
[null,null,null,null,null,null,null,null,null,null,null,null,null,null,null,null,null,null,null,null,null,null,"","","","","2013-12-29","","","","","","","","","","","",null,null,null,null,null,null,null,null,null,null,null,null,null,null,null,null,null,null,null,null,null,null,null,null,null,null,null,null,null,null,null,null,null,null,null,null,null,null,null,null,"",{"$f":"IF($BA1463=\"\",\"\",SUM(BB1463:BB1465)/7)","v":""},"","","","","","","","","","",null,null,null,null,null,null,null,null,null,null,null,null,null,null,{"$error":"#VALUE!"},{"$f":"IF($BA1463=\"\",\"\",SUM(CB1463:CB1465)/7)","v":""},"","","","","","","","","",""]
[null,null,null,null,null,null,null,null,null,null,null,null,null,null,null,null,null,null,null,null,null,null,"","","","","2013-12-30","","","","","","","","","","","",null,null,null,null,null,null,null,null,null,null,null,null,null,null,null,null,null,null,null,null,null,null,null,null,null,null,null,null,null,null,null,null,null,null,null,null,null,null,null,null,"",{"$f":"IF($BA1464=\"\",\"\",SUM(BB1464:BB1465)/7)","v":""},"","","","","","","","","","",null,null,null,null,null,null,null,null,null,null,null,null,null,null,{"$error":"#VALUE!"},{"$f":"IF($BA1464=\"\",\"\",SUM(CB1464:CB1465)/7)","v":""},"","","","","","","","","",""]
[null,null,null,null,null,null,null,null,null,null,null,null,null,null,null,null,null,null,null,null,null,null,"","","","","2013-12-31","","","","","","","","","","","",null,null,null,null,null,null,null,null,null,null,null,null,null,null,null,null,null,null,null,null,null,null,null,null,null,null,null,null,null,null,null,null,null,null,null,null,null,null,null,null,"",{"$f":"IF($BA1465=\"\",\"\",SUM(BB1465:BB1465)/7)","v":""},"","","","","","","","","","",null,null,null,null,null,null,null,null,null,null,null,null,null,null,{"$error":"#VALUE!"},{"$f":"IF($BA1465=\"\",\"\",SUM(CB1465:CB1465)/7)","v":""},"","","","","","","","","",""]

{"sheet":"COVER","index":1,"n_rows":44,"n_cols":44,"rows_kept":44,"cut":false,"hidden":false,"merged":[[38,5,38,6],[38,7,38,8],[35,5,35,6],[35,7,35,8],[36,5,36,6],[36,7,36,8],[37,5,37,6],[37,7,37,8]]}
["EUROPEAN COMMISSION",null,null,null,null,null,null,null,null,null,null,null,null,null,null,null,null,null,null,null,null,null,null,null,null,null,null,null,null,null,null,null,null,null,null,null,null,null,null,null,null,null,null,"Week"]
["Directorate-General for Agriculture and Rural Development"]
["C3. Animal Products"]
["Weekly price report on"]
["Pig carcass (Class S, E and R) and Piglet prices"]
["in the EU"]
[]
[]
[]
[]
[]
[]
[]
[]
[]
[]
[]
[]
["Period:"]
[null,"2012 - 2014"]
["Week :"]
[null,2014,{"$f":"[1]COVER!$C$22","v":33}]
[]
[null,null,null,null,null,null,null,null,null,null,null,null,null,null,null,null,null,null,null,null,null,null,null,null,null,null,null,null,null,"²"]
[]
[]
[]
[]
[]
[]
[]
[]
[]
[]
[]
[null,null,null,null,null,"Week 2014",null,{"$f":"[1]COVER!$G$38","v":33},null,"Varition\n1 week","Varition\n1 year"," Variation \navg 2009 - 13"]
[null,null,null,null,null,"Carcass Class S",null,{"$f":"[2]COVER!$G$39","v":174.62310947259468},null,{"$f":"[2]COVER!$I$39","v":-3.4701082371801917E-4}]
[null,null,null,null,null,"Carcass Class E",null,{"$f":"[2]COVER!$G$40","v":165.19679934024086},null,{"$f":"[2]COVER!$I$40","v":-3.9539217385697878E-4}]
[null,null,null,null,null,"Piglet",null,{"$f":"[2]COVER!$G$41","v":44.142422213806356},null,{"$f":"[2]COVER!$I$41","v":-1.3770191869943993E-4},{"$f":"[2]COVER!$J$41","v":-5.3239009453828423E-2},{"$f":"[2]COVER!$K$41","v":9.7962190761756496E-2}]
[]
[]
[]
[null,null,null,null,null,"Find more monthly, annual and further information on pig on the following Circa site:"]
[null,null,null,null,null,"https://circabc.europa.eu/faces/jsp/extension/wai/navigation/container.jsp"]

{"sheet":"Weekly Pig prices","index":2,"n_rows":505,"n_cols":45,"rows_kept":505,"cut":false,"hidden":false,"merged":[[7,38,8,41],[66,1,66,41],[8,3,8,8],[14,1,14,41],[7,1,7,2],[10,1,10,2],[11,1,11,2],[12,1,12,2],[9,1,9,2],[3,18,4,25],[5,18,5,25],[505,3,505,5],[505,6,505,8],[505,0,505,2]]}
[null,"EUROPEAN COMMISSION",null,null,null,null,null,null,null,null,null,null,null,null,null,null,null,null,null,null,null,null,null,null,null,null,null,null,null,null,null,null,null,null,null,null,null,null,null,null,null,null,null,"Week",52]
[null,"Directorate-General for Agriculture and Rural Development",null,null,null,null,null,null,null,null,null,null,null,null,null,null,null,null,null,null,null,null,null,null,null,null,null,null,null,null,null,null,null,null,null,null,null,null,null,null,null,"du / from :"]
[null,"C3. Animal Products"]
[null,null,null,null,null,null,null,null,null,null,null,null,null,null,null,null,null,null,"PIG PRICE"]
[]
[null,null,null,null,null,null,null,null,null,null,null,null,null,null,null,null,null,null,"DG-Agri-C3,  Meat sector"]
[null,null,null,null,null,null,null,null,null,null,null," "]
[null,"PIG",null,null,null,null,null,null,null,null,null,null,null,null,null,null,null,null,null,null,null,null,null,null,null,null,null,null,null,null,null,null,null,null,null,null,null,null,"€ur per 100 kg carcass"]
[null,null,null,"Country Code/Currency"]
[null,2013,null,"BE","BG","BG","CZ","CZ","DK","DK","DE","EE","GR","ES","FR","HR","HR","IE","IT","CY","LV","LV","LT","LT","LU","HU","HU","MT","NL","AT","PL","PL","PT","RO","RO","SI","SK","FI","SE","SE","UK","UK",null,"EU_28"]
[null,"Weightings from 04/07/2011 until 01/07/2012",null,4.0999999999999996,0.4,null,1.2,null,8.1,null,17.7,0.3,0.7,17,9.6,null,null,1,6.1,0.3,0.3,null,0.6,null,0.06,2.1,null,0.04,8,2.1,9.6999999999999993,null,1.4,3.6,null,0.3,0.5,0.9,1,null,2.9,null,null,100]
[null,"Weightings from 02/07/2012 until 30/06/2013",null,4.3,0.4,null,1,null,8.3000000000000007,null,18.600000000000001,0.2,0.7,17.3,9.4,null,null,1,6.3,0.3,0.3,null,0.5,null,7.0000000000000007E-2,2,null,0.03,8.1,2,8.8000000000000007,null,1.3,3.6,null,0.2,0.4,0.9,1.1000000000000001,null,2.9,null,null,100]
[null,"Weightings from 01/07/2013\nuntil --/--/----",null,4.4000000000000004,0.4,null,1,null,8.3000000000000007,null,19.3,0.2,0.8,17.2,9.4,0.8,null,1,5.9,0.3,0.2,null,0.5,null,7.0000000000000007E-2,2,null,0.03,8.1999999999999993,2,7.6,null,1.4,3.6,null,0.2,0.4,0.9,1,null,2.9,null,null,100.00000000000001]
[null,"Week beginning","Week N°","EUR","EUR","BGN","EUR","CZK","EUR","DKK","EUR","EUR","EUR","EUR","EUR","EUR","HRK","EUR","EUR","EUR","EUR","LVL","EUR","LTL","EUR","EUR","HUF","EUR","EUR","EUR","EUR","PLN","EUR","EUR","RON","EUR","EUR","EUR","EUR","SEK","EUR","GBP",null,"EURO","Compare to previous week"]
[null,"2012"]
["201201","2012-01-02",1,145.5,175.59570000000002,343.43,168.09440000000001,4331,144.57859999999999,1075,154.02000000000001,162.92000000000002,200.01,147.47,144,"","",145.84,183.95000000000002,171,176.71030000000002,123.47,162.7722,562.02,165,158.184,50216.65,189,143.14000000000001,152.19,156.43600000000001,701.62,151,164.07760000000002,710.85,151.4,167.31,153.59,154.8802,1376,170.64950000000002,141.79,null,153.64870339999999]
["201202","2012-01-09",2,138.70000000000002,176.51600000000002,345.23,165.3853,4247,139.8596,1040,148.92000000000002,164.05,193.51,146.26,143,"","",145.76,175.41,169,171.29040000000001,119.71000000000001,159.19830000000002,549.68000000000006,165,157.8886,49289.66,189,134.64000000000001,145.21,151.589,674.66,150,161.1968,701.19,146.45000000000002,165.31,154.15,152.268,1347,170.45570000000001,141.27000000000001,null,149.6746799,{"$error":"#DIV/0!"}]
["201203","2012-01-16",3,138.80000000000001,176.51600000000002,345.23,161.87030000000001,4127,137.44320000000002,1022,153,163.95000000000002,189.06,144.08000000000001,139,"","",145.70000000000002,171.68,169,167.33690000000001,117.10000000000001,154.93800000000002,534.97,165,155.85429999999999,47825.24,189,134.82,146.02000000000001,151.12270000000001,658.04,147,161.95959999999999,702.62,149.38,165.24,152.66,152.5916,1346,167.02670000000001,139.07,null,148.9391736,-3.0651282411017E-2]
["201204","2012-01-23",4,145.70000000000002,176.51600000000002,345.23,161.76680000000002,4093,137.45959999999999,1022,159.12,164.37,185.71,144.33000000000001,140,"","",146.04,168.19,165,166.7723,116.5,157.62569999999999,544.25,160.30000000000001,160.57560000000001,47943.98,189,143.35,154.43,157.3954,672.04,146,160.15380000000002,695.77,153.1,165.03,152.35,152.8409,1351,166.12810000000002,138.80000000000001,null,151.68318639999995,1.3419146787832625E-2]
["201205","2012-01-30",5,150.20000000000002,176.89950000000002,345.98,162.7038,4092,137.48170000000002,1022,162.18,161.56,184.23,147.6,146,"","",145.92000000000002,168.84,159,169.51420000000002,118.58,160.28149999999999,553.41999999999996,164.20000000000002,163.81130000000002,48040.23,189,149.20000000000002,158.65,164.4802,692.84,149,159.7379,694.18000000000006,158.38,166.24,155.59,152.8768,1357,164.09360000000001,136.69,null,154.91516640000006,4.012371396694836E-2]
["201206","2012-02-06",6,150.70000000000002,176.93530000000001,346.05,163.45080000000002,4094,140.1875,1042,161.16,157.97999999999999,183.3,151.92000000000002,151,"","",145.96,169.69,162,170.77710000000002,119.4,163.71640000000002,565.28,164.4,165.5317,48339.51,189,145.4,159.43,166.941,700.21,153,158.98410000000001,691.69,156.72,165.18,156.05000000000001,154.25,1360,163.2218,136.05000000000001,null,156.2647005,3.0204495361260797E-2]
["201207","2012-02-13",7,150.70000000000002,176.93530000000001,346.05,163.18880000000001,4099,143.01170000000002,1063,162.18,157.67000000000002,180.51,156.77000000000001,156,"","",145.95000000000002,172.81,162,174.2165,121.74000000000001,166.1405,573.65,164.8,165.44310000000002,48201.14,189,145.42000000000002,159.72,166.6241,699.6,157,158.27620000000002,688.73,158.22999999999999,164.96,155.80000000000001,154.97900000000001,1365,162.6909,135.69,null,158.1688991,2.1003319272166143E-2]
["201208","2012-02-20",8,151.30000000000001,177.29320000000001,346.75,164.1952,4108,142.96090000000001,1063,163.20000000000002,159.61000000000001,174.94,161.71,161,"","",146.17000000000002,175.34,160,174.37710000000001,121.78,165.98990000000001,573.13,162.80000000000001,166.3877,48045.88,189,148.52000000000001,159.06,166.45150000000001,695.13,161,158.92019999999999,692.12,156.83000000000001,166.99,156.07,154.0087,1358,160.17830000000001,134.79,null,160.06120090000002,2.4295316778852438E-2]
["201209","2012-02-27",9,153.4,177.80450000000002,347.75,165.1489,4109,142.9667,1063,163.20000000000002,159.27000000000001,172.16,167.43,167,"","",147.94,175.46,161,174.80670000000001,122.11,166.40990000000002,574.58000000000004,163.70000000000002,166.31280000000001,48117.63,189,148.64000000000001,162.18,166.5532,688.4,161,159.74020000000002,694.92,162.25,168.53,157.64000000000001,154.9161,1367,161.58190000000002,135.85,null,161.9223495,2.3730647563190876E-2]
["201210","2012-03-05",10,153.6,178.91400000000002,349.92,168.10910000000001,4165,142.9796,1063,163.20000000000002,165.38,170.3,168.56,164,"","",147.97999999999999,175.49,161,175.85640000000001,122.69,164.88070000000002,569.30000000000007,163.6,164.61969999999999,48138.79,189,148.5,162.14000000000001,164.00730000000001,676.16,167,160.21610000000001,697.62,158.12,169.73,155.55000000000001,153.98269999999999,1368,163.5591,136.58000000000001,null,161.70649849999998,1.0279178156534563E-2]
["201211","2012-03-12",11,152.5,179.0316,350.15000000000003,171.03530000000001,4204,142.97050000000002,1063,163.20000000000002,166.07,169,166.28,159,"","",147.95000000000002,175.49,166,176.01180000000002,122.64,166.8038,575.94000000000005,164,163.54400000000001,47767.69,189,148.55000000000001,162.22,163.8167,676.02,167,160.7013,702.09,161.37,171.26,157.79,154.42189999999999,1373,165.6318,138.06,null,160.9326906,-6.1119351532136212E-3]
["201212","2012-03-19",12,151.6,179.5531,351.17,172.11280000000002,4237,142.96200000000002,1063,165.24,165.06,166.21,168.69,155,"","",147.96,175.58,174,174.40090000000001,121.53,166.74870000000001,575.75,165.70000000000002,162.81130000000002,47528.1,188,146.58000000000001,162.02000000000001,164.91380000000001,684.06000000000006,167,161.04140000000001,704.74,160.52000000000001,170.19,156.5,153.95099999999999,1371,166.30250000000001,138.53,null,161.2360917,-2.9090160529323672E-3]
["201213","2012-03-26",13,153.5,178.92930000000001,349.95,172.32740000000001,4254,144.41060000000002,1074,169.32,165.1,164.91,168.71,150,"","",148.09,175.70000000000002,181,167.6087,117.18,166.40990000000002,574.58000000000004,165.3,163.54470000000001,48030.03,188,150.46,166.29,167.5598,695.73,167,162.13679999999999,709.39,164.45000000000002,171.45000000000002,159.29,155.4024,1380,166.86320000000001,139.45000000000002,null,162.46050099999999,9.4934745346262339E-3]
["201214","2012-04-02",14,158.6,179.5224,351.11,176.30520000000001,4353,147.178,1095,170.34,163.87,164.36,168.43,150,"","",151.94,175.20000000000002,181,172.6789,120.89,169.3263,584.65,171.4,164.86850000000001,48688.01,188,153.78,168.09,165.21360000000001,686.80000000000007,167,163.15710000000001,714.05000000000007,166.31,171.65,157.61000000000001,156.55590000000001,1380,169.9358,140.77000000000001,null,163.34608499999996,1.3086358505426166E-2]
["201215","2012-04-09",15,156.6,179.46110000000002,350.99,176.364,4367,147.19890000000001,1095,171.36,164.13,164.36,168.17000000000002,150,"","",151,172.85,181,173.63390000000001,121.38,168.10130000000001,580.41999999999996,171.4,164.14940000000001,48700.770000000004,188,154.81,168.1,166.42520000000002,695.36,167,162.48990000000001,710.71,166.03,173.84,157.28,155.2499,1377,171.5231,141.52000000000001,null,163.44724989999997,6.0737772807926138E-3]
["201216","2012-04-16",16,157.20000000000002,179.46110000000002,350.99,175.77110000000002,4365,147.19890000000001,1095,171.36,164.33,162.87,168.42000000000002,150,"","",151.76,170.96,181,169.01340000000002,118.08,168.64570000000001,582.30000000000007,172.1,165.51050000000001,49195.17,188,154.63,168.13,168.7424,706.71,167,163.5505,715.62,164.82,173.06,158.66,156.40890000000002,1386,173.79820000000001,142.63,null,163.73976099999999,2.4100730666427594E-3]
["201217","2012-04-23",17,155.5,179.11340000000001,350.31,175.38060000000002,4366,147.19210000000001,1095,171.36,163.77000000000001,167.14000000000001,168.47,149,"","",151.68,170.93,181,174.92850000000001,122.32000000000001,166.0189,573.23,170.9,169.0205,49336.83,188,154.4,167.77,168.13740000000001,704.02,167,163.53540000000001,716.57,160.47,172.52,160.45000000000002,155.95340000000002,1385,175.1362,143.04,null,163.6259063,1.0930523463033026E-3]
["201218","2012-04-30",18,154.80000000000001,178.8271,349.75,174.79340000000002,4357,150.97560000000001,1123,168.3,165.16,164.36,168.32,147,"","",152.06,164.49,181,174.62100000000001,122.10000000000001,167.8261,579.47,170.70000000000002,170.78630000000001,48726.05,188,154.82,167.65,167.6293,699.79,167,165.27460000000002,728.37,164.09,173.28,156.08000000000001,156.8356,1396,177.58420000000001,144.31,null,162.87846019999995,-5.2601811236309137E-3]
["201219","2012-05-07",19,152.30000000000001,178.8271,349.75,173.43770000000001,4363,151.03830000000002,1123,166.26,165.4,174.57,168.29,145,"","",152.12,162.68,181,174.04430000000002,121.56,166.80950000000001,575.96,167.3,167.13560000000001,48149.38,188,148.72999999999999,163.32,165.12909999999999,695.96,167,165.92090000000002,733.15,159.43,169.5,161.85,157.4075,1406,179.6737,144.72,null,161.37041799999997,-1.3784420517523044E-2]
["201220","2012-05-14",20,151.70000000000002,178.8066,349.71,170.941,4342,151.0804,1123,168.3,165.42000000000002,172.71,169.06,145,"","",155.80000000000001,160.71,186,172.34030000000001,120.2,163.45860000000002,564.39,169.8,164.27710000000002,48358.26,188,150.31,163.17000000000002,161.685,698.44,170,166.9008,741.34,159.18,171.66,161.65,154.8655,1404,181.4785,145.49,null,161.54770769999999,-8.1702178321548802E-3]
["201221","2012-05-21",21,155.1,178.8015,349.7,171.3903,4348,151.11060000000001,1123,171.36,165.73,175.5,171.71,147,"","",155.75,160.05000000000001,187,175.77379999999999,122.66,166.21870000000001,573.91999999999996,171.3,165.3235,49481.56,188,154.91,166.28,165.98250000000002,721.31000000000006,172,167.84450000000001,748.27,160.47,170.21,163.46,155.96030000000002,1411,181.19740000000002,145.64000000000001,null,163.83932740000003,1.5299640606991849E-2]
["201222","2012-05-28",22,157.20000000000002,179.0214,350.13,171.59220000000002,4392,154.35490000000001,1147,171.36,165.71,179.77,175.21,152,"","",155.93,161.11000000000001,192,169.9683,118.65,169.45090000000002,585.08000000000004,171.70000000000002,166.07859999999999,50052.54,188,154.91,165.84,169.93790000000001,744.26,175,169.9693,759.68000000000006,160.92000000000002,171.99,163.46,158.1454,1421,181.8081,145.64000000000001,null,165.93861979999997,2.7180281060713352E-2]
["201223","2012-06-04",23,157.20000000000002,179.0214,350.13,172.36950000000002,4410,156.7603,1165,172.38,165.77,180.70000000000002,178.36,157,"","",155.82,160.87,198,177.77190000000002,123.94,170.5427,588.85,171.70000000000002,168.1619,50437.53,188,154.91,166.01,173.5513,753.83,177,172.3758,770.02,161.1,174.03,163.42000000000002,159.33920000000001,1432,180.64840000000001,145.92000000000002,null,167.87887619999998,2.4655550435322082E-2]
["201224","2012-06-11",24,158.5,179.06740000000002,350.22,174.23680000000002,4452,156.75820000000002,1165,169.32,166.27,181.26,179.29,158,"","",155.92000000000002,165.79,198,180.00040000000001,125.45,168.17080000000001,580.66,175.3,171.649,50925.31,188,155.20000000000002,168.02,177.73570000000001,765.67000000000007,180,174.26609999999999,777.61,163.45000000000002,173.49,165.49,160.2037,1420,180.43049999999999,145.86000000000001,null,168.64811440000003,1.6328294180496972E-2]
["201225","2012-06-18",25,153.6,179.08270000000002,350.25,173.45170000000002,4442,158.88300000000001,1181,166.26,166.09,184.23,179.27,159,"","",155.83000000000001,171.88,200,182.27180000000001,127.02,175.5966,606.30000000000007,166.70000000000002,172.6241,49961.120000000003,187,148.77000000000001,162.22999999999999,174.31200000000001,743.01,180,176.93520000000001,790.4,160.41,175.92000000000002,166.76,161.9812,1430,181.68290000000002,146.5,null,167.82062259999995,-3.4699779578362122E-4]
["201226","2012-06-25",26,153.6,179.05719999999999,350.2,171.31990000000002,4419,158.87480000000002,1181,166.26,166.24,188.04,179.18,160,"","",155.94,174.39000000000001,210,174.50470000000001,121.56,175.19980000000001,604.93000000000006,167.9,169.8861,48835.950000000004,187,150.42000000000002,162.51,172.86330000000001,735.79,180,177.71370000000002,791.91,158.20000000000002,175.26,164.66,163.2732,1437,182.54320000000001,146.53,null,168.03826549999997,-3.6161026891390335E-3]
["201227","2012-07-02",27,154.4,179.14920000000001,350.38,171.02540000000002,4375,158.80430000000001,1181,165.24,168.03,188.04,179.12,163,"","",156.06,179.27,210,177.91840000000002,123.91,172.376,595.18000000000006,165.8,173.7063,49796.89,187,150.71,162.70000000000002,175.88150000000002,741.71,180,177.06560000000002,794,160.08000000000001,174.73,166.33,164.7998,1433,183.0428,146.65,null,168.88035970000001,6.3147012779587453E-3]
["201228","2012-07-09",28,152.1,179.14920000000001,350.38,171.3723,4365,158.7722,1181,163.20000000000002,168.27,189.06,179.24,160,"","",156.07,183.05,210,176.9212,123.17,173.01320000000001,597.38,162.80000000000001,171.95570000000001,49635.75,187,145.79,162.22999999999999,174.77770000000001,735.21,180,174.6746,793.08,159.75,173.62,166.43,180.9324,1554,185.804,146.89000000000001,null,167.99889759999999,-2.3427937608633265E-4]
["201229","2012-07-16",29,152.4,179.15940000000001,350.40000000000003,170.16730000000001,4324,158.74690000000001,1181,163.20000000000002,167.91,189.06,178.81,162,"","",156.04,189.43,210,176.09900000000002,122.58,172.01690000000002,593.94000000000005,166.20000000000002,171.79420000000002,49226.400000000001,187,146.17000000000002,162.52000000000001,173.68700000000001,725.25,180,173.51680000000002,794.04,160.16,173.73,163.72999999999999,182.31950000000001,1555,187.70100000000002,146.99,null,168.4270085,-2.6844518853782473E-3]
["201230","2012-07-23",30,152.4,179.2003,350.48,169.80710000000002,4327,158.75730000000001,1181,167.28,168.57,189.06,179.01,163,"","",156.09,193.12,210,175.33030000000002,122.09,170.85550000000001,589.93000000000006,166.5,172.90860000000001,49450.87,188,147.9,162.77000000000001,173.61600000000001,723.53,180,171.5224,791.86,159.57,173.66,165.52,183.63339999999999,1554,187.8981,146.79,null,169.6159395,9.6253125651462046E-3]
["201231","2012-07-30",31,162.5,179.2157,350.51,171.82550000000001,4345,161.8134,1204,173.4,168.92000000000002,189.06,177.85,163,"","",156.16,198.59,212,174.27500000000001,121.39,173.15220000000002,597.86,166.5,179.01760000000002,50112.130000000005,188,157.15,170.46,180.28220000000002,740.2,180,172.4554,794.80000000000007,165.6,174.48,167.20000000000002,186.20050000000001,1554,186.76260000000002,146.72999999999999,null,173.27998020000004,2.881350053783116E-2]
["201232","2012-08-06",32,162.70000000000002,179.24630000000002,350.57,174.84610000000001,4403,161.7689,1204,177.48,169.09,202.48000000000002,181.09,165,"","",160.22999999999999,204.49,210,178.71640000000002,124.43,172.98420000000002,597.28,175.5,180.46610000000001,50124.21,207,157.05000000000001,170.79,181.83190000000002,740.96,183,174.61690000000002,796.59,167.95000000000002,177.1,166.6,187.0258,1547,186.11500000000001,146.87,null,175.60397749999996,3.5303509903914287E-2]
["201233","2012-08-13",33,169.6,179.24630000000002,350.57,177.292,4440,164.42490000000001,1224,183.6,168.4,203.41,182.58,169,"","",160.06,205.82,214,181.80440000000002,126.58,177.1866,611.79,183.4,182.56270000000001,50907.86,207,164.69,179.8,183.88120000000001,750.95,184,179.41460000000001,808.56000000000006,175.67000000000002,181.53,167.02,188.28390000000002,1552,187.173,146.88,null,179.30928360000001,3.4795152867866941E-2]
["201234","2012-08-20",34,174.1,181.5676,355.11,182.3947,4544,164.35900000000001,1224,189.72,168.74,204.34,186.07,174,"","",160.06,207.37,221,182.4682,127.05,182.1884,629.06000000000006,189.1,188.50550000000001,52278.78,207,169.49,184.96,187.39830000000001,764.96,187,183.95000000000002,825.77,176.36,182.73,169.6,188.09110000000001,1556,186.37560000000002,146.84,null,183.04383480000004,4.2367248201995222E-2]
["201235","2012-08-27",35,181.6,182.24260000000001,356.43,186.68170000000001,4640,168.86620000000002,1258,193.8,168.05,208.43,189.27,180,"","",165.95000000000002,210.68,221,186.1534,129.6,187.24800000000002,646.53,192.6,189.166,53307.24,207,176.26,192.04,189.56970000000001,785,191,188.26840000000001,840.96,185.62,189.86,172.25,189.4563,1572,185.38810000000001,146.99,null,187.14213840000008,4.3683487227986761E-2]
["201236","2012-09-03",36,181,189.38030000000001,370.39,193.779,4797,171.51070000000001,1278,193.8,176.66,208.06,191.73000000000002,185,"","",166.02,211.64000000000001,222,194.1747,135.19,190.81900000000002,658.86,194.3,186.32640000000001,53165.3,207,176.04,192.35,188.7962,786.80000000000007,195,193.887,869.14,189.72,193.39000000000001,172.97,184.7253,1559,186.06530000000001,147.68,null,188.5969485,3.033761670294699E-2]
["201237","2012-09-10",37,181.20000000000002,189.38030000000001,370.39,196.25790000000001,4807,171.4736,1278,193.8,175.58,210.84,192.82,188,"","",166.44,217.32,234,194.2114,135.21,186.25460000000001,643.1,193.9,190.10210000000001,53979.5,207,176.26,192.36,191.5454,784.31000000000006,197,194.88630000000001,875.83,190.67000000000002,197.38,173.66,183.2885,1561,184.53380000000001,147.95000000000002,null,189.8785493,1.4622099134889099E-2]
["201238","2012-09-17",38,181.9,189.91210000000001,371.43,194.87910000000002,4820,173.5788,1294,195.84,176.03,211.77,193.22,189,"","",166.12,216.98000000000002,234,199.26750000000001,138.72999999999999,188.9307,652.34,192.20000000000002,189.1824,53525.919999999998,207,176.22,192.75,192.3691,792.47,197,196.9734,887.79,190.44,194.94,171.58,182.42860000000002,1558,186.5198,149.70000000000002,null,190.7606528,1.1472636843856465E-2]
["201239","2012-09-24",39,183.5,193.84910000000002,379.13,193.39430000000002,4829,173.55549999999999,1294,196.86,174.95000000000002,212.70000000000002,194.84,189,"","",169.83,218.36,234,198.58420000000001,138.26,187.44210000000001,647.20000000000005,195.1,189.7646,53929.200000000004,207,179,194.32,194.30780000000001,802.88,197,196.1831,887.28,191.38,195.70000000000002,176.38,183.64430000000002,1556,189.5318,151,null,191.97006870000004,1.1015037810803596E-2]
["201240","2012-10-01",40,183.4,196.60500000000002,384.52,195.2073,4883,175.9734,1312,197.88,184.41,211.77,193.53,188,"","",169.69,218.83,234,200.4391,139.54,192.32220000000001,664.05000000000007,196.4,191.12310000000002,54411.11,207,178.9,194.65,197.4743,807.87,197,197.11340000000001,896.1,190.51,198.04,174.52,184.06890000000001,1573,189.63310000000001,151.93,null,192.50883699999994,9.1642808636893669E-3]
["201241","2012-10-08",41,183.5,198.95180000000002,389.11,196.39510000000001,4897,175.92320000000001,1312,195.84,183.16,211.77,192.76,184,"","",170.08,218.70000000000002,234,198.89600000000002,138.46,192.5394,664.80000000000007,195.5,192.631,54396.24,207,179.01,194.32,196.8047,804.04,197,195.51440000000002,893.47,191.4,200.56,175.52,182.57130000000001,1576,190.12360000000001,153.26,null,191.57942469999995,-2.0349213950148215E-3]
["201242","2012-10-15",42,181.4,201.19130000000001,393.49,196.0943,4873,175.89190000000002,1312,192.78,182.48,211.4,190.33,178,"","",169.95000000000002,217.85,234,200.2585,139.42000000000002,192.5915,664.98,192.6,191.79490000000001,53517.08,216,175.87,191.41,194.60380000000001,797.77,197,194.5368,890.47,189.14000000000001,198.3,175.82,182.66650000000001,1575,190.33420000000001,154.24,null,189.32702829999999,-1.6528117615712046E-2]
["201243","2012-10-22",43,175.6,203.8501,398.69,195.25660000000002,4862,175.89830000000001,1312,188.70000000000002,182.47,210.41,186.05,173,"","",170.17000000000002,214.39000000000001,234,193.40560000000002,134.66,194.3698,671.12,188.8,187.73420000000002,52705.83,212,171.13,186.5,188.19910000000002,777.62,194,194.9358,891.16,184.68,196.77,174.77,182.54850000000002,1577,191.7157,154.92000000000002,null,185.72290749999996,-3.0569656471047923E-2]
["201244","2012-10-29",44,171.4,205.16920000000002,401.27,191.15860000000001,4798,172.7971,1289,187.68,183.49,208.93,182.49,168,"","",170.09,208.59,222,195.51220000000001,136.11000000000001,191.73420000000002,662.02,185.6,183.39950000000002,51897.090000000004,212,169.01,181.8,183.9693,759.88,188,195.37630000000001,887,183.47,193.93,176.89000000000001,183.9871,1586,193.79350000000002,155.72,null,182.81868780000002,-3.4376182621358886E-2]
["201245","2012-11-05",45,169.4,205.91570000000002,402.73,189.4228,4800,168.91570000000002,1260,186.66,181.33,208.93,178.46,166,"","",170.20000000000002,206.14000000000001,221,194.80030000000002,135.62,189.61420000000001,654.70000000000005,186,182.98140000000001,51790.78,216.33,168.87,181.69,184.70530000000002,764.49,183,195.71130000000002,885.30000000000007,178.88,192.59,176.93,184.60140000000001,1581,195.69560000000001,156.33000000000001,null,181.20845290000005,-2.4307473217863085E-2]
["201246","2012-11-12",46,169.5,206.29410000000001,403.47,186.63680000000002,4755,168.9442,1260,186.66,181.37,209.49,176.36,166,"","",170.56,203.07,221,198.38720000000001,138.12,189.26090000000002,653.48,185.9,181.85300000000001,51699.770000000004,216.33,168.98,181.85,183.8768,766.53,180,193.79150000000001,878.80000000000007,185.21,192.84,176.77,183.1917,1579,195.1994,156.49,null,180.44219339999995,-1.2999187493348052E-2]
["201247","2012-11-19",47,169,206.64180000000002,404.15000000000003,187.1807,4758,168.94740000000002,1260,183.6,181.1,206.14000000000001,176.56,168,"","",170.89000000000001,199.58,221,196.22410000000002,136.6,185.90130000000002,641.88,185.3,182.6636,51419.020000000004,216.33,166.26,181.37,184.18960000000001,760.64,180,194.42260000000002,881.79,182.38,189.51,179.6,182.70920000000001,1575,194.4948,156.76,null,179.67086869999994,-8.4851681883109098E-3]
["201248","2012-11-26",48,165.1,207.04060000000001,404.93,187.5095,4740,171.3347,1278,178.5,181.83,206.14000000000001,179.17000000000002,165,"","",171.15,195.72,221,199.48090000000002,138.89000000000001,185.88390000000001,641.82000000000005,178.5,180.10130000000001,50552.9,216.33,161.47999999999999,176.49,180.74260000000001,741.76,177,194.05600000000001,876.72,174.6,187.14000000000001,179.4,182.11270000000002,1571,193.3194,156.51,null,177.7325103,-1.5016904023069544E-2]
["201249","2012-12-03",49,161.30000000000001,207.16330000000002,405.17,184.7217,4660,171.31990000000002,1278,177.48,178.47,206.70000000000002,175.9,161,"","",171.42000000000002,191.62,205,192.37260000000001,133.96,182.99930000000001,631.86,175.1,175.2055,49541.37,216.33,159.65,171.53,174.9145,721.2,175,194.23930000000001,880.62,170.77,187.4,180.39000000000001,184.08500000000001,1590,193.24950000000001,156.55000000000001,null,175.15619339999998,-2.5127475214349881E-2]
["201250","2012-12-10",50,161,207.34740000000002,405.53000000000003,182.1293,4599,168.62820000000002,1258,174.42000000000002,178.79,207.07,176.35,157,"","",171.51,188.6,197,189.04320000000001,131.62,181.27030000000002,625.89,174.8,175.30670000000001,49660.89,216.33,159.71,171.31,174.61960000000002,716.17,175,194.7449,878.65,172.15,185.55,181.11,182.96180000000001,1589,194.20180000000002,156.99,null,173.83171730000001,-2.1947549119830323E-2]
["201251","2012-12-17",51,156.1,207.24510000000001,405.33,182.3039,4597,167.13480000000001,1247,171.36,177.73,206.14000000000001,169.70000000000002,156,"","",171.56,186.05,197,186.816,130.08000000000001,180.58100000000002,623.51,173,171.2304,49086.62,237,155.12,166.53,173.17850000000001,706.16,175,196.71210000000002,878.21,169.89000000000001,183.97,183.34,185.61070000000001,1611,192.95050000000001,156.99,null,170.94848999999999,-2.4022578467385092E-2]
[null,"2013"]
["201252",{"$f":"'[2]Weekly Pig prices'!$B$68","v":"2012-12-24"},52,{"$f":"'[2]Weekly Pig prices'!D68","v":154.9},{"$f":"'[2]Weekly Pig prices'!E68","v":207.24510000000001},{"$f":"'[2]Weekly Pig prices'!F68","v":405.33},{"$f":"'[2]Weekly Pig prices'!G68","v":181.7577},{"$f":"'[2]Weekly Pig prices'!H68","v":4569},{"$f":"'[2]Weekly Pig prices'!I68","v":161.64180000000002},{"$f":"'[2]Weekly Pig prices'!J68","v":1206},{"$f":"'[2]Weekly Pig prices'!K68","v":171.36},{"$f":"'[2]Weekly Pig prices'!L68","v":178.75},{"$f":"'[2]Weekly Pig prices'!M68","v":209.86},{"$f":"'[2]Weekly Pig prices'!N68","v":173.06},{"$f":"'[2]Weekly Pig prices'!O68","v":156},{"$f":"'[2]Weekly Pig prices'!P68","v":""},{"$f":"'[2]Weekly Pig prices'!Q68","v":""},{"$f":"'[2]Weekly Pig prices'!R68","v":171.56},{"$f":"'[2]Weekly Pig prices'!S68","v":186.11},{"$f":"'[2]Weekly Pig prices'!T68","v":189},{"$f":"'[2]Weekly Pig prices'!U68","v":190.2021},{"$f":"'[2]Weekly Pig prices'!V68","v":132.56},{"$f":"'[2]Weekly Pig prices'!W68","v":176.68560000000002},{"$f":"'[2]Weekly Pig prices'!X68","v":610.06000000000006},{"$f":"'[2]Weekly Pig prices'!Y68","v":169.1},{"$f":"'[2]Weekly Pig prices'!Z68","v":170.31140000000002},{"$f":"'[2]Weekly Pig prices'!AA68","v":49409.270000000004},{"$f":"'[2]Weekly Pig prices'!AB68","v":237},{"$f":"'[2]Weekly Pig prices'!AC68","v":154.76},{"$f":"'[2]Weekly Pig prices'!AD68","v":166.20000000000002},{"$f":"'[2]Weekly Pig prices'!AE68","v":171.56440000000001},{"$f":"'[2]Weekly Pig prices'!AF68","v":699.49},{"$f":"'[2]Weekly Pig prices'!AG68","v":173},{"$f":"'[2]Weekly Pig prices'!AH68","v":198.47650000000002},{"$f":"'[2]Weekly Pig prices'!AI68","v":878.97},{"$f":"'[2]Weekly Pig prices'!AJ68","v":169.59},{"$f":"'[2]Weekly Pig prices'!AK68","v":182.17000000000002},{"$f":"'[2]Weekly Pig prices'!AL68","v":179.77},{"$f":"'[2]Weekly Pig prices'!AM68","v":188.8227},{"$f":"'[2]Weekly Pig prices'!AN68","v":1625},{"$f":"'[2]Weekly Pig prices'!AO68","v":192.0059},{"$f":"'[2]Weekly Pig prices'!AQ68","v":0},null,{"$f":"'[2]Weekly Pig prices'!$AR68","v":170.7660411},{"$f":"'[2]Weekly Pig prices'!AS68","v":-1.0672741245038031E-3}]
["201301","2012-12-31",1,{"$f":"'[2]Weekly Pig prices'!D69","v":155.1},{"$f":"'[2]Weekly Pig prices'!E69","v":207.38830000000002},{"$f":"'[2]Weekly Pig prices'!F69","v":405.61},{"$f":"'[2]Weekly Pig prices'!G69","v":175.8818},{"$f":"'[2]Weekly Pig prices'!H69","v":4438},{"$f":"'[2]Weekly Pig prices'!I69","v":161.6523},{"$f":"'[2]Weekly Pig prices'!J69","v":1206},{"$f":"'[2]Weekly Pig prices'!K69","v":171.36},{"$f":"'[2]Weekly Pig prices'!L69","v":172.44},{"$f":"'[2]Weekly Pig prices'!M69","v":209.86},{"$f":"'[2]Weekly Pig prices'!N69","v":179.07},{"$f":"'[2]Weekly Pig prices'!O69","v":156},{"$f":"'[2]Weekly Pig prices'!P69","v":""},{"$f":"'[2]Weekly Pig prices'!Q69","v":""},{"$f":"'[2]Weekly Pig prices'!R69","v":171.75},{"$f":"'[2]Weekly Pig prices'!S69","v":187.71},{"$f":"'[2]Weekly Pig prices'!T69","v":183},{"$f":"'[2]Weekly Pig prices'!U69","v":184.05890000000002},{"$f":"'[2]Weekly Pig prices'!V69","v":128.41},{"$f":"'[2]Weekly Pig prices'!W69","v":176.60740000000001},{"$f":"'[2]Weekly Pig prices'!X69","v":609.79},{"$f":"'[2]Weekly Pig prices'!Y69","v":171.20000000000002},{"$f":"'[2]Weekly Pig prices'!Z69","v":169.13640000000001},{"$f":"'[2]Weekly Pig prices'!AA69","v":49293.340000000004},{"$f":"'[2]Weekly Pig prices'!AB69","v":237},{"$f":"'[2]Weekly Pig prices'!AC69","v":154.55000000000001},{"$f":"'[2]Weekly Pig prices'!AD69","v":166.06},{"$f":"'[2]Weekly Pig prices'!AE69","v":171.0565},{"$f":"'[2]Weekly Pig prices'!AF69","v":699.45},{"$f":"'[2]Weekly Pig prices'!AG69","v":173},{"$f":"'[2]Weekly Pig prices'!AH69","v":196.1352},{"$f":"'[2]Weekly Pig prices'!AI69","v":869.7},{"$f":"'[2]Weekly Pig prices'!AJ69","v":166.74},{"$f":"'[2]Weekly Pig prices'!AK69","v":178.39000000000001},{"$f":"'[2]Weekly Pig prices'!AL69","v":181.37},{"$f":"'[2]Weekly Pig prices'!AM69","v":183.36260000000001},{"$f":"'[2]Weekly Pig prices'!AN69","v":1569},{"$f":"'[2]Weekly Pig prices'!AO69","v":191.82590000000002},{"$f":"'[2]Weekly Pig prices'!AQ69","v":0},null,{"$f":"'[2]Weekly Pig prices'!$AR69","v":171.56779269999998},{"$f":"'[2]Weekly Pig prices'!AS69","v":4.6950294967047501E-3}]
["201302",{"$f":"B69+7","v":"2013-01-07"},{"$f":"1+C69","v":2},{"$f":"'[2]Weekly Pig prices'!D70","v":154.1},{"$f":"'[2]Weekly Pig prices'!E70","v":207.55190000000002},{"$f":"'[2]Weekly Pig prices'!F70","v":405.93},{"$f":"'[2]Weekly Pig prices'!G70","v":171.68810000000002},{"$f":"'[2]Weekly Pig prices'!H70","v":4387},{"$f":"'[2]Weekly Pig prices'!I70","v":161.6566},{"$f":"'[2]Weekly Pig prices'!J70","v":1206},{"$f":"'[2]Weekly Pig prices'!K70","v":170.34},{"$f":"'[2]Weekly Pig prices'!L70","v":170.84},{"$f":"'[2]Weekly Pig prices'!M70","v":208.56},{"$f":"'[2]Weekly Pig prices'!N70","v":168.25},{"$f":"'[2]Weekly Pig prices'!O70","v":156},{"$f":"'[2]Weekly Pig prices'!P70","v":""},{"$f":"'[2]Weekly Pig prices'!Q70","v":""},{"$f":"'[2]Weekly Pig prices'!R70","v":171.5},{"$f":"'[2]Weekly Pig prices'!S70","v":189.75},{"$f":"'[2]Weekly Pig prices'!T70","v":181},{"$f":"'[2]Weekly Pig prices'!U70","v":177.23410000000001},{"$f":"'[2]Weekly Pig prices'!V70","v":123.56},{"$f":"'[2]Weekly Pig prices'!W70","v":173.17830000000001},{"$f":"'[2]Weekly Pig prices'!X70","v":597.95000000000005},{"$f":"'[2]Weekly Pig prices'!Y70","v":171.20000000000002},{"$f":"'[2]Weekly Pig prices'!Z70","v":170.1336},{"$f":"'[2]Weekly Pig prices'!AA70","v":49839.19},{"$f":"'[2]Weekly Pig prices'!AB70","v":237},{"$f":"'[2]Weekly Pig prices'!AC70","v":154.14000000000001},{"$f":"'[2]Weekly Pig prices'!AD70","v":166.03},{"$f":"'[2]Weekly Pig prices'!AE70","v":168.8947},{"$f":"'[2]Weekly Pig prices'!AF70","v":693.87},{"$f":"'[2]Weekly Pig prices'!AG70","v":173},{"$f":"'[2]Weekly Pig prices'!AH70","v":195.1986},{"$f":"'[2]Weekly Pig prices'!AI70","v":858.98},{"$f":"'[2]Weekly Pig prices'!AJ70","v":166.02},{"$f":"'[2]Weekly Pig prices'!AK70","v":172.91},{"$f":"'[2]Weekly Pig prices'!AL70","v":180.13},{"$f":"'[2]Weekly Pig prices'!AM70","v":185.39620000000002},{"$f":"'[2]Weekly Pig prices'!AN70","v":1590},{"$f":"'[2]Weekly Pig prices'!AO70","v":190.73490000000001},{"$f":"'[2]Weekly Pig prices'!AQ70","v":0},null,{"$f":"'[2]Weekly Pig prices'!$AR70","v":169.2107757},{"$f":"'[2]Weekly Pig prices'!AS70","v":-1.3738108784330016E-2}]
["201303",{"$f":"B70+7","v":"2013-01-14"},{"$f":"1+C70","v":3},{"$f":"'[2]Weekly Pig prices'!D71","v":153},{"$f":"'[2]Weekly Pig prices'!E71","v":208.11430000000001},{"$f":"'[2]Weekly Pig prices'!F71","v":407.03000000000003},{"$f":"'[2]Weekly Pig prices'!G71","v":168.52180000000001},{"$f":"'[2]Weekly Pig prices'!H71","v":4315},{"$f":"'[2]Weekly Pig prices'!I71","v":159.06230000000002},{"$f":"'[2]Weekly Pig prices'!J71","v":1187},{"$f":"'[2]Weekly Pig prices'!K71","v":168.3},{"$f":"'[2]Weekly Pig prices'!L71","v":171.72},{"$f":"'[2]Weekly Pig prices'!M71","v":208},{"$f":"'[2]Weekly Pig prices'!N71","v":182.92000000000002},{"$f":"'[2]Weekly Pig prices'!O71","v":156},{"$f":"'[2]Weekly Pig prices'!P71","v":""},{"$f":"'[2]Weekly Pig prices'!Q71","v":""},{"$f":"'[2]Weekly Pig prices'!R71","v":168.03},{"$f":"'[2]Weekly Pig prices'!S71","v":190.81},{"$f":"'[2]Weekly Pig prices'!T71","v":181},{"$f":"'[2]Weekly Pig prices'!U71","v":179.6919},{"$f":"'[2]Weekly Pig prices'!V71","v":125.33},{"$f":"'[2]Weekly Pig prices'!W71","v":173.1551},{"$f":"'[2]Weekly Pig prices'!X71","v":597.87},{"$f":"'[2]Weekly Pig prices'!Y71","v":171.20000000000002},{"$f":"'[2]Weekly Pig prices'!Z71","v":170.5712},{"$f":"'[2]Weekly Pig prices'!AA71","v":50255.39},{"$f":"'[2]Weekly Pig prices'!AB71","v":237},{"$f":"'[2]Weekly Pig prices'!AC71","v":150.89000000000001},{"$f":"'[2]Weekly Pig prices'!AD71","v":164.37},{"$f":"'[2]Weekly Pig prices'!AE71","v":164.31130000000002},{"$f":"'[2]Weekly Pig prices'!AF71","v":677.96},{"$f":"'[2]Weekly Pig prices'!AG71","v":173},{"$f":"'[2]Weekly Pig prices'!AH71","v":196.58010000000002},{"$f":"'[2]Weekly Pig prices'!AI71","v":856.55000000000007},{"$f":"'[2]Weekly Pig prices'!AJ71","v":164.92000000000002},{"$f":"'[2]Weekly Pig prices'!AK71","v":175.99},{"$f":"'[2]Weekly Pig prices'!AL71","v":181.43},{"$f":"'[2]Weekly Pig prices'!AM71","v":183.6748},{"$f":"'[2]Weekly Pig prices'!AN71","v":1587},{"$f":"'[2]Weekly Pig prices'!AO71","v":186.37020000000001},{"$f":"'[2]Weekly Pig prices'!AQ71","v":0},null,{"$f":"'[2]Weekly Pig prices'!$AR71","v":170.34938790000004},{"$f":"'[2]Weekly Pig prices'!AS71","v":6.7289579832594537E-3}]
["201304","2013-01-21",4,{"$f":"'[2]Weekly Pig prices'!D72","v":152.5},{"$f":"'[2]Weekly Pig prices'!E72","v":208.47220000000002},{"$f":"'[2]Weekly Pig prices'!F72","v":407.73},{"$f":"'[2]Weekly Pig prices'!G72","v":167.15380000000002},{"$f":"'[2]Weekly Pig prices'!H72","v":4281},{"$f":"'[2]Weekly Pig prices'!I72","v":159.05410000000001},{"$f":"'[2]Weekly Pig prices'!J72","v":1187},{"$f":"'[2]Weekly Pig prices'!K72","v":168.3},{"$f":"'[2]Weekly Pig prices'!L72","v":175.70000000000002},{"$f":"'[2]Weekly Pig prices'!M72","v":208},{"$f":"'[2]Weekly Pig prices'!N72","v":181.46},{"$f":"'[2]Weekly Pig prices'!O72","v":154},{"$f":"'[2]Weekly Pig prices'!P72","v":""},{"$f":"'[2]Weekly Pig prices'!Q72","v":""},{"$f":"'[2]Weekly Pig prices'!R72","v":168.09},{"$f":"'[2]Weekly Pig prices'!S72","v":192.02},{"$f":"'[2]Weekly Pig prices'!T72","v":179},{"$f":"'[2]Weekly Pig prices'!U72","v":180.8194},{"$f":"'[2]Weekly Pig prices'!V72","v":126.23},{"$f":"'[2]Weekly Pig prices'!W72","v":172.22830000000002},{"$f":"'[2]Weekly Pig prices'!X72","v":594.66999999999996},{"$f":"'[2]Weekly Pig prices'!Y72","v":166},{"$f":"'[2]Weekly Pig prices'!Z72","v":169.59229999999999},{"$f":"'[2]Weekly Pig prices'!AA72","v":50026.33},{"$f":"'[2]Weekly Pig prices'!AB72","v":237},{"$f":"'[2]Weekly Pig prices'!AC72","v":149.27000000000001},{"$f":"'[2]Weekly Pig prices'!AD72","v":164.24},{"$f":"'[2]Weekly Pig prices'!AE72","v":161.75400000000002},{"$f":"'[2]Weekly Pig prices'!AF72","v":674.69},{"$f":"'[2]Weekly Pig prices'!AG72","v":173},{"$f":"'[2]Weekly Pig prices'!AH72","v":192.6772},{"$f":"'[2]Weekly Pig prices'!AI72","v":840.29},{"$f":"'[2]Weekly Pig prices'!AJ72","v":159.51},{"$f":"'[2]Weekly Pig prices'!AK72","v":175.02},{"$f":"'[2]Weekly Pig prices'!AL72","v":181.18},{"$f":"'[2]Weekly Pig prices'!AM72","v":182.35250000000002},{"$f":"'[2]Weekly Pig prices'!AN72","v":1584},{"$f":"'[2]Weekly Pig prices'!AO72","v":181.4255},{"$f":"'[2]Weekly Pig prices'!AQ72","v":0},null,{"$f":"'[2]Weekly Pig prices'!$AR72","v":169.25444100000001},{"$f":"'[2]Weekly Pig prices'!AS72","v":-6.4276538559844276E-3}]
["201305","2013-01-28",5,{"$f":"'[2]Weekly Pig prices'!D73","v":152.4},{"$f":"'[2]Weekly Pig prices'!E73","v":208.5847},{"$f":"'[2]Weekly Pig prices'!F73","v":407.95},{"$f":"'[2]Weekly Pig prices'!G73","v":164.64530000000002},{"$f":"'[2]Weekly Pig prices'!H73","v":4222},{"$f":"'[2]Weekly Pig prices'!I73","v":156.68020000000001},{"$f":"'[2]Weekly Pig prices'!J73","v":1169},{"$f":"'[2]Weekly Pig prices'!K73","v":168.3},{"$f":"'[2]Weekly Pig prices'!L73","v":171.59},{"$f":"'[2]Weekly Pig prices'!M73","v":208.93},{"$f":"'[2]Weekly Pig prices'!N73","v":182.64000000000001},{"$f":"'[2]Weekly Pig prices'!O73","v":153},{"$f":"'[2]Weekly Pig prices'!P73","v":""},{"$f":"'[2]Weekly Pig prices'!Q73","v":""},{"$f":"'[2]Weekly Pig prices'!R73","v":168.26},{"$f":"'[2]Weekly Pig prices'!S73","v":192.79},{"$f":"'[2]Weekly Pig prices'!T73","v":181},{"$f":"'[2]Weekly Pig prices'!U73","v":176.1832},{"$f":"'[2]Weekly Pig prices'!V73","v":123.22},{"$f":"'[2]Weekly Pig prices'!W73","v":169.2105},{"$f":"'[2]Weekly Pig prices'!X73","v":584.25},{"$f":"'[2]Weekly Pig prices'!Y73","v":167.4},{"$f":"'[2]Weekly Pig prices'!Z73","v":170.3338},{"$f":"'[2]Weekly Pig prices'!AA73","v":50291.770000000004},{"$f":"'[2]Weekly Pig prices'!AB73","v":237},{"$f":"'[2]Weekly Pig prices'!AC73","v":150.39000000000001},{"$f":"'[2]Weekly Pig prices'!AD73","v":164.11},{"$f":"'[2]Weekly Pig prices'!AE73","v":162.291},{"$f":"'[2]Weekly Pig prices'!AF73","v":680.15},{"$f":"'[2]Weekly Pig prices'!AG73","v":173},{"$f":"'[2]Weekly Pig prices'!AH73","v":190.44070000000002},{"$f":"'[2]Weekly Pig prices'!AI73","v":834.19},{"$f":"'[2]Weekly Pig prices'!AJ73","v":161.42000000000002},{"$f":"'[2]Weekly Pig prices'!AK73","v":173.64000000000001},{"$f":"'[2]Weekly Pig prices'!AL73","v":182.55},{"$f":"'[2]Weekly Pig prices'!AM73","v":184.01900000000001},{"$f":"'[2]Weekly Pig prices'!AN73","v":1588},{"$f":"'[2]Weekly Pig prices'!AO73","v":178.07510000000002},{"$f":"'[2]Weekly Pig prices'!AQ73","v":0},null,{"$f":"'[2]Weekly Pig prices'!$AR73","v":169.16658660000002},{"$f":"'[2]Weekly Pig prices'!AS73","v":-5.190670299752842E-4}]
["201306","2013-02-04",6,{"$f":"'[2]Weekly Pig prices'!D74","v":152.20000000000002},{"$f":"'[2]Weekly Pig prices'!E74","v":208.61540000000002},{"$f":"'[2]Weekly Pig prices'!F74","v":408.01},{"$f":"'[2]Weekly Pig prices'!G74","v":163.8526},{"$f":"'[2]Weekly Pig prices'!H74","v":4177},{"$f":"'[2]Weekly Pig prices'!I74","v":156.70000000000002},{"$f":"'[2]Weekly Pig prices'!J74","v":1169},{"$f":"'[2]Weekly Pig prices'!K74","v":169.32},{"$f":"'[2]Weekly Pig prices'!L74","v":169.93},{"$f":"'[2]Weekly Pig prices'!M74","v":206.14000000000001},{"$f":"'[2]Weekly Pig prices'!N74","v":184.59},{"$f":"'[2]Weekly Pig prices'!O74","v":153},{"$f":"'[2]Weekly Pig prices'!P74","v":""},{"$f":"'[2]Weekly Pig prices'!Q74","v":""},{"$f":"'[2]Weekly Pig prices'!R74","v":168.18},{"$f":"'[2]Weekly Pig prices'!S74","v":194.77},{"$f":"'[2]Weekly Pig prices'!T74","v":183},{"$f":"'[2]Weekly Pig prices'!U74","v":172.5497},{"$f":"'[2]Weekly Pig prices'!V74","v":120.77},{"$f":"'[2]Weekly Pig prices'!W74","v":167.07310000000001},{"$f":"'[2]Weekly Pig prices'!X74","v":576.87},{"$f":"'[2]Weekly Pig prices'!Y74","v":167.4},{"$f":"'[2]Weekly Pig prices'!Z74","v":170.5994},{"$f":"'[2]Weekly Pig prices'!AA74","v":49984.42},{"$f":"'[2]Weekly Pig prices'!AB74","v":237},{"$f":"'[2]Weekly Pig prices'!AC74","v":150.37},{"$f":"'[2]Weekly Pig prices'!AD74","v":164.12},{"$f":"'[2]Weekly Pig prices'!AE74","v":165.3571},{"$f":"'[2]Weekly Pig prices'!AF74","v":690.21},{"$f":"'[2]Weekly Pig prices'!AG74","v":175},{"$f":"'[2]Weekly Pig prices'!AH74","v":184.90440000000001},{"$f":"'[2]Weekly Pig prices'!AI74","v":811.4},{"$f":"'[2]Weekly Pig prices'!AJ74","v":154.81},{"$f":"'[2]Weekly Pig prices'!AK74","v":171.83},{"$f":"'[2]Weekly Pig prices'!AL74","v":183.05},{"$f":"'[2]Weekly Pig prices'!AM74","v":183.607},{"$f":"'[2]Weekly Pig prices'!AN74","v":1578},{"$f":"'[2]Weekly Pig prices'!AO74","v":178.2278},{"$f":"'[2]Weekly Pig prices'!AQ74","v":0},null,{"$f":"'[2]Weekly Pig prices'!$AR74","v":169.84873660000002},{"$f":"'[2]Weekly Pig prices'!AS74","v":4.0324157016478068E-3}]
["201307","2013-02-11",7,{"$f":"'[2]Weekly Pig prices'!D75","v":154.30000000000001},{"$f":"'[2]Weekly Pig prices'!E75","v":208.554},{"$f":"'[2]Weekly Pig prices'!F75","v":407.89},{"$f":"'[2]Weekly Pig prices'!G75","v":164.7235},{"$f":"'[2]Weekly Pig prices'!H75","v":4174},{"$f":"'[2]Weekly Pig prices'!I75","v":156.67270000000002},{"$f":"'[2]Weekly Pig prices'!J75","v":1169},{"$f":"'[2]Weekly Pig prices'!K75","v":172.38},{"$f":"'[2]Weekly Pig prices'!L75","v":170.69},{"$f":"'[2]Weekly Pig prices'!M75","v":205.77},{"$f":"'[2]Weekly Pig prices'!N75","v":187.43},{"$f":"'[2]Weekly Pig prices'!O75","v":154},{"$f":"'[2]Weekly Pig prices'!P75","v":""},{"$f":"'[2]Weekly Pig prices'!Q75","v":""},{"$f":"'[2]Weekly Pig prices'!R75","v":168.51},{"$f":"'[2]Weekly Pig prices'!S75","v":196.62},{"$f":"'[2]Weekly Pig prices'!T75","v":194},{"$f":"'[2]Weekly Pig prices'!U75","v":171.75910000000002},{"$f":"'[2]Weekly Pig prices'!V75","v":120.17},{"$f":"'[2]Weekly Pig prices'!W75","v":161.73830000000001},{"$f":"'[2]Weekly Pig prices'!X75","v":558.45000000000005},{"$f":"'[2]Weekly Pig prices'!Y75","v":170.5},{"$f":"'[2]Weekly Pig prices'!Z75","v":172.6797},{"$f":"'[2]Weekly Pig prices'!AA75","v":50363.270000000004},{"$f":"'[2]Weekly Pig prices'!AB75","v":237},{"$f":"'[2]Weekly Pig prices'!AC75","v":153.32},{"$f":"'[2]Weekly Pig prices'!AD75","v":167.03},{"$f":"'[2]Weekly Pig prices'!AE75","v":166.03030000000001},{"$f":"'[2]Weekly Pig prices'!AF75","v":693.02},{"$f":"'[2]Weekly Pig prices'!AG75","v":178},{"$f":"'[2]Weekly Pig prices'!AH75","v":181.0581},{"$f":"'[2]Weekly Pig prices'!AI75","v":795.51},{"$f":"'[2]Weekly Pig prices'!AJ75","v":159.29},{"$f":"'[2]Weekly Pig prices'!AK75","v":169.17000000000002},{"$f":"'[2]Weekly Pig prices'!AL75","v":181.36},{"$f":"'[2]Weekly Pig prices'!AM75","v":186.57930000000002},{"$f":"'[2]Weekly Pig prices'!AN75","v":1588},{"$f":"'[2]Weekly Pig prices'!AO75","v":176.77260000000001},{"$f":"'[2]Weekly Pig prices'!AQ75","v":0},null,{"$f":"'[2]Weekly Pig prices'!$AR75","v":171.49675360000001},{"$f":"'[2]Weekly Pig prices'!AS75","v":9.7028510955670111E-3}]
["201308","2013-02-18",8,{"$f":"'[2]Weekly Pig prices'!D76","v":155.70000000000002},{"$f":"'[2]Weekly Pig prices'!E76","v":208.554},{"$f":"'[2]Weekly Pig prices'!F76","v":407.89},{"$f":"'[2]Weekly Pig prices'!G76","v":164.11070000000001},{"$f":"'[2]Weekly Pig prices'!H76","v":4175},{"$f":"'[2]Weekly Pig prices'!I76","v":156.70959999999999},{"$f":"'[2]Weekly Pig prices'!J76","v":1169},{"$f":"'[2]Weekly Pig prices'!K76","v":172.38},{"$f":"'[2]Weekly Pig prices'!L76","v":170.41},{"$f":"'[2]Weekly Pig prices'!M76","v":202.43},{"$f":"'[2]Weekly Pig prices'!N76","v":189.06},{"$f":"'[2]Weekly Pig prices'!O76","v":158},{"$f":"'[2]Weekly Pig prices'!P76","v":""},{"$f":"'[2]Weekly Pig prices'!Q76","v":""},{"$f":"'[2]Weekly Pig prices'!R76","v":168.25},{"$f":"'[2]Weekly Pig prices'!S76","v":194.66},{"$f":"'[2]Weekly Pig prices'!T76","v":197},{"$f":"'[2]Weekly Pig prices'!U76","v":179.65940000000001},{"$f":"'[2]Weekly Pig prices'!V76","v":125.7},{"$f":"'[2]Weekly Pig prices'!W76","v":167.1832},{"$f":"'[2]Weekly Pig prices'!X76","v":577.25},{"$f":"'[2]Weekly Pig prices'!Y76","v":171.20000000000002},{"$f":"'[2]Weekly Pig prices'!Z76","v":173.56980000000001},{"$f":"'[2]Weekly Pig prices'!AA76","v":50682.87},{"$f":"'[2]Weekly Pig prices'!AB76","v":237},{"$f":"'[2]Weekly Pig prices'!AC76","v":154.11000000000001},{"$f":"'[2]Weekly Pig prices'!AD76","v":170.48},{"$f":"'[2]Weekly Pig prices'!AE76","v":168.00020000000001},{"$f":"'[2]Weekly Pig prices'!AF76","v":700.46},{"$f":"'[2]Weekly Pig prices'!AG76","v":179},{"$f":"'[2]Weekly Pig prices'!AH76","v":176.4836},{"$f":"'[2]Weekly Pig prices'!AI76","v":773.2},{"$f":"'[2]Weekly Pig prices'!AJ76","v":163.67000000000002},{"$f":"'[2]Weekly Pig prices'!AK76","v":170.28},{"$f":"'[2]Weekly Pig prices'!AL76","v":183.95000000000002},{"$f":"'[2]Weekly Pig prices'!AM76","v":187.51250000000002},{"$f":"'[2]Weekly Pig prices'!AN76","v":1585},{"$f":"'[2]Weekly Pig prices'!AO76","v":175.20260000000002},{"$f":"'[2]Weekly Pig prices'!AQ76","v":0},null,{"$f":"'[2]Weekly Pig prices'!$AR76","v":172.29598010000001},{"$f":"'[2]Weekly Pig prices'!AS76","v":4.6603010449055571E-3}]
["201309","2013-02-25",9,{"$f":"'[2]Weekly Pig prices'!D77","v":155.30000000000001},{"$f":"'[2]Weekly Pig prices'!E77","v":209.1369},{"$f":"'[2]Weekly Pig prices'!F77","v":409.03000000000003},{"$f":"'[2]Weekly Pig prices'!G77","v":163.71},{"$f":"'[2]Weekly Pig prices'!H77","v":4191},{"$f":"'[2]Weekly Pig prices'!I77","v":156.74770000000001},{"$f":"'[2]Weekly Pig prices'!J77","v":1169},{"$f":"'[2]Weekly Pig prices'!K77","v":171.36},{"$f":"'[2]Weekly Pig prices'!L77","v":169.42000000000002},{"$f":"'[2]Weekly Pig prices'!M77","v":201.87},{"$f":"'[2]Weekly Pig prices'!N77","v":191.06},{"$f":"'[2]Weekly Pig prices'!O77","v":159},{"$f":"'[2]Weekly Pig prices'!P77","v":""},{"$f":"'[2]Weekly Pig prices'!Q77","v":""},{"$f":"'[2]Weekly Pig prices'!R77","v":168.38},{"$f":"'[2]Weekly Pig prices'!S77","v":190.66},{"$f":"'[2]Weekly Pig prices'!T77","v":198},{"$f":"'[2]Weekly Pig prices'!U77","v":173.49700000000001},{"$f":"'[2]Weekly Pig prices'!V77","v":121.49000000000001},{"$f":"'[2]Weekly Pig prices'!W77","v":166.68790000000001},{"$f":"'[2]Weekly Pig prices'!X77","v":575.54},{"$f":"'[2]Weekly Pig prices'!Y77","v":170.6},{"$f":"'[2]Weekly Pig prices'!Z77","v":167.5051},{"$f":"'[2]Weekly Pig prices'!AA77","v":49362.07},{"$f":"'[2]Weekly Pig prices'!AB77","v":237},{"$f":"'[2]Weekly Pig prices'!AC77","v":154.11000000000001},{"$f":"'[2]Weekly Pig prices'!AD77","v":169.91},{"$f":"'[2]Weekly Pig prices'!AE77","v":168.47190000000001},{"$f":"'[2]Weekly Pig prices'!AF77","v":699.89},{"$f":"'[2]Weekly Pig prices'!AG77","v":181},{"$f":"'[2]Weekly Pig prices'!AH77","v":175.45250000000001},{"$f":"'[2]Weekly Pig prices'!AI77","v":766.77},{"$f":"'[2]Weekly Pig prices'!AJ77","v":164.06},{"$f":"'[2]Weekly Pig prices'!AK77","v":170.09},{"$f":"'[2]Weekly Pig prices'!AL77","v":182.63},{"$f":"'[2]Weekly Pig prices'!AM77","v":186.8476},{"$f":"'[2]Weekly Pig prices'!AN77","v":1575},{"$f":"'[2]Weekly Pig prices'!AO77","v":174.3099},{"$f":"'[2]Weekly Pig prices'!AQ77","v":0},null,{"$f":"'[2]Weekly Pig prices'!$AR77","v":172.10819709999998},{"$f":"'[2]Weekly Pig prices'!AS77","v":-1.0898861360029155E-3}]
["201310","2013-03-04",10,{"$f":"'[2]Weekly Pig prices'!D78","v":154.6},{"$f":"'[2]Weekly Pig prices'!E78","v":209.5153},{"$f":"'[2]Weekly Pig prices'!F78","v":409.77},{"$f":"'[2]Weekly Pig prices'!G78","v":164.66490000000002},{"$f":"'[2]Weekly Pig prices'!H78","v":4209},{"$f":"'[2]Weekly Pig prices'!I78","v":156.8021},{"$f":"'[2]Weekly Pig prices'!J78","v":1169},{"$f":"'[2]Weekly Pig prices'!K78","v":171.36},{"$f":"'[2]Weekly Pig prices'!L78","v":170.57},{"$f":"'[2]Weekly Pig prices'!M78","v":201.87},{"$f":"'[2]Weekly Pig prices'!N78","v":192.79},{"$f":"'[2]Weekly Pig prices'!O78","v":160},{"$f":"'[2]Weekly Pig prices'!P78","v":""},{"$f":"'[2]Weekly Pig prices'!Q78","v":""},{"$f":"'[2]Weekly Pig prices'!R78","v":168.36},{"$f":"'[2]Weekly Pig prices'!S78","v":186.86},{"$f":"'[2]Weekly Pig prices'!T78","v":206},{"$f":"'[2]Weekly Pig prices'!U78","v":173.06990000000002},{"$f":"'[2]Weekly Pig prices'!V78","v":121.28},{"$f":"'[2]Weekly Pig prices'!W78","v":167.24690000000001},{"$f":"'[2]Weekly Pig prices'!X78","v":577.47},{"$f":"'[2]Weekly Pig prices'!Y78","v":170.3},{"$f":"'[2]Weekly Pig prices'!Z78","v":167.91240000000002},{"$f":"'[2]Weekly Pig prices'!AA78","v":49993.29},{"$f":"'[2]Weekly Pig prices'!AB78","v":237},{"$f":"'[2]Weekly Pig prices'!AC78","v":154.25},{"$f":"'[2]Weekly Pig prices'!AD78","v":170.36},{"$f":"'[2]Weekly Pig prices'!AE78","v":169.85050000000001},{"$f":"'[2]Weekly Pig prices'!AF78","v":703.55000000000007},{"$f":"'[2]Weekly Pig prices'!AG78","v":181},{"$f":"'[2]Weekly Pig prices'!AH78","v":171.13160000000002},{"$f":"'[2]Weekly Pig prices'!AI78","v":746.2},{"$f":"'[2]Weekly Pig prices'!AJ78","v":162.9},{"$f":"'[2]Weekly Pig prices'!AK78","v":168.29},{"$f":"'[2]Weekly Pig prices'!AL78","v":183.9},{"$f":"'[2]Weekly Pig prices'!AM78","v":189.5712},{"$f":"'[2]Weekly Pig prices'!AN78","v":1580},{"$f":"'[2]Weekly Pig prices'!AO78","v":174.1019},{"$f":"'[2]Weekly Pig prices'!AQ78","v":0},null,{"$f":"'[2]Weekly Pig prices'!$AR78","v":172.29505659999995},{"$f":"'[2]Weekly Pig prices'!AS78","v":1.0857094731600014E-3}]
["201311","2013-03-11",11,{"$f":"'[2]Weekly Pig prices'!D79","v":154.80000000000001},{"$f":"'[2]Weekly Pig prices'!E79","v":209.06530000000001},{"$f":"'[2]Weekly Pig prices'!F79","v":408.89},{"$f":"'[2]Weekly Pig prices'!G79","v":164.40090000000001},{"$f":"'[2]Weekly Pig prices'!H79","v":4205},{"$f":"'[2]Weekly Pig prices'!I79","v":154.34450000000001},{"$f":"'[2]Weekly Pig prices'!J79","v":1151},{"$f":"'[2]Weekly Pig prices'!K79","v":171.36},{"$f":"'[2]Weekly Pig prices'!L79","v":174.22},{"$f":"'[2]Weekly Pig prices'!M79","v":200.01},{"$f":"'[2]Weekly Pig prices'!N79","v":192.61},{"$f":"'[2]Weekly Pig prices'!O79","v":161},{"$f":"'[2]Weekly Pig prices'!P79","v":""},{"$f":"'[2]Weekly Pig prices'!Q79","v":""},{"$f":"'[2]Weekly Pig prices'!R79","v":168.26},{"$f":"'[2]Weekly Pig prices'!S79","v":186.68},{"$f":"'[2]Weekly Pig prices'!T79","v":210},{"$f":"'[2]Weekly Pig prices'!U79","v":171.75890000000001},{"$f":"'[2]Weekly Pig prices'!V79","v":120.43},{"$f":"'[2]Weekly Pig prices'!W79","v":168.33580000000001},{"$f":"'[2]Weekly Pig prices'!X79","v":581.23},{"$f":"'[2]Weekly Pig prices'!Y79","v":171.20000000000002},{"$f":"'[2]Weekly Pig prices'!Z79","v":167.76250000000002},{"$f":"'[2]Weekly Pig prices'!AA79","v":50972.480000000003},{"$f":"'[2]Weekly Pig prices'!AB79","v":237},{"$f":"'[2]Weekly Pig prices'!AC79","v":154.31},{"$f":"'[2]Weekly Pig prices'!AD79","v":170.32},{"$f":"'[2]Weekly Pig prices'!AE79","v":170.59010000000001},{"$f":"'[2]Weekly Pig prices'!AF79","v":707.33},{"$f":"'[2]Weekly Pig prices'!AG79","v":181},{"$f":"'[2]Weekly Pig prices'!AH79","v":167.51230000000001},{"$f":"'[2]Weekly Pig prices'!AI79","v":734.13},{"$f":"'[2]Weekly Pig prices'!AJ79","v":162.01},{"$f":"'[2]Weekly Pig prices'!AK79","v":166.52},{"$f":"'[2]Weekly Pig prices'!AL79","v":184.13},{"$f":"'[2]Weekly Pig prices'!AM79","v":190.40980000000002},{"$f":"'[2]Weekly Pig prices'!AN79","v":1587},{"$f":"'[2]Weekly Pig prices'!AO79","v":174.30510000000001},{"$f":"'[2]Weekly Pig prices'!AQ79","v":0},null,{"$f":"'[2]Weekly Pig prices'!$AR79","v":172.09835669999995},{"$f":"'[2]Weekly Pig prices'!AS79","v":-1.1416456390658247E-3}]
["201312","2013-03-18",12,{"$f":"'[2]Weekly Pig prices'!D80","v":154.80000000000001},{"$f":"'[2]Weekly Pig prices'!E80","v":205.251},{"$f":"'[2]Weekly Pig prices'!F80","v":401.43},{"$f":"'[2]Weekly Pig prices'!G80","v":164.00450000000001},{"$f":"'[2]Weekly Pig prices'!H80","v":4217},{"$f":"'[2]Weekly Pig prices'!I80","v":154.40550000000002},{"$f":"'[2]Weekly Pig prices'!J80","v":1151},{"$f":"'[2]Weekly Pig prices'!K80","v":171.36},{"$f":"'[2]Weekly Pig prices'!L80","v":169.70000000000002},{"$f":"'[2]Weekly Pig prices'!M80","v":200.01},{"$f":"'[2]Weekly Pig prices'!N80","v":194.85},{"$f":"'[2]Weekly Pig prices'!O80","v":165},{"$f":"'[2]Weekly Pig prices'!P80","v":""},{"$f":"'[2]Weekly Pig prices'!Q80","v":""},{"$f":"'[2]Weekly Pig prices'!R80","v":168.29},{"$f":"'[2]Weekly Pig prices'!S80","v":179.11},{"$f":"'[2]Weekly Pig prices'!T80","v":210},{"$f":"'[2]Weekly Pig prices'!U80","v":178.7586},{"$f":"'[2]Weekly Pig prices'!V80","v":125.44},{"$f":"'[2]Weekly Pig prices'!W80","v":172.91470000000001},{"$f":"'[2]Weekly Pig prices'!X80","v":597.04},{"$f":"'[2]Weekly Pig prices'!Y80","v":170.20000000000002},{"$f":"'[2]Weekly Pig prices'!Z80","v":167.3792},{"$f":"'[2]Weekly Pig prices'!AA80","v":51226.87},{"$f":"'[2]Weekly Pig prices'!AB80","v":237},{"$f":"'[2]Weekly Pig prices'!AC80","v":154.46},{"$f":"'[2]Weekly Pig prices'!AD80","v":168.59},{"$f":"'[2]Weekly Pig prices'!AE80","v":170.25450000000001},{"$f":"'[2]Weekly Pig prices'!AF80","v":709.38},{"$f":"'[2]Weekly Pig prices'!AG80","v":181},{"$f":"'[2]Weekly Pig prices'!AH80","v":163.98580000000001},{"$f":"'[2]Weekly Pig prices'!AI80","v":724.18000000000006},{"$f":"'[2]Weekly Pig prices'!AJ80","v":163.99},{"$f":"'[2]Weekly Pig prices'!AK80","v":168.93},{"$f":"'[2]Weekly Pig prices'!AL80","v":183.70000000000002},{"$f":"'[2]Weekly Pig prices'!AM80","v":186.77090000000001},{"$f":"'[2]Weekly Pig prices'!AN80","v":1563},{"$f":"'[2]Weekly Pig prices'!AO80","v":178.50380000000001},{"$f":"'[2]Weekly Pig prices'!AQ80","v":0},null,{"$f":"'[2]Weekly Pig prices'!$AR80","v":172.31012370000005},{"$f":"'[2]Weekly Pig prices'!AS80","v":1.2304998377714593E-3}]
["201313","2013-03-25",13,{"$f":"'[2]Weekly Pig prices'!D81","v":154.70000000000002},{"$f":"'[2]Weekly Pig prices'!E81","v":198.96210000000002},{"$f":"'[2]Weekly Pig prices'!F81","v":389.13},{"$f":"'[2]Weekly Pig prices'!G81","v":163.44040000000001},{"$f":"'[2]Weekly Pig prices'!H81","v":4212},{"$f":"'[2]Weekly Pig prices'!I81","v":154.4128},{"$f":"'[2]Weekly Pig prices'!J81","v":1151},{"$f":"'[2]Weekly Pig prices'!K81","v":171.36},{"$f":"'[2]Weekly Pig prices'!L81","v":169.4},{"$f":"'[2]Weekly Pig prices'!M81","v":198.16},{"$f":"'[2]Weekly Pig prices'!N81","v":189.34},{"$f":"'[2]Weekly Pig prices'!O81","v":164},{"$f":"'[2]Weekly Pig prices'!P81","v":""},{"$f":"'[2]Weekly Pig prices'!Q81","v":""},{"$f":"'[2]Weekly Pig prices'!R81","v":168.29},{"$f":"'[2]Weekly Pig prices'!S81","v":176.24},{"$f":"'[2]Weekly Pig prices'!T81","v":210},{"$f":"'[2]Weekly Pig prices'!U81","v":179.04330000000002},{"$f":"'[2]Weekly Pig prices'!V81","v":125.65},{"$f":"'[2]Weekly Pig prices'!W81","v":173.02190000000002},{"$f":"'[2]Weekly Pig prices'!X81","v":597.41},{"$f":"'[2]Weekly Pig prices'!Y81","v":170.3},{"$f":"'[2]Weekly Pig prices'!Z81","v":167.3152},{"$f":"'[2]Weekly Pig prices'!AA81","v":51044.99},{"$f":"'[2]Weekly Pig prices'!AB81","v":237},{"$f":"'[2]Weekly Pig prices'!AC81","v":154.54},{"$f":"'[2]Weekly Pig prices'!AD81","v":168.48},{"$f":"'[2]Weekly Pig prices'!AE81","v":170.15540000000001},{"$f":"'[2]Weekly Pig prices'!AF81","v":710.80000000000007},{"$f":"'[2]Weekly Pig prices'!AG81","v":181},{"$f":"'[2]Weekly Pig prices'!AH81","v":162.45529999999999},{"$f":"'[2]Weekly Pig prices'!AI81","v":717.86},{"$f":"'[2]Weekly Pig prices'!AJ81","v":160.95000000000002},{"$f":"'[2]Weekly Pig prices'!AK81","v":167.85},{"$f":"'[2]Weekly Pig prices'!AL81","v":183.73},{"$f":"'[2]Weekly Pig prices'!AM81","v":186.52070000000001},{"$f":"'[2]Weekly Pig prices'!AN81","v":1561},{"$f":"'[2]Weekly Pig prices'!AO81","v":180.88070000000002},{"$f":"'[2]Weekly Pig prices'!AQ81","v":0},null,{"$f":"'[2]Weekly Pig prices'!$AR81","v":171.03073219999999},{"$f":"'[2]Weekly Pig prices'!AS81","v":-7.4249351838870936E-3}]
["201314","2013-04-01",14,{"$f":"'[2]Weekly Pig prices'!D82","v":155.9},{"$f":"'[2]Weekly Pig prices'!E82","v":195.83290000000002},{"$f":"'[2]Weekly Pig prices'!F82","v":383.01},{"$f":"'[2]Weekly Pig prices'!G82","v":164.01520000000002},{"$f":"'[2]Weekly Pig prices'!H82","v":4230},{"$f":"'[2]Weekly Pig prices'!I82","v":154.40280000000001},{"$f":"'[2]Weekly Pig prices'!J82","v":1151},{"$f":"'[2]Weekly Pig prices'!K82","v":171.36},{"$f":"'[2]Weekly Pig prices'!L82","v":168.94},{"$f":"'[2]Weekly Pig prices'!M82","v":196.3},{"$f":"'[2]Weekly Pig prices'!N82","v":194.42000000000002},{"$f":"'[2]Weekly Pig prices'!O82","v":163},{"$f":"'[2]Weekly Pig prices'!P82","v":""},{"$f":"'[2]Weekly Pig prices'!Q82","v":""},{"$f":"'[2]Weekly Pig prices'!R82","v":168.39000000000001},{"$f":"'[2]Weekly Pig prices'!S82","v":172.31},{"$f":"'[2]Weekly Pig prices'!T82","v":209},{"$f":"'[2]Weekly Pig prices'!U82","v":178.8854},{"$f":"'[2]Weekly Pig prices'!V82","v":125.46000000000001},{"$f":"'[2]Weekly Pig prices'!W82","v":175.80510000000001},{"$f":"'[2]Weekly Pig prices'!X82","v":607.02},{"$f":"'[2]Weekly Pig prices'!Y82","v":168.5},{"$f":"'[2]Weekly Pig prices'!Z82","v":168.95340000000002},{"$f":"'[2]Weekly Pig prices'!AA82","v":51084.03},{"$f":"'[2]Weekly Pig prices'!AB82","v":237},{"$f":"'[2]Weekly Pig prices'!AC82","v":155.29},{"$f":"'[2]Weekly Pig prices'!AD82","v":168.21},{"$f":"'[2]Weekly Pig prices'!AE82","v":170.5061},{"$f":"'[2]Weekly Pig prices'!AF82","v":713.02},{"$f":"'[2]Weekly Pig prices'!AG82","v":181},{"$f":"'[2]Weekly Pig prices'!AH82","v":160.04140000000001},{"$f":"'[2]Weekly Pig prices'!AI82","v":707.52},{"$f":"'[2]Weekly Pig prices'!AJ82","v":162.01},{"$f":"'[2]Weekly Pig prices'!AK82","v":172.76},{"$f":"'[2]Weekly Pig prices'!AL82","v":184.36},{"$f":"'[2]Weekly Pig prices'!AM82","v":191.76580000000001},{"$f":"'[2]Weekly Pig prices'!AN82","v":1604},{"$f":"'[2]Weekly Pig prices'!AO82","v":181.34400000000002},{"$f":"'[2]Weekly Pig prices'!AQ82","v":0},null,{"$f":"'[2]Weekly Pig prices'!$AR82","v":171.73886270000003},{"$f":"'[2]Weekly Pig prices'!AS82","v":4.1403699258677484E-3}]
["201315","2013-04-08",15,{"$f":"'[2]Weekly Pig prices'!D83","v":155.6},{"$f":"'[2]Weekly Pig prices'!E83","v":194.96370000000002},{"$f":"'[2]Weekly Pig prices'!F83","v":381.31},{"$f":"'[2]Weekly Pig prices'!G83","v":163.92610000000002},{"$f":"'[2]Weekly Pig prices'!H83","v":4234},{"$f":"'[2]Weekly Pig prices'!I83","v":154.38470000000001},{"$f":"'[2]Weekly Pig prices'!J83","v":1151},{"$f":"'[2]Weekly Pig prices'!K83","v":172.38},{"$f":"'[2]Weekly Pig prices'!L83","v":167.94},{"$f":"'[2]Weekly Pig prices'!M83","v":194.44},{"$f":"'[2]Weekly Pig prices'!N83","v":192.8},{"$f":"'[2]Weekly Pig prices'!O83","v":161},{"$f":"'[2]Weekly Pig prices'!P83","v":""},{"$f":"'[2]Weekly Pig prices'!Q83","v":""},{"$f":"'[2]Weekly Pig prices'!R83","v":168.41},{"$f":"'[2]Weekly Pig prices'!S83","v":166.48},{"$f":"'[2]Weekly Pig prices'!T83","v":200},{"$f":"'[2]Weekly Pig prices'!U83","v":172.76340000000002},{"$f":"'[2]Weekly Pig prices'!V83","v":121.08},{"$f":"'[2]Weekly Pig prices'!W83","v":174.90730000000002},{"$f":"'[2]Weekly Pig prices'!X83","v":603.91999999999996},{"$f":"'[2]Weekly Pig prices'!Y83","v":170.70000000000002},{"$f":"'[2]Weekly Pig prices'!Z83","v":170.56380000000001},{"$f":"'[2]Weekly Pig prices'!AA83","v":50719.090000000004},{"$f":"'[2]Weekly Pig prices'!AB83","v":237},{"$f":"'[2]Weekly Pig prices'!AC83","v":155.52000000000001},{"$f":"'[2]Weekly Pig prices'!AD83","v":167.99},{"$f":"'[2]Weekly Pig prices'!AE83","v":173.5615},{"$f":"'[2]Weekly Pig prices'!AF83","v":715.79},{"$f":"'[2]Weekly Pig prices'!AG83","v":181},{"$f":"'[2]Weekly Pig prices'!AH83","v":159.92490000000001},{"$f":"'[2]Weekly Pig prices'!AI83","v":703.64},{"$f":"'[2]Weekly Pig prices'!AJ83","v":166.6},{"$f":"'[2]Weekly Pig prices'!AK83","v":169.9},{"$f":"'[2]Weekly Pig prices'!AL83","v":184.45000000000002},{"$f":"'[2]Weekly Pig prices'!AM83","v":187.40050000000002},{"$f":"'[2]Weekly Pig prices'!AN83","v":1565},{"$f":"'[2]Weekly Pig prices'!AO83","v":181.12120000000002},{"$f":"'[2]Weekly Pig prices'!AQ83","v":0},null,{"$f":"'[2]Weekly Pig prices'!$AR83","v":171.26631729999997},{"$f":"'[2]Weekly Pig prices'!AS83","v":-2.7515344667532471E-3}]
["201316","2013-04-15",16,{"$f":"'[2]Weekly Pig prices'!D84","v":156.80000000000001},{"$f":"'[2]Weekly Pig prices'!E84","v":194.96370000000002},{"$f":"'[2]Weekly Pig prices'!F84","v":381.31},{"$f":"'[2]Weekly Pig prices'!G84","v":163.3176},{"$f":"'[2]Weekly Pig prices'!H84","v":4224},{"$f":"'[2]Weekly Pig prices'!I84","v":154.3776},{"$f":"'[2]Weekly Pig prices'!J84","v":1151},{"$f":"'[2]Weekly Pig prices'!K84","v":173.4},{"$f":"'[2]Weekly Pig prices'!L84","v":168.57},{"$f":"'[2]Weekly Pig prices'!M84","v":192.21},{"$f":"'[2]Weekly Pig prices'!N84","v":192.11},{"$f":"'[2]Weekly Pig prices'!O84","v":159},{"$f":"'[2]Weekly Pig prices'!P84","v":""},{"$f":"'[2]Weekly Pig prices'!Q84","v":""},{"$f":"'[2]Weekly Pig prices'!R84","v":164.46},{"$f":"'[2]Weekly Pig prices'!S84","v":163.84},{"$f":"'[2]Weekly Pig prices'!T84","v":209},{"$f":"'[2]Weekly Pig prices'!U84","v":183.50570000000002},{"$f":"'[2]Weekly Pig prices'!V84","v":128.53},{"$f":"'[2]Weekly Pig prices'!W84","v":174.39760000000001},{"$f":"'[2]Weekly Pig prices'!X84","v":602.16},{"$f":"'[2]Weekly Pig prices'!Y84","v":172.6},{"$f":"'[2]Weekly Pig prices'!Z84","v":170.78300000000002},{"$f":"'[2]Weekly Pig prices'!AA84","v":50566.41},{"$f":"'[2]Weekly Pig prices'!AB84","v":237},{"$f":"'[2]Weekly Pig prices'!AC84","v":157.25},{"$f":"'[2]Weekly Pig prices'!AD84","v":168.02},{"$f":"'[2]Weekly Pig prices'!AE84","v":173.14860000000002},{"$f":"'[2]Weekly Pig prices'!AF84","v":711.47},{"$f":"'[2]Weekly Pig prices'!AG84","v":181},{"$f":"'[2]Weekly Pig prices'!AH84","v":159.79260000000002},{"$f":"'[2]Weekly Pig prices'!AI84","v":699.12},{"$f":"'[2]Weekly Pig prices'!AJ84","v":167.64000000000001},{"$f":"'[2]Weekly Pig prices'!AK84","v":169.18},{"$f":"'[2]Weekly Pig prices'!AL84","v":184.78},{"$f":"'[2]Weekly Pig prices'!AM84","v":185.64620000000002},{"$f":"'[2]Weekly Pig prices'!AN84","v":1567},{"$f":"'[2]Weekly Pig prices'!AO84","v":182.7552},{"$f":"'[2]Weekly Pig prices'!AQ84","v":0},null,{"$f":"'[2]Weekly Pig prices'!$AR84","v":171.16570609999999},{"$f":"'[2]Weekly Pig prices'!AS84","v":-5.8745468219378871E-4}]
["201317","2013-04-22",17,{"$f":"'[2]Weekly Pig prices'!D85","v":157},{"$f":"'[2]Weekly Pig prices'!E85","v":189.9632},{"$f":"'[2]Weekly Pig prices'!F85","v":371.53000000000003},{"$f":"'[2]Weekly Pig prices'!G85","v":165.1454},{"$f":"'[2]Weekly Pig prices'!H85","v":4270},{"$f":"'[2]Weekly Pig prices'!I85","v":154.3844},{"$f":"'[2]Weekly Pig prices'!J85","v":1151},{"$f":"'[2]Weekly Pig prices'!K85","v":170.34},{"$f":"'[2]Weekly Pig prices'!L85","v":172.41},{"$f":"'[2]Weekly Pig prices'!M85","v":192.21},{"$f":"'[2]Weekly Pig prices'!N85","v":192.08},{"$f":"'[2]Weekly Pig prices'!O85","v":156},{"$f":"'[2]Weekly Pig prices'!P85","v":""},{"$f":"'[2]Weekly Pig prices'!Q85","v":""},{"$f":"'[2]Weekly Pig prices'!R85","v":164.46},{"$f":"'[2]Weekly Pig prices'!S85","v":163.84},{"$f":"'[2]Weekly Pig prices'!T85","v":204},{"$f":"'[2]Weekly Pig prices'!U85","v":173.22890000000001},{"$f":"'[2]Weekly Pig prices'!V85","v":121.28},{"$f":"'[2]Weekly Pig prices'!W85","v":176.10060000000001},{"$f":"'[2]Weekly Pig prices'!X85","v":608.04},{"$f":"'[2]Weekly Pig prices'!Y85","v":172.6},{"$f":"'[2]Weekly Pig prices'!Z85","v":169.25580000000002},{"$f":"'[2]Weekly Pig prices'!AA85","v":50810.840000000004},{"$f":"'[2]Weekly Pig prices'!AB85","v":237},{"$f":"'[2]Weekly Pig prices'!AC85","v":157.24},{"$f":"'[2]Weekly Pig prices'!AD85","v":168},{"$f":"'[2]Weekly Pig prices'!AE85","v":171.5428},{"$f":"'[2]Weekly Pig prices'!AF85","v":709.30000000000007},{"$f":"'[2]Weekly Pig prices'!AG85","v":181},{"$f":"'[2]Weekly Pig prices'!AH85","v":162.25210000000001},{"$f":"'[2]Weekly Pig prices'!AI85","v":705.88},{"$f":"'[2]Weekly Pig prices'!AJ85","v":168.11},{"$f":"'[2]Weekly Pig prices'!AK85","v":168.81},{"$f":"'[2]Weekly Pig prices'!AL85","v":183.93},{"$f":"'[2]Weekly Pig prices'!AM85","v":182.1326},{"$f":"'[2]Weekly Pig prices'!AN85","v":1559},{"$f":"'[2]Weekly Pig prices'!AO85","v":184.5017},{"$f":"'[2]Weekly Pig prices'!AQ85","v":0},null,{"$f":"'[2]Weekly Pig prices'!$AR85","v":170.20644759999999},{"$f":"'[2]Weekly Pig prices'!AS85","v":-5.6042680619654561E-3}]
["201318","2013-04-29",18,{"$f":"'[2]Weekly Pig prices'!D86","v":152.5},{"$f":"'[2]Weekly Pig prices'!E86","v":188.53150000000002},{"$f":"'[2]Weekly Pig prices'!F86","v":368.73},{"$f":"'[2]Weekly Pig prices'!G86","v":168.30119999999999},{"$f":"'[2]Weekly Pig prices'!H86","v":4327},{"$f":"'[2]Weekly Pig prices'!I86","v":154.3877},{"$f":"'[2]Weekly Pig prices'!J86","v":1151},{"$f":"'[2]Weekly Pig prices'!K86","v":165.24},{"$f":"'[2]Weekly Pig prices'!L86","v":172.51},{"$f":"'[2]Weekly Pig prices'!M86","v":191.29},{"$f":"'[2]Weekly Pig prices'!N86","v":189.77},{"$f":"'[2]Weekly Pig prices'!O86","v":153},{"$f":"'[2]Weekly Pig prices'!P86","v":""},{"$f":"'[2]Weekly Pig prices'!Q86","v":""},{"$f":"'[2]Weekly Pig prices'!R86","v":164.43},{"$f":"'[2]Weekly Pig prices'!S86","v":163.84},{"$f":"'[2]Weekly Pig prices'!T86","v":210},{"$f":"'[2]Weekly Pig prices'!U86","v":178.5359},{"$f":"'[2]Weekly Pig prices'!V86","v":124.97},{"$f":"'[2]Weekly Pig prices'!W86","v":174.35990000000001},{"$f":"'[2]Weekly Pig prices'!X86","v":602.03},{"$f":"'[2]Weekly Pig prices'!Y86","v":170.70000000000002},{"$f":"'[2]Weekly Pig prices'!Z86","v":166.59790000000001},{"$f":"'[2]Weekly Pig prices'!AA86","v":49724.23},{"$f":"'[2]Weekly Pig prices'!AB86","v":237},{"$f":"'[2]Weekly Pig prices'!AC86","v":151.67000000000002},{"$f":"'[2]Weekly Pig prices'!AD86","v":161.85},{"$f":"'[2]Weekly Pig prices'!AE86","v":167.74520000000001},{"$f":"'[2]Weekly Pig prices'!AF86","v":695.39},{"$f":"'[2]Weekly Pig prices'!AG86","v":181},{"$f":"'[2]Weekly Pig prices'!AH86","v":165.06400000000002},{"$f":"'[2]Weekly Pig prices'!AI86","v":713.14},{"$f":"'[2]Weekly Pig prices'!AJ86","v":164.98},{"$f":"'[2]Weekly Pig prices'!AK86","v":170.54},{"$f":"'[2]Weekly Pig prices'!AL86","v":184.14000000000001},{"$f":"'[2]Weekly Pig prices'!AM86","v":182.12860000000001},{"$f":"'[2]Weekly Pig prices'!AN86","v":1556},{"$f":"'[2]Weekly Pig prices'!AO86","v":186.95430000000002},{"$f":"'[2]Weekly Pig prices'!AQ86","v":0},null,{"$f":"'[2]Weekly Pig prices'!$AR86","v":167.63951320000001},{"$f":"'[2]Weekly Pig prices'!AS86","v":-1.5081299423112871E-2}]
["201319","2013-05-06",19,{"$f":"'[2]Weekly Pig prices'!D87","v":147},{"$f":"'[2]Weekly Pig prices'!E87","v":186.73690000000002},{"$f":"'[2]Weekly Pig prices'!F87","v":365.22},{"$f":"'[2]Weekly Pig prices'!G87","v":167.36350000000002},{"$f":"'[2]Weekly Pig prices'!H87","v":4312},{"$f":"'[2]Weekly Pig prices'!I87","v":150.26150000000001},{"$f":"'[2]Weekly Pig prices'!J87","v":1120},{"$f":"'[2]Weekly Pig prices'!K87","v":163.20000000000002},{"$f":"'[2]Weekly Pig prices'!L87","v":173.23},{"$f":"'[2]Weekly Pig prices'!M87","v":191.29},{"$f":"'[2]Weekly Pig prices'!N87","v":186.64000000000001},{"$f":"'[2]Weekly Pig prices'!O87","v":153},{"$f":"'[2]Weekly Pig prices'!P87","v":""},{"$f":"'[2]Weekly Pig prices'!Q87","v":""},{"$f":"'[2]Weekly Pig prices'!R87","v":160.6},{"$f":"'[2]Weekly Pig prices'!S87","v":163.84},{"$f":"'[2]Weekly Pig prices'!T87","v":210},{"$f":"'[2]Weekly Pig prices'!U87","v":175.5607},{"$f":"'[2]Weekly Pig prices'!V87","v":122.89},{"$f":"'[2]Weekly Pig prices'!W87","v":172.21680000000001},{"$f":"'[2]Weekly Pig prices'!X87","v":594.63},{"$f":"'[2]Weekly Pig prices'!Y87","v":161.9},{"$f":"'[2]Weekly Pig prices'!Z87","v":165.67230000000001},{"$f":"'[2]Weekly Pig prices'!AA87","v":48792.15},{"$f":"'[2]Weekly Pig prices'!AB87","v":237},{"$f":"'[2]Weekly Pig prices'!AC87","v":147.75},{"$f":"'[2]Weekly Pig prices'!AD87","v":157.68},{"$f":"'[2]Weekly Pig prices'!AE87","v":164.99080000000001},{"$f":"'[2]Weekly Pig prices'!AF87","v":683.38},{"$f":"'[2]Weekly Pig prices'!AG87","v":177},{"$f":"'[2]Weekly Pig prices'!AH87","v":165.91240000000002},{"$f":"'[2]Weekly Pig prices'!AI87","v":716.5},{"$f":"'[2]Weekly Pig prices'!AJ87","v":158.09},{"$f":"'[2]Weekly Pig prices'!AK87","v":169.08},{"$f":"'[2]Weekly Pig prices'!AL87","v":181.35},{"$f":"'[2]Weekly Pig prices'!AM87","v":182.0368},{"$f":"'[2]Weekly Pig prices'!AN87","v":1555},{"$f":"'[2]Weekly Pig prices'!AO87","v":187.476},{"$f":"'[2]Weekly Pig prices'!AQ87","v":0},null,{"$f":"'[2]Weekly Pig prices'!$AR87","v":165.34650480000005},{"$f":"'[2]Weekly Pig prices'!AS87","v":-1.3678209607208336E-2}]
["201320","2013-05-13",20,{"$f":"'[2]Weekly Pig prices'!D88","v":146.6},{"$f":"'[2]Weekly Pig prices'!E88","v":186.73690000000002},{"$f":"'[2]Weekly Pig prices'!F88","v":365.22},{"$f":"'[2]Weekly Pig prices'!G88","v":165.30030000000002},{"$f":"'[2]Weekly Pig prices'!H88","v":4286},{"$f":"'[2]Weekly Pig prices'!I88","v":150.26609999999999},{"$f":"'[2]Weekly Pig prices'!J88","v":1120},{"$f":"'[2]Weekly Pig prices'!K88","v":163.20000000000002},{"$f":"'[2]Weekly Pig prices'!L88","v":172.84},{"$f":"'[2]Weekly Pig prices'!M88","v":191.29},{"$f":"'[2]Weekly Pig prices'!N88","v":182.86},{"$f":"'[2]Weekly Pig prices'!O88","v":154},{"$f":"'[2]Weekly Pig prices'!P88","v":""},{"$f":"'[2]Weekly Pig prices'!Q88","v":""},{"$f":"'[2]Weekly Pig prices'!R88","v":160.54},{"$f":"'[2]Weekly Pig prices'!S88","v":163.75},{"$f":"'[2]Weekly Pig prices'!T88","v":210},{"$f":"'[2]Weekly Pig prices'!U88","v":178.29910000000001},{"$f":"'[2]Weekly Pig prices'!V88","v":124.71000000000001},{"$f":"'[2]Weekly Pig prices'!W88","v":169.05119999999999},{"$f":"'[2]Weekly Pig prices'!X88","v":583.70000000000005},{"$f":"'[2]Weekly Pig prices'!Y88","v":162.80000000000001},{"$f":"'[2]Weekly Pig prices'!Z88","v":165.8109},{"$f":"'[2]Weekly Pig prices'!AA88","v":48462.74},{"$f":"'[2]Weekly Pig prices'!AB88","v":237},{"$f":"'[2]Weekly Pig prices'!AC88","v":147.72999999999999},{"$f":"'[2]Weekly Pig prices'!AD88","v":158.15},{"$f":"'[2]Weekly Pig prices'!AE88","v":163.06390000000002},{"$f":"'[2]Weekly Pig prices'!AF88","v":679.55000000000007},{"$f":"'[2]Weekly Pig prices'!AG88","v":175},{"$f":"'[2]Weekly Pig prices'!AH88","v":166.59820000000002},{"$f":"'[2]Weekly Pig prices'!AI88","v":721.82},{"$f":"'[2]Weekly Pig prices'!AJ88","v":157.26},{"$f":"'[2]Weekly Pig prices'!AK88","v":167.06},{"$f":"'[2]Weekly Pig prices'!AL88","v":179.94},{"$f":"'[2]Weekly Pig prices'!AM88","v":180.34310000000002},{"$f":"'[2]Weekly Pig prices'!AN88","v":1549},{"$f":"'[2]Weekly Pig prices'!AO88","v":188.68700000000001},{"$f":"'[2]Weekly Pig prices'!AQ88","v":0},null,{"$f":"'[2]Weekly Pig prices'!$AR88","v":164.56881370000002},{"$f":"'[2]Weekly Pig prices'!AS88","v":-4.7034021126767245E-3}]
["201321","2013-05-20",21,{"$f":"'[2]Weekly Pig prices'!D89","v":147.5},{"$f":"'[2]Weekly Pig prices'!E89","v":186.4812},{"$f":"'[2]Weekly Pig prices'!F89","v":364.72},{"$f":"'[2]Weekly Pig prices'!G89","v":164.67700000000002},{"$f":"'[2]Weekly Pig prices'!H89","v":4290},{"$f":"'[2]Weekly Pig prices'!I89","v":150.26730000000001},{"$f":"'[2]Weekly Pig prices'!J89","v":1120},{"$f":"'[2]Weekly Pig prices'!K89","v":163.20000000000002},{"$f":"'[2]Weekly Pig prices'!L89","v":171.5},{"$f":"'[2]Weekly Pig prices'!M89","v":191.21},{"$f":"'[2]Weekly Pig prices'!N89","v":184.84},{"$f":"'[2]Weekly Pig prices'!O89","v":154},{"$f":"'[2]Weekly Pig prices'!P89","v":""},{"$f":"'[2]Weekly Pig prices'!Q89","v":""},{"$f":"'[2]Weekly Pig prices'!R89","v":160.72999999999999},{"$f":"'[2]Weekly Pig prices'!S89","v":163.64000000000001},{"$f":"'[2]Weekly Pig prices'!T89","v":210},{"$f":"'[2]Weekly Pig prices'!U89","v":178.1499},{"$f":"'[2]Weekly Pig prices'!V89","v":124.71000000000001},{"$f":"'[2]Weekly Pig prices'!W89","v":173.45050000000001},{"$f":"'[2]Weekly Pig prices'!X89","v":598.89},{"$f":"'[2]Weekly Pig prices'!Y89","v":161.20000000000002},{"$f":"'[2]Weekly Pig prices'!Z89","v":166.8802},{"$f":"'[2]Weekly Pig prices'!AA89","v":48467.03},{"$f":"'[2]Weekly Pig prices'!AB89","v":237},{"$f":"'[2]Weekly Pig prices'!AC89","v":147.85},{"$f":"'[2]Weekly Pig prices'!AD89","v":157.81},{"$f":"'[2]Weekly Pig prices'!AE89","v":164.19490000000002},{"$f":"'[2]Weekly Pig prices'!AF89","v":687.89},{"$f":"'[2]Weekly Pig prices'!AG89","v":175},{"$f":"'[2]Weekly Pig prices'!AH89","v":166.6559},{"$f":"'[2]Weekly Pig prices'!AI89","v":725.12},{"$f":"'[2]Weekly Pig prices'!AJ89","v":158.01},{"$f":"'[2]Weekly Pig prices'!AK89","v":167.62},{"$f":"'[2]Weekly Pig prices'!AL89","v":177.96},{"$f":"'[2]Weekly Pig prices'!AM89","v":180.17750000000001},{"$f":"'[2]Weekly Pig prices'!AN89","v":1546},{"$f":"'[2]Weekly Pig prices'!AO89","v":188.2801},{"$f":"'[2]Weekly Pig prices'!AQ89","v":0},null,{"$f":"'[2]Weekly Pig prices'!$AR89","v":165.05326590000004},{"$f":"'[2]Weekly Pig prices'!AS89","v":2.9437667387159916E-3}]
["201322","2013-05-27",22,{"$f":"'[2]Weekly Pig prices'!D90","v":146.6},{"$f":"'[2]Weekly Pig prices'!E90","v":186.4812},{"$f":"'[2]Weekly Pig prices'!F90","v":364.72},{"$f":"'[2]Weekly Pig prices'!G90","v":166.67770000000002},{"$f":"'[2]Weekly Pig prices'!H90","v":4309},{"$f":"'[2]Weekly Pig prices'!I90","v":150.25030000000001},{"$f":"'[2]Weekly Pig prices'!J90","v":1120},{"$f":"'[2]Weekly Pig prices'!K90","v":163.20000000000002},{"$f":"'[2]Weekly Pig prices'!L90","v":172.93},{"$f":"'[2]Weekly Pig prices'!M90","v":189.8},{"$f":"'[2]Weekly Pig prices'!N90","v":184.78},{"$f":"'[2]Weekly Pig prices'!O90","v":155},{"$f":"'[2]Weekly Pig prices'!P90","v":""},{"$f":"'[2]Weekly Pig prices'!Q90","v":""},{"$f":"'[2]Weekly Pig prices'!R90","v":160.99},{"$f":"'[2]Weekly Pig prices'!S90","v":163.55000000000001},{"$f":"'[2]Weekly Pig prices'!T90","v":209},{"$f":"'[2]Weekly Pig prices'!U90","v":179.1387},{"$f":"'[2]Weekly Pig prices'!V90","v":125.63000000000001},{"$f":"'[2]Weekly Pig prices'!W90","v":171.9503},{"$f":"'[2]Weekly Pig prices'!X90","v":593.71},{"$f":"'[2]Weekly Pig prices'!Y90","v":161.4},{"$f":"'[2]Weekly Pig prices'!Z90","v":166.56450000000001},{"$f":"'[2]Weekly Pig prices'!AA90","v":48519.3},{"$f":"'[2]Weekly Pig prices'!AB90","v":237},{"$f":"'[2]Weekly Pig prices'!AC90","v":147.78},{"$f":"'[2]Weekly Pig prices'!AD90","v":157.81},{"$f":"'[2]Weekly Pig prices'!AE90","v":164.4872},{"$f":"'[2]Weekly Pig prices'!AF90","v":696.07},{"$f":"'[2]Weekly Pig prices'!AG90","v":173},{"$f":"'[2]Weekly Pig prices'!AH90","v":169.2276},{"$f":"'[2]Weekly Pig prices'!AI90","v":736.95},{"$f":"'[2]Weekly Pig prices'!AJ90","v":157.29},{"$f":"'[2]Weekly Pig prices'!AK90","v":169.70000000000002},{"$f":"'[2]Weekly Pig prices'!AL90","v":179.85},{"$f":"'[2]Weekly Pig prices'!AM90","v":179.40180000000001},{"$f":"'[2]Weekly Pig prices'!AN90","v":1541},{"$f":"'[2]Weekly Pig prices'!AO90","v":188.05240000000001},{"$f":"'[2]Weekly Pig prices'!AQ90","v":0},null,{"$f":"'[2]Weekly Pig prices'!$AR90","v":165.1883809},{"$f":"'[2]Weekly Pig prices'!AS90","v":8.1861451976239508E-4}]
["201323","2013-06-03",23,{"$f":"'[2]Weekly Pig prices'!D91","v":147},{"$f":"'[2]Weekly Pig prices'!E91","v":186.108},{"$f":"'[2]Weekly Pig prices'!F91","v":363.99},{"$f":"'[2]Weekly Pig prices'!G91","v":168.50460000000001},{"$f":"'[2]Weekly Pig prices'!H91","v":4333},{"$f":"'[2]Weekly Pig prices'!I91","v":150.23390000000001},{"$f":"'[2]Weekly Pig prices'!J91","v":1120},{"$f":"'[2]Weekly Pig prices'!K91","v":167.28},{"$f":"'[2]Weekly Pig prices'!L91","v":170.23},{"$f":"'[2]Weekly Pig prices'!M91","v":189.8},{"$f":"'[2]Weekly Pig prices'!N91","v":186.55},{"$f":"'[2]Weekly Pig prices'!O91","v":157},{"$f":"'[2]Weekly Pig prices'!P91","v":""},{"$f":"'[2]Weekly Pig prices'!Q91","v":""},{"$f":"'[2]Weekly Pig prices'!R91","v":160.77000000000001},{"$f":"'[2]Weekly Pig prices'!S91","v":164.66},{"$f":"'[2]Weekly Pig prices'!T91","v":209},{"$f":"'[2]Weekly Pig prices'!U91","v":176.68100000000001},{"$f":"'[2]Weekly Pig prices'!V91","v":124.02},{"$f":"'[2]Weekly Pig prices'!W91","v":172.93790000000001},{"$f":"'[2]Weekly Pig prices'!X91","v":597.12},{"$f":"'[2]Weekly Pig prices'!Y91","v":166.3},{"$f":"'[2]Weekly Pig prices'!Z91","v":166.83360000000002},{"$f":"'[2]Weekly Pig prices'!AA91","v":49252.15},{"$f":"'[2]Weekly Pig prices'!AB91","v":237},{"$f":"'[2]Weekly Pig prices'!AC91","v":148.92000000000002},{"$f":"'[2]Weekly Pig prices'!AD91","v":160.14000000000001},{"$f":"'[2]Weekly Pig prices'!AE91","v":168.5171},{"$f":"'[2]Weekly Pig prices'!AF91","v":720.17},{"$f":"'[2]Weekly Pig prices'!AG91","v":174},{"$f":"'[2]Weekly Pig prices'!AH91","v":167.7704},{"$f":"'[2]Weekly Pig prices'!AI91","v":747.82},{"$f":"'[2]Weekly Pig prices'!AJ91","v":159.41},{"$f":"'[2]Weekly Pig prices'!AK91","v":168.34},{"$f":"'[2]Weekly Pig prices'!AL91","v":177.19},{"$f":"'[2]Weekly Pig prices'!AM91","v":196.74980000000002},{"$f":"'[2]Weekly Pig prices'!AN91","v":1696},{"$f":"'[2]Weekly Pig prices'!AO91","v":188.96710000000002},{"$f":"'[2]Weekly Pig prices'!AQ91","v":0},null,{"$f":"'[2]Weekly Pig prices'!$AR91","v":167.18911910000003},{"$f":"'[2]Weekly Pig prices'!AS91","v":1.2111857923053471E-2}]
["201324","2013-06-10",24,{"$f":"'[2]Weekly Pig prices'!D92","v":155.4},{"$f":"'[2]Weekly Pig prices'!E92","v":185.68870000000001},{"$f":"'[2]Weekly Pig prices'!F92","v":363.17},{"$f":"'[2]Weekly Pig prices'!G92","v":170.17680000000001},{"$f":"'[2]Weekly Pig prices'!H92","v":4368},{"$f":"'[2]Weekly Pig prices'!I92","v":153.1309},{"$f":"'[2]Weekly Pig prices'!J92","v":1142},{"$f":"'[2]Weekly Pig prices'!K92","v":171.36},{"$f":"'[2]Weekly Pig prices'!L92","v":169.19},{"$f":"'[2]Weekly Pig prices'!M92","v":189.24},{"$f":"'[2]Weekly Pig prices'!N92","v":189.48},{"$f":"'[2]Weekly Pig prices'!O92","v":162},{"$f":"'[2]Weekly Pig prices'!P92","v":""},{"$f":"'[2]Weekly Pig prices'!Q92","v":""},{"$f":"'[2]Weekly Pig prices'!R92","v":160.96},{"$f":"'[2]Weekly Pig prices'!S92","v":169.68},{"$f":"'[2]Weekly Pig prices'!T92","v":209},{"$f":"'[2]Weekly Pig prices'!U92","v":175.68040000000002},{"$f":"'[2]Weekly Pig prices'!V92","v":123.3},{"$f":"'[2]Weekly Pig prices'!W92","v":176.72030000000001},{"$f":"'[2]Weekly Pig prices'!X92","v":610.18000000000006},{"$f":"'[2]Weekly Pig prices'!Y92","v":163.9},{"$f":"'[2]Weekly Pig prices'!Z92","v":173.5181},{"$f":"'[2]Weekly Pig prices'!AA92","v":51229.97},{"$f":"'[2]Weekly Pig prices'!AB92","v":237},{"$f":"'[2]Weekly Pig prices'!AC92","v":156.26},{"$f":"'[2]Weekly Pig prices'!AD92","v":167.94},{"$f":"'[2]Weekly Pig prices'!AE92","v":173.2433},{"$f":"'[2]Weekly Pig prices'!AF92","v":738.14},{"$f":"'[2]Weekly Pig prices'!AG92","v":179},{"$f":"'[2]Weekly Pig prices'!AH92","v":169.8921},{"$f":"'[2]Weekly Pig prices'!AI92","v":763.67},{"$f":"'[2]Weekly Pig prices'!AJ92","v":165.99},{"$f":"'[2]Weekly Pig prices'!AK92","v":172.4},{"$f":"'[2]Weekly Pig prices'!AL92","v":178.66},{"$f":"'[2]Weekly Pig prices'!AM92","v":195.49630000000002},{"$f":"'[2]Weekly Pig prices'!AN92","v":1696},{"$f":"'[2]Weekly Pig prices'!AO92","v":190.60830000000001},{"$f":"'[2]Weekly Pig prices'!AQ92","v":0},null,{"$f":"'[2]Weekly Pig prices'!$AR92","v":171.38592820000002},{"$f":"'[2]Weekly Pig prices'!AS92","v":2.5102166472267706E-2}]
["201325","2013-06-17",25,{"$f":"'[2]Weekly Pig prices'!D93","v":155.4},{"$f":"'[2]Weekly Pig prices'!E93","v":185.68870000000001},{"$f":"'[2]Weekly Pig prices'!F93","v":363.17},{"$f":"'[2]Weekly Pig prices'!G93","v":172.8409},{"$f":"'[2]Weekly Pig prices'!H93","v":4451},{"$f":"'[2]Weekly Pig prices'!I93","v":155.79060000000001},{"$f":"'[2]Weekly Pig prices'!J93","v":1162},{"$f":"'[2]Weekly Pig prices'!K93","v":173.4},{"$f":"'[2]Weekly Pig prices'!L93","v":170.41},{"$f":"'[2]Weekly Pig prices'!M93","v":190.17000000000002},{"$f":"'[2]Weekly Pig prices'!N93","v":195.64000000000001},{"$f":"'[2]Weekly Pig prices'!O93","v":168},{"$f":"'[2]Weekly Pig prices'!P93","v":""},{"$f":"'[2]Weekly Pig prices'!Q93","v":""},{"$f":"'[2]Weekly Pig prices'!R93","v":160.95000000000002},{"$f":"'[2]Weekly Pig prices'!S93","v":179.01},{"$f":"'[2]Weekly Pig prices'!T93","v":209},{"$f":"'[2]Weekly Pig prices'!U93","v":180.23090000000002},{"$f":"'[2]Weekly Pig prices'!V93","v":126.45},{"$f":"'[2]Weekly Pig prices'!W93","v":178.82300000000001},{"$f":"'[2]Weekly Pig prices'!X93","v":617.44000000000005},{"$f":"'[2]Weekly Pig prices'!Y93","v":168.1},{"$f":"'[2]Weekly Pig prices'!Z93","v":173.78110000000001},{"$f":"'[2]Weekly Pig prices'!AA93","v":51294.21},{"$f":"'[2]Weekly Pig prices'!AB93","v":237},{"$f":"'[2]Weekly Pig prices'!AC93","v":156.49},{"$f":"'[2]Weekly Pig prices'!AD93","v":171.46},{"$f":"'[2]Weekly Pig prices'!AE93","v":175.7945},{"$f":"'[2]Weekly Pig prices'!AF93","v":752.29},{"$f":"'[2]Weekly Pig prices'!AG93","v":184},{"$f":"'[2]Weekly Pig prices'!AH93","v":175.7022},{"$f":"'[2]Weekly Pig prices'!AI93","v":790.74},{"$f":"'[2]Weekly Pig prices'!AJ93","v":169.15},{"$f":"'[2]Weekly Pig prices'!AK93","v":174.53},{"$f":"'[2]Weekly Pig prices'!AL93","v":176.56},{"$f":"'[2]Weekly Pig prices'!AM93","v":196.2501},{"$f":"'[2]Weekly Pig prices'!AN93","v":1697},{"$f":"'[2]Weekly Pig prices'!AO93","v":191.04179999999999},{"$f":"'[2]Weekly Pig prices'!AQ93","v":0},null,{"$f":"'[2]Weekly Pig prices'!$AR93","v":174.87595180000005},{"$f":"'[2]Weekly Pig prices'!AS93","v":2.0363536473819055E-2}]
["201326","2013-06-24",26,{"$f":"'[2]Weekly Pig prices'!D94","v":159.80000000000001},{"$f":"'[2]Weekly Pig prices'!E94","v":185.68870000000001},{"$f":"'[2]Weekly Pig prices'!F94","v":363.17},{"$f":"'[2]Weekly Pig prices'!G94","v":172.6386},{"$f":"'[2]Weekly Pig prices'!H94","v":4467},{"$f":"'[2]Weekly Pig prices'!I94","v":158.5994},{"$f":"'[2]Weekly Pig prices'!J94","v":1183},{"$f":"'[2]Weekly Pig prices'!K94","v":173.4},{"$f":"'[2]Weekly Pig prices'!L94","v":169.99},{"$f":"'[2]Weekly Pig prices'!M94","v":190.73},{"$f":"'[2]Weekly Pig prices'!N94","v":196.4},{"$f":"'[2]Weekly Pig prices'!O94","v":170},{"$f":"'[2]Weekly Pig prices'!P94","v":""},{"$f":"'[2]Weekly Pig prices'!Q94","v":""},{"$f":"'[2]Weekly Pig prices'!R94","v":160.92000000000002},{"$f":"'[2]Weekly Pig prices'!S94","v":184.88},{"$f":"'[2]Weekly Pig prices'!T94","v":209},{"$f":"'[2]Weekly Pig prices'!U94","v":185.416},{"$f":"'[2]Weekly Pig prices'!V94","v":130.17000000000002},{"$f":"'[2]Weekly Pig prices'!W94","v":178.58840000000001},{"$f":"'[2]Weekly Pig prices'!X94","v":616.63},{"$f":"'[2]Weekly Pig prices'!Y94","v":170.9},{"$f":"'[2]Weekly Pig prices'!Z94","v":177.97620000000001},{"$f":"'[2]Weekly Pig prices'!AA94","v":52824.61},{"$f":"'[2]Weekly Pig prices'!AB94","v":237},{"$f":"'[2]Weekly Pig prices'!AC94","v":160.46},{"$f":"'[2]Weekly Pig prices'!AD94","v":173.73},{"$f":"'[2]Weekly Pig prices'!AE94","v":176.40810000000002},{"$f":"'[2]Weekly Pig prices'!AF94","v":764.55000000000007},{"$f":"'[2]Weekly Pig prices'!AG94","v":187},{"$f":"'[2]Weekly Pig prices'!AH94","v":182.74350000000001},{"$f":"'[2]Weekly Pig prices'!AI94","v":818.91},{"$f":"'[2]Weekly Pig prices'!AJ94","v":170.16},{"$f":"'[2]Weekly Pig prices'!AK94","v":180.92000000000002},{"$f":"'[2]Weekly Pig prices'!AL94","v":176.89000000000001},{"$f":"'[2]Weekly Pig prices'!AM94","v":193.40130000000002},{"$f":"'[2]Weekly Pig prices'!AN94","v":1697},{"$f":"'[2]Weekly Pig prices'!AO94","v":192.44060000000002},{"$f":"'[2]Weekly Pig prices'!AQ94","v":0},null,{"$f":"'[2]Weekly Pig prices'!$AR94","v":176.84180550000005},{"$f":"'[2]Weekly Pig prices'!AS94","v":1.1241418158216998E-2}]
["201327","2013-07-01",27,{"$f":"'[2]Weekly Pig prices'!D95","v":159.6},{"$f":"'[2]Weekly Pig prices'!E95","v":186.08750000000001},{"$f":"'[2]Weekly Pig prices'!F95","v":363.95},{"$f":"'[2]Weekly Pig prices'!G95","v":174.48770000000002},{"$f":"'[2]Weekly Pig prices'!H95","v":4530},{"$f":"'[2]Weekly Pig prices'!I95","v":158.58700000000002},{"$f":"'[2]Weekly Pig prices'!J95","v":1183},{"$f":"'[2]Weekly Pig prices'!K95","v":171.36},{"$f":"'[2]Weekly Pig prices'!L95","v":173.54},{"$f":"'[2]Weekly Pig prices'!M95","v":193.14000000000001},{"$f":"'[2]Weekly Pig prices'!N95","v":196.16},{"$f":"'[2]Weekly Pig prices'!O95","v":170},{"$f":"'[2]Weekly Pig prices'!P95","v":180.13510000000002},{"$f":"'[2]Weekly Pig prices'!Q95","v":1346},{"$f":"'[2]Weekly Pig prices'!R95","v":160.95000000000002},{"$f":"'[2]Weekly Pig prices'!S95","v":186.17000000000002},{"$f":"'[2]Weekly Pig prices'!T95","v":209},{"$f":"'[2]Weekly Pig prices'!U95","v":188.2336},{"$f":"'[2]Weekly Pig prices'!V95","v":132.14000000000001},{"$f":"'[2]Weekly Pig prices'!W95","v":181.5599},{"$f":"'[2]Weekly Pig prices'!X95","v":626.89},{"$f":"'[2]Weekly Pig prices'!Y95","v":168},{"$f":"'[2]Weekly Pig prices'!Z95","v":176.72380000000001},{"$f":"'[2]Weekly Pig prices'!AA95","v":52071.15},{"$f":"'[2]Weekly Pig prices'!AB95","v":237},{"$f":"'[2]Weekly Pig prices'!AC95","v":154.91},{"$f":"'[2]Weekly Pig prices'!AD95","v":173.47},{"$f":"'[2]Weekly Pig prices'!AE95","v":175.6764},{"$f":"'[2]Weekly Pig prices'!AF95","v":758.36},{"$f":"'[2]Weekly Pig prices'!AG95","v":187},{"$f":"'[2]Weekly Pig prices'!AH95","v":188.92490000000001},{"$f":"'[2]Weekly Pig prices'!AI95","v":839.79},{"$f":"'[2]Weekly Pig prices'!AJ95","v":168.1},{"$f":"'[2]Weekly Pig prices'!AK95","v":181.35},{"$f":"'[2]Weekly Pig prices'!AL95","v":176.67000000000002},{"$f":"'[2]Weekly Pig prices'!AM95","v":194.58940000000001},{"$f":"'[2]Weekly Pig prices'!AN95","v":1693},{"$f":"'[2]Weekly Pig prices'!AO95","v":192.20850000000002},{"$f":"'[2]Weekly Pig prices'!AQ95","v":0},null,{"$f":"'[2]Weekly Pig prices'!$AR95","v":176.14189480000002},{"$f":"'[2]Weekly Pig prices'!AS95","v":-3.957835071979221E-3}]
["201327","2013-07-08",28,{"$f":"'[2]Weekly Pig prices'!D96","v":157.80000000000001},{"$f":"'[2]Weekly Pig prices'!E96","v":186.08750000000001},{"$f":"'[2]Weekly Pig prices'!F96","v":363.95},{"$f":"'[2]Weekly Pig prices'!G96","v":174.67490000000001},{"$f":"'[2]Weekly Pig prices'!H96","v":4527},{"$f":"'[2]Weekly Pig prices'!I96","v":158.60820000000001},{"$f":"'[2]Weekly Pig prices'!J96","v":1183},{"$f":"'[2]Weekly Pig prices'!K96","v":174.42000000000002},{"$f":"'[2]Weekly Pig prices'!L96","v":173.76},{"$f":"'[2]Weekly Pig prices'!M96","v":193.14000000000001},{"$f":"'[2]Weekly Pig prices'!N96","v":202.52},{"$f":"'[2]Weekly Pig prices'!O96","v":168},{"$f":"'[2]Weekly Pig prices'!P96","v":179.89330000000001},{"$f":"'[2]Weekly Pig prices'!Q96","v":1354},{"$f":"'[2]Weekly Pig prices'!R96","v":161.56},{"$f":"'[2]Weekly Pig prices'!S96","v":191.44},{"$f":"'[2]Weekly Pig prices'!T96","v":210},{"$f":"'[2]Weekly Pig prices'!U96","v":186.6353},{"$f":"'[2]Weekly Pig prices'!V96","v":131.09},{"$f":"'[2]Weekly Pig prices'!W96","v":180.93720000000002},{"$f":"'[2]Weekly Pig prices'!X96","v":624.74},{"$f":"'[2]Weekly Pig prices'!Y96","v":169.1},{"$f":"'[2]Weekly Pig prices'!Z96","v":176.74200000000002},{"$f":"'[2]Weekly Pig prices'!AA96","v":51870.74},{"$f":"'[2]Weekly Pig prices'!AB96","v":237},{"$f":"'[2]Weekly Pig prices'!AC96","v":156.85},{"$f":"'[2]Weekly Pig prices'!AD96","v":173.48},{"$f":"'[2]Weekly Pig prices'!AE96","v":174.55460000000002},{"$f":"'[2]Weekly Pig prices'!AF96","v":753.4},{"$f":"'[2]Weekly Pig prices'!AG96","v":187},{"$f":"'[2]Weekly Pig prices'!AH96","v":193.4639},{"$f":"'[2]Weekly Pig prices'!AI96","v":857.96},{"$f":"'[2]Weekly Pig prices'!AJ96","v":170.04},{"$f":"'[2]Weekly Pig prices'!AK96","v":183.72},{"$f":"'[2]Weekly Pig prices'!AL96","v":176.37},{"$f":"'[2]Weekly Pig prices'!AM96","v":195.33250000000001},{"$f":"'[2]Weekly Pig prices'!AN96","v":1701},{"$f":"'[2]Weekly Pig prices'!AO96","v":191.39780000000002},{"$f":"'[2]Weekly Pig prices'!AQ96","v":0},null,{"$f":"'[2]Weekly Pig prices'!$AR96","v":178.10819380000001},{"$f":"'[2]Weekly Pig prices'!AS96","v":1.116315344644514E-2}]
["201327","2013-07-15",29,{"$f":"'[2]Weekly Pig prices'!D97","v":163.80000000000001},{"$f":"'[2]Weekly Pig prices'!E97","v":185.9444},{"$f":"'[2]Weekly Pig prices'!F97","v":363.67},{"$f":"'[2]Weekly Pig prices'!G97","v":174.81120000000001},{"$f":"'[2]Weekly Pig prices'!H97","v":4537},{"$f":"'[2]Weekly Pig prices'!I97","v":158.63380000000001},{"$f":"'[2]Weekly Pig prices'!J97","v":1183},{"$f":"'[2]Weekly Pig prices'!K97","v":179.52},{"$f":"'[2]Weekly Pig prices'!L97","v":173.61},{"$f":"'[2]Weekly Pig prices'!M97","v":197.41},{"$f":"'[2]Weekly Pig prices'!N97","v":206.21},{"$f":"'[2]Weekly Pig prices'!O97","v":173},{"$f":"'[2]Weekly Pig prices'!P97","v":183.21510000000001},{"$f":"'[2]Weekly Pig prices'!Q97","v":1378},{"$f":"'[2]Weekly Pig prices'!R97","v":161.59},{"$f":"'[2]Weekly Pig prices'!S97","v":197.27},{"$f":"'[2]Weekly Pig prices'!T97","v":210},{"$f":"'[2]Weekly Pig prices'!U97","v":188.7895},{"$f":"'[2]Weekly Pig prices'!V97","v":132.63},{"$f":"'[2]Weekly Pig prices'!W97","v":183.79},{"$f":"'[2]Weekly Pig prices'!X97","v":634.59},{"$f":"'[2]Weekly Pig prices'!Y97","v":175.4},{"$f":"'[2]Weekly Pig prices'!Z97","v":178.8596},{"$f":"'[2]Weekly Pig prices'!AA97","v":52569.64},{"$f":"'[2]Weekly Pig prices'!AB97","v":237},{"$f":"'[2]Weekly Pig prices'!AC97","v":162.47999999999999},{"$f":"'[2]Weekly Pig prices'!AD97","v":178.68},{"$f":"'[2]Weekly Pig prices'!AE97","v":181.2114},{"$f":"'[2]Weekly Pig prices'!AF97","v":773.11},{"$f":"'[2]Weekly Pig prices'!AG97","v":187},{"$f":"'[2]Weekly Pig prices'!AH97","v":195.9469},{"$f":"'[2]Weekly Pig prices'!AI97","v":868.14},{"$f":"'[2]Weekly Pig prices'!AJ97","v":172.59},{"$f":"'[2]Weekly Pig prices'!AK97","v":184.20000000000002},{"$f":"'[2]Weekly Pig prices'!AL97","v":174.79},{"$f":"'[2]Weekly Pig prices'!AM97","v":195.98650000000001},{"$f":"'[2]Weekly Pig prices'!AN97","v":1696},{"$f":"'[2]Weekly Pig prices'!AO97","v":191.2741},{"$f":"'[2]Weekly Pig prices'!AQ97","v":0},null,{"$f":"'[2]Weekly Pig prices'!$AR97","v":182.0908455},{"$f":"'[2]Weekly Pig prices'!AS97","v":2.2360856146080188E-2}]
["201327","2013-07-22",30,{"$f":"'[2]Weekly Pig prices'!D98","v":169.5},{"$f":"'[2]Weekly Pig prices'!E98","v":186.108},{"$f":"'[2]Weekly Pig prices'!F98","v":363.99},{"$f":"'[2]Weekly Pig prices'!G98","v":177.93900000000002},{"$f":"'[2]Weekly Pig prices'!H98","v":4618},{"$f":"'[2]Weekly Pig prices'!I98","v":161.3169},{"$f":"'[2]Weekly Pig prices'!J98","v":1203},{"$f":"'[2]Weekly Pig prices'!K98","v":183.6},{"$f":"'[2]Weekly Pig prices'!L98","v":173.61},{"$f":"'[2]Weekly Pig prices'!M98","v":198.16},{"$f":"'[2]Weekly Pig prices'!N98","v":207.39000000000001},{"$f":"'[2]Weekly Pig prices'!O98","v":177},{"$f":"'[2]Weekly Pig prices'!P98","v":187.2028},{"$f":"'[2]Weekly Pig prices'!Q98","v":1405},{"$f":"'[2]Weekly Pig prices'!R98","v":161.83000000000001},{"$f":"'[2]Weekly Pig prices'!S98","v":202.83},{"$f":"'[2]Weekly Pig prices'!T98","v":209},{"$f":"'[2]Weekly Pig prices'!U98","v":191.67010000000002},{"$f":"'[2]Weekly Pig prices'!V98","v":134.64000000000001},{"$f":"'[2]Weekly Pig prices'!W98","v":184.64150000000001},{"$f":"'[2]Weekly Pig prices'!X98","v":637.53},{"$f":"'[2]Weekly Pig prices'!Y98","v":179.8},{"$f":"'[2]Weekly Pig prices'!Z98","v":182.22560000000001},{"$f":"'[2]Weekly Pig prices'!AA98","v":53873.97},{"$f":"'[2]Weekly Pig prices'!AB98","v":237},{"$f":"'[2]Weekly Pig prices'!AC98","v":168.13},{"$f":"'[2]Weekly Pig prices'!AD98","v":183.93},{"$f":"'[2]Weekly Pig prices'!AE98","v":185.39660000000001},{"$f":"'[2]Weekly Pig prices'!AF98","v":784.09},{"$f":"'[2]Weekly Pig prices'!AG98","v":193},{"$f":"'[2]Weekly Pig prices'!AH98","v":199.63730000000001},{"$f":"'[2]Weekly Pig prices'!AI98","v":878.98},{"$f":"'[2]Weekly Pig prices'!AJ98","v":175.92000000000002},{"$f":"'[2]Weekly Pig prices'!AK98","v":189.21},{"$f":"'[2]Weekly Pig prices'!AL98","v":176.87},{"$f":"'[2]Weekly Pig prices'!AM98","v":198.16040000000001},{"$f":"'[2]Weekly Pig prices'!AN98","v":1701},{"$f":"'[2]Weekly Pig prices'!AO98","v":190.5839},{"$f":"'[2]Weekly Pig prices'!AQ98","v":0},null,{"$f":"'[2]Weekly Pig prices'!$AR98","v":185.55880829999998},{"$f":"'[2]Weekly Pig prices'!AS98","v":1.9045234209756012E-2}]
["201327","2013-07-29",31,{"$f":"'[2]Weekly Pig prices'!D99","v":169.6},{"$f":"'[2]Weekly Pig prices'!E99","v":186.108},{"$f":"'[2]Weekly Pig prices'!F99","v":363.99},{"$f":"'[2]Weekly Pig prices'!G99","v":181.01050000000001},{"$f":"'[2]Weekly Pig prices'!H99","v":4692},{"$f":"'[2]Weekly Pig prices'!I99","v":164.0472},{"$f":"'[2]Weekly Pig prices'!J99","v":1223},{"$f":"'[2]Weekly Pig prices'!K99","v":183.6},{"$f":"'[2]Weekly Pig prices'!L99","v":174.87},{"$f":"'[2]Weekly Pig prices'!M99","v":198.71},{"$f":"'[2]Weekly Pig prices'!N99","v":210.20000000000002},{"$f":"'[2]Weekly Pig prices'!O99","v":178},{"$f":"'[2]Weekly Pig prices'!P99","v":187.1636},{"$f":"'[2]Weekly Pig prices'!Q99","v":1406},{"$f":"'[2]Weekly Pig prices'!R99","v":161.93},{"$f":"'[2]Weekly Pig prices'!S99","v":206.48000000000002},{"$f":"'[2]Weekly Pig prices'!T99","v":209},{"$f":"'[2]Weekly Pig prices'!U99","v":202.59},{"$f":"'[2]Weekly Pig prices'!V99","v":142.36000000000001},{"$f":"'[2]Weekly Pig prices'!W99","v":192.13680000000002},{"$f":"'[2]Weekly Pig prices'!X99","v":663.41},{"$f":"'[2]Weekly Pig prices'!Y99","v":180.20000000000002},{"$f":"'[2]Weekly Pig prices'!Z99","v":182.76660000000001},{"$f":"'[2]Weekly Pig prices'!AA99","v":54635.200000000004},{"$f":"'[2]Weekly Pig prices'!AB99","v":237},{"$f":"'[2]Weekly Pig prices'!AC99","v":168.12},{"$f":"'[2]Weekly Pig prices'!AD99","v":183.84},{"$f":"'[2]Weekly Pig prices'!AE99","v":185.41910000000001},{"$f":"'[2]Weekly Pig prices'!AF99","v":786.01},{"$f":"'[2]Weekly Pig prices'!AG99","v":195},{"$f":"'[2]Weekly Pig prices'!AH99","v":201.62730000000002},{"$f":"'[2]Weekly Pig prices'!AI99","v":889.62},{"$f":"'[2]Weekly Pig prices'!AJ99","v":177.1},{"$f":"'[2]Weekly Pig prices'!AK99","v":191.17000000000002},{"$f":"'[2]Weekly Pig prices'!AL99","v":176.77},{"$f":"'[2]Weekly Pig prices'!AM99","v":195.19320000000002},{"$f":"'[2]Weekly Pig prices'!AN99","v":1696},{"$f":"'[2]Weekly Pig prices'!AO99","v":189.041},{"$f":"'[2]Weekly Pig prices'!AQ99","v":0},null,{"$f":"'[2]Weekly Pig prices'!$AR99","v":186.7248448},{"$f":"'[2]Weekly Pig prices'!AS99","v":6.283918886323292E-3}]
["201300","2013-08-05",32,{"$f":"'[2]Weekly Pig prices'!D100","v":169.4},{"$f":"'[2]Weekly Pig prices'!E100","v":201.96340000000001},{"$f":"'[2]Weekly Pig prices'!F100","v":395},{"$f":"'[2]Weekly Pig prices'!G100","v":180.96},{"$f":"'[2]Weekly Pig prices'!H100","v":4691},{"$f":"'[2]Weekly Pig prices'!I100","v":164.01609999999999},{"$f":"'[2]Weekly Pig prices'!J100","v":1223},{"$f":"'[2]Weekly Pig prices'!K100","v":184.62},{"$f":"'[2]Weekly Pig prices'!L100","v":175.52},{"$f":"'[2]Weekly Pig prices'!M100","v":198.71},{"$f":"'[2]Weekly Pig prices'!N100","v":211},{"$f":"'[2]Weekly Pig prices'!O100","v":179},{"$f":"'[2]Weekly Pig prices'!P100","v":186.48350000000002},{"$f":"'[2]Weekly Pig prices'!Q100","v":1401},{"$f":"'[2]Weekly Pig prices'!R100","v":161.95000000000002},{"$f":"'[2]Weekly Pig prices'!S100","v":206.6},{"$f":"'[2]Weekly Pig prices'!T100","v":209},{"$f":"'[2]Weekly Pig prices'!U100","v":199.14840000000001},{"$f":"'[2]Weekly Pig prices'!V100","v":139.97},{"$f":"'[2]Weekly Pig prices'!W100","v":190.85670000000002},{"$f":"'[2]Weekly Pig prices'!X100","v":658.99},{"$f":"'[2]Weekly Pig prices'!Y100","v":179.9},{"$f":"'[2]Weekly Pig prices'!Z100","v":182.58960000000002},{"$f":"'[2]Weekly Pig prices'!AA100","v":54613.86},{"$f":"'[2]Weekly Pig prices'!AB100","v":237},{"$f":"'[2]Weekly Pig prices'!AC100","v":168.34},{"$f":"'[2]Weekly Pig prices'!AD100","v":184.08},{"$f":"'[2]Weekly Pig prices'!AE100","v":185.7252},{"$f":"'[2]Weekly Pig prices'!AF100","v":782.37},{"$f":"'[2]Weekly Pig prices'!AG100","v":195},{"$f":"'[2]Weekly Pig prices'!AH100","v":201.72390000000001},{"$f":"'[2]Weekly Pig prices'!AI100","v":894.19},{"$f":"'[2]Weekly Pig prices'!AJ100","v":178.77},{"$f":"'[2]Weekly Pig prices'!AK100","v":190.67000000000002},{"$f":"'[2]Weekly Pig prices'!AL100","v":175.74},{"$f":"'[2]Weekly Pig prices'!AM100","v":193.81110000000001},{"$f":"'[2]Weekly Pig prices'!AN100","v":1689},{"$f":"'[2]Weekly Pig prices'!AO100","v":189.8091},{"$f":"'[2]Weekly Pig prices'!AQ100","v":0},null,{"$f":"'[2]Weekly Pig prices'!$AR100","v":187.24105070000007},{"$f":"'[2]Weekly Pig prices'!AS100","v":2.7645271337779498E-3}]
["201300","2013-08-12",33,{"$f":"'[2]Weekly Pig prices'!D101","v":172.6},{"$f":"'[2]Weekly Pig prices'!E101","v":203.94210000000001},{"$f":"'[2]Weekly Pig prices'!F101","v":398.87},{"$f":"'[2]Weekly Pig prices'!G101","v":182.5488},{"$f":"'[2]Weekly Pig prices'!H101","v":4718},{"$f":"'[2]Weekly Pig prices'!I101","v":163.9768},{"$f":"'[2]Weekly Pig prices'!J101","v":1223},{"$f":"'[2]Weekly Pig prices'!K101","v":188.70000000000002},{"$f":"'[2]Weekly Pig prices'!L101","v":175.59},{"$f":"'[2]Weekly Pig prices'!M101","v":199.09},{"$f":"'[2]Weekly Pig prices'!N101","v":212.84},{"$f":"'[2]Weekly Pig prices'!O101","v":178},{"$f":"'[2]Weekly Pig prices'!P101","v":185.36770000000001},{"$f":"'[2]Weekly Pig prices'!Q101","v":1397},{"$f":"'[2]Weekly Pig prices'!R101","v":161.95000000000002},{"$f":"'[2]Weekly Pig prices'!S101","v":206.34},{"$f":"'[2]Weekly Pig prices'!T101","v":210},{"$f":"'[2]Weekly Pig prices'!U101","v":196.83850000000001},{"$f":"'[2]Weekly Pig prices'!V101","v":138.31},{"$f":"'[2]Weekly Pig prices'!W101","v":192.11360000000002},{"$f":"'[2]Weekly Pig prices'!X101","v":663.33},{"$f":"'[2]Weekly Pig prices'!Y101","v":184},{"$f":"'[2]Weekly Pig prices'!Z101","v":185.62730000000002},{"$f":"'[2]Weekly Pig prices'!AA101","v":55493.279999999999},{"$f":"'[2]Weekly Pig prices'!AB101","v":237},{"$f":"'[2]Weekly Pig prices'!AC101","v":171.13},{"$f":"'[2]Weekly Pig prices'!AD101","v":186.96},{"$f":"'[2]Weekly Pig prices'!AE101","v":186.53970000000001},{"$f":"'[2]Weekly Pig prices'!AF101","v":784.37},{"$f":"'[2]Weekly Pig prices'!AG101","v":195},{"$f":"'[2]Weekly Pig prices'!AH101","v":203.88070000000002},{"$f":"'[2]Weekly Pig prices'!AI101","v":904.47},{"$f":"'[2]Weekly Pig prices'!AJ101","v":176},{"$f":"'[2]Weekly Pig prices'!AK101","v":192.64000000000001},{"$f":"'[2]Weekly Pig prices'!AL101","v":176.55},{"$f":"'[2]Weekly Pig prices'!AM101","v":193.69150000000002},{"$f":"'[2]Weekly Pig prices'!AN101","v":1680},{"$f":"'[2]Weekly Pig prices'!AO101","v":191.32420000000002},{"$f":"'[2]Weekly Pig prices'!AQ101","v":0},null,{"$f":"'[2]Weekly Pig prices'!$AR101","v":188.9378126},{"$f":"'[2]Weekly Pig prices'!AS101","v":9.0619118705892454E-3}]
["201300","2013-08-19",34,{"$f":"'[2]Weekly Pig prices'!D102","v":177.5},{"$f":"'[2]Weekly Pig prices'!E102","v":203.94210000000001},{"$f":"'[2]Weekly Pig prices'!F102","v":398.87},{"$f":"'[2]Weekly Pig prices'!G102","v":184.13390000000001},{"$f":"'[2]Weekly Pig prices'!H102","v":4742},{"$f":"'[2]Weekly Pig prices'!I102","v":166.81190000000001},{"$f":"'[2]Weekly Pig prices'!J102","v":1244},{"$f":"'[2]Weekly Pig prices'!K102","v":193.8},{"$f":"'[2]Weekly Pig prices'!L102","v":176.27},{"$f":"'[2]Weekly Pig prices'!M102","v":201.5},{"$f":"'[2]Weekly Pig prices'!N102","v":214.38},{"$f":"'[2]Weekly Pig prices'!O102","v":180},{"$f":"'[2]Weekly Pig prices'!P102","v":183.2749},{"$f":"'[2]Weekly Pig prices'!Q102","v":1383},{"$f":"'[2]Weekly Pig prices'!R102","v":162.28},{"$f":"'[2]Weekly Pig prices'!S102","v":210.94},{"$f":"'[2]Weekly Pig prices'!T102","v":209},{"$f":"'[2]Weekly Pig prices'!U102","v":198.05840000000001},{"$f":"'[2]Weekly Pig prices'!V102","v":139.17000000000002},{"$f":"'[2]Weekly Pig prices'!W102","v":191.78060000000002},{"$f":"'[2]Weekly Pig prices'!X102","v":662.18000000000006},{"$f":"'[2]Weekly Pig prices'!Y102","v":191},{"$f":"'[2]Weekly Pig prices'!Z102","v":190.09030000000001},{"$f":"'[2]Weekly Pig prices'!AA102","v":56954.590000000004},{"$f":"'[2]Weekly Pig prices'!AB102","v":237},{"$f":"'[2]Weekly Pig prices'!AC102","v":173.86},{"$f":"'[2]Weekly Pig prices'!AD102","v":191.39000000000001},{"$f":"'[2]Weekly Pig prices'!AE102","v":188.94970000000001},{"$f":"'[2]Weekly Pig prices'!AF102","v":800.38},{"$f":"'[2]Weekly Pig prices'!AG102","v":195},{"$f":"'[2]Weekly Pig prices'!AH102","v":204.68010000000001},{"$f":"'[2]Weekly Pig prices'!AI102","v":910.04},{"$f":"'[2]Weekly Pig prices'!AJ102","v":185.67000000000002},{"$f":"'[2]Weekly Pig prices'!AK102","v":196.20000000000002},{"$f":"'[2]Weekly Pig prices'!AL102","v":176.99},{"$f":"'[2]Weekly Pig prices'!AM102","v":195.29340000000002},{"$f":"'[2]Weekly Pig prices'!AN102","v":1701},{"$f":"'[2]Weekly Pig prices'!AO102","v":191.6122},{"$f":"'[2]Weekly Pig prices'!AQ102","v":0},null,{"$f":"'[2]Weekly Pig prices'!$AR102","v":191.79859869999999},{"$f":"'[2]Weekly Pig prices'!AS102","v":1.5141416430265009E-2}]
["201300","2013-08-26",35,{"$f":"'[2]Weekly Pig prices'!D103","v":182.5},{"$f":"'[2]Weekly Pig prices'!E103","v":212.215},{"$f":"'[2]Weekly Pig prices'!F103","v":415.05},{"$f":"'[2]Weekly Pig prices'!G103","v":186.68220000000002},{"$f":"'[2]Weekly Pig prices'!H103","v":4798},{"$f":"'[2]Weekly Pig prices'!I103","v":169.45160000000001},{"$f":"'[2]Weekly Pig prices'!J103","v":1264},{"$f":"'[2]Weekly Pig prices'!K103","v":196.70000000000002},{"$f":"'[2]Weekly Pig prices'!L103","v":176.07},{"$f":"'[2]Weekly Pig prices'!M103","v":201.5},{"$f":"'[2]Weekly Pig prices'!N103","v":217.1},{"$f":"'[2]Weekly Pig prices'!O103","v":185},{"$f":"'[2]Weekly Pig prices'!P103","v":184.38980000000001},{"$f":"'[2]Weekly Pig prices'!Q103","v":1394},{"$f":"'[2]Weekly Pig prices'!R103","v":162.69},{"$f":"'[2]Weekly Pig prices'!S103","v":214.23000000000002},{"$f":"'[2]Weekly Pig prices'!T103","v":210},{"$f":"'[2]Weekly Pig prices'!U103","v":199.7886},{"$f":"'[2]Weekly Pig prices'!V103","v":140.38},{"$f":"'[2]Weekly Pig prices'!W103","v":194.03960000000001},{"$f":"'[2]Weekly Pig prices'!X103","v":669.98},{"$f":"'[2]Weekly Pig prices'!Y103","v":194},{"$f":"'[2]Weekly Pig prices'!Z103","v":193.09390000000002},{"$f":"'[2]Weekly Pig prices'!AA103","v":57981.69},{"$f":"'[2]Weekly Pig prices'!AB103","v":237},{"$f":"'[2]Weekly Pig prices'!AC103","v":178.58},{"$f":"'[2]Weekly Pig prices'!AD103","v":195.26},{"$f":"'[2]Weekly Pig prices'!AE103","v":192.80890000000002},{"$f":"'[2]Weekly Pig prices'!AF103","v":821.06000000000006},{"$f":"'[2]Weekly Pig prices'!AG103","v":199},{"$f":"'[2]Weekly Pig prices'!AH103","v":204.5891},{"$f":"'[2]Weekly Pig prices'!AI103","v":908.13},{"$f":"'[2]Weekly Pig prices'!AJ103","v":185.27},{"$f":"'[2]Weekly Pig prices'!AK103","v":195.83},{"$f":"'[2]Weekly Pig prices'!AL103","v":177.51},{"$f":"'[2]Weekly Pig prices'!AM103","v":194.9624},{"$f":"'[2]Weekly Pig prices'!AN103","v":1700},{"$f":"'[2]Weekly Pig prices'!AO103","v":191.14330000000001},{"$f":"'[2]Weekly Pig prices'!AQ103","v":0},null,{"$f":"'[2]Weekly Pig prices'!$AR103","v":194.87642009999993},{"$f":"'[2]Weekly Pig prices'!AS103","v":1.6047152694864453E-2}]
["201300","2013-09-02",36,{"$f":"'[2]Weekly Pig prices'!D104","v":183.4},{"$f":"'[2]Weekly Pig prices'!E104","v":212.215},{"$f":"'[2]Weekly Pig prices'!F104","v":415.05},{"$f":"'[2]Weekly Pig prices'!G104","v":192.09530000000001},{"$f":"'[2]Weekly Pig prices'!H104","v":4945},{"$f":"'[2]Weekly Pig prices'!I104","v":169.46300000000002},{"$f":"'[2]Weekly Pig prices'!J104","v":1264},{"$f":"'[2]Weekly Pig prices'!K104","v":194.1},{"$f":"'[2]Weekly Pig prices'!L104","v":180.99},{"$f":"'[2]Weekly Pig prices'!M104","v":201.5},{"$f":"'[2]Weekly Pig prices'!N104","v":217.03},{"$f":"'[2]Weekly Pig prices'!O104","v":190},{"$f":"'[2]Weekly Pig prices'!P104","v":179.67250000000001},{"$f":"'[2]Weekly Pig prices'!Q104","v":1362},{"$f":"'[2]Weekly Pig prices'!R104","v":163.89000000000001},{"$f":"'[2]Weekly Pig prices'!S104","v":220.08},{"$f":"'[2]Weekly Pig prices'!T104","v":210},{"$f":"'[2]Weekly Pig prices'!U104","v":200.58960000000002},{"$f":"'[2]Weekly Pig prices'!V104","v":140.94},{"$f":"'[2]Weekly Pig prices'!W104","v":194.98670000000001},{"$f":"'[2]Weekly Pig prices'!X104","v":673.25},{"$f":"'[2]Weekly Pig prices'!Y104","v":189.4},{"$f":"'[2]Weekly Pig prices'!Z104","v":192.99110000000002},{"$f":"'[2]Weekly Pig prices'!AA104","v":58094.19},{"$f":"'[2]Weekly Pig prices'!AB104","v":237},{"$f":"'[2]Weekly Pig prices'!AC104","v":178.43},{"$f":"'[2]Weekly Pig prices'!AD104","v":195.15},{"$f":"'[2]Weekly Pig prices'!AE104","v":193.04150000000001},{"$f":"'[2]Weekly Pig prices'!AF104","v":825.44},{"$f":"'[2]Weekly Pig prices'!AG104","v":201},{"$f":"'[2]Weekly Pig prices'!AH104","v":205.6301},{"$f":"'[2]Weekly Pig prices'!AI104","v":915.38},{"$f":"'[2]Weekly Pig prices'!AJ104","v":188.36},{"$f":"'[2]Weekly Pig prices'!AK104","v":201.79},{"$f":"'[2]Weekly Pig prices'!AL104","v":177.76},{"$f":"'[2]Weekly Pig prices'!AM104","v":193.67830000000001},{"$f":"'[2]Weekly Pig prices'!AN104","v":1691},{"$f":"'[2]Weekly Pig prices'!AO104","v":195.6722},{"$f":"'[2]Weekly Pig prices'!AQ104","v":0},null,{"$f":"'[2]Weekly Pig prices'!$AR104","v":195.47699109999999},{"$f":"'[2]Weekly Pig prices'!AS104","v":3.0818043542255591E-3}]
["201300","2013-09-09",37,{"$f":"'[2]Weekly Pig prices'!D105","v":175.70000000000002},{"$f":"'[2]Weekly Pig prices'!E105","v":212.2354},{"$f":"'[2]Weekly Pig prices'!F105","v":415.09000000000003},{"$f":"'[2]Weekly Pig prices'!G105","v":194.51660000000001},{"$f":"'[2]Weekly Pig prices'!H105","v":5018},{"$f":"'[2]Weekly Pig prices'!I105","v":169.47790000000001},{"$f":"'[2]Weekly Pig prices'!J105","v":1264},{"$f":"'[2]Weekly Pig prices'!K105","v":187.45000000000002},{"$f":"'[2]Weekly Pig prices'!L105","v":182.07},{"$f":"'[2]Weekly Pig prices'!M105","v":201.87},{"$f":"'[2]Weekly Pig prices'!N105","v":216.39000000000001},{"$f":"'[2]Weekly Pig prices'!O105","v":189},{"$f":"'[2]Weekly Pig prices'!P105","v":180.71370000000002},{"$f":"'[2]Weekly Pig prices'!Q105","v":1371},{"$f":"'[2]Weekly Pig prices'!R105","v":165.07},{"$f":"'[2]Weekly Pig prices'!S105","v":226.71},{"$f":"'[2]Weekly Pig prices'!T105","v":210},{"$f":"'[2]Weekly Pig prices'!U105","v":203.41640000000001},{"$f":"'[2]Weekly Pig prices'!V105","v":142.9},{"$f":"'[2]Weekly Pig prices'!W105","v":191.56630000000001},{"$f":"'[2]Weekly Pig prices'!X105","v":661.44},{"$f":"'[2]Weekly Pig prices'!Y105","v":183.6},{"$f":"'[2]Weekly Pig prices'!Z105","v":189.48400000000001},{"$f":"'[2]Weekly Pig prices'!AA105","v":56903.94},{"$f":"'[2]Weekly Pig prices'!AB105","v":237},{"$f":"'[2]Weekly Pig prices'!AC105","v":170.98},{"$f":"'[2]Weekly Pig prices'!AD105","v":189.78},{"$f":"'[2]Weekly Pig prices'!AE105","v":188.88840000000002},{"$f":"'[2]Weekly Pig prices'!AF105","v":801.37},{"$f":"'[2]Weekly Pig prices'!AG105","v":201},{"$f":"'[2]Weekly Pig prices'!AH105","v":203.52880000000002},{"$f":"'[2]Weekly Pig prices'!AI105","v":909.73},{"$f":"'[2]Weekly Pig prices'!AJ105","v":182.55},{"$f":"'[2]Weekly Pig prices'!AK105","v":200.56},{"$f":"'[2]Weekly Pig prices'!AL105","v":177.21},{"$f":"'[2]Weekly Pig prices'!AM105","v":194.2517},{"$f":"'[2]Weekly Pig prices'!AN105","v":1691},{"$f":"'[2]Weekly Pig prices'!AO105","v":196.99790000000002},{"$f":"'[2]Weekly Pig prices'!AQ105","v":0},null,{"$f":"'[2]Weekly Pig prices'!$AR105","v":192.92006849999996},{"$f":"'[2]Weekly Pig prices'!AS105","v":-1.3080427448834642E-2}]
["201300","2013-09-16",38,{"$f":"'[2]Weekly Pig prices'!D106","v":171.70000000000002},{"$f":"'[2]Weekly Pig prices'!E106","v":213.72330000000002},{"$f":"'[2]Weekly Pig prices'!F106","v":418},{"$f":"'[2]Weekly Pig prices'!G106","v":193.089},{"$f":"'[2]Weekly Pig prices'!H106","v":4978},{"$f":"'[2]Weekly Pig prices'!I106","v":169.5009},{"$f":"'[2]Weekly Pig prices'!J106","v":1264},{"$f":"'[2]Weekly Pig prices'!K106","v":182.34},{"$f":"'[2]Weekly Pig prices'!L106","v":181.51},{"$f":"'[2]Weekly Pig prices'!M106","v":203.36},{"$f":"'[2]Weekly Pig prices'!N106","v":213.70000000000002},{"$f":"'[2]Weekly Pig prices'!O106","v":185},{"$f":"'[2]Weekly Pig prices'!P106","v":180.8323},{"$f":"'[2]Weekly Pig prices'!Q106","v":1375},{"$f":"'[2]Weekly Pig prices'!R106","v":166.54},{"$f":"'[2]Weekly Pig prices'!S106","v":225.59},{"$f":"'[2]Weekly Pig prices'!T106","v":210},{"$f":"'[2]Weekly Pig prices'!U106","v":197.92790000000002},{"$f":"'[2]Weekly Pig prices'!V106","v":139.05000000000001},{"$f":"'[2]Weekly Pig prices'!W106","v":189.6808},{"$f":"'[2]Weekly Pig prices'!X106","v":654.93000000000006},{"$f":"'[2]Weekly Pig prices'!Y106","v":180.3},{"$f":"'[2]Weekly Pig prices'!Z106","v":185.74190000000002},{"$f":"'[2]Weekly Pig prices'!AA106","v":55489.06},{"$f":"'[2]Weekly Pig prices'!AB106","v":237},{"$f":"'[2]Weekly Pig prices'!AC106","v":166.25},{"$f":"'[2]Weekly Pig prices'!AD106","v":184.73},{"$f":"'[2]Weekly Pig prices'!AE106","v":186.44110000000001},{"$f":"'[2]Weekly Pig prices'!AF106","v":785.78},{"$f":"'[2]Weekly Pig prices'!AG106","v":197},{"$f":"'[2]Weekly Pig prices'!AH106","v":202.6302},{"$f":"'[2]Weekly Pig prices'!AI106","v":904.66},{"$f":"'[2]Weekly Pig prices'!AJ106","v":181.49},{"$f":"'[2]Weekly Pig prices'!AK106","v":199.99},{"$f":"'[2]Weekly Pig prices'!AL106","v":176.03},{"$f":"'[2]Weekly Pig prices'!AM106","v":196.59210000000002},{"$f":"'[2]Weekly Pig prices'!AN106","v":1697},{"$f":"'[2]Weekly Pig prices'!AO106","v":198.6096},{"$f":"'[2]Weekly Pig prices'!AQ106","v":0},null,{"$f":"'[2]Weekly Pig prices'!$AR106","v":190.06747429999996},{"$f":"'[2]Weekly Pig prices'!AS106","v":-1.4786404660643182E-2}]
["201300","2013-09-23",39,{"$f":"'[2]Weekly Pig prices'!D107","v":165},{"$f":"'[2]Weekly Pig prices'!E107","v":221.30070000000001},{"$f":"'[2]Weekly Pig prices'!F107","v":432.82},{"$f":"'[2]Weekly Pig prices'!G107","v":188.5204},{"$f":"'[2]Weekly Pig prices'!H107","v":4868},{"$f":"'[2]Weekly Pig prices'!I107","v":169.49700000000001},{"$f":"'[2]Weekly Pig prices'!J107","v":1264},{"$f":"'[2]Weekly Pig prices'!K107","v":179.03},{"$f":"'[2]Weekly Pig prices'!L107","v":181.15},{"$f":"'[2]Weekly Pig prices'!M107","v":202.43},{"$f":"'[2]Weekly Pig prices'!N107","v":210.24},{"$f":"'[2]Weekly Pig prices'!O107","v":179},{"$f":"'[2]Weekly Pig prices'!P107","v":183.45160000000001},{"$f":"'[2]Weekly Pig prices'!Q107","v":1397},{"$f":"'[2]Weekly Pig prices'!R107","v":167.81},{"$f":"'[2]Weekly Pig prices'!S107","v":214.34},{"$f":"'[2]Weekly Pig prices'!T107","v":210},{"$f":"'[2]Weekly Pig prices'!U107","v":195.67150000000001},{"$f":"'[2]Weekly Pig prices'!V107","v":137.49},{"$f":"'[2]Weekly Pig prices'!W107","v":184.0941},{"$f":"'[2]Weekly Pig prices'!X107","v":635.64},{"$f":"'[2]Weekly Pig prices'!Y107","v":175.4},{"$f":"'[2]Weekly Pig prices'!Z107","v":180.12360000000001},{"$f":"'[2]Weekly Pig prices'!AA107","v":53971.99},{"$f":"'[2]Weekly Pig prices'!AB107","v":237},{"$f":"'[2]Weekly Pig prices'!AC107","v":161.29},{"$f":"'[2]Weekly Pig prices'!AD107","v":179.96},{"$f":"'[2]Weekly Pig prices'!AE107","v":181.72640000000001},{"$f":"'[2]Weekly Pig prices'!AF107","v":768.02},{"$f":"'[2]Weekly Pig prices'!AG107","v":193},{"$f":"'[2]Weekly Pig prices'!AH107","v":200.87300000000002},{"$f":"'[2]Weekly Pig prices'!AI107","v":897.4},{"$f":"'[2]Weekly Pig prices'!AJ107","v":185.07},{"$f":"'[2]Weekly Pig prices'!AK107","v":197.35},{"$f":"'[2]Weekly Pig prices'!AL107","v":175.52},{"$f":"'[2]Weekly Pig prices'!AM107","v":196.43180000000001},{"$f":"'[2]Weekly Pig prices'!AN107","v":1699},{"$f":"'[2]Weekly Pig prices'!AO107","v":198.18550000000002},{"$f":"'[2]Weekly Pig prices'!AQ107","v":0},null,{"$f":"'[2]Weekly Pig prices'!$AR107","v":186.17093799999995},{"$f":"'[2]Weekly Pig prices'!AS107","v":-2.0500805381618137E-2}]
["201300","2013-09-30",40,{"$f":"'[2]Weekly Pig prices'!D108","v":164.5},{"$f":"'[2]Weekly Pig prices'!E108","v":230.69840000000002},{"$f":"'[2]Weekly Pig prices'!F108","v":451.2},{"$f":"'[2]Weekly Pig prices'!G108","v":187.82310000000001},{"$f":"'[2]Weekly Pig prices'!H108","v":4812},{"$f":"'[2]Weekly Pig prices'!I108","v":166.7835},{"$f":"'[2]Weekly Pig prices'!J108","v":1244},{"$f":"'[2]Weekly Pig prices'!K108","v":178.77},{"$f":"'[2]Weekly Pig prices'!L108","v":180.6},{"$f":"'[2]Weekly Pig prices'!M108","v":202.06},{"$f":"'[2]Weekly Pig prices'!N108","v":202.28},{"$f":"'[2]Weekly Pig prices'!O108","v":173},{"$f":"'[2]Weekly Pig prices'!P108","v":177.56110000000001},{"$f":"'[2]Weekly Pig prices'!Q108","v":1353},{"$f":"'[2]Weekly Pig prices'!R108","v":169.43},{"$f":"'[2]Weekly Pig prices'!S108","v":206.63},{"$f":"'[2]Weekly Pig prices'!T108","v":210},{"$f":"'[2]Weekly Pig prices'!U108","v":191.9091},{"$f":"'[2]Weekly Pig prices'!V108","v":134.86000000000001},{"$f":"'[2]Weekly Pig prices'!W108","v":181.0531},{"$f":"'[2]Weekly Pig prices'!X108","v":625.14},{"$f":"'[2]Weekly Pig prices'!Y108","v":174.6},{"$f":"'[2]Weekly Pig prices'!Z108","v":180.8092},{"$f":"'[2]Weekly Pig prices'!AA108","v":53734.18},{"$f":"'[2]Weekly Pig prices'!AB108","v":237},{"$f":"'[2]Weekly Pig prices'!AC108","v":161.36000000000001},{"$f":"'[2]Weekly Pig prices'!AD108","v":180.19},{"$f":"'[2]Weekly Pig prices'!AE108","v":181.35660000000001},{"$f":"'[2]Weekly Pig prices'!AF108","v":764.83},{"$f":"'[2]Weekly Pig prices'!AG108","v":188},{"$f":"'[2]Weekly Pig prices'!AH108","v":201.8777},{"$f":"'[2]Weekly Pig prices'!AI108","v":897.6},{"$f":"'[2]Weekly Pig prices'!AJ108","v":178.36},{"$f":"'[2]Weekly Pig prices'!AK108","v":193.11},{"$f":"'[2]Weekly Pig prices'!AL108","v":175.44},{"$f":"'[2]Weekly Pig prices'!AM108","v":196.14020000000002},{"$f":"'[2]Weekly Pig prices'!AN108","v":1698},{"$f":"'[2]Weekly Pig prices'!AO108","v":199.76350000000002},{"$f":"'[2]Weekly Pig prices'!AQ108","v":0},null,{"$f":"'[2]Weekly Pig prices'!$AR108","v":183.43173390000001},{"$f":"'[2]Weekly Pig prices'!AS108","v":-1.4713381849104423E-2}]
["201300","2013-10-07",41,{"$f":"'[2]Weekly Pig prices'!D109","v":164.9},{"$f":"'[2]Weekly Pig prices'!E109","v":226.0609},{"$f":"'[2]Weekly Pig prices'!F109","v":442.13},{"$f":"'[2]Weekly Pig prices'!G109","v":187.94050000000001},{"$f":"'[2]Weekly Pig prices'!H109","v":4800},{"$f":"'[2]Weekly Pig prices'!I109","v":166.76590000000002},{"$f":"'[2]Weekly Pig prices'!J109","v":1244},{"$f":"'[2]Weekly Pig prices'!K109","v":178.93},{"$f":"'[2]Weekly Pig prices'!L109","v":181.47},{"$f":"'[2]Weekly Pig prices'!M109","v":201.5},{"$f":"'[2]Weekly Pig prices'!N109","v":203.83},{"$f":"'[2]Weekly Pig prices'!O109","v":169},{"$f":"'[2]Weekly Pig prices'!P109","v":181.61860000000001},{"$f":"'[2]Weekly Pig prices'!Q109","v":1383},{"$f":"'[2]Weekly Pig prices'!R109","v":171.35},{"$f":"'[2]Weekly Pig prices'!S109","v":196.34},{"$f":"'[2]Weekly Pig prices'!T109","v":210},{"$f":"'[2]Weekly Pig prices'!U109","v":190.93110000000001},{"$f":"'[2]Weekly Pig prices'!V109","v":134.17000000000002},{"$f":"'[2]Weekly Pig prices'!W109","v":180.8938},{"$f":"'[2]Weekly Pig prices'!X109","v":624.59},{"$f":"'[2]Weekly Pig prices'!Y109","v":174.8},{"$f":"'[2]Weekly Pig prices'!Z109","v":181.01250000000002},{"$f":"'[2]Weekly Pig prices'!AA109","v":53513.25},{"$f":"'[2]Weekly Pig prices'!AB109","v":237},{"$f":"'[2]Weekly Pig prices'!AC109","v":161.29},{"$f":"'[2]Weekly Pig prices'!AD109","v":179.93},{"$f":"'[2]Weekly Pig prices'!AE109","v":182.45650000000001},{"$f":"'[2]Weekly Pig prices'!AF109","v":765.65},{"$f":"'[2]Weekly Pig prices'!AG109","v":184},{"$f":"'[2]Weekly Pig prices'!AH109","v":200.0701},{"$f":"'[2]Weekly Pig prices'!AI109","v":889.22},{"$f":"'[2]Weekly Pig prices'!AJ109","v":179.47},{"$f":"'[2]Weekly Pig prices'!AK109","v":190.54},{"$f":"'[2]Weekly Pig prices'!AL109","v":172.79},{"$f":"'[2]Weekly Pig prices'!AM109","v":192.90710000000001},{"$f":"'[2]Weekly Pig prices'!AN109","v":1687},{"$f":"'[2]Weekly Pig prices'!AO109","v":198.63310000000001},{"$f":"'[2]Weekly Pig prices'!AQ109","v":0},null,{"$f":"'[2]Weekly Pig prices'!$AR109","v":182.64979679999999},{"$f":"'[2]Weekly Pig prices'!AS109","v":-4.2628234677556387E-3}]
["201300","2013-10-14",42,{"$f":"'[2]Weekly Pig prices'!D110","v":164.8},{"$f":"'[2]Weekly Pig prices'!E110","v":221.62290000000002},{"$f":"'[2]Weekly Pig prices'!F110","v":433.45},{"$f":"'[2]Weekly Pig prices'!G110","v":185.38660000000002},{"$f":"'[2]Weekly Pig prices'!H110","v":4758},{"$f":"'[2]Weekly Pig prices'!I110","v":166.7816},{"$f":"'[2]Weekly Pig prices'!J110","v":1244},{"$f":"'[2]Weekly Pig prices'!K110","v":178.8},{"$f":"'[2]Weekly Pig prices'!L110","v":180.62},{"$f":"'[2]Weekly Pig prices'!M110","v":200.20000000000002},{"$f":"'[2]Weekly Pig prices'!N110","v":194.29},{"$f":"'[2]Weekly Pig prices'!O110","v":164},{"$f":"'[2]Weekly Pig prices'!P110","v":176.72620000000001},{"$f":"'[2]Weekly Pig prices'!Q110","v":1346},{"$f":"'[2]Weekly Pig prices'!R110","v":172.77},{"$f":"'[2]Weekly Pig prices'!S110","v":186.78},{"$f":"'[2]Weekly Pig prices'!T110","v":201},{"$f":"'[2]Weekly Pig prices'!U110","v":188.94380000000001},{"$f":"'[2]Weekly Pig prices'!V110","v":132.76},{"$f":"'[2]Weekly Pig prices'!W110","v":182.22020000000001},{"$f":"'[2]Weekly Pig prices'!X110","v":629.16999999999996},{"$f":"'[2]Weekly Pig prices'!Y110","v":174.6},{"$f":"'[2]Weekly Pig prices'!Z110","v":181.11170000000001},{"$f":"'[2]Weekly Pig prices'!AA110","v":53435.46},{"$f":"'[2]Weekly Pig prices'!AB110","v":237},{"$f":"'[2]Weekly Pig prices'!AC110","v":161.17000000000002},{"$f":"'[2]Weekly Pig prices'!AD110","v":180.09},{"$f":"'[2]Weekly Pig prices'!AE110","v":182.8228},{"$f":"'[2]Weekly Pig prices'!AF110","v":764.45},{"$f":"'[2]Weekly Pig prices'!AG110","v":182},{"$f":"'[2]Weekly Pig prices'!AH110","v":199.97240000000002},{"$f":"'[2]Weekly Pig prices'!AI110","v":890.30000000000007},{"$f":"'[2]Weekly Pig prices'!AJ110","v":176.96},{"$f":"'[2]Weekly Pig prices'!AK110","v":188.83},{"$f":"'[2]Weekly Pig prices'!AL110","v":173.79},{"$f":"'[2]Weekly Pig prices'!AM110","v":192.50390000000002},{"$f":"'[2]Weekly Pig prices'!AN110","v":1690},{"$f":"'[2]Weekly Pig prices'!AO110","v":198.8005},{"$f":"'[2]Weekly Pig prices'!AQ110","v":0},null,{"$f":"'[2]Weekly Pig prices'!$AR110","v":179.83150529999998},{"$f":"'[2]Weekly Pig prices'!AS110","v":-1.5430028115968941E-2}]
["201300","2013-10-21",43,{"$f":"'[2]Weekly Pig prices'!D111","v":165.1},{"$f":"'[2]Weekly Pig prices'!E111","v":222.8193},{"$f":"'[2]Weekly Pig prices'!F111","v":435.79},{"$f":"'[2]Weekly Pig prices'!G111","v":184.233},{"$f":"'[2]Weekly Pig prices'!H111","v":4748},{"$f":"'[2]Weekly Pig prices'!I111","v":166.773},{"$f":"'[2]Weekly Pig prices'!J111","v":1244},{"$f":"'[2]Weekly Pig prices'!K111","v":176.51},{"$f":"'[2]Weekly Pig prices'!L111","v":179.8},{"$f":"'[2]Weekly Pig prices'!M111","v":201.13},{"$f":"'[2]Weekly Pig prices'!N111","v":192.95000000000002},{"$f":"'[2]Weekly Pig prices'!O111","v":163},{"$f":"'[2]Weekly Pig prices'!P111","v":175.7099},{"$f":"'[2]Weekly Pig prices'!Q111","v":1339},{"$f":"'[2]Weekly Pig prices'!R111","v":173.86},{"$f":"'[2]Weekly Pig prices'!S111","v":185.98},{"$f":"'[2]Weekly Pig prices'!T111","v":198},{"$f":"'[2]Weekly Pig prices'!U111","v":188.48510000000002},{"$f":"'[2]Weekly Pig prices'!V111","v":132.47},{"$f":"'[2]Weekly Pig prices'!W111","v":179.9091},{"$f":"'[2]Weekly Pig prices'!X111","v":621.19000000000005},{"$f":"'[2]Weekly Pig prices'!Y111","v":172.4},{"$f":"'[2]Weekly Pig prices'!Z111","v":180.75300000000001},{"$f":"'[2]Weekly Pig prices'!AA111","v":53015.62},{"$f":"'[2]Weekly Pig prices'!AB111","v":237},{"$f":"'[2]Weekly Pig prices'!AC111","v":161.20000000000002},{"$f":"'[2]Weekly Pig prices'!AD111","v":179.87},{"$f":"'[2]Weekly Pig prices'!AE111","v":180.8235},{"$f":"'[2]Weekly Pig prices'!AF111","v":756.39},{"$f":"'[2]Weekly Pig prices'!AG111","v":180},{"$f":"'[2]Weekly Pig prices'!AH111","v":198.41670000000002},{"$f":"'[2]Weekly Pig prices'!AI111","v":881.9},{"$f":"'[2]Weekly Pig prices'!AJ111","v":180.25},{"$f":"'[2]Weekly Pig prices'!AK111","v":188.64000000000001},{"$f":"'[2]Weekly Pig prices'!AL111","v":173.91},{"$f":"'[2]Weekly Pig prices'!AM111","v":192.3372},{"$f":"'[2]Weekly Pig prices'!AN111","v":1685},{"$f":"'[2]Weekly Pig prices'!AO111","v":198.37270000000001},{"$f":"'[2]Weekly Pig prices'!AQ111","v":0},null,{"$f":"'[2]Weekly Pig prices'!$AR111","v":178.75690859999997},{"$f":"'[2]Weekly Pig prices'!AS111","v":-5.9755752931464068E-3}]
["201300","2013-10-28",44,{"$f":"'[2]Weekly Pig prices'!D112","v":160.5},{"$f":"'[2]Weekly Pig prices'!E112","v":213.93800000000002},{"$f":"'[2]Weekly Pig prices'!F112","v":418.42},{"$f":"'[2]Weekly Pig prices'!G112","v":180.9913},{"$f":"'[2]Weekly Pig prices'!H112","v":4665},{"$f":"'[2]Weekly Pig prices'!I112","v":166.78290000000001},{"$f":"'[2]Weekly Pig prices'!J112","v":1244},{"$f":"'[2]Weekly Pig prices'!K112","v":170.79},{"$f":"'[2]Weekly Pig prices'!L112","v":179.39000000000001},{"$f":"'[2]Weekly Pig prices'!M112","v":201.13},{"$f":"'[2]Weekly Pig prices'!N112","v":193.67000000000002},{"$f":"'[2]Weekly Pig prices'!O112","v":161},{"$f":"'[2]Weekly Pig prices'!P112","v":173.44040000000001},{"$f":"'[2]Weekly Pig prices'!Q112","v":1322},{"$f":"'[2]Weekly Pig prices'!R112","v":174.1},{"$f":"'[2]Weekly Pig prices'!S112","v":182.19},{"$f":"'[2]Weekly Pig prices'!T112","v":198},{"$f":"'[2]Weekly Pig prices'!U112","v":187.5744},{"$f":"'[2]Weekly Pig prices'!V112","v":131.83000000000001},{"$f":"'[2]Weekly Pig prices'!W112","v":178.4204},{"$f":"'[2]Weekly Pig prices'!X112","v":616.05000000000007},{"$f":"'[2]Weekly Pig prices'!Y112","v":165.5},{"$f":"'[2]Weekly Pig prices'!Z112","v":174.37380000000002},{"$f":"'[2]Weekly Pig prices'!AA112","v":51321.440000000002},{"$f":"'[2]Weekly Pig prices'!AB112","v":237},{"$f":"'[2]Weekly Pig prices'!AC112","v":155.74},{"$f":"'[2]Weekly Pig prices'!AD112","v":174.58},{"$f":"'[2]Weekly Pig prices'!AE112","v":176.50750000000002},{"$f":"'[2]Weekly Pig prices'!AF112","v":738.52},{"$f":"'[2]Weekly Pig prices'!AG112","v":180},{"$f":"'[2]Weekly Pig prices'!AH112","v":198.70760000000001},{"$f":"'[2]Weekly Pig prices'!AI112","v":882.12},{"$f":"'[2]Weekly Pig prices'!AJ112","v":175.01},{"$f":"'[2]Weekly Pig prices'!AK112","v":187.59},{"$f":"'[2]Weekly Pig prices'!AL112","v":173.15},{"$f":"'[2]Weekly Pig prices'!AM112","v":191.94720000000001},{"$f":"'[2]Weekly Pig prices'!AN112","v":1685},{"$f":"'[2]Weekly Pig prices'!AO112","v":197.27720000000002},{"$f":"'[2]Weekly Pig prices'!AQ112","v":0},null,{"$f":"'[2]Weekly Pig prices'!$AR112","v":176.00915009999994},{"$f":"'[2]Weekly Pig prices'!AS112","v":-1.5371481424243161E-2}]
["201300","2013-11-04",45,{"$f":"'[2]Weekly Pig prices'!D113","v":154.5},{"$f":"'[2]Weekly Pig prices'!E113","v":214.72030000000001},{"$f":"'[2]Weekly Pig prices'!F113","v":419.95},{"$f":"'[2]Weekly Pig prices'!G113","v":176.28530000000001},{"$f":"'[2]Weekly Pig prices'!H113","v":4636},{"$f":"'[2]Weekly Pig prices'!I113","v":166.78700000000001},{"$f":"'[2]Weekly Pig prices'!J113","v":1244},{"$f":"'[2]Weekly Pig prices'!K113","v":167.87},{"$f":"'[2]Weekly Pig prices'!L113","v":175.3},{"$f":"'[2]Weekly Pig prices'!M113","v":199.64000000000001},{"$f":"'[2]Weekly Pig prices'!N113","v":186.98},{"$f":"'[2]Weekly Pig prices'!O113","v":158},{"$f":"'[2]Weekly Pig prices'!P113","v":172.2697},{"$f":"'[2]Weekly Pig prices'!Q113","v":1313},{"$f":"'[2]Weekly Pig prices'!R113","v":174.19},{"$f":"'[2]Weekly Pig prices'!S113","v":180.26},{"$f":"'[2]Weekly Pig prices'!T113","v":198},{"$f":"'[2]Weekly Pig prices'!U113","v":184.90650000000002},{"$f":"'[2]Weekly Pig prices'!V113","v":129.91},{"$f":"'[2]Weekly Pig prices'!W113","v":175.99340000000001},{"$f":"'[2]Weekly Pig prices'!X113","v":607.66999999999996},{"$f":"'[2]Weekly Pig prices'!Y113","v":162.30000000000001},{"$f":"'[2]Weekly Pig prices'!Z113","v":168.45050000000001},{"$f":"'[2]Weekly Pig prices'!AA113","v":49914.28},{"$f":"'[2]Weekly Pig prices'!AB113","v":237},{"$f":"'[2]Weekly Pig prices'!AC113","v":149.89000000000001},{"$f":"'[2]Weekly Pig prices'!AD113","v":167.17000000000002},{"$f":"'[2]Weekly Pig prices'!AE113","v":169.9402},{"$f":"'[2]Weekly Pig prices'!AF113","v":709.76},{"$f":"'[2]Weekly Pig prices'!AG113","v":174},{"$f":"'[2]Weekly Pig prices'!AH113","v":196.33250000000001},{"$f":"'[2]Weekly Pig prices'!AI113","v":871.36},{"$f":"'[2]Weekly Pig prices'!AJ113","v":169.09},{"$f":"'[2]Weekly Pig prices'!AK113","v":182.94},{"$f":"'[2]Weekly Pig prices'!AL113","v":169.79},{"$f":"'[2]Weekly Pig prices'!AM113","v":191.87560000000002},{"$f":"'[2]Weekly Pig prices'!AN113","v":1687},{"$f":"'[2]Weekly Pig prices'!AO113","v":199.93870000000001},{"$f":"'[2]Weekly Pig prices'!AQ113","v":0},null,{"$f":"'[2]Weekly Pig prices'!$AR113","v":172.14397629999996},{"$f":"'[2]Weekly Pig prices'!AS113","v":-2.1960073085995679E-2}]
["201300","2013-11-11",46,{"$f":"'[2]Weekly Pig prices'!D114","v":154.70000000000002},{"$f":"'[2]Weekly Pig prices'!E114","v":208.5898},{"$f":"'[2]Weekly Pig prices'!F114","v":407.96000000000004},{"$f":"'[2]Weekly Pig prices'!G114","v":169.57680000000002},{"$f":"'[2]Weekly Pig prices'!H114","v":4591},{"$f":"'[2]Weekly Pig prices'!I114","v":161.02090000000001},{"$f":"'[2]Weekly Pig prices'!J114","v":1201},{"$f":"'[2]Weekly Pig prices'!K114","v":167.97},{"$f":"'[2]Weekly Pig prices'!L114","v":174.74},{"$f":"'[2]Weekly Pig prices'!M114","v":198.71},{"$f":"'[2]Weekly Pig prices'!N114","v":183.98},{"$f":"'[2]Weekly Pig prices'!O114","v":155},{"$f":"'[2]Weekly Pig prices'!P114","v":169.41560000000001},{"$f":"'[2]Weekly Pig prices'!Q114","v":1292},{"$f":"'[2]Weekly Pig prices'!R114","v":174.09},{"$f":"'[2]Weekly Pig prices'!S114","v":181.85},{"$f":"'[2]Weekly Pig prices'!T114","v":194},{"$f":"'[2]Weekly Pig prices'!U114","v":183.0189},{"$f":"'[2]Weekly Pig prices'!V114","v":128.61000000000001},{"$f":"'[2]Weekly Pig prices'!W114","v":175.7791},{"$f":"'[2]Weekly Pig prices'!X114","v":606.93000000000006},{"$f":"'[2]Weekly Pig prices'!Y114","v":165.8},{"$f":"'[2]Weekly Pig prices'!Z114","v":168.84050000000002},{"$f":"'[2]Weekly Pig prices'!AA114","v":50293.23},{"$f":"'[2]Weekly Pig prices'!AB114","v":237},{"$f":"'[2]Weekly Pig prices'!AC114","v":150.11000000000001},{"$f":"'[2]Weekly Pig prices'!AD114","v":169.59},{"$f":"'[2]Weekly Pig prices'!AE114","v":168.49780000000001},{"$f":"'[2]Weekly Pig prices'!AF114","v":706.28},{"$f":"'[2]Weekly Pig prices'!AG114","v":169},{"$f":"'[2]Weekly Pig prices'!AH114","v":192.7302},{"$f":"'[2]Weekly Pig prices'!AI114","v":858.2},{"$f":"'[2]Weekly Pig prices'!AJ114","v":172.61},{"$f":"'[2]Weekly Pig prices'!AK114","v":177.1},{"$f":"'[2]Weekly Pig prices'!AL114","v":171},{"$f":"'[2]Weekly Pig prices'!AM114","v":188.01610000000002},{"$f":"'[2]Weekly Pig prices'!AN114","v":1676},{"$f":"'[2]Weekly Pig prices'!AO114","v":199.64400000000001},{"$f":"'[2]Weekly Pig prices'!AQ114","v":0},null,{"$f":"'[2]Weekly Pig prices'!$AR114","v":170.563267},{"$f":"'[2]Weekly Pig prices'!AS114","v":-9.1824839531139402E-3}]
["201300","2013-11-18",47,{"$f":"'[2]Weekly Pig prices'!D115","v":153.1},{"$f":"'[2]Weekly Pig prices'!E115","v":211.55030000000002},{"$f":"'[2]Weekly Pig prices'!F115","v":413.75},{"$f":"'[2]Weekly Pig prices'!G115","v":168.79410000000001},{"$f":"'[2]Weekly Pig prices'!H115","v":4598},{"$f":"'[2]Weekly Pig prices'!I115","v":161.01910000000001},{"$f":"'[2]Weekly Pig prices'!J115","v":1201},{"$f":"'[2]Weekly Pig prices'!K115","v":168.41},{"$f":"'[2]Weekly Pig prices'!L115","v":175.59},{"$f":"'[2]Weekly Pig prices'!M115","v":198.71},{"$f":"'[2]Weekly Pig prices'!N115","v":180.37},{"$f":"'[2]Weekly Pig prices'!O115","v":155},{"$f":"'[2]Weekly Pig prices'!P115","v":168.6558},{"$f":"'[2]Weekly Pig prices'!Q115","v":1289},{"$f":"'[2]Weekly Pig prices'!R115","v":169.53},{"$f":"'[2]Weekly Pig prices'!S115","v":187.35},{"$f":"'[2]Weekly Pig prices'!T115","v":194},{"$f":"'[2]Weekly Pig prices'!U115","v":181.06200000000001},{"$f":"'[2]Weekly Pig prices'!V115","v":127.24000000000001},{"$f":"'[2]Weekly Pig prices'!W115","v":173.79519999999999},{"$f":"'[2]Weekly Pig prices'!X115","v":600.08000000000004},{"$f":"'[2]Weekly Pig prices'!Y115","v":163.70000000000002},{"$f":"'[2]Weekly Pig prices'!Z115","v":167.8475},{"$f":"'[2]Weekly Pig prices'!AA115","v":49937.75},{"$f":"'[2]Weekly Pig prices'!AB115","v":237},{"$f":"'[2]Weekly Pig prices'!AC115","v":150.71},{"$f":"'[2]Weekly Pig prices'!AD115","v":169.74},{"$f":"'[2]Weekly Pig prices'!AE115","v":167.87970000000001},{"$f":"'[2]Weekly Pig prices'!AF115","v":703.08},{"$f":"'[2]Weekly Pig prices'!AG115","v":169},{"$f":"'[2]Weekly Pig prices'!AH115","v":190.98},{"$f":"'[2]Weekly Pig prices'!AI115","v":849.67000000000007},{"$f":"'[2]Weekly Pig prices'!AJ115","v":174.1},{"$f":"'[2]Weekly Pig prices'!AK115","v":177.59},{"$f":"'[2]Weekly Pig prices'!AL115","v":170.43},{"$f":"'[2]Weekly Pig prices'!AM115","v":187.59280000000001},{"$f":"'[2]Weekly Pig prices'!AN115","v":1674},{"$f":"'[2]Weekly Pig prices'!AO115","v":200.14680000000001},{"$f":"'[2]Weekly Pig prices'!AQ115","v":0},null,{"$f":"'[2]Weekly Pig prices'!$AR115","v":170.15246629999999},{"$f":"'[2]Weekly Pig prices'!AS115","v":-2.4084945558647819E-3}]
["201301","2013-11-25",48,{"$f":"'[2]Weekly Pig prices'!D116","v":153.6},{"$f":"'[2]Weekly Pig prices'!E116","v":211.55030000000002},{"$f":"'[2]Weekly Pig prices'!F116","v":413.75},{"$f":"'[2]Weekly Pig prices'!G116","v":168.44280000000001},{"$f":"'[2]Weekly Pig prices'!H116","v":4604},{"$f":"'[2]Weekly Pig prices'!I116","v":161.02090000000001},{"$f":"'[2]Weekly Pig prices'!J116","v":1201},{"$f":"'[2]Weekly Pig prices'!K116","v":172.23},{"$f":"'[2]Weekly Pig prices'!L116","v":174.88},{"$f":"'[2]Weekly Pig prices'!M116","v":199.64000000000001},{"$f":"'[2]Weekly Pig prices'!N116","v":179.96},{"$f":"'[2]Weekly Pig prices'!O116","v":154},{"$f":"'[2]Weekly Pig prices'!P116","v":169.22499999999999},{"$f":"'[2]Weekly Pig prices'!Q116","v":1293},{"$f":"'[2]Weekly Pig prices'!R116","v":165.97},{"$f":"'[2]Weekly Pig prices'!S116","v":195.75},{"$f":"'[2]Weekly Pig prices'!T116","v":191},{"$f":"'[2]Weekly Pig prices'!U116","v":181.15270000000001},{"$f":"'[2]Weekly Pig prices'!V116","v":127.34},{"$f":"'[2]Weekly Pig prices'!W116","v":173.82990000000001},{"$f":"'[2]Weekly Pig prices'!X116","v":600.20000000000005},{"$f":"'[2]Weekly Pig prices'!Y116","v":167.5},{"$f":"'[2]Weekly Pig prices'!Z116","v":168.38590000000002},{"$f":"'[2]Weekly Pig prices'!AA116","v":50411.12},{"$f":"'[2]Weekly Pig prices'!AB116","v":237},{"$f":"'[2]Weekly Pig prices'!AC116","v":152.58000000000001},{"$f":"'[2]Weekly Pig prices'!AD116","v":169.72},{"$f":"'[2]Weekly Pig prices'!AE116","v":168.24540000000002},{"$f":"'[2]Weekly Pig prices'!AF116","v":706.58},{"$f":"'[2]Weekly Pig prices'!AG116","v":169},{"$f":"'[2]Weekly Pig prices'!AH116","v":189.2525},{"$f":"'[2]Weekly Pig prices'!AI116","v":840.6},{"$f":"'[2]Weekly Pig prices'!AJ116","v":173.70000000000002},{"$f":"'[2]Weekly Pig prices'!AK116","v":174.14000000000001},{"$f":"'[2]Weekly Pig prices'!AL116","v":172.71},{"$f":"'[2]Weekly Pig prices'!AM116","v":187.08410000000001},{"$f":"'[2]Weekly Pig prices'!AN116","v":1666},{"$f":"'[2]Weekly Pig prices'!AO116","v":200.7621},{"$f":"'[2]Weekly Pig prices'!AQ116","v":0},null,{"$f":"'[2]Weekly Pig prices'!$AR116","v":171.35641910000001},{"$f":"'[2]Weekly Pig prices'!AS116","v":7.0757293513294961E-3}]
["201302","2013-12-02",49,{"$f":"'[2]Weekly Pig prices'!D117","v":158.1},{"$f":"'[2]Weekly Pig prices'!E117","v":198.88030000000001},{"$f":"'[2]Weekly Pig prices'!F117","v":388.97},{"$f":"'[2]Weekly Pig prices'!G117","v":170.506},{"$f":"'[2]Weekly Pig prices'!H117","v":4680},{"$f":"'[2]Weekly Pig prices'!I117","v":162.8777},{"$f":"'[2]Weekly Pig prices'!J117","v":1215},{"$f":"'[2]Weekly Pig prices'!K117","v":172.89000000000001},{"$f":"'[2]Weekly Pig prices'!L117","v":170.70000000000002},{"$f":"'[2]Weekly Pig prices'!M117","v":200.57},{"$f":"'[2]Weekly Pig prices'!N117","v":180.48},{"$f":"'[2]Weekly Pig prices'!O117","v":154},{"$f":"'[2]Weekly Pig prices'!P117","v":169.90770000000001},{"$f":"'[2]Weekly Pig prices'!Q117","v":1298},{"$f":"'[2]Weekly Pig prices'!R117","v":165.79},{"$f":"'[2]Weekly Pig prices'!S117","v":195.75},{"$f":"'[2]Weekly Pig prices'!T117","v":191},{"$f":"'[2]Weekly Pig prices'!U117","v":180.61260000000001},{"$f":"'[2]Weekly Pig prices'!V117","v":126.95},{"$f":"'[2]Weekly Pig prices'!W117","v":177.38939999999999},{"$f":"'[2]Weekly Pig prices'!X117","v":612.49},{"$f":"'[2]Weekly Pig prices'!Y117","v":170.5},{"$f":"'[2]Weekly Pig prices'!Z117","v":173.46690000000001},{"$f":"'[2]Weekly Pig prices'!AA117","v":52412.29},{"$f":"'[2]Weekly Pig prices'!AB117","v":237},{"$f":"'[2]Weekly Pig prices'!AC117","v":154.68},{"$f":"'[2]Weekly Pig prices'!AD117","v":175.06},{"$f":"'[2]Weekly Pig prices'!AE117","v":172.3116},{"$f":"'[2]Weekly Pig prices'!AF117","v":723.15},{"$f":"'[2]Weekly Pig prices'!AG117","v":169},{"$f":"'[2]Weekly Pig prices'!AH117","v":187.82420000000002},{"$f":"'[2]Weekly Pig prices'!AI117","v":837.06000000000006},{"$f":"'[2]Weekly Pig prices'!AJ117","v":176.67000000000002},{"$f":"'[2]Weekly Pig prices'!AK117","v":174.31},{"$f":"'[2]Weekly Pig prices'!AL117","v":173.13},{"$f":"'[2]Weekly Pig prices'!AM117","v":186.64690000000002},{"$f":"'[2]Weekly Pig prices'!AN117","v":1659},{"$f":"'[2]Weekly Pig prices'!AO117","v":201.49},{"$f":"'[2]Weekly Pig prices'!AQ117","v":0},null,{"$f":"'[2]Weekly Pig prices'!$AR117","v":172.58223390000003},{"$f":"'[2]Weekly Pig prices'!AS117","v":7.1535972007250592E-3}]
["201303","2013-12-09",50,{"$f":"'[2]Weekly Pig prices'!D118","v":153.20000000000002},{"$f":"'[2]Weekly Pig prices'!E118","v":199.73920000000001},{"$f":"'[2]Weekly Pig prices'!F118","v":390.65000000000003},{"$f":"'[2]Weekly Pig prices'!G118","v":173.50110000000001},{"$f":"'[2]Weekly Pig prices'!H118","v":4769},{"$f":"'[2]Weekly Pig prices'!I118","v":160.17510000000001},{"$f":"'[2]Weekly Pig prices'!J118","v":1195},{"$f":"'[2]Weekly Pig prices'!K118","v":167.17000000000002},{"$f":"'[2]Weekly Pig prices'!L118","v":171.03},{"$f":"'[2]Weekly Pig prices'!M118","v":200.11},{"$f":"'[2]Weekly Pig prices'!N118","v":183.29},{"$f":"'[2]Weekly Pig prices'!O118","v":154},{"$f":"'[2]Weekly Pig prices'!P118","v":173.4744},{"$f":"'[2]Weekly Pig prices'!Q118","v":1325},{"$f":"'[2]Weekly Pig prices'!R118","v":165.75},{"$f":"'[2]Weekly Pig prices'!S118","v":194.06},{"$f":"'[2]Weekly Pig prices'!T118","v":191},{"$f":"'[2]Weekly Pig prices'!U118","v":184.42690000000002},{"$f":"'[2]Weekly Pig prices'!V118","v":129.66},{"$f":"'[2]Weekly Pig prices'!W118","v":176.6045},{"$f":"'[2]Weekly Pig prices'!X118","v":609.78},{"$f":"'[2]Weekly Pig prices'!Y118","v":162.9},{"$f":"'[2]Weekly Pig prices'!Z118","v":168.94730000000001},{"$f":"'[2]Weekly Pig prices'!AA118","v":51050.81},{"$f":"'[2]Weekly Pig prices'!AB118","v":237},{"$f":"'[2]Weekly Pig prices'!AC118","v":154.32},{"$f":"'[2]Weekly Pig prices'!AD118","v":171.54},{"$f":"'[2]Weekly Pig prices'!AE118","v":169.31640000000002},{"$f":"'[2]Weekly Pig prices'!AF118","v":708.41},{"$f":"'[2]Weekly Pig prices'!AG118","v":172},{"$f":"'[2]Weekly Pig prices'!AH118","v":187.06110000000001},{"$f":"'[2]Weekly Pig prices'!AI118","v":833.32},{"$f":"'[2]Weekly Pig prices'!AJ118","v":171.81},{"$f":"'[2]Weekly Pig prices'!AK118","v":173.62},{"$f":"'[2]Weekly Pig prices'!AL118","v":171.92000000000002},{"$f":"'[2]Weekly Pig prices'!AM118","v":183.95850000000002},{"$f":"'[2]Weekly Pig prices'!AN118","v":1656},{"$f":"'[2]Weekly Pig prices'!AO118","v":199.3194},{"$f":"'[2]Weekly Pig prices'!AQ118","v":0},null,{"$f":"'[2]Weekly Pig prices'!$AR118","v":170.96223219999993},{"$f":"'[2]Weekly Pig prices'!AS118","v":-9.3868393251810289E-3}]
["201303","2013-12-16",51,{"$f":"'[2]Weekly Pig prices'!D119","v":147.5},{"$f":"'[2]Weekly Pig prices'!E119","v":199.73920000000001},{"$f":"'[2]Weekly Pig prices'!F119","v":390.65000000000003},{"$f":"'[2]Weekly Pig prices'!G119","v":173.50110000000001},{"$f":"'[2]Weekly Pig prices'!H119","v":4769},{"$f":"'[2]Weekly Pig prices'!I119","v":157.7724},{"$f":"'[2]Weekly Pig prices'!J119","v":1177},{"$f":"'[2]Weekly Pig prices'!K119","v":167.17000000000002},{"$f":"'[2]Weekly Pig prices'!L119","v":171.03},{"$f":"'[2]Weekly Pig prices'!M119","v":200.48000000000002},{"$f":"'[2]Weekly Pig prices'!N119","v":178.44},{"$f":"'[2]Weekly Pig prices'!O119","v":154},{"$f":"'[2]Weekly Pig prices'!P119","v":171.78720000000001},{"$f":"'[2]Weekly Pig prices'!Q119","v":1308},{"$f":"'[2]Weekly Pig prices'!R119","v":165.89000000000001},{"$f":"'[2]Weekly Pig prices'!S119","v":192.21},{"$f":"'[2]Weekly Pig prices'!T119","v":190},{"$f":"'[2]Weekly Pig prices'!U119","v":184.42690000000002},{"$f":"'[2]Weekly Pig prices'!V119","v":129.66},{"$f":"'[2]Weekly Pig prices'!W119","v":176.0745},{"$f":"'[2]Weekly Pig prices'!X119","v":607.95000000000005},{"$f":"'[2]Weekly Pig prices'!Y119","v":157.4},{"$f":"'[2]Weekly Pig prices'!Z119","v":168.94730000000001},{"$f":"'[2]Weekly Pig prices'!AA119","v":51050.81},{"$f":"'[2]Weekly Pig prices'!AB119","v":237},{"$f":"'[2]Weekly Pig prices'!AC119","v":148.97999999999999},{"$f":"'[2]Weekly Pig prices'!AD119","v":164.70000000000002},{"$f":"'[2]Weekly Pig prices'!AE119","v":163.61620000000002},{"$f":"'[2]Weekly Pig prices'!AF119","v":683.82},{"$f":"'[2]Weekly Pig prices'!AG119","v":172},{"$f":"'[2]Weekly Pig prices'!AH119","v":185.50550000000001},{"$f":"'[2]Weekly Pig prices'!AI119","v":828.2},{"$f":"'[2]Weekly Pig prices'!AJ119","v":168.26},{"$f":"'[2]Weekly Pig prices'!AK119","v":170.39000000000001},{"$f":"'[2]Weekly Pig prices'!AL119","v":173.66},{"$f":"'[2]Weekly Pig prices'!AM119","v":184.80370000000002},{"$f":"'[2]Weekly Pig prices'!AN119","v":1657},{"$f":"'[2]Weekly Pig prices'!AO119","v":198.58580000000001},{"$f":"'[2]Weekly Pig prices'!AQ119","v":0},null,{"$f":"'[2]Weekly Pig prices'!$AR119","v":168.46894129999998},{"$f":"'[2]Weekly Pig prices'!AS119","v":-1.4583869594561483E-2}]
["201303","2013-12-23",52,{"$f":"'[2]Weekly Pig prices'!D120","v":142.70000000000002},{"$f":"'[2]Weekly Pig prices'!E120","v":204.3818},{"$f":"'[2]Weekly Pig prices'!F120","v":399.73},{"$f":"'[2]Weekly Pig prices'!G120","v":167.0351},{"$f":"'[2]Weekly Pig prices'!H120","v":4599},{"$f":"'[2]Weekly Pig prices'!I120","v":152.40350000000001},{"$f":"'[2]Weekly Pig prices'!J120","v":1137},{"$f":"'[2]Weekly Pig prices'!K120","v":167.17000000000002},{"$f":"'[2]Weekly Pig prices'!L120","v":169.78},{"$f":"'[2]Weekly Pig prices'!M120","v":200.48000000000002},{"$f":"'[2]Weekly Pig prices'!N120","v":173.93},{"$f":"'[2]Weekly Pig prices'!O120","v":150},{"$f":"'[2]Weekly Pig prices'!P120","v":172.25200000000001},{"$f":"'[2]Weekly Pig prices'!Q120","v":1316},{"$f":"'[2]Weekly Pig prices'!R120","v":166.12},{"$f":"'[2]Weekly Pig prices'!S120","v":191.61},{"$f":"'[2]Weekly Pig prices'!T120","v":189},{"$f":"'[2]Weekly Pig prices'!U120","v":184.42690000000002},{"$f":"'[2]Weekly Pig prices'!V120","v":129.66},{"$f":"'[2]Weekly Pig prices'!W120","v":172.70330000000001},{"$f":"'[2]Weekly Pig prices'!X120","v":596.31000000000006},{"$f":"'[2]Weekly Pig prices'!Y120","v":152.20000000000002},{"$f":"'[2]Weekly Pig prices'!Z120","v":168.94730000000001},{"$f":"'[2]Weekly Pig prices'!AA120","v":51050.81},{"$f":"'[2]Weekly Pig prices'!AB120","v":237},{"$f":"'[2]Weekly Pig prices'!AC120","v":148.97999999999999},{"$f":"'[2]Weekly Pig prices'!AD120","v":159.58000000000001},{"$f":"'[2]Weekly Pig prices'!AE120","v":163.61620000000002},{"$f":"'[2]Weekly Pig prices'!AF120","v":681.1},{"$f":"'[2]Weekly Pig prices'!AG120","v":168},{"$f":"'[2]Weekly Pig prices'!AH120","v":184.93770000000001},{"$f":"'[2]Weekly Pig prices'!AI120","v":826.46},{"$f":"'[2]Weekly Pig prices'!AJ120","v":164.11},{"$f":"'[2]Weekly Pig prices'!AK120","v":175.05},{"$f":"'[2]Weekly Pig prices'!AL120","v":170.54},{"$f":"'[2]Weekly Pig prices'!AM120","v":175.06},{"$f":"'[2]Weekly Pig prices'!AN120","v":1649},{"$f":"'[2]Weekly Pig prices'!AO120","v":199.33750000000001},{"$f":"'[2]Weekly Pig prices'!AQ120","v":0},null,{"$f":"'[2]Weekly Pig prices'!$AR120","v":166.28671690000004},{"$f":"'[2]Weekly Pig prices'!AS120","v":-1.2953274254356217E-2}]
[]
[]
[]
[]
[]
[]
[]
[]
[]
[]
[]
[]
[]
[]
[]
[]
[]
[]
[]
[]
[]
[]
[]
[]
[]
[]
[]
[]
[]
[]
[]
[]
[]
[]
[]
[]
[]
[]
[]
[]
[]
[]
[]
[]
[]
[]
[]
[]
[]
[]
[]
[]
[]
[]
[]
[]
[]
[]
[]
[]
[]
[]
[]
[]
[]
[]
[]
[]
[]
[]
[]
[]
[]
[]
[]
[]
[]
[]
[]
[]
[]
[]
[]
[]
[]
[]
[]
[]
[]
[]
[]
[]
[]
[]
[]
[]
[]
[]
[]
[]
[]
[]
[]
[]
[]
[]
[]
[]
[]
[]
[]
[]
[]
[]
[]
[]
[]
[]
[]
[]
[]
[]
[]
[]
[]
[]
[]
[]
[]
[]
[]
[]
[]
[]
[]
[]
[]
[]
[]
[]
[]
[]
[]
[]
[]
[]
[]
[]
[]
[]
[]
[]
[]
[]
[]
[]
[]
[]
[]
[]
[]
[]
[]
[]
[]
[]
[]
[]
[]
[]
[]
[]
[]
[]
[]
[]
[]
[]
[]
[]
[]
[]
[]
[]
[]
[]
[]
[]
[]
[]
[]
[]
[]
[]
[]
[]
[]
[]
[]
[]
[]
[]
[]
[]
[]
[]
[]
[]
[]
[]
[]
[]
[]
[]
[]
[]
[]
[]
[]
[]
[]
[]
[]
[]
[]
[]
[]
[]
[]
[]
[]
[]
[]
[]
[]
[]
[]
[]
[]
[]
[]
[]
[]
[]
[]
[]
[]
[]
[]
[]
[]
[]
[]
[]
[]
[]
[]
[]
[]
[]
[]
[]
[]
[]
[]
[]
[]
[]
[]
[]
[]
[]
[]
[]
[]
[]
[]
[]
[]
[]
[]
[]
[]
[]
[]
[]
[]
[]
[]
[]
[]
[]
[]
[]
[]
[]
[]
[]
[]
[]
[]
[]
[]
[]
[]
[]
[]
[]
[]
[]
[]
[]
[]
[]
[]
[]
[]
[]
[]
[]
[]
[]
[]
[]
[]
[]
[]
[]
[]
[]
[]
[]
[]
[]
[]
[]
[]
[]
[]
[]
[]
[]
[]
[]
[]
[]
[]
[]
[]
[]
[]
[]
[]
[]
[]
[]
[]
[]
[]
[]
[]
[]
[]
[]
[]
[]
[]
[]
[]
[]
[]
[]
[]
[]
[]
[]
[]
[null,null,null,"BE","BG","BG","CZ","CZ","DK","DK","DE","EE","GR","ES","FR","HR","HR","IE","IT","CY","LV","LV","LT","LT","LU","HU","HU","MT","NL","AT","PL","PL","PT","RO","RO","SI","SK","FI","SE","SE","UK","UK",null,{"$f":"AR10","v":"EU_28"}]
[null,"Change 1 week",null,{"$f":"'[2]Weekly Pig prices'!D500","v":-3.2542372881355863E-2},{"$f":"'[2]Weekly Pig prices'!E500","v":2.3243309275294832E-2},{"$f":"'[2]Weekly Pig prices'!F500","v":2.3243312428004481E-2},{"$f":"'[2]Weekly Pig prices'!G500","v":-3.7267775247534551E-2},{"$f":"'[2]Weekly Pig prices'!H500","v":-3.5646886139651945E-2},{"$f":"'[2]Weekly Pig prices'!I500","v":-3.4029399311920172E-2},{"$f":"'[2]Weekly Pig prices'!J500","v":-3.3984706881903137E-2},{"$f":"'[2]Weekly Pig prices'!K500","v":0},{"$f":"'[2]Weekly Pig prices'!L500","v":-7.3086592995380562E-3},{"$f":"'[2]Weekly Pig prices'!M500","v":0},{"$f":"'[2]Weekly Pig prices'!N500","v":0},{"$f":"'[2]Weekly Pig prices'!O500","v":0},{"$f":"'[2]Weekly Pig prices'!P500","v":2.7056730652808003E-3},{"$f":"'[2]Weekly Pig prices'!Q500","v":6.1162079510703737E-3},{"$f":"'[2]Weekly Pig prices'!R500","v":0},{"$f":"'[2]Weekly Pig prices'!S500","v":0},{"$f":"'[2]Weekly Pig prices'!T500","v":0},{"$f":"'[2]Weekly Pig prices'!U500","v":0},{"$f":"'[2]Weekly Pig prices'!V500","v":0},{"$f":"'[2]Weekly Pig prices'!W500","v":-1.9146440853161528E-2},{"$f":"'[2]Weekly Pig prices'!X500","v":-1.914631137429057E-2},{"$f":"'[2]Weekly Pig prices'!Y500","v":-3.3036848792884266E-2},{"$f":"'[2]Weekly Pig prices'!Z500","v":0},{"$f":"'[2]Weekly Pig prices'!AA500","v":0},{"$f":"'[2]Weekly Pig prices'!AB500","v":0},{"$f":"'[2]Weekly Pig prices'!AC500","v":0},{"$f":"'[2]Weekly Pig prices'!AD500","v":-3.1086824529447554E-2},{"$f":"'[2]Weekly Pig prices'!AE500","v":0},{"$f":"'[2]Weekly Pig prices'!AF500","v":0},{"$f":"'[2]Weekly Pig prices'!AG500","v":-2.3255813953488413E-2},{"$f":"'[2]Weekly Pig prices'!AH500","v":-3.0608256898043695E-3},{"$f":"'[2]Weekly Pig prices'!AI500","v":0},{"$f":"'[2]Weekly Pig prices'!AJ500","v":-2.4664210150956767E-2},{"$f":"'[2]Weekly Pig prices'!AK500","v":2.7349022829978198E-2},{"$f":"'[2]Weekly Pig prices'!AL500","v":-1.7966140734769098E-2},{"$f":"'[2]Weekly Pig prices'!AM500","v":-5.2724593717550117E-2},{"$f":"'[2]Weekly Pig prices'!AN500","v":-4.8280024140011646E-3},{"$f":"'[2]Weekly Pig prices'!AO500","v":3.7852656131505125E-3},{"$f":"'[2]Weekly Pig prices'!AP500","v":-3.5863717872085532E-3},null,{"$f":"'[2]Weekly Pig prices'!AR500","v":-1.2953274254356217E-2}]
[null,"Change 4 weeks",null,{"$f":"'[2]Weekly Pig prices'!D501","v":-7.0963541666666519E-2},{"$f":"'[2]Weekly Pig prices'!E501","v":-3.3885558186398379E-2},{"$f":"'[2]Weekly Pig prices'!F501","v":-3.3885196374622284E-2},{"$f":"'[2]Weekly Pig prices'!G501","v":-8.3571396343447013E-3},{"$f":"'[2]Weekly Pig prices'!H501","v":-1.0860121633362585E-3},{"$f":"'[2]Weekly Pig prices'!I501","v":-5.351727632872505E-2},{"$f":"'[2]Weekly Pig prices'!J501","v":-5.328892589508738E-2},{"$f":"'[2]Weekly Pig prices'!K501","v":-2.9379318353364492E-2},{"$f":"'[2]Weekly Pig prices'!L501","v":-2.9162854528819726E-2},{"$f":"'[2]Weekly Pig prices'!M501","v":4.2075736325386526E-3},{"$f":"'[2]Weekly Pig prices'!N501","v":-3.3507446099133142E-2},{"$f":"'[2]Weekly Pig prices'!O501","v":-2.5974025974025983E-2},{"$f":"'[2]Weekly Pig prices'!P501","v":1.7887427980499471E-2},{"$f":"'[2]Weekly Pig prices'!Q501","v":1.7788089713843824E-2},{"$f":"'[2]Weekly Pig prices'!R501","v":9.0377779116712631E-4},{"$f":"'[2]Weekly Pig prices'!S501","v":-2.1149425287356305E-2},{"$f":"'[2]Weekly Pig prices'!T501","v":-1.0471204188481686E-2},{"$f":"'[2]Weekly Pig prices'!U501","v":1.8074254482544294E-2},{"$f":"'[2]Weekly Pig prices'!V501","v":1.821894141667979E-2},{"$f":"'[2]Weekly Pig prices'!W501","v":-6.4810484272268543E-3},{"$f":"'[2]Weekly Pig prices'!X501","v":-6.4811729423525088E-3},{"$f":"'[2]Weekly Pig prices'!Y501","v":-9.134328358208943E-2},{"$f":"'[2]Weekly Pig prices'!Z501","v":3.3340083700594825E-3},{"$f":"'[2]Weekly Pig prices'!AA501","v":1.268946216628386E-2},{"$f":"'[2]Weekly Pig prices'!AB501","v":0},{"$f":"'[2]Weekly Pig prices'!AC501","v":-2.3594180102241569E-2},{"$f":"'[2]Weekly Pig prices'!AD501","v":-5.9745463115719932E-2},{"$f":"'[2]Weekly Pig prices'!AE501","v":-2.7514570977869246E-2},{"$f":"'[2]Weekly Pig prices'!AF501","v":-3.6061026352288472E-2},{"$f":"'[2]Weekly Pig prices'!AG501","v":-5.9171597633136397E-3},{"$f":"'[2]Weekly Pig prices'!AH501","v":-2.2799170420469972E-2},{"$f":"'[2]Weekly Pig prices'!AI501","v":-1.6821318106114647E-2},{"$f":"'[2]Weekly Pig prices'!AJ501","v":-5.521013241220496E-2},{"$f":"'[2]Weekly Pig prices'!AK501","v":5.2256804869645901E-3},{"$f":"'[2]Weekly Pig prices'!AL501","v":-1.2564414336170504E-2},{"$f":"'[2]Weekly Pig prices'!AM501","v":-6.4271095191948402E-2},{"$f":"'[2]Weekly Pig prices'!AN501","v":-1.0204081632653073E-2},{"$f":"'[2]Weekly Pig prices'!AO501","v":-7.0959608412145547E-3},{"$f":"'[2]Weekly Pig prices'!AP501","v":-4.5978384188212207E-3},null,{"$f":"'[2]Weekly Pig prices'!AR501","v":-2.9585715123058187E-2}]
[null,"Change 1 Year",null,{"$f":"'[2]Weekly Pig prices'!D502","v":-7.8760490639121938E-2},{"$f":"'[2]Weekly Pig prices'!E502","v":-1.3816008195127405E-2},{"$f":"'[2]Weekly Pig prices'!F502","v":-1.3815903091308201E-2},{"$f":"'[2]Weekly Pig prices'!G502","v":-8.1001245064170613E-2},{"$f":"'[2]Weekly Pig prices'!H502","v":6.5659881812212273E-3},{"$f":"'[2]Weekly Pig prices'!I502","v":-5.7152914654501563E-2},{"$f":"'[2]Weekly Pig prices'!J502","v":-5.7213930348258724E-2},{"$f":"'[2]Weekly Pig prices'!K502","v":-2.4451447245564917E-2},{"$f":"'[2]Weekly Pig prices'!L502","v":-5.0181818181818216E-2},{"$f":"'[2]Weekly Pig prices'!M502","v":-4.4696464309539663E-2},{"$f":"'[2]Weekly Pig prices'!N502","v":5.0271582110250623E-3},{"$f":"'[2]Weekly Pig prices'!O502","v":-3.8461538461538436E-2},{"$f":"'[2]Weekly Pig prices'!P502","v":0},{"$f":"'[2]Weekly Pig prices'!Q502","v":{"$error":"#VALUE!"}},{"$f":"'[2]Weekly Pig prices'!R502","v":-3.17090230823035E-2},{"$f":"'[2]Weekly Pig prices'!S502","v":2.9552415238299989E-2},{"$f":"'[2]Weekly Pig prices'!T502","v":0},{"$f":"'[2]Weekly Pig prices'!U502","v":-3.0363492306341389E-2},{"$f":"'[2]Weekly Pig prices'!V502","v":-2.1876885938443058E-2},{"$f":"'[2]Weekly Pig prices'!W502","v":-2.2538905264492426E-2},{"$f":"'[2]Weekly Pig prices'!X502","v":-2.2538766678687372E-2},{"$f":"'[2]Weekly Pig prices'!Y502","v":-9.9940863394441082E-2},{"$f":"'[2]Weekly Pig prices'!Z502","v":-8.0094462261481869E-3},{"$f":"'[2]Weekly Pig prices'!AA502","v":3.3223320239299081E-2},{"$f":"'[2]Weekly Pig prices'!AB502","v":0},{"$f":"'[2]Weekly Pig prices'!AC502","v":-3.7348151977255162E-2},{"$f":"'[2]Weekly Pig prices'!AD502","v":-3.9831528279181683E-2},{"$f":"'[2]Weekly Pig prices'!AE502","v":-4.6327792945389468E-2},{"$f":"'[2]Weekly Pig prices'!AF502","v":-2.629058313914423E-2},{"$f":"'[2]Weekly Pig prices'!AG502","v":-2.8901734104046284E-2},{"$f":"'[2]Weekly Pig prices'!AH502","v":-6.8213617229243795E-2},{"$f":"'[2]Weekly Pig prices'!AI502","v":-5.9740377942364309E-2},{"$f":"'[2]Weekly Pig prices'!AJ502","v":-3.2313226015684871E-2},{"$f":"'[2]Weekly Pig prices'!AK502","v":-3.90843717406818E-2},{"$f":"'[2]Weekly Pig prices'!AL502","v":-5.1343383211881921E-2},{"$f":"'[2]Weekly Pig prices'!AM502","v":-7.2886893366104766E-2},{"$f":"'[2]Weekly Pig prices'!AN502","v":1.4769230769230868E-2},{"$f":"'[2]Weekly Pig prices'!AO502","v":3.8184243296690346E-2},{"$f":"'[2]Weekly Pig prices'!AP502","v":6.2392454273150433E-2},null,{"$f":"'[2]Weekly Pig prices'!AR502","v":-2.6230766791489168E-2}]
[null,"Change in average - last 4 weeks 2013 with same weeks 2014",null,{"$f":"'[2]Weekly Pig prices'!D503","v":-5.7012959866220791E-2},{"$f":"'[2]Weekly Pig prices'!E503","v":-3.1685148735243085E-2},{"$f":"'[2]Weekly Pig prices'!F503","v":-3.1685073559040267E-2},{"$f":"'[2]Weekly Pig prices'!G503","v":-6.5095340130808199E-2},{"$f":"'[2]Weekly Pig prices'!H503","v":1.8529878752886697E-2},{"$f":"'[2]Weekly Pig prices'!I503","v":-6.3424294134154402E-2},{"$f":"'[2]Weekly Pig prices'!J503","v":-6.3441712926249005E-2},{"$f":"'[2]Weekly Pig prices'!K503","v":-3.336773305813534E-2},{"$f":"'[2]Weekly Pig prices'!L503","v":-4.3150339258677839E-2},{"$f":"'[2]Weekly Pig prices'!M503","v":-3.0133406462228174E-2},{"$f":"'[2]Weekly Pig prices'!N503","v":2.9035348213430456E-2},{"$f":"'[2]Weekly Pig prices'!O503","v":-3.1645569620253111E-2},{"$f":"'[2]Weekly Pig prices'!P503","v":0},{"$f":"'[2]Weekly Pig prices'!Q503","v":{"$error":"#DIV/0!"}},{"$f":"'[2]Weekly Pig prices'!R503","v":-3.2707146883321436E-2},{"$f":"'[2]Weekly Pig prices'!S503","v":2.463930633796596E-2},{"$f":"'[2]Weekly Pig prices'!T503","v":-4.7161936560934814E-2},{"$f":"'[2]Weekly Pig prices'!U503","v":-3.1346054550273283E-2},{"$f":"'[2]Weekly Pig prices'!V503","v":-2.202016883182556E-2},{"$f":"'[2]Weekly Pig prices'!W503","v":-3.2617794676191858E-2},{"$f":"'[2]Weekly Pig prices'!X503","v":-3.2617766815857485E-2},{"$f":"'[2]Weekly Pig prices'!Y503","v":-7.7739529546758335E-2},{"$f":"'[2]Weekly Pig prices'!Z503","v":-2.2062603283688142E-2},{"$f":"'[2]Weekly Pig prices'!AA503","v":3.9683757811104892E-2},{"$f":"'[2]Weekly Pig prices'!AB503","v":6.1732819639817027E-2},{"$f":"'[2]Weekly Pig prices'!AC503","v":-4.0591805766312494E-2},{"$f":"'[2]Weekly Pig prices'!AD503","v":-1.2191530714411702E-2},{"$f":"'[2]Weekly Pig prices'!AE503","v":-4.0303792179488207E-2},{"$f":"'[2]Weekly Pig prices'!AF503","v":-2.1539236679682383E-2},{"$f":"'[2]Weekly Pig prices'!AG503","v":-2.7142857142857135E-2},{"$f":"'[2]Weekly Pig prices'!AH503","v":-4.558663764821469E-2},{"$f":"'[2]Weekly Pig prices'!AI503","v":-5.44838254697666E-2},{"$f":"'[2]Weekly Pig prices'!AJ503","v":-4.2364618474680649E-3},{"$f":"'[2]Weekly Pig prices'!AK503","v":-6.6243805214393325E-2},{"$f":"'[2]Weekly Pig prices'!AL503","v":-5.1212282504955686E-2},{"$f":"'[2]Weekly Pig prices'!AM503","v":-8.6955754694362231E-3},{"$f":"'[2]Weekly Pig prices'!AN503","v":3.6691022964509434E-2},{"$f":"'[2]Weekly Pig prices'!AO503","v":3.2128992363565922E-2},{"$f":"'[2]Weekly Pig prices'!AP503","v":"UK"},null,{"$f":"'[2]Weekly Pig prices'!AR503","v":3.8400212940616685E-2}]
[null,"% of Reference Price",null,{"$f":"'[2]Weekly Pig prices'!D504","v":94.541503521290068},{"$f":"'[2]Weekly Pig prices'!E504","v":135.40688622556132},{"$f":"'[2]Weekly Pig prices'!F504","v":264.82883813991083},{"$f":"'[2]Weekly Pig prices'!G504","v":110.66397683832541},{"$f":"'[2]Weekly Pig prices'!H504","v":3046.9262417267905},{"$f":"'[2]Weekly Pig prices'!I504","v":100.9702595088082},{"$f":"'[2]Weekly Pig prices'!J504","v":753.28443940929787},{"$f":"'[2]Weekly Pig prices'!K504","v":110.75335069133889},{"$f":"'[2]Weekly Pig prices'!L504","v":112.48252605357132},{"$f":"'[2]Weekly Pig prices'!M504","v":132.82186843691824},{"$f":"'[2]Weekly Pig prices'!N504","v":115.23198113145045},{"$f":"'[2]Weekly Pig prices'!O504","v":99.37789438117386},{"$f":"'[2]Weekly Pig prices'!P504","v":114.12027375297306},{"$f":"'[2]Weekly Pig prices'!Q504","v":0},{"$f":"'[2]Weekly Pig prices'!R504","v":110.05770543067068},{"$f":"'[2]Weekly Pig prices'!S504","v":126.94532228251148},{"$f":"'[2]Weekly Pig prices'!T504","v":125.21614692027906},{"$f":"'[2]Weekly Pig prices'!U504","v":122.18637992831543},{"$f":"'[2]Weekly Pig prices'!V504","v":85.902251903086679},{"$f":"'[2]Weekly Pig prices'!W504","v":114.41926871120123},{"$f":"'[2]Weekly Pig prices'!X504","v":0},{"$f":"'[2]Weekly Pig prices'!Y504","v":100.83543683209776},{"$f":"'[2]Weekly Pig prices'!Z504","v":111.93084623589662},{"$f":"'[2]Weekly Pig prices'!AA504","v":33822.146695022493},{"$f":"'[2]Weekly Pig prices'!AB504","v":157.01707312225469},{"$f":"'[2]Weekly Pig prices'!AC504","v":98.702124699381855},{"$f":"'[2]Weekly Pig prices'!AD504","v":105.72482923565151},{"$f":"'[2]Weekly Pig prices'!AE504","v":108.39888961766013},{"$f":"'[2]Weekly Pig prices'!AF504","v":451.24189242011676},{"$f":"'[2]Weekly Pig prices'!AG504","v":111.30324170691472},{"$f":"'[2]Weekly Pig prices'!AH504","v":122.52479478464811},{"$f":"'[2]Weekly Pig prices'!AI504","v":547.54569726843295},{"$f":"'[2]Weekly Pig prices'!AJ504","v":108.72604164596294},{"$f":"'[2]Weekly Pig prices'!AK504","v":115.9740027428299},{"$f":"'[2]Weekly Pig prices'!AL504","v":112.98604071843593},{"$f":"'[2]Weekly Pig prices'!AM504","v":115.98062793578863},{"$f":"'[2]Weekly Pig prices'!AN504","v":1092.4943188970378},{"$f":"'[2]Weekly Pig prices'!AO504","v":132.06494014138161},{"$f":"'[2]Weekly Pig prices'!AQ505","v":0},null,{"$f":"'[2]Weekly Pig prices'!AR504","v":110.16815859386907}]
[]
[null,"???","Price not communicated"]

{"sheet":"Prices","index":3,"n_rows":49,"n_cols":29,"rows_kept":49,"cut":false,"hidden":true,"merged":[[1,0,2,1],[48,0,48,3]]}
[]
["€ur per 100 kg carcasses"]
[]
[null,null,null,null,null,null,null,null,null,null,null," "]
["PIGS"]
["Week beginning"]
["Country Code","Weights (%)","2012-12-24",{"$f":"+C7+7","v":"2012-12-31"},{"$f":"+D7+7","v":"2013-01-07"},"2013-01-14","2013-01-21","2013-01-28","2013-02-04","2013-02-11","2013-02-18","2013-02-25","2013-03-04","2013-03-11","2013-03-18","2013-03-25","2013-04-01","2013-04-08","2013-04-15","2013-04-22","2013-04-29","2013-05-06","2013-05-13","2013-05-20",null,"% over prev ","% over prev "]
[null,null,"52","01","02","03","04","05","06","07","08","09","10","11","12","13","14","15","16","17","18","19","20","21",null,"week","year"]
["BE",null,{"$f":"VLOOKUP($A9&C$7,#REF!,11,0)","v":{"$error":"#REF!"}},{"$f":"VLOOKUP($A9&D$7,#REF!,11,0)","v":{"$error":"#REF!"}},{"$f":"VLOOKUP($A9&E$7,#REF!,11,0)","v":{"$error":"#REF!"}},{"$f":"VLOOKUP($A9&F$7,#REF!,11,0)","v":{"$error":"#REF!"}},{"$f":"VLOOKUP($A9&G$7,#REF!,11,0)","v":{"$error":"#REF!"}},{"$f":"VLOOKUP($A9&H$7,#REF!,11,0)","v":{"$error":"#REF!"}},{"$f":"VLOOKUP($A9&I$7,#REF!,11,0)","v":{"$error":"#REF!"}},{"$f":"VLOOKUP($A9&J$7,#REF!,11,0)","v":{"$error":"#REF!"}},{"$f":"VLOOKUP($A9&K$7,#REF!,11,0)","v":{"$error":"#REF!"}},{"$f":"VLOOKUP($A9&L$7,#REF!,11,0)","v":{"$error":"#REF!"}},{"$f":"VLOOKUP($A9&M$7,#REF!,11,0)","v":{"$error":"#REF!"}},{"$f":"VLOOKUP($A9&N$7,#REF!,11,0)","v":{"$error":"#REF!"}},{"$f":"VLOOKUP($A9&O$7,#REF!,11,0)","v":{"$error":"#REF!"}},{"$f":"VLOOKUP($A9&P$7,#REF!,11,0)","v":{"$error":"#REF!"}},{"$f":"VLOOKUP($A9&Q$7,#REF!,11,0)","v":{"$error":"#REF!"}},{"$f":"VLOOKUP($A9&R$7,#REF!,11,0)","v":{"$error":"#REF!"}},{"$f":"VLOOKUP($A9&S$7,#REF!,11,0)","v":{"$error":"#REF!"}},{"$f":"VLOOKUP($A9&T$7,#REF!,11,0)","v":{"$error":"#REF!"}},{"$f":"VLOOKUP($A9&U$7,#REF!,11,0)","v":{"$error":"#REF!"}},{"$f":"VLOOKUP($A9&V$7,#REF!,11,0)","v":{"$error":"#REF!"}},{"$f":"VLOOKUP($A9&W$7,#REF!,11,0)","v":{"$error":"#REF!"}},{"$f":"VLOOKUP($A9&X$7,#REF!,11,0)","v":{"$error":"#REF!"}},null,{"$f":"+(X9/W9)-1","v":{"$error":"#REF!"}},-0.73518850987432671,null,"BE"]
["DK",null,{"$f":"VLOOKUP($A10&C$7,#REF!,11,0)","v":{"$error":"#REF!"}},{"$f":"VLOOKUP($A10&D$7,#REF!,11,0)","v":{"$error":"#REF!"}},{"$f":"VLOOKUP($A10&E$7,#REF!,11,0)","v":{"$error":"#REF!"}},{"$f":"VLOOKUP($A10&F$7,#REF!,11,0)","v":{"$error":"#REF!"}},{"$f":"VLOOKUP($A10&G$7,#REF!,11,0)","v":{"$error":"#REF!"}},{"$f":"VLOOKUP($A10&H$7,#REF!,11,0)","v":{"$error":"#REF!"}},{"$f":"VLOOKUP($A10&I$7,#REF!,11,0)","v":{"$error":"#REF!"}},{"$f":"VLOOKUP($A10&J$7,#REF!,11,0)","v":{"$error":"#REF!"}},{"$f":"VLOOKUP($A10&K$7,#REF!,11,0)","v":{"$error":"#REF!"}},{"$f":"VLOOKUP($A10&L$7,#REF!,11,0)","v":{"$error":"#REF!"}},{"$f":"VLOOKUP($A10&M$7,#REF!,11,0)","v":{"$error":"#REF!"}},{"$f":"VLOOKUP($A10&N$7,#REF!,11,0)","v":{"$error":"#REF!"}},{"$f":"VLOOKUP($A10&O$7,#REF!,11,0)","v":{"$error":"#REF!"}},{"$f":"VLOOKUP($A10&P$7,#REF!,11,0)","v":{"$error":"#REF!"}},{"$f":"VLOOKUP($A10&Q$7,#REF!,11,0)","v":{"$error":"#REF!"}},{"$f":"VLOOKUP($A10&R$7,#REF!,11,0)","v":{"$error":"#REF!"}},{"$f":"VLOOKUP($A10&S$7,#REF!,11,0)","v":{"$error":"#REF!"}},{"$f":"VLOOKUP($A10&T$7,#REF!,11,0)","v":{"$error":"#REF!"}},{"$f":"VLOOKUP($A10&U$7,#REF!,11,0)","v":{"$error":"#REF!"}},{"$f":"VLOOKUP($A10&V$7,#REF!,11,0)","v":{"$error":"#REF!"}},{"$f":"VLOOKUP($A10&W$7,#REF!,11,0)","v":{"$error":"#REF!"}},{"$f":"VLOOKUP($A10&X$7,#REF!,11,0)","v":{"$error":"#REF!"}},null,{"$error":"#REF!"},null,null,"DK"]
["DE",null,{"$f":"VLOOKUP($A11&C$7,#REF!,11,0)","v":{"$error":"#REF!"}},{"$f":"VLOOKUP($A11&D$7,#REF!,11,0)","v":{"$error":"#REF!"}},{"$f":"VLOOKUP($A11&E$7,#REF!,11,0)","v":{"$error":"#REF!"}},{"$f":"VLOOKUP($A11&F$7,#REF!,11,0)","v":{"$error":"#REF!"}},{"$f":"VLOOKUP($A11&G$7,#REF!,11,0)","v":{"$error":"#REF!"}},{"$f":"VLOOKUP($A11&H$7,#REF!,11,0)","v":{"$error":"#REF!"}},{"$f":"VLOOKUP($A11&I$7,#REF!,11,0)","v":{"$error":"#REF!"}},{"$f":"VLOOKUP($A11&J$7,#REF!,11,0)","v":{"$error":"#REF!"}},{"$f":"VLOOKUP($A11&K$7,#REF!,11,0)","v":{"$error":"#REF!"}},{"$f":"VLOOKUP($A11&L$7,#REF!,11,0)","v":{"$error":"#REF!"}},{"$f":"VLOOKUP($A11&M$7,#REF!,11,0)","v":{"$error":"#REF!"}},{"$f":"VLOOKUP($A11&N$7,#REF!,11,0)","v":{"$error":"#REF!"}},{"$f":"VLOOKUP($A11&O$7,#REF!,11,0)","v":{"$error":"#REF!"}},{"$f":"VLOOKUP($A11&P$7,#REF!,11,0)","v":{"$error":"#REF!"}},{"$f":"VLOOKUP($A11&Q$7,#REF!,11,0)","v":{"$error":"#REF!"}},{"$f":"VLOOKUP($A11&R$7,#REF!,11,0)","v":{"$error":"#REF!"}},{"$f":"VLOOKUP($A11&S$7,#REF!,11,0)","v":{"$error":"#REF!"}},{"$f":"VLOOKUP($A11&T$7,#REF!,11,0)","v":{"$error":"#REF!"}},{"$f":"VLOOKUP($A11&U$7,#REF!,11,0)","v":{"$error":"#REF!"}},{"$f":"VLOOKUP($A11&V$7,#REF!,11,0)","v":{"$error":"#REF!"}},{"$f":"VLOOKUP($A11&W$7,#REF!,11,0)","v":{"$error":"#REF!"}},{"$f":"VLOOKUP($A11&X$7,#REF!,11,0)","v":{"$error":"#REF!"}},null,{"$error":"#REF!"},-0.69171483622350671,null,"DE"]
["EE",null,{"$f":"VLOOKUP($A12&C$7,#REF!,11,0)","v":{"$error":"#REF!"}},{"$f":"VLOOKUP($A12&D$7,#REF!,11,0)","v":{"$error":"#REF!"}},{"$f":"VLOOKUP($A12&E$7,#REF!,11,0)","v":{"$error":"#REF!"}},{"$f":"VLOOKUP($A12&F$7,#REF!,11,0)","v":{"$error":"#REF!"}},{"$f":"VLOOKUP($A12&G$7,#REF!,11,0)","v":{"$error":"#REF!"}},{"$f":"VLOOKUP($A12&H$7,#REF!,11,0)","v":{"$error":"#REF!"}},{"$f":"VLOOKUP($A12&I$7,#REF!,11,0)","v":{"$error":"#REF!"}},{"$f":"VLOOKUP($A12&J$7,#REF!,11,0)","v":{"$error":"#REF!"}},{"$f":"VLOOKUP($A12&K$7,#REF!,11,0)","v":{"$error":"#REF!"}},{"$f":"VLOOKUP($A12&L$7,#REF!,11,0)","v":{"$error":"#REF!"}},{"$f":"VLOOKUP($A12&M$7,#REF!,11,0)","v":{"$error":"#REF!"}},{"$f":"VLOOKUP($A12&N$7,#REF!,11,0)","v":{"$error":"#REF!"}},{"$f":"VLOOKUP($A12&O$7,#REF!,11,0)","v":{"$error":"#REF!"}},{"$f":"VLOOKUP($A12&P$7,#REF!,11,0)","v":{"$error":"#REF!"}},{"$f":"VLOOKUP($A12&Q$7,#REF!,11,0)","v":{"$error":"#REF!"}},{"$f":"VLOOKUP($A12&R$7,#REF!,11,0)","v":{"$error":"#REF!"}},{"$f":"VLOOKUP($A12&S$7,#REF!,11,0)","v":{"$error":"#REF!"}},{"$f":"VLOOKUP($A12&T$7,#REF!,11,0)","v":{"$error":"#REF!"}},{"$f":"VLOOKUP($A12&U$7,#REF!,11,0)","v":{"$error":"#REF!"}},{"$f":"VLOOKUP($A12&V$7,#REF!,11,0)","v":{"$error":"#REF!"}},{"$f":"VLOOKUP($A12&W$7,#REF!,11,0)","v":{"$error":"#REF!"}},{"$f":"VLOOKUP($A12&X$7,#REF!,11,0)","v":{"$error":"#REF!"}},null,{"$error":"#REF!"},-0.35217013560986665,null,"EE"]
["IE",null,{"$f":"VLOOKUP($A13&C$7,#REF!,11,0)","v":{"$error":"#REF!"}},{"$f":"VLOOKUP($A13&D$7,#REF!,11,0)","v":{"$error":"#REF!"}},{"$f":"VLOOKUP($A13&E$7,#REF!,11,0)","v":{"$error":"#REF!"}},{"$f":"VLOOKUP($A13&F$7,#REF!,11,0)","v":{"$error":"#REF!"}},{"$f":"VLOOKUP($A13&G$7,#REF!,11,0)","v":{"$error":"#REF!"}},{"$f":"VLOOKUP($A13&H$7,#REF!,11,0)","v":{"$error":"#REF!"}},{"$f":"VLOOKUP($A13&I$7,#REF!,11,0)","v":{"$error":"#REF!"}},{"$f":"VLOOKUP($A13&J$7,#REF!,11,0)","v":{"$error":"#REF!"}},{"$f":"VLOOKUP($A13&K$7,#REF!,11,0)","v":{"$error":"#REF!"}},{"$f":"VLOOKUP($A13&L$7,#REF!,11,0)","v":{"$error":"#REF!"}},{"$f":"VLOOKUP($A13&M$7,#REF!,11,0)","v":{"$error":"#REF!"}},{"$f":"VLOOKUP($A13&N$7,#REF!,11,0)","v":{"$error":"#REF!"}},{"$f":"VLOOKUP($A13&O$7,#REF!,11,0)","v":{"$error":"#REF!"}},{"$f":"VLOOKUP($A13&P$7,#REF!,11,0)","v":{"$error":"#REF!"}},{"$f":"VLOOKUP($A13&Q$7,#REF!,11,0)","v":{"$error":"#REF!"}},{"$f":"VLOOKUP($A13&R$7,#REF!,11,0)","v":{"$error":"#REF!"}},{"$f":"VLOOKUP($A13&S$7,#REF!,11,0)","v":{"$error":"#REF!"}},{"$f":"VLOOKUP($A13&T$7,#REF!,11,0)","v":{"$error":"#REF!"}},{"$f":"VLOOKUP($A13&U$7,#REF!,11,0)","v":{"$error":"#REF!"}},{"$f":"VLOOKUP($A13&V$7,#REF!,11,0)","v":{"$error":"#REF!"}},{"$f":"VLOOKUP($A13&W$7,#REF!,11,0)","v":{"$error":"#REF!"}},{"$f":"VLOOKUP($A13&X$7,#REF!,11,0)","v":{"$error":"#REF!"}},null,{"$error":"#REF!"},-0.63424735464785531,null,"IE"]
["ES",null,{"$f":"VLOOKUP($A14&C$7,#REF!,11,0)","v":{"$error":"#REF!"}},{"$f":"VLOOKUP($A14&D$7,#REF!,11,0)","v":{"$error":"#REF!"}},{"$f":"VLOOKUP($A14&E$7,#REF!,11,0)","v":{"$error":"#REF!"}},{"$f":"VLOOKUP($A14&F$7,#REF!,11,0)","v":{"$error":"#REF!"}},{"$f":"VLOOKUP($A14&G$7,#REF!,11,0)","v":{"$error":"#REF!"}},{"$f":"VLOOKUP($A14&H$7,#REF!,11,0)","v":{"$error":"#REF!"}},{"$f":"VLOOKUP($A14&I$7,#REF!,11,0)","v":{"$error":"#REF!"}},{"$f":"VLOOKUP($A14&J$7,#REF!,11,0)","v":{"$error":"#REF!"}},{"$f":"VLOOKUP($A14&K$7,#REF!,11,0)","v":{"$error":"#REF!"}},{"$f":"VLOOKUP($A14&L$7,#REF!,11,0)","v":{"$error":"#REF!"}},{"$f":"VLOOKUP($A14&M$7,#REF!,11,0)","v":{"$error":"#REF!"}},{"$f":"VLOOKUP($A14&N$7,#REF!,11,0)","v":{"$error":"#REF!"}},{"$f":"VLOOKUP($A14&O$7,#REF!,11,0)","v":{"$error":"#REF!"}},{"$f":"VLOOKUP($A14&P$7,#REF!,11,0)","v":{"$error":"#REF!"}},{"$f":"VLOOKUP($A14&Q$7,#REF!,11,0)","v":{"$error":"#REF!"}},{"$f":"VLOOKUP($A14&R$7,#REF!,11,0)","v":{"$error":"#REF!"}},{"$f":"VLOOKUP($A14&S$7,#REF!,11,0)","v":{"$error":"#REF!"}},{"$f":"VLOOKUP($A14&T$7,#REF!,11,0)","v":{"$error":"#REF!"}},{"$f":"VLOOKUP($A14&U$7,#REF!,11,0)","v":{"$error":"#REF!"}},{"$f":"VLOOKUP($A14&V$7,#REF!,11,0)","v":{"$error":"#REF!"}},{"$f":"VLOOKUP($A14&W$7,#REF!,11,0)","v":{"$error":"#REF!"}},{"$f":"VLOOKUP($A14&X$7,#REF!,11,0)","v":{"$error":"#REF!"}},null,{"$error":"#REF!"},-0.60699934088831242,null,"ES"]
["FR",null,{"$f":"VLOOKUP($A15&C$7,#REF!,11,0)","v":{"$error":"#REF!"}},{"$f":"VLOOKUP($A15&D$7,#REF!,11,0)","v":{"$error":"#REF!"}},{"$f":"VLOOKUP($A15&E$7,#REF!,11,0)","v":{"$error":"#REF!"}},{"$f":"VLOOKUP($A15&F$7,#REF!,11,0)","v":{"$error":"#REF!"}},{"$f":"VLOOKUP($A15&G$7,#REF!,11,0)","v":{"$error":"#REF!"}},{"$f":"VLOOKUP($A15&H$7,#REF!,11,0)","v":{"$error":"#REF!"}},{"$f":"VLOOKUP($A15&I$7,#REF!,11,0)","v":{"$error":"#REF!"}},{"$f":"VLOOKUP($A15&J$7,#REF!,11,0)","v":{"$error":"#REF!"}},{"$f":"VLOOKUP($A15&K$7,#REF!,11,0)","v":{"$error":"#REF!"}},{"$f":"VLOOKUP($A15&L$7,#REF!,11,0)","v":{"$error":"#REF!"}},{"$f":"VLOOKUP($A15&M$7,#REF!,11,0)","v":{"$error":"#REF!"}},{"$f":"VLOOKUP($A15&N$7,#REF!,11,0)","v":{"$error":"#REF!"}},{"$f":"VLOOKUP($A15&O$7,#REF!,11,0)","v":{"$error":"#REF!"}},{"$f":"VLOOKUP($A15&P$7,#REF!,11,0)","v":{"$error":"#REF!"}},{"$f":"VLOOKUP($A15&Q$7,#REF!,11,0)","v":{"$error":"#REF!"}},{"$f":"VLOOKUP($A15&R$7,#REF!,11,0)","v":{"$error":"#REF!"}},{"$f":"VLOOKUP($A15&S$7,#REF!,11,0)","v":{"$error":"#REF!"}},{"$f":"VLOOKUP($A15&T$7,#REF!,11,0)","v":{"$error":"#REF!"}},{"$f":"VLOOKUP($A15&U$7,#REF!,11,0)","v":{"$error":"#REF!"}},{"$f":"VLOOKUP($A15&V$7,#REF!,11,0)","v":{"$error":"#REF!"}},{"$f":"VLOOKUP($A15&W$7,#REF!,11,0)","v":{"$error":"#REF!"}},{"$f":"VLOOKUP($A15&X$7,#REF!,11,0)","v":{"$error":"#REF!"}},null,{"$error":"#REF!"},-0.74671052631578949,null,"FR"]
["CY",null,{"$f":"VLOOKUP($A16&C$7,#REF!,11,0)","v":{"$error":"#REF!"}},{"$f":"VLOOKUP($A16&D$7,#REF!,11,0)","v":{"$error":"#REF!"}},{"$f":"VLOOKUP($A16&E$7,#REF!,11,0)","v":{"$error":"#REF!"}},{"$f":"VLOOKUP($A16&F$7,#REF!,11,0)","v":{"$error":"#REF!"}},{"$f":"VLOOKUP($A16&G$7,#REF!,11,0)","v":{"$error":"#REF!"}},{"$f":"VLOOKUP($A16&H$7,#REF!,11,0)","v":{"$error":"#REF!"}},{"$f":"VLOOKUP($A16&I$7,#REF!,11,0)","v":{"$error":"#REF!"}},{"$f":"VLOOKUP($A16&J$7,#REF!,11,0)","v":{"$error":"#REF!"}},{"$f":"VLOOKUP($A16&K$7,#REF!,11,0)","v":{"$error":"#REF!"}},{"$f":"VLOOKUP($A16&L$7,#REF!,11,0)","v":{"$error":"#REF!"}},{"$f":"VLOOKUP($A16&M$7,#REF!,11,0)","v":{"$error":"#REF!"}},{"$f":"VLOOKUP($A16&N$7,#REF!,11,0)","v":{"$error":"#REF!"}},{"$f":"VLOOKUP($A16&O$7,#REF!,11,0)","v":{"$error":"#REF!"}},{"$f":"VLOOKUP($A16&P$7,#REF!,11,0)","v":{"$error":"#REF!"}},{"$f":"VLOOKUP($A16&Q$7,#REF!,11,0)","v":{"$error":"#REF!"}},{"$f":"VLOOKUP($A16&R$7,#REF!,11,0)","v":{"$error":"#REF!"}},{"$f":"VLOOKUP($A16&S$7,#REF!,11,0)","v":{"$error":"#REF!"}},{"$f":"VLOOKUP($A16&T$7,#REF!,11,0)","v":{"$error":"#REF!"}},{"$f":"VLOOKUP($A16&U$7,#REF!,11,0)","v":{"$error":"#REF!"}},{"$f":"VLOOKUP($A16&V$7,#REF!,11,0)","v":{"$error":"#REF!"}},{"$f":"VLOOKUP($A16&W$7,#REF!,11,0)","v":{"$error":"#REF!"}},{"$f":"VLOOKUP($A16&X$7,#REF!,11,0)","v":{"$error":"#REF!"}},null,{"$error":"#REF!"},null,null,"CY"]
["NL",null,{"$f":"VLOOKUP($A17&C$7,#REF!,11,0)","v":{"$error":"#REF!"}},{"$f":"VLOOKUP($A17&D$7,#REF!,11,0)","v":{"$error":"#REF!"}},{"$f":"VLOOKUP($A17&E$7,#REF!,11,0)","v":{"$error":"#REF!"}},{"$f":"VLOOKUP($A17&F$7,#REF!,11,0)","v":{"$error":"#REF!"}},{"$f":"VLOOKUP($A17&G$7,#REF!,11,0)","v":{"$error":"#REF!"}},{"$f":"VLOOKUP($A17&H$7,#REF!,11,0)","v":{"$error":"#REF!"}},{"$f":"VLOOKUP($A17&I$7,#REF!,11,0)","v":{"$error":"#REF!"}},{"$f":"VLOOKUP($A17&J$7,#REF!,11,0)","v":{"$error":"#REF!"}},{"$f":"VLOOKUP($A17&K$7,#REF!,11,0)","v":{"$error":"#REF!"}},{"$f":"VLOOKUP($A17&L$7,#REF!,11,0)","v":{"$error":"#REF!"}},{"$f":"VLOOKUP($A17&M$7,#REF!,11,0)","v":{"$error":"#REF!"}},{"$f":"VLOOKUP($A17&N$7,#REF!,11,0)","v":{"$error":"#REF!"}},{"$f":"VLOOKUP($A17&O$7,#REF!,11,0)","v":{"$error":"#REF!"}},{"$f":"VLOOKUP($A17&P$7,#REF!,11,0)","v":{"$error":"#REF!"}},{"$f":"VLOOKUP($A17&Q$7,#REF!,11,0)","v":{"$error":"#REF!"}},{"$f":"VLOOKUP($A17&R$7,#REF!,11,0)","v":{"$error":"#REF!"}},{"$f":"VLOOKUP($A17&S$7,#REF!,11,0)","v":{"$error":"#REF!"}},{"$f":"VLOOKUP($A17&T$7,#REF!,11,0)","v":{"$error":"#REF!"}},{"$f":"VLOOKUP($A17&U$7,#REF!,11,0)","v":{"$error":"#REF!"}},{"$f":"VLOOKUP($A17&V$7,#REF!,11,0)","v":{"$error":"#REF!"}},{"$f":"VLOOKUP($A17&W$7,#REF!,11,0)","v":{"$error":"#REF!"}},{"$f":"VLOOKUP($A17&X$7,#REF!,11,0)","v":{"$error":"#REF!"}},null,{"$error":"#REF!"},-0.73462684424022684,null,"NL"]
["AT",null,{"$f":"VLOOKUP($A18&C$7,#REF!,11,0)","v":{"$error":"#REF!"}},{"$f":"VLOOKUP($A18&D$7,#REF!,11,0)","v":{"$error":"#REF!"}},{"$f":"VLOOKUP($A18&E$7,#REF!,11,0)","v":{"$error":"#REF!"}},{"$f":"VLOOKUP($A18&F$7,#REF!,11,0)","v":{"$error":"#REF!"}},{"$f":"VLOOKUP($A18&G$7,#REF!,11,0)","v":{"$error":"#REF!"}},{"$f":"VLOOKUP($A18&H$7,#REF!,11,0)","v":{"$error":"#REF!"}},{"$f":"VLOOKUP($A18&I$7,#REF!,11,0)","v":{"$error":"#REF!"}},{"$f":"VLOOKUP($A18&J$7,#REF!,11,0)","v":{"$error":"#REF!"}},{"$f":"VLOOKUP($A18&K$7,#REF!,11,0)","v":{"$error":"#REF!"}},{"$f":"VLOOKUP($A18&L$7,#REF!,11,0)","v":{"$error":"#REF!"}},{"$f":"VLOOKUP($A18&M$7,#REF!,11,0)","v":{"$error":"#REF!"}},{"$f":"VLOOKUP($A18&N$7,#REF!,11,0)","v":{"$error":"#REF!"}},{"$f":"VLOOKUP($A18&O$7,#REF!,11,0)","v":{"$error":"#REF!"}},{"$f":"VLOOKUP($A18&P$7,#REF!,11,0)","v":{"$error":"#REF!"}},{"$f":"VLOOKUP($A18&Q$7,#REF!,11,0)","v":{"$error":"#REF!"}},{"$f":"VLOOKUP($A18&R$7,#REF!,11,0)","v":{"$error":"#REF!"}},{"$f":"VLOOKUP($A18&S$7,#REF!,11,0)","v":{"$error":"#REF!"}},{"$f":"VLOOKUP($A18&T$7,#REF!,11,0)","v":{"$error":"#REF!"}},{"$f":"VLOOKUP($A18&U$7,#REF!,11,0)","v":{"$error":"#REF!"}},{"$f":"VLOOKUP($A18&V$7,#REF!,11,0)","v":{"$error":"#REF!"}},{"$f":"VLOOKUP($A18&W$7,#REF!,11,0)","v":{"$error":"#REF!"}},{"$f":"VLOOKUP($A18&X$7,#REF!,11,0)","v":{"$error":"#REF!"}},null,{"$error":"#REF!"},-0.69940952380952381,null,"AT"]
["PL",null,{"$f":"VLOOKUP($A19&C$7,#REF!,11,0)","v":{"$error":"#REF!"}},{"$f":"VLOOKUP($A19&D$7,#REF!,11,0)","v":{"$error":"#REF!"}},{"$f":"VLOOKUP($A19&E$7,#REF!,11,0)","v":{"$error":"#REF!"}},{"$f":"VLOOKUP($A19&F$7,#REF!,11,0)","v":{"$error":"#REF!"}},{"$f":"VLOOKUP($A19&G$7,#REF!,11,0)","v":{"$error":"#REF!"}},{"$f":"VLOOKUP($A19&H$7,#REF!,11,0)","v":{"$error":"#REF!"}},{"$f":"VLOOKUP($A19&I$7,#REF!,11,0)","v":{"$error":"#REF!"}},{"$f":"VLOOKUP($A19&J$7,#REF!,11,0)","v":{"$error":"#REF!"}},{"$f":"VLOOKUP($A19&K$7,#REF!,11,0)","v":{"$error":"#REF!"}},{"$f":"VLOOKUP($A19&L$7,#REF!,11,0)","v":{"$error":"#REF!"}},{"$f":"VLOOKUP($A19&M$7,#REF!,11,0)","v":{"$error":"#REF!"}},{"$f":"VLOOKUP($A19&N$7,#REF!,11,0)","v":{"$error":"#REF!"}},{"$f":"VLOOKUP($A19&O$7,#REF!,11,0)","v":{"$error":"#REF!"}},{"$f":"VLOOKUP($A19&P$7,#REF!,11,0)","v":{"$error":"#REF!"}},{"$f":"VLOOKUP($A19&Q$7,#REF!,11,0)","v":{"$error":"#REF!"}},{"$f":"VLOOKUP($A19&R$7,#REF!,11,0)","v":{"$error":"#REF!"}},{"$f":"VLOOKUP($A19&S$7,#REF!,11,0)","v":{"$error":"#REF!"}},{"$f":"VLOOKUP($A19&T$7,#REF!,11,0)","v":{"$error":"#REF!"}},{"$f":"VLOOKUP($A19&U$7,#REF!,11,0)","v":{"$error":"#REF!"}},{"$f":"VLOOKUP($A19&V$7,#REF!,11,0)","v":{"$error":"#REF!"}},{"$f":"VLOOKUP($A19&W$7,#REF!,11,0)","v":{"$error":"#REF!"}},{"$f":"VLOOKUP($A19&X$7,#REF!,11,0)","v":{"$error":"#REF!"}},null,{"$error":"#REF!"},-0.55520673506185036,null,"PL"]
["RO",null,{"$f":"VLOOKUP($A20&C$7,#REF!,11,0)","v":{"$error":"#REF!"}},{"$f":"VLOOKUP($A20&D$7,#REF!,11,0)","v":{"$error":"#REF!"}},{"$f":"VLOOKUP($A20&E$7,#REF!,11,0)","v":{"$error":"#REF!"}},{"$f":"VLOOKUP($A20&F$7,#REF!,11,0)","v":{"$error":"#REF!"}},{"$f":"VLOOKUP($A20&G$7,#REF!,11,0)","v":{"$error":"#REF!"}},{"$f":"VLOOKUP($A20&H$7,#REF!,11,0)","v":{"$error":"#REF!"}},{"$f":"VLOOKUP($A20&I$7,#REF!,11,0)","v":{"$error":"#REF!"}},{"$f":"VLOOKUP($A20&J$7,#REF!,11,0)","v":{"$error":"#REF!"}},{"$f":"VLOOKUP($A20&K$7,#REF!,11,0)","v":{"$error":"#REF!"}},{"$f":"VLOOKUP($A20&L$7,#REF!,11,0)","v":{"$error":"#REF!"}},{"$f":"VLOOKUP($A20&M$7,#REF!,11,0)","v":{"$error":"#REF!"}},{"$f":"VLOOKUP($A20&N$7,#REF!,11,0)","v":{"$error":"#REF!"}},{"$f":"VLOOKUP($A20&O$7,#REF!,11,0)","v":{"$error":"#REF!"}},{"$f":"VLOOKUP($A20&P$7,#REF!,11,0)","v":{"$error":"#REF!"}},{"$f":"VLOOKUP($A20&Q$7,#REF!,11,0)","v":{"$error":"#REF!"}},{"$f":"VLOOKUP($A20&R$7,#REF!,11,0)","v":{"$error":"#REF!"}},{"$f":"VLOOKUP($A20&S$7,#REF!,11,0)","v":{"$error":"#REF!"}},{"$f":"VLOOKUP($A20&T$7,#REF!,11,0)","v":{"$error":"#REF!"}},{"$f":"VLOOKUP($A20&U$7,#REF!,11,0)","v":{"$error":"#REF!"}},{"$f":"VLOOKUP($A20&V$7,#REF!,11,0)","v":{"$error":"#REF!"}},{"$f":"VLOOKUP($A20&W$7,#REF!,11,0)","v":{"$error":"#REF!"}},{"$f":"VLOOKUP($A20&X$7,#REF!,11,0)","v":{"$error":"#REF!"}},null,{"$error":"#REF!"},-0.31837520143314058,null,"RO"]
["SE",null,{"$f":"VLOOKUP($A21&C$7,#REF!,11,0)","v":{"$error":"#REF!"}},{"$f":"VLOOKUP($A21&D$7,#REF!,11,0)","v":{"$error":"#REF!"}},{"$f":"VLOOKUP($A21&E$7,#REF!,11,0)","v":{"$error":"#REF!"}},{"$f":"VLOOKUP($A21&F$7,#REF!,11,0)","v":{"$error":"#REF!"}},{"$f":"VLOOKUP($A21&G$7,#REF!,11,0)","v":{"$error":"#REF!"}},{"$f":"VLOOKUP($A21&H$7,#REF!,11,0)","v":{"$error":"#REF!"}},{"$f":"VLOOKUP($A21&I$7,#REF!,11,0)","v":{"$error":"#REF!"}},{"$f":"VLOOKUP($A21&J$7,#REF!,11,0)","v":{"$error":"#REF!"}},{"$f":"VLOOKUP($A21&K$7,#REF!,11,0)","v":{"$error":"#REF!"}},{"$f":"VLOOKUP($A21&L$7,#REF!,11,0)","v":{"$error":"#REF!"}},{"$f":"VLOOKUP($A21&M$7,#REF!,11,0)","v":{"$error":"#REF!"}},{"$f":"VLOOKUP($A21&N$7,#REF!,11,0)","v":{"$error":"#REF!"}},{"$f":"VLOOKUP($A21&O$7,#REF!,11,0)","v":{"$error":"#REF!"}},{"$f":"VLOOKUP($A21&P$7,#REF!,11,0)","v":{"$error":"#REF!"}},{"$f":"VLOOKUP($A21&Q$7,#REF!,11,0)","v":{"$error":"#REF!"}},{"$f":"VLOOKUP($A21&R$7,#REF!,11,0)","v":{"$error":"#REF!"}},{"$f":"VLOOKUP($A21&S$7,#REF!,11,0)","v":{"$error":"#REF!"}},{"$f":"VLOOKUP($A21&T$7,#REF!,11,0)","v":{"$error":"#REF!"}},{"$f":"VLOOKUP($A21&U$7,#REF!,11,0)","v":{"$error":"#REF!"}},{"$f":"VLOOKUP($A21&V$7,#REF!,11,0)","v":{"$error":"#REF!"}},{"$f":"VLOOKUP($A21&W$7,#REF!,11,0)","v":{"$error":"#REF!"}},{"$f":"VLOOKUP($A21&X$7,#REF!,11,0)","v":{"$error":"#REF!"}},null,{"$error":"#REF!"},-0.65918946192687922,null,"SE"]
["GB",null,null,null,null,null,null,null,null,null,null,null,null,null,null,null,null,null,null,null,null,null,null,null,null,null,null,null,"GB"]
["NI",null,null,null,null,null,null,null,null,null,null,null,null,null,null,null,null,null,null,null,null,null,null,null,null,null,null,null,"NI"]
["UK",null,{"$f":"VLOOKUP($A24&C$7,#REF!,11,0)","v":{"$error":"#REF!"}},{"$f":"VLOOKUP($A24&D$7,#REF!,11,0)","v":{"$error":"#REF!"}},{"$f":"VLOOKUP($A24&E$7,#REF!,11,0)","v":{"$error":"#REF!"}},{"$f":"VLOOKUP($A24&F$7,#REF!,11,0)","v":{"$error":"#REF!"}},{"$f":"VLOOKUP($A24&G$7,#REF!,11,0)","v":{"$error":"#REF!"}},{"$f":"VLOOKUP($A24&H$7,#REF!,11,0)","v":{"$error":"#REF!"}},{"$f":"VLOOKUP($A24&I$7,#REF!,11,0)","v":{"$error":"#REF!"}},{"$f":"VLOOKUP($A24&J$7,#REF!,11,0)","v":{"$error":"#REF!"}},{"$f":"VLOOKUP($A24&K$7,#REF!,11,0)","v":{"$error":"#REF!"}},{"$f":"VLOOKUP($A24&L$7,#REF!,11,0)","v":{"$error":"#REF!"}},{"$f":"VLOOKUP($A24&M$7,#REF!,11,0)","v":{"$error":"#REF!"}},{"$f":"VLOOKUP($A24&N$7,#REF!,11,0)","v":{"$error":"#REF!"}},{"$f":"VLOOKUP($A24&O$7,#REF!,11,0)","v":{"$error":"#REF!"}},{"$f":"VLOOKUP($A24&P$7,#REF!,11,0)","v":{"$error":"#REF!"}},{"$f":"VLOOKUP($A24&Q$7,#REF!,11,0)","v":{"$error":"#REF!"}},{"$f":"VLOOKUP($A24&R$7,#REF!,11,0)","v":{"$error":"#REF!"}},{"$f":"VLOOKUP($A24&S$7,#REF!,11,0)","v":{"$error":"#REF!"}},{"$f":"VLOOKUP($A24&T$7,#REF!,11,0)","v":{"$error":"#REF!"}},{"$f":"VLOOKUP($A24&U$7,#REF!,11,0)","v":{"$error":"#REF!"}},{"$f":"VLOOKUP($A24&V$7,#REF!,11,0)","v":{"$error":"#REF!"}},{"$f":"VLOOKUP($A24&W$7,#REF!,11,0)","v":{"$error":"#REF!"}},{"$f":"VLOOKUP($A24&X$7,#REF!,11,0)","v":{"$error":"#REF!"}},null,{"$error":"#REF!"},-0.65033355538787463,null,"UK"]
["EU"]
[]
["PIGLETS"]
["Week beginning"]
["Country Code","Weights (%)","2012-12-24",{"$f":"+C29+7","v":"2012-12-31"},{"$f":"+D29+7","v":"2013-01-07"},{"$f":"+E29+7","v":"2013-01-14"},{"$f":"+F29+7","v":"2013-01-21"},{"$f":"+G29+7","v":"2013-01-28"},{"$f":"+H29+7","v":"2013-02-04"},{"$f":"+I29+7","v":"2013-02-11"},{"$f":"+J29+7","v":"2013-02-18"},{"$f":"+K29+7","v":"2013-02-25"},{"$f":"+L29+7","v":"2013-03-04"},"2013-03-11","2013-03-18","2013-03-25","2013-04-01","2013-04-08","2013-04-15","2013-04-22","2013-04-29","2013-05-06","2013-05-13","2013-05-20",null,"% over prev ","% over prev "]
[null,null,"52","01","02","03","04","05","06","07","08","09","10","11","12","13","14","15","16","17","18","19","20","21",null,"week","year"]
["BE",null,{"$f":"IF(ISNA(VLOOKUP($A31&C$7,#REF!,19,0)),\"-\",VLOOKUP($A31&C$7,#REF!,19,0))","v":{"$error":"#REF!"}},{"$f":"IF(ISNA(VLOOKUP($A31&D$7,#REF!,19,0)),\"-\",VLOOKUP($A31&D$7,#REF!,19,0))","v":{"$error":"#REF!"}},{"$f":"IF(ISNA(VLOOKUP($A31&E$7,#REF!,19,0)),\"-\",VLOOKUP($A31&E$7,#REF!,19,0))","v":{"$error":"#REF!"}},{"$f":"IF(ISNA(VLOOKUP($A31&F$7,#REF!,19,0)),\"-\",VLOOKUP($A31&F$7,#REF!,19,0))","v":{"$error":"#REF!"}},{"$f":"IF(ISNA(VLOOKUP($A31&G$7,#REF!,19,0)),\"-\",VLOOKUP($A31&G$7,#REF!,19,0))","v":{"$error":"#REF!"}},{"$f":"IF(ISNA(VLOOKUP($A31&H$7,#REF!,19,0)),\"-\",VLOOKUP($A31&H$7,#REF!,19,0))","v":{"$error":"#REF!"}},{"$f":"IF(ISNA(VLOOKUP($A31&I$7,#REF!,19,0)),\"-\",VLOOKUP($A31&I$7,#REF!,19,0))","v":{"$error":"#REF!"}},{"$f":"IF(ISNA(VLOOKUP($A31&J$7,#REF!,19,0)),\"-\",VLOOKUP($A31&J$7,#REF!,19,0))","v":{"$error":"#REF!"}},{"$f":"IF(ISNA(VLOOKUP($A31&K$7,#REF!,19,0)),\"-\",VLOOKUP($A31&K$7,#REF!,19,0))","v":{"$error":"#REF!"}},{"$f":"IF(ISNA(VLOOKUP($A31&L$7,#REF!,19,0)),\"-\",VLOOKUP($A31&L$7,#REF!,19,0))","v":{"$error":"#REF!"}},{"$f":"IF(ISNA(VLOOKUP($A31&M$7,#REF!,19,0)),\"-\",VLOOKUP($A31&M$7,#REF!,19,0))","v":{"$error":"#REF!"}},{"$f":"IF(ISNA(VLOOKUP($A31&N$7,#REF!,19,0)),\"-\",VLOOKUP($A31&N$7,#REF!,19,0))","v":{"$error":"#REF!"}},{"$f":"IF(ISNA(VLOOKUP($A31&O$7,#REF!,19,0)),\"-\",VLOOKUP($A31&O$7,#REF!,19,0))","v":{"$error":"#REF!"}},{"$f":"IF(ISNA(VLOOKUP($A31&P$7,#REF!,19,0)),\"-\",VLOOKUP($A31&P$7,#REF!,19,0))","v":{"$error":"#REF!"}},{"$f":"IF(ISNA(VLOOKUP($A31&Q$7,#REF!,19,0)),\"-\",VLOOKUP($A31&Q$7,#REF!,19,0))","v":{"$error":"#REF!"}},{"$f":"IF(ISNA(VLOOKUP($A31&R$7,#REF!,19,0)),\"-\",VLOOKUP($A31&R$7,#REF!,19,0))","v":{"$error":"#REF!"}},{"$f":"IF(ISNA(VLOOKUP($A31&S$7,#REF!,19,0)),\"-\",VLOOKUP($A31&S$7,#REF!,19,0))","v":{"$error":"#REF!"}},{"$f":"IF(ISNA(VLOOKUP($A31&T$7,#REF!,19,0)),\"-\",VLOOKUP($A31&T$7,#REF!,19,0))","v":{"$error":"#REF!"}},{"$f":"IF(ISNA(VLOOKUP($A31&U$7,#REF!,19,0)),\"-\",VLOOKUP($A31&U$7,#REF!,19,0))","v":{"$error":"#REF!"}},{"$f":"IF(ISNA(VLOOKUP($A31&V$7,#REF!,19,0)),\"-\",VLOOKUP($A31&V$7,#REF!,19,0))","v":{"$error":"#REF!"}},{"$f":"IF(ISNA(VLOOKUP($A31&W$7,#REF!,19,0)),\"-\",VLOOKUP($A31&W$7,#REF!,19,0))","v":{"$error":"#REF!"}},{"$f":"IF(ISNA(VLOOKUP($A31&X$7,#REF!,19,0)),\"-\",VLOOKUP($A31&X$7,#REF!,19,0))","v":{"$error":"#REF!"}},null,{"$f":"+(X31/W31)-1","v":{"$error":"#REF!"}},1.0238095238095237,null,"BE"]
["DK",null,{"$f":"IF(ISNA(VLOOKUP($A32&C$7,#REF!,19,0)),\"-\",VLOOKUP($A32&C$7,#REF!,19,0))","v":{"$error":"#REF!"}},{"$f":"IF(ISNA(VLOOKUP($A32&D$7,#REF!,19,0)),\"-\",VLOOKUP($A32&D$7,#REF!,19,0))","v":{"$error":"#REF!"}},{"$f":"IF(ISNA(VLOOKUP($A32&E$7,#REF!,19,0)),\"-\",VLOOKUP($A32&E$7,#REF!,19,0))","v":{"$error":"#REF!"}},{"$f":"IF(ISNA(VLOOKUP($A32&F$7,#REF!,19,0)),\"-\",VLOOKUP($A32&F$7,#REF!,19,0))","v":{"$error":"#REF!"}},{"$f":"IF(ISNA(VLOOKUP($A32&G$7,#REF!,19,0)),\"-\",VLOOKUP($A32&G$7,#REF!,19,0))","v":{"$error":"#REF!"}},{"$f":"IF(ISNA(VLOOKUP($A32&H$7,#REF!,19,0)),\"-\",VLOOKUP($A32&H$7,#REF!,19,0))","v":{"$error":"#REF!"}},{"$f":"IF(ISNA(VLOOKUP($A32&I$7,#REF!,19,0)),\"-\",VLOOKUP($A32&I$7,#REF!,19,0))","v":{"$error":"#REF!"}},{"$f":"IF(ISNA(VLOOKUP($A32&J$7,#REF!,19,0)),\"-\",VLOOKUP($A32&J$7,#REF!,19,0))","v":{"$error":"#REF!"}},{"$f":"IF(ISNA(VLOOKUP($A32&K$7,#REF!,19,0)),\"-\",VLOOKUP($A32&K$7,#REF!,19,0))","v":{"$error":"#REF!"}},{"$f":"IF(ISNA(VLOOKUP($A32&L$7,#REF!,19,0)),\"-\",VLOOKUP($A32&L$7,#REF!,19,0))","v":{"$error":"#REF!"}},{"$f":"IF(ISNA(VLOOKUP($A32&M$7,#REF!,19,0)),\"-\",VLOOKUP($A32&M$7,#REF!,19,0))","v":{"$error":"#REF!"}},{"$f":"IF(ISNA(VLOOKUP($A32&N$7,#REF!,19,0)),\"-\",VLOOKUP($A32&N$7,#REF!,19,0))","v":{"$error":"#REF!"}},{"$f":"IF(ISNA(VLOOKUP($A32&O$7,#REF!,19,0)),\"-\",VLOOKUP($A32&O$7,#REF!,19,0))","v":{"$error":"#REF!"}},{"$f":"IF(ISNA(VLOOKUP($A32&P$7,#REF!,19,0)),\"-\",VLOOKUP($A32&P$7,#REF!,19,0))","v":{"$error":"#REF!"}},{"$f":"IF(ISNA(VLOOKUP($A32&Q$7,#REF!,19,0)),\"-\",VLOOKUP($A32&Q$7,#REF!,19,0))","v":{"$error":"#REF!"}},{"$f":"IF(ISNA(VLOOKUP($A32&R$7,#REF!,19,0)),\"-\",VLOOKUP($A32&R$7,#REF!,19,0))","v":{"$error":"#REF!"}},{"$f":"IF(ISNA(VLOOKUP($A32&S$7,#REF!,19,0)),\"-\",VLOOKUP($A32&S$7,#REF!,19,0))","v":{"$error":"#REF!"}},{"$f":"IF(ISNA(VLOOKUP($A32&T$7,#REF!,19,0)),\"-\",VLOOKUP($A32&T$7,#REF!,19,0))","v":{"$error":"#REF!"}},{"$f":"IF(ISNA(VLOOKUP($A32&U$7,#REF!,19,0)),\"-\",VLOOKUP($A32&U$7,#REF!,19,0))","v":{"$error":"#REF!"}},{"$f":"IF(ISNA(VLOOKUP($A32&V$7,#REF!,19,0)),\"-\",VLOOKUP($A32&V$7,#REF!,19,0))","v":{"$error":"#REF!"}},{"$f":"IF(ISNA(VLOOKUP($A32&W$7,#REF!,19,0)),\"-\",VLOOKUP($A32&W$7,#REF!,19,0))","v":{"$error":"#REF!"}},{"$f":"IF(ISNA(VLOOKUP($A32&X$7,#REF!,19,0)),\"-\",VLOOKUP($A32&X$7,#REF!,19,0))","v":{"$error":"#REF!"}},null,{"$error":"#REF!"},null,null,"DK"]
["DE",null,{"$f":"IF(ISNA(VLOOKUP($A33&C$7,#REF!,19,0)),\"-\",VLOOKUP($A33&C$7,#REF!,19,0))","v":{"$error":"#REF!"}},{"$f":"IF(ISNA(VLOOKUP($A33&D$7,#REF!,19,0)),\"-\",VLOOKUP($A33&D$7,#REF!,19,0))","v":{"$error":"#REF!"}},{"$f":"IF(ISNA(VLOOKUP($A33&E$7,#REF!,19,0)),\"-\",VLOOKUP($A33&E$7,#REF!,19,0))","v":{"$error":"#REF!"}},{"$f":"IF(ISNA(VLOOKUP($A33&F$7,#REF!,19,0)),\"-\",VLOOKUP($A33&F$7,#REF!,19,0))","v":{"$error":"#REF!"}},{"$f":"IF(ISNA(VLOOKUP($A33&G$7,#REF!,19,0)),\"-\",VLOOKUP($A33&G$7,#REF!,19,0))","v":{"$error":"#REF!"}},{"$f":"IF(ISNA(VLOOKUP($A33&H$7,#REF!,19,0)),\"-\",VLOOKUP($A33&H$7,#REF!,19,0))","v":{"$error":"#REF!"}},{"$f":"IF(ISNA(VLOOKUP($A33&I$7,#REF!,19,0)),\"-\",VLOOKUP($A33&I$7,#REF!,19,0))","v":{"$error":"#REF!"}},{"$f":"IF(ISNA(VLOOKUP($A33&J$7,#REF!,19,0)),\"-\",VLOOKUP($A33&J$7,#REF!,19,0))","v":{"$error":"#REF!"}},{"$f":"IF(ISNA(VLOOKUP($A33&K$7,#REF!,19,0)),\"-\",VLOOKUP($A33&K$7,#REF!,19,0))","v":{"$error":"#REF!"}},{"$f":"IF(ISNA(VLOOKUP($A33&L$7,#REF!,19,0)),\"-\",VLOOKUP($A33&L$7,#REF!,19,0))","v":{"$error":"#REF!"}},{"$f":"IF(ISNA(VLOOKUP($A33&M$7,#REF!,19,0)),\"-\",VLOOKUP($A33&M$7,#REF!,19,0))","v":{"$error":"#REF!"}},{"$f":"IF(ISNA(VLOOKUP($A33&N$7,#REF!,19,0)),\"-\",VLOOKUP($A33&N$7,#REF!,19,0))","v":{"$error":"#REF!"}},{"$f":"IF(ISNA(VLOOKUP($A33&O$7,#REF!,19,0)),\"-\",VLOOKUP($A33&O$7,#REF!,19,0))","v":{"$error":"#REF!"}},{"$f":"IF(ISNA(VLOOKUP($A33&P$7,#REF!,19,0)),\"-\",VLOOKUP($A33&P$7,#REF!,19,0))","v":{"$error":"#REF!"}},{"$f":"IF(ISNA(VLOOKUP($A33&Q$7,#REF!,19,0)),\"-\",VLOOKUP($A33&Q$7,#REF!,19,0))","v":{"$error":"#REF!"}},{"$f":"IF(ISNA(VLOOKUP($A33&R$7,#REF!,19,0)),\"-\",VLOOKUP($A33&R$7,#REF!,19,0))","v":{"$error":"#REF!"}},{"$f":"IF(ISNA(VLOOKUP($A33&S$7,#REF!,19,0)),\"-\",VLOOKUP($A33&S$7,#REF!,19,0))","v":{"$error":"#REF!"}},{"$f":"IF(ISNA(VLOOKUP($A33&T$7,#REF!,19,0)),\"-\",VLOOKUP($A33&T$7,#REF!,19,0))","v":{"$error":"#REF!"}},{"$f":"IF(ISNA(VLOOKUP($A33&U$7,#REF!,19,0)),\"-\",VLOOKUP($A33&U$7,#REF!,19,0))","v":{"$error":"#REF!"}},{"$f":"IF(ISNA(VLOOKUP($A33&V$7,#REF!,19,0)),\"-\",VLOOKUP($A33&V$7,#REF!,19,0))","v":{"$error":"#REF!"}},{"$f":"IF(ISNA(VLOOKUP($A33&W$7,#REF!,19,0)),\"-\",VLOOKUP($A33&W$7,#REF!,19,0))","v":{"$error":"#REF!"}},{"$f":"IF(ISNA(VLOOKUP($A33&X$7,#REF!,19,0)),\"-\",VLOOKUP($A33&X$7,#REF!,19,0))","v":{"$error":"#REF!"}},null,{"$error":"#REF!"},-0.89468766578774417,null,"DE"]
["EE",null,{"$f":"IF(ISNA(VLOOKUP($A34&C$7,#REF!,19,0)),\"-\",VLOOKUP($A34&C$7,#REF!,19,0))","v":{"$error":"#REF!"}},{"$f":"IF(ISNA(VLOOKUP($A34&D$7,#REF!,19,0)),\"-\",VLOOKUP($A34&D$7,#REF!,19,0))","v":{"$error":"#REF!"}},{"$f":"IF(ISNA(VLOOKUP($A34&E$7,#REF!,19,0)),\"-\",VLOOKUP($A34&E$7,#REF!,19,0))","v":{"$error":"#REF!"}},{"$f":"IF(ISNA(VLOOKUP($A34&F$7,#REF!,19,0)),\"-\",VLOOKUP($A34&F$7,#REF!,19,0))","v":{"$error":"#REF!"}},{"$f":"IF(ISNA(VLOOKUP($A34&G$7,#REF!,19,0)),\"-\",VLOOKUP($A34&G$7,#REF!,19,0))","v":{"$error":"#REF!"}},{"$f":"IF(ISNA(VLOOKUP($A34&H$7,#REF!,19,0)),\"-\",VLOOKUP($A34&H$7,#REF!,19,0))","v":{"$error":"#REF!"}},{"$f":"IF(ISNA(VLOOKUP($A34&I$7,#REF!,19,0)),\"-\",VLOOKUP($A34&I$7,#REF!,19,0))","v":{"$error":"#REF!"}},{"$f":"IF(ISNA(VLOOKUP($A34&J$7,#REF!,19,0)),\"-\",VLOOKUP($A34&J$7,#REF!,19,0))","v":{"$error":"#REF!"}},{"$f":"IF(ISNA(VLOOKUP($A34&K$7,#REF!,19,0)),\"-\",VLOOKUP($A34&K$7,#REF!,19,0))","v":{"$error":"#REF!"}},{"$f":"IF(ISNA(VLOOKUP($A34&L$7,#REF!,19,0)),\"-\",VLOOKUP($A34&L$7,#REF!,19,0))","v":{"$error":"#REF!"}},{"$f":"IF(ISNA(VLOOKUP($A34&M$7,#REF!,19,0)),\"-\",VLOOKUP($A34&M$7,#REF!,19,0))","v":{"$error":"#REF!"}},{"$f":"IF(ISNA(VLOOKUP($A34&N$7,#REF!,19,0)),\"-\",VLOOKUP($A34&N$7,#REF!,19,0))","v":{"$error":"#REF!"}},{"$f":"IF(ISNA(VLOOKUP($A34&O$7,#REF!,19,0)),\"-\",VLOOKUP($A34&O$7,#REF!,19,0))","v":{"$error":"#REF!"}},{"$f":"IF(ISNA(VLOOKUP($A34&P$7,#REF!,19,0)),\"-\",VLOOKUP($A34&P$7,#REF!,19,0))","v":{"$error":"#REF!"}},{"$f":"IF(ISNA(VLOOKUP($A34&Q$7,#REF!,19,0)),\"-\",VLOOKUP($A34&Q$7,#REF!,19,0))","v":{"$error":"#REF!"}},{"$f":"IF(ISNA(VLOOKUP($A34&R$7,#REF!,19,0)),\"-\",VLOOKUP($A34&R$7,#REF!,19,0))","v":{"$error":"#REF!"}},{"$f":"IF(ISNA(VLOOKUP($A34&S$7,#REF!,19,0)),\"-\",VLOOKUP($A34&S$7,#REF!,19,0))","v":{"$error":"#REF!"}},{"$f":"IF(ISNA(VLOOKUP($A34&T$7,#REF!,19,0)),\"-\",VLOOKUP($A34&T$7,#REF!,19,0))","v":{"$error":"#REF!"}},{"$f":"IF(ISNA(VLOOKUP($A34&U$7,#REF!,19,0)),\"-\",VLOOKUP($A34&U$7,#REF!,19,0))","v":{"$error":"#REF!"}},{"$f":"IF(ISNA(VLOOKUP($A34&V$7,#REF!,19,0)),\"-\",VLOOKUP($A34&V$7,#REF!,19,0))","v":{"$error":"#REF!"}},{"$f":"IF(ISNA(VLOOKUP($A34&W$7,#REF!,19,0)),\"-\",VLOOKUP($A34&W$7,#REF!,19,0))","v":{"$error":"#REF!"}},{"$f":"IF(ISNA(VLOOKUP($A34&X$7,#REF!,19,0)),\"-\",VLOOKUP($A34&X$7,#REF!,19,0))","v":{"$error":"#REF!"}},null,{"$error":"#REF!"},-0.93640802497840958,null,"EE"]
["IE",null,{"$f":"IF(ISNA(VLOOKUP($A35&C$7,#REF!,19,0)),\"-\",VLOOKUP($A35&C$7,#REF!,19,0))","v":{"$error":"#REF!"}},{"$f":"IF(ISNA(VLOOKUP($A35&D$7,#REF!,19,0)),\"-\",VLOOKUP($A35&D$7,#REF!,19,0))","v":{"$error":"#REF!"}},{"$f":"IF(ISNA(VLOOKUP($A35&E$7,#REF!,19,0)),\"-\",VLOOKUP($A35&E$7,#REF!,19,0))","v":{"$error":"#REF!"}},{"$f":"IF(ISNA(VLOOKUP($A35&F$7,#REF!,19,0)),\"-\",VLOOKUP($A35&F$7,#REF!,19,0))","v":{"$error":"#REF!"}},{"$f":"IF(ISNA(VLOOKUP($A35&G$7,#REF!,19,0)),\"-\",VLOOKUP($A35&G$7,#REF!,19,0))","v":{"$error":"#REF!"}},{"$f":"IF(ISNA(VLOOKUP($A35&H$7,#REF!,19,0)),\"-\",VLOOKUP($A35&H$7,#REF!,19,0))","v":{"$error":"#REF!"}},{"$f":"IF(ISNA(VLOOKUP($A35&I$7,#REF!,19,0)),\"-\",VLOOKUP($A35&I$7,#REF!,19,0))","v":{"$error":"#REF!"}},{"$f":"IF(ISNA(VLOOKUP($A35&J$7,#REF!,19,0)),\"-\",VLOOKUP($A35&J$7,#REF!,19,0))","v":{"$error":"#REF!"}},{"$f":"IF(ISNA(VLOOKUP($A35&K$7,#REF!,19,0)),\"-\",VLOOKUP($A35&K$7,#REF!,19,0))","v":{"$error":"#REF!"}},{"$f":"IF(ISNA(VLOOKUP($A35&L$7,#REF!,19,0)),\"-\",VLOOKUP($A35&L$7,#REF!,19,0))","v":{"$error":"#REF!"}},{"$f":"IF(ISNA(VLOOKUP($A35&M$7,#REF!,19,0)),\"-\",VLOOKUP($A35&M$7,#REF!,19,0))","v":{"$error":"#REF!"}},{"$f":"IF(ISNA(VLOOKUP($A35&N$7,#REF!,19,0)),\"-\",VLOOKUP($A35&N$7,#REF!,19,0))","v":{"$error":"#REF!"}},{"$f":"IF(ISNA(VLOOKUP($A35&O$7,#REF!,19,0)),\"-\",VLOOKUP($A35&O$7,#REF!,19,0))","v":{"$error":"#REF!"}},{"$f":"IF(ISNA(VLOOKUP($A35&P$7,#REF!,19,0)),\"-\",VLOOKUP($A35&P$7,#REF!,19,0))","v":{"$error":"#REF!"}},{"$f":"IF(ISNA(VLOOKUP($A35&Q$7,#REF!,19,0)),\"-\",VLOOKUP($A35&Q$7,#REF!,19,0))","v":{"$error":"#REF!"}},{"$f":"IF(ISNA(VLOOKUP($A35&R$7,#REF!,19,0)),\"-\",VLOOKUP($A35&R$7,#REF!,19,0))","v":{"$error":"#REF!"}},{"$f":"IF(ISNA(VLOOKUP($A35&S$7,#REF!,19,0)),\"-\",VLOOKUP($A35&S$7,#REF!,19,0))","v":{"$error":"#REF!"}},{"$f":"IF(ISNA(VLOOKUP($A35&T$7,#REF!,19,0)),\"-\",VLOOKUP($A35&T$7,#REF!,19,0))","v":{"$error":"#REF!"}},{"$f":"IF(ISNA(VLOOKUP($A35&U$7,#REF!,19,0)),\"-\",VLOOKUP($A35&U$7,#REF!,19,0))","v":{"$error":"#REF!"}},{"$f":"IF(ISNA(VLOOKUP($A35&V$7,#REF!,19,0)),\"-\",VLOOKUP($A35&V$7,#REF!,19,0))","v":{"$error":"#REF!"}},{"$f":"IF(ISNA(VLOOKUP($A35&W$7,#REF!,19,0)),\"-\",VLOOKUP($A35&W$7,#REF!,19,0))","v":{"$error":"#REF!"}},{"$f":"IF(ISNA(VLOOKUP($A35&X$7,#REF!,19,0)),\"-\",VLOOKUP($A35&X$7,#REF!,19,0))","v":{"$error":"#REF!"}},null,null,null,null,"IE"]
["ES",null,{"$f":"IF(ISNA(VLOOKUP($A36&C$7,#REF!,19,0)),\"-\",VLOOKUP($A36&C$7,#REF!,19,0))","v":{"$error":"#REF!"}},{"$f":"IF(ISNA(VLOOKUP($A36&D$7,#REF!,19,0)),\"-\",VLOOKUP($A36&D$7,#REF!,19,0))","v":{"$error":"#REF!"}},{"$f":"IF(ISNA(VLOOKUP($A36&E$7,#REF!,19,0)),\"-\",VLOOKUP($A36&E$7,#REF!,19,0))","v":{"$error":"#REF!"}},{"$f":"IF(ISNA(VLOOKUP($A36&F$7,#REF!,19,0)),\"-\",VLOOKUP($A36&F$7,#REF!,19,0))","v":{"$error":"#REF!"}},{"$f":"IF(ISNA(VLOOKUP($A36&G$7,#REF!,19,0)),\"-\",VLOOKUP($A36&G$7,#REF!,19,0))","v":{"$error":"#REF!"}},{"$f":"IF(ISNA(VLOOKUP($A36&H$7,#REF!,19,0)),\"-\",VLOOKUP($A36&H$7,#REF!,19,0))","v":{"$error":"#REF!"}},{"$f":"IF(ISNA(VLOOKUP($A36&I$7,#REF!,19,0)),\"-\",VLOOKUP($A36&I$7,#REF!,19,0))","v":{"$error":"#REF!"}},{"$f":"IF(ISNA(VLOOKUP($A36&J$7,#REF!,19,0)),\"-\",VLOOKUP($A36&J$7,#REF!,19,0))","v":{"$error":"#REF!"}},{"$f":"IF(ISNA(VLOOKUP($A36&K$7,#REF!,19,0)),\"-\",VLOOKUP($A36&K$7,#REF!,19,0))","v":{"$error":"#REF!"}},{"$f":"IF(ISNA(VLOOKUP($A36&L$7,#REF!,19,0)),\"-\",VLOOKUP($A36&L$7,#REF!,19,0))","v":{"$error":"#REF!"}},{"$f":"IF(ISNA(VLOOKUP($A36&M$7,#REF!,19,0)),\"-\",VLOOKUP($A36&M$7,#REF!,19,0))","v":{"$error":"#REF!"}},{"$f":"IF(ISNA(VLOOKUP($A36&N$7,#REF!,19,0)),\"-\",VLOOKUP($A36&N$7,#REF!,19,0))","v":{"$error":"#REF!"}},{"$f":"IF(ISNA(VLOOKUP($A36&O$7,#REF!,19,0)),\"-\",VLOOKUP($A36&O$7,#REF!,19,0))","v":{"$error":"#REF!"}},{"$f":"IF(ISNA(VLOOKUP($A36&P$7,#REF!,19,0)),\"-\",VLOOKUP($A36&P$7,#REF!,19,0))","v":{"$error":"#REF!"}},{"$f":"IF(ISNA(VLOOKUP($A36&Q$7,#REF!,19,0)),\"-\",VLOOKUP($A36&Q$7,#REF!,19,0))","v":{"$error":"#REF!"}},{"$f":"IF(ISNA(VLOOKUP($A36&R$7,#REF!,19,0)),\"-\",VLOOKUP($A36&R$7,#REF!,19,0))","v":{"$error":"#REF!"}},{"$f":"IF(ISNA(VLOOKUP($A36&S$7,#REF!,19,0)),\"-\",VLOOKUP($A36&S$7,#REF!,19,0))","v":{"$error":"#REF!"}},{"$f":"IF(ISNA(VLOOKUP($A36&T$7,#REF!,19,0)),\"-\",VLOOKUP($A36&T$7,#REF!,19,0))","v":{"$error":"#REF!"}},{"$f":"IF(ISNA(VLOOKUP($A36&U$7,#REF!,19,0)),\"-\",VLOOKUP($A36&U$7,#REF!,19,0))","v":{"$error":"#REF!"}},{"$f":"IF(ISNA(VLOOKUP($A36&V$7,#REF!,19,0)),\"-\",VLOOKUP($A36&V$7,#REF!,19,0))","v":{"$error":"#REF!"}},{"$f":"IF(ISNA(VLOOKUP($A36&W$7,#REF!,19,0)),\"-\",VLOOKUP($A36&W$7,#REF!,19,0))","v":{"$error":"#REF!"}},{"$f":"IF(ISNA(VLOOKUP($A36&X$7,#REF!,19,0)),\"-\",VLOOKUP($A36&X$7,#REF!,19,0))","v":{"$error":"#REF!"}},null,{"$error":"#REF!"},-0.92991273996509594,null,"ES"]
["FR",null,{"$f":"IF(ISNA(VLOOKUP($A37&C$7,#REF!,19,0)),\"-\",VLOOKUP($A37&C$7,#REF!,19,0))","v":{"$error":"#REF!"}},{"$f":"IF(ISNA(VLOOKUP($A37&D$7,#REF!,19,0)),\"-\",VLOOKUP($A37&D$7,#REF!,19,0))","v":{"$error":"#REF!"}},{"$f":"IF(ISNA(VLOOKUP($A37&E$7,#REF!,19,0)),\"-\",VLOOKUP($A37&E$7,#REF!,19,0))","v":{"$error":"#REF!"}},{"$f":"IF(ISNA(VLOOKUP($A37&F$7,#REF!,19,0)),\"-\",VLOOKUP($A37&F$7,#REF!,19,0))","v":{"$error":"#REF!"}},{"$f":"IF(ISNA(VLOOKUP($A37&G$7,#REF!,19,0)),\"-\",VLOOKUP($A37&G$7,#REF!,19,0))","v":{"$error":"#REF!"}},{"$f":"IF(ISNA(VLOOKUP($A37&H$7,#REF!,19,0)),\"-\",VLOOKUP($A37&H$7,#REF!,19,0))","v":{"$error":"#REF!"}},{"$f":"IF(ISNA(VLOOKUP($A37&I$7,#REF!,19,0)),\"-\",VLOOKUP($A37&I$7,#REF!,19,0))","v":{"$error":"#REF!"}},{"$f":"IF(ISNA(VLOOKUP($A37&J$7,#REF!,19,0)),\"-\",VLOOKUP($A37&J$7,#REF!,19,0))","v":{"$error":"#REF!"}},{"$f":"IF(ISNA(VLOOKUP($A37&K$7,#REF!,19,0)),\"-\",VLOOKUP($A37&K$7,#REF!,19,0))","v":{"$error":"#REF!"}},{"$f":"IF(ISNA(VLOOKUP($A37&L$7,#REF!,19,0)),\"-\",VLOOKUP($A37&L$7,#REF!,19,0))","v":{"$error":"#REF!"}},{"$f":"IF(ISNA(VLOOKUP($A37&M$7,#REF!,19,0)),\"-\",VLOOKUP($A37&M$7,#REF!,19,0))","v":{"$error":"#REF!"}},{"$f":"IF(ISNA(VLOOKUP($A37&N$7,#REF!,19,0)),\"-\",VLOOKUP($A37&N$7,#REF!,19,0))","v":{"$error":"#REF!"}},{"$f":"IF(ISNA(VLOOKUP($A37&O$7,#REF!,19,0)),\"-\",VLOOKUP($A37&O$7,#REF!,19,0))","v":{"$error":"#REF!"}},{"$f":"IF(ISNA(VLOOKUP($A37&P$7,#REF!,19,0)),\"-\",VLOOKUP($A37&P$7,#REF!,19,0))","v":{"$error":"#REF!"}},{"$f":"IF(ISNA(VLOOKUP($A37&Q$7,#REF!,19,0)),\"-\",VLOOKUP($A37&Q$7,#REF!,19,0))","v":{"$error":"#REF!"}},{"$f":"IF(ISNA(VLOOKUP($A37&R$7,#REF!,19,0)),\"-\",VLOOKUP($A37&R$7,#REF!,19,0))","v":{"$error":"#REF!"}},{"$f":"IF(ISNA(VLOOKUP($A37&S$7,#REF!,19,0)),\"-\",VLOOKUP($A37&S$7,#REF!,19,0))","v":{"$error":"#REF!"}},{"$f":"IF(ISNA(VLOOKUP($A37&T$7,#REF!,19,0)),\"-\",VLOOKUP($A37&T$7,#REF!,19,0))","v":{"$error":"#REF!"}},{"$f":"IF(ISNA(VLOOKUP($A37&U$7,#REF!,19,0)),\"-\",VLOOKUP($A37&U$7,#REF!,19,0))","v":{"$error":"#REF!"}},{"$f":"IF(ISNA(VLOOKUP($A37&V$7,#REF!,19,0)),\"-\",VLOOKUP($A37&V$7,#REF!,19,0))","v":{"$error":"#REF!"}},{"$f":"IF(ISNA(VLOOKUP($A37&W$7,#REF!,19,0)),\"-\",VLOOKUP($A37&W$7,#REF!,19,0))","v":{"$error":"#REF!"}},{"$f":"IF(ISNA(VLOOKUP($A37&X$7,#REF!,19,0)),\"-\",VLOOKUP($A37&X$7,#REF!,19,0))","v":{"$error":"#REF!"}},null,{"$error":"#REF!"},-0.93956673352551845,null,"FR"]
["CY",null,{"$f":"IF(ISNA(VLOOKUP($A38&C$7,#REF!,19,0)),\"-\",VLOOKUP($A38&C$7,#REF!,19,0))","v":{"$error":"#REF!"}},{"$f":"IF(ISNA(VLOOKUP($A38&D$7,#REF!,19,0)),\"-\",VLOOKUP($A38&D$7,#REF!,19,0))","v":{"$error":"#REF!"}},{"$f":"IF(ISNA(VLOOKUP($A38&E$7,#REF!,19,0)),\"-\",VLOOKUP($A38&E$7,#REF!,19,0))","v":{"$error":"#REF!"}},{"$f":"IF(ISNA(VLOOKUP($A38&F$7,#REF!,19,0)),\"-\",VLOOKUP($A38&F$7,#REF!,19,0))","v":{"$error":"#REF!"}},{"$f":"IF(ISNA(VLOOKUP($A38&G$7,#REF!,19,0)),\"-\",VLOOKUP($A38&G$7,#REF!,19,0))","v":{"$error":"#REF!"}},{"$f":"IF(ISNA(VLOOKUP($A38&H$7,#REF!,19,0)),\"-\",VLOOKUP($A38&H$7,#REF!,19,0))","v":{"$error":"#REF!"}},{"$f":"IF(ISNA(VLOOKUP($A38&I$7,#REF!,19,0)),\"-\",VLOOKUP($A38&I$7,#REF!,19,0))","v":{"$error":"#REF!"}},{"$f":"IF(ISNA(VLOOKUP($A38&J$7,#REF!,19,0)),\"-\",VLOOKUP($A38&J$7,#REF!,19,0))","v":{"$error":"#REF!"}},{"$f":"IF(ISNA(VLOOKUP($A38&K$7,#REF!,19,0)),\"-\",VLOOKUP($A38&K$7,#REF!,19,0))","v":{"$error":"#REF!"}},{"$f":"IF(ISNA(VLOOKUP($A38&L$7,#REF!,19,0)),\"-\",VLOOKUP($A38&L$7,#REF!,19,0))","v":{"$error":"#REF!"}},{"$f":"IF(ISNA(VLOOKUP($A38&M$7,#REF!,19,0)),\"-\",VLOOKUP($A38&M$7,#REF!,19,0))","v":{"$error":"#REF!"}},{"$f":"IF(ISNA(VLOOKUP($A38&N$7,#REF!,19,0)),\"-\",VLOOKUP($A38&N$7,#REF!,19,0))","v":{"$error":"#REF!"}},{"$f":"IF(ISNA(VLOOKUP($A38&O$7,#REF!,19,0)),\"-\",VLOOKUP($A38&O$7,#REF!,19,0))","v":{"$error":"#REF!"}},{"$f":"IF(ISNA(VLOOKUP($A38&P$7,#REF!,19,0)),\"-\",VLOOKUP($A38&P$7,#REF!,19,0))","v":{"$error":"#REF!"}},{"$f":"IF(ISNA(VLOOKUP($A38&Q$7,#REF!,19,0)),\"-\",VLOOKUP($A38&Q$7,#REF!,19,0))","v":{"$error":"#REF!"}},{"$f":"IF(ISNA(VLOOKUP($A38&R$7,#REF!,19,0)),\"-\",VLOOKUP($A38&R$7,#REF!,19,0))","v":{"$error":"#REF!"}},{"$f":"IF(ISNA(VLOOKUP($A38&S$7,#REF!,19,0)),\"-\",VLOOKUP($A38&S$7,#REF!,19,0))","v":{"$error":"#REF!"}},{"$f":"IF(ISNA(VLOOKUP($A38&T$7,#REF!,19,0)),\"-\",VLOOKUP($A38&T$7,#REF!,19,0))","v":{"$error":"#REF!"}},{"$f":"IF(ISNA(VLOOKUP($A38&U$7,#REF!,19,0)),\"-\",VLOOKUP($A38&U$7,#REF!,19,0))","v":{"$error":"#REF!"}},{"$f":"IF(ISNA(VLOOKUP($A38&V$7,#REF!,19,0)),\"-\",VLOOKUP($A38&V$7,#REF!,19,0))","v":{"$error":"#REF!"}},{"$f":"IF(ISNA(VLOOKUP($A38&W$7,#REF!,19,0)),\"-\",VLOOKUP($A38&W$7,#REF!,19,0))","v":{"$error":"#REF!"}},{"$f":"IF(ISNA(VLOOKUP($A38&X$7,#REF!,19,0)),\"-\",VLOOKUP($A38&X$7,#REF!,19,0))","v":{"$error":"#REF!"}},null,null,null,null,"CY"]
["NL",null,{"$f":"IF(ISNA(VLOOKUP($A39&C$7,#REF!,19,0)),\"-\",VLOOKUP($A39&C$7,#REF!,19,0))","v":{"$error":"#REF!"}},{"$f":"IF(ISNA(VLOOKUP($A39&D$7,#REF!,19,0)),\"-\",VLOOKUP($A39&D$7,#REF!,19,0))","v":{"$error":"#REF!"}},{"$f":"IF(ISNA(VLOOKUP($A39&E$7,#REF!,19,0)),\"-\",VLOOKUP($A39&E$7,#REF!,19,0))","v":{"$error":"#REF!"}},{"$f":"IF(ISNA(VLOOKUP($A39&F$7,#REF!,19,0)),\"-\",VLOOKUP($A39&F$7,#REF!,19,0))","v":{"$error":"#REF!"}},{"$f":"IF(ISNA(VLOOKUP($A39&G$7,#REF!,19,0)),\"-\",VLOOKUP($A39&G$7,#REF!,19,0))","v":{"$error":"#REF!"}},{"$f":"IF(ISNA(VLOOKUP($A39&H$7,#REF!,19,0)),\"-\",VLOOKUP($A39&H$7,#REF!,19,0))","v":{"$error":"#REF!"}},{"$f":"IF(ISNA(VLOOKUP($A39&I$7,#REF!,19,0)),\"-\",VLOOKUP($A39&I$7,#REF!,19,0))","v":{"$error":"#REF!"}},{"$f":"IF(ISNA(VLOOKUP($A39&J$7,#REF!,19,0)),\"-\",VLOOKUP($A39&J$7,#REF!,19,0))","v":{"$error":"#REF!"}},{"$f":"IF(ISNA(VLOOKUP($A39&K$7,#REF!,19,0)),\"-\",VLOOKUP($A39&K$7,#REF!,19,0))","v":{"$error":"#REF!"}},{"$f":"IF(ISNA(VLOOKUP($A39&L$7,#REF!,19,0)),\"-\",VLOOKUP($A39&L$7,#REF!,19,0))","v":{"$error":"#REF!"}},{"$f":"IF(ISNA(VLOOKUP($A39&M$7,#REF!,19,0)),\"-\",VLOOKUP($A39&M$7,#REF!,19,0))","v":{"$error":"#REF!"}},{"$f":"IF(ISNA(VLOOKUP($A39&N$7,#REF!,19,0)),\"-\",VLOOKUP($A39&N$7,#REF!,19,0))","v":{"$error":"#REF!"}},{"$f":"IF(ISNA(VLOOKUP($A39&O$7,#REF!,19,0)),\"-\",VLOOKUP($A39&O$7,#REF!,19,0))","v":{"$error":"#REF!"}},{"$f":"IF(ISNA(VLOOKUP($A39&P$7,#REF!,19,0)),\"-\",VLOOKUP($A39&P$7,#REF!,19,0))","v":{"$error":"#REF!"}},{"$f":"IF(ISNA(VLOOKUP($A39&Q$7,#REF!,19,0)),\"-\",VLOOKUP($A39&Q$7,#REF!,19,0))","v":{"$error":"#REF!"}},{"$f":"IF(ISNA(VLOOKUP($A39&R$7,#REF!,19,0)),\"-\",VLOOKUP($A39&R$7,#REF!,19,0))","v":{"$error":"#REF!"}},{"$f":"IF(ISNA(VLOOKUP($A39&S$7,#REF!,19,0)),\"-\",VLOOKUP($A39&S$7,#REF!,19,0))","v":{"$error":"#REF!"}},{"$f":"IF(ISNA(VLOOKUP($A39&T$7,#REF!,19,0)),\"-\",VLOOKUP($A39&T$7,#REF!,19,0))","v":{"$error":"#REF!"}},{"$f":"IF(ISNA(VLOOKUP($A39&U$7,#REF!,19,0)),\"-\",VLOOKUP($A39&U$7,#REF!,19,0))","v":{"$error":"#REF!"}},{"$f":"IF(ISNA(VLOOKUP($A39&V$7,#REF!,19,0)),\"-\",VLOOKUP($A39&V$7,#REF!,19,0))","v":{"$error":"#REF!"}},{"$f":"IF(ISNA(VLOOKUP($A39&W$7,#REF!,19,0)),\"-\",VLOOKUP($A39&W$7,#REF!,19,0))","v":{"$error":"#REF!"}},{"$f":"IF(ISNA(VLOOKUP($A39&X$7,#REF!,19,0)),\"-\",VLOOKUP($A39&X$7,#REF!,19,0))","v":{"$error":"#REF!"}},null,null,null,null,"NL"]
["AT",null,{"$f":"IF(ISNA(VLOOKUP($A40&C$7,#REF!,19,0)),\"-\",VLOOKUP($A40&C$7,#REF!,19,0))","v":{"$error":"#REF!"}},{"$f":"IF(ISNA(VLOOKUP($A40&D$7,#REF!,19,0)),\"-\",VLOOKUP($A40&D$7,#REF!,19,0))","v":{"$error":"#REF!"}},{"$f":"IF(ISNA(VLOOKUP($A40&E$7,#REF!,19,0)),\"-\",VLOOKUP($A40&E$7,#REF!,19,0))","v":{"$error":"#REF!"}},{"$f":"IF(ISNA(VLOOKUP($A40&F$7,#REF!,19,0)),\"-\",VLOOKUP($A40&F$7,#REF!,19,0))","v":{"$error":"#REF!"}},{"$f":"IF(ISNA(VLOOKUP($A40&G$7,#REF!,19,0)),\"-\",VLOOKUP($A40&G$7,#REF!,19,0))","v":{"$error":"#REF!"}},{"$f":"IF(ISNA(VLOOKUP($A40&H$7,#REF!,19,0)),\"-\",VLOOKUP($A40&H$7,#REF!,19,0))","v":{"$error":"#REF!"}},{"$f":"IF(ISNA(VLOOKUP($A40&I$7,#REF!,19,0)),\"-\",VLOOKUP($A40&I$7,#REF!,19,0))","v":{"$error":"#REF!"}},{"$f":"IF(ISNA(VLOOKUP($A40&J$7,#REF!,19,0)),\"-\",VLOOKUP($A40&J$7,#REF!,19,0))","v":{"$error":"#REF!"}},{"$f":"IF(ISNA(VLOOKUP($A40&K$7,#REF!,19,0)),\"-\",VLOOKUP($A40&K$7,#REF!,19,0))","v":{"$error":"#REF!"}},{"$f":"IF(ISNA(VLOOKUP($A40&L$7,#REF!,19,0)),\"-\",VLOOKUP($A40&L$7,#REF!,19,0))","v":{"$error":"#REF!"}},{"$f":"IF(ISNA(VLOOKUP($A40&M$7,#REF!,19,0)),\"-\",VLOOKUP($A40&M$7,#REF!,19,0))","v":{"$error":"#REF!"}},{"$f":"IF(ISNA(VLOOKUP($A40&N$7,#REF!,19,0)),\"-\",VLOOKUP($A40&N$7,#REF!,19,0))","v":{"$error":"#REF!"}},{"$f":"IF(ISNA(VLOOKUP($A40&O$7,#REF!,19,0)),\"-\",VLOOKUP($A40&O$7,#REF!,19,0))","v":{"$error":"#REF!"}},{"$f":"IF(ISNA(VLOOKUP($A40&P$7,#REF!,19,0)),\"-\",VLOOKUP($A40&P$7,#REF!,19,0))","v":{"$error":"#REF!"}},{"$f":"IF(ISNA(VLOOKUP($A40&Q$7,#REF!,19,0)),\"-\",VLOOKUP($A40&Q$7,#REF!,19,0))","v":{"$error":"#REF!"}},{"$f":"IF(ISNA(VLOOKUP($A40&R$7,#REF!,19,0)),\"-\",VLOOKUP($A40&R$7,#REF!,19,0))","v":{"$error":"#REF!"}},{"$f":"IF(ISNA(VLOOKUP($A40&S$7,#REF!,19,0)),\"-\",VLOOKUP($A40&S$7,#REF!,19,0))","v":{"$error":"#REF!"}},{"$f":"IF(ISNA(VLOOKUP($A40&T$7,#REF!,19,0)),\"-\",VLOOKUP($A40&T$7,#REF!,19,0))","v":{"$error":"#REF!"}},{"$f":"IF(ISNA(VLOOKUP($A40&U$7,#REF!,19,0)),\"-\",VLOOKUP($A40&U$7,#REF!,19,0))","v":{"$error":"#REF!"}},{"$f":"IF(ISNA(VLOOKUP($A40&V$7,#REF!,19,0)),\"-\",VLOOKUP($A40&V$7,#REF!,19,0))","v":{"$error":"#REF!"}},{"$f":"IF(ISNA(VLOOKUP($A40&W$7,#REF!,19,0)),\"-\",VLOOKUP($A40&W$7,#REF!,19,0))","v":{"$error":"#REF!"}},{"$f":"IF(ISNA(VLOOKUP($A40&X$7,#REF!,19,0)),\"-\",VLOOKUP($A40&X$7,#REF!,19,0))","v":{"$error":"#REF!"}},null,null,null,null,"AT"]
["PL",null,{"$f":"IF(ISNA(VLOOKUP($A41&C$7,#REF!,19,0)),\"-\",VLOOKUP($A41&C$7,#REF!,19,0))","v":{"$error":"#REF!"}},{"$f":"IF(ISNA(VLOOKUP($A41&D$7,#REF!,19,0)),\"-\",VLOOKUP($A41&D$7,#REF!,19,0))","v":{"$error":"#REF!"}},{"$f":"IF(ISNA(VLOOKUP($A41&E$7,#REF!,19,0)),\"-\",VLOOKUP($A41&E$7,#REF!,19,0))","v":{"$error":"#REF!"}},{"$f":"IF(ISNA(VLOOKUP($A41&F$7,#REF!,19,0)),\"-\",VLOOKUP($A41&F$7,#REF!,19,0))","v":{"$error":"#REF!"}},{"$f":"IF(ISNA(VLOOKUP($A41&G$7,#REF!,19,0)),\"-\",VLOOKUP($A41&G$7,#REF!,19,0))","v":{"$error":"#REF!"}},{"$f":"IF(ISNA(VLOOKUP($A41&H$7,#REF!,19,0)),\"-\",VLOOKUP($A41&H$7,#REF!,19,0))","v":{"$error":"#REF!"}},{"$f":"IF(ISNA(VLOOKUP($A41&I$7,#REF!,19,0)),\"-\",VLOOKUP($A41&I$7,#REF!,19,0))","v":{"$error":"#REF!"}},{"$f":"IF(ISNA(VLOOKUP($A41&J$7,#REF!,19,0)),\"-\",VLOOKUP($A41&J$7,#REF!,19,0))","v":{"$error":"#REF!"}},{"$f":"IF(ISNA(VLOOKUP($A41&K$7,#REF!,19,0)),\"-\",VLOOKUP($A41&K$7,#REF!,19,0))","v":{"$error":"#REF!"}},{"$f":"IF(ISNA(VLOOKUP($A41&L$7,#REF!,19,0)),\"-\",VLOOKUP($A41&L$7,#REF!,19,0))","v":{"$error":"#REF!"}},{"$f":"IF(ISNA(VLOOKUP($A41&M$7,#REF!,19,0)),\"-\",VLOOKUP($A41&M$7,#REF!,19,0))","v":{"$error":"#REF!"}},{"$f":"IF(ISNA(VLOOKUP($A41&N$7,#REF!,19,0)),\"-\",VLOOKUP($A41&N$7,#REF!,19,0))","v":{"$error":"#REF!"}},{"$f":"IF(ISNA(VLOOKUP($A41&O$7,#REF!,19,0)),\"-\",VLOOKUP($A41&O$7,#REF!,19,0))","v":{"$error":"#REF!"}},{"$f":"IF(ISNA(VLOOKUP($A41&P$7,#REF!,19,0)),\"-\",VLOOKUP($A41&P$7,#REF!,19,0))","v":{"$error":"#REF!"}},{"$f":"IF(ISNA(VLOOKUP($A41&Q$7,#REF!,19,0)),\"-\",VLOOKUP($A41&Q$7,#REF!,19,0))","v":{"$error":"#REF!"}},{"$f":"IF(ISNA(VLOOKUP($A41&R$7,#REF!,19,0)),\"-\",VLOOKUP($A41&R$7,#REF!,19,0))","v":{"$error":"#REF!"}},{"$f":"IF(ISNA(VLOOKUP($A41&S$7,#REF!,19,0)),\"-\",VLOOKUP($A41&S$7,#REF!,19,0))","v":{"$error":"#REF!"}},{"$f":"IF(ISNA(VLOOKUP($A41&T$7,#REF!,19,0)),\"-\",VLOOKUP($A41&T$7,#REF!,19,0))","v":{"$error":"#REF!"}},{"$f":"IF(ISNA(VLOOKUP($A41&U$7,#REF!,19,0)),\"-\",VLOOKUP($A41&U$7,#REF!,19,0))","v":{"$error":"#REF!"}},{"$f":"IF(ISNA(VLOOKUP($A41&V$7,#REF!,19,0)),\"-\",VLOOKUP($A41&V$7,#REF!,19,0))","v":{"$error":"#REF!"}},{"$f":"IF(ISNA(VLOOKUP($A41&W$7,#REF!,19,0)),\"-\",VLOOKUP($A41&W$7,#REF!,19,0))","v":{"$error":"#REF!"}},{"$f":"IF(ISNA(VLOOKUP($A41&X$7,#REF!,19,0)),\"-\",VLOOKUP($A41&X$7,#REF!,19,0))","v":{"$error":"#REF!"}},null,{"$error":"#REF!"},-0.92627931863803969,null,"PL"]
["RO",null,{"$f":"IF(ISNA(VLOOKUP($A42&C$7,#REF!,19,0)),\"-\",VLOOKUP($A42&C$7,#REF!,19,0))","v":{"$error":"#REF!"}},{"$f":"IF(ISNA(VLOOKUP($A42&D$7,#REF!,19,0)),\"-\",VLOOKUP($A42&D$7,#REF!,19,0))","v":{"$error":"#REF!"}},{"$f":"IF(ISNA(VLOOKUP($A42&E$7,#REF!,19,0)),\"-\",VLOOKUP($A42&E$7,#REF!,19,0))","v":{"$error":"#REF!"}},{"$f":"IF(ISNA(VLOOKUP($A42&F$7,#REF!,19,0)),\"-\",VLOOKUP($A42&F$7,#REF!,19,0))","v":{"$error":"#REF!"}},{"$f":"IF(ISNA(VLOOKUP($A42&G$7,#REF!,19,0)),\"-\",VLOOKUP($A42&G$7,#REF!,19,0))","v":{"$error":"#REF!"}},{"$f":"IF(ISNA(VLOOKUP($A42&H$7,#REF!,19,0)),\"-\",VLOOKUP($A42&H$7,#REF!,19,0))","v":{"$error":"#REF!"}},{"$f":"IF(ISNA(VLOOKUP($A42&I$7,#REF!,19,0)),\"-\",VLOOKUP($A42&I$7,#REF!,19,0))","v":{"$error":"#REF!"}},{"$f":"IF(ISNA(VLOOKUP($A42&J$7,#REF!,19,0)),\"-\",VLOOKUP($A42&J$7,#REF!,19,0))","v":{"$error":"#REF!"}},{"$f":"IF(ISNA(VLOOKUP($A42&K$7,#REF!,19,0)),\"-\",VLOOKUP($A42&K$7,#REF!,19,0))","v":{"$error":"#REF!"}},{"$f":"IF(ISNA(VLOOKUP($A42&L$7,#REF!,19,0)),\"-\",VLOOKUP($A42&L$7,#REF!,19,0))","v":{"$error":"#REF!"}},{"$f":"IF(ISNA(VLOOKUP($A42&M$7,#REF!,19,0)),\"-\",VLOOKUP($A42&M$7,#REF!,19,0))","v":{"$error":"#REF!"}},{"$f":"IF(ISNA(VLOOKUP($A42&N$7,#REF!,19,0)),\"-\",VLOOKUP($A42&N$7,#REF!,19,0))","v":{"$error":"#REF!"}},{"$f":"IF(ISNA(VLOOKUP($A42&O$7,#REF!,19,0)),\"-\",VLOOKUP($A42&O$7,#REF!,19,0))","v":{"$error":"#REF!"}},{"$f":"IF(ISNA(VLOOKUP($A42&P$7,#REF!,19,0)),\"-\",VLOOKUP($A42&P$7,#REF!,19,0))","v":{"$error":"#REF!"}},{"$f":"IF(ISNA(VLOOKUP($A42&Q$7,#REF!,19,0)),\"-\",VLOOKUP($A42&Q$7,#REF!,19,0))","v":{"$error":"#REF!"}},{"$f":"IF(ISNA(VLOOKUP($A42&R$7,#REF!,19,0)),\"-\",VLOOKUP($A42&R$7,#REF!,19,0))","v":{"$error":"#REF!"}},{"$f":"IF(ISNA(VLOOKUP($A42&S$7,#REF!,19,0)),\"-\",VLOOKUP($A42&S$7,#REF!,19,0))","v":{"$error":"#REF!"}},{"$f":"IF(ISNA(VLOOKUP($A42&T$7,#REF!,19,0)),\"-\",VLOOKUP($A42&T$7,#REF!,19,0))","v":{"$error":"#REF!"}},{"$f":"IF(ISNA(VLOOKUP($A42&U$7,#REF!,19,0)),\"-\",VLOOKUP($A42&U$7,#REF!,19,0))","v":{"$error":"#REF!"}},{"$f":"IF(ISNA(VLOOKUP($A42&V$7,#REF!,19,0)),\"-\",VLOOKUP($A42&V$7,#REF!,19,0))","v":{"$error":"#REF!"}},{"$f":"IF(ISNA(VLOOKUP($A42&W$7,#REF!,19,0)),\"-\",VLOOKUP($A42&W$7,#REF!,19,0))","v":{"$error":"#REF!"}},{"$f":"IF(ISNA(VLOOKUP($A42&X$7,#REF!,19,0)),\"-\",VLOOKUP($A42&X$7,#REF!,19,0))","v":{"$error":"#REF!"}},null,null,null,null,"RO"]
["SE",null,{"$f":"IF(ISNA(VLOOKUP($A43&C$7,#REF!,19,0)),\"-\",VLOOKUP($A43&C$7,#REF!,19,0))","v":{"$error":"#REF!"}},{"$f":"IF(ISNA(VLOOKUP($A43&D$7,#REF!,19,0)),\"-\",VLOOKUP($A43&D$7,#REF!,19,0))","v":{"$error":"#REF!"}},{"$f":"IF(ISNA(VLOOKUP($A43&E$7,#REF!,19,0)),\"-\",VLOOKUP($A43&E$7,#REF!,19,0))","v":{"$error":"#REF!"}},{"$f":"IF(ISNA(VLOOKUP($A43&F$7,#REF!,19,0)),\"-\",VLOOKUP($A43&F$7,#REF!,19,0))","v":{"$error":"#REF!"}},{"$f":"IF(ISNA(VLOOKUP($A43&G$7,#REF!,19,0)),\"-\",VLOOKUP($A43&G$7,#REF!,19,0))","v":{"$error":"#REF!"}},{"$f":"IF(ISNA(VLOOKUP($A43&H$7,#REF!,19,0)),\"-\",VLOOKUP($A43&H$7,#REF!,19,0))","v":{"$error":"#REF!"}},{"$f":"IF(ISNA(VLOOKUP($A43&I$7,#REF!,19,0)),\"-\",VLOOKUP($A43&I$7,#REF!,19,0))","v":{"$error":"#REF!"}},{"$f":"IF(ISNA(VLOOKUP($A43&J$7,#REF!,19,0)),\"-\",VLOOKUP($A43&J$7,#REF!,19,0))","v":{"$error":"#REF!"}},{"$f":"IF(ISNA(VLOOKUP($A43&K$7,#REF!,19,0)),\"-\",VLOOKUP($A43&K$7,#REF!,19,0))","v":{"$error":"#REF!"}},{"$f":"IF(ISNA(VLOOKUP($A43&L$7,#REF!,19,0)),\"-\",VLOOKUP($A43&L$7,#REF!,19,0))","v":{"$error":"#REF!"}},{"$f":"IF(ISNA(VLOOKUP($A43&M$7,#REF!,19,0)),\"-\",VLOOKUP($A43&M$7,#REF!,19,0))","v":{"$error":"#REF!"}},{"$f":"IF(ISNA(VLOOKUP($A43&N$7,#REF!,19,0)),\"-\",VLOOKUP($A43&N$7,#REF!,19,0))","v":{"$error":"#REF!"}},{"$f":"IF(ISNA(VLOOKUP($A43&O$7,#REF!,19,0)),\"-\",VLOOKUP($A43&O$7,#REF!,19,0))","v":{"$error":"#REF!"}},{"$f":"IF(ISNA(VLOOKUP($A43&P$7,#REF!,19,0)),\"-\",VLOOKUP($A43&P$7,#REF!,19,0))","v":{"$error":"#REF!"}},{"$f":"IF(ISNA(VLOOKUP($A43&Q$7,#REF!,19,0)),\"-\",VLOOKUP($A43&Q$7,#REF!,19,0))","v":{"$error":"#REF!"}},{"$f":"IF(ISNA(VLOOKUP($A43&R$7,#REF!,19,0)),\"-\",VLOOKUP($A43&R$7,#REF!,19,0))","v":{"$error":"#REF!"}},{"$f":"IF(ISNA(VLOOKUP($A43&S$7,#REF!,19,0)),\"-\",VLOOKUP($A43&S$7,#REF!,19,0))","v":{"$error":"#REF!"}},{"$f":"IF(ISNA(VLOOKUP($A43&T$7,#REF!,19,0)),\"-\",VLOOKUP($A43&T$7,#REF!,19,0))","v":{"$error":"#REF!"}},{"$f":"IF(ISNA(VLOOKUP($A43&U$7,#REF!,19,0)),\"-\",VLOOKUP($A43&U$7,#REF!,19,0))","v":{"$error":"#REF!"}},{"$f":"IF(ISNA(VLOOKUP($A43&V$7,#REF!,19,0)),\"-\",VLOOKUP($A43&V$7,#REF!,19,0))","v":{"$error":"#REF!"}},{"$f":"IF(ISNA(VLOOKUP($A43&W$7,#REF!,19,0)),\"-\",VLOOKUP($A43&W$7,#REF!,19,0))","v":{"$error":"#REF!"}},{"$f":"IF(ISNA(VLOOKUP($A43&X$7,#REF!,19,0)),\"-\",VLOOKUP($A43&X$7,#REF!,19,0))","v":{"$error":"#REF!"}},null,{"$error":"#REF!"},{"$error":"#DIV/0!"},null,"SE"]
["GB",null,{"$f":"IF(ISNA(VLOOKUP($A44&C$7,#REF!,19,0)),\"-\",VLOOKUP($A44&C$7,#REF!,19,0))","v":{"$error":"#REF!"}},{"$f":"IF(ISNA(VLOOKUP($A44&D$7,#REF!,19,0)),\"-\",VLOOKUP($A44&D$7,#REF!,19,0))","v":{"$error":"#REF!"}},{"$f":"IF(ISNA(VLOOKUP($A44&E$7,#REF!,19,0)),\"-\",VLOOKUP($A44&E$7,#REF!,19,0))","v":{"$error":"#REF!"}},{"$f":"IF(ISNA(VLOOKUP($A44&F$7,#REF!,19,0)),\"-\",VLOOKUP($A44&F$7,#REF!,19,0))","v":{"$error":"#REF!"}},{"$f":"IF(ISNA(VLOOKUP($A44&G$7,#REF!,19,0)),\"-\",VLOOKUP($A44&G$7,#REF!,19,0))","v":{"$error":"#REF!"}},{"$f":"IF(ISNA(VLOOKUP($A44&H$7,#REF!,19,0)),\"-\",VLOOKUP($A44&H$7,#REF!,19,0))","v":{"$error":"#REF!"}},{"$f":"IF(ISNA(VLOOKUP($A44&I$7,#REF!,19,0)),\"-\",VLOOKUP($A44&I$7,#REF!,19,0))","v":{"$error":"#REF!"}},{"$f":"IF(ISNA(VLOOKUP($A44&J$7,#REF!,19,0)),\"-\",VLOOKUP($A44&J$7,#REF!,19,0))","v":{"$error":"#REF!"}},{"$f":"IF(ISNA(VLOOKUP($A44&K$7,#REF!,19,0)),\"-\",VLOOKUP($A44&K$7,#REF!,19,0))","v":{"$error":"#REF!"}},{"$f":"IF(ISNA(VLOOKUP($A44&L$7,#REF!,19,0)),\"-\",VLOOKUP($A44&L$7,#REF!,19,0))","v":{"$error":"#REF!"}},{"$f":"IF(ISNA(VLOOKUP($A44&M$7,#REF!,19,0)),\"-\",VLOOKUP($A44&M$7,#REF!,19,0))","v":{"$error":"#REF!"}},{"$f":"IF(ISNA(VLOOKUP($A44&N$7,#REF!,19,0)),\"-\",VLOOKUP($A44&N$7,#REF!,19,0))","v":{"$error":"#REF!"}},{"$f":"IF(ISNA(VLOOKUP($A44&O$7,#REF!,19,0)),\"-\",VLOOKUP($A44&O$7,#REF!,19,0))","v":{"$error":"#REF!"}},{"$f":"IF(ISNA(VLOOKUP($A44&P$7,#REF!,19,0)),\"-\",VLOOKUP($A44&P$7,#REF!,19,0))","v":{"$error":"#REF!"}},{"$f":"IF(ISNA(VLOOKUP($A44&Q$7,#REF!,19,0)),\"-\",VLOOKUP($A44&Q$7,#REF!,19,0))","v":{"$error":"#REF!"}},{"$f":"IF(ISNA(VLOOKUP($A44&R$7,#REF!,19,0)),\"-\",VLOOKUP($A44&R$7,#REF!,19,0))","v":{"$error":"#REF!"}},{"$f":"IF(ISNA(VLOOKUP($A44&S$7,#REF!,19,0)),\"-\",VLOOKUP($A44&S$7,#REF!,19,0))","v":{"$error":"#REF!"}},{"$f":"IF(ISNA(VLOOKUP($A44&T$7,#REF!,19,0)),\"-\",VLOOKUP($A44&T$7,#REF!,19,0))","v":{"$error":"#REF!"}},{"$f":"IF(ISNA(VLOOKUP($A44&U$7,#REF!,19,0)),\"-\",VLOOKUP($A44&U$7,#REF!,19,0))","v":{"$error":"#REF!"}},{"$f":"IF(ISNA(VLOOKUP($A44&V$7,#REF!,19,0)),\"-\",VLOOKUP($A44&V$7,#REF!,19,0))","v":{"$error":"#REF!"}},{"$f":"IF(ISNA(VLOOKUP($A44&W$7,#REF!,19,0)),\"-\",VLOOKUP($A44&W$7,#REF!,19,0))","v":{"$error":"#REF!"}},{"$f":"IF(ISNA(VLOOKUP($A44&X$7,#REF!,19,0)),\"-\",VLOOKUP($A44&X$7,#REF!,19,0))","v":{"$error":"#REF!"}},null,null,null,null,"GB"]
["NI",null,{"$f":"IF(ISNA(VLOOKUP($A45&C$7,#REF!,19,0)),\"-\",VLOOKUP($A45&C$7,#REF!,19,0))","v":{"$error":"#REF!"}},{"$f":"IF(ISNA(VLOOKUP($A45&D$7,#REF!,19,0)),\"-\",VLOOKUP($A45&D$7,#REF!,19,0))","v":{"$error":"#REF!"}},{"$f":"IF(ISNA(VLOOKUP($A45&E$7,#REF!,19,0)),\"-\",VLOOKUP($A45&E$7,#REF!,19,0))","v":{"$error":"#REF!"}},{"$f":"IF(ISNA(VLOOKUP($A45&F$7,#REF!,19,0)),\"-\",VLOOKUP($A45&F$7,#REF!,19,0))","v":{"$error":"#REF!"}},{"$f":"IF(ISNA(VLOOKUP($A45&G$7,#REF!,19,0)),\"-\",VLOOKUP($A45&G$7,#REF!,19,0))","v":{"$error":"#REF!"}},{"$f":"IF(ISNA(VLOOKUP($A45&H$7,#REF!,19,0)),\"-\",VLOOKUP($A45&H$7,#REF!,19,0))","v":{"$error":"#REF!"}},{"$f":"IF(ISNA(VLOOKUP($A45&I$7,#REF!,19,0)),\"-\",VLOOKUP($A45&I$7,#REF!,19,0))","v":{"$error":"#REF!"}},{"$f":"IF(ISNA(VLOOKUP($A45&J$7,#REF!,19,0)),\"-\",VLOOKUP($A45&J$7,#REF!,19,0))","v":{"$error":"#REF!"}},{"$f":"IF(ISNA(VLOOKUP($A45&K$7,#REF!,19,0)),\"-\",VLOOKUP($A45&K$7,#REF!,19,0))","v":{"$error":"#REF!"}},{"$f":"IF(ISNA(VLOOKUP($A45&L$7,#REF!,19,0)),\"-\",VLOOKUP($A45&L$7,#REF!,19,0))","v":{"$error":"#REF!"}},{"$f":"IF(ISNA(VLOOKUP($A45&M$7,#REF!,19,0)),\"-\",VLOOKUP($A45&M$7,#REF!,19,0))","v":{"$error":"#REF!"}},{"$f":"IF(ISNA(VLOOKUP($A45&N$7,#REF!,19,0)),\"-\",VLOOKUP($A45&N$7,#REF!,19,0))","v":{"$error":"#REF!"}},{"$f":"IF(ISNA(VLOOKUP($A45&O$7,#REF!,19,0)),\"-\",VLOOKUP($A45&O$7,#REF!,19,0))","v":{"$error":"#REF!"}},{"$f":"IF(ISNA(VLOOKUP($A45&P$7,#REF!,19,0)),\"-\",VLOOKUP($A45&P$7,#REF!,19,0))","v":{"$error":"#REF!"}},{"$f":"IF(ISNA(VLOOKUP($A45&Q$7,#REF!,19,0)),\"-\",VLOOKUP($A45&Q$7,#REF!,19,0))","v":{"$error":"#REF!"}},{"$f":"IF(ISNA(VLOOKUP($A45&R$7,#REF!,19,0)),\"-\",VLOOKUP($A45&R$7,#REF!,19,0))","v":{"$error":"#REF!"}},{"$f":"IF(ISNA(VLOOKUP($A45&S$7,#REF!,19,0)),\"-\",VLOOKUP($A45&S$7,#REF!,19,0))","v":{"$error":"#REF!"}},{"$f":"IF(ISNA(VLOOKUP($A45&T$7,#REF!,19,0)),\"-\",VLOOKUP($A45&T$7,#REF!,19,0))","v":{"$error":"#REF!"}},{"$f":"IF(ISNA(VLOOKUP($A45&U$7,#REF!,19,0)),\"-\",VLOOKUP($A45&U$7,#REF!,19,0))","v":{"$error":"#REF!"}},{"$f":"IF(ISNA(VLOOKUP($A45&V$7,#REF!,19,0)),\"-\",VLOOKUP($A45&V$7,#REF!,19,0))","v":{"$error":"#REF!"}},{"$f":"IF(ISNA(VLOOKUP($A45&W$7,#REF!,19,0)),\"-\",VLOOKUP($A45&W$7,#REF!,19,0))","v":{"$error":"#REF!"}},{"$f":"IF(ISNA(VLOOKUP($A45&X$7,#REF!,19,0)),\"-\",VLOOKUP($A45&X$7,#REF!,19,0))","v":{"$error":"#REF!"}},null,null,null,null,"NI"]
["UK",null,{"$f":"IF(ISNA(VLOOKUP($A46&C$7,#REF!,19,0)),\"-\",VLOOKUP($A46&C$7,#REF!,19,0))","v":{"$error":"#REF!"}},{"$f":"IF(ISNA(VLOOKUP($A46&D$7,#REF!,19,0)),\"-\",VLOOKUP($A46&D$7,#REF!,19,0))","v":{"$error":"#REF!"}},{"$f":"IF(ISNA(VLOOKUP($A46&E$7,#REF!,19,0)),\"-\",VLOOKUP($A46&E$7,#REF!,19,0))","v":{"$error":"#REF!"}},{"$f":"IF(ISNA(VLOOKUP($A46&F$7,#REF!,19,0)),\"-\",VLOOKUP($A46&F$7,#REF!,19,0))","v":{"$error":"#REF!"}},{"$f":"IF(ISNA(VLOOKUP($A46&G$7,#REF!,19,0)),\"-\",VLOOKUP($A46&G$7,#REF!,19,0))","v":{"$error":"#REF!"}},{"$f":"IF(ISNA(VLOOKUP($A46&H$7,#REF!,19,0)),\"-\",VLOOKUP($A46&H$7,#REF!,19,0))","v":{"$error":"#REF!"}},{"$f":"IF(ISNA(VLOOKUP($A46&I$7,#REF!,19,0)),\"-\",VLOOKUP($A46&I$7,#REF!,19,0))","v":{"$error":"#REF!"}},{"$f":"IF(ISNA(VLOOKUP($A46&J$7,#REF!,19,0)),\"-\",VLOOKUP($A46&J$7,#REF!,19,0))","v":{"$error":"#REF!"}},{"$f":"IF(ISNA(VLOOKUP($A46&K$7,#REF!,19,0)),\"-\",VLOOKUP($A46&K$7,#REF!,19,0))","v":{"$error":"#REF!"}},{"$f":"IF(ISNA(VLOOKUP($A46&L$7,#REF!,19,0)),\"-\",VLOOKUP($A46&L$7,#REF!,19,0))","v":{"$error":"#REF!"}},{"$f":"IF(ISNA(VLOOKUP($A46&M$7,#REF!,19,0)),\"-\",VLOOKUP($A46&M$7,#REF!,19,0))","v":{"$error":"#REF!"}},{"$f":"IF(ISNA(VLOOKUP($A46&N$7,#REF!,19,0)),\"-\",VLOOKUP($A46&N$7,#REF!,19,0))","v":{"$error":"#REF!"}},{"$f":"IF(ISNA(VLOOKUP($A46&O$7,#REF!,19,0)),\"-\",VLOOKUP($A46&O$7,#REF!,19,0))","v":{"$error":"#REF!"}},{"$f":"IF(ISNA(VLOOKUP($A46&P$7,#REF!,19,0)),\"-\",VLOOKUP($A46&P$7,#REF!,19,0))","v":{"$error":"#REF!"}},{"$f":"IF(ISNA(VLOOKUP($A46&Q$7,#REF!,19,0)),\"-\",VLOOKUP($A46&Q$7,#REF!,19,0))","v":{"$error":"#REF!"}},{"$f":"IF(ISNA(VLOOKUP($A46&R$7,#REF!,19,0)),\"-\",VLOOKUP($A46&R$7,#REF!,19,0))","v":{"$error":"#REF!"}},{"$f":"IF(ISNA(VLOOKUP($A46&S$7,#REF!,19,0)),\"-\",VLOOKUP($A46&S$7,#REF!,19,0))","v":{"$error":"#REF!"}},{"$f":"IF(ISNA(VLOOKUP($A46&T$7,#REF!,19,0)),\"-\",VLOOKUP($A46&T$7,#REF!,19,0))","v":{"$error":"#REF!"}},{"$f":"IF(ISNA(VLOOKUP($A46&U$7,#REF!,19,0)),\"-\",VLOOKUP($A46&U$7,#REF!,19,0))","v":{"$error":"#REF!"}},{"$f":"IF(ISNA(VLOOKUP($A46&V$7,#REF!,19,0)),\"-\",VLOOKUP($A46&V$7,#REF!,19,0))","v":{"$error":"#REF!"}},{"$f":"IF(ISNA(VLOOKUP($A46&W$7,#REF!,19,0)),\"-\",VLOOKUP($A46&W$7,#REF!,19,0))","v":{"$error":"#REF!"}},{"$f":"IF(ISNA(VLOOKUP($A46&X$7,#REF!,19,0)),\"-\",VLOOKUP($A46&X$7,#REF!,19,0))","v":{"$error":"#REF!"}},null,{"$f":"+(X46/W46)-1","v":{"$error":"#REF!"}},-0.88660376989441092,null,"UK"]
["EU"]
[]
["DG-AGRI,  Pig sector"]

{"sheet":"Weekly Piglet prices","index":4,"n_rows":506,"n_cols":43,"rows_kept":506,"cut":false,"hidden":false,"merged":[[7,40,8,41],[3,16,4,25],[5,17,5,25],[507,0,507,2],[8,2,8,8],[66,0,66,39],[14,0,14,39],[7,0,7,1],[9,0,9,1],[10,0,10,1],[11,0,11,1],[12,0,12,1]]}
["EUROPEAN COMMISSION",null,null,null,null,null,null,null,null,null,null,null,null,null,null,null,null,null,null,null,null,null,null,null,null,null,null,null,null,null,null,null,null,null,null,null,null,null,null,null,null,"Week",{"$f":"'[1]Weekly Piglet prices'!$AQ$1","v":33}]
["Directorate-General for Agriculture and Rural Development"]
["C3. Animal Products"]
[null,null,null,null,null,null,null,null,null,null,null,null,null,null,null,null,"PIGLET PRICE"]
[]
[null,null,null,null,null,null,null,null,null,null,null,null,null,null,null,null,null,"DG-Agri-C3,  Meat sector"]
[null,null,null,null,null,null,null,null,null,null,null," "]
["PIGLET",null,null,null,null,null,null,null,null,null,null,null,null,null,null,null,null,null,null,null,null,null,null,null,null,null,null,null,null,null,null,null,null,null,null,null,null,null,null,null,"€ur / piece"]
[null,null,"Country Code/Currency"]
[2014,null,"BE","BG","BG","CZ","CZ","DK","DK","DE","EE","GR","ES","FR","HR","HR","IE","IT","CY","LV","LT","LT","LU","HU","HU","MT","NL","AT","PL","PL","PT","RO","RO","SI","SK","FI","SE","SE","UK","UK",null,"EU_27"]
["Weightings from 04/07/2011 until 01/07/2012",null,4.0999999999999996,null,null,1.2,null,8.1,null,17.7,0.3,null,17,9.6,0,0,null,6.1,null,null,null,null,0.06,2.1,null,0.04,8,null,9.6999999999999993,null,1.4,null,null,null,0.5,0.9,1,null,2.9,null,null,90.700000000000017]
["Weightings from 02/07/2012 until 30/06/2013",null,4.3,null,null,1,null,8.3000000000000007,null,18.600000000000001,0.2,null,17.3,9.4,0,0,null,6.3,null,null,null,null,7.0000000000000007E-2,2,null,0.03,8.1,null,8.8000000000000007,null,1.3,null,null,null,0.4,0.9,1.1000000000000001,null,2.9,null,null,91]
["Weightings from 01/07/2013\nuntil --/--/----",null,{"$f":"VLOOKUP(C$10,'[2]New Pig Coef.'!$A$1:$O$34,15,0)","v":4.3},null,null,{"$f":"VLOOKUP(F$10,'[2]New Pig Coef.'!$A$1:$O$34,15,0)","v":1.1000000000000001},null,{"$f":"VLOOKUP(H$10,'[2]New Pig Coef.'!$A$1:$O$34,15,0)","v":8.5},null,{"$f":"VLOOKUP(J$10,'[2]New Pig Coef.'!$A$1:$O$34,15,0)","v":19.2},{"$f":"VLOOKUP(K$10,'[2]New Pig Coef.'!$A$1:$O$34,15,0)","v":0.2},null,{"$f":"VLOOKUP(M$10,'[2]New Pig Coef.'!$A$1:$O$34,15,0)","v":17.5},{"$f":"VLOOKUP(N$10,'[2]New Pig Coef.'!$A$1:$O$34,15,0)","v":9.1999999999999993},{"$f":"VLOOKUP(O$10,'[2]New Pig Coef.'!$A$1:$O$34,15,0)","v":0.7},null,null,{"$f":"VLOOKUP(R$10,'[2]New Pig Coef.'!$A$1:$O$34,15,0)","v":5.9},null,null,null,null,{"$f":"VLOOKUP(W$10,'[2]New Pig Coef.'!$A$1:$O$34,15,0)","v":0.06},{"$f":"VLOOKUP(X$10,'[2]New Pig Coef.'!$A$1:$O$34,15,0)","v":2},null,{"$f":"VLOOKUP(Z$10,'[2]New Pig Coef.'!$A$1:$O$34,15,0)","v":0.04},{"$f":"VLOOKUP(AA$10,'[2]New Pig Coef.'!$A$1:$O$34,15,0)","v":8.1999999999999993},null,{"$f":"VLOOKUP(AC$10,'[2]New Pig Coef.'!$A$1:$O$34,15,0)","v":7.5},null,{"$f":"VLOOKUP(AE$10,'[2]New Pig Coef.'!$A$1:$O$34,15,0)","v":1.4},null,null,null,{"$f":"VLOOKUP(AI$10,'[2]New Pig Coef.'!$A$1:$O$34,15,0)","v":0.4},{"$f":"VLOOKUP(AJ$10,'[2]New Pig Coef.'!$A$1:$O$34,15,0)","v":0.9},{"$f":"VLOOKUP(AK$10,'[2]New Pig Coef.'!$A$1:$O$34,15,0)","v":1},null,{"$f":"VLOOKUP(AM$10,'[2]New Pig Coef.'!$A$1:$O$34,15,0)","v":3},null,null,{"$f":"SUM(C13:AN13)","v":91.100000000000037}]
["Week beginning","Week N°","EUR","EUR","BGN","EUR","CZK","EUR","DKK","EUR","EUR","EUR","EUR","EUR","EUR","HRK","EUR","EUR","EUR","EUR","EUR","LTL","EUR","EUR","HUF","EUR","EUR","EUR","EUR","PLN","EUR","EUR","RON","EUR","EUR","EUR","EUR","SEK","EUR","GBP",null,"EURO","Compare to previous week"]
["2012"]
["2012-01-02",1,44.5,"","",48.126800000000003,1240,43.037400000000005,320,53.2,40.9,"",42.21,35.200000000000003,"","","",65.41,"","","","",45.2,31.500300000000003,10000,80,39,"",36.719900000000003,164.69,28,"","","",66.06,50.31,71.64670000000001,636.53,53.665700000000001,44.59,null,45.00813660418963]
["2012-01-09",2,44,"","",58.373600000000003,1499,41.823399999999999,311,53.7,49.86,"",38.590000000000003,35.800000000000004,"","","",67.14,"","","","",45.2,37.638500000000001,11750,80,39,"",36.709800000000001,163.38,28,"","","",64.06,49.730000000000004,69.238399999999999,612.5,54.501899999999999,45.17,null,44.765696582138915,{"$error":"#DIV/0!"}]
["2012-01-16",3,44.5,"","",58.794200000000004,1499,40.883299999999998,304,54.4,53,"",38.590000000000003,35.6,"","","",68.13,"","","","",45.2,57.091700000000003,17519.080000000002,80,40,"",37.601500000000001,163.72999999999999,28,"","","",65.75,51.2,69.362300000000005,611.84,53.853999999999999,44.84,null,45.540835611907376,1.18356156888344E-2]
["2012-01-23",4,46.5,"","",59.244700000000002,1499,40.888200000000005,304,57.1,39.4,"",38.81,35.800000000000004,"","","",68.91,"","","","",47.7,41.865400000000001,12500,80,43,"",39.027999999999999,166.64000000000001,27,"","","",65.790000000000006,52.43,69.149500000000003,611.23,53.3932,44.61,null,46.280614994487301,3.3841055272505693E-2]
["2012-01-30",5,47.5,"","",59.602400000000003,1499,40.894800000000004,304,58.800000000000004,39.08,"",40.11,36.6,"","","",69.790000000000006,"","","","",40,42.6235,12500,80,45.5,"",40.070700000000002,168.79,27,"","","",62.02,53.88,68.610900000000001,609.02,53.529400000000003,44.59,null,47.385855126791625,4.0513519132745923E-2]
["2012-02-06",6,48.5,"","",59.846800000000002,1499,41.571899999999999,309,59.7,53.57,"",41.37,37.200000000000003,"","","",70.31,"","","","",41.7,49.653200000000005,14500,80,47,"",40.2684,168.9,27,"","","",58.4,51.95,68.636700000000005,605.16,53.435500000000005,44.54,null,48.328471885336263,4.4248696589120451E-2]
["2012-02-13",7,49,"","",59.678000000000004,1499,42.513400000000004,316,60.7,41.04,"",46.81,38,"","","",71.03,"","","","",46.5,53.544600000000003,15600,80,47.5,"",39.922200000000004,167.62,30,"","","",68.710000000000008,50.51,73.967600000000004,651.48,53.403000000000006,44.54,null,49.986289305402408,5.487785693964442E-2]
["2012-02-20",8,49.5,"","",67.069000000000003,1678,42.4983,316,61.5,35.6,"",44.02,38.800000000000004,"","","",71.81,"","","","",45.5,46.751899999999999,13500,80,47.5,"",41.133400000000002,171.78,30,"","","",63.01,54.43,69.030600000000007,608.69000000000005,53.06,44.65,null,49.771329658213887,2.985523267321466E-2]
["2012-02-27",9,49.5,"","",67.4422,1678,42.5,316,62.1,39.46,"",45.410000000000004,39.6,"","","",72.260000000000005,"","","","",41.1,58.781800000000004,17006.760000000002,80,47.5,"",41.640700000000002,172.11,30,"","","",66.69,55.25,71.705700000000007,632.74,53.131100000000004,44.67,null,50.671809261300986,1.3714159731086362E-2]
["2012-03-05",10,49.5,"","",67.728000000000009,1678,41.293300000000002,307,62.2,44.84,"",46.84,40.200000000000003,"","","",72.56,"","","","",43.9,61.554400000000001,18000,80,47.5,"",41.477200000000003,171,31,"","","",67.59,54.81,70.261400000000009,624.21,53.9129,45.02,null,51.030509592061726,2.5299302680775959E-2]
["2012-03-12",11,49.5,"","",68.267700000000005,1678,41.290600000000005,307,62.4,38.340000000000003,"",46.84,40.4,"","","",72.8,"","","","",48.4,52.426000000000002,15312.5,80,47.5,"",43.184800000000003,178.21,31,"","","",68.040000000000006,53.94,72.255499999999998,642.44000000000005,54.670700000000004,45.57,null,51.106557772877615,8.5796919019556217E-3]
["2012-03-19",12,49.5,"","",67.18780000000001,1654,41.288200000000003,307,62.300000000000004,42.4,"",48.28,40.6,"","","",72.97,"","","","",47.2,63.476000000000006,18530,80,47.5,"",42.509800000000006,176.33,31,"","","",73.75,53.31,70.545699999999997,628.24,55.126100000000001,45.92,null,51.592269349503837,1.1008311732193521E-2]
["2012-03-26",13,49.5,"","",54.566300000000005,1347,42.220600000000005,314,62.2,38.800000000000004,"",47.32,41,"","","",73.010000000000005,"","","","",44.9,66.800899999999999,19618.18,80,47.5,"",43.575200000000002,180.93,31,"","","",66.38,55.86,71.611199999999997,635.91999999999996,54.982900000000001,45.95,null,51.523465931642768,8.1576254972588469E-3]
["2012-04-02",14,50,"","",48.804900000000004,1205,42.8765,319,62.5,39.950000000000003,"",46.97,41,"","","",73.010000000000005,"","","","",46.6,47.672699999999999,14078.43,80,47.5,"",42.932000000000002,178.47,31,"","","",70.75,55.02,73.956800000000001,651.91,55.446100000000001,45.93,null,51.071048401323033,-1.0102694739978824E-2]
["2012-04-09",15,50,"","",60.578400000000002,1500,42.882600000000004,319,62.4,44.39,"",46.97,40.800000000000004,"","","",73.010000000000005,"","","","",46.6,48.8733,14500,80,47.5,"",43.8249,183.11,31,"","","",64.03,52.46,76.189700000000002,675.77,55.655300000000004,45.92,null,51.293513450937141,-4.4630631217765782E-3]
["2012-04-16",16,50,"","",57.865500000000004,1437,42.882600000000004,319,62.4,37.78,"",46.9,40.200000000000003,"","","",73.010000000000005,"","","","",46.5,68.947400000000002,20493.420000000002,80,47.5,"",44.02,184.36,32,"","","",67.94,55.67,74.3857,659.16,56.003399999999999,45.96,null,51.704793384784992,1.2409085055037572E-2]
["2012-04-23",17,49.5,"","",57.723800000000004,1437,42.880600000000001,319,62.300000000000004,38.200000000000003,"",46.9,39.800000000000004,"","","",73.06,"","","","",45.300000000000004,51.387700000000002,15000,80,47.5,"",44.395099999999999,185.89000000000001,32,"","","",64.56,51.79,73.668599999999998,654.24,55.5259,45.35,null,51.175488092612987,-2.3009801899619431E-3]
["2012-04-30",18,49.5,"","",52.795100000000005,1316,43.9617,327,62.300000000000004,38.6,"",46.31,38.200000000000003,"","","",72.989999999999995,"","","","",49.6,54.965200000000003,15681.82,80,47.5,"",44.736900000000006,186.76,32,"","","",46.08,55.96,74.866500000000002,666.39,55.843500000000006,45.38,null,51.008604079382565,-1.3464695627374734E-2]
["2012-05-07",19,47.5,"","",63.165800000000004,1589,43.980000000000004,327,59.5,44.14,"",45.42,36.6,"","","",72.67,"","","","",39.5,52.067800000000005,15000,80,44.5,"",43.920700000000004,185.11,30,"","","",69.14,56.31,72.607900000000001,648.55000000000007,56.166700000000006,45.24,null,49.830754796030845,-2.6276902218276055E-2]
["2012-05-14",20,47,"","",56.612900000000003,1438,43.319600000000001,322,59,37.57,"",43.2,35.4,"","","",72.040000000000006,"","","","",41.7,57.962800000000001,17062.5,80,41.5,"",42.6066,184.05,30,"","","",65.42,53.63,73.507100000000008,666.41,55.245600000000003,44.29,null,48.623853142227112,-4.6751934897966696E-2]
["2012-05-21",21,47,"","",59.876200000000004,1519,43.328200000000002,322,59,37.200000000000003,"",42.480000000000004,34.4,"","","",70.960000000000008,"","","","",43.6,51.787300000000002,15500,80,40.5,"",41.588200000000001,180.73,30,"","","",65,57.1,73.948000000000008,669.02,55.003700000000002,44.21,null,48.043544211686871,-3.5865613347810021E-2]
["2012-05-28",22,46.5,"","",61.5732,1576,44.408999999999999,330,58.7,42.53,"",42.12,34.800000000000004,"","","",69.69,"","","","",44.7,50.2164,15134.15,80,40.5,"",41.373600000000003,181.20000000000002,30,"","","",68.44,55.31,74.821399999999997,672.30000000000007,55.014300000000006,44.07,null,47.941025027563377,-1.4043068793137992E-2]
["2012-06-04",23,46.5,"","",62.303200000000004,1594,45.3461,337,57.1,38.200000000000003,"",42.32,35,"","","",68.84,"","","","",44.7,45.043900000000001,13510.2,80,40.5,"",41.210500000000003,179,30,"","","",61.97,55.71,77.116,693.05000000000007,53.617600000000003,43.31,null,47.521040022050698,-1.0875637886621048E-2]
["2012-06-11",24,45.5,"","",70.602699999999999,1804,45.210900000000002,336,56.5,49.57,"",42.660000000000004,34.200000000000003,"","","",67.5,"","","","",41.2,51.5702,15300,80,39.5,"",40.889900000000004,176.15,30,"","","",68.59,58.45,77.923299999999998,690.69,53.377000000000002,43.15,null,47.474207056229325,-9.7373381371311796E-3]
["2012-06-18",25,43.5,"","",73.21520000000001,1875,45.203000000000003,336,53.4,36.51,"",42.660000000000004,33.4,"","","",66.41,"","","","",45.2,53.555100000000003,15500,80,38,"",41.562200000000004,177.16,30,"","","",66.98,57.120000000000005,76.686199999999999,677,53.413499999999999,43.07,null,46.565170231532505,-2.0114664790051973E-2]
["2012-06-25",26,42.5,"","",58.230900000000005,1502,45.604199999999999,339,52.2,38.47,"",42.47,32.799999999999997,"","","",64.91,"","","","",42.2,54.943200000000004,15794.12,80,34.5,"",40.744900000000001,173.43,30,"","","",48.94,57.81,77.9666,686.2,52.6464,42.26,null,45.460876626240349,-4.2408932235652674E-2]
["2012-07-02",27,41.5,"","",60.474600000000002,1547,45.5839,339,51.1,39,"",42.07,32.200000000000003,"","","",63.61,"","","","",46.9,47.605000000000004,13647.06,80,32.5,"",41.260600000000004,174,30,"","","",66.180000000000007,55.69,80.410300000000007,699.2,52.822200000000002,42.32,null,44.823242668136707,-3.740837958359311E-2]
["2012-07-09",28,40,"","",61.403500000000001,1564,45.574800000000003,339,48.6,48.4,"",41.730000000000004,31.400000000000002,"","","",63.06,"","","","",43.6,45.0366,13000,80,30,"",41.675600000000003,175.31,30,"","","",46.67,57.230000000000004,80.215699999999998,688.96,52.329700000000003,41.37,null,43.77680363836825,-3.704444596873524E-2]
["2012-07-16",29,37.5,"","",61.549900000000001,1564,45.567500000000003,339,46.2,42.65,"",40.450000000000003,30.8,"","","",62.230000000000004,"","","","",45.300000000000004,45.446800000000003,13022.470000000001,80,28,"",42.360199999999999,176.88,30,"","","",72.489999999999995,58.050000000000004,83.834100000000007,715.02,52.138500000000001,40.83,null,42.91014994487319,-4.2680819355880084E-2]
["2012-07-23",30,37.5,"","",61.377000000000002,1564,45.570500000000003,339,45.800000000000004,37.200000000000003,"",40.450000000000003,30.8,"","","",61.86,"","","","",43.4,48.952000000000005,14000,80,28,"",42.330800000000004,176.41,30,"","","",59.1,57.03,84.290599999999998,713.31000000000006,51.406700000000001,40.160000000000004,null,42.761614553472981,-2.3190114410397533E-2]
["2012-07-30",31,37.5,"","",61.849299999999999,1564,46.635600000000004,347,46.1,39.4,"",38.44,29.400000000000002,"","","",60.800000000000004,"","","","",43.4,35.9467,10062.5,80,28,"",43.1464,177.15,30,"","","",65.44,59.1,85.468900000000005,713.31000000000006,50.887800000000006,39.980000000000004,null,42.170597464167557,-1.7234907863424853E-2]
["2012-08-06",32,38,"","",64.688699999999997,1629,44.876100000000001,334,47.1,38.94,"",36.07,27,"","","",60.370000000000005,"","","","",41.300000000000004,45.625500000000002,12672.41,80,28,"",43.688600000000001,178.03,30,"","","",73.710000000000008,59.65,83.390300000000011,689.77,50.2575,39.660000000000004,null,41.828774751929423,-2.1814887283478246E-2]
["2012-08-13",33,39.5,"","",53.307400000000001,1335,46.076599999999999,343,49,47.06,"",35.31,26.400000000000002,"","","",60.370000000000005,"","","","",43.7,45.973100000000002,12819.67,85.4,29.5,"",42.924800000000005,175.3,30,"","","",60.71,58.61,84.608900000000006,697.42,50.0428,39.270000000000003,null,42.032121609702301,-3.2837062501407388E-3]
["2012-08-20",34,41.5,"","",53.586500000000001,1335,46.058100000000003,343,51.2,37.03,"",35.160000000000004,25.8,"","","",59.96,"","","","",43.7,45.693899999999999,12672.41,85.4,31.5,"",44.007800000000003,179.64000000000001,32,"","","",68.36,59.14,85.438800000000001,706.80000000000007,49.728900000000003,39.18,null,42.764706394707822,2.2375306193620492E-2]
["2012-08-27",35,43.5,"","",71.896600000000007,1787,47.653000000000006,355,53.6,41.300000000000004,"",37.03,25.6,"","","",59.96,"","","","",43.9,38.844500000000004,10946.43,85.4,34.5,"",43.772500000000001,181.26,33,"","","",55.5,58.4,86.520800000000008,717.9,49.339300000000001,39.119999999999997,null,44.069268908489512,4.8466439969496511E-2]
["2012-09-03",36,44,"","",72.187399999999997,1787,47.5077,354,54.2,38.6,"",38.25,26.6,"","","",59.96,"","","","",45.4,36.463900000000002,10404.41,85.4,35.5,"",44.305199999999999,184.64000000000001,34,"","","",82.79,59.88,83.193899999999999,702.12,49.111800000000002,38.980000000000004,null,44.753065049614101,4.6495318746122338E-2]
["2012-09-10",37,44,"","",61.2821,1501,47.497399999999999,354,54.6,44.85,"",38.660000000000004,28.400000000000002,"","","",59.99,"","","","",43,35.217500000000001,10000,85.4,36,"",45.373899999999999,185.79,34,"","","",65.63,58.85,78.714200000000005,670.38,48.618600000000001,38.980000000000004,null,44.933949062844526,1.9620932585710404E-2]
["2012-09-17",38,44,"","",75.808800000000005,1875,48.559100000000001,362,54.7,37.300000000000004,"",39.06,29.400000000000002,"","","",60.160000000000004,"","","","",40.4,51.476900000000001,14564.52,85.4,36,"",45.194500000000005,186.18,34,"","","",67.19,58.11,79.671400000000006,680.42,48.592300000000002,39,null,45.774272105843437,2.2818706497470309E-2]
["2012-09-24",39,44,"","",67.401700000000005,1683,48.552600000000005,362,56.1,37.910000000000004,"",40.61,30.6,"","","",60.370000000000005,"","","","",44,32.887,9346.15,85.4,36,"",44.8645,185.38,34,"","","",48.52,59.54,86.039000000000001,729,49.09,39.11,null,45.903400771775082,2.157503912186054E-2]
["2012-10-01",40,44,"","",67.641000000000005,1692,49.224299999999999,367,55.9,37.6,"",41.72,32.200000000000003,"","","",60.99,"","","","",44.2,35.456600000000002,10094.200000000001,85.4,36,"",45.213700000000003,184.97,34,"","","",71.040000000000006,59.81,80.96220000000001,691.88,49.801600000000001,39.9,null,46.536170011025348,1.6644675494133176E-2]
["2012-10-08",41,45,"","",70.986199999999997,1770,49.2102,367,56.300000000000004,42.21,"",42.53,32.6,"","","",61.56,"","","","",46.5,36.217400000000005,10227.27,85.4,36,"",45.282400000000003,185,34,"","","",79.81,58.550000000000004,81.487499999999997,703.42,50.427500000000002,40.65,null,47.038303528114653,2.4723718444786602E-2]
["2012-10-15",42,44.5,"","",71.226500000000001,1770,49.201500000000003,367,56,36.6,"",43.53,32.6,"","","",62.71,"","","","",43.7,46.26,12908.050000000001,87.24,34.5,"",45.593800000000002,186.91,34,"","","",77.55,57.38,79.415300000000002,684.74,50.668600000000005,41.06,null,47.299047960308691,1.6393225938073686E-2]
["2012-10-22",43,43.5,"","",64.938299999999998,1617,49.203200000000002,367,56,37.92,"",44.33,31.8,"","","",63.440000000000005,"","","","",47.5,35.619199999999999,10000,85.4,34.5,"",45.361699999999999,187.43,34,"","","",69.37,58.49,82.17580000000001,709.9,52.334500000000006,42.29,null,47.069664167585437,6.6670430518489532E-4]
["2012-10-29",44,43,"","",65.698300000000003,1649,48.259900000000002,360,56,39.369999999999997,"",44.11,31,"","","",64.16,"","","","",46,34.497700000000002,9761.9,85.4,34,"",44.7746,184.94,36,"","","",76.42,58.410000000000004,83.268600000000006,717.79,52.816600000000001,42.44,null,46.862741786108039,-9.2244176789093579E-3]
["2012-11-05",45,43,"","",65.074600000000004,1649,46.518799999999999,347,56,44.480000000000004,"",43.87,30.6,"","","",64.89,"","","","",37.1,33.122700000000002,9375,87.14,34,"",45.470200000000006,188.20000000000002,37,"","","",67.91,57.300000000000004,80.176100000000005,686.66,55.3551,44.22,null,46.719690187431084,-7.4352342712349362E-3]
["2012-11-12",46,43.5,"","",61.584300000000006,1569,46.526700000000005,347,56.5,37.6,"",43.97,30.6,"","","",65.180000000000007,"","","","",41.300000000000004,48.162500000000001,13692.31,87.14,35,"",44.0184,183.5,37,"","","",75.64,58.97,83.649799999999999,721.01,56.081300000000006,44.96,null,47.214524035281144,7.5066510358852145E-3]
["2012-11-19",47,43.5,"","",65.462100000000007,1664,46.5276,347,56.9,35.300000000000004,"",44.26,31,"","","",65.44,"","","","",45.2,37.084099999999999,10439.02,87.14,35.5,"",44.754300000000001,184.82,37,"","","",72.73,58.71,86.705100000000002,747.42,55.981100000000005,45.12,null,47.331282138919498,1.3090667961084934E-2]
["2012-11-26",48,43.5,"","",65.826099999999997,1664,47.593000000000004,355,56.9,36.6,"",44.7,29.8,"","","",65.06,"","","","",44.4,41.234100000000005,11574.07,87.14,35.5,"",43.969799999999999,180.45000000000002,37,"","","",67.960000000000008,60.82,82.310100000000006,710.05000000000007,56.398700000000005,45.660000000000004,null,47.33663969128996,2.5864002339104353E-3]
["2012-12-03",49,43.5,"","",65.32650000000001,1648,47.722900000000003,356,57,43.79,"",45.17,29.6,"","","",65.540000000000006,"","","","",48,38.371600000000001,10850,87.14,35.5,"",43.726199999999999,180.29,37,"","","",68.63,55.01,83.965900000000005,725.24,56.857700000000001,46.06,null,47.373160088202852,8.8478374958111949E-4]
["2012-12-10",50,43.5,"","",65.26400000000001,1648,46.915600000000005,350,57,38.01,"",45.99,29.6,"","","",65.5,"","","","",46.2,38.830800000000004,11000,87.14,35.5,"",42.8765,175.85,37,"","","",71.41,59.02,83.836600000000004,728.11,57.014900000000004,46.09,null,47.409407938257985,1.5372499493540026E-3]
["2012-12-17",51,43.5,"","",65.355000000000004,1648,45.972100000000005,343,57,37.03,"",47.550000000000004,30,"","","",65.5,"","","","",53.6,45.272500000000001,12978.26,91.320000000000007,35.5,"",42.811500000000002,174.57,39,"","","",65.67,58.43,83.108900000000006,721.34,56.647500000000001,46.09,null,47.78037772877618,8.5959568628131144E-3]
["2013"]
["2012-12-24",52,43.5,"","",65.558500000000009,1648,44.096299999999999,329,55.5,38.200000000000003,"",48.44,30,"","","",65.5,"","","","",48.9,44.735400000000006,12978.26,91.320000000000007,35.5,"",43.474200000000003,177.25,40,"","","",65.67,59.68,85.458200000000005,735.45,56.5458,46.21,null,47.768494395604399,-2.487073927970318E-4]
["2012-12-31",1,48.5,"","",62.418600000000005,1575,44.099200000000003,329,56.9,40.800000000000004,"",46.300000000000004,30.400000000000002,"","","",65.510000000000005,"","","","",45.4,41.250900000000001,12022.22,91.320000000000007,41.5,"",43.854199999999999,179.32,40,"","","",65.67,58.6,84.990700000000004,727.25,56.764100000000006,46.21,null,48.379725054945062,1.2795686091310099E-2]
[{"$f":"A69+7","v":"2013-01-07"},{"$f":"B69+1","v":2},48.5,"","",61.6387,1575,44.368400000000001,331,56.9,36.71,"",47.39,31,"","","",65.540000000000006,"","","","",45.4,39.257000000000005,11500,91.320000000000007,41.5,"",43.378,178.21,40,"","","",75,58.27,84.601300000000009,725.56000000000006,56.701300000000003,46.31,null,48.599160659340662,4.5356934985965047E-3]
[{"$f":"A70+7","v":"2013-01-14"},{"$f":"B70+1","v":3},49,"","",61.511400000000002,1575,43.283200000000001,323,56.9,41.65,"",48.52,32,"","","",65.710000000000008,"","","","",45.4,51.008300000000006,15028.57,91.320000000000007,41.5,"",41.664300000000004,171.91,36,"","","",69.19,55,85.312100000000001,737.12,55.704300000000003,46.34,null,48.817503076923089,4.4927199280850871E-3]
["2013-01-21",4,49,"","",62.472799999999999,1600,45.960900000000002,343,56.9,38.340000000000003,"",49.230000000000004,32.4,"","","",66.290000000000006,"","","","",48.4,47.406200000000005,13983.87,91.320000000000007,41.5,"",40.728000000000002,169.88,36,"","","",69.19,59.61,83.957000000000008,729.29,54.961300000000001,46.35,null,49.119605934065945,6.1884127229290264E-3]
["2013-01-28",5,50,"","",62.395200000000003,1600,42.621300000000005,318,56.9,38.800000000000004,"",49.870000000000005,33.4,"","","",67.11,"","","","",44.800000000000004,39.719200000000001,11727.27,91.320000000000007,42.5,"",40.081800000000001,167.98,33,"","","",69.08,58.88,86.037000000000006,742.46,54.278000000000006,46.51,null,48.951766263736268,-3.4169588118229122E-3]
["2013-02-04",6,50.5,"","",62.7637,1600,42.6267,318,57,39.03,"",50.800000000000004,33.799999999999997,"","","",67.83,"","","","",44.800000000000004,43.800800000000002,12833.33,91.320000000000007,43.5,"",40.476199999999999,168.95000000000002,33,"","","",75,57.58,84.928100000000001,729.91,54.024700000000003,46.32,null,49.477391318681306,1.0737611634136668E-2]
["2013-02-11",7,51.5,"","",64.287199999999999,1629,42.619300000000003,318,57.9,39.160000000000004,"",51.800000000000004,34.800000000000004,"","","",69.69,"","","","",46.7,41.144200000000005,12000,91.320000000000007,44.5,"",40.169600000000003,167.67000000000002,33,"","","",75,60.120000000000005,86.796900000000008,738.74,54.007000000000005,46.35,null,50.196711648351645,1.4538364099215162E-2]
["2013-02-18",8,52.5,"","",64.032700000000006,1629,42.629300000000001,318,58.800000000000004,38.520000000000003,"",52.800000000000004,35.4,"","","",71.47,"","","","",44,42.8078,12500,91.320000000000007,46,"",40.399100000000004,168.44,34,"","","",85.320000000000007,60.74,86.382300000000001,730.17,53.689399999999999,46.38,null,51.040790769230775,1.6815426611851425E-2]
["2013-02-25",9,52.5,"","",63.6325,1629,42.638100000000001,318,59,39.950000000000003,"",52.94,36,"","","",73.66,"","","","",45.800000000000004,47.199100000000001,13909.09,91.320000000000007,46.5,"",40.846400000000003,169.69,34,"","","",84.33,57.77,89.205200000000005,751.94,53.648900000000005,46.45,null,51.506190989010996,9.1182015945721062E-3]
["2013-03-04",10,52.5,"","",63.729900000000001,1629,43.459299999999999,324,59,38.9,"",53.050000000000004,37.200000000000003,"","","",75.11,"","","","",48.5,51.186600000000006,15240,91.320000000000007,46.5,"",41.5869,172.26,35,"","","",69.64,60.24,87.96220000000001,733.13,54.164300000000004,46.89,null,51.961972527472533,8.8490631846329659E-3]
["2013-03-11",11,52.5,"","",61.303400000000003,1568,42.240200000000002,315,59,41.660000000000004,"",53.050000000000004,37.4,"","","",76.16,"","","","",49,46.077300000000001,14000,91.320000000000007,46.5,"",41.351800000000004,171.46,35,"","","",78.67,57.120000000000005,89.79010000000001,748.37,54.414999999999999,47.28,null,51.827809999999999,-2.5819367692709871E-3]
["2013-03-18",12,52,"","",56.547900000000006,1454,42.391100000000002,316,59.1,39.4,"",53.050000000000004,38,"","","",76.63,"","","","",44.5,52.963700000000003,16209.68,91.320000000000007,46.5,"",41.734400000000001,173.89000000000001,37,"","","",80.210000000000008,60.15,88.556600000000003,741.09,55.803600000000003,47.74,null,52.15521373626374,6.3171439476941149E-3]
["2013-03-25",13,52,"","",58.282900000000005,1502,42.393100000000004,316,59.1,39.76,"",52.75,38.200000000000003,"","","",76.67,"","","","",50.5,44.250300000000003,13500,91.320000000000007,46.5,"",41.227000000000004,172.22,39,"","","",62.6,61.800000000000004,88.746099999999998,742.72,56.952000000000005,48.29,null,51.912065274725279,-4.662016395292734E-3]
["2013-04-01",14,52,"","",54.0901,1395,42.390300000000003,316,59.1,40.47,"",52.58,37.800000000000004,"","","",76.63,"","","","",47.2,48.193000000000005,14571.43,91.320000000000007,46.5,"",41.8123,174.85,44,"","","",67.650000000000006,57.94,88.174000000000007,737.52,57.572700000000005,48.79,null,51.999919340659339,1.692363142732356E-3]
["2013-04-08",15,52,"","",53.157900000000005,1373,42.385400000000004,316,59.1,38.590000000000003,"",52.58,38,"","","",76.260000000000005,"","","","",42.300000000000004,40.354900000000001,12000,91.320000000000007,46.25,"",42.8551,176.74,40,"","","",62.17,56.65,89.0625,743.77,57.369900000000001,48.83,null,51.792983076923079,-3.9795497062330432E-3]
["2013-04-15",16,52,"","",56.488400000000006,1461,42.383400000000002,316,59.300000000000004,39.980000000000004,"",49.83,36.800000000000004,"","","",75.739999999999995,"","","","",48.800000000000004,63.022300000000001,18660,91.320000000000007,46.25,"",42.745000000000005,175.64000000000001,40,"","","",90.600000000000009,59.83,86.771500000000003,732.42,57.2806,48.97,null,51.808991318681322,3.0908128490048092E-4]
["2013-04-22",17,50.5,"","",56.505300000000005,1461,42.385300000000001,316,59.2,39.44,"",48.34,35.800000000000004,"","","",74.960000000000008,"","","","",48.800000000000004,46.635400000000004,14000,91.320000000000007,45.25,"",42.163800000000002,174.34,39,"","","",77.42,60.13,85.9131,735.39,57.938100000000006,49.17,null,50.712242087912095,-2.1169090593233797E-2]
["2013-04-29",18,48.5,"","",69.934300000000007,1798,42.520299999999999,317,57.1,39.35,"",46.980000000000004,34.200000000000003,"","","",74.44,"","","","",41,50.368200000000002,15033.33,91.320000000000007,41.75,"",41.092600000000004,170.35,38,"","","",61.45,57.92,86.542700000000011,739.37,58.746200000000002,49.56,null,49.476303516483512,-2.4371601817289479E-2]
["2013-05-06",19,46.5,"","",61.092300000000002,1574,41.053600000000003,306,54.800000000000004,40.11,"",43.71,34.4,"","","",73.790000000000006,"","","","",44.6,42.551700000000004,12531.91,91.320000000000007,38.75,"",43.436300000000003,179.91,37,"","","",78.28,54.75,87.110799999999998,744.12,58.698,49.56,null,47.860678021978018,-3.265453115282213E-2]
["2013-05-13",20,44.5,"","",57.697000000000003,1496,41.054900000000004,306,53.6,38.4,"",41.480000000000004,33.799999999999997,"","","",71.739999999999995,"","","","",47.1,59.051000000000002,17259.260000000002,91.320000000000007,36.25,"",41.956800000000001,174.85,37,"","","",70.900000000000006,55.660000000000004,85.027900000000002,730.32,58.704500000000003,49.63,null,46.802635714285714,-2.2106713724499349E-2]
["2013-05-20",21,42.5,"","",57.425800000000002,1496,41.055199999999999,306,53.2,38.29,"",40.160000000000004,33.200000000000003,"","","",70.06,"","","","",42.1,46.482800000000005,13500,91.320000000000007,34.25,"",40.933599999999998,171.49,37,"","","",58.84,54.59,85.580800000000011,734.32,58.554400000000001,49.89,null,45.57521406593407,-2.6225481313587484E-2]
["2013-05-27",22,42.5,"","",57.867200000000004,1496,41.0505,306,53.1,39.19,"",39.450000000000003,32.6,"","","",68.44,"","","","",43.800000000000004,48.061399999999999,14000,91.320000000000007,34.25,"",41.198,174.34,37,"","","",76.540000000000006,55.910000000000004,86.237400000000008,740.75,58.791200000000003,50.29,null,45.419975494505493,-3.4062060839471497E-3]
["2013-06-03",23,42.5,"","",55.455200000000005,1426,41.045999999999999,306,53,38.96,"",39.1,32.4,"","","",66.47,"","","","",43.7,42.906300000000002,12666.67,91.320000000000007,34.25,"",41.307400000000001,176.53,37,"","","",68.64,55.95,88.105900000000005,759.48,59.929600000000001,51.06,null,45.070270879120883,-7.6993572008182687E-3]
["2013-06-10",24,43,"","",54.660700000000006,1403,42.104300000000002,314,53.6,39.28,"",39.1,33.4,"","","",65.3,"","","","",44.6,44.031500000000001,13000,91.320000000000007,34.25,"",41.155100000000004,175.35,37,"","","",80.23,55.83,87.528400000000005,759.34,60.594200000000001,51.56,null,45.401981208791206,7.3598477044873878E-3]
["2013-06-17",25,43.5,"","",55.141300000000001,1420,42.634599999999999,318,53.6,38.800000000000004,"",39.79,33.6,"","","",64.710000000000008,"","","","",44.1,50.356900000000003,50.356900000000003,91.320000000000007,34.25,"",40.664900000000003,174.02,37,"","","",69.600000000000009,55.81,86.387100000000004,747,60.879200000000004,51.94,null,45.62878560439561,4.9954735358659352E-3]
["2013-06-24",26,44,"","",71.613900000000001,1853,43.705300000000001,326,53.6,39.54,"",40.61,33.799999999999997,"","","",64.41,"","","","",43.1,47.168700000000001,47.168700000000001,91.320000000000007,34.25,"",40.221600000000002,174.32,37,"","","",77,56.65,85.671000000000006,751.72,61.570700000000002,52.5,null,46.029001098901105,8.7711186963288501E-3]
["2013-07-01",27,44,"","",71.374300000000005,1853,43.701900000000002,326,53.7,39.47,"",40.630000000000003,33.799999999999997,46.599600000000002,348.2,"",64.34,"","","","",43.9,44.311,13056.12,91.320000000000007,34.25,"",40.0852,173.04,37,"","","",68.350000000000009,55.76,86.180199999999999,749.80000000000007,62.0867,53.230000000000004,null,45.998734357848512,-6.5755806839173925E-4]
["2013-07-08",28,44,"","",71.4983,1853,44.11,329,53.7,39.800000000000004,"",40.56,33.799999999999997,43.472000000000001,327.2,"",64.3,"","","","",39.700000000000003,44.2956,13000,91.320000000000007,34.25,"",39.92,172.3,37,"","","",65.47,53.13,86.696200000000005,754.97,62.488700000000001,53.88,null,45.962533809001073,-7.8699010641936074E-4]
["2013-07-15",29,44,"","",59.220800000000004,1537,44.117100000000001,329,53.6,39.29,"",40.56,33.200000000000003,43.503599999999999,327.2,"",64.290000000000006,"","","","",36.800000000000004,46.826900000000002,13763.16,91.320000000000007,34.25,"",40.273400000000002,171.82,39,"","","",67.680000000000007,56.230000000000004,85.341999999999999,738.52,62.043000000000006,53.54,null,45.856035675082303,-2.3170640322252023E-3]
["2013-07-22",30,45,"","",59.223100000000002,1537,45.056100000000001,336,54.800000000000004,39.29,"",40.56,33.6,43.036700000000003,323,"",64.290000000000006,"","","","",43.300000000000004,41.646300000000004,12312.5,91.320000000000007,35.25,"",41.319300000000005,174.75,40,"","","",67.680000000000007,52.42,86.836399999999998,745.4,62.231000000000002,53.58,null,46.347579582875944,1.0719284834749487E-2]
["2013-07-29",31,45,"","",52.428200000000004,1359,46.008300000000006,343,55.5,38.81,"",39.840000000000003,34.200000000000003,42.997100000000003,323,"",64.290000000000006,"","","","",41.2,39.015700000000002,11663.12,91.320000000000007,35.25,"",40.367100000000001,171.12,40,"","","",53.79,52.99,85.306100000000001,741.21,61.669800000000002,53.54,null,46.19467058177824,-3.2991798595282118E-3]
["2013-08-05",32,45,"","",57.786799999999999,1498,45.999600000000001,343,55.800000000000004,39.67,"",38.910000000000004,34.200000000000003,42.967100000000002,322.8,"",64.290000000000006,"","","","",44,41.791000000000004,12500,91.320000000000007,35.25,"",40.811700000000002,171.92000000000002,40,"","","",71.47,56.93,85.392800000000008,744.17,62.235300000000002,53.75,null,46.380299670691535,4.0184091925643539E-3]
["2013-08-12",33,45.5,"","",54.942600000000006,1420,47.195300000000003,352,56.5,37.6,"",38.910000000000004,33.799999999999997,42.832300000000004,322.8,"",64.290000000000006,"","","","",43,39.304200000000002,11750,91.320000000000007,36.25,"",40.698300000000003,171.13,40,"","","",69.760000000000005,56.800000000000004,86.682700000000011,751.85,62.575700000000005,53.58,null,46.624673655323804,5.2689177596385584E-3]
["2013-08-19",34,47,"","",51.2562,1320,48.273600000000002,360,57.5,38.82,"",39.200000000000003,32.4,42.406300000000002,320,"",64.33,"","","","",42.5,45.683100000000003,13687.5,91.320000000000007,37.5,"",41.1691,174.39000000000001,44,"","","",67.570000000000007,54.51,86.2988,751.66,62.736600000000003,53.660000000000004,null,47.199952579582849,1.2338508329555964E-2]
["2013-08-26",35,48,"","",59.140700000000002,1520,49.2,367,58.7,38.51,"",40.28,34,42.327600000000004,320,"",64.290000000000006,"","","","",41.300000000000004,41.756300000000003,12538.460000000001,91.320000000000007,38.5,"",40.3977,172.03,45,"","","",67.570000000000007,55.870000000000005,85.645800000000008,746.80000000000007,62.556400000000004,53.660000000000004,null,48.002077277716786,1.6994184406890822E-2]
["2013-09-02",36,48,"","",59.862300000000005,1541,50.812100000000001,379,59.1,36.770000000000003,"",41.800000000000004,34,41.738900000000001,316.40000000000003,"",64.33,"","","","",39.200000000000003,36.542400000000001,11000,91.320000000000007,38.5,"",42.266400000000004,180.73,48,"","","",67.570000000000007,55.910000000000004,83.407700000000006,728.23,63.497700000000002,53.7,null,48.622667508232688,1.2928403638148067E-2]
["2013-09-09",37,46,"","",64.2316,1657,50.816600000000001,379,59.2,38.6,"",42.14,34.200000000000003,41.705200000000005,316.40000000000003,"",64.56,"","","","",45.300000000000004,36.628799999999998,11000,91.320000000000007,37.5,"",42.208000000000006,179.07,48,"","","",67.570000000000007,53.82,85.150300000000001,741.25,64.279300000000006,54.08,null,48.64199890230514,3.9757987504862591E-4]
["2013-09-16",38,45,"","",64.233699999999999,1656,50.823500000000003,379,58.5,38.46,"",42.14,33.799999999999997,41.821600000000004,318,"",64.760000000000005,"","","","",42.2,43.473400000000005,12987.36,91.320000000000007,36.5,"",43.2209,182.16,48,"","","",78.08,55.980000000000004,84.83,732.26,64.430300000000003,54.15,null,48.631626673984606,-2.1323606255096994E-4]
["2013-09-23",39,42.5,"","",64.131,1656,50.822300000000006,379,56.5,39.6,"",40.49,33.6,41.7592,318,"",64.960000000000008,"","","","",45.5,39.213900000000002,11750,91.320000000000007,35.5,"",42.515300000000003,179.68,48,"","","",79.34,56.42,88.207000000000008,762.93000000000006,64.363100000000003,54.18,null,47.573872008781535,-2.175034514666796E-2]
["2013-09-30",40,42.5,"","",64.6374,1656,49.874200000000002,372,56.5,38.32,"",40.42,33.6,39.449300000000001,300.60000000000002,"",64.89,"","","","",42.6,37.4985,11144.07,91.320000000000007,34.5,"",42.994600000000005,181.32,48,"","","",67.73,56.38,83.974100000000007,726.97,64.809399999999997,54.42,null,47.279725027442353,-6.1829522996338371E-3]
["2013-10-07",41,42.5,"","",56.303800000000003,1438,49.868900000000004,372,56.6,40.840000000000003,"",40.42,33,39.475500000000004,300.60000000000002,"",64.400000000000006,"","","","",37.5,37.208300000000001,11000,91.320000000000007,34.5,"",43.518799999999999,182.62,48,"","","",67.570000000000007,54.56,84.714500000000001,740.84,64.096500000000006,54.26,null,47.11248166849613,-3.5373166584440341E-3]
["2013-10-14",42,42.5,"","",58.717400000000005,1507,49.873600000000003,372,56.6,39.200000000000003,"",39.770000000000003,32.799999999999997,40.255800000000001,306.60000000000002,"",63.940000000000005,"","","","",45,44.414700000000003,13104.17,91.320000000000007,34.5,"",43.191600000000001,180.6,47,"","","",70.08,54.43,83.085400000000007,729.41,63.924600000000005,54.13,null,47.076643249176712,-7.6069903452746779E-4]
["2013-10-21",43,42.5,"","",58.475000000000001,1507,49.871000000000002,372,56.4,39.020000000000003,"",39.770000000000003,32.6,40.233499999999999,306.60000000000002,"",63.61,"","","","",43.800000000000004,40.9131,12000,91.320000000000007,34.5,"",41.300200000000004,172.76,47,"","","",70.08,55.58,84.767600000000002,742.62,63.841200000000001,54.25,null,46.782888583973637,-6.239923769590594E-3]
["2013-10-28",44,40.5,"","",58.5458,1509,49.739900000000006,371,55.6,38.230000000000004,"",39.770000000000003,32.799999999999997,40.145800000000001,306,"",63.17,"","","","",39.5,43.063600000000001,12674.42,91.320000000000007,33.75,"",42.257899999999999,176.81,47,"","","",70.08,55,83.575100000000006,733.66,65.680800000000005,55.93,null,46.595272667398447,-4.0103534059985346E-3]
["2013-11-04",45,39.5,"","",57.380200000000002,1509,49.741100000000003,371,54.2,39.22,"",39.770000000000003,33.6,40.148099999999999,306,"",62.01,"","","","",44.4,38.810099999999998,11500,91.320000000000007,33,"",40.349299999999999,168.52,47,"","","",71.06,53.9,83.2958,732.35,65.935299999999998,55.34,null,45.93086377607024,-1.4259148048576087E-2]
["2013-11-11",46,39.5,"","",55.7376,1509,47.863800000000005,357,54.1,38.950000000000003,"",39.770000000000003,33.6,38.210300000000004,291.40000000000003,"",62.2,"","","","",38.1,41.963999999999999,12500,91.320000000000007,33.75,"",39.8294,166.95000000000002,47,"","","",71.53,54.34,80.668599999999998,719.09,68.575100000000006,57.51,null,45.86591734357846,-1.4140041608713405E-3]
["2013-11-18",47,39.5,"","",55.395900000000005,1509,47.863300000000002,357,54.4,38.68,"",39.770000000000003,33.6,38.127500000000005,291.40000000000003,"",62.67,"","","","",46.6,42.377600000000001,12608.11,91.320000000000007,34,"",40.131300000000003,168.07,48.4,"","","",72.22,53.730000000000004,81.902100000000004,730.86,68.345200000000006,57.18,null,46.040705159165725,3.8108431207848348E-3]
["2013-11-25",48,41.5,"","",48.293800000000005,1320,47.863800000000005,357,55.6,37.700000000000003,"",41.13,34.200000000000003,37.771300000000004,288.60000000000002,"",62.13,"","","","",42.9,37.2438,11150,91.320000000000007,35.5,"",39.488500000000002,165.84,48.4,"","","",70.510000000000005,55.22,80.842600000000004,719.91,67.408200000000008,56.230000000000004,null,46.51596860592754,1.0322679574928273E-2]
["2013-12-02",49,43,"","",56.471000000000004,1550,48.930300000000003,365,57.1,39.39,"",42.24,34.800000000000004,33.615000000000002,256.8,"",62.13,"","","","",42.300000000000004,33.384399999999999,10086.960000000001,91.320000000000007,38,"",38.679900000000004,162.33000000000001,49,"","","",70.510000000000005,54.18,79.00030000000001,702.19,67.151300000000006,55.82,null,47.390342480790316,1.8797284052499696E-2]
["2013-12-09",50,43.5,"","",58.6462,1612,47.717400000000005,356,57.4,38.43,"",45.32,36.200000000000003,42.314700000000002,323.2,"",64.44,"","","","",52.300000000000004,33.094000000000001,10000,91.320000000000007,39.25,"",38.905900000000003,162.78,49,"","","",70.510000000000005,55.63,78.928899999999999,710.52,68.829800000000006,57.79,null,48.537797585071324,2.421284684207814E-2]
["2013-12-16",51,44,"","",58.6462,1612,46.916200000000003,350,57.4,38.43,"",47.71,37.200000000000003,42.447700000000005,323.2,"",65.510000000000005,"","","","",51.6,33.094000000000001,10000,91.320000000000007,40.5,"",39.5366,165.24,49,"","","",70.510000000000005,50.32,78.291200000000003,701.98,65.712500000000006,55.36,null,49.118923271130583,1.1972642249387766E-2]
["2013-12-23",52,44,"","",58.6462,1612,44.903400000000005,335,57.4,39.840000000000003,"",49,37.200000000000003,44.031600000000005,336.40000000000003,"",66.11,"","","","",45.2,33.094000000000001,10000,91.320000000000007,40.5,"",39.5366,165.24,49,"","","",57.300000000000004,56.25,78.291200000000003,701.98,70.575299999999999,59.02,null,49.389552579582848,5.5096750993179899E-3]
["2013-12-30",1,44,"","",51.98,1428,44.91,335,57.4,38.92,"",49,37.6,44.031600000000005,336.40000000000003,"",66.11,"","","","",52.65,42.518895446475703,12659.09,91.320000000000007,41,"",39.5366,162.66999999999999,50.4,"","","",57.300000000000004,55.24,77.620519429936834,689.94,70.575299999999999,59.02,null,49.609051924510283,4.4442464744693932E-3]
["2014-01-06",{"$f":"B121+1","v":2},{"$f":"'[2]Weekly Piglet prices'!C122","v":45.5},{"$f":"'[2]Weekly Piglet prices'!D122","v":0},{"$f":"'[2]Weekly Piglet prices'!E122","v":0},{"$f":"'[2]Weekly Piglet prices'!F122","v":51.98},{"$f":"'[2]Weekly Piglet prices'!G122","v":1428},{"$f":"'[2]Weekly Piglet prices'!H122","v":44.91},{"$f":"'[2]Weekly Piglet prices'!I122","v":335},{"$f":"'[2]Weekly Piglet prices'!J122","v":57},{"$f":"'[2]Weekly Piglet prices'!K122","v":38.69},{"$f":"'[2]Weekly Piglet prices'!L122","v":0},{"$f":"'[2]Weekly Piglet prices'!M122","v":49},{"$f":"'[2]Weekly Piglet prices'!N122","v":37.6},{"$f":"'[2]Weekly Piglet prices'!O122","v":44.09671765217},{"$f":"'[2]Weekly Piglet prices'!P122","v":336.4},{"$f":"'[2]Weekly Piglet prices'!Q122","v":0},{"$f":"'[2]Weekly Piglet prices'!R122","v":66.11},{"$f":"'[2]Weekly Piglet prices'!S122","v":0},{"$f":"'[2]Weekly Piglet prices'!T122","v":0},{"$f":"'[2]Weekly Piglet prices'!U122","v":0},{"$f":"'[2]Weekly Piglet prices'!V122","v":0},{"$f":"'[2]Weekly Piglet prices'!W122","v":51.36},{"$f":"'[2]Weekly Piglet prices'!X122","v":43.829904599350634},{"$f":"'[2]Weekly Piglet prices'!Y122","v":13133.13},{"$f":"'[2]Weekly Piglet prices'!Z122","v":91.32},{"$f":"'[2]Weekly Piglet prices'!AA122","v":42},{"$f":"'[2]Weekly Piglet prices'!AB122","v":0},{"$f":"'[2]Weekly Piglet prices'!AC122","v":38.909999999999997},{"$f":"'[2]Weekly Piglet prices'!AD122","v":162.44999999999999},{"$f":"'[2]Weekly Piglet prices'!AE122","v":51},{"$f":"'[2]Weekly Piglet prices'!AF122","v":0},{"$f":"'[2]Weekly Piglet prices'!AG122","v":""},{"$f":"'[2]Weekly Piglet prices'!AH122","v":0},{"$f":"'[2]Weekly Piglet prices'!AI122","v":69.7},{"$f":"'[2]Weekly Piglet prices'!AJ122","v":54.17},{"$f":"'[2]Weekly Piglet prices'!AK122","v":78.866470282103322},{"$f":"'[2]Weekly Piglet prices'!AL122","v":700.43},{"$f":"'[2]Weekly Piglet prices'!AM122","v":68.608168788299253},{"$f":"'[2]Weekly Piglet prices'!AN122","v":56.86},null,{"$f":"'[2]Weekly Piglet prices'!$AP122","v":49.663895589486479},{"$f":"'[2]Weekly Piglet prices'!$AQ122","v":1.1055172967153748E-3}]
["2014-01-13",{"$f":"B122+1","v":3},{"$f":"'[2]Weekly Piglet prices'!C123","v":45.5},{"$f":"'[2]Weekly Piglet prices'!D123","v":0},{"$f":"'[2]Weekly Piglet prices'!E123","v":0},{"$f":"'[2]Weekly Piglet prices'!F123","v":51.98},{"$f":"'[2]Weekly Piglet prices'!G123","v":1428},{"$f":"'[2]Weekly Piglet prices'!H123","v":44.893700523600302},{"$f":"'[2]Weekly Piglet prices'!I123","v":335},{"$f":"'[2]Weekly Piglet prices'!J123","v":57.2},{"$f":"'[2]Weekly Piglet prices'!K123","v":37.770000000000003},{"$f":"'[2]Weekly Piglet prices'!L123","v":0},{"$f":"'[2]Weekly Piglet prices'!M123","v":49},{"$f":"'[2]Weekly Piglet prices'!N123","v":38},{"$f":"'[2]Weekly Piglet prices'!O123","v":44.946093158813525},{"$f":"'[2]Weekly Piglet prices'!P123","v":342.8},{"$f":"'[2]Weekly Piglet prices'!Q123","v":0},{"$f":"'[2]Weekly Piglet prices'!R123","v":69.709999999999994},{"$f":"'[2]Weekly Piglet prices'!S123","v":0},{"$f":"'[2]Weekly Piglet prices'!T123","v":0},{"$f":"'[2]Weekly Piglet prices'!U123","v":0},{"$f":"'[2]Weekly Piglet prices'!V123","v":49.89},{"$f":"'[2]Weekly Piglet prices'!W123","v":48.89},{"$f":"'[2]Weekly Piglet prices'!X123","v":48.952971817372394},{"$f":"'[2]Weekly Piglet prices'!Y123","v":14687.5},{"$f":"'[2]Weekly Piglet prices'!Z123","v":91.32},{"$f":"'[2]Weekly Piglet prices'!AA123","v":42.5},{"$f":"'[2]Weekly Piglet prices'!AB123","v":40.262223061213987},{"$f":"'[2]Weekly Piglet prices'!AC123","v":40.262223061213987},{"$f":"'[2]Weekly Piglet prices'!AD123","v":170.23},{"$f":"'[2]Weekly Piglet prices'!AE123","v":51},{"$f":"'[2]Weekly Piglet prices'!AF123","v":0},{"$f":"'[2]Weekly Piglet prices'!AG123","v":""},{"$f":"'[2]Weekly Piglet prices'!AH123","v":0},{"$f":"'[2]Weekly Piglet prices'!AI123","v":70.790000000000006},{"$f":"'[2]Weekly Piglet prices'!AJ123","v":48.84},{"$f":"'[2]Weekly Piglet prices'!AK123","v":79.525009770791783},{"$f":"'[2]Weekly Piglet prices'!AL123","v":701.79},{"$f":"'[2]Weekly Piglet prices'!AM123","v":67.167880948690112},{"$f":"'[2]Weekly Piglet prices'!AN123","v":55.71},null,{"$f":"'[2]Weekly Piglet prices'!$AP123","v":50.161681546349968},{"$f":"'[2]Weekly Piglet prices'!$AQ123","v":1.0023095267799764E-2}]
["2014-01-20",{"$f":"B123+1","v":4},{"$f":"'[2]Weekly Piglet prices'!C124","v":48},{"$f":"'[2]Weekly Piglet prices'!D124","v":0},{"$f":"'[2]Weekly Piglet prices'!E124","v":0},{"$f":"'[2]Weekly Piglet prices'!F124","v":51.98},{"$f":"'[2]Weekly Piglet prices'!G124","v":1428},{"$f":"'[2]Weekly Piglet prices'!H124","v":44.893700523600302},{"$f":"'[2]Weekly Piglet prices'!I124","v":335},{"$f":"'[2]Weekly Piglet prices'!J124","v":58},{"$f":"'[2]Weekly Piglet prices'!K124","v":37.770000000000003},{"$f":"'[2]Weekly Piglet prices'!L124","v":0},{"$f":"'[2]Weekly Piglet prices'!M124","v":49},{"$f":"'[2]Weekly Piglet prices'!N124","v":38.6},{"$f":"'[2]Weekly Piglet prices'!O124","v":48.38582986411123},{"$f":"'[2]Weekly Piglet prices'!P124","v":369.6},{"$f":"'[2]Weekly Piglet prices'!Q124","v":0},{"$f":"'[2]Weekly Piglet prices'!R124","v":69.709999999999994},{"$f":"'[2]Weekly Piglet prices'!S124","v":0},{"$f":"'[2]Weekly Piglet prices'!T124","v":0},{"$f":"'[2]Weekly Piglet prices'!U124","v":0},{"$f":"'[2]Weekly Piglet prices'!V124","v":49.89},{"$f":"'[2]Weekly Piglet prices'!W124","v":48.89},{"$f":"'[2]Weekly Piglet prices'!X124","v":48.952971817372394},{"$f":"'[2]Weekly Piglet prices'!Y124","v":14687.5},{"$f":"'[2]Weekly Piglet prices'!Z124","v":91.32},{"$f":"'[2]Weekly Piglet prices'!AA124","v":43.5},{"$f":"'[2]Weekly Piglet prices'!AB124","v":0},{"$f":"'[2]Weekly Piglet prices'!AC124","v":40.829721955240572},{"$f":"'[2]Weekly Piglet prices'!AD124","v":170.53},{"$f":"'[2]Weekly Piglet prices'!AE124","v":51},{"$f":"'[2]Weekly Piglet prices'!AF124","v":0},{"$f":"'[2]Weekly Piglet prices'!AG124","v":""},{"$f":"'[2]Weekly Piglet prices'!AH124","v":0},{"$f":"'[2]Weekly Piglet prices'!AI124","v":70.790000000000006},{"$f":"'[2]Weekly Piglet prices'!AJ124","v":48.84},{"$f":"'[2]Weekly Piglet prices'!AK124","v":77.847242815903982},{"$f":"'[2]Weekly Piglet prices'!AL124","v":684.89},{"$f":"'[2]Weekly Piglet prices'!AM124","v":68.336435652136274},{"$f":"'[2]Weekly Piglet prices'!AN124","v":56.38},null,{"$f":"'[2]Weekly Piglet prices'!$AP124","v":50.692109148483418},{"$f":"'[2]Weekly Piglet prices'!$AQ124","v":1.0574358470087031E-2}]
["2014-01-27",{"$f":"B124+1","v":5},{"$f":"'[2]Weekly Piglet prices'!C125","v":49},{"$f":"'[2]Weekly Piglet prices'!D125","v":0},{"$f":"'[2]Weekly Piglet prices'!E125","v":0},{"$f":"'[2]Weekly Piglet prices'!F125","v":48.146552395388319},{"$f":"'[2]Weekly Piglet prices'!G125","v":1325},{"$f":"'[2]Weekly Piglet prices'!H125","v":44.893700523600302},{"$f":"'[2]Weekly Piglet prices'!I125","v":335},{"$f":"'[2]Weekly Piglet prices'!J125","v":59.1},{"$f":"'[2]Weekly Piglet prices'!K125","v":39.39},{"$f":"'[2]Weekly Piglet prices'!L125","v":0},{"$f":"'[2]Weekly Piglet prices'!M125","v":49.94},{"$f":"'[2]Weekly Piglet prices'!N125","v":38.4},{"$f":"'[2]Weekly Piglet prices'!O125","v":48.317244393149082},{"$f":"'[2]Weekly Piglet prices'!P125","v":369.6},{"$f":"'[2]Weekly Piglet prices'!Q125","v":0},{"$f":"'[2]Weekly Piglet prices'!R125","v":73.31},{"$f":"'[2]Weekly Piglet prices'!S125","v":0},{"$f":"'[2]Weekly Piglet prices'!T125","v":0},{"$f":"'[2]Weekly Piglet prices'!U125","v":0},{"$f":"'[2]Weekly Piglet prices'!V125","v":49.89},{"$f":"'[2]Weekly Piglet prices'!W125","v":48.89},{"$f":"'[2]Weekly Piglet prices'!X125","v":43.74453193350832},{"$f":"'[2]Weekly Piglet prices'!Y125","v":13500},{"$f":"'[2]Weekly Piglet prices'!Z125","v":91.32},{"$f":"'[2]Weekly Piglet prices'!AA125","v":43.5},{"$f":"'[2]Weekly Piglet prices'!AB125","v":0},{"$f":"'[2]Weekly Piglet prices'!AC125","v":43.018772110973813},{"$f":"'[2]Weekly Piglet prices'!AD125","v":181.53},{"$f":"'[2]Weekly Piglet prices'!AE125","v":51},{"$f":"'[2]Weekly Piglet prices'!AF125","v":0},{"$f":"'[2]Weekly Piglet prices'!AG125","v":""},{"$f":"'[2]Weekly Piglet prices'!AH125","v":0},{"$f":"'[2]Weekly Piglet prices'!AI125","v":70.790000000000006},{"$f":"'[2]Weekly Piglet prices'!AJ125","v":55.38},{"$f":"'[2]Weekly Piglet prices'!AK125","v":76.605664726483852},{"$f":"'[2]Weekly Piglet prices'!AL125","v":676.08},{"$f":"'[2]Weekly Piglet prices'!AM125","v":68.336435652136274},{"$f":"'[2]Weekly Piglet prices'!AN125","v":56.38},null,{"$f":"'[2]Weekly Piglet prices'!$AP125","v":51.43826300266678},{"$f":"'[2]Weekly Piglet prices'!$AQ125","v":1.4719329432472117E-2}]
["2014-02-03",{"$f":"1+B125","v":6},{"$f":"'[2]Weekly Piglet prices'!C126","v":50},{"$f":"'[2]Weekly Piglet prices'!D126","v":0},{"$f":"'[2]Weekly Piglet prices'!E126","v":0},{"$f":"'[2]Weekly Piglet prices'!F126","v":48.146552395388319},{"$f":"'[2]Weekly Piglet prices'!G126","v":1325},{"$f":"'[2]Weekly Piglet prices'!H126","v":43.954950005073201},{"$f":"'[2]Weekly Piglet prices'!I126","v":328},{"$f":"'[2]Weekly Piglet prices'!J126","v":58.9},{"$f":"'[2]Weekly Piglet prices'!K126","v":40},{"$f":"'[2]Weekly Piglet prices'!L126","v":0},{"$f":"'[2]Weekly Piglet prices'!M126","v":51.22},{"$f":"'[2]Weekly Piglet prices'!N126","v":38.4},{"$f":"'[2]Weekly Piglet prices'!O126","v":49.670883712245008},{"$f":"'[2]Weekly Piglet prices'!P126","v":380},{"$f":"'[2]Weekly Piglet prices'!Q126","v":0},{"$f":"'[2]Weekly Piglet prices'!R126","v":74.599999999999994},{"$f":"'[2]Weekly Piglet prices'!S126","v":74.599999999999994},{"$f":"'[2]Weekly Piglet prices'!T126","v":74.599999999999994},{"$f":"'[2]Weekly Piglet prices'!U126","v":74.599999999999994},{"$f":"'[2]Weekly Piglet prices'!V126","v":49.89},{"$f":"'[2]Weekly Piglet prices'!W126","v":48.09},{"$f":"'[2]Weekly Piglet prices'!X126","v":41.99295810394873},{"$f":"'[2]Weekly Piglet prices'!Y126","v":13000},{"$f":"'[2]Weekly Piglet prices'!Z126","v":91.32},{"$f":"'[2]Weekly Piglet prices'!AA126","v":44.75},{"$f":"'[2]Weekly Piglet prices'!AB126","v":0},{"$f":"'[2]Weekly Piglet prices'!AC126","v":39.331881541979079},{"$f":"'[2]Weekly Piglet prices'!AD126","v":165.39},{"$f":"'[2]Weekly Piglet prices'!AE126","v":46},{"$f":"'[2]Weekly Piglet prices'!AF126","v":0},{"$f":"'[2]Weekly Piglet prices'!AG126","v":""},{"$f":"'[2]Weekly Piglet prices'!AH126","v":0},{"$f":"'[2]Weekly Piglet prices'!AI126","v":71.760000000000005},{"$f":"'[2]Weekly Piglet prices'!AJ126","v":54.48},{"$f":"'[2]Weekly Piglet prices'!AK126","v":75.752276337566926},{"$f":"'[2]Weekly Piglet prices'!AL126","v":669.24},{"$f":"'[2]Weekly Piglet prices'!AM126","v":68.040000000000006},{"$f":"'[2]Weekly Piglet prices'!AN126","v":56.38},null,{"$f":"'[2]Weekly Piglet prices'!$AP126","v":51.366294241349344},{"$f":"'[2]Weekly Piglet prices'!$AQ126","v":-1.3991289191415124E-3}]
["2014-02-10",7,{"$f":"'[2]Weekly Piglet prices'!C127","v":49.5},{"$f":"'[2]Weekly Piglet prices'!D127","v":0},{"$f":"'[2]Weekly Piglet prices'!E127","v":0},{"$f":"'[2]Weekly Piglet prices'!F127","v":52.614082019582881},{"$f":"'[2]Weekly Piglet prices'!G127","v":1447},{"$f":"'[2]Weekly Piglet prices'!H127","v":43.955370749002576},{"$f":"'[2]Weekly Piglet prices'!I127","v":328},{"$f":"'[2]Weekly Piglet prices'!J127","v":58.6},{"$f":"'[2]Weekly Piglet prices'!K127","v":39.42},{"$f":"'[2]Weekly Piglet prices'!L127","v":0},{"$f":"'[2]Weekly Piglet prices'!M127","v":52.01},{"$f":"'[2]Weekly Piglet prices'!N127","v":39},{"$f":"'[2]Weekly Piglet prices'!O127","v":49.650486705428882},{"$f":"'[2]Weekly Piglet prices'!P127","v":380},{"$f":"'[2]Weekly Piglet prices'!Q127","v":0},{"$f":"'[2]Weekly Piglet prices'!R127","v":75.400000000000006},{"$f":"'[2]Weekly Piglet prices'!S127","v":0},{"$f":"'[2]Weekly Piglet prices'!T127","v":0},{"$f":"'[2]Weekly Piglet prices'!U127","v":74.599999999999994},{"$f":"'[2]Weekly Piglet prices'!V127","v":49.89},{"$f":"'[2]Weekly Piglet prices'!W127","v":41.81},{"$f":"'[2]Weekly Piglet prices'!X127","v":45.201284085458106},{"$f":"'[2]Weekly Piglet prices'!Y127","v":14000},{"$f":"'[2]Weekly Piglet prices'!Z127","v":91.32},{"$f":"'[2]Weekly Piglet prices'!AA127","v":43.25},{"$f":"'[2]Weekly Piglet prices'!AB127","v":0},{"$f":"'[2]Weekly Piglet prices'!AC127","v":38.561334493842217},{"$f":"'[2]Weekly Piglet prices'!AD127","v":160.76},{"$f":"'[2]Weekly Piglet prices'!AE127","v":44},{"$f":"'[2]Weekly Piglet prices'!AF127","v":0},{"$f":"'[2]Weekly Piglet prices'!AG127","v":""},{"$f":"'[2]Weekly Piglet prices'!AH127","v":0},{"$f":"'[2]Weekly Piglet prices'!AI127","v":69.38},{"$f":"'[2]Weekly Piglet prices'!AJ127","v":54.92},{"$f":"'[2]Weekly Piglet prices'!AK127","v":77.819685167166384},{"$f":"'[2]Weekly Piglet prices'!AL127","v":687.09},{"$f":"'[2]Weekly Piglet prices'!AM127","v":66.7},{"$f":"'[2]Weekly Piglet prices'!AN127","v":55.05},null,{"$f":"'[2]Weekly Piglet prices'!$AP127","v":51.405753505200458},{"$f":"'[2]Weekly Piglet prices'!$AQ127","v":7.6819370433289791E-4}]
["2014-02-17",8,{"$f":"'[2]Weekly Piglet prices'!C128","v":47.5},{"$f":"'[2]Weekly Piglet prices'!D128","v":0},{"$f":"'[2]Weekly Piglet prices'!E128","v":0},{"$f":"'[2]Weekly Piglet prices'!F128","v":51.357862461673243},{"$f":"'[2]Weekly Piglet prices'!G128","v":1407},{"$f":"'[2]Weekly Piglet prices'!H128","v":42.212590646991707},{"$f":"'[2]Weekly Piglet prices'!I128","v":315},{"$f":"'[2]Weekly Piglet prices'!J128","v":58.7},{"$f":"'[2]Weekly Piglet prices'!K128","v":39.6},{"$f":"'[2]Weekly Piglet prices'!L128","v":0},{"$f":"'[2]Weekly Piglet prices'!M128","v":52.01},{"$f":"'[2]Weekly Piglet prices'!N128","v":39},{"$f":"'[2]Weekly Piglet prices'!O128","v":47.102111114010597},{"$f":"'[2]Weekly Piglet prices'!P128","v":361},{"$f":"'[2]Weekly Piglet prices'!Q128","v":0},{"$f":"'[2]Weekly Piglet prices'!R128","v":77.790000000000006},{"$f":"'[2]Weekly Piglet prices'!S128","v":0},{"$f":"'[2]Weekly Piglet prices'!T128","v":0},{"$f":"'[2]Weekly Piglet prices'!U128","v":0},{"$f":"'[2]Weekly Piglet prices'!V128","v":0},{"$f":"'[2]Weekly Piglet prices'!W128","v":42.75},{"$f":"'[2]Weekly Piglet prices'!X128","v":48.196089231616639},{"$f":"'[2]Weekly Piglet prices'!Y128","v":15000},{"$f":"'[2]Weekly Piglet prices'!Z128","v":91.32},{"$f":"'[2]Weekly Piglet prices'!AA128","v":40.75},{"$f":"'[2]Weekly Piglet prices'!AB128","v":0},{"$f":"'[2]Weekly Piglet prices'!AC128","v":38.329769598539265},{"$f":"'[2]Weekly Piglet prices'!AD128","v":159.54},{"$f":"'[2]Weekly Piglet prices'!AE128","v":43.4},{"$f":"'[2]Weekly Piglet prices'!AF128","v":0},{"$f":"'[2]Weekly Piglet prices'!AG128","v":""},{"$f":"'[2]Weekly Piglet prices'!AH128","v":0},{"$f":"'[2]Weekly Piglet prices'!AI128","v":75.290000000000006},{"$f":"'[2]Weekly Piglet prices'!AJ128","v":53.18},{"$f":"'[2]Weekly Piglet prices'!AK128","v":75.319177012780301},{"$f":"'[2]Weekly Piglet prices'!AL128","v":672.37},{"$f":"'[2]Weekly Piglet prices'!AM128","v":66.480569277244555},{"$f":"'[2]Weekly Piglet prices'!AN128","v":54.64},null,{"$f":"'[2]Weekly Piglet prices'!$AP128","v":51.077390584894275},{"$f":"'[2]Weekly Piglet prices'!$AQ128","v":-6.3876686541121108E-3}]
["2014-02-24",9,{"$f":"'[2]Weekly Piglet prices'!C129","v":46.5},{"$f":"'[2]Weekly Piglet prices'!D129","v":0},{"$f":"'[2]Weekly Piglet prices'!E129","v":0},{"$f":"'[2]Weekly Piglet prices'!F129","v":51.450153582548012},{"$f":"'[2]Weekly Piglet prices'!G129","v":1407},{"$f":"'[2]Weekly Piglet prices'!H129","v":41.273347869617574},{"$f":"'[2]Weekly Piglet prices'!I129","v":308},{"$f":"'[2]Weekly Piglet prices'!J129","v":58.7},{"$f":"'[2]Weekly Piglet prices'!K129","v":37.51},{"$f":"'[2]Weekly Piglet prices'!L129","v":0},{"$f":"'[2]Weekly Piglet prices'!M129","v":51.01},{"$f":"'[2]Weekly Piglet prices'!N129","v":39.4},{"$f":"'[2]Weekly Piglet prices'!O129","v":47.127058428600741},{"$f":"'[2]Weekly Piglet prices'!P129","v":361},{"$f":"'[2]Weekly Piglet prices'!Q129","v":0},{"$f":"'[2]Weekly Piglet prices'!R129","v":78.23},{"$f":"'[2]Weekly Piglet prices'!S129","v":0},{"$f":"'[2]Weekly Piglet prices'!T129","v":0},{"$f":"'[2]Weekly Piglet prices'!U129","v":0},{"$f":"'[2]Weekly Piglet prices'!V129","v":0},{"$f":"'[2]Weekly Piglet prices'!W129","v":41.75},{"$f":"'[2]Weekly Piglet prices'!X129","v":45.938216619122109},{"$f":"'[2]Weekly Piglet prices'!Y129","v":14263.16},{"$f":"'[2]Weekly Piglet prices'!Z129","v":91.32},{"$f":"'[2]Weekly Piglet prices'!AA129","v":40},{"$f":"'[2]Weekly Piglet prices'!AB129","v":0},{"$f":"'[2]Weekly Piglet prices'!AC129","v":38.373138117225714},{"$f":"'[2]Weekly Piglet prices'!AD129","v":159.80000000000001},{"$f":"'[2]Weekly Piglet prices'!AE129","v":43.4},{"$f":"'[2]Weekly Piglet prices'!AF129","v":0},{"$f":"'[2]Weekly Piglet prices'!AG129","v":""},{"$f":"'[2]Weekly Piglet prices'!AH129","v":0},{"$f":"'[2]Weekly Piglet prices'!AI129","v":74.92},{"$f":"'[2]Weekly Piglet prices'!AJ129","v":55.06},{"$f":"'[2]Weekly Piglet prices'!AK129","v":73.307443669120275},{"$f":"'[2]Weekly Piglet prices'!AL129","v":653.65},{"$f":"'[2]Weekly Piglet prices'!AM129","v":69.734368387826308},{"$f":"'[2]Weekly Piglet prices'!AN129","v":57.44},null,{"$f":"'[2]Weekly Piglet prices'!$AP129","v":50.803917504748711},{"$f":"'[2]Weekly Piglet prices'!$AQ129","v":-5.3540926232523711E-3}]
["2014-03-03",10,{"$f":"'[2]Weekly Piglet prices'!C130","v":45.5},{"$f":"'[2]Weekly Piglet prices'!D130","v":0},{"$f":"'[2]Weekly Piglet prices'!E130","v":0},{"$f":"'[2]Weekly Piglet prices'!F130","v":51.450153582548012},{"$f":"'[2]Weekly Piglet prices'!G130","v":1407},{"$f":"'[2]Weekly Piglet prices'!H130","v":40.065774486926458},{"$f":"'[2]Weekly Piglet prices'!I130","v":299},{"$f":"'[2]Weekly Piglet prices'!J130","v":56.6},{"$f":"'[2]Weekly Piglet prices'!K130","v":40.64},{"$f":"'[2]Weekly Piglet prices'!L130","v":0},{"$f":"'[2]Weekly Piglet prices'!M130","v":50.63},{"$f":"'[2]Weekly Piglet prices'!N130","v":39.200000000000003},{"$f":"'[2]Weekly Piglet prices'!O130","v":47.127058428600741},{"$f":"'[2]Weekly Piglet prices'!P130","v":361},{"$f":"'[2]Weekly Piglet prices'!Q130","v":0},{"$f":"'[2]Weekly Piglet prices'!R130","v":78.430000000000007},{"$f":"'[2]Weekly Piglet prices'!S130","v":0},{"$f":"'[2]Weekly Piglet prices'!T130","v":0},{"$f":"'[2]Weekly Piglet prices'!U130","v":0},{"$f":"'[2]Weekly Piglet prices'!V130","v":0},{"$f":"'[2]Weekly Piglet prices'!W130","v":45.3},{"$f":"'[2]Weekly Piglet prices'!X130","v":47.388145605785958},{"$f":"'[2]Weekly Piglet prices'!Y130","v":14714.29},{"$f":"'[2]Weekly Piglet prices'!Z130","v":91.32},{"$f":"'[2]Weekly Piglet prices'!AA130","v":38.5},{"$f":"'[2]Weekly Piglet prices'!AB130","v":0},{"$f":"'[2]Weekly Piglet prices'!AC130","v":40.700258406753399},{"$f":"'[2]Weekly Piglet prices'!AD130","v":170.33},{"$f":"'[2]Weekly Piglet prices'!AE130","v":43.4},{"$f":"'[2]Weekly Piglet prices'!AF130","v":0},{"$f":"'[2]Weekly Piglet prices'!AG130","v":""},{"$f":"'[2]Weekly Piglet prices'!AH130","v":0},{"$f":"'[2]Weekly Piglet prices'!AI130","v":76.2},{"$f":"'[2]Weekly Piglet prices'!AJ130","v":53.7},{"$f":"'[2]Weekly Piglet prices'!AK130","v":74.095441307451793},{"$f":"'[2]Weekly Piglet prices'!AL130","v":656.04},{"$f":"'[2]Weekly Piglet prices'!AM130","v":68.66689750692521},{"$f":"'[2]Weekly Piglet prices'!AN130","v":56.66},null,{"$f":"'[2]Weekly Piglet prices'!$AP130","v":50.184504457411023},{"$f":"'[2]Weekly Piglet prices'!$AQ130","v":-1.2192230004306026E-2}]
["2014-03-10",11,{"$f":"'[2]Weekly Piglet prices'!C131","v":46.5},{"$f":"'[2]Weekly Piglet prices'!D131","v":0},{"$f":"'[2]Weekly Piglet prices'!E131","v":0},{"$f":"'[2]Weekly Piglet prices'!F131","v":51.954767438823744},{"$f":"'[2]Weekly Piglet prices'!G131","v":1421},{"$f":"'[2]Weekly Piglet prices'!H131","v":40.600139353613621},{"$f":"'[2]Weekly Piglet prices'!I131","v":303},{"$f":"'[2]Weekly Piglet prices'!J131","v":56.5},{"$f":"'[2]Weekly Piglet prices'!K131","v":37.56},{"$f":"'[2]Weekly Piglet prices'!L131","v":0},{"$f":"'[2]Weekly Piglet prices'!M131","v":49.26},{"$f":"'[2]Weekly Piglet prices'!N131","v":39},{"$f":"'[2]Weekly Piglet prices'!O131","v":48.2968485588001},{"$f":"'[2]Weekly Piglet prices'!P131","v":369.8},{"$f":"'[2]Weekly Piglet prices'!Q131","v":0},{"$f":"'[2]Weekly Piglet prices'!R131","v":78.430000000000007},{"$f":"'[2]Weekly Piglet prices'!S131","v":0},{"$f":"'[2]Weekly Piglet prices'!T131","v":0},{"$f":"'[2]Weekly Piglet prices'!U131","v":0},{"$f":"'[2]Weekly Piglet prices'!V131","v":0},{"$f":"'[2]Weekly Piglet prices'!W131","v":43.21},{"$f":"'[2]Weekly Piglet prices'!X131","v":44.764393122727519},{"$f":"'[2]Weekly Piglet prices'!Y131","v":14000},{"$f":"'[2]Weekly Piglet prices'!Z131","v":91.32},{"$f":"'[2]Weekly Piglet prices'!AA131","v":38.5},{"$f":"'[2]Weekly Piglet prices'!AB131","v":0},{"$f":"'[2]Weekly Piglet prices'!AC131","v":38.486246450342016},{"$f":"'[2]Weekly Piglet prices'!AD131","v":162.44},{"$f":"'[2]Weekly Piglet prices'!AE131","v":43.4},{"$f":"'[2]Weekly Piglet prices'!AF131","v":0},{"$f":"'[2]Weekly Piglet prices'!AG131","v":""},{"$f":"'[2]Weekly Piglet prices'!AH131","v":0},{"$f":"'[2]Weekly Piglet prices'!AI131","v":79},{"$f":"'[2]Weekly Piglet prices'!AJ131","v":52.84},{"$f":"'[2]Weekly Piglet prices'!AK131","v":76.920324167609948},{"$f":"'[2]Weekly Piglet prices'!AL131","v":681.38},{"$f":"'[2]Weekly Piglet prices'!AM131","v":66.23006394945682},{"$f":"'[2]Weekly Piglet prices'!AN131","v":55.26},null,{"$f":"'[2]Weekly Piglet prices'!$AP131","v":49.698746139611202},{"$f":"'[2]Weekly Piglet prices'!$AQ131","v":-9.6794483287576671E-3}]
["2014-03-17",12,{"$f":"'[2]Weekly Piglet prices'!C132","v":47},{"$f":"'[2]Weekly Piglet prices'!D132","v":0},{"$f":"'[2]Weekly Piglet prices'!E132","v":0},{"$f":"'[2]Weekly Piglet prices'!F132","v":51.954767438823744},{"$f":"'[2]Weekly Piglet prices'!G132","v":1421},{"$f":"'[2]Weekly Piglet prices'!H132","v":41.666586918950166},{"$f":"'[2]Weekly Piglet prices'!I132","v":311},{"$f":"'[2]Weekly Piglet prices'!J132","v":58.3},{"$f":"'[2]Weekly Piglet prices'!K132","v":40.200000000000003},{"$f":"'[2]Weekly Piglet prices'!L132","v":0},{"$f":"'[2]Weekly Piglet prices'!M132","v":49.15},{"$f":"'[2]Weekly Piglet prices'!N132","v":39.799999999999997},{"$f":"'[2]Weekly Piglet prices'!O132","v":51.462620874868279},{"$f":"'[2]Weekly Piglet prices'!P132","v":394.2},{"$f":"'[2]Weekly Piglet prices'!Q132","v":0},{"$f":"'[2]Weekly Piglet prices'!R132","v":78.430000000000007},{"$f":"'[2]Weekly Piglet prices'!S132","v":0},{"$f":"'[2]Weekly Piglet prices'!T132","v":0},{"$f":"'[2]Weekly Piglet prices'!U132","v":0},{"$f":"'[2]Weekly Piglet prices'!V132","v":0},{"$f":"'[2]Weekly Piglet prices'!W132","v":46.02},{"$f":"'[2]Weekly Piglet prices'!X132","v":49.358199259831942},{"$f":"'[2]Weekly Piglet prices'!Y132","v":15413.79},{"$f":"'[2]Weekly Piglet prices'!Z132","v":91.32},{"$f":"'[2]Weekly Piglet prices'!AA132","v":40},{"$f":"'[2]Weekly Piglet prices'!AB132","v":0},{"$f":"'[2]Weekly Piglet prices'!AC132","v":38.492600774365194},{"$f":"'[2]Weekly Piglet prices'!AD132","v":162.05000000000001},{"$f":"'[2]Weekly Piglet prices'!AE132","v":43.4},{"$f":"'[2]Weekly Piglet prices'!AF132","v":0},{"$f":"'[2]Weekly Piglet prices'!AG132","v":""},{"$f":"'[2]Weekly Piglet prices'!AH132","v":0},{"$f":"'[2]Weekly Piglet prices'!AI132","v":82.93},{"$f":"'[2]Weekly Piglet prices'!AJ132","v":53.23},{"$f":"'[2]Weekly Piglet prices'!AK132","v":74.422237270485581},{"$f":"'[2]Weekly Piglet prices'!AL132","v":658.64},{"$f":"'[2]Weekly Piglet prices'!AM132","v":67.88},{"$f":"'[2]Weekly Piglet prices'!AN132","v":56.77},null,{"$f":"'[2]Weekly Piglet prices'!$AP132","v":50.577258059320272},{"$f":"'[2]Weekly Piglet prices'!$AQ132","v":1.7676742130298351E-2}]
["2014-03-24",13,{"$f":"'[2]Weekly Piglet prices'!C133","v":48},{"$f":"'[2]Weekly Piglet prices'!D133","v":0},{"$f":"'[2]Weekly Piglet prices'!E133","v":0},{"$f":"'[2]Weekly Piglet prices'!F133","v":51.954767438823744},{"$f":"'[2]Weekly Piglet prices'!G133","v":1421},{"$f":"'[2]Weekly Piglet prices'!H133","v":42.731607994427485},{"$f":"'[2]Weekly Piglet prices'!I133","v":319},{"$f":"'[2]Weekly Piglet prices'!J133","v":58.4},{"$f":"'[2]Weekly Piglet prices'!K133","v":40.799999999999997},{"$f":"'[2]Weekly Piglet prices'!L133","v":0},{"$f":"'[2]Weekly Piglet prices'!M133","v":50.12},{"$f":"'[2]Weekly Piglet prices'!N133","v":40.4},{"$f":"'[2]Weekly Piglet prices'!O133","v":51.460701397760225},{"$f":"'[2]Weekly Piglet prices'!P133","v":394.2},{"$f":"'[2]Weekly Piglet prices'!Q133","v":0},{"$f":"'[2]Weekly Piglet prices'!R133","v":78.430000000000007},{"$f":"'[2]Weekly Piglet prices'!S133","v":0},{"$f":"'[2]Weekly Piglet prices'!T133","v":0},{"$f":"'[2]Weekly Piglet prices'!U133","v":0},{"$f":"'[2]Weekly Piglet prices'!V133","v":0},{"$f":"'[2]Weekly Piglet prices'!W133","v":45.55},{"$f":"'[2]Weekly Piglet prices'!X133","v":46.580359150631253},{"$f":"'[2]Weekly Piglet prices'!Y133","v":14500},{"$f":"'[2]Weekly Piglet prices'!Z133","v":91.32},{"$f":"'[2]Weekly Piglet prices'!AA133","v":41},{"$f":"'[2]Weekly Piglet prices'!AB133","v":0},{"$f":"'[2]Weekly Piglet prices'!AC133","v":40.548336115292578},{"$f":"'[2]Weekly Piglet prices'!AD133","v":169.7},{"$f":"'[2]Weekly Piglet prices'!AE133","v":43.4},{"$f":"'[2]Weekly Piglet prices'!AF133","v":0},{"$f":"'[2]Weekly Piglet prices'!AG133","v":""},{"$f":"'[2]Weekly Piglet prices'!AH133","v":0},{"$f":"'[2]Weekly Piglet prices'!AI133","v":82.36},{"$f":"'[2]Weekly Piglet prices'!AJ133","v":53.46},{"$f":"'[2]Weekly Piglet prices'!AK133","v":72.163455516760862},{"$f":"'[2]Weekly Piglet prices'!AL133","v":641.83000000000004},{"$f":"'[2]Weekly Piglet prices'!AM133","v":66.469699051807055},{"$f":"'[2]Weekly Piglet prices'!AN133","v":55.28},null,{"$f":"'[2]Weekly Piglet prices'!$AP133","v":51.119626728341487},{"$f":"'[2]Weekly Piglet prices'!$AQ133","v":1.0723568058693234E-2}]
["2014-03-31",14,{"$f":"'[2]Weekly Piglet prices'!C134","v":49},{"$f":"'[2]Weekly Piglet prices'!D134","v":0},{"$f":"'[2]Weekly Piglet prices'!E134","v":0},{"$f":"'[2]Weekly Piglet prices'!F134","v":51.954767438823744},{"$f":"'[2]Weekly Piglet prices'!G134","v":1421},{"$f":"'[2]Weekly Piglet prices'!H134","v":42.462723125440128},{"$f":"'[2]Weekly Piglet prices'!I134","v":317},{"$f":"'[2]Weekly Piglet prices'!J134","v":59.3},{"$f":"'[2]Weekly Piglet prices'!K134","v":39.590000000000003},{"$f":"'[2]Weekly Piglet prices'!L134","v":0},{"$f":"'[2]Weekly Piglet prices'!M134","v":51.12},{"$f":"'[2]Weekly Piglet prices'!N134","v":40.6},{"$f":"'[2]Weekly Piglet prices'!O134","v":53.436412313429351},{"$f":"'[2]Weekly Piglet prices'!P134","v":408.6},{"$f":"'[2]Weekly Piglet prices'!Q134","v":0},{"$f":"'[2]Weekly Piglet prices'!R134","v":78.17},{"$f":"'[2]Weekly Piglet prices'!S134","v":0},{"$f":"'[2]Weekly Piglet prices'!T134","v":0},{"$f":"'[2]Weekly Piglet prices'!U134","v":0},{"$f":"'[2]Weekly Piglet prices'!V134","v":0},{"$f":"'[2]Weekly Piglet prices'!W134","v":43.85},{"$f":"'[2]Weekly Piglet prices'!X134","v":53.643373673154507},{"$f":"'[2]Weekly Piglet prices'!Y134","v":16489.36},{"$f":"'[2]Weekly Piglet prices'!Z134","v":91.32},{"$f":"'[2]Weekly Piglet prices'!AA134","v":42},{"$f":"'[2]Weekly Piglet prices'!AB134","v":0},{"$f":"'[2]Weekly Piglet prices'!AC134","v":41.952251808021046},{"$f":"'[2]Weekly Piglet prices'!AD134","v":175.02},{"$f":"'[2]Weekly Piglet prices'!AE134","v":43.4},{"$f":"'[2]Weekly Piglet prices'!AF134","v":0},{"$f":"'[2]Weekly Piglet prices'!AG134","v":""},{"$f":"'[2]Weekly Piglet prices'!AH134","v":0},{"$f":"'[2]Weekly Piglet prices'!AI134","v":77.77},{"$f":"'[2]Weekly Piglet prices'!AJ134","v":51.48},{"$f":"'[2]Weekly Piglet prices'!AK134","v":73.494872937331024},{"$f":"'[2]Weekly Piglet prices'!AL134","v":656.83},{"$f":"'[2]Weekly Piglet prices'!AM134","v":68.711285953379232},{"$f":"'[2]Weekly Piglet prices'!AN134","v":56.89},null,{"$f":"'[2]Weekly Piglet prices'!$AP134","v":51.947651438773676},{"$f":"'[2]Weekly Piglet prices'!$AQ134","v":1.6197784753641864E-2}]
["2014-04-07",15,{"$f":"'[2]Weekly Piglet prices'!C135","v":50},{"$f":"'[2]Weekly Piglet prices'!D135","v":0},{"$f":"'[2]Weekly Piglet prices'!E135","v":0},{"$f":"'[2]Weekly Piglet prices'!F135","v":48.228095300091141},{"$f":"'[2]Weekly Piglet prices'!G135","v":1323},{"$f":"'[2]Weekly Piglet prices'!H135","v":42.325531556630487},{"$f":"'[2]Weekly Piglet prices'!I135","v":316},{"$f":"'[2]Weekly Piglet prices'!J135","v":60.7},{"$f":"'[2]Weekly Piglet prices'!K135","v":41},{"$f":"'[2]Weekly Piglet prices'!L135","v":0},{"$f":"'[2]Weekly Piglet prices'!M135","v":51.9},{"$f":"'[2]Weekly Piglet prices'!N135","v":41},{"$f":"'[2]Weekly Piglet prices'!O135","v":53.551368272845743},{"$f":"'[2]Weekly Piglet prices'!P135","v":408.6},{"$f":"'[2]Weekly Piglet prices'!Q135","v":0},{"$f":"'[2]Weekly Piglet prices'!R135","v":77.88},{"$f":"'[2]Weekly Piglet prices'!S135","v":0},{"$f":"'[2]Weekly Piglet prices'!T135","v":0},{"$f":"'[2]Weekly Piglet prices'!U135","v":0},{"$f":"'[2]Weekly Piglet prices'!V135","v":0},{"$f":"'[2]Weekly Piglet prices'!W135","v":48.22},{"$f":"'[2]Weekly Piglet prices'!X135","v":45.737754649616129},{"$f":"'[2]Weekly Piglet prices'!Y135","v":14000},{"$f":"'[2]Weekly Piglet prices'!Z135","v":91.32},{"$f":"'[2]Weekly Piglet prices'!AA135","v":43.5},{"$f":"'[2]Weekly Piglet prices'!AB135","v":0},{"$f":"'[2]Weekly Piglet prices'!AC135","v":41.451844753234305},{"$f":"'[2]Weekly Piglet prices'!AD135","v":173.02},{"$f":"'[2]Weekly Piglet prices'!AE135","v":43.4},{"$f":"'[2]Weekly Piglet prices'!AF135","v":0},{"$f":"'[2]Weekly Piglet prices'!AG135","v":""},{"$f":"'[2]Weekly Piglet prices'!AH135","v":0},{"$f":"'[2]Weekly Piglet prices'!AI135","v":79.760000000000005},{"$f":"'[2]Weekly Piglet prices'!AJ135","v":52.88},{"$f":"'[2]Weekly Piglet prices'!AK135","v":73.696240091673204},{"$f":"'[2]Weekly Piglet prices'!AL135","v":664.28},{"$f":"'[2]Weekly Piglet prices'!AM135","v":67.373404871136913},{"$f":"'[2]Weekly Piglet prices'!AN135","v":55.7},null,{"$f":"'[2]Weekly Piglet prices'!$AP135","v":52.311401542327374},{"$f":"'[2]Weekly Piglet prices'!$AQ135","v":7.0022434793306498E-3}]
["2014-04-14",16,{"$f":"'[2]Weekly Piglet prices'!C136","v":50},{"$f":"'[2]Weekly Piglet prices'!D136","v":0},{"$f":"'[2]Weekly Piglet prices'!E136","v":0},{"$f":"'[2]Weekly Piglet prices'!F136","v":63.687313487153347},{"$f":"'[2]Weekly Piglet prices'!G136","v":1750},{"$f":"'[2]Weekly Piglet prices'!H136","v":43.394739057561168},{"$f":"'[2]Weekly Piglet prices'!I136","v":324},{"$f":"'[2]Weekly Piglet prices'!J136","v":60.7},{"$f":"'[2]Weekly Piglet prices'!K136","v":39.9},{"$f":"'[2]Weekly Piglet prices'!L136","v":0},{"$f":"'[2]Weekly Piglet prices'!M136","v":52.87},{"$f":"'[2]Weekly Piglet prices'!N136","v":41.8},{"$f":"'[2]Weekly Piglet prices'!O136","v":53.681665698382659},{"$f":"'[2]Weekly Piglet prices'!P136","v":409.2},{"$f":"'[2]Weekly Piglet prices'!Q136","v":0},{"$f":"'[2]Weekly Piglet prices'!R136","v":77.7},{"$f":"'[2]Weekly Piglet prices'!S136","v":0},{"$f":"'[2]Weekly Piglet prices'!T136","v":0},{"$f":"'[2]Weekly Piglet prices'!U136","v":0},{"$f":"'[2]Weekly Piglet prices'!V136","v":0},{"$f":"'[2]Weekly Piglet prices'!W136","v":45.06},{"$f":"'[2]Weekly Piglet prices'!X136","v":48.55644311104713},{"$f":"'[2]Weekly Piglet prices'!Y136","v":14936.17},{"$f":"'[2]Weekly Piglet prices'!Z136","v":91.32},{"$f":"'[2]Weekly Piglet prices'!AA136","v":44.5},{"$f":"'[2]Weekly Piglet prices'!AB136","v":0},{"$f":"'[2]Weekly Piglet prices'!AC136","v":41.229679231902239},{"$f":"'[2]Weekly Piglet prices'!AD136","v":172.75},{"$f":"'[2]Weekly Piglet prices'!AE136","v":43.4},{"$f":"'[2]Weekly Piglet prices'!AF136","v":0},{"$f":"'[2]Weekly Piglet prices'!AG136","v":""},{"$f":"'[2]Weekly Piglet prices'!AH136","v":0},{"$f":"'[2]Weekly Piglet prices'!AI136","v":94.32},{"$f":"'[2]Weekly Piglet prices'!AJ136","v":51.04},{"$f":"'[2]Weekly Piglet prices'!AK136","v":71.126420895362841},{"$f":"'[2]Weekly Piglet prices'!AL136","v":646.78},{"$f":"'[2]Weekly Piglet prices'!AM136","v":69.959999999999994},{"$f":"'[2]Weekly Piglet prices'!AN136","v":57.75},null,{"$f":"'[2]Weekly Piglet prices'!$AP136","v":53.086122877834562},{"$f":"'[2]Weekly Piglet prices'!$AQ136","v":1.4809798871099344E-2}]
["2014-04-21",17,{"$f":"'[2]Weekly Piglet prices'!C137","v":50},{"$f":"'[2]Weekly Piglet prices'!D137","v":0},{"$f":"'[2]Weekly Piglet prices'!E137","v":0},{"$f":"'[2]Weekly Piglet prices'!F137","v":52.052187387874596},{"$f":"'[2]Weekly Piglet prices'!G137","v":1430},{"$f":"'[2]Weekly Piglet prices'!H137","v":43.398143523860369},{"$f":"'[2]Weekly Piglet prices'!I137","v":324},{"$f":"'[2]Weekly Piglet prices'!J137","v":60.7},{"$f":"'[2]Weekly Piglet prices'!K137","v":39.86},{"$f":"'[2]Weekly Piglet prices'!L137","v":0},{"$f":"'[2]Weekly Piglet prices'!M137","v":53.3},{"$f":"'[2]Weekly Piglet prices'!N137","v":41.8},{"$f":"'[2]Weekly Piglet prices'!O137","v":53.6972639590578},{"$f":"'[2]Weekly Piglet prices'!P137","v":409.2},{"$f":"'[2]Weekly Piglet prices'!Q137","v":0},{"$f":"'[2]Weekly Piglet prices'!R137","v":77.44},{"$f":"'[2]Weekly Piglet prices'!S137","v":0},{"$f":"'[2]Weekly Piglet prices'!T137","v":0},{"$f":"'[2]Weekly Piglet prices'!U137","v":0},{"$f":"'[2]Weekly Piglet prices'!V137","v":0},{"$f":"'[2]Weekly Piglet prices'!W137","v":42.91},{"$f":"'[2]Weekly Piglet prices'!X137","v":48.673756037863548},{"$f":"'[2]Weekly Piglet prices'!Y137","v":15000},{"$f":"'[2]Weekly Piglet prices'!Z137","v":91.32},{"$f":"'[2]Weekly Piglet prices'!AA137","v":44.5},{"$f":"'[2]Weekly Piglet prices'!AB137","v":0},{"$f":"'[2]Weekly Piglet prices'!AC137","v":41.858034023890283},{"$f":"'[2]Weekly Piglet prices'!AD137","v":175.61},{"$f":"'[2]Weekly Piglet prices'!AE137","v":45},{"$f":"'[2]Weekly Piglet prices'!AF137","v":0},{"$f":"'[2]Weekly Piglet prices'!AG137","v":""},{"$f":"'[2]Weekly Piglet prices'!AH137","v":0},{"$f":"'[2]Weekly Piglet prices'!AI137","v":68.5},{"$f":"'[2]Weekly Piglet prices'!AJ137","v":52.93},{"$f":"'[2]Weekly Piglet prices'!AK137","v":72.156709032021865},{"$f":"'[2]Weekly Piglet prices'!AL137","v":656.09},{"$f":"'[2]Weekly Piglet prices'!AM137","v":67.221479771595185},{"$f":"'[2]Weekly Piglet prices'!AN137","v":55.33},null,{"$f":"'[2]Weekly Piglet prices'!$AP137","v":52.9156534187983},{"$f":"'[2]Weekly Piglet prices'!$AQ137","v":-3.2111868374444796E-3}]
["2014-04-28",18,{"$f":"'[2]Weekly Piglet prices'!C138","v":50},{"$f":"'[2]Weekly Piglet prices'!D138","v":0},{"$f":"'[2]Weekly Piglet prices'!E138","v":0},{"$f":"'[2]Weekly Piglet prices'!F138","v":58.470553947998411},{"$f":"'[2]Weekly Piglet prices'!G138","v":1605},{"$f":"'[2]Weekly Piglet prices'!H138","v":43.407197020444258},{"$f":"'[2]Weekly Piglet prices'!I138","v":324},{"$f":"'[2]Weekly Piglet prices'!J138","v":60.8},{"$f":"'[2]Weekly Piglet prices'!K138","v":39.83},{"$f":"'[2]Weekly Piglet prices'!L138","v":0},{"$f":"'[2]Weekly Piglet prices'!M138","v":52.22},{"$f":"'[2]Weekly Piglet prices'!N138","v":42},{"$f":"'[2]Weekly Piglet prices'!O138","v":47.793592969542196},{"$f":"'[2]Weekly Piglet prices'!P138","v":363.6},{"$f":"'[2]Weekly Piglet prices'!Q138","v":0},{"$f":"'[2]Weekly Piglet prices'!R138","v":77.14},{"$f":"'[2]Weekly Piglet prices'!S138","v":0},{"$f":"'[2]Weekly Piglet prices'!T138","v":0},{"$f":"'[2]Weekly Piglet prices'!U138","v":0},{"$f":"'[2]Weekly Piglet prices'!V138","v":0},{"$f":"'[2]Weekly Piglet prices'!W138","v":48.93},{"$f":"'[2]Weekly Piglet prices'!X138","v":52.716215589952732},{"$f":"'[2]Weekly Piglet prices'!Y138","v":16250.15},{"$f":"'[2]Weekly Piglet prices'!Z138","v":91.32},{"$f":"'[2]Weekly Piglet prices'!AA138","v":44.25},{"$f":"'[2]Weekly Piglet prices'!AB138","v":0},{"$f":"'[2]Weekly Piglet prices'!AC138","v":42.50073927038261},{"$f":"'[2]Weekly Piglet prices'!AD138","v":178.63},{"$f":"'[2]Weekly Piglet prices'!AE138","v":45},{"$f":"'[2]Weekly Piglet prices'!AF138","v":0},{"$f":"'[2]Weekly Piglet prices'!AG138","v":""},{"$f":"'[2]Weekly Piglet prices'!AH138","v":0},{"$f":"'[2]Weekly Piglet prices'!AI138","v":81},{"$f":"'[2]Weekly Piglet prices'!AJ138","v":51.72},{"$f":"'[2]Weekly Piglet prices'!AK138","v":71.778872707862803},{"$f":"'[2]Weekly Piglet prices'!AL138","v":650.04999999999995},{"$f":"'[2]Weekly Piglet prices'!AM138","v":69.675939999826298},{"$f":"'[2]Weekly Piglet prices'!AN138","v":57.3},null,{"$f":"'[2]Weekly Piglet prices'!$AP138","v":53.005681311859156},{"$f":"'[2]Weekly Piglet prices'!$AQ138","v":1.7013470919149398E-3}]
["2014-05-05",19,{"$f":"'[2]Weekly Piglet prices'!C139","v":50},{"$f":"'[2]Weekly Piglet prices'!D139","v":0},{"$f":"'[2]Weekly Piglet prices'!E139","v":0},{"$f":"'[2]Weekly Piglet prices'!F139","v":58.470553947998411},{"$f":"'[2]Weekly Piglet prices'!G139","v":0},{"$f":"'[2]Weekly Piglet prices'!H139","v":43.408360128617367},{"$f":"'[2]Weekly Piglet prices'!I139","v":324},{"$f":"'[2]Weekly Piglet prices'!J139","v":60.7},{"$f":"'[2]Weekly Piglet prices'!K139","v":39.32},{"$f":"'[2]Weekly Piglet prices'!L139","v":0},{"$f":"'[2]Weekly Piglet prices'!M139","v":52.22},{"$f":"'[2]Weekly Piglet prices'!N139","v":41.4},{"$f":"'[2]Weekly Piglet prices'!O139","v":47.901351671804591},{"$f":"'[2]Weekly Piglet prices'!P139","v":363.6},{"$f":"'[2]Weekly Piglet prices'!Q139","v":0},{"$f":"'[2]Weekly Piglet prices'!R139","v":76.2},{"$f":"'[2]Weekly Piglet prices'!S139","v":0},{"$f":"'[2]Weekly Piglet prices'!T139","v":0},{"$f":"'[2]Weekly Piglet prices'!U139","v":0},{"$f":"'[2]Weekly Piglet prices'!V139","v":0},{"$f":"'[2]Weekly Piglet prices'!W139","v":45.21},{"$f":"'[2]Weekly Piglet prices'!X139","v":47.425031071572079},{"$f":"'[2]Weekly Piglet prices'!Y139","v":14500},{"$f":"'[2]Weekly Piglet prices'!Z139","v":91.32},{"$f":"'[2]Weekly Piglet prices'!AA139","v":43.25},{"$f":"'[2]Weekly Piglet prices'!AB139","v":0},{"$f":"'[2]Weekly Piglet prices'!AC139","v":42.133414136737066},{"$f":"'[2]Weekly Piglet prices'!AD139","v":176.79},{"$f":"'[2]Weekly Piglet prices'!AE139","v":45},{"$f":"'[2]Weekly Piglet prices'!AF139","v":0},{"$f":"'[2]Weekly Piglet prices'!AG139","v":0},{"$f":"'[2]Weekly Piglet prices'!AH139","v":0},{"$f":"'[2]Weekly Piglet prices'!AI139","v":72.3},{"$f":"'[2]Weekly Piglet prices'!AJ139","v":50.14},{"$f":"'[2]Weekly Piglet prices'!AK139","v":74.088964476107932},{"$f":"'[2]Weekly Piglet prices'!AL139","v":670.05},{"$f":"'[2]Weekly Piglet prices'!AM139","v":67.428855950055521},{"$f":"'[2]Weekly Piglet prices'!AN139","v":55.33},null,{"$f":"'[2]Weekly Piglet prices'!$AP139","v":52.521637948422111},{"$f":"'[2]Weekly Piglet prices'!$AQ139","v":-9.131914758140236E-3}]
[{"$f":"A139+7","v":"2014-05-12"},20,{"$f":"'[2]Weekly Piglet prices'!C140","v":49},{"$f":"'[2]Weekly Piglet prices'!D140","v":0},{"$f":"'[2]Weekly Piglet prices'!E140","v":0},{"$f":"'[2]Weekly Piglet prices'!F140","v":57.583303811448936},{"$f":"'[2]Weekly Piglet prices'!G140","v":1579},{"$f":"'[2]Weekly Piglet prices'!H140","v":43.406449340960719},{"$f":"'[2]Weekly Piglet prices'!I140","v":324},{"$f":"'[2]Weekly Piglet prices'!J140","v":60.7},{"$f":"'[2]Weekly Piglet prices'!K140","v":39.07},{"$f":"'[2]Weekly Piglet prices'!L140","v":0},{"$f":"'[2]Weekly Piglet prices'!M140","v":50.33},{"$f":"'[2]Weekly Piglet prices'!N140","v":41.4},{"$f":"'[2]Weekly Piglet prices'!O140","v":51.231564185341696},{"$f":"'[2]Weekly Piglet prices'!P140","v":388.8},{"$f":"'[2]Weekly Piglet prices'!Q140","v":0},{"$f":"'[2]Weekly Piglet prices'!R140","v":75.63},{"$f":"'[2]Weekly Piglet prices'!S140","v":0},{"$f":"'[2]Weekly Piglet prices'!T140","v":0},{"$f":"'[2]Weekly Piglet prices'!U140","v":0},{"$f":"'[2]Weekly Piglet prices'!V140","v":0},{"$f":"'[2]Weekly Piglet prices'!W140","v":44.25},{"$f":"'[2]Weekly Piglet prices'!X140","v":46.641491458607085},{"$f":"'[2]Weekly Piglet prices'!Y140","v":14197.67},{"$f":"'[2]Weekly Piglet prices'!Z140","v":91.32},{"$f":"'[2]Weekly Piglet prices'!AA140","v":41.5},{"$f":"'[2]Weekly Piglet prices'!AB140","v":0},{"$f":"'[2]Weekly Piglet prices'!AC140","v":41.654179992422662},{"$f":"'[2]Weekly Piglet prices'!AD140","v":174.34},{"$f":"'[2]Weekly Piglet prices'!AE140","v":44},{"$f":"'[2]Weekly Piglet prices'!AF140","v":0},{"$f":"'[2]Weekly Piglet prices'!AG140","v":0},{"$f":"'[2]Weekly Piglet prices'!AH140","v":0},{"$f":"'[2]Weekly Piglet prices'!AI140","v":76},{"$f":"'[2]Weekly Piglet prices'!AJ140","v":52.74},{"$f":"'[2]Weekly Piglet prices'!AK140","v":71.125371629400348},{"$f":"'[2]Weekly Piglet prices'!AL140","v":640.36},{"$f":"'[2]Weekly Piglet prices'!AM140","v":68.922812825700461},{"$f":"'[2]Weekly Piglet prices'!AN140","v":56.21},null,{"$f":"'[2]Weekly Piglet prices'!$AP140","v":51.917030642012996},{"$f":"'[2]Weekly Piglet prices'!$AQ140","v":-1.1511585129977409E-2}]
["2014-05-19",21,{"$f":"'[2]Weekly Piglet prices'!C141","v":49},{"$f":"'[2]Weekly Piglet prices'!D141","v":0},{"$f":"'[2]Weekly Piglet prices'!E141","v":0},{"$f":"'[2]Weekly Piglet prices'!F141","v":57.583303811448936},{"$f":"'[2]Weekly Piglet prices'!G141","v":0},{"$f":"'[2]Weekly Piglet prices'!H141","v":43.405369404956019},{"$f":"'[2]Weekly Piglet prices'!I141","v":324},{"$f":"'[2]Weekly Piglet prices'!J141","v":60.3},{"$f":"'[2]Weekly Piglet prices'!K141","v":39.119999999999997},{"$f":"'[2]Weekly Piglet prices'!L141","v":0},{"$f":"'[2]Weekly Piglet prices'!M141","v":48.17},{"$f":"'[2]Weekly Piglet prices'!N141","v":40.799999999999997},{"$f":"'[2]Weekly Piglet prices'!O141","v":51.117346766286893},{"$f":"'[2]Weekly Piglet prices'!P141","v":388.8},{"$f":"'[2]Weekly Piglet prices'!Q141","v":0},{"$f":"'[2]Weekly Piglet prices'!R141","v":74.84},{"$f":"'[2]Weekly Piglet prices'!S141","v":0},{"$f":"'[2]Weekly Piglet prices'!T141","v":0},{"$f":"'[2]Weekly Piglet prices'!U141","v":0},{"$f":"'[2]Weekly Piglet prices'!V141","v":0},{"$f":"'[2]Weekly Piglet prices'!W141","v":46.56},{"$f":"'[2]Weekly Piglet prices'!X141","v":47.600512115854485},{"$f":"'[2]Weekly Piglet prices'!Y141","v":14500},{"$f":"'[2]Weekly Piglet prices'!Z141","v":91.32},{"$f":"'[2]Weekly Piglet prices'!AA141","v":40},{"$f":"'[2]Weekly Piglet prices'!AB141","v":0},{"$f":"'[2]Weekly Piglet prices'!AC141","v":43.079499624034455},{"$f":"'[2]Weekly Piglet prices'!AD141","v":180.06},{"$f":"'[2]Weekly Piglet prices'!AE141","v":44},{"$f":"'[2]Weekly Piglet prices'!AF141","v":0},{"$f":"'[2]Weekly Piglet prices'!AG141","v":0},{"$f":"'[2]Weekly Piglet prices'!AH141","v":0},{"$f":"'[2]Weekly Piglet prices'!AI141","v":86.26},{"$f":"'[2]Weekly Piglet prices'!AJ141","v":52.81},{"$f":"'[2]Weekly Piglet prices'!AK141","v":71.795437494309994},{"$f":"'[2]Weekly Piglet prices'!AL141","v":648.24},{"$f":"'[2]Weekly Piglet prices'!AM141","v":69.64},{"$f":"'[2]Weekly Piglet prices'!AN141","v":56.53},null,{"$f":"'[2]Weekly Piglet prices'!$AP141","v":51.386789525547719},{"$f":"'[2]Weekly Piglet prices'!$AQ141","v":-1.0213240432055626E-2}]
["2014-05-26",22,{"$f":"'[2]Weekly Piglet prices'!C142","v":49},{"$f":"'[2]Weekly Piglet prices'!D142","v":0},{"$f":"'[2]Weekly Piglet prices'!E142","v":0},{"$f":"'[2]Weekly Piglet prices'!F142","v":59.781420765027327},{"$f":"'[2]Weekly Piglet prices'!G142","v":1641},{"$f":"'[2]Weekly Piglet prices'!H142","v":44.615855759292565},{"$f":"'[2]Weekly Piglet prices'!I142","v":333},{"$f":"'[2]Weekly Piglet prices'!J142","v":60.1},{"$f":"'[2]Weekly Piglet prices'!K142","v":39.659999999999997},{"$f":"'[2]Weekly Piglet prices'!L142","v":0},{"$f":"'[2]Weekly Piglet prices'!M142","v":47.01},{"$f":"'[2]Weekly Piglet prices'!N142","v":40.200000000000003},{"$f":"'[2]Weekly Piglet prices'!O142","v":52.029136316337151},{"$f":"'[2]Weekly Piglet prices'!P142","v":395},{"$f":"'[2]Weekly Piglet prices'!Q142","v":0},{"$f":"'[2]Weekly Piglet prices'!R142","v":74.39},{"$f":"'[2]Weekly Piglet prices'!S142","v":0},{"$f":"'[2]Weekly Piglet prices'!T142","v":0},{"$f":"'[2]Weekly Piglet prices'!U142","v":0},{"$f":"'[2]Weekly Piglet prices'!V142","v":0},{"$f":"'[2]Weekly Piglet prices'!W142","v":43.18},{"$f":"'[2]Weekly Piglet prices'!X142","v":42.052441868683303},{"$f":"'[2]Weekly Piglet prices'!Y142","v":12750},{"$f":"'[2]Weekly Piglet prices'!Z142","v":91.32},{"$f":"'[2]Weekly Piglet prices'!AA142","v":40},{"$f":"'[2]Weekly Piglet prices'!AB142","v":0},{"$f":"'[2]Weekly Piglet prices'!AC142","v":41.597798038878373},{"$f":"'[2]Weekly Piglet prices'!AD142","v":172.72},{"$f":"'[2]Weekly Piglet prices'!AE142","v":44},{"$f":"'[2]Weekly Piglet prices'!AF142","v":0},{"$f":"'[2]Weekly Piglet prices'!AG142","v":0},{"$f":"'[2]Weekly Piglet prices'!AH142","v":0},{"$f":"'[2]Weekly Piglet prices'!AI142","v":75},{"$f":"'[2]Weekly Piglet prices'!AJ142","v":53.12},{"$f":"'[2]Weekly Piglet prices'!AK142","v":71.518583032066203},{"$f":"'[2]Weekly Piglet prices'!AL142","v":647.33000000000004},{"$f":"'[2]Weekly Piglet prices'!AM142","v":68.824393634148265},{"$f":"'[2]Weekly Piglet prices'!AN142","v":55.88},null,{"$f":"'[2]Weekly Piglet prices'!$AP142","v":50.857458454230695},{"$f":"'[2]Weekly Piglet prices'!$AQ142","v":-1.0300917340902549E-2}]
["2014-06-02",23,{"$f":"'[2]Weekly Piglet prices'!C143","v":49},{"$f":"'[2]Weekly Piglet prices'!D143","v":0},{"$f":"'[2]Weekly Piglet prices'!E143","v":0},{"$f":"'[2]Weekly Piglet prices'!F143","v":59.781420765027327},{"$f":"'[2]Weekly Piglet prices'!G143","v":0},{"$f":"'[2]Weekly Piglet prices'!H143","v":45.423222694383831},{"$f":"'[2]Weekly Piglet prices'!I143","v":339},{"$f":"'[2]Weekly Piglet prices'!J143","v":60.1},{"$f":"'[2]Weekly Piglet prices'!K143","v":38.29},{"$f":"'[2]Weekly Piglet prices'!L143","v":0},{"$f":"'[2]Weekly Piglet prices'!M143","v":45.99},{"$f":"'[2]Weekly Piglet prices'!N143","v":40},{"$f":"'[2]Weekly Piglet prices'!O143","v":52.128796776875561},{"$f":"'[2]Weekly Piglet prices'!P143","v":395},{"$f":"'[2]Weekly Piglet prices'!Q143","v":0},{"$f":"'[2]Weekly Piglet prices'!R143","v":73.87},{"$f":"'[2]Weekly Piglet prices'!S143","v":0},{"$f":"'[2]Weekly Piglet prices'!T143","v":0},{"$f":"'[2]Weekly Piglet prices'!U143","v":0},{"$f":"'[2]Weekly Piglet prices'!V143","v":0},{"$f":"'[2]Weekly Piglet prices'!W143","v":38.11},{"$f":"'[2]Weekly Piglet prices'!X143","v":49.371106147878223},{"$f":"'[2]Weekly Piglet prices'!Y143","v":15000},{"$f":"'[2]Weekly Piglet prices'!Z143","v":91.32},{"$f":"'[2]Weekly Piglet prices'!AA143","v":40},{"$f":"'[2]Weekly Piglet prices'!AB143","v":0},{"$f":"'[2]Weekly Piglet prices'!AC143","v":41.224306335897658},{"$f":"'[2]Weekly Piglet prices'!AD143","v":170.33},{"$f":"'[2]Weekly Piglet prices'!AE143","v":44},{"$f":"'[2]Weekly Piglet prices'!AF143","v":0},{"$f":"'[2]Weekly Piglet prices'!AG143","v":0},{"$f":"'[2]Weekly Piglet prices'!AH143","v":0},{"$f":"'[2]Weekly Piglet prices'!AI143","v":75},{"$f":"'[2]Weekly Piglet prices'!AJ143","v":51.92},{"$f":"'[2]Weekly Piglet prices'!AK143","v":77.398478476003334},{"$f":"'[2]Weekly Piglet prices'!AL143","v":702.41},{"$f":"'[2]Weekly Piglet prices'!AM143","v":69.48},{"$f":"'[2]Weekly Piglet prices'!AN143","v":56.43},null,{"$f":"'[2]Weekly Piglet prices'!$AP143","v":50.881597165516965},{"$f":"'[2]Weekly Piglet prices'!$AQ143","v":4.7463463609753731E-4}]
["2014-06-09",24,{"$f":"'[2]Weekly Piglet prices'!C144","v":49},{"$f":"'[2]Weekly Piglet prices'!D144","v":0},{"$f":"'[2]Weekly Piglet prices'!E144","v":0},{"$f":"'[2]Weekly Piglet prices'!F144","v":63.766214837487247},{"$f":"'[2]Weekly Piglet prices'!G144","v":1750},{"$f":"'[2]Weekly Piglet prices'!H144","v":45.438530648509122},{"$f":"'[2]Weekly Piglet prices'!I144","v":339},{"$f":"'[2]Weekly Piglet prices'!J144","v":60.3},{"$f":"'[2]Weekly Piglet prices'!K144","v":38.049999999999997},{"$f":"'[2]Weekly Piglet prices'!L144","v":0},{"$f":"'[2]Weekly Piglet prices'!M144","v":45.4},{"$f":"'[2]Weekly Piglet prices'!N144","v":40},{"$f":"'[2]Weekly Piglet prices'!O144","v":51.764590592744888},{"$f":"'[2]Weekly Piglet prices'!P144","v":392.4},{"$f":"'[2]Weekly Piglet prices'!Q144","v":0},{"$f":"'[2]Weekly Piglet prices'!R144","v":73.44},{"$f":"'[2]Weekly Piglet prices'!S144","v":0},{"$f":"'[2]Weekly Piglet prices'!T144","v":0},{"$f":"'[2]Weekly Piglet prices'!U144","v":0},{"$f":"'[2]Weekly Piglet prices'!V144","v":0},{"$f":"'[2]Weekly Piglet prices'!W144","v":47.47},{"$f":"'[2]Weekly Piglet prices'!X144","v":42.610377265724871},{"$f":"'[2]Weekly Piglet prices'!Y144","v":13000},{"$f":"'[2]Weekly Piglet prices'!Z144","v":91.32},{"$f":"'[2]Weekly Piglet prices'!AA144","v":40},{"$f":"'[2]Weekly Piglet prices'!AB144","v":0},{"$f":"'[2]Weekly Piglet prices'!AC144","v":41.555175815168312},{"$f":"'[2]Weekly Piglet prices'!AD144","v":170.92},{"$f":"'[2]Weekly Piglet prices'!AE144","v":44},{"$f":"'[2]Weekly Piglet prices'!AF144","v":0},{"$f":"'[2]Weekly Piglet prices'!AG144","v":0},{"$f":"'[2]Weekly Piglet prices'!AH144","v":0},{"$f":"'[2]Weekly Piglet prices'!AI144","v":71.31},{"$f":"'[2]Weekly Piglet prices'!AJ144","v":51.41},{"$f":"'[2]Weekly Piglet prices'!AK144","v":72.532476412171363},{"$f":"'[2]Weekly Piglet prices'!AL144","v":656.65},{"$f":"'[2]Weekly Piglet prices'!AM144","v":70.58572987745903},{"$f":"'[2]Weekly Piglet prices'!AN144","v":56.82},null,{"$f":"'[2]Weekly Piglet prices'!$AP144","v":50.675519203493344},{"$f":"'[2]Weekly Piglet prices'!$AQ144","v":-4.0501472733501798E-3}]
["2014-06-16",25,{"$f":"'[2]Weekly Piglet prices'!C145","v":49},{"$f":"'[2]Weekly Piglet prices'!D145","v":0},{"$f":"'[2]Weekly Piglet prices'!E145","v":0},{"$f":"'[2]Weekly Piglet prices'!F145","v":63.766214837487247},{"$f":"'[2]Weekly Piglet prices'!G145","v":0},{"$f":"'[2]Weekly Piglet prices'!H145","v":45.462295798042426},{"$f":"'[2]Weekly Piglet prices'!I145","v":339},{"$f":"'[2]Weekly Piglet prices'!J145","v":60.1},{"$f":"'[2]Weekly Piglet prices'!K145","v":39.42},{"$f":"'[2]Weekly Piglet prices'!L145","v":0},{"$f":"'[2]Weekly Piglet prices'!M145","v":44.37},{"$f":"'[2]Weekly Piglet prices'!N145","v":39.4},{"$f":"'[2]Weekly Piglet prices'!O145","v":51.787818512617946},{"$f":"'[2]Weekly Piglet prices'!P145","v":392.4},{"$f":"'[2]Weekly Piglet prices'!Q145","v":0},{"$f":"'[2]Weekly Piglet prices'!R145","v":73.11},{"$f":"'[2]Weekly Piglet prices'!S145","v":0},{"$f":"'[2]Weekly Piglet prices'!T145","v":0},{"$f":"'[2]Weekly Piglet prices'!U145","v":0},{"$f":"'[2]Weekly Piglet prices'!V145","v":0},{"$f":"'[2]Weekly Piglet prices'!W145","v":47.3},{"$f":"'[2]Weekly Piglet prices'!X145","v":44.78157946251293},{"$f":"'[2]Weekly Piglet prices'!Y145","v":13725.81},{"$f":"'[2]Weekly Piglet prices'!Z145","v":91.32},{"$f":"'[2]Weekly Piglet prices'!AA145","v":39.5},{"$f":"'[2]Weekly Piglet prices'!AB145","v":0},{"$f":"'[2]Weekly Piglet prices'!AC145","v":42.227876556234769},{"$f":"'[2]Weekly Piglet prices'!AD145","v":174.97},{"$f":"'[2]Weekly Piglet prices'!AE145","v":44},{"$f":"'[2]Weekly Piglet prices'!AF145","v":0},{"$f":"'[2]Weekly Piglet prices'!AG145","v":0},{"$f":"'[2]Weekly Piglet prices'!AH145","v":0},{"$f":"'[2]Weekly Piglet prices'!AI145","v":71.31},{"$f":"'[2]Weekly Piglet prices'!AJ145","v":51.85},{"$f":"'[2]Weekly Piglet prices'!AK145","v":72.752625731077416},{"$f":"'[2]Weekly Piglet prices'!AL145","v":659.17},{"$f":"'[2]Weekly Piglet prices'!AM145","v":69.989999999999995},{"$f":"'[2]Weekly Piglet prices'!AN145","v":55.89},null,{"$f":"'[2]Weekly Piglet prices'!$AP145","v":50.404022858301786},{"$f":"'[2]Weekly Piglet prices'!$AQ145","v":-5.3575444210316459E-3}]
["2014-06-23",26,{"$f":"'[2]Weekly Piglet prices'!C146","v":48.5},{"$f":"'[2]Weekly Piglet prices'!D146","v":0},{"$f":"'[2]Weekly Piglet prices'!E146","v":0},{"$f":"'[2]Weekly Piglet prices'!F146","v":54.977255457128877},{"$f":"'[2]Weekly Piglet prices'!G146","v":1509},{"$f":"'[2]Weekly Piglet prices'!H146","v":46.540680463452446},{"$f":"'[2]Weekly Piglet prices'!I146","v":347},{"$f":"'[2]Weekly Piglet prices'!J146","v":60.3},{"$f":"'[2]Weekly Piglet prices'!K146","v":37.909999999999997},{"$f":"'[2]Weekly Piglet prices'!L146","v":0},{"$f":"'[2]Weekly Piglet prices'!M146","v":43.35},{"$f":"'[2]Weekly Piglet prices'!N146","v":38.799999999999997},{"$f":"'[2]Weekly Piglet prices'!O146","v":46.285399598666253},{"$f":"'[2]Weekly Piglet prices'!P146","v":350.6},{"$f":"'[2]Weekly Piglet prices'!Q146","v":0},{"$f":"'[2]Weekly Piglet prices'!R146","v":72.790000000000006},{"$f":"'[2]Weekly Piglet prices'!S146","v":0},{"$f":"'[2]Weekly Piglet prices'!T146","v":0},{"$f":"'[2]Weekly Piglet prices'!U146","v":0},{"$f":"'[2]Weekly Piglet prices'!V146","v":0},{"$f":"'[2]Weekly Piglet prices'!W146","v":44.43},{"$f":"'[2]Weekly Piglet prices'!X146","v":43.973941368078179},{"$f":"'[2]Weekly Piglet prices'!Y146","v":13500},{"$f":"'[2]Weekly Piglet prices'!Z146","v":91.32},{"$f":"'[2]Weekly Piglet prices'!AA146","v":38.5},{"$f":"'[2]Weekly Piglet prices'!AB146","v":0},{"$f":"'[2]Weekly Piglet prices'!AC146","v":39.942124332898636},{"$f":"'[2]Weekly Piglet prices'!AD146","v":165.83},{"$f":"'[2]Weekly Piglet prices'!AE146","v":44},{"$f":"'[2]Weekly Piglet prices'!AF146","v":0},{"$f":"'[2]Weekly Piglet prices'!AG146","v":0},{"$f":"'[2]Weekly Piglet prices'!AH146","v":0},{"$f":"'[2]Weekly Piglet prices'!AI146","v":71.31},{"$f":"'[2]Weekly Piglet prices'!AJ146","v":53.8},{"$f":"'[2]Weekly Piglet prices'!AK146","v":72.391038785393306},{"$f":"'[2]Weekly Piglet prices'!AL146","v":663.71},{"$f":"'[2]Weekly Piglet prices'!AM146","v":70.62448093873067},{"$f":"'[2]Weekly Piglet prices'!AN146","v":56.49},null,{"$f":"'[2]Weekly Piglet prices'!$AP146","v":49.832595406100268},{"$f":"'[2]Weekly Piglet prices'!$AQ146","v":-1.1336941374856968E-2}]
["2014-06-30",27,{"$f":"'[2]Weekly Piglet prices'!C147","v":47.5},{"$f":"'[2]Weekly Piglet prices'!D147","v":0},{"$f":"'[2]Weekly Piglet prices'!E147","v":0},{"$f":"'[2]Weekly Piglet prices'!F147","v":46.058385041435891},{"$f":"'[2]Weekly Piglet prices'!G147","v":1264},{"$f":"'[2]Weekly Piglet prices'!H147","v":46.537113779315597},{"$f":"'[2]Weekly Piglet prices'!I147","v":347},{"$f":"'[2]Weekly Piglet prices'!J147","v":59.8},{"$f":"'[2]Weekly Piglet prices'!K147","v":38.22},{"$f":"'[2]Weekly Piglet prices'!L147","v":0},{"$f":"'[2]Weekly Piglet prices'!M147","v":41.85},{"$f":"'[2]Weekly Piglet prices'!N147","v":38.200000000000003},{"$f":"'[2]Weekly Piglet prices'!O147","v":46.23499934063036},{"$f":"'[2]Weekly Piglet prices'!P147","v":350.6},{"$f":"'[2]Weekly Piglet prices'!Q147","v":0},{"$f":"'[2]Weekly Piglet prices'!R147","v":72.59},{"$f":"'[2]Weekly Piglet prices'!S147","v":0},{"$f":"'[2]Weekly Piglet prices'!T147","v":0},{"$f":"'[2]Weekly Piglet prices'!U147","v":0},{"$f":"'[2]Weekly Piglet prices'!V147","v":0},{"$f":"'[2]Weekly Piglet prices'!W147","v":35.75},{"$f":"'[2]Weekly Piglet prices'!X147","v":40.256487839474623},{"$f":"'[2]Weekly Piglet prices'!Y147","v":12487.39},{"$f":"'[2]Weekly Piglet prices'!Z147","v":91.32},{"$f":"'[2]Weekly Piglet prices'!AA147","v":37.5},{"$f":"'[2]Weekly Piglet prices'!AB147","v":0},{"$f":"'[2]Weekly Piglet prices'!AC147","v":40.73873830440067},{"$f":"'[2]Weekly Piglet prices'!AD147","v":169},{"$f":"'[2]Weekly Piglet prices'!AE147","v":44},{"$f":"'[2]Weekly Piglet prices'!AF147","v":0},{"$f":"'[2]Weekly Piglet prices'!AG147","v":0},{"$f":"'[2]Weekly Piglet prices'!AH147","v":0},{"$f":"'[2]Weekly Piglet prices'!AI147","v":58.03},{"$f":"'[2]Weekly Piglet prices'!AJ147","v":51.31},{"$f":"'[2]Weekly Piglet prices'!AK147","v":78.060522057663334},{"$f":"'[2]Weekly Piglet prices'!AL147","v":720.88},{"$f":"'[2]Weekly Piglet prices'!AM147","v":71.107724032814801},{"$f":"'[2]Weekly Piglet prices'!AN147","v":56.65},null,{"$f":"'[2]Weekly Piglet prices'!$AP147","v":49.094074613899707},{"$f":"'[2]Weekly Piglet prices'!$AQ147","v":-1.4820034681760852E-2}]
["2014-07-07",28,{"$f":"'[2]Weekly Piglet prices'!C148","v":45},{"$f":"'[2]Weekly Piglet prices'!D148","v":0},{"$f":"'[2]Weekly Piglet prices'!E148","v":0},{"$f":"'[2]Weekly Piglet prices'!F148","v":57.583772413936735},{"$f":"'[2]Weekly Piglet prices'!G148","v":1580},{"$f":"'[2]Weekly Piglet prices'!H148","v":46.004717351691781},{"$f":"'[2]Weekly Piglet prices'!I148","v":343},{"$f":"'[2]Weekly Piglet prices'!J148","v":57.6},{"$f":"'[2]Weekly Piglet prices'!K148","v":38.22},{"$f":"'[2]Weekly Piglet prices'!L148","v":0},{"$f":"'[2]Weekly Piglet prices'!M148","v":39.85},{"$f":"'[2]Weekly Piglet prices'!N148","v":36.4},{"$f":"'[2]Weekly Piglet prices'!O148","v":42.421771825646566},{"$f":"'[2]Weekly Piglet prices'!P148","v":322.60000000000002},{"$f":"'[2]Weekly Piglet prices'!Q148","v":0},{"$f":"'[2]Weekly Piglet prices'!R148","v":72.489999999999995},{"$f":"'[2]Weekly Piglet prices'!S148","v":0},{"$f":"'[2]Weekly Piglet prices'!T148","v":0},{"$f":"'[2]Weekly Piglet prices'!U148","v":0},{"$f":"'[2]Weekly Piglet prices'!V148","v":0},{"$f":"'[2]Weekly Piglet prices'!W148","v":44.71},{"$f":"'[2]Weekly Piglet prices'!X148","v":41.944181973220246},{"$f":"'[2]Weekly Piglet prices'!Y148","v":13000},{"$f":"'[2]Weekly Piglet prices'!Z148","v":91.32},{"$f":"'[2]Weekly Piglet prices'!AA148","v":36},{"$f":"'[2]Weekly Piglet prices'!AB148","v":0},{"$f":"'[2]Weekly Piglet prices'!AC148","v":39.193312348133418},{"$f":"'[2]Weekly Piglet prices'!AD148","v":162.22},{"$f":"'[2]Weekly Piglet prices'!AE148","v":44},{"$f":"'[2]Weekly Piglet prices'!AF148","v":0},{"$f":"'[2]Weekly Piglet prices'!AG148","v":0},{"$f":"'[2]Weekly Piglet prices'!AH148","v":0},{"$f":"'[2]Weekly Piglet prices'!AI148","v":74.97},{"$f":"'[2]Weekly Piglet prices'!AJ148","v":53.86},{"$f":"'[2]Weekly Piglet prices'!AK148","v":75.217373197040303},{"$f":"'[2]Weekly Piglet prices'!AL148","v":696.63},{"$f":"'[2]Weekly Piglet prices'!AM148","v":69.709125577881295},{"$f":"'[2]Weekly Piglet prices'!AN148","v":55.36},null,{"$f":"'[2]Weekly Piglet prices'!$AP148","v":47.803159647758363},{"$f":"'[2]Weekly Piglet prices'!$AQ148","v":-2.629472041776415E-2}]
["2014-07-14",29,{"$f":"'[2]Weekly Piglet prices'!C149","v":42},{"$f":"'[2]Weekly Piglet prices'!D149","v":0},{"$f":"'[2]Weekly Piglet prices'!E149","v":0},{"$f":"'[2]Weekly Piglet prices'!F149","v":50.114025679207764},{"$f":"'[2]Weekly Piglet prices'!G149","v":1375},{"$f":"'[2]Weekly Piglet prices'!H149","v":44.926214392454753},{"$f":"'[2]Weekly Piglet prices'!I149","v":335},{"$f":"'[2]Weekly Piglet prices'!J149","v":55.4},{"$f":"'[2]Weekly Piglet prices'!K149","v":38.619999999999997},{"$f":"'[2]Weekly Piglet prices'!L149","v":0},{"$f":"'[2]Weekly Piglet prices'!M149","v":37.92},{"$f":"'[2]Weekly Piglet prices'!N149","v":34.6},{"$f":"'[2]Weekly Piglet prices'!O149","v":42.348661015677749},{"$f":"'[2]Weekly Piglet prices'!P149","v":322.60000000000002},{"$f":"'[2]Weekly Piglet prices'!Q149","v":0},{"$f":"'[2]Weekly Piglet prices'!R149","v":72.489999999999995},{"$f":"'[2]Weekly Piglet prices'!S149","v":0},{"$f":"'[2]Weekly Piglet prices'!T149","v":0},{"$f":"'[2]Weekly Piglet prices'!U149","v":0},{"$f":"'[2]Weekly Piglet prices'!V149","v":0},{"$f":"'[2]Weekly Piglet prices'!W149","v":38.53},{"$f":"'[2]Weekly Piglet prices'!X149","v":38.732167064747273},{"$f":"'[2]Weekly Piglet prices'!Y149","v":12000},{"$f":"'[2]Weekly Piglet prices'!Z149","v":91.32},{"$f":"'[2]Weekly Piglet prices'!AA149","v":33.5},{"$f":"'[2]Weekly Piglet prices'!AB149","v":0},{"$f":"'[2]Weekly Piglet prices'!AC149","v":40.162351545581195},{"$f":"'[2]Weekly Piglet prices'!AD149","v":166.38},{"$f":"'[2]Weekly Piglet prices'!AE149","v":44},{"$f":"'[2]Weekly Piglet prices'!AF149","v":0},{"$f":"'[2]Weekly Piglet prices'!AG149","v":0},{"$f":"'[2]Weekly Piglet prices'!AH149","v":0},{"$f":"'[2]Weekly Piglet prices'!AI149","v":74.97},{"$f":"'[2]Weekly Piglet prices'!AJ149","v":51.2},{"$f":"'[2]Weekly Piglet prices'!AK149","v":77.11},{"$f":"'[2]Weekly Piglet prices'!AL149","v":712.43},{"$f":"'[2]Weekly Piglet prices'!AM149","v":69.708548872587002},{"$f":"'[2]Weekly Piglet prices'!AN149","v":55.25},null,{"$f":"'[2]Weekly Piglet prices'!$AP149","v":46.229500885105161},{"$f":"'[2]Weekly Piglet prices'!$AQ149","v":-3.2919555406982326E-2}]
["2014-07-21",30,{"$f":"'[2]Weekly Piglet prices'!C150","v":41},{"$f":"'[2]Weekly Piglet prices'!D150","v":0},{"$f":"'[2]Weekly Piglet prices'!E150","v":0},{"$f":"'[2]Weekly Piglet prices'!F150","v":48.345156123234389},{"$f":"'[2]Weekly Piglet prices'!G150","v":1328},{"$f":"'[2]Weekly Piglet prices'!H150","v":43.852086853569659},{"$f":"'[2]Weekly Piglet prices'!I150","v":327},{"$f":"'[2]Weekly Piglet prices'!J150","v":53.1},{"$f":"'[2]Weekly Piglet prices'!K150","v":39.56},{"$f":"'[2]Weekly Piglet prices'!L150","v":0},{"$f":"'[2]Weekly Piglet prices'!M150","v":37.299999999999997},{"$f":"'[2]Weekly Piglet prices'!N150","v":33.799999999999997},{"$f":"'[2]Weekly Piglet prices'!O150","v":42.450081050944974},{"$f":"'[2]Weekly Piglet prices'!P150","v":323.60000000000002},{"$f":"'[2]Weekly Piglet prices'!Q150","v":0},{"$f":"'[2]Weekly Piglet prices'!R150","v":72.489999999999995},{"$f":"'[2]Weekly Piglet prices'!S150","v":0},{"$f":"'[2]Weekly Piglet prices'!T150","v":0},{"$f":"'[2]Weekly Piglet prices'!U150","v":0},{"$f":"'[2]Weekly Piglet prices'!V150","v":0},{"$f":"'[2]Weekly Piglet prices'!W150","v":39.65},{"$f":"'[2]Weekly Piglet prices'!X150","v":40.504196234729918},{"$f":"'[2]Weekly Piglet prices'!Y150","v":12500},{"$f":"'[2]Weekly Piglet prices'!Z150","v":91.32},{"$f":"'[2]Weekly Piglet prices'!AA150","v":31.5},{"$f":"'[2]Weekly Piglet prices'!AB150","v":0},{"$f":"'[2]Weekly Piglet prices'!AC150","v":39.556257282524008},{"$f":"'[2]Weekly Piglet prices'!AD150","v":163.92},{"$f":"'[2]Weekly Piglet prices'!AE150","v":44},{"$f":"'[2]Weekly Piglet prices'!AF150","v":0},{"$f":"'[2]Weekly Piglet prices'!AG150","v":0},{"$f":"'[2]Weekly Piglet prices'!AH150","v":0},{"$f":"'[2]Weekly Piglet prices'!AI150","v":43.97},{"$f":"'[2]Weekly Piglet prices'!AJ150","v":53.43},{"$f":"'[2]Weekly Piglet prices'!AK150","v":75.093372709111421},{"$f":"'[2]Weekly Piglet prices'!AL150","v":691.64},{"$f":"'[2]Weekly Piglet prices'!AM150","v":72.416407886184729},{"$f":"'[2]Weekly Piglet prices'!AN150","v":57.3},null,{"$f":"'[2]Weekly Piglet prices'!$AP150","v":45.141604667207623},{"$f":"'[2]Weekly Piglet prices'!$AQ150","v":-2.3532510562926046E-2}]
["2014-07-28",31,{"$f":"'[2]Weekly Piglet prices'!C151","v":40},{"$f":"'[2]Weekly Piglet prices'!D151","v":0},{"$f":"'[2]Weekly Piglet prices'!E151","v":0},{"$f":"'[2]Weekly Piglet prices'!F151","v":47.887017136218411},{"$f":"'[2]Weekly Piglet prices'!G151","v":1319},{"$f":"'[2]Weekly Piglet prices'!H151","v":43.855111448310744},{"$f":"'[2]Weekly Piglet prices'!I151","v":327},{"$f":"'[2]Weekly Piglet prices'!J151","v":52.7},{"$f":"'[2]Weekly Piglet prices'!K151","v":38.57},{"$f":"'[2]Weekly Piglet prices'!L151","v":0},{"$f":"'[2]Weekly Piglet prices'!M151","v":37.299999999999997},{"$f":"'[2]Weekly Piglet prices'!N151","v":33.200000000000003},{"$f":"'[2]Weekly Piglet prices'!O151","v":42.361565649954187},{"$f":"'[2]Weekly Piglet prices'!P151","v":323.60000000000002},{"$f":"'[2]Weekly Piglet prices'!Q151","v":0},{"$f":"'[2]Weekly Piglet prices'!R151","v":72.099999999999994},{"$f":"'[2]Weekly Piglet prices'!S151","v":0},{"$f":"'[2]Weekly Piglet prices'!T151","v":0},{"$f":"'[2]Weekly Piglet prices'!U151","v":0},{"$f":"'[2]Weekly Piglet prices'!V151","v":0},{"$f":"'[2]Weekly Piglet prices'!W151","v":40.61},{"$f":"'[2]Weekly Piglet prices'!X151","v":38.539181501192878},{"$f":"'[2]Weekly Piglet prices'!Y151","v":12000},{"$f":"'[2]Weekly Piglet prices'!Z151","v":91.32},{"$f":"'[2]Weekly Piglet prices'!AA151","v":30},{"$f":"'[2]Weekly Piglet prices'!AB151","v":0},{"$f":"'[2]Weekly Piglet prices'!AC151","v":39.02996523332795},{"$f":"'[2]Weekly Piglet prices'!AD151","v":162.46},{"$f":"'[2]Weekly Piglet prices'!AE151","v":44},{"$f":"'[2]Weekly Piglet prices'!AF151","v":0},{"$f":"'[2]Weekly Piglet prices'!AG151","v":0},{"$f":"'[2]Weekly Piglet prices'!AH151","v":0},{"$f":"'[2]Weekly Piglet prices'!AI151","v":56.65},{"$f":"'[2]Weekly Piglet prices'!AJ151","v":53.09},{"$f":"'[2]Weekly Piglet prices'!AK151","v":75.186666832316646},{"$f":"'[2]Weekly Piglet prices'!AL151","v":691.64},{"$f":"'[2]Weekly Piglet prices'!AM151","v":72.259854435396676},{"$f":"'[2]Weekly Piglet prices'!AN151","v":57.3},null,{"$f":"'[2]Weekly Piglet prices'!$AP151","v":44.743479632341376},{"$f":"'[2]Weekly Piglet prices'!$AQ151","v":-8.819470149572628E-3}]
["2014-08-04",32,{"$f":"'[2]Weekly Piglet prices'!C152","v":39},{"$f":"'[2]Weekly Piglet prices'!D152","v":0},{"$f":"'[2]Weekly Piglet prices'!E152","v":0},{"$f":"'[2]Weekly Piglet prices'!F152","v":47.522235032529032},{"$f":"'[2]Weekly Piglet prices'!G152","v":1319},{"$f":"'[2]Weekly Piglet prices'!H152","v":43.860405493185254},{"$f":"'[2]Weekly Piglet prices'!I152","v":327},{"$f":"'[2]Weekly Piglet prices'!J152","v":52.5},{"$f":"'[2]Weekly Piglet prices'!K152","v":37.6},{"$f":"'[2]Weekly Piglet prices'!L152","v":0},{"$f":"'[2]Weekly Piglet prices'!M152","v":37.299999999999997},{"$f":"'[2]Weekly Piglet prices'!N152","v":32.200000000000003},{"$f":"'[2]Weekly Piglet prices'!O152","v":41.457805146447505},{"$f":"'[2]Weekly Piglet prices'!P152","v":317},{"$f":"'[2]Weekly Piglet prices'!Q152","v":0},{"$f":"'[2]Weekly Piglet prices'!R152","v":71.95},{"$f":"'[2]Weekly Piglet prices'!S152","v":0},{"$f":"'[2]Weekly Piglet prices'!T152","v":0},{"$f":"'[2]Weekly Piglet prices'!U152","v":0},{"$f":"'[2]Weekly Piglet prices'!V152","v":0},{"$f":"'[2]Weekly Piglet prices'!W152","v":43.76},{"$f":"'[2]Weekly Piglet prices'!X152","v":35.556109080175283},{"$f":"'[2]Weekly Piglet prices'!Y152","v":11185.19},{"$f":"'[2]Weekly Piglet prices'!Z152","v":91.32},{"$f":"'[2]Weekly Piglet prices'!AA152","v":28.5},{"$f":"'[2]Weekly Piglet prices'!AB152","v":0},{"$f":"'[2]Weekly Piglet prices'!AC152","v":39.592576690043408},{"$f":"'[2]Weekly Piglet prices'!AD152","v":165.98},{"$f":"'[2]Weekly Piglet prices'!AE152","v":44},{"$f":"'[2]Weekly Piglet prices'!AF152","v":0},{"$f":"'[2]Weekly Piglet prices'!AG152","v":0},{"$f":"'[2]Weekly Piglet prices'!AH152","v":0},{"$f":"'[2]Weekly Piglet prices'!AI152","v":66.44},{"$f":"'[2]Weekly Piglet prices'!AJ152","v":51.03},{"$f":"'[2]Weekly Piglet prices'!AK152","v":73.807814979690704},{"$f":"'[2]Weekly Piglet prices'!AL152","v":681.67},{"$f":"'[2]Weekly Piglet prices'!AM152","v":65.053121267366578},{"$f":"'[2]Weekly Piglet prices'!AN152","v":51.74},null,{"$f":"'[2]Weekly Piglet prices'!$AP152","v":44.148501547177105},{"$f":"'[2]Weekly Piglet prices'!$AQ152","v":-1.329753720661031E-2}]
["2014-08-11",33,{"$f":"'[2]Weekly Piglet prices'!C153","v":38},{"$f":"'[2]Weekly Piglet prices'!D153","v":0},{"$f":"'[2]Weekly Piglet prices'!E153","v":0},{"$f":"'[2]Weekly Piglet prices'!F153","v":57.157511412012106},{"$f":"'[2]Weekly Piglet prices'!G153","v":1592},{"$f":"'[2]Weekly Piglet prices'!H153","v":44.262794534407142},{"$f":"'[2]Weekly Piglet prices'!I153","v":330},{"$f":"'[2]Weekly Piglet prices'!J153","v":52},{"$f":"'[2]Weekly Piglet prices'!K153","v":37.36},{"$f":"'[2]Weekly Piglet prices'!L153","v":0},{"$f":"'[2]Weekly Piglet prices'!M153","v":37.299999999999997},{"$f":"'[2]Weekly Piglet prices'!N153","v":31.8},{"$f":"'[2]Weekly Piglet prices'!O153","v":46.196916363037531},{"$f":"'[2]Weekly Piglet prices'!P153","v":352.66},{"$f":"'[2]Weekly Piglet prices'!Q153","v":0},{"$f":"'[2]Weekly Piglet prices'!R153","v":71.95},{"$f":"'[2]Weekly Piglet prices'!S153","v":0},{"$f":"'[2]Weekly Piglet prices'!T153","v":0},{"$f":"'[2]Weekly Piglet prices'!U153","v":0},{"$f":"'[2]Weekly Piglet prices'!V153","v":0},{"$f":"'[2]Weekly Piglet prices'!W153","v":42.87},{"$f":"'[2]Weekly Piglet prices'!X153","v":35.088838559443687},{"$f":"'[2]Weekly Piglet prices'!Y153","v":11000},{"$f":"'[2]Weekly Piglet prices'!Z153","v":91.32},{"$f":"'[2]Weekly Piglet prices'!AA153","v":27},{"$f":"'[2]Weekly Piglet prices'!AB153","v":0},{"$f":"'[2]Weekly Piglet prices'!AC153","v":39.13501354736465},{"$f":"'[2]Weekly Piglet prices'!AD153","v":164.04},{"$f":"'[2]Weekly Piglet prices'!AE153","v":44},{"$f":"'[2]Weekly Piglet prices'!AF153","v":0},{"$f":"'[2]Weekly Piglet prices'!AG153","v":0},{"$f":"'[2]Weekly Piglet prices'!AH153","v":0},{"$f":"'[2]Weekly Piglet prices'!AI153","v":64.86},{"$f":"'[2]Weekly Piglet prices'!AJ153","v":53.52},{"$f":"'[2]Weekly Piglet prices'!AK153","v":75.294242062307148},{"$f":"'[2]Weekly Piglet prices'!AL153","v":691.64},{"$f":"'[2]Weekly Piglet prices'!AM153","v":69.507095113843505},{"$f":"'[2]Weekly Piglet prices'!AN153","v":55.56},null,{"$f":"'[2]Weekly Piglet prices'!$AP153","v":44.142422213806356},{"$f":"'[2]Weekly Piglet prices'!$AQ153","v":-1.3770191869943993E-4}]
[]
[]
[]
[]
[]
[]
[]
[]
[]
[]
[]
[]
[]
[]
[]
[]
[]
[]
[]
[]
[]
[]
[]
[]
[]
[]
[]
[]
[]
[]
[]
[]
[]
[]
[]
[]
[]
[]
[]
[]
[]
[]
[]
[]
[]
[]
[]
[]
[]
[]
[]
[]
[]
[]
[]
[]
[]
[]
[]
[]
[]
[]
[]
[]
[]
[]
[]
[]
[]
[]
[]
[]
[]
[]
[]
[]
[]
[]
[]
[]
[]
[]
[]
[]
[]
[]
[]
[]
[]
[]
[]
[]
[]
[]
[]
[]
[]
[]
[]
[]
[]
[]
[]
[]
[]
[]
[]
[]
[]
[]
[]
[]
[]
[]
[]
[]
[]
[]
[]
[]
[]
[]
[]
[]
[]
[]
[]
[]
[]
[]
[]
[]
[]
[]
[]
[]
[]
[]
[]
[]
[]
[]
[]
[]
[]
[]
[]
[]
[]
[]
[]
[]
[]
[]
[]
[]
[]
[]
[]
[]
[]
[]
[]
[]
[]
[]
[]
[]
[]
[]
[]
[]
[]
[]
[]
[]
[]
[]
[]
[]
[]
[]
[]
[]
[]
[]
[]
[]
[]
[]
[]
[]
[]
[]
[]
[]
[]
[]
[]
[]
[]
[]
[]
[]
[]
[]
[]
[]
[]
[]
[]
[]
[]
[]
[]
[]
[]
[]
[]
[]
[]
[]
[]
[]
[]
[]
[]
[]
[]
[]
[]
[]
[]
[]
[]
[]
[]
[]
[]
[]
[]
[]
[]
[]
[]
[]
[]
[]
[]
[]
[]
[]
[]
[]
[]
[]
[]
[]
[]
[]
[]
[]
[]
[]
[]
[]
[]
[]
[]
[]
[]
[]
[]
[]
[]
[]
[]
[]
[]
[]
[]
[]
[]
[]
[]
[]
[]
[]
[]
[]
[]
[]
[]
[]
[]
[]
[]
[]
[]
[]
[]
[]
[]
[]
[]
[]
[]
[]
[]
[]
[]
[]
[]
[]
[]
[]
[]
[]
[]
[]
[]
[]
[]
[]
[]
[]
[]
[]
[]
[]
[]
[]
[]
[]
[]
[]
[]
[]
[]
[]
[]
[]
[]
[]
[]
[]
[null,null,"BE","BG","BG","CZ","CZ","DK","DK","DE","EE","GR","ES","FR","HR","HR","IE","IT","CY","LV","LT","LT","LU","HU","HU","MT","NL","AT","PL","PL","PT","RO","RO","SI","SK","FI","SE","SE","UK","UK",null,"EU_27"]
["Change 1 week",null,{"$f":"INDEX(C:C,MATCH(MAX($A$9:$A$516),$A:$A,0),1)/INDEX(C:C,MATCH(MAX($A$9:$A$516),$A:$A,0)-1,1)-1","v":-2.5641025641025661E-2},null,null,{"$f":"INDEX(F:F,MATCH(MAX($A$9:$A$516),$A:$A,0),1)/INDEX(F:F,MATCH(MAX($A$9:$A$516),$A:$A,0)-1,1)-1","v":0.20275301388681988},0.20697498104624712,9.1743119266056716E-3,9.1743119266054496E-3,-9.52380952380949E-3,-6.38297872340432E-3,null,0,-1.2422360248447228E-2,0.11431167665170316,0.11249211356466882,null,{"$f":"INDEX(R:R,MATCH(MAX($A$9:$A$516),$A:$A,0),1)/INDEX(R:R,MATCH(MAX($A$9:$A$516),$A:$A,0)-1,1)-1","v":0},null,null,null,null,{"$f":"INDEX(W:W,MATCH(MAX($A$9:$A$516),$A:$A,0),1)/INDEX(W:W,MATCH(MAX($A$9:$A$516),$A:$A,0)-1,1)-1","v":-2.0338208409506398E-2},{"$f":"INDEX(X:X,MATCH(MAX($A$9:$A$516),$A:$A,0),1)/INDEX(X:X,MATCH(MAX($A$9:$A$516),$A:$A,0)-1,1)-1","v":-1.3141778805941584E-2},{"$f":"INDEX(Y:Y,MATCH(MAX($A$9:$A$516),$A:$A,0),1)/INDEX(Y:Y,MATCH(MAX($A$9:$A$516),$A:$A,0)-1,1)-1","v":-1.6556714727242072E-2},{"$f":"INDEX(Z:Z,MATCH(MAX($A$9:$A$516),$A:$A,0),1)/INDEX(Z:Z,MATCH(MAX($A$9:$A$516),$A:$A,0)-1,1)-1","v":0},{"$f":"INDEX(AA:AA,MATCH(MAX($A$9:$A$516),$A:$A,0),1)/INDEX(AA:AA,MATCH(MAX($A$9:$A$516),$A:$A,0)-1,1)-1","v":-5.2631578947368474E-2},null,{"$f":"INDEX(AC:AC,MATCH(MAX($A$9:$A$516),$A:$A,0),1)/INDEX(AC:AC,MATCH(MAX($A$9:$A$516),$A:$A,0)-1,1)-1","v":-1.155679122025477E-2},{"$f":"INDEX(AD:AD,MATCH(MAX($A$9:$A$516),$A:$A,0),1)/INDEX(AD:AD,MATCH(MAX($A$9:$A$516),$A:$A,0)-1,1)-1","v":-1.1688155199421568E-2},{"$f":"INDEX(AE:AE,MATCH(MAX($A$9:$A$516),$A:$A,0),1)/INDEX(AE:AE,MATCH(MAX($A$9:$A$516),$A:$A,0)-1,1)-1","v":0},null,null,null,{"$f":"INDEX(AI:AI,MATCH(MAX($A$9:$A$516),$A:$A,0),1)/INDEX(AI:AI,MATCH(MAX($A$9:$A$516),$A:$A,0)-1,1)-1","v":-2.3780854906682691E-2},4.8794826572604366E-2,2.0139155765896311E-2,1.4625845350389577E-2,6.8466720115875956E-2,7.383069192114422E-2,null,{"$f":"INDEX(AP:AP,MATCH(MAX($A$9:$A$516),$A:$A,0),1)/INDEX(AP:AP,MATCH(MAX($A$9:$A$516),$A:$A,0)-1,1)-1","v":-1.3770191869943993E-4}]
["Change 4 weeks",null,{"$f":"INDEX(C:C,MATCH(MAX($A$9:$A$516),$A:$A,0),1)/INDEX(C:C,MATCH(MAX($A$9:$A$516),$A:$A,0)-4,1)-1","v":-9.5238095238095233E-2},null,null,{"$f":"INDEX(F:F,MATCH(MAX($A$9:$A$516),$A:$A,0),1)/INDEX(F:F,MATCH(MAX($A$9:$A$516),$A:$A,0)-4,1)-1","v":0.1405491903183238},0.15781818181818186,-1.4766876466649981E-2,-1.4925373134328401E-2,-6.1371841155234641E-2,-3.2625582599689285E-2,null,-1.6350210970464296E-2,-8.092485549132955E-2,9.0870767931366947E-2,9.3180409175449563E-2,null,{"$f":"INDEX(R:R,MATCH(MAX($A$9:$A$516),$A:$A,0),1)/INDEX(R:R,MATCH(MAX($A$9:$A$516),$A:$A,0)-4,1)-1","v":-7.4493033521864094E-3},null,null,null,null,{"$f":"INDEX(W:W,MATCH(MAX($A$9:$A$516),$A:$A,0),1)/INDEX(W:W,MATCH(MAX($A$9:$A$516),$A:$A,0)-4,1)-1","v":0.11263950168699699},{"$f":"INDEX(X:X,MATCH(MAX($A$9:$A$516),$A:$A,0),1)/INDEX(X:X,MATCH(MAX($A$9:$A$516),$A:$A,0)-4,1)-1","v":-9.4064669792763067E-2},{"$f":"INDEX(Y:Y,MATCH(MAX($A$9:$A$516),$A:$A,0),1)/INDEX(Y:Y,MATCH(MAX($A$9:$A$516),$A:$A,0)-4,1)-1","v":-8.333333333333337E-2},{"$f":"INDEX(Z:Z,MATCH(MAX($A$9:$A$516),$A:$A,0),1)/INDEX(Z:Z,MATCH(MAX($A$9:$A$516),$A:$A,0)-4,1)-1","v":0},{"$f":"INDEX(AA:AA,MATCH(MAX($A$9:$A$516),$A:$A,0),1)/INDEX(AA:AA,MATCH(MAX($A$9:$A$516),$A:$A,0)-4,1)-1","v":-0.19402985074626866},null,{"$f":"INDEX(AC:AC,MATCH(MAX($A$9:$A$516),$A:$A,0),1)/INDEX(AC:AC,MATCH(MAX($A$9:$A$516),$A:$A,0)-4,1)-1","v":-2.5579627653291026E-2},{"$f":"INDEX(AD:AD,MATCH(MAX($A$9:$A$516),$A:$A,0),1)/INDEX(AD:AD,MATCH(MAX($A$9:$A$516),$A:$A,0)-4,1)-1","v":-1.4064190407500954E-2},{"$f":"INDEX(AE:AE,MATCH(MAX($A$9:$A$516),$A:$A,0),1)/INDEX(AE:AE,MATCH(MAX($A$9:$A$516),$A:$A,0)-4,1)-1","v":0},null,null,null,{"$f":"INDEX(AI:AI,MATCH(MAX($A$9:$A$516),$A:$A,0),1)/INDEX(AI:AI,MATCH(MAX($A$9:$A$516),$A:$A,0)-4,1)-1","v":-0.13485394157663066},4.5312500000000089E-2,-2.3547632443170152E-2,-2.9181814353690827E-2,-2.8899433713892586E-3,5.610859728506723E-3,null,{"$f":"INDEX(AP:AP,MATCH(MAX($A$9:$A$516),$A:$A,0),1)/INDEX(AP:AP,MATCH(MAX($A$9:$A$516),$A:$A,0)-4,1)-1","v":-4.5146035136434892E-2}]
["Change 1 year",null,{"$f":"INDEX(C:C,MATCH(MAX($A$9:$A$516),$A:$A,0),1)/INDEX(C:C,MATCH(MAX($A$9:$A$516),$A:$A,0)-52,1)-1","v":-0.1648351648351648},null,null,{"$f":"INDEX(F:F,MATCH(MAX($A$9:$A$516),$A:$A,0),1)/INDEX(F:F,MATCH(MAX($A$9:$A$516),$A:$A,0)-52,1)-1","v":4.0313188891899943E-2},0.12112676056338034,-6.2135540310006787E-2,-6.25E-2,-7.9646017699115057E-2,-6.38297872340432E-3,null,-4.1377537907992923E-2,-5.9171597633135953E-2,null,null,null,{"$f":"INDEX(R:R,MATCH(MAX($A$9:$A$516),$A:$A,0),1)/INDEX(R:R,MATCH(MAX($A$9:$A$516),$A:$A,0)-52,1)-1","v":0.11914761238139682},null,null,null,null,{"$f":"INDEX(W:W,MATCH(MAX($A$9:$A$516),$A:$A,0),1)/INDEX(W:W,MATCH(MAX($A$9:$A$516),$A:$A,0)-52,1)-1","v":-3.0232558139535737E-3},{"$f":"INDEX(X:X,MATCH(MAX($A$9:$A$516),$A:$A,0),1)/INDEX(X:X,MATCH(MAX($A$9:$A$516),$A:$A,0)-52,1)-1","v":-0.10724964356369837},{"$f":"INDEX(Y:Y,MATCH(MAX($A$9:$A$516),$A:$A,0),1)/INDEX(Y:Y,MATCH(MAX($A$9:$A$516),$A:$A,0)-52,1)-1","v":-6.3829787234042534E-2},{"$f":"INDEX(Z:Z,MATCH(MAX($A$9:$A$516),$A:$A,0),1)/INDEX(Z:Z,MATCH(MAX($A$9:$A$516),$A:$A,0)-52,1)-1","v":0},{"$f":"INDEX(AA:AA,MATCH(MAX($A$9:$A$516),$A:$A,0),1)/INDEX(AA:AA,MATCH(MAX($A$9:$A$516),$A:$A,0)-52,1)-1","v":-0.2551724137931034},null,{"$f":"INDEX(AC:AC,MATCH(MAX($A$9:$A$516),$A:$A,0),1)/INDEX(AC:AC,MATCH(MAX($A$9:$A$516),$A:$A,0)-52,1)-1","v":-3.8411590966584641E-2},{"$f":"INDEX(AD:AD,MATCH(MAX($A$9:$A$516),$A:$A,0),1)/INDEX(AD:AD,MATCH(MAX($A$9:$A$516),$A:$A,0)-52,1)-1","v":-4.14304914392567E-2},{"$f":"INDEX(AE:AE,MATCH(MAX($A$9:$A$516),$A:$A,0),1)/INDEX(AE:AE,MATCH(MAX($A$9:$A$516),$A:$A,0)-52,1)-1","v":0.10000000000000009},null,null,null,{"$f":"INDEX(AI:AI,MATCH(MAX($A$9:$A$516),$A:$A,0),1)/INDEX(AI:AI,MATCH(MAX($A$9:$A$516),$A:$A,0)-52,1)-1","v":-7.0240825688073438E-2},-5.7746478873239471E-2,-0.13138097841544927,-8.008246325729873E-2,0.11076815942679819,3.6954087346024789E-2,null,{"$f":"INDEX(AP:AP,MATCH(MAX($A$9:$A$516),$A:$A,0),1)/INDEX(AP:AP,MATCH(MAX($A$9:$A$516),$A:$A,0)-52,1)-1","v":-5.3239009453828423E-2}]
["Change in average - last 4 weeks 2014 with same weeks 2013",null,{"$f":"'[2]Weekly Piglet prices'!C$505","v":-0.11731843575418999},{"$f":"'[2]Weekly Piglet prices'!D$505","v":0},{"$f":"'[2]Weekly Piglet prices'!E$505","v":0},{"$f":"'[2]Weekly Piglet prices'!F$505","v":-0.12134660096766881},{"$f":"'[2]Weekly Piglet prices'!G$505","v":-6.2889900522677511E-2},{"$f":"'[2]Weekly Piglet prices'!H$505","v":-2.9532339027234289E-2},{"$f":"'[2]Weekly Piglet prices'!I$505","v":-2.9607698001480331E-2},{"$f":"'[2]Weekly Piglet prices'!J$505","v":-4.2785616750113831E-2},{"$f":"'[2]Weekly Piglet prices'!K$505","v":-2.52769642174967E-2},{"$f":"'[2]Weekly Piglet prices'!L$505","v":0},{"$f":"'[2]Weekly Piglet prices'!M$505","v":-6.6741727653718774E-2},{"$f":"'[2]Weekly Piglet prices'!N$505","v":-3.1065088757396553E-2},{"$f":"'[2]Weekly Piglet prices'!O$505","v":0},{"$f":"'[2]Weekly Piglet prices'!P$505","v":0},{"$f":"'[2]Weekly Piglet prices'!Q$505","v":0},{"$f":"'[2]Weekly Piglet prices'!R$505","v":0.12183076683776606},{"$f":"'[2]Weekly Piglet prices'!S$505","v":0},{"$f":"'[2]Weekly Piglet prices'!T$505","v":0},{"$f":"'[2]Weekly Piglet prices'!U$505","v":0},{"$f":"'[2]Weekly Piglet prices'!V$505","v":0},{"$f":"'[2]Weekly Piglet prices'!W$505","v":9.6188747731396074E-3},{"$f":"'[2]Weekly Piglet prices'!X$505","v":-0.11573479559273281},{"$f":"'[2]Weekly Piglet prices'!Y$505","v":-7.0734002696721476E-2},{"$f":"'[2]Weekly Piglet prices'!Z$505","v":0},{"$f":"'[2]Weekly Piglet prices'!AA$505","v":-0.16428571428571426},{"$f":"'[2]Weekly Piglet prices'!AB$505","v":0},{"$f":"'[2]Weekly Piglet prices'!AC$505","v":-3.352974720230506E-2},{"$f":"'[2]Weekly Piglet prices'!AD$505","v":-4.8157654326358545E-2},{"$f":"'[2]Weekly Piglet prices'!AE$505","v":0.10691823899371067},{"$f":"'[2]Weekly Piglet prices'!AF$505","v":0},{"$f":"'[2]Weekly Piglet prices'!AG$505","v":0},{"$f":"'[2]Weekly Piglet prices'!AH$505","v":0},{"$f":"'[2]Weekly Piglet prices'!AI$505","v":-0.11012201672933764},{"$f":"'[2]Weekly Piglet prices'!AJ$505","v":-3.4313949764377516E-2},{"$f":"'[2]Weekly Piglet prices'!AK$505","v":-0.12685355203326132},{"$f":"'[2]Weekly Piglet prices'!AL$505","v":-7.1636412622503753E-2},{"$f":"'[2]Weekly Piglet prices'!AM$505","v":0.12514099173859305},{"$f":"AVERAGE(OFFSET(AN$1:AN$4,MATCH(MAX($A$16:$A$500),$A:$A,0)-4,0))/AVERAGE(OFFSET(AN$1:AN$4,MATCH(MAX($A$16:$A$500),$A:$A,0)-57,0))-1","v":3.4933072151485556E-2},null,{"$f":"'[2]Weekly Piglet prices'!$AP$505","v":-3.5732373595439904E-2}]
[]
["???","Price not communicated"]

{"sheet":"Class S","index":5,"n_rows":505,"n_cols":44,"rows_kept":505,"cut":false,"hidden":false,"merged":[[505,0,505,2],[505,3,505,5],[505,6,505,8],[3,18,4,24],[5,18,5,24],[7,1,7,2],[8,1,8,2],[8,3,8,8],[8,42,9,42],[497,8,498,35],[9,1,9,2],[10,1,10,2],[13,1,13,40],[7,37,8,40]]}
[null,"EUROPEAN COMMISSION",null,null,null,null,null,null,null,null,null,null,null,null,null,null,null,null,null,null,null,null,null,null,null,null,null,null,null,null,null,null,null,null,null,null,null,null,null,null,null,null,"Week ",{"$f":"'Weekly Piglet prices'!AQ1","v":33}]
[null,"Directorate-General for Agriculture and Rural Development",null,null,null,null,null,null,null,null,null,null,null,null,null,null,null,null,null,null,null,null,null,null,null,null,null,null,null,null,null,null,null,null,null,null,null,null,null,null,"du / from :"]
[null,"C3. Animal Products"]
[null,null,null,null,null,null,null,null,null,null,null,null,null,null,null,null,null,null,"PIG PRICE\n(CLASS S)"]
["Pig carcass (Class S & E) and Piglet prices"]
[null,null,null,null,null,null,null,null,null,null,null,null,null,null,null,null,null,null,"DG-Agri-C3,  Meat sector"]
[null,null,null,null,null,null,null,null,null,null,null," "]
[null,"PIG",null,null,null,null,null,null,null,null,null,null,null,null,null,null,null,null,null,null,null,null,null,null,null,null,null,null,null,null,null,null,null,null,null,null,null,"€ur per 100 kg carcass"]
[null,"Class S",null,"Country Code/Currency",null,null,null,null,null,null,null,null,null,null,null,null,null,null,null,null,null,null,null,null,null,null,null,null,null,null,null,null,null,null,null,null,null,null,null,null,null,null,"Average price"]
[null,{"$f":"[2]COVER!B22","v":2014},null,"BE","BG","BG","CZ","CZ","DK","DK","DE","EE","GR","ES","FR","HR","HR","IE","IT","CY","LV","LT","LT","LU","HU","HU","MT","NL","AT","PL","PL","PT","RO","RO","SI","SK","FI","SE","SE","UK","UK"]
[null,"Weightings from 01/01/2014\nuntil --/--/----",null,{"$f":"VLOOKUP(D$10,'[2]New Pig Coef.'!$A$1:$M$34,12,0)","v":6.8},{"$f":"VLOOKUP(E$10,'[2]New Pig Coef.'!$A$1:$M$34,12,0)","v":0},null,{"$f":"VLOOKUP(G$10,'[2]New Pig Coef.'!$A$1:$M$34,12,0)","v":0.6},null,{"$f":"VLOOKUP(I$10,'[2]New Pig Coef.'!$A$1:$M$34,12,0)","v":9.5},null,{"$f":"VLOOKUP(K$10,'[2]New Pig Coef.'!$A$1:$M$34,12,0)","v":15.8},{"$f":"VLOOKUP(L$10,'[2]New Pig Coef.'!$A$1:$M$34,12,0)","v":0.2},{"$f":"VLOOKUP(M$10,'[2]New Pig Coef.'!$A$1:$M$34,12,0)","v":0.8},{"$f":"VLOOKUP(N$10,'[2]New Pig Coef.'!$A$1:$M$34,12,0)","v":27.4},{"$f":"VLOOKUP(O$10,'[2]New Pig Coef.'!$A$1:$M$34,12,0)","v":11.8},{"$f":"VLOOKUP(P$10,'[2]New Pig Coef.'!$A$1:$M$34,12,0)","v":0.6},null,{"$f":"VLOOKUP(R$10,'[2]New Pig Coef.'!$A$1:$M$34,12,0)","v":0.4},{"$f":"VLOOKUP(S$10,'[2]New Pig Coef.'!$A$1:$M$34,12,0)","v":0},{"$f":"VLOOKUP(T$10,'[2]New Pig Coef.'!$A$1:$M$34,12,0)","v":0.2},{"$f":"VLOOKUP(U$10,'[2]New Pig Coef.'!$A$1:$M$34,12,0)","v":0.3},{"$f":"VLOOKUP(V$10,'[2]New Pig Coef.'!$A$1:$M$34,12,0)","v":0.5},null,{"$f":"VLOOKUP(X$10,'[2]New Pig Coef.'!$A$1:$M$34,12,0)","v":0.1},{"$f":"VLOOKUP(Y$10,'[2]New Pig Coef.'!$A$1:$M$34,12,0)","v":1.5},null,{"$f":"VLOOKUP(AA$10,'[2]New Pig Coef.'!$A$1:$M$34,12,0)","v":0},{"$f":"VLOOKUP(AB$10,'[2]New Pig Coef.'!$A$1:$M$34,12,0)","v":7.1},{"$f":"VLOOKUP(AC$10,'[2]New Pig Coef.'!$A$1:$M$34,12,0)","v":2.4},{"$f":"VLOOKUP(AD$10,'[2]New Pig Coef.'!$A$1:$M$34,12,0)","v":3},null,{"$f":"VLOOKUP(AF$10,'[2]New Pig Coef.'!$A$1:$M$34,12,0)","v":0.9},{"$f":"VLOOKUP(AG$10,'[2]New Pig Coef.'!$A$1:$M$34,12,0)","v":3.4},null,{"$f":"VLOOKUP(AI$10,'[2]New Pig Coef.'!$A$1:$M$34,12,0)","v":0.3},{"$f":"VLOOKUP(AJ$10,'[2]New Pig Coef.'!$A$1:$M$34,12,0)","v":0.5},{"$f":"VLOOKUP(AK$10,'[2]New Pig Coef.'!$A$1:$M$34,12,0)","v":1},{"$f":"VLOOKUP(AL$10,'[2]New Pig Coef.'!$A$1:$M$34,12,0)","v":0.6},null,{"$f":"VLOOKUP(AN$10,'[2]New Pig Coef.'!$A$1:$M$34,12,0)","v":4.3},null,null,{"$f":"'[2]Class S'!$AQ$11","v":91.399999999999991},{"$f":"'[2]Class S'!$AR$11","v":63.199999999999996}]
[]
[null,"Week beginning","Week N°","EUR","EUR","BGN","EUR","CZK","EUR","DKK","EUR","EUR","EUR","EUR","EUR","EUR","HRK","EUR","EUR","EUR","EUR","EUR","LTL","EUR","EUR","HUF","EUR","EUR","EUR","EUR","PLN","EUR","EUR","RON","EUR","EUR","EUR","EUR","SEK","EUR","GBP",null,"EURO","Compare to previous week"]
[null,"2014"]
[{"$f":"YEAR(B15+3)&TEXT(C15,\"00\")","v":"201401"},"2013-12-30",1,{"$f":"IF('[2]Class S'!D14=0,\"\",'[2]Class S'!D14)","v":""},{"$f":"IF('[2]Class S'!E14=0,\"\",'[2]Class S'!E14)","v":212.13314244810309},{"$f":"IF('[2]Class S'!F14=0,\"\",'[2]Class S'!F14)","v":414.89},{"$f":"IF('[2]Class S'!G14=0,\"\",'[2]Class S'!G14)","v":167.44},{"$f":"IF('[2]Class S'!H14=0,\"\",'[2]Class S'!H14)","v":4600},{"$f":"IF('[2]Class S'!I14=0,\"\",'[2]Class S'!I14)","v":157.12},{"$f":"IF('[2]Class S'!J14=0,\"\",'[2]Class S'!J14)","v":1172},{"$f":"IF('[2]Class S'!K14=0,\"\",'[2]Class S'!K14)","v":""},{"$f":"IF('[2]Class S'!L14=0,\"\",'[2]Class S'!L14)","v":173.73},{"$f":"IF('[2]Class S'!M14=0,\"\",'[2]Class S'!M14)","v":""},{"$f":"IF('[2]Class S'!N14=0,\"\",'[2]Class S'!N14)","v":""},{"$f":"IF('[2]Class S'!O14=0,\"\",'[2]Class S'!O14)","v":""},{"$f":"IF('[2]Class S'!P14=0,\"\",'[2]Class S'!P14)","v":176.57038845859987},{"$f":"IF('[2]Class S'!Q14=0,\"\",'[2]Class S'!Q14)","v":1347},{"$f":"IF('[2]Class S'!R14=0,\"\",'[2]Class S'!R14)","v":""},{"$f":"IF('[2]Class S'!S14=0,\"\",'[2]Class S'!S14)","v":""},{"$f":"IF('[2]Class S'!T14=0,\"\",'[2]Class S'!T14)","v":""},{"$f":"IF('[2]Class S'!U14=0,\"\",'[2]Class S'!U14)","v":168.34},{"$f":"IF('[2]Class S'!V14=0,\"\",'[2]Class S'!V14)","v":172.52},{"$f":"IF('[2]Class S'!W14=0,\"\",'[2]Class S'!W14)","v":595.69000000000005},{"$f":"IF('[2]Class S'!X14=0,\"\",'[2]Class S'!X14)","v":159.6},{"$f":"IF('[2]Class S'!Y14=0,\"\",'[2]Class S'!Y14)","v":161.36000000000001},{"$f":"IF('[2]Class S'!Z14=0,\"\",'[2]Class S'!Z14)","v":48042.54},{"$f":"IF('[2]Class S'!AA14=0,\"\",'[2]Class S'!AA14)","v":""},{"$f":"IF('[2]Class S'!AB14=0,\"\",'[2]Class S'!AB14)","v":""},{"$f":"IF('[2]Class S'!AC14=0,\"\",'[2]Class S'!AC14)","v":""},{"$f":"IF('[2]Class S'!AD14=0,\"\",'[2]Class S'!AD14)","v":163.78},{"$f":"IF('[2]Class S'!AE14=0,\"\",'[2]Class S'!AE14)","v":681.1},{"$f":"IF('[2]Class S'!AF14=0,\"\",'[2]Class S'!AF14)","v":""},{"$f":"IF('[2]Class S'!AG14=0,\"\",'[2]Class S'!AG14)","v":187.4},{"$f":"IF('[2]Class S'!AH14=0,\"\",'[2]Class S'!AH14)","v":839.18},{"$f":"IF('[2]Class S'!AI14=0,\"\",'[2]Class S'!AI14)","v":""},{"$f":"IF('[2]Class S'!AJ14=0,\"\",'[2]Class S'!AJ14)","v":168.61},{"$f":"IF('[2]Class S'!AK14=0,\"\",'[2]Class S'!AK14)","v":181.48},{"$f":"IF('[2]Class S'!AL14=0,\"\",'[2]Class S'!AL14)","v":188.21800302386342},{"$f":"IF('[2]Class S'!AM14=0,\"\",'[2]Class S'!AM14)","v":1673},{"$f":"IF('[2]Class S'!AN14=0,\"\",'[2]Class S'!AN14)","v":""},{"$f":"IF('[2]Class S'!AO14=0,\"\",'[2]Class S'!AO14)","v":""},{"$f":"IF('[2]Class S'!AP14=0,\"\",'[2]Class S'!AP14)","v":""},{"$f":"'[2]Class S'!$AQ14","v":166.77849693005325}]
["201402",{"$f":"B15+7","v":"2014-01-06"},{"$f":"C15+1","v":2},{"$f":"IF('[2]Class S'!D15=0,\"\",'[2]Class S'!D15)","v":140.69999999999999},{"$f":"IF('[2]Class S'!E15=0,\"\",'[2]Class S'!E15)","v":213.4011657633705},{"$f":"IF('[2]Class S'!F15=0,\"\",'[2]Class S'!F15)","v":417.37},{"$f":"IF('[2]Class S'!G15=0,\"\",'[2]Class S'!G15)","v":164.46241847925094},{"$f":"IF('[2]Class S'!H15=0,\"\",'[2]Class S'!H15)","v":4514},{"$f":"IF('[2]Class S'!I15=0,\"\",'[2]Class S'!I15)","v":157.09},{"$f":"IF('[2]Class S'!J15=0,\"\",'[2]Class S'!J15)","v":1172},{"$f":"IF('[2]Class S'!K15=0,\"\",'[2]Class S'!K15)","v":159.85},{"$f":"IF('[2]Class S'!L15=0,\"\",'[2]Class S'!L15)","v":171.22},{"$f":"IF('[2]Class S'!M15=0,\"\",'[2]Class S'!M15)","v":""},{"$f":"IF('[2]Class S'!N15=0,\"\",'[2]Class S'!N15)","v":""},{"$f":"IF('[2]Class S'!O15=0,\"\",'[2]Class S'!O15)","v":""},{"$f":"IF('[2]Class S'!P15=0,\"\",'[2]Class S'!P15)","v":172.89323239000134},{"$f":"IF('[2]Class S'!Q15=0,\"\",'[2]Class S'!Q15)","v":1319},{"$f":"IF('[2]Class S'!R15=0,\"\",'[2]Class S'!R15)","v":""},{"$f":"IF('[2]Class S'!S15=0,\"\",'[2]Class S'!S15)","v":""},{"$f":"IF('[2]Class S'!T15=0,\"\",'[2]Class S'!T15)","v":""},{"$f":"IF('[2]Class S'!U15=0,\"\",'[2]Class S'!U15)","v":175.03},{"$f":"IF('[2]Class S'!V15=0,\"\",'[2]Class S'!V15)","v":170.51},{"$f":"IF('[2]Class S'!W15=0,\"\",'[2]Class S'!W15)","v":588.74},{"$f":"IF('[2]Class S'!X15=0,\"\",'[2]Class S'!X15)","v":159.30000000000001},{"$f":"IF('[2]Class S'!Y15=0,\"\",'[2]Class S'!Y15)","v":161.54732606425833},{"$f":"IF('[2]Class S'!Z15=0,\"\",'[2]Class S'!Z15)","v":48405.81},{"$f":"IF('[2]Class S'!AA15=0,\"\",'[2]Class S'!AA15)","v":""},{"$f":"IF('[2]Class S'!AB15=0,\"\",'[2]Class S'!AB15)","v":""},{"$f":"IF('[2]Class S'!AC15=0,\"\",'[2]Class S'!AC15)","v":168.24},{"$f":"IF('[2]Class S'!AD15=0,\"\",'[2]Class S'!AD15)","v":160.91},{"$f":"IF('[2]Class S'!AE15=0,\"\",'[2]Class S'!AE15)","v":671.71},{"$f":"IF('[2]Class S'!AF15=0,\"\",'[2]Class S'!AF15)","v":""},{"$f":"IF('[2]Class S'!AG15=0,\"\",'[2]Class S'!AG15)","v":185.29},{"$f":"IF('[2]Class S'!AH15=0,\"\",'[2]Class S'!AH15)","v":836.29},{"$f":"IF('[2]Class S'!AI15=0,\"\",'[2]Class S'!AI15)","v":""},{"$f":"IF('[2]Class S'!AJ15=0,\"\",'[2]Class S'!AJ15)","v":166.33},{"$f":"IF('[2]Class S'!AK15=0,\"\",'[2]Class S'!AK15)","v":178.12},{"$f":"IF('[2]Class S'!AL15=0,\"\",'[2]Class S'!AL15)","v":187.92475893498343},{"$f":"IF('[2]Class S'!AM15=0,\"\",'[2]Class S'!AM15)","v":1669},{"$f":"IF('[2]Class S'!AN15=0,\"\",'[2]Class S'!AN15)","v":202.71143785498197},{"$f":"IF('[2]Class S'!AO15=0,\"\",'[2]Class S'!AO15)","v":168},{"$f":"IF('[2]Class S'!AP15=0,\"\",'[2]Class S'!AP15)","v":""},{"$f":"'[2]Class S'!$AQ15","v":163.78875855957656},{"$f":"(AQ16/AQ15)-1","v":-1.7926401937358727E-2}]
["201403","2014-01-13",3,{"$f":"IF('[2]Class S'!D16=0,\"\",'[2]Class S'!D16)","v":141.4},{"$f":"IF('[2]Class S'!E16=0,\"\",'[2]Class S'!E16)","v":228.60721955210147},{"$f":"IF('[2]Class S'!F16=0,\"\",'[2]Class S'!F16)","v":447.11},{"$f":"IF('[2]Class S'!G16=0,\"\",'[2]Class S'!G16)","v":163.50184058023837},{"$f":"IF('[2]Class S'!H16=0,\"\",'[2]Class S'!H16)","v":4486},{"$f":"IF('[2]Class S'!I16=0,\"\",'[2]Class S'!I16)","v":157.0609463094315},{"$f":"IF('[2]Class S'!J16=0,\"\",'[2]Class S'!J16)","v":1172},{"$f":"IF('[2]Class S'!K16=0,\"\",'[2]Class S'!K16)","v":160.94999999999999},{"$f":"IF('[2]Class S'!L16=0,\"\",'[2]Class S'!L16)","v":178.83},{"$f":"IF('[2]Class S'!M16=0,\"\",'[2]Class S'!M16)","v":""},{"$f":"IF('[2]Class S'!N16=0,\"\",'[2]Class S'!N16)","v":""},{"$f":"IF('[2]Class S'!O16=0,\"\",'[2]Class S'!O16)","v":""},{"$f":"IF('[2]Class S'!P16=0,\"\",'[2]Class S'!P16)","v":178.44700346891835},{"$f":"IF('[2]Class S'!Q16=0,\"\",'[2]Class S'!Q16)","v":1361},{"$f":"IF('[2]Class S'!R16=0,\"\",'[2]Class S'!R16)","v":""},{"$f":"IF('[2]Class S'!S16=0,\"\",'[2]Class S'!S16)","v":""},{"$f":"IF('[2]Class S'!T16=0,\"\",'[2]Class S'!T16)","v":""},{"$f":"IF('[2]Class S'!U16=0,\"\",'[2]Class S'!U16)","v":171.26},{"$f":"IF('[2]Class S'!V16=0,\"\",'[2]Class S'!V16)","v":169.30317423540316},{"$f":"IF('[2]Class S'!W16=0,\"\",'[2]Class S'!W16)","v":584.57000000000005},{"$f":"IF('[2]Class S'!X16=0,\"\",'[2]Class S'!X16)","v":161},{"$f":"IF('[2]Class S'!Y16=0,\"\",'[2]Class S'!Y16)","v":160.8314184636921},{"$f":"IF('[2]Class S'!Z16=0,\"\",'[2]Class S'!Z16)","v":48254.71},{"$f":"IF('[2]Class S'!AA16=0,\"\",'[2]Class S'!AA16)","v":237},{"$f":"IF('[2]Class S'!AB16=0,\"\",'[2]Class S'!AB16)","v":""},{"$f":"IF('[2]Class S'!AC16=0,\"\",'[2]Class S'!AC16)","v":168.34},{"$f":"IF('[2]Class S'!AD16=0,\"\",'[2]Class S'!AD16)","v":160.58279418578709},{"$f":"IF('[2]Class S'!AE16=0,\"\",'[2]Class S'!AE16)","v":668.38},{"$f":"IF('[2]Class S'!AF16=0,\"\",'[2]Class S'!AF16)","v":""},{"$f":"IF('[2]Class S'!AG16=0,\"\",'[2]Class S'!AG16)","v":180.50490750929322},{"$f":"IF('[2]Class S'!AH16=0,\"\",'[2]Class S'!AH16)","v":817.86},{"$f":"IF('[2]Class S'!AI16=0,\"\",'[2]Class S'!AI16)","v":""},{"$f":"IF('[2]Class S'!AJ16=0,\"\",'[2]Class S'!AJ16)","v":167.48},{"$f":"IF('[2]Class S'!AK16=0,\"\",'[2]Class S'!AK16)","v":178.72},{"$f":"IF('[2]Class S'!AL16=0,\"\",'[2]Class S'!AL16)","v":188.90008590591188},{"$f":"IF('[2]Class S'!AM16=0,\"\",'[2]Class S'!AM16)","v":1667},{"$f":"IF('[2]Class S'!AN16=0,\"\",'[2]Class S'!AN16)","v":200.79229749048378},{"$f":"IF('[2]Class S'!AO16=0,\"\",'[2]Class S'!AO16)","v":166.54},{"$f":"IF('[2]Class S'!AP16=0,\"\",'[2]Class S'!AP16)","v":""},{"$f":"'[2]Class S'!$AQ16","v":163.78882592014884},4.1126492966725436E-7]
["201404","2014-01-20",4,{"$f":"IF('[2]Class S'!D17=0,\"\",'[2]Class S'!D17)","v":144.5},{"$f":"IF('[2]Class S'!E17=0,\"\",'[2]Class S'!E17)","v":213.65681562531958},{"$f":"IF('[2]Class S'!F17=0,\"\",'[2]Class S'!F17)","v":417.87},{"$f":"IF('[2]Class S'!G17=0,\"\",'[2]Class S'!G17)","v":161.32432039540632},{"$f":"IF('[2]Class S'!H17=0,\"\",'[2]Class S'!H17)","v":4439},{"$f":"IF('[2]Class S'!I17=0,\"\",'[2]Class S'!I17)","v":154.51266578858699},{"$f":"IF('[2]Class S'!J17=0,\"\",'[2]Class S'!J17)","v":1153},{"$f":"IF('[2]Class S'!K17=0,\"\",'[2]Class S'!K17)","v":164.75},{"$f":"IF('[2]Class S'!L17=0,\"\",'[2]Class S'!L17)","v":171.84},{"$f":"IF('[2]Class S'!M17=0,\"\",'[2]Class S'!M17)","v":""},{"$f":"IF('[2]Class S'!N17=0,\"\",'[2]Class S'!N17)","v":""},{"$f":"IF('[2]Class S'!O17=0,\"\",'[2]Class S'!O17)","v":""},{"$f":"IF('[2]Class S'!P17=0,\"\",'[2]Class S'!P17)","v":170.71191055952661},{"$f":"IF('[2]Class S'!Q17=0,\"\",'[2]Class S'!Q17)","v":1304},{"$f":"IF('[2]Class S'!R17=0,\"\",'[2]Class S'!R17)","v":""},{"$f":"IF('[2]Class S'!S17=0,\"\",'[2]Class S'!S17)","v":""},{"$f":"IF('[2]Class S'!T17=0,\"\",'[2]Class S'!T17)","v":""},{"$f":"IF('[2]Class S'!U17=0,\"\",'[2]Class S'!U17)","v":185.98},{"$f":"IF('[2]Class S'!V17=0,\"\",'[2]Class S'!V17)","v":169.81580166821132},{"$f":"IF('[2]Class S'!W17=0,\"\",'[2]Class S'!W17)","v":586.34},{"$f":"IF('[2]Class S'!X17=0,\"\",'[2]Class S'!X17)","v":164.6},{"$f":"IF('[2]Class S'!Y17=0,\"\",'[2]Class S'!Y17)","v":163.08555691150761},{"$f":"IF('[2]Class S'!Z17=0,\"\",'[2]Class S'!Z17)","v":49445.91},{"$f":"IF('[2]Class S'!AA17=0,\"\",'[2]Class S'!AA17)","v":237},{"$f":"IF('[2]Class S'!AB17=0,\"\",'[2]Class S'!AB17)","v":""},{"$f":"IF('[2]Class S'!AC17=0,\"\",'[2]Class S'!AC17)","v":171.3},{"$f":"IF('[2]Class S'!AD17=0,\"\",'[2]Class S'!AD17)","v":161.96372317974573},{"$f":"IF('[2]Class S'!AE17=0,\"\",'[2]Class S'!AE17)","v":676.46},{"$f":"IF('[2]Class S'!AF17=0,\"\",'[2]Class S'!AF17)","v":""},{"$f":"IF('[2]Class S'!AG17=0,\"\",'[2]Class S'!AG17)","v":174.99999999999997},{"$f":"IF('[2]Class S'!AH17=0,\"\",'[2]Class S'!AH17)","v":793.66},{"$f":"IF('[2]Class S'!AI17=0,\"\",'[2]Class S'!AI17)","v":""},{"$f":"IF('[2]Class S'!AJ17=0,\"\",'[2]Class S'!AJ17)","v":166.49},{"$f":"IF('[2]Class S'!AK17=0,\"\",'[2]Class S'!AK17)","v":176.92},{"$f":"IF('[2]Class S'!AL17=0,\"\",'[2]Class S'!AL17)","v":188.90933954362367},{"$f":"IF('[2]Class S'!AM17=0,\"\",'[2]Class S'!AM17)","v":1662},{"$f":"IF('[2]Class S'!AN17=0,\"\",'[2]Class S'!AN17)","v":201.95489372754426},{"$f":"IF('[2]Class S'!AO17=0,\"\",'[2]Class S'!AO17)","v":166.62},{"$f":"IF('[2]Class S'!AP17=0,\"\",'[2]Class S'!AP17)","v":""},{"$f":"'[2]Class S'!$AQ17","v":164.73687335702857},5.7882302504685956E-3]
["201405","2014-01-27",5,{"$f":"IF('[2]Class S'!D18=0,\"\",'[2]Class S'!D18)","v":149},{"$f":"IF('[2]Class S'!E18=0,\"\",'[2]Class S'!E18)","v":214.42376521116682},{"$f":"IF('[2]Class S'!F18=0,\"\",'[2]Class S'!F18)","v":419.37},{"$f":"IF('[2]Class S'!G18=0,\"\",'[2]Class S'!G18)","v":162.20846029661394},{"$f":"IF('[2]Class S'!H18=0,\"\",'[2]Class S'!H18)","v":4464},{"$f":"IF('[2]Class S'!I18=0,\"\",'[2]Class S'!I18)","v":154.51266578858699},{"$f":"IF('[2]Class S'!J18=0,\"\",'[2]Class S'!J18)","v":1153},{"$f":"IF('[2]Class S'!K18=0,\"\",'[2]Class S'!K18)","v":166.63},{"$f":"IF('[2]Class S'!L18=0,\"\",'[2]Class S'!L18)","v":170.89},{"$f":"IF('[2]Class S'!M18=0,\"\",'[2]Class S'!M18)","v":""},{"$f":"IF('[2]Class S'!N18=0,\"\",'[2]Class S'!N18)","v":""},{"$f":"IF('[2]Class S'!O18=0,\"\",'[2]Class S'!O18)","v":""},{"$f":"IF('[2]Class S'!P18=0,\"\",'[2]Class S'!P18)","v":169.55483219132674},{"$f":"IF('[2]Class S'!Q18=0,\"\",'[2]Class S'!Q18)","v":1297},{"$f":"IF('[2]Class S'!R18=0,\"\",'[2]Class S'!R18)","v":""},{"$f":"IF('[2]Class S'!S18=0,\"\",'[2]Class S'!S18)","v":""},{"$f":"IF('[2]Class S'!T18=0,\"\",'[2]Class S'!T18)","v":""},{"$f":"IF('[2]Class S'!U18=0,\"\",'[2]Class S'!U18)","v":168.92},{"$f":"IF('[2]Class S'!V18=0,\"\",'[2]Class S'!V18)","v":170.71362372567194},{"$f":"IF('[2]Class S'!W18=0,\"\",'[2]Class S'!W18)","v":589.44000000000005},{"$f":"IF('[2]Class S'!X18=0,\"\",'[2]Class S'!X18)","v":164.6},{"$f":"IF('[2]Class S'!Y18=0,\"\",'[2]Class S'!Y18)","v":166.39820485402291},{"$f":"IF('[2]Class S'!Z18=0,\"\",'[2]Class S'!Z18)","v":51352.15},{"$f":"IF('[2]Class S'!AA18=0,\"\",'[2]Class S'!AA18)","v":237},{"$f":"IF('[2]Class S'!AB18=0,\"\",'[2]Class S'!AB18)","v":""},{"$f":"IF('[2]Class S'!AC18=0,\"\",'[2]Class S'!AC18)","v":175.61},{"$f":"IF('[2]Class S'!AD18=0,\"\",'[2]Class S'!AD18)","v":163.53910997511724},{"$f":"IF('[2]Class S'!AE18=0,\"\",'[2]Class S'!AE18)","v":690.1},{"$f":"IF('[2]Class S'!AF18=0,\"\",'[2]Class S'!AF18)","v":""},{"$f":"IF('[2]Class S'!AG18=0,\"\",'[2]Class S'!AG18)","v":173.1112839286053},{"$f":"IF('[2]Class S'!AH18=0,\"\",'[2]Class S'!AH18)","v":782.28},{"$f":"IF('[2]Class S'!AI18=0,\"\",'[2]Class S'!AI18)","v":""},{"$f":"IF('[2]Class S'!AJ18=0,\"\",'[2]Class S'!AJ18)","v":169.98},{"$f":"IF('[2]Class S'!AK18=0,\"\",'[2]Class S'!AK18)","v":177.65},{"$f":"IF('[2]Class S'!AL18=0,\"\",'[2]Class S'!AL18)","v":190.2451057208709},{"$f":"IF('[2]Class S'!AM18=0,\"\",'[2]Class S'!AM18)","v":1679},{"$f":"IF('[2]Class S'!AN18=0,\"\",'[2]Class S'!AN18)","v":201.95489372754426},{"$f":"IF('[2]Class S'!AO18=0,\"\",'[2]Class S'!AO18)","v":166.62},{"$f":"IF('[2]Class S'!AP18=0,\"\",'[2]Class S'!AP18)","v":""},{"$f":"'[2]Class S'!$AQ18","v":166.14161151394171},8.5271629131185023E-3]
["201406","2014-02-03",6,{"$f":"IF('[2]Class S'!D19=0,\"\",'[2]Class S'!D19)","v":145.4},{"$f":"IF('[2]Class S'!E19=0,\"\",'[2]Class S'!E19)","v":216.28489620615608},{"$f":"IF('[2]Class S'!F19=0,\"\",'[2]Class S'!F19)","v":423.01},{"$f":"IF('[2]Class S'!G19=0,\"\",'[2]Class S'!G19)","v":161.89655440939038},{"$f":"IF('[2]Class S'!H19=0,\"\",'[2]Class S'!H19)","v":4455},{"$f":"IF('[2]Class S'!I19=0,\"\",'[2]Class S'!I19)","v":154.51236998734575},{"$f":"IF('[2]Class S'!J19=0,\"\",'[2]Class S'!J19)","v":1153},{"$f":"IF('[2]Class S'!K19=0,\"\",'[2]Class S'!K19)","v":162.72},{"$f":"IF('[2]Class S'!L19=0,\"\",'[2]Class S'!L19)","v":168.13},{"$f":"IF('[2]Class S'!M19=0,\"\",'[2]Class S'!M19)","v":""},{"$f":"IF('[2]Class S'!N19=0,\"\",'[2]Class S'!N19)","v":""},{"$f":"IF('[2]Class S'!O19=0,\"\",'[2]Class S'!O19)","v":""},{"$f":"IF('[2]Class S'!P19=0,\"\",'[2]Class S'!P19)","v":169.53456888100467},{"$f":"IF('[2]Class S'!Q19=0,\"\",'[2]Class S'!Q19)","v":1297},{"$f":"IF('[2]Class S'!R19=0,\"\",'[2]Class S'!R19)","v":""},{"$f":"IF('[2]Class S'!S19=0,\"\",'[2]Class S'!S19)","v":""},{"$f":"IF('[2]Class S'!T19=0,\"\",'[2]Class S'!T19)","v":""},{"$f":"IF('[2]Class S'!U19=0,\"\",'[2]Class S'!U19)","v":166.29},{"$f":"IF('[2]Class S'!V19=0,\"\",'[2]Class S'!V19)","v":169.91427247451344},{"$f":"IF('[2]Class S'!W19=0,\"\",'[2]Class S'!W19)","v":586.67999999999995},{"$f":"IF('[2]Class S'!X19=0,\"\",'[2]Class S'!X19)","v":165},{"$f":"IF('[2]Class S'!Y19=0,\"\",'[2]Class S'!Y19)","v":167.79895063750851},{"$f":"IF('[2]Class S'!Z19=0,\"\",'[2]Class S'!Z19)","v":51946.48},{"$f":"IF('[2]Class S'!AA19=0,\"\",'[2]Class S'!AA19)","v":237},{"$f":"IF('[2]Class S'!AB19=0,\"\",'[2]Class S'!AB19)","v":""},{"$f":"IF('[2]Class S'!AC19=0,\"\",'[2]Class S'!AC19)","v":175.59},{"$f":"IF('[2]Class S'!AD19=0,\"\",'[2]Class S'!AD19)","v":161.741334266466},{"$f":"IF('[2]Class S'!AE19=0,\"\",'[2]Class S'!AE19)","v":680.12},{"$f":"IF('[2]Class S'!AF19=0,\"\",'[2]Class S'!AF19)","v":""},{"$f":"IF('[2]Class S'!AG19=0,\"\",'[2]Class S'!AG19)","v":171.38898820164462},{"$f":"IF('[2]Class S'!AH19=0,\"\",'[2]Class S'!AH19)","v":767},{"$f":"IF('[2]Class S'!AI19=0,\"\",'[2]Class S'!AI19)","v":""},{"$f":"IF('[2]Class S'!AJ19=0,\"\",'[2]Class S'!AJ19)","v":166.82},{"$f":"IF('[2]Class S'!AK19=0,\"\",'[2]Class S'!AK19)","v":177.04},{"$f":"IF('[2]Class S'!AL19=0,\"\",'[2]Class S'!AL19)","v":189.93532917105568},{"$f":"IF('[2]Class S'!AM19=0,\"\",'[2]Class S'!AM19)","v":1678},{"$f":"IF('[2]Class S'!AN19=0,\"\",'[2]Class S'!AN19)","v":198.06},{"$f":"IF('[2]Class S'!AO19=0,\"\",'[2]Class S'!AO19)","v":164.11},{"$f":"IF('[2]Class S'!AP19=0,\"\",'[2]Class S'!AP19)","v":""},{"$f":"'[2]Class S'!$AQ19","v":163.96325860901604},-1.3111422750000656E-2]
["201407","2014-02-10",7,{"$f":"IF('[2]Class S'!D20=0,\"\",'[2]Class S'!D20)","v":142.19999999999999},{"$f":"IF('[2]Class S'!E20=0,\"\",'[2]Class S'!E20)","v":211.50424378770839},{"$f":"IF('[2]Class S'!F20=0,\"\",'[2]Class S'!F20)","v":413.66},{"$f":"IF('[2]Class S'!G20=0,\"\",'[2]Class S'!G20)","v":160.71474950003895},{"$f":"IF('[2]Class S'!H20=0,\"\",'[2]Class S'!H20)","v":4420},{"$f":"IF('[2]Class S'!I20=0,\"\",'[2]Class S'!I20)","v":154.51384900487795},{"$f":"IF('[2]Class S'!J20=0,\"\",'[2]Class S'!J20)","v":1153},{"$f":"IF('[2]Class S'!K20=0,\"\",'[2]Class S'!K20)","v":159.12},{"$f":"IF('[2]Class S'!L20=0,\"\",'[2]Class S'!L20)","v":170.8},{"$f":"IF('[2]Class S'!M20=0,\"\",'[2]Class S'!M20)","v":""},{"$f":"IF('[2]Class S'!N20=0,\"\",'[2]Class S'!N20)","v":""},{"$f":"IF('[2]Class S'!O20=0,\"\",'[2]Class S'!O20)","v":""},{"$f":"IF('[2]Class S'!P20=0,\"\",'[2]Class S'!P20)","v":166.72110798980856},{"$f":"IF('[2]Class S'!Q20=0,\"\",'[2]Class S'!Q20)","v":1276},{"$f":"IF('[2]Class S'!R20=0,\"\",'[2]Class S'!R20)","v":""},{"$f":"IF('[2]Class S'!S20=0,\"\",'[2]Class S'!S20)","v":""},{"$f":"IF('[2]Class S'!T20=0,\"\",'[2]Class S'!T20)","v":""},{"$f":"IF('[2]Class S'!U20=0,\"\",'[2]Class S'!U20)","v":161.06},{"$f":"IF('[2]Class S'!V20=0,\"\",'[2]Class S'!V20)","v":166.2969184430028},{"$f":"IF('[2]Class S'!W20=0,\"\",'[2]Class S'!W20)","v":574.19000000000005},{"$f":"IF('[2]Class S'!X20=0,\"\",'[2]Class S'!X20)","v":159.9},{"$f":"IF('[2]Class S'!Y20=0,\"\",'[2]Class S'!Y20)","v":160.73902715766948},{"$f":"IF('[2]Class S'!Z20=0,\"\",'[2]Class S'!Z20)","v":49785.01},{"$f":"IF('[2]Class S'!AA20=0,\"\",'[2]Class S'!AA20)","v":237},{"$f":"IF('[2]Class S'!AB20=0,\"\",'[2]Class S'!AB20)","v":""},{"$f":"IF('[2]Class S'!AC20=0,\"\",'[2]Class S'!AC20)","v":168.82},{"$f":"IF('[2]Class S'!AD20=0,\"\",'[2]Class S'!AD20)","v":154.58355321321611},{"$f":"IF('[2]Class S'!AE20=0,\"\",'[2]Class S'!AE20)","v":644.45000000000005},{"$f":"IF('[2]Class S'!AF20=0,\"\",'[2]Class S'!AF20)","v":""},{"$f":"IF('[2]Class S'!AG20=0,\"\",'[2]Class S'!AG20)","v":166.60877545752643},{"$f":"IF('[2]Class S'!AH20=0,\"\",'[2]Class S'!AH20)","v":746.9},{"$f":"IF('[2]Class S'!AI20=0,\"\",'[2]Class S'!AI20)","v":""},{"$f":"IF('[2]Class S'!AJ20=0,\"\",'[2]Class S'!AJ20)","v":164.98},{"$f":"IF('[2]Class S'!AK20=0,\"\",'[2]Class S'!AK20)","v":178.12},{"$f":"IF('[2]Class S'!AL20=0,\"\",'[2]Class S'!AL20)","v":187.10521168429008},{"$f":"IF('[2]Class S'!AM20=0,\"\",'[2]Class S'!AM20)","v":1652},{"$f":"IF('[2]Class S'!AN20=0,\"\",'[2]Class S'!AN20)","v":197.66},{"$f":"IF('[2]Class S'!AO20=0,\"\",'[2]Class S'!AO20)","v":163.13999999999999},{"$f":"IF('[2]Class S'!AP20=0,\"\",'[2]Class S'!AP20)","v":""},{"$f":"'[2]Class S'!$AQ20","v":160.9848082463337},-1.816535233533445E-2]
["201408","2014-02-17",8,{"$f":"IF('[2]Class S'!D21=0,\"\",'[2]Class S'!D21)","v":140.30000000000001},{"$f":"IF('[2]Class S'!E21=0,\"\",'[2]Class S'!E21)","v":213.94314347070255},{"$f":"IF('[2]Class S'!F21=0,\"\",'[2]Class S'!F21)","v":418.43},{"$f":"IF('[2]Class S'!G21=0,\"\",'[2]Class S'!G21)","v":159.76784932106881},{"$f":"IF('[2]Class S'!H21=0,\"\",'[2]Class S'!H21)","v":4377},{"$f":"IF('[2]Class S'!I21=0,\"\",'[2]Class S'!I21)","v":151.16127698351318},{"$f":"IF('[2]Class S'!J21=0,\"\",'[2]Class S'!J21)","v":1128},{"$f":"IF('[2]Class S'!K21=0,\"\",'[2]Class S'!K21)","v":157.91999999999999},{"$f":"IF('[2]Class S'!L21=0,\"\",'[2]Class S'!L21)","v":168.73},{"$f":"IF('[2]Class S'!M21=0,\"\",'[2]Class S'!M21)","v":""},{"$f":"IF('[2]Class S'!N21=0,\"\",'[2]Class S'!N21)","v":""},{"$f":"IF('[2]Class S'!O21=0,\"\",'[2]Class S'!O21)","v":""},{"$f":"IF('[2]Class S'!P21=0,\"\",'[2]Class S'!P21)","v":162.44356880039666},{"$f":"IF('[2]Class S'!Q21=0,\"\",'[2]Class S'!Q21)","v":1245},{"$f":"IF('[2]Class S'!R21=0,\"\",'[2]Class S'!R21)","v":""},{"$f":"IF('[2]Class S'!S21=0,\"\",'[2]Class S'!S21)","v":""},{"$f":"IF('[2]Class S'!T21=0,\"\",'[2]Class S'!T21)","v":""},{"$f":"IF('[2]Class S'!U21=0,\"\",'[2]Class S'!U21)","v":162.02000000000001},{"$f":"IF('[2]Class S'!V21=0,\"\",'[2]Class S'!V21)","v":158.74362835959224},{"$f":"IF('[2]Class S'!W21=0,\"\",'[2]Class S'!W21)","v":548.11},{"$f":"IF('[2]Class S'!X21=0,\"\",'[2]Class S'!X21)","v":158.30000000000001},{"$f":"IF('[2]Class S'!Y21=0,\"\",'[2]Class S'!Y21)","v":157.67668686312311},{"$f":"IF('[2]Class S'!Z21=0,\"\",'[2]Class S'!Z21)","v":49073.49},{"$f":"IF('[2]Class S'!AA21=0,\"\",'[2]Class S'!AA21)","v":237},{"$f":"IF('[2]Class S'!AB21=0,\"\",'[2]Class S'!AB21)","v":""},{"$f":"IF('[2]Class S'!AC21=0,\"\",'[2]Class S'!AC21)","v":168.78},{"$f":"IF('[2]Class S'!AD21=0,\"\",'[2]Class S'!AD21)","v":148.38670927131633},{"$f":"IF('[2]Class S'!AE21=0,\"\",'[2]Class S'!AE21)","v":617.63},{"$f":"IF('[2]Class S'!AF21=0,\"\",'[2]Class S'!AF21)","v":""},{"$f":"IF('[2]Class S'!AG21=0,\"\",'[2]Class S'!AG21)","v":161.39400665926749},{"$f":"IF('[2]Class S'!AH21=0,\"\",'[2]Class S'!AH21)","v":727.08},{"$f":"IF('[2]Class S'!AI21=0,\"\",'[2]Class S'!AI21)","v":169.53},{"$f":"IF('[2]Class S'!AJ21=0,\"\",'[2]Class S'!AJ21)","v":161.72999999999999},{"$f":"IF('[2]Class S'!AK21=0,\"\",'[2]Class S'!AK21)","v":175.01},{"$f":"IF('[2]Class S'!AL21=0,\"\",'[2]Class S'!AL21)","v":185.39381286516561},{"$f":"IF('[2]Class S'!AM21=0,\"\",'[2]Class S'!AM21)","v":1655},{"$f":"IF('[2]Class S'!AN21=0,\"\",'[2]Class S'!AN21)","v":198.05466813597855},{"$f":"IF('[2]Class S'!AO21=0,\"\",'[2]Class S'!AO21)","v":162.78},{"$f":"IF('[2]Class S'!AP21=0,\"\",'[2]Class S'!AP21)","v":""},{"$f":"'[2]Class S'!$AQ21","v":158.77783925778212},-1.3709175496699921E-2]
[null,"2014-02-24",9,{"$f":"IF('[2]Class S'!D22=0,\"\",'[2]Class S'!D22)","v":137.69999999999999},{"$f":"IF('[2]Class S'!E22=0,\"\",'[2]Class S'!E22)","v":211.1667859699356},{"$f":"IF('[2]Class S'!F22=0,\"\",'[2]Class S'!F22)","v":413},{"$f":"IF('[2]Class S'!G22=0,\"\",'[2]Class S'!G22)","v":160.16465720793198},{"$f":"IF('[2]Class S'!H22=0,\"\",'[2]Class S'!H22)","v":4380},{"$f":"IF('[2]Class S'!I22=0,\"\",'[2]Class S'!I22)","v":148.74485758206333},{"$f":"IF('[2]Class S'!J22=0,\"\",'[2]Class S'!J22)","v":1110},{"$f":"IF('[2]Class S'!K22=0,\"\",'[2]Class S'!K22)","v":155.52000000000001},{"$f":"IF('[2]Class S'!L22=0,\"\",'[2]Class S'!L22)","v":169.23},{"$f":"IF('[2]Class S'!M22=0,\"\",'[2]Class S'!M22)","v":""},{"$f":"IF('[2]Class S'!N22=0,\"\",'[2]Class S'!N22)","v":""},{"$f":"IF('[2]Class S'!O22=0,\"\",'[2]Class S'!O22)","v":""},{"$f":"IF('[2]Class S'!P22=0,\"\",'[2]Class S'!P22)","v":163.05178941086515},{"$f":"IF('[2]Class S'!Q22=0,\"\",'[2]Class S'!Q22)","v":1249},{"$f":"IF('[2]Class S'!R22=0,\"\",'[2]Class S'!R22)","v":""},{"$f":"IF('[2]Class S'!S22=0,\"\",'[2]Class S'!S22)","v":""},{"$f":"IF('[2]Class S'!T22=0,\"\",'[2]Class S'!T22)","v":""},{"$f":"IF('[2]Class S'!U22=0,\"\",'[2]Class S'!U22)","v":152.55000000000001},{"$f":"IF('[2]Class S'!V22=0,\"\",'[2]Class S'!V22)","v":149.34545875810934},{"$f":"IF('[2]Class S'!W22=0,\"\",'[2]Class S'!W22)","v":515.66},{"$f":"IF('[2]Class S'!X22=0,\"\",'[2]Class S'!X22)","v":156.30000000000001},{"$f":"IF('[2]Class S'!Y22=0,\"\",'[2]Class S'!Y22)","v":157.72912487347011},{"$f":"IF('[2]Class S'!Z22=0,\"\",'[2]Class S'!Z22)","v":48972.639999999999},{"$f":"IF('[2]Class S'!AA22=0,\"\",'[2]Class S'!AA22)","v":237},{"$f":"IF('[2]Class S'!AB22=0,\"\",'[2]Class S'!AB22)","v":""},{"$f":"IF('[2]Class S'!AC22=0,\"\",'[2]Class S'!AC22)","v":168.68},{"$f":"IF('[2]Class S'!AD22=0,\"\",'[2]Class S'!AD22)","v":138.51550225381294},{"$f":"IF('[2]Class S'!AE22=0,\"\",'[2]Class S'!AE22)","v":576.83000000000004},{"$f":"IF('[2]Class S'!AF22=0,\"\",'[2]Class S'!AF22)","v":""},{"$f":"IF('[2]Class S'!AG22=0,\"\",'[2]Class S'!AG22)","v":157.58026912647929},{"$f":"IF('[2]Class S'!AH22=0,\"\",'[2]Class S'!AH22)","v":710.66},{"$f":"IF('[2]Class S'!AI22=0,\"\",'[2]Class S'!AI22)","v":169.31},{"$f":"IF('[2]Class S'!AJ22=0,\"\",'[2]Class S'!AJ22)","v":161.87},{"$f":"IF('[2]Class S'!AK22=0,\"\",'[2]Class S'!AK22)","v":175.63},{"$f":"IF('[2]Class S'!AL22=0,\"\",'[2]Class S'!AL22)","v":184.93685398971826},{"$f":"IF('[2]Class S'!AM22=0,\"\",'[2]Class S'!AM22)","v":1649},{"$f":"IF('[2]Class S'!AN22=0,\"\",'[2]Class S'!AN22)","v":196.61352646950681},{"$f":"IF('[2]Class S'!AO22=0,\"\",'[2]Class S'!AO22)","v":161.94999999999999},{"$f":"IF('[2]Class S'!AP22=0,\"\",'[2]Class S'!AP22)","v":""},{"$f":"'[2]Class S'!$AQ22","v":156.16729824308015},{"$f":"(AQ23/AQ22)-1","v":-1.6441469583571067E-2}]
[null,"2014-03-03",10,{"$f":"IF('[2]Class S'!D23=0,\"\",'[2]Class S'!D23)","v":135.5},{"$f":"IF('[2]Class S'!E23=0,\"\",'[2]Class S'!E23)","v":210.6657122405154},{"$f":"IF('[2]Class S'!F23=0,\"\",'[2]Class S'!F23)","v":412.02},{"$f":"IF('[2]Class S'!G23=0,\"\",'[2]Class S'!G23)","v":158.94050112562616},{"$f":"IF('[2]Class S'!H23=0,\"\",'[2]Class S'!H23)","v":4347},{"$f":"IF('[2]Class S'!I23=0,\"\",'[2]Class S'!I23)","v":145.92517864970873},{"$f":"IF('[2]Class S'!J23=0,\"\",'[2]Class S'!J23)","v":1089},{"$f":"IF('[2]Class S'!K23=0,\"\",'[2]Class S'!K23)","v":153.62},{"$f":"IF('[2]Class S'!L23=0,\"\",'[2]Class S'!L23)","v":161.69},{"$f":"IF('[2]Class S'!M23=0,\"\",'[2]Class S'!M23)","v":""},{"$f":"IF('[2]Class S'!N23=0,\"\",'[2]Class S'!N23)","v":""},{"$f":"IF('[2]Class S'!O23=0,\"\",'[2]Class S'!O23)","v":""},{"$f":"IF('[2]Class S'!P23=0,\"\",'[2]Class S'!P23)","v":163.05178941086515},{"$f":"IF('[2]Class S'!Q23=0,\"\",'[2]Class S'!Q23)","v":1249},{"$f":"IF('[2]Class S'!R23=0,\"\",'[2]Class S'!R23)","v":""},{"$f":"IF('[2]Class S'!S23=0,\"\",'[2]Class S'!S23)","v":""},{"$f":"IF('[2]Class S'!T23=0,\"\",'[2]Class S'!T23)","v":""},{"$f":"IF('[2]Class S'!U23=0,\"\",'[2]Class S'!U23)","v":148.99},{"$f":"IF('[2]Class S'!V23=0,\"\",'[2]Class S'!V23)","v":143.63125579240037},{"$f":"IF('[2]Class S'!W23=0,\"\",'[2]Class S'!W23)","v":495.93},{"$f":"IF('[2]Class S'!X23=0,\"\",'[2]Class S'!X23)","v":153.9},{"$f":"IF('[2]Class S'!Y23=0,\"\",'[2]Class S'!Y23)","v":154.42694866439081},{"$f":"IF('[2]Class S'!Z23=0,\"\",'[2]Class S'!Z23)","v":47950.45},{"$f":"IF('[2]Class S'!AA23=0,\"\",'[2]Class S'!AA23)","v":237},{"$f":"IF('[2]Class S'!AB23=0,\"\",'[2]Class S'!AB23)","v":""},{"$f":"IF('[2]Class S'!AC23=0,\"\",'[2]Class S'!AC23)","v":168.52},{"$f":"IF('[2]Class S'!AD23=0,\"\",'[2]Class S'!AD23)","v":144.12235576841022},{"$f":"IF('[2]Class S'!AE23=0,\"\",'[2]Class S'!AE23)","v":603.15},{"$f":"IF('[2]Class S'!AF23=0,\"\",'[2]Class S'!AF23)","v":""},{"$f":"IF('[2]Class S'!AG23=0,\"\",'[2]Class S'!AG23)","v":154.78517823342349},{"$f":"IF('[2]Class S'!AH23=0,\"\",'[2]Class S'!AH23)","v":697.42},{"$f":"IF('[2]Class S'!AI23=0,\"\",'[2]Class S'!AI23)","v":169.66},{"$f":"IF('[2]Class S'!AJ23=0,\"\",'[2]Class S'!AJ23)","v":159.37},{"$f":"IF('[2]Class S'!AK23=0,\"\",'[2]Class S'!AK23)","v":173.56},{"$f":"IF('[2]Class S'!AL23=0,\"\",'[2]Class S'!AL23)","v":187.7120655036048},{"$f":"IF('[2]Class S'!AM23=0,\"\",'[2]Class S'!AM23)","v":1662},{"$f":"IF('[2]Class S'!AN23=0,\"\",'[2]Class S'!AN23)","v":196.00242382271469},{"$f":"IF('[2]Class S'!AO23=0,\"\",'[2]Class S'!AO23)","v":161.72999999999999},{"$f":"IF('[2]Class S'!AP23=0,\"\",'[2]Class S'!AP23)","v":""},{"$f":"'[2]Class S'!$AQ23","v":154.60363730400044},{"$f":"(AQ24/AQ23)-1","v":-1.0012729660250685E-2}]
[null,"2014-03-10",11,{"$f":"IF('[2]Class S'!D24=0,\"\",'[2]Class S'!D24)","v":137.5},{"$f":"IF('[2]Class S'!E24=0,\"\",'[2]Class S'!E24)","v":203.59443705900401},{"$f":"IF('[2]Class S'!F24=0,\"\",'[2]Class S'!F24)","v":398.19},{"$f":"IF('[2]Class S'!G24=0,\"\",'[2]Class S'!G24)","v":157.87521871980363},{"$f":"IF('[2]Class S'!H24=0,\"\",'[2]Class S'!H24)","v":4318},{"$f":"IF('[2]Class S'!I24=0,\"\",'[2]Class S'!I24)","v":145.91931272635389},{"$f":"IF('[2]Class S'!J24=0,\"\",'[2]Class S'!J24)","v":1089},{"$f":"IF('[2]Class S'!K24=0,\"\",'[2]Class S'!K24)","v":160.38999999999999},{"$f":"IF('[2]Class S'!L24=0,\"\",'[2]Class S'!L24)","v":162.97999999999999},{"$f":"IF('[2]Class S'!M24=0,\"\",'[2]Class S'!M24)","v":""},{"$f":"IF('[2]Class S'!N24=0,\"\",'[2]Class S'!N24)","v":""},{"$f":"IF('[2]Class S'!O24=0,\"\",'[2]Class S'!O24)","v":""},{"$f":"IF('[2]Class S'!P24=0,\"\",'[2]Class S'!P24)","v":159.07399011524748},{"$f":"IF('[2]Class S'!Q24=0,\"\",'[2]Class S'!Q24)","v":1218},{"$f":"IF('[2]Class S'!R24=0,\"\",'[2]Class S'!R24)","v":""},{"$f":"IF('[2]Class S'!S24=0,\"\",'[2]Class S'!S24)","v":""},{"$f":"IF('[2]Class S'!T24=0,\"\",'[2]Class S'!T24)","v":""},{"$f":"IF('[2]Class S'!U24=0,\"\",'[2]Class S'!U24)","v":150.16999999999999},{"$f":"IF('[2]Class S'!V24=0,\"\",'[2]Class S'!V24)","v":146.7475671918443},{"$f":"IF('[2]Class S'!W24=0,\"\",'[2]Class S'!W24)","v":506.69},{"$f":"IF('[2]Class S'!X24=0,\"\",'[2]Class S'!X24)","v":159.6},{"$f":"IF('[2]Class S'!Y24=0,\"\",'[2]Class S'!Y24)","v":154.40719610458422},{"$f":"IF('[2]Class S'!Z24=0,\"\",'[2]Class S'!Z24)","v":48290.63},{"$f":"IF('[2]Class S'!AA24=0,\"\",'[2]Class S'!AA24)","v":237},{"$f":"IF('[2]Class S'!AB24=0,\"\",'[2]Class S'!AB24)","v":""},{"$f":"IF('[2]Class S'!AC24=0,\"\",'[2]Class S'!AC24)","v":168.73},{"$f":"IF('[2]Class S'!AD24=0,\"\",'[2]Class S'!AD24)","v":148.34642631096187},{"$f":"IF('[2]Class S'!AE24=0,\"\",'[2]Class S'!AE24)","v":626.13},{"$f":"IF('[2]Class S'!AF24=0,\"\",'[2]Class S'!AF24)","v":""},{"$f":"IF('[2]Class S'!AG24=0,\"\",'[2]Class S'!AG24)","v":150.62260004883137},{"$f":"IF('[2]Class S'!AH24=0,\"\",'[2]Class S'!AH24)","v":678.6},{"$f":"IF('[2]Class S'!AI24=0,\"\",'[2]Class S'!AI24)","v":169.03},{"$f":"IF('[2]Class S'!AJ24=0,\"\",'[2]Class S'!AJ24)","v":157.44},{"$f":"IF('[2]Class S'!AK24=0,\"\",'[2]Class S'!AK24)","v":174.36},{"$f":"IF('[2]Class S'!AL24=0,\"\",'[2]Class S'!AL24)","v":186.37978103367288},{"$f":"IF('[2]Class S'!AM24=0,\"\",'[2]Class S'!AM24)","v":1651},{"$f":"IF('[2]Class S'!AN24=0,\"\",'[2]Class S'!AN24)","v":193.17701243889704},{"$f":"IF('[2]Class S'!AO24=0,\"\",'[2]Class S'!AO24)","v":161.18},{"$f":"IF('[2]Class S'!AP24=0,\"\",'[2]Class S'!AP24)","v":""},{"$f":"'[2]Class S'!$AQ24","v":156.66425515876583},{"$f":"(AQ25/AQ24)-1","v":1.3328391819873886E-2}]
[null,"2014-03-17",12,{"$f":"IF('[2]Class S'!D25=0,\"\",'[2]Class S'!D25)","v":149.6},{"$f":"IF('[2]Class S'!E25=0,\"\",'[2]Class S'!E25)","v":208.5438183863381},{"$f":"IF('[2]Class S'!F25=0,\"\",'[2]Class S'!F25)","v":407.87},{"$f":"IF('[2]Class S'!G25=0,\"\",'[2]Class S'!G25)","v":156.84426485597049},{"$f":"IF('[2]Class S'!H25=0,\"\",'[2]Class S'!H25)","v":4303},{"$f":"IF('[2]Class S'!I25=0,\"\",'[2]Class S'!I25)","v":148.31161324526636},{"$f":"IF('[2]Class S'!J25=0,\"\",'[2]Class S'!J25)","v":1107},{"$f":"IF('[2]Class S'!K25=0,\"\",'[2]Class S'!K25)","v":164.81},{"$f":"IF('[2]Class S'!L25=0,\"\",'[2]Class S'!L25)","v":163.93},{"$f":"IF('[2]Class S'!M25=0,\"\",'[2]Class S'!M25)","v":""},{"$f":"IF('[2]Class S'!N25=0,\"\",'[2]Class S'!N25)","v":""},{"$f":"IF('[2]Class S'!O25=0,\"\",'[2]Class S'!O25)","v":""},{"$f":"IF('[2]Class S'!P25=0,\"\",'[2]Class S'!P25)","v":155.22337955408011},{"$f":"IF('[2]Class S'!Q25=0,\"\",'[2]Class S'!Q25)","v":1189},{"$f":"IF('[2]Class S'!R25=0,\"\",'[2]Class S'!R25)","v":""},{"$f":"IF('[2]Class S'!S25=0,\"\",'[2]Class S'!S25)","v":""},{"$f":"IF('[2]Class S'!T25=0,\"\",'[2]Class S'!T25)","v":""},{"$f":"IF('[2]Class S'!U25=0,\"\",'[2]Class S'!U25)","v":147.06},{"$f":"IF('[2]Class S'!V25=0,\"\",'[2]Class S'!V25)","v":154.72949490268769},{"$f":"IF('[2]Class S'!W25=0,\"\",'[2]Class S'!W25)","v":534.25},{"$f":"IF('[2]Class S'!X25=0,\"\",'[2]Class S'!X25)","v":166.6},{"$f":"IF('[2]Class S'!Y25=0,\"\",'[2]Class S'!Y25)","v":165.85080444100845},{"$f":"IF('[2]Class S'!Z25=0,\"\",'[2]Class S'!Z25)","v":51792.6},{"$f":"IF('[2]Class S'!AA25=0,\"\",'[2]Class S'!AA25)","v":237},{"$f":"IF('[2]Class S'!AB25=0,\"\",'[2]Class S'!AB25)","v":""},{"$f":"IF('[2]Class S'!AC25=0,\"\",'[2]Class S'!AC25)","v":177.43},{"$f":"IF('[2]Class S'!AD25=0,\"\",'[2]Class S'!AD25)","v":160.01567733200315},{"$f":"IF('[2]Class S'!AE25=0,\"\",'[2]Class S'!AE25)","v":673.65},{"$f":"IF('[2]Class S'!AF25=0,\"\",'[2]Class S'!AF25)","v":""},{"$f":"IF('[2]Class S'!AG25=0,\"\",'[2]Class S'!AG25)","v":146.68797174006963},{"$f":"IF('[2]Class S'!AH25=0,\"\",'[2]Class S'!AH25)","v":659.66},{"$f":"IF('[2]Class S'!AI25=0,\"\",'[2]Class S'!AI25)","v":177.88},{"$f":"IF('[2]Class S'!AJ25=0,\"\",'[2]Class S'!AJ25)","v":158.09},{"$f":"IF('[2]Class S'!AK25=0,\"\",'[2]Class S'!AK25)","v":172.57},{"$f":"IF('[2]Class S'!AL25=0,\"\",'[2]Class S'!AL25)","v":186.89174730563457},{"$f":"IF('[2]Class S'!AM25=0,\"\",'[2]Class S'!AM25)","v":1654},{"$f":"IF('[2]Class S'!AN25=0,\"\",'[2]Class S'!AN25)","v":192.25},{"$f":"IF('[2]Class S'!AO25=0,\"\",'[2]Class S'!AO25)","v":161.37},{"$f":"IF('[2]Class S'!AP25=0,\"\",'[2]Class S'!AP25)","v":""},{"$f":"'[2]Class S'!$AQ25","v":161.19826947246196},{"$f":"(AQ26/AQ25)-1","v":2.8940962372695056E-2}]
[null,"2014-03-24",13,{"$f":"IF('[2]Class S'!D26=0,\"\",'[2]Class S'!D26)","v":146},{"$f":"IF('[2]Class S'!E26=0,\"\",'[2]Class S'!E26)","v":203.43593414459559},{"$f":"IF('[2]Class S'!F26=0,\"\",'[2]Class S'!F26)","v":397.88},{"$f":"IF('[2]Class S'!G26=0,\"\",'[2]Class S'!G26)","v":159.92374165924397},{"$f":"IF('[2]Class S'!H26=0,\"\",'[2]Class S'!H26)","v":4386},{"$f":"IF('[2]Class S'!I26=0,\"\",'[2]Class S'!I26)","v":150.83319937844936},{"$f":"IF('[2]Class S'!J26=0,\"\",'[2]Class S'!J26)","v":1126},{"$f":"IF('[2]Class S'!K26=0,\"\",'[2]Class S'!K26)","v":162.99},{"$f":"IF('[2]Class S'!L26=0,\"\",'[2]Class S'!L26)","v":164.47},{"$f":"IF('[2]Class S'!M26=0,\"\",'[2]Class S'!M26)","v":""},{"$f":"IF('[2]Class S'!N26=0,\"\",'[2]Class S'!N26)","v":""},{"$f":"IF('[2]Class S'!O26=0,\"\",'[2]Class S'!O26)","v":""},{"$f":"IF('[2]Class S'!P26=0,\"\",'[2]Class S'!P26)","v":156.65358111951363},{"$f":"IF('[2]Class S'!Q26=0,\"\",'[2]Class S'!Q26)","v":1200},{"$f":"IF('[2]Class S'!R26=0,\"\",'[2]Class S'!R26)","v":""},{"$f":"IF('[2]Class S'!S26=0,\"\",'[2]Class S'!S26)","v":""},{"$f":"IF('[2]Class S'!T26=0,\"\",'[2]Class S'!T26)","v":""},{"$f":"IF('[2]Class S'!U26=0,\"\",'[2]Class S'!U26)","v":147.06},{"$f":"IF('[2]Class S'!V26=0,\"\",'[2]Class S'!V26)","v":164.30722891566268},{"$f":"IF('[2]Class S'!W26=0,\"\",'[2]Class S'!W26)","v":567.32000000000005},{"$f":"IF('[2]Class S'!X26=0,\"\",'[2]Class S'!X26)","v":163.30000000000001},{"$f":"IF('[2]Class S'!Y26=0,\"\",'[2]Class S'!Y26)","v":162.47630826560444},{"$f":"IF('[2]Class S'!Z26=0,\"\",'[2]Class S'!Z26)","v":50577.25},{"$f":"IF('[2]Class S'!AA26=0,\"\",'[2]Class S'!AA26)","v":237},{"$f":"IF('[2]Class S'!AB26=0,\"\",'[2]Class S'!AB26)","v":""},{"$f":"IF('[2]Class S'!AC26=0,\"\",'[2]Class S'!AC26)","v":174.64},{"$f":"IF('[2]Class S'!AD26=0,\"\",'[2]Class S'!AD26)","v":159.46224557019923},{"$f":"IF('[2]Class S'!AE26=0,\"\",'[2]Class S'!AE26)","v":667.37},{"$f":"IF('[2]Class S'!AF26=0,\"\",'[2]Class S'!AF26)","v":""},{"$f":"IF('[2]Class S'!AG26=0,\"\",'[2]Class S'!AG26)","v":147.55195817782092},{"$f":"IF('[2]Class S'!AH26=0,\"\",'[2]Class S'!AH26)","v":659.65},{"$f":"IF('[2]Class S'!AI26=0,\"\",'[2]Class S'!AI26)","v":174.62},{"$f":"IF('[2]Class S'!AJ26=0,\"\",'[2]Class S'!AJ26)","v":160.79},{"$f":"IF('[2]Class S'!AK26=0,\"\",'[2]Class S'!AK26)","v":173.72},{"$f":"IF('[2]Class S'!AL26=0,\"\",'[2]Class S'!AL26)","v":187.31489162383122},{"$f":"IF('[2]Class S'!AM26=0,\"\",'[2]Class S'!AM26)","v":1666},{"$f":"IF('[2]Class S'!AN26=0,\"\",'[2]Class S'!AN26)","v":193.95011680637623},{"$f":"IF('[2]Class S'!AO26=0,\"\",'[2]Class S'!AO26)","v":161.30000000000001},{"$f":"IF('[2]Class S'!AP26=0,\"\",'[2]Class S'!AP26)","v":""},{"$f":"'[2]Class S'!$AQ26","v":160.74297074660839},{"$f":"(AQ27/AQ26)-1","v":-2.824464104630775E-3}]
[null,"2014-03-31",14,{"$f":"IF('[2]Class S'!D27=0,\"\",'[2]Class S'!D27)","v":146},{"$f":"IF('[2]Class S'!E27=0,\"\",'[2]Class S'!E27)","v":205.88505982206772},{"$f":"IF('[2]Class S'!F27=0,\"\",'[2]Class S'!F27)","v":402.67},{"$f":"IF('[2]Class S'!G27=0,\"\",'[2]Class S'!G27)","v":159.92374165924397},{"$f":"IF('[2]Class S'!H27=0,\"\",'[2]Class S'!H27)","v":4403},{"$f":"IF('[2]Class S'!I27=0,\"\",'[2]Class S'!I27)","v":150.8297357704908},{"$f":"IF('[2]Class S'!J27=0,\"\",'[2]Class S'!J27)","v":1126},{"$f":"IF('[2]Class S'!K27=0,\"\",'[2]Class S'!K27)","v":166.08},{"$f":"IF('[2]Class S'!L27=0,\"\",'[2]Class S'!L27)","v":164.59},{"$f":"IF('[2]Class S'!M27=0,\"\",'[2]Class S'!M27)","v":""},{"$f":"IF('[2]Class S'!N27=0,\"\",'[2]Class S'!N27)","v":""},{"$f":"IF('[2]Class S'!O27=0,\"\",'[2]Class S'!O27)","v":""},{"$f":"IF('[2]Class S'!P27=0,\"\",'[2]Class S'!P27)","v":160.59695134824091},{"$f":"IF('[2]Class S'!Q27=0,\"\",'[2]Class S'!Q27)","v":1228},{"$f":"IF('[2]Class S'!R27=0,\"\",'[2]Class S'!R27)","v":""},{"$f":"IF('[2]Class S'!S27=0,\"\",'[2]Class S'!S27)","v":""},{"$f":"IF('[2]Class S'!T27=0,\"\",'[2]Class S'!T27)","v":""},{"$f":"IF('[2]Class S'!U27=0,\"\",'[2]Class S'!U27)","v":157.35},{"$f":"IF('[2]Class S'!V27=0,\"\",'[2]Class S'!V27)","v":166.1144578313253},{"$f":"IF('[2]Class S'!W27=0,\"\",'[2]Class S'!W27)","v":573.55999999999995},{"$f":"IF('[2]Class S'!X27=0,\"\",'[2]Class S'!X27)","v":165.4},{"$f":"IF('[2]Class S'!Y27=0,\"\",'[2]Class S'!Y27)","v":162.13101146989388},{"$f":"IF('[2]Class S'!Z27=0,\"\",'[2]Class S'!Z27)","v":49837.22},{"$f":"IF('[2]Class S'!AA27=0,\"\",'[2]Class S'!AA27)","v":237},{"$f":"IF('[2]Class S'!AB27=0,\"\",'[2]Class S'!AB27)","v":""},{"$f":"IF('[2]Class S'!AC27=0,\"\",'[2]Class S'!AC27)","v":175.13},{"$f":"IF('[2]Class S'!AD27=0,\"\",'[2]Class S'!AD27)","v":161.61276846373002},{"$f":"IF('[2]Class S'!AE27=0,\"\",'[2]Class S'!AE27)","v":674.23},{"$f":"IF('[2]Class S'!AF27=0,\"\",'[2]Class S'!AF27)","v":""},{"$f":"IF('[2]Class S'!AG27=0,\"\",'[2]Class S'!AG27)","v":146.49166893416779},{"$f":"IF('[2]Class S'!AH27=0,\"\",'[2]Class S'!AH27)","v":653.74},{"$f":"IF('[2]Class S'!AI27=0,\"\",'[2]Class S'!AI27)","v":174.42},{"$f":"IF('[2]Class S'!AJ27=0,\"\",'[2]Class S'!AJ27)","v":162.22999999999999},{"$f":"IF('[2]Class S'!AK27=0,\"\",'[2]Class S'!AK27)","v":171.91},{"$f":"IF('[2]Class S'!AL27=0,\"\",'[2]Class S'!AL27)","v":188.316415440111},{"$f":"IF('[2]Class S'!AM27=0,\"\",'[2]Class S'!AM27)","v":1683},{"$f":"IF('[2]Class S'!AN27=0,\"\",'[2]Class S'!AN27)","v":195.10671704884655},{"$f":"IF('[2]Class S'!AO27=0,\"\",'[2]Class S'!AO27)","v":161.54},{"$f":"IF('[2]Class S'!AP27=0,\"\",'[2]Class S'!AP27)","v":""},{"$f":"'[2]Class S'!$AQ27","v":161.97465688883514},{"$f":"(AQ28/AQ27)-1","v":7.6624572539993885E-3}]
[null,"2014-04-07",15,{"$f":"IF('[2]Class S'!D28=0,\"\",'[2]Class S'!D28)","v":152.1},{"$f":"IF('[2]Class S'!E28=0,\"\",'[2]Class S'!E28)","v":203.05757234891095},{"$f":"IF('[2]Class S'!F28=0,\"\",'[2]Class S'!F28)","v":397.14},{"$f":"IF('[2]Class S'!G28=0,\"\",'[2]Class S'!G28)","v":163.1298008071866},{"$f":"IF('[2]Class S'!H28=0,\"\",'[2]Class S'!H28)","v":4475},{"$f":"IF('[2]Class S'!I28=0,\"\",'[2]Class S'!I28)","v":150.81819155938584},{"$f":"IF('[2]Class S'!J28=0,\"\",'[2]Class S'!J28)","v":1126},{"$f":"IF('[2]Class S'!K28=0,\"\",'[2]Class S'!K28)","v":169.39},{"$f":"IF('[2]Class S'!L28=0,\"\",'[2]Class S'!L28)","v":166.95},{"$f":"IF('[2]Class S'!M28=0,\"\",'[2]Class S'!M28)","v":""},{"$f":"IF('[2]Class S'!N28=0,\"\",'[2]Class S'!N28)","v":""},{"$f":"IF('[2]Class S'!O28=0,\"\",'[2]Class S'!O28)","v":166},{"$f":"IF('[2]Class S'!P28=0,\"\",'[2]Class S'!P28)","v":167.36440842981892},{"$f":"IF('[2]Class S'!Q28=0,\"\",'[2]Class S'!Q28)","v":1277},{"$f":"IF('[2]Class S'!R28=0,\"\",'[2]Class S'!R28)","v":""},{"$f":"IF('[2]Class S'!S28=0,\"\",'[2]Class S'!S28)","v":""},{"$f":"IF('[2]Class S'!T28=0,\"\",'[2]Class S'!T28)","v":""},{"$f":"IF('[2]Class S'!U28=0,\"\",'[2]Class S'!U28)","v":165.28},{"$f":"IF('[2]Class S'!V28=0,\"\",'[2]Class S'!V28)","v":169.92585727525488},{"$f":"IF('[2]Class S'!W28=0,\"\",'[2]Class S'!W28)","v":586.72},{"$f":"IF('[2]Class S'!X28=0,\"\",'[2]Class S'!X28)","v":170.2},{"$f":"IF('[2]Class S'!Y28=0,\"\",'[2]Class S'!Y28)","v":167.77297738781417},{"$f":"IF('[2]Class S'!Z28=0,\"\",'[2]Class S'!Z28)","v":51354.11},{"$f":"IF('[2]Class S'!AA28=0,\"\",'[2]Class S'!AA28)","v":237},{"$f":"IF('[2]Class S'!AB28=0,\"\",'[2]Class S'!AB28)","v":""},{"$f":"IF('[2]Class S'!AC28=0,\"\",'[2]Class S'!AC28)","v":178.88},{"$f":"IF('[2]Class S'!AD28=0,\"\",'[2]Class S'!AD28)","v":164.69094393866791},{"$f":"IF('[2]Class S'!AE28=0,\"\",'[2]Class S'!AE28)","v":687.42},{"$f":"IF('[2]Class S'!AF28=0,\"\",'[2]Class S'!AF28)","v":""},{"$f":"IF('[2]Class S'!AG28=0,\"\",'[2]Class S'!AG28)","v":150.19740191542297},{"$f":"IF('[2]Class S'!AH28=0,\"\",'[2]Class S'!AH28)","v":670.11},{"$f":"IF('[2]Class S'!AI28=0,\"\",'[2]Class S'!AI28)","v":178.98},{"$f":"IF('[2]Class S'!AJ28=0,\"\",'[2]Class S'!AJ28)","v":163.11000000000001},{"$f":"IF('[2]Class S'!AK28=0,\"\",'[2]Class S'!AK28)","v":171.1},{"$f":"IF('[2]Class S'!AL28=0,\"\",'[2]Class S'!AL28)","v":186.82553789723863},{"$f":"IF('[2]Class S'!AM28=0,\"\",'[2]Class S'!AM28)","v":1684},{"$f":"IF('[2]Class S'!AN28=0,\"\",'[2]Class S'!AN28)","v":195.90299197359667},{"$f":"IF('[2]Class S'!AO28=0,\"\",'[2]Class S'!AO28)","v":161.96},{"$f":"IF('[2]Class S'!AP28=0,\"\",'[2]Class S'!AP28)","v":""},{"$f":"'[2]Class S'!$AQ28","v":165.06346402893942},{"$f":"(AQ29/AQ28)-1","v":1.9069693984437031E-2}]
[null,"2014-04-14",16,{"$f":"IF('[2]Class S'!D29=0,\"\",'[2]Class S'!D29)","v":153},{"$f":"IF('[2]Class S'!E29=0,\"\",'[2]Class S'!E29)","v":198.97740055220373},{"$f":"IF('[2]Class S'!F29=0,\"\",'[2]Class S'!F29)","v":389.16},{"$f":"IF('[2]Class S'!G29=0,\"\",'[2]Class S'!G29)","v":164.09491229347111},{"$f":"IF('[2]Class S'!H29=0,\"\",'[2]Class S'!H29)","v":4509},{"$f":"IF('[2]Class S'!I29=0,\"\",'[2]Class S'!I29)","v":154.56027429760985},{"$f":"IF('[2]Class S'!J29=0,\"\",'[2]Class S'!J29)","v":1154},{"$f":"IF('[2]Class S'!K29=0,\"\",'[2]Class S'!K29)","v":168.13},{"$f":"IF('[2]Class S'!L29=0,\"\",'[2]Class S'!L29)","v":171.9},{"$f":"IF('[2]Class S'!M29=0,\"\",'[2]Class S'!M29)","v":""},{"$f":"IF('[2]Class S'!N29=0,\"\",'[2]Class S'!N29)","v":""},{"$f":"IF('[2]Class S'!O29=0,\"\",'[2]Class S'!O29)","v":172},{"$f":"IF('[2]Class S'!P29=0,\"\",'[2]Class S'!P29)","v":161.2286587079968},{"$f":"IF('[2]Class S'!Q29=0,\"\",'[2]Class S'!Q29)","v":1229},{"$f":"IF('[2]Class S'!R29=0,\"\",'[2]Class S'!R29)","v":""},{"$f":"IF('[2]Class S'!S29=0,\"\",'[2]Class S'!S29)","v":""},{"$f":"IF('[2]Class S'!T29=0,\"\",'[2]Class S'!T29)","v":""},{"$f":"IF('[2]Class S'!U29=0,\"\",'[2]Class S'!U29)","v":165.88},{"$f":"IF('[2]Class S'!V29=0,\"\",'[2]Class S'!V29)","v":167.93327154772939},{"$f":"IF('[2]Class S'!W29=0,\"\",'[2]Class S'!W29)","v":579.84},{"$f":"IF('[2]Class S'!X29=0,\"\",'[2]Class S'!X29)","v":169.8},{"$f":"IF('[2]Class S'!Y29=0,\"\",'[2]Class S'!Y29)","v":168.68649888771753},{"$f":"IF('[2]Class S'!Z29=0,\"\",'[2]Class S'!Z29)","v":51888.69},{"$f":"IF('[2]Class S'!AA29=0,\"\",'[2]Class S'!AA29)","v":237},{"$f":"IF('[2]Class S'!AB29=0,\"\",'[2]Class S'!AB29)","v":""},{"$f":"IF('[2]Class S'!AC29=0,\"\",'[2]Class S'!AC29)","v":178.14},{"$f":"IF('[2]Class S'!AD29=0,\"\",'[2]Class S'!AD29)","v":163.90438328514537},{"$f":"IF('[2]Class S'!AE29=0,\"\",'[2]Class S'!AE29)","v":686.75},{"$f":"IF('[2]Class S'!AF29=0,\"\",'[2]Class S'!AF29)","v":""},{"$f":"IF('[2]Class S'!AG29=0,\"\",'[2]Class S'!AG29)","v":155.71203756421167},{"$f":"IF('[2]Class S'!AH29=0,\"\",'[2]Class S'!AH29)","v":695.45},{"$f":"IF('[2]Class S'!AI29=0,\"\",'[2]Class S'!AI29)","v":178.75},{"$f":"IF('[2]Class S'!AJ29=0,\"\",'[2]Class S'!AJ29)","v":165.71},{"$f":"IF('[2]Class S'!AK29=0,\"\",'[2]Class S'!AK29)","v":170.73},{"$f":"IF('[2]Class S'!AL29=0,\"\",'[2]Class S'!AL29)","v":187.05903389562479},{"$f":"IF('[2]Class S'!AM29=0,\"\",'[2]Class S'!AM29)","v":1701},{"$f":"IF('[2]Class S'!AN29=0,\"\",'[2]Class S'!AN29)","v":196.58},{"$f":"IF('[2]Class S'!AO29=0,\"\",'[2]Class S'!AO29)","v":162.27000000000001},{"$f":"IF('[2]Class S'!AP29=0,\"\",'[2]Class S'!AP29)","v":""},{"$f":"'[2]Class S'!$AQ29","v":166.79589605134089},{"$f":"(AQ30/AQ29)-1","v":1.0495551105711209E-2}]
[null,"2014-04-21",17,{"$f":"IF('[2]Class S'!D30=0,\"\",'[2]Class S'!D30)","v":149.4},{"$f":"IF('[2]Class S'!E30=0,\"\",'[2]Class S'!E30)","v":197.9650270988854},{"$f":"IF('[2]Class S'!F30=0,\"\",'[2]Class S'!F30)","v":387.18},{"$f":"IF('[2]Class S'!G30=0,\"\",'[2]Class S'!G30)","v":162.99978679923248},{"$f":"IF('[2]Class S'!H30=0,\"\",'[2]Class S'!H30)","v":4478},{"$f":"IF('[2]Class S'!I30=0,\"\",'[2]Class S'!I30)","v":154.57240008189771},{"$f":"IF('[2]Class S'!J30=0,\"\",'[2]Class S'!J30)","v":1154},{"$f":"IF('[2]Class S'!K30=0,\"\",'[2]Class S'!K30)","v":167.11},{"$f":"IF('[2]Class S'!L30=0,\"\",'[2]Class S'!L30)","v":166.11},{"$f":"IF('[2]Class S'!M30=0,\"\",'[2]Class S'!M30)","v":""},{"$f":"IF('[2]Class S'!N30=0,\"\",'[2]Class S'!N30)","v":""},{"$f":"IF('[2]Class S'!O30=0,\"\",'[2]Class S'!O30)","v":173},{"$f":"IF('[2]Class S'!P30=0,\"\",'[2]Class S'!P30)","v":168.88655600026243},{"$f":"IF('[2]Class S'!Q30=0,\"\",'[2]Class S'!Q30)","v":1287},{"$f":"IF('[2]Class S'!R30=0,\"\",'[2]Class S'!R30)","v":""},{"$f":"IF('[2]Class S'!S30=0,\"\",'[2]Class S'!S30)","v":""},{"$f":"IF('[2]Class S'!T30=0,\"\",'[2]Class S'!T30)","v":""},{"$f":"IF('[2]Class S'!U30=0,\"\",'[2]Class S'!U30)","v":167.39},{"$f":"IF('[2]Class S'!V30=0,\"\",'[2]Class S'!V30)","v":171.72729379054684},{"$f":"IF('[2]Class S'!W30=0,\"\",'[2]Class S'!W30)","v":592.94000000000005},{"$f":"IF('[2]Class S'!X30=0,\"\",'[2]Class S'!X30)","v":167.5},{"$f":"IF('[2]Class S'!Y30=0,\"\",'[2]Class S'!Y30)","v":165.06205208555457},{"$f":"IF('[2]Class S'!Z30=0,\"\",'[2]Class S'!Z30)","v":50867.88},{"$f":"IF('[2]Class S'!AA30=0,\"\",'[2]Class S'!AA30)","v":237},{"$f":"IF('[2]Class S'!AB30=0,\"\",'[2]Class S'!AB30)","v":""},{"$f":"IF('[2]Class S'!AC30=0,\"\",'[2]Class S'!AC30)","v":175.75},{"$f":"IF('[2]Class S'!AD30=0,\"\",'[2]Class S'!AD30)","v":163.22035168008284},{"$f":"IF('[2]Class S'!AE30=0,\"\",'[2]Class S'!AE30)","v":684.77},{"$f":"IF('[2]Class S'!AF30=0,\"\",'[2]Class S'!AF30)","v":""},{"$f":"IF('[2]Class S'!AG30=0,\"\",'[2]Class S'!AG30)","v":159.19943887698531},{"$f":"IF('[2]Class S'!AH30=0,\"\",'[2]Class S'!AH30)","v":710.1},{"$f":"IF('[2]Class S'!AI30=0,\"\",'[2]Class S'!AI30)","v":175.47},{"$f":"IF('[2]Class S'!AJ30=0,\"\",'[2]Class S'!AJ30)","v":164.45},{"$f":"IF('[2]Class S'!AK30=0,\"\",'[2]Class S'!AK30)","v":170.7},{"$f":"IF('[2]Class S'!AL30=0,\"\",'[2]Class S'!AL30)","v":189.60533824811486},{"$f":"IF('[2]Class S'!AM30=0,\"\",'[2]Class S'!AM30)","v":1724},{"$f":"IF('[2]Class S'!AN30=0,\"\",'[2]Class S'!AN30)","v":196.85335925160976},{"$f":"IF('[2]Class S'!AO30=0,\"\",'[2]Class S'!AO30)","v":162.03},{"$f":"IF('[2]Class S'!AP30=0,\"\",'[2]Class S'!AP30)","v":""},{"$f":"'[2]Class S'!$AQ30","v":166.41473301319812},{"$f":"(AQ31/AQ30)-1","v":-2.2852063340063067E-3}]
[null,"2014-04-28",18,{"$f":"IF('[2]Class S'!D31=0,\"\",'[2]Class S'!D31)","v":150.30000000000001},{"$f":"IF('[2]Class S'!E31=0,\"\",'[2]Class S'!E31)","v":195.1477656202066},{"$f":"IF('[2]Class S'!F31=0,\"\",'[2]Class S'!F31)","v":387.18},{"$f":"IF('[2]Class S'!G31=0,\"\",'[2]Class S'!G31)","v":164.04542331952453},{"$f":"IF('[2]Class S'!H31=0,\"\",'[2]Class S'!H31)","v":4503},{"$f":"IF('[2]Class S'!I31=0,\"\",'[2]Class S'!I31)","v":154.60464617775517},{"$f":"IF('[2]Class S'!J31=0,\"\",'[2]Class S'!J31)","v":1154},{"$f":"IF('[2]Class S'!K31=0,\"\",'[2]Class S'!K31)","v":168.06},{"$f":"IF('[2]Class S'!L31=0,\"\",'[2]Class S'!L31)","v":166.97},{"$f":"IF('[2]Class S'!M31=0,\"\",'[2]Class S'!M31)","v":""},{"$f":"IF('[2]Class S'!N31=0,\"\",'[2]Class S'!N31)","v":""},{"$f":"IF('[2]Class S'!O31=0,\"\",'[2]Class S'!O31)","v":173},{"$f":"IF('[2]Class S'!P31=0,\"\",'[2]Class S'!P31)","v":166.27858940173508},{"$f":"IF('[2]Class S'!Q31=0,\"\",'[2]Class S'!Q31)","v":1265},{"$f":"IF('[2]Class S'!R31=0,\"\",'[2]Class S'!R31)","v":""},{"$f":"IF('[2]Class S'!S31=0,\"\",'[2]Class S'!S31)","v":""},{"$f":"IF('[2]Class S'!T31=0,\"\",'[2]Class S'!T31)","v":""},{"$f":"IF('[2]Class S'!U31=0,\"\",'[2]Class S'!U31)","v":171.44},{"$f":"IF('[2]Class S'!V31=0,\"\",'[2]Class S'!V31)","v":167.91589434661725},{"$f":"IF('[2]Class S'!W31=0,\"\",'[2]Class S'!W31)","v":579.78},{"$f":"IF('[2]Class S'!X31=0,\"\",'[2]Class S'!X31)","v":168.7},{"$f":"IF('[2]Class S'!Y31=0,\"\",'[2]Class S'!Y31)","v":166.86325424043008},{"$f":"IF('[2]Class S'!Z31=0,\"\",'[2]Class S'!Z31)","v":51436.79},{"$f":"IF('[2]Class S'!AA31=0,\"\",'[2]Class S'!AA31)","v":237},{"$f":"IF('[2]Class S'!AB31=0,\"\",'[2]Class S'!AB31)","v":""},{"$f":"IF('[2]Class S'!AC31=0,\"\",'[2]Class S'!AC31)","v":175.59},{"$f":"IF('[2]Class S'!AD31=0,\"\",'[2]Class S'!AD31)","v":165.40622482656886},{"$f":"IF('[2]Class S'!AE31=0,\"\",'[2]Class S'!AE31)","v":695.2},{"$f":"IF('[2]Class S'!AF31=0,\"\",'[2]Class S'!AF31)","v":""},{"$f":"IF('[2]Class S'!AG31=0,\"\",'[2]Class S'!AG31)","v":165.32432727716758},{"$f":"IF('[2]Class S'!AH31=0,\"\",'[2]Class S'!AH31)","v":734.98},{"$f":"IF('[2]Class S'!AI31=0,\"\",'[2]Class S'!AI31)","v":175.41},{"$f":"IF('[2]Class S'!AJ31=0,\"\",'[2]Class S'!AJ31)","v":164.6},{"$f":"IF('[2]Class S'!AK31=0,\"\",'[2]Class S'!AK31)","v":170.17},{"$f":"IF('[2]Class S'!AL31=0,\"\",'[2]Class S'!AL31)","v":188.15660194477073},{"$f":"IF('[2]Class S'!AM31=0,\"\",'[2]Class S'!AM31)","v":1704},{"$f":"IF('[2]Class S'!AN31=0,\"\",'[2]Class S'!AN31)","v":197.40300348292848},{"$f":"IF('[2]Class S'!AO31=0,\"\",'[2]Class S'!AO31)","v":162.34},{"$f":"IF('[2]Class S'!AP31=0,\"\",'[2]Class S'!AP31)","v":""},{"$f":"'[2]Class S'!$AQ31","v":167.21887085792588},{"$f":"(AQ32/AQ31)-1","v":4.8321313273627098E-3}]
[null,"2014-05-05",19,{"$f":"IF('[2]Class S'!D32=0,\"\",'[2]Class S'!D32)","v":151.69999999999999},{"$f":"IF('[2]Class S'!E32=0,\"\",'[2]Class S'!E32)","v":200.8947745168218},{"$f":"IF('[2]Class S'!F32=0,\"\",'[2]Class S'!F32)","v":392.91},{"$f":"IF('[2]Class S'!G32=0,\"\",'[2]Class S'!G32)","v":164.09697942339659},{"$f":"IF('[2]Class S'!H32=0,\"\",'[2]Class S'!H32)","v":4499},{"$f":"IF('[2]Class S'!I32=0,\"\",'[2]Class S'!I32)","v":154.60878885316185},{"$f":"IF('[2]Class S'!J32=0,\"\",'[2]Class S'!J32)","v":1154},{"$f":"IF('[2]Class S'!K32=0,\"\",'[2]Class S'!K32)","v":168.13},{"$f":"IF('[2]Class S'!L32=0,\"\",'[2]Class S'!L32)","v":169.43},{"$f":"IF('[2]Class S'!M32=0,\"\",'[2]Class S'!M32)","v":""},{"$f":"IF('[2]Class S'!N32=0,\"\",'[2]Class S'!N32)","v":""},{"$f":"IF('[2]Class S'!O32=0,\"\",'[2]Class S'!O32)","v":169},{"$f":"IF('[2]Class S'!P32=0,\"\",'[2]Class S'!P32)","v":168.36613706426365},{"$f":"IF('[2]Class S'!Q32=0,\"\",'[2]Class S'!Q32)","v":1278},{"$f":"IF('[2]Class S'!R32=0,\"\",'[2]Class S'!R32)","v":""},{"$f":"IF('[2]Class S'!S32=0,\"\",'[2]Class S'!S32)","v":""},{"$f":"IF('[2]Class S'!T32=0,\"\",'[2]Class S'!T32)","v":""},{"$f":"IF('[2]Class S'!U32=0,\"\",'[2]Class S'!U32)","v":166.95},{"$f":"IF('[2]Class S'!V32=0,\"\",'[2]Class S'!V32)","v":170.05618628359591},{"$f":"IF('[2]Class S'!W32=0,\"\",'[2]Class S'!W32)","v":587.16999999999996},{"$f":"IF('[2]Class S'!X32=0,\"\",'[2]Class S'!X32)","v":168.3},{"$f":"IF('[2]Class S'!Y32=0,\"\",'[2]Class S'!Y32)","v":167.87862462737473},{"$f":"IF('[2]Class S'!Z32=0,\"\",'[2]Class S'!Z32)","v":51328.17},{"$f":"IF('[2]Class S'!AA32=0,\"\",'[2]Class S'!AA32)","v":237},{"$f":"IF('[2]Class S'!AB32=0,\"\",'[2]Class S'!AB32)","v":""},{"$f":"IF('[2]Class S'!AC32=0,\"\",'[2]Class S'!AC32)","v":175.53},{"$f":"IF('[2]Class S'!AD32=0,\"\",'[2]Class S'!AD32)","v":166.23382371466414},{"$f":"IF('[2]Class S'!AE32=0,\"\",'[2]Class S'!AE32)","v":697.51},{"$f":"IF('[2]Class S'!AF32=0,\"\",'[2]Class S'!AF32)","v":""},{"$f":"IF('[2]Class S'!AG32=0,\"\",'[2]Class S'!AG32)","v":169.39091723200423},{"$f":"IF('[2]Class S'!AH32=0,\"\",'[2]Class S'!AH32)","v":751.21},{"$f":"IF('[2]Class S'!AI32=0,\"\",'[2]Class S'!AI32)","v":176.06},{"$f":"IF('[2]Class S'!AJ32=0,\"\",'[2]Class S'!AJ32)","v":165.74},{"$f":"IF('[2]Class S'!AK32=0,\"\",'[2]Class S'!AK32)","v":170.46},{"$f":"IF('[2]Class S'!AL32=0,\"\",'[2]Class S'!AL32)","v":191.17949343958006},{"$f":"IF('[2]Class S'!AM32=0,\"\",'[2]Class S'!AM32)","v":1729},{"$f":"IF('[2]Class S'!AN32=0,\"\",'[2]Class S'!AN32)","v":198.04560600837743},{"$f":"IF('[2]Class S'!AO32=0,\"\",'[2]Class S'!AO32)","v":162.51},{"$f":"IF('[2]Class S'!AP32=0,\"\",'[2]Class S'!AP32)","v":""},{"$f":"'[2]Class S'!$AQ32","v":167.0328605334347},{"$f":"(AQ33/AQ32)-1","v":-1.1123763935065867E-3}]
[null,"2014-05-12",20,{"$f":"IF('[2]Class S'!D33=0,\"\",'[2]Class S'!D33)","v":151.1},{"$f":"IF('[2]Class S'!E33=0,\"\",'[2]Class S'!E33)","v":195.1682176091625},{"$f":"IF('[2]Class S'!F33=0,\"\",'[2]Class S'!F33)","v":381.71},{"$f":"IF('[2]Class S'!G33=0,\"\",'[2]Class S'!G33)","v":165.05511909475482},{"$f":"IF('[2]Class S'!H33=0,\"\",'[2]Class S'!H33)","v":4526},{"$f":"IF('[2]Class S'!I33=0,\"\",'[2]Class S'!I33)","v":154.60198314650825},{"$f":"IF('[2]Class S'!J33=0,\"\",'[2]Class S'!J33)","v":1154},{"$f":"IF('[2]Class S'!K33=0,\"\",'[2]Class S'!K33)","v":168.66},{"$f":"IF('[2]Class S'!L33=0,\"\",'[2]Class S'!L33)","v":170.32},{"$f":"IF('[2]Class S'!M33=0,\"\",'[2]Class S'!M33)","v":""},{"$f":"IF('[2]Class S'!N33=0,\"\",'[2]Class S'!N33)","v":""},{"$f":"IF('[2]Class S'!O33=0,\"\",'[2]Class S'!O33)","v":165},{"$f":"IF('[2]Class S'!P33=0,\"\",'[2]Class S'!P33)","v":169.05889107457148},{"$f":"IF('[2]Class S'!Q33=0,\"\",'[2]Class S'!Q33)","v":1283},{"$f":"IF('[2]Class S'!R33=0,\"\",'[2]Class S'!R33)","v":""},{"$f":"IF('[2]Class S'!S33=0,\"\",'[2]Class S'!S33)","v":""},{"$f":"IF('[2]Class S'!T33=0,\"\",'[2]Class S'!T33)","v":""},{"$f":"IF('[2]Class S'!U33=0,\"\",'[2]Class S'!U33)","v":171.77},{"$f":"IF('[2]Class S'!V33=0,\"\",'[2]Class S'!V33)","v":167.82321594068583},{"$f":"IF('[2]Class S'!W33=0,\"\",'[2]Class S'!W33)","v":579.46},{"$f":"IF('[2]Class S'!X33=0,\"\",'[2]Class S'!X33)","v":168.2},{"$f":"IF('[2]Class S'!Y33=0,\"\",'[2]Class S'!Y33)","v":167.81613009198421},{"$f":"IF('[2]Class S'!Z33=0,\"\",'[2]Class S'!Z33)","v":51083.23},{"$f":"IF('[2]Class S'!AA33=0,\"\",'[2]Class S'!AA33)","v":237},{"$f":"IF('[2]Class S'!AB33=0,\"\",'[2]Class S'!AB33)","v":""},{"$f":"IF('[2]Class S'!AC33=0,\"\",'[2]Class S'!AC33)","v":175.7},{"$f":"IF('[2]Class S'!AD33=0,\"\",'[2]Class S'!AD33)","v":164.03394099918421},{"$f":"IF('[2]Class S'!AE33=0,\"\",'[2]Class S'!AE33)","v":686.55},{"$f":"IF('[2]Class S'!AF33=0,\"\",'[2]Class S'!AF33)","v":""},{"$f":"IF('[2]Class S'!AG33=0,\"\",'[2]Class S'!AG33)","v":172.53408347591841},{"$f":"IF('[2]Class S'!AH33=0,\"\",'[2]Class S'!AH33)","v":764.92},{"$f":"IF('[2]Class S'!AI33=0,\"\",'[2]Class S'!AI33)","v":176.28},{"$f":"IF('[2]Class S'!AJ33=0,\"\",'[2]Class S'!AJ33)","v":166.65},{"$f":"IF('[2]Class S'!AK33=0,\"\",'[2]Class S'!AK33)","v":169.73},{"$f":"IF('[2]Class S'!AL33=0,\"\",'[2]Class S'!AL33)","v":192.2637552165844},{"$f":"IF('[2]Class S'!AM33=0,\"\",'[2]Class S'!AM33)","v":1731},{"$f":"IF('[2]Class S'!AN33=0,\"\",'[2]Class S'!AN33)","v":199.26430016553246},{"$f":"IF('[2]Class S'!AO33=0,\"\",'[2]Class S'!AO33)","v":162.51},{"$f":"IF('[2]Class S'!AP33=0,\"\",'[2]Class S'!AP33)","v":""},{"$f":"'[2]Class S'!$AQ33","v":166.53603638859431},{"$f":"(AQ34/AQ33)-1","v":-2.9744096057131575E-3}]
[null,"2014-05-19",21,{"$f":"IF('[2]Class S'!D34=0,\"\",'[2]Class S'!D34)","v":152.30000000000001},{"$f":"IF('[2]Class S'!E34=0,\"\",'[2]Class S'!E34)","v":198.34338889457004},{"$f":"IF('[2]Class S'!F34=0,\"\",'[2]Class S'!F34)","v":387.92},{"$f":"IF('[2]Class S'!G34=0,\"\",'[2]Class S'!G34)","v":166.01971048277156},{"$f":"IF('[2]Class S'!H34=0,\"\",'[2]Class S'!H34)","v":4558},{"$f":"IF('[2]Class S'!I34=0,\"\",'[2]Class S'!I34)","v":154.59813670777544},{"$f":"IF('[2]Class S'!J34=0,\"\",'[2]Class S'!J34)","v":1154},{"$f":"IF('[2]Class S'!K34=0,\"\",'[2]Class S'!K34)","v":172.1},{"$f":"IF('[2]Class S'!L34=0,\"\",'[2]Class S'!L34)","v":169.02},{"$f":"IF('[2]Class S'!M34=0,\"\",'[2]Class S'!M34)","v":""},{"$f":"IF('[2]Class S'!N34=0,\"\",'[2]Class S'!N34)","v":""},{"$f":"IF('[2]Class S'!O34=0,\"\",'[2]Class S'!O34)","v":162},{"$f":"IF('[2]Class S'!P34=0,\"\",'[2]Class S'!P34)","v":170.65410520226436},{"$f":"IF('[2]Class S'!Q34=0,\"\",'[2]Class S'!Q34)","v":1298},{"$f":"IF('[2]Class S'!R34=0,\"\",'[2]Class S'!R34)","v":""},{"$f":"IF('[2]Class S'!S34=0,\"\",'[2]Class S'!S34)","v":""},{"$f":"IF('[2]Class S'!T34=0,\"\",'[2]Class S'!T34)","v":""},{"$f":"IF('[2]Class S'!U34=0,\"\",'[2]Class S'!U34)","v":172.27},{"$f":"IF('[2]Class S'!V34=0,\"\",'[2]Class S'!V34)","v":169.91716867469881},{"$f":"IF('[2]Class S'!W34=0,\"\",'[2]Class S'!W34)","v":586.69000000000005},{"$f":"IF('[2]Class S'!X34=0,\"\",'[2]Class S'!X34)","v":172.7},{"$f":"IF('[2]Class S'!Y34=0,\"\",'[2]Class S'!Y34)","v":169.22031299095354},{"$f":"IF('[2]Class S'!Z34=0,\"\",'[2]Class S'!Z34)","v":51547.65},{"$f":"IF('[2]Class S'!AA34=0,\"\",'[2]Class S'!AA34)","v":237},{"$f":"IF('[2]Class S'!AB34=0,\"\",'[2]Class S'!AB34)","v":""},{"$f":"IF('[2]Class S'!AC34=0,\"\",'[2]Class S'!AC34)","v":177.48},{"$f":"IF('[2]Class S'!AD34=0,\"\",'[2]Class S'!AD34)","v":165.29598742224348},{"$f":"IF('[2]Class S'!AE34=0,\"\",'[2]Class S'!AE34)","v":690.89},{"$f":"IF('[2]Class S'!AF34=0,\"\",'[2]Class S'!AF34)","v":""},{"$f":"IF('[2]Class S'!AG34=0,\"\",'[2]Class S'!AG34)","v":176.96295171870307},{"$f":"IF('[2]Class S'!AH34=0,\"\",'[2]Class S'!AH34)","v":782.74},{"$f":"IF('[2]Class S'!AI34=0,\"\",'[2]Class S'!AI34)","v":176.45},{"$f":"IF('[2]Class S'!AJ34=0,\"\",'[2]Class S'!AJ34)","v":166.14},{"$f":"IF('[2]Class S'!AK34=0,\"\",'[2]Class S'!AK34)","v":170.15},{"$f":"IF('[2]Class S'!AL34=0,\"\",'[2]Class S'!AL34)","v":192.49116124446311},{"$f":"IF('[2]Class S'!AM34=0,\"\",'[2]Class S'!AM34)","v":1738},{"$f":"IF('[2]Class S'!AN34=0,\"\",'[2]Class S'!AN34)","v":200.53},{"$f":"IF('[2]Class S'!AO34=0,\"\",'[2]Class S'!AO34)","v":162.77000000000001},{"$f":"IF('[2]Class S'!AP34=0,\"\",'[2]Class S'!AP34)","v":""},{"$f":"'[2]Class S'!$AQ34","v":167.50147684834917},{"$f":"(AQ35/AQ34)-1","v":5.7971864870260958E-3}]
[null,"2014-05-26",22,{"$f":"IF('[2]Class S'!D35=0,\"\",'[2]Class S'!D35)","v":160.4},{"$f":"IF('[2]Class S'!E35=0,\"\",'[2]Class S'!E35)","v":197.45884037222621},{"$f":"IF('[2]Class S'!F35=0,\"\",'[2]Class S'!F35)","v":386.19},{"$f":"IF('[2]Class S'!G35=0,\"\",'[2]Class S'!G35)","v":170.4553734061931},{"$f":"IF('[2]Class S'!H35=0,\"\",'[2]Class S'!H35)","v":4679},{"$f":"IF('[2]Class S'!I35=0,\"\",'[2]Class S'!I35)","v":156.62443057841745},{"$f":"IF('[2]Class S'!J35=0,\"\",'[2]Class S'!J35)","v":1169},{"$f":"IF('[2]Class S'!K35=0,\"\",'[2]Class S'!K35)","v":176.28},{"$f":"IF('[2]Class S'!L35=0,\"\",'[2]Class S'!L35)","v":169.08},{"$f":"IF('[2]Class S'!M35=0,\"\",'[2]Class S'!M35)","v":""},{"$f":"IF('[2]Class S'!N35=0,\"\",'[2]Class S'!N35)","v":""},{"$f":"IF('[2]Class S'!O35=0,\"\",'[2]Class S'!O35)","v":160},{"$f":"IF('[2]Class S'!P35=0,\"\",'[2]Class S'!P35)","v":173.07920283460004},{"$f":"IF('[2]Class S'!Q35=0,\"\",'[2]Class S'!Q35)","v":1314},{"$f":"IF('[2]Class S'!R35=0,\"\",'[2]Class S'!R35)","v":""},{"$f":"IF('[2]Class S'!S35=0,\"\",'[2]Class S'!S35)","v":""},{"$f":"IF('[2]Class S'!T35=0,\"\",'[2]Class S'!T35)","v":""},{"$f":"IF('[2]Class S'!U35=0,\"\",'[2]Class S'!U35)","v":173.84},{"$f":"IF('[2]Class S'!V35=0,\"\",'[2]Class S'!V35)","v":170.47613531047267},{"$f":"IF('[2]Class S'!W35=0,\"\",'[2]Class S'!W35)","v":588.62},{"$f":"IF('[2]Class S'!X35=0,\"\",'[2]Class S'!X35)","v":176.2},{"$f":"IF('[2]Class S'!Y35=0,\"\",'[2]Class S'!Y35)","v":176.32259052465429},{"$f":"IF('[2]Class S'!Z35=0,\"\",'[2]Class S'!Z35)","v":53459.75},{"$f":"IF('[2]Class S'!AA35=0,\"\",'[2]Class S'!AA35)","v":237},{"$f":"IF('[2]Class S'!AB35=0,\"\",'[2]Class S'!AB35)","v":""},{"$f":"IF('[2]Class S'!AC35=0,\"\",'[2]Class S'!AC35)","v":181.88},{"$f":"IF('[2]Class S'!AD35=0,\"\",'[2]Class S'!AD35)","v":170.84672286254946},{"$f":"IF('[2]Class S'!AE35=0,\"\",'[2]Class S'!AE35)","v":709.38},{"$f":"IF('[2]Class S'!AF35=0,\"\",'[2]Class S'!AF35)","v":""},{"$f":"IF('[2]Class S'!AG35=0,\"\",'[2]Class S'!AG35)","v":179.95092805052593},{"$f":"IF('[2]Class S'!AH35=0,\"\",'[2]Class S'!AH35)","v":792.09},{"$f":"IF('[2]Class S'!AI35=0,\"\",'[2]Class S'!AI35)","v":181.44},{"$f":"IF('[2]Class S'!AJ35=0,\"\",'[2]Class S'!AJ35)","v":173.4},{"$f":"IF('[2]Class S'!AK35=0,\"\",'[2]Class S'!AK35)","v":169.67},{"$f":"IF('[2]Class S'!AL35=0,\"\",'[2]Class S'!AL35)","v":193.12326501174317},{"$f":"IF('[2]Class S'!AM35=0,\"\",'[2]Class S'!AM35)","v":1748},{"$f":"IF('[2]Class S'!AN35=0,\"\",'[2]Class S'!AN35)","v":200.62286111428793},{"$f":"IF('[2]Class S'!AO35=0,\"\",'[2]Class S'!AO35)","v":162.88999999999999},{"$f":"IF('[2]Class S'!AP35=0,\"\",'[2]Class S'!AP35)","v":""},{"$f":"'[2]Class S'!$AQ35","v":170.27763252277822},1.6573917595619214E-2]
[null,"2014-06-02",23,{"$f":"IF('[2]Class S'!D36=0,\"\",'[2]Class S'!D36)","v":161.4},{"$f":"IF('[2]Class S'!E36=0,\"\",'[2]Class S'!E36)","v":186.20513344922796},{"$f":"IF('[2]Class S'!F36=0,\"\",'[2]Class S'!F36)","v":364.18},{"$f":"IF('[2]Class S'!G36=0,\"\",'[2]Class S'!G36)","v":171.24235362656572},{"$f":"IF('[2]Class S'!H36=0,\"\",'[2]Class S'!H36)","v":4703},{"$f":"IF('[2]Class S'!I36=0,\"\",'[2]Class S'!I36)","v":160.12020979288695},{"$f":"IF('[2]Class S'!J36=0,\"\",'[2]Class S'!J36)","v":1195},{"$f":"IF('[2]Class S'!K36=0,\"\",'[2]Class S'!K36)","v":177.97},{"$f":"IF('[2]Class S'!L36=0,\"\",'[2]Class S'!L36)","v":168.94},{"$f":"IF('[2]Class S'!M36=0,\"\",'[2]Class S'!M36)","v":""},{"$f":"IF('[2]Class S'!N36=0,\"\",'[2]Class S'!N36)","v":""},{"$f":"IF('[2]Class S'!O36=0,\"\",'[2]Class S'!O36)","v":160},{"$f":"IF('[2]Class S'!P36=0,\"\",'[2]Class S'!P36)","v":172.35495845721388},{"$f":"IF('[2]Class S'!Q36=0,\"\",'[2]Class S'!Q36)","v":1331},{"$f":"IF('[2]Class S'!R36=0,\"\",'[2]Class S'!R36)","v":""},{"$f":"IF('[2]Class S'!S36=0,\"\",'[2]Class S'!S36)","v":""},{"$f":"IF('[2]Class S'!T36=0,\"\",'[2]Class S'!T36)","v":""},{"$f":"IF('[2]Class S'!U36=0,\"\",'[2]Class S'!U36)","v":177.09},{"$f":"IF('[2]Class S'!V36=0,\"\",'[2]Class S'!V36)","v":171.582483781279},{"$f":"IF('[2]Class S'!W36=0,\"\",'[2]Class S'!W36)","v":592.44000000000005},{"$f":"IF('[2]Class S'!X36=0,\"\",'[2]Class S'!X36)","v":177},{"$f":"IF('[2]Class S'!Y36=0,\"\",'[2]Class S'!Y36)","v":177.32949335841073},{"$f":"IF('[2]Class S'!Z36=0,\"\",'[2]Class S'!Z36)","v":53876.5},{"$f":"IF('[2]Class S'!AA36=0,\"\",'[2]Class S'!AA36)","v":237},{"$f":"IF('[2]Class S'!AB36=0,\"\",'[2]Class S'!AB36)","v":""},{"$f":"IF('[2]Class S'!AC36=0,\"\",'[2]Class S'!AC36)","v":182.67},{"$f":"IF('[2]Class S'!AD36=0,\"\",'[2]Class S'!AD36)","v":169.58043046071398},{"$f":"IF('[2]Class S'!AE36=0,\"\",'[2]Class S'!AE36)","v":700.67},{"$f":"IF('[2]Class S'!AF36=0,\"\",'[2]Class S'!AF36)","v":""},{"$f":"IF('[2]Class S'!AG36=0,\"\",'[2]Class S'!AG36)","v":182.55468925194918},{"$f":"IF('[2]Class S'!AH36=0,\"\",'[2]Class S'!AH36)","v":802.44},{"$f":"IF('[2]Class S'!AI36=0,\"\",'[2]Class S'!AI36)","v":181.86},{"$f":"IF('[2]Class S'!AJ36=0,\"\",'[2]Class S'!AJ36)","v":172.87},{"$f":"IF('[2]Class S'!AK36=0,\"\",'[2]Class S'!AK36)","v":168.93},{"$f":"IF('[2]Class S'!AL36=0,\"\",'[2]Class S'!AL36)","v":193.16287178205584},{"$f":"IF('[2]Class S'!AM36=0,\"\",'[2]Class S'!AM36)","v":1753},{"$f":"IF('[2]Class S'!AN36=0,\"\",'[2]Class S'!AN36)","v":200.65},{"$f":"IF('[2]Class S'!AO36=0,\"\",'[2]Class S'!AO36)","v":162.97},{"$f":"IF('[2]Class S'!AP36=0,\"\",'[2]Class S'!AP36)","v":""},{"$f":"'[2]Class S'!$AQ36","v":171.48097816643912},{"$f":"(AQ37/AQ36)-1","v":7.06696250019756E-3}]
[null,"2014-06-09",24,{"$f":"IF('[2]Class S'!D37=0,\"\",'[2]Class S'!D37)","v":164.1},{"$f":"IF('[2]Class S'!E37=0,\"\",'[2]Class S'!E37)","v":183.81736373862358},{"$f":"IF('[2]Class S'!F37=0,\"\",'[2]Class S'!F37)","v":359.51},{"$f":"IF('[2]Class S'!G37=0,\"\",'[2]Class S'!G37)","v":174.938055677015},{"$f":"IF('[2]Class S'!H37=0,\"\",'[2]Class S'!H37)","v":4801},{"$f":"IF('[2]Class S'!I37=0,\"\",'[2]Class S'!I37)","v":160.17417146008378},{"$f":"IF('[2]Class S'!J37=0,\"\",'[2]Class S'!J37)","v":1195},{"$f":"IF('[2]Class S'!K37=0,\"\",'[2]Class S'!K37)","v":179.42},{"$f":"IF('[2]Class S'!L37=0,\"\",'[2]Class S'!L37)","v":168.99},{"$f":"IF('[2]Class S'!M37=0,\"\",'[2]Class S'!M37)","v":""},{"$f":"IF('[2]Class S'!N37=0,\"\",'[2]Class S'!N37)","v":""},{"$f":"IF('[2]Class S'!O37=0,\"\",'[2]Class S'!O37)","v":162},{"$f":"IF('[2]Class S'!P37=0,\"\",'[2]Class S'!P37)","v":175.05507573030701},{"$f":"IF('[2]Class S'!Q37=0,\"\",'[2]Class S'!Q37)","v":1327},{"$f":"IF('[2]Class S'!R37=0,\"\",'[2]Class S'!R37)","v":""},{"$f":"IF('[2]Class S'!S37=0,\"\",'[2]Class S'!S37)","v":""},{"$f":"IF('[2]Class S'!T37=0,\"\",'[2]Class S'!T37)","v":""},{"$f":"IF('[2]Class S'!U37=0,\"\",'[2]Class S'!U37)","v":177.05},{"$f":"IF('[2]Class S'!V37=0,\"\",'[2]Class S'!V37)","v":172.92052826691381},{"$f":"IF('[2]Class S'!W37=0,\"\",'[2]Class S'!W37)","v":597.05999999999995},{"$f":"IF('[2]Class S'!X37=0,\"\",'[2]Class S'!X37)","v":179.7},{"$f":"IF('[2]Class S'!Y37=0,\"\",'[2]Class S'!Y37)","v":179.37162804418369},{"$f":"IF('[2]Class S'!Z37=0,\"\",'[2]Class S'!Z37)","v":54724.49},{"$f":"IF('[2]Class S'!AA37=0,\"\",'[2]Class S'!AA37)","v":237},{"$f":"IF('[2]Class S'!AB37=0,\"\",'[2]Class S'!AB37)","v":""},{"$f":"IF('[2]Class S'!AC37=0,\"\",'[2]Class S'!AC37)","v":184.16},{"$f":"IF('[2]Class S'!AD37=0,\"\",'[2]Class S'!AD37)","v":173.37348393281374},{"$f":"IF('[2]Class S'!AE37=0,\"\",'[2]Class S'!AE37)","v":713.1},{"$f":"IF('[2]Class S'!AF37=0,\"\",'[2]Class S'!AF37)","v":""},{"$f":"IF('[2]Class S'!AG37=0,\"\",'[2]Class S'!AG37)","v":186.48893890215109},{"$f":"IF('[2]Class S'!AH37=0,\"\",'[2]Class S'!AH37)","v":819.15},{"$f":"IF('[2]Class S'!AI37=0,\"\",'[2]Class S'!AI37)","v":185.26},{"$f":"IF('[2]Class S'!AJ37=0,\"\",'[2]Class S'!AJ37)","v":176.04},{"$f":"IF('[2]Class S'!AK37=0,\"\",'[2]Class S'!AK37)","v":170.41},{"$f":"IF('[2]Class S'!AL37=0,\"\",'[2]Class S'!AL37)","v":192.3079896955613},{"$f":"IF('[2]Class S'!AM37=0,\"\",'[2]Class S'!AM37)","v":1741},{"$f":"IF('[2]Class S'!AN37=0,\"\",'[2]Class S'!AN37)","v":202.37805797847327},{"$f":"IF('[2]Class S'!AO37=0,\"\",'[2]Class S'!AO37)","v":162.91},{"$f":"IF('[2]Class S'!AP37=0,\"\",'[2]Class S'!AP37)","v":""},{"$f":"'[2]Class S'!$AQ37","v":173.26190666306087},{"$f":"(AQ38/AQ37)-1","v":1.0385574631450956E-2}]
[null,"2014-06-16",25,{"$f":"IF('[2]Class S'!D38=0,\"\",'[2]Class S'!D38)","v":164.2},{"$f":"IF('[2]Class S'!E38=0,\"\",'[2]Class S'!E38)","v":190.86818693117908},{"$f":"IF('[2]Class S'!F38=0,\"\",'[2]Class S'!F38)","v":373.3},{"$f":"IF('[2]Class S'!G38=0,\"\",'[2]Class S'!G38)","v":176.54407745764038},{"$f":"IF('[2]Class S'!H38=0,\"\",'[2]Class S'!H38)","v":4845},{"$f":"IF('[2]Class S'!I38=0,\"\",'[2]Class S'!I38)","v":160.25794536478082},{"$f":"IF('[2]Class S'!J38=0,\"\",'[2]Class S'!J38)","v":1195},{"$f":"IF('[2]Class S'!K38=0,\"\",'[2]Class S'!K38)","v":180.93},{"$f":"IF('[2]Class S'!L38=0,\"\",'[2]Class S'!L38)","v":168.4},{"$f":"IF('[2]Class S'!M38=0,\"\",'[2]Class S'!M38)","v":185.71},{"$f":"IF('[2]Class S'!N38=0,\"\",'[2]Class S'!N38)","v":""},{"$f":"IF('[2]Class S'!O38=0,\"\",'[2]Class S'!O38)","v":167},{"$f":"IF('[2]Class S'!P38=0,\"\",'[2]Class S'!P38)","v":176.45339793927167},{"$f":"IF('[2]Class S'!Q38=0,\"\",'[2]Class S'!Q38)","v":1337},{"$f":"IF('[2]Class S'!R38=0,\"\",'[2]Class S'!R38)","v":""},{"$f":"IF('[2]Class S'!S38=0,\"\",'[2]Class S'!S38)","v":""},{"$f":"IF('[2]Class S'!T38=0,\"\",'[2]Class S'!T38)","v":""},{"$f":"IF('[2]Class S'!U38=0,\"\",'[2]Class S'!U38)","v":178.25},{"$f":"IF('[2]Class S'!V38=0,\"\",'[2]Class S'!V38)","v":174.98262279888786},{"$f":"IF('[2]Class S'!W38=0,\"\",'[2]Class S'!W38)","v":604.17999999999995},{"$f":"IF('[2]Class S'!X38=0,\"\",'[2]Class S'!X38)","v":179.7},{"$f":"IF('[2]Class S'!Y38=0,\"\",'[2]Class S'!Y38)","v":180.87},{"$f":"IF('[2]Class S'!Z38=0,\"\",'[2]Class S'!Z38)","v":55436.26},{"$f":"IF('[2]Class S'!AA38=0,\"\",'[2]Class S'!AA38)","v":237},{"$f":"IF('[2]Class S'!AB38=0,\"\",'[2]Class S'!AB38)","v":""},{"$f":"IF('[2]Class S'!AC38=0,\"\",'[2]Class S'!AC38)","v":185.33},{"$f":"IF('[2]Class S'!AD38=0,\"\",'[2]Class S'!AD38)","v":174.02798895336213},{"$f":"IF('[2]Class S'!AE38=0,\"\",'[2]Class S'!AE38)","v":721.08},{"$f":"IF('[2]Class S'!AF38=0,\"\",'[2]Class S'!AF38)","v":""},{"$f":"IF('[2]Class S'!AG38=0,\"\",'[2]Class S'!AG38)","v":189.59816482163225},{"$f":"IF('[2]Class S'!AH38=0,\"\",'[2]Class S'!AH38)","v":833.59},{"$f":"IF('[2]Class S'!AI38=0,\"\",'[2]Class S'!AI38)","v":185.02},{"$f":"IF('[2]Class S'!AJ38=0,\"\",'[2]Class S'!AJ38)","v":177.41},{"$f":"IF('[2]Class S'!AK38=0,\"\",'[2]Class S'!AK38)","v":169.28},{"$f":"IF('[2]Class S'!AL38=0,\"\",'[2]Class S'!AL38)","v":191.82314656403136},{"$f":"IF('[2]Class S'!AM38=0,\"\",'[2]Class S'!AM38)","v":1738},{"$f":"IF('[2]Class S'!AN38=0,\"\",'[2]Class S'!AN38)","v":203.57},{"$f":"IF('[2]Class S'!AO38=0,\"\",'[2]Class S'!AO38)","v":162.57},{"$f":"IF('[2]Class S'!AP38=0,\"\",'[2]Class S'!AP38)","v":""},{"$f":"'[2]Class S'!$AQ38","v":175.12559207492293},1.0756463712974895E-2]
[null,"2014-06-23",26,{"$f":"IF('[2]Class S'!D39=0,\"\",'[2]Class S'!D39)","v":167.1},{"$f":"IF('[2]Class S'!E39=0,\"\",'[2]Class S'!E39)","v":195.96584517844363},{"$f":"IF('[2]Class S'!F39=0,\"\",'[2]Class S'!F39)","v":383.27},{"$f":"IF('[2]Class S'!G39=0,\"\",'[2]Class S'!G39)","v":178.99486816492654},{"$f":"IF('[2]Class S'!H39=0,\"\",'[2]Class S'!H39)","v":4913},{"$f":"IF('[2]Class S'!I39=0,\"\",'[2]Class S'!I39)","v":161.8864591336804},{"$f":"IF('[2]Class S'!J39=0,\"\",'[2]Class S'!J39)","v":1207},{"$f":"IF('[2]Class S'!K39=0,\"\",'[2]Class S'!K39)","v":184.34},{"$f":"IF('[2]Class S'!L39=0,\"\",'[2]Class S'!L39)","v":170.01},{"$f":"IF('[2]Class S'!M39=0,\"\",'[2]Class S'!M39)","v":182.37},{"$f":"IF('[2]Class S'!N39=0,\"\",'[2]Class S'!N39)","v":""},{"$f":"IF('[2]Class S'!O39=0,\"\",'[2]Class S'!O39)","v":168},{"$f":"IF('[2]Class S'!P39=0,\"\",'[2]Class S'!P39)","v":181.39229620241707},{"$f":"IF('[2]Class S'!Q39=0,\"\",'[2]Class S'!Q39)","v":1374},{"$f":"IF('[2]Class S'!R39=0,\"\",'[2]Class S'!R39)","v":""},{"$f":"IF('[2]Class S'!S39=0,\"\",'[2]Class S'!S39)","v":""},{"$f":"IF('[2]Class S'!T39=0,\"\",'[2]Class S'!T39)","v":""},{"$f":"IF('[2]Class S'!U39=0,\"\",'[2]Class S'!U39)","v":175.35},{"$f":"IF('[2]Class S'!V39=0,\"\",'[2]Class S'!V39)","v":176.65952270620946},{"$f":"IF('[2]Class S'!W39=0,\"\",'[2]Class S'!W39)","v":609.97},{"$f":"IF('[2]Class S'!X39=0,\"\",'[2]Class S'!X39)","v":185.1},{"$f":"IF('[2]Class S'!Y39=0,\"\",'[2]Class S'!Y39)","v":183.33195439739416},{"$f":"IF('[2]Class S'!Z39=0,\"\",'[2]Class S'!Z39)","v":56282.91},{"$f":"IF('[2]Class S'!AA39=0,\"\",'[2]Class S'!AA39)","v":237},{"$f":"IF('[2]Class S'!AB39=0,\"\",'[2]Class S'!AB39)","v":""},{"$f":"IF('[2]Class S'!AC39=0,\"\",'[2]Class S'!AC39)","v":188.87},{"$f":"IF('[2]Class S'!AD39=0,\"\",'[2]Class S'!AD39)","v":178.43047522047462},{"$f":"IF('[2]Class S'!AE39=0,\"\",'[2]Class S'!AE39)","v":740.8},{"$f":"IF('[2]Class S'!AF39=0,\"\",'[2]Class S'!AF39)","v":""},{"$f":"IF('[2]Class S'!AG39=0,\"\",'[2]Class S'!AG39)","v":192.25140395515152},{"$f":"IF('[2]Class S'!AH39=0,\"\",'[2]Class S'!AH39)","v":844.11},{"$f":"IF('[2]Class S'!AI39=0,\"\",'[2]Class S'!AI39)","v":187.48},{"$f":"IF('[2]Class S'!AJ39=0,\"\",'[2]Class S'!AJ39)","v":179.11},{"$f":"IF('[2]Class S'!AK39=0,\"\",'[2]Class S'!AK39)","v":168.94},{"$f":"IF('[2]Class S'!AL39=0,\"\",'[2]Class S'!AL39)","v":193.27254482788709},{"$f":"IF('[2]Class S'!AM39=0,\"\",'[2]Class S'!AM39)","v":1772},{"$f":"IF('[2]Class S'!AN39=0,\"\",'[2]Class S'!AN39)","v":202.88441789232101},{"$f":"IF('[2]Class S'!AO39=0,\"\",'[2]Class S'!AO39)","v":162.28},{"$f":"IF('[2]Class S'!AP39=0,\"\",'[2]Class S'!AP39)","v":""},{"$f":"'[2]Class S'!$AQ39","v":177.26696994190974},{"$f":"(AQ40/AQ39)-1","v":1.2227669534848218E-2}]
[null,"2014-06-30",27,{"$f":"IF('[2]Class S'!D40=0,\"\",'[2]Class S'!D40)","v":170.2},{"$f":"IF('[2]Class S'!E40=0,\"\",'[2]Class S'!E40)","v":191.23632273238573},{"$f":"IF('[2]Class S'!F40=0,\"\",'[2]Class S'!F40)","v":374.02},{"$f":"IF('[2]Class S'!G40=0,\"\",'[2]Class S'!G40)","v":182.08366301586642},{"$f":"IF('[2]Class S'!H40=0,\"\",'[2]Class S'!H40)","v":4997},{"$f":"IF('[2]Class S'!I40=0,\"\",'[2]Class S'!I40)","v":161.87405282891621},{"$f":"IF('[2]Class S'!J40=0,\"\",'[2]Class S'!J40)","v":1207},{"$f":"IF('[2]Class S'!K40=0,\"\",'[2]Class S'!K40)","v":184.71},{"$f":"IF('[2]Class S'!L40=0,\"\",'[2]Class S'!L40)","v":170.22},{"$f":"IF('[2]Class S'!M40=0,\"\",'[2]Class S'!M40)","v":180.89},{"$f":"IF('[2]Class S'!N40=0,\"\",'[2]Class S'!N40)","v":""},{"$f":"IF('[2]Class S'!O40=0,\"\",'[2]Class S'!O40)","v":169},{"$f":"IF('[2]Class S'!P40=0,\"\",'[2]Class S'!P40)","v":179.08479493604116},{"$f":"IF('[2]Class S'!Q40=0,\"\",'[2]Class S'!Q40)","v":1358},{"$f":"IF('[2]Class S'!R40=0,\"\",'[2]Class S'!R40)","v":""},{"$f":"IF('[2]Class S'!S40=0,\"\",'[2]Class S'!S40)","v":""},{"$f":"IF('[2]Class S'!T40=0,\"\",'[2]Class S'!T40)","v":""},{"$f":"IF('[2]Class S'!U40=0,\"\",'[2]Class S'!U40)","v":178.58},{"$f":"IF('[2]Class S'!V40=0,\"\",'[2]Class S'!V40)","v":178.17713160333645},{"$f":"IF('[2]Class S'!W40=0,\"\",'[2]Class S'!W40)","v":615.21},{"$f":"IF('[2]Class S'!X40=0,\"\",'[2]Class S'!X40)","v":185.5},{"$f":"IF('[2]Class S'!Y40=0,\"\",'[2]Class S'!Y40)","v":187.75443153400852},{"$f":"IF('[2]Class S'!Z40=0,\"\",'[2]Class S'!Z40)","v":58240.62},{"$f":"IF('[2]Class S'!AA40=0,\"\",'[2]Class S'!AA40)","v":237},{"$f":"IF('[2]Class S'!AB40=0,\"\",'[2]Class S'!AB40)","v":""},{"$f":"IF('[2]Class S'!AC40=0,\"\",'[2]Class S'!AC40)","v":190.1},{"$f":"IF('[2]Class S'!AD40=0,\"\",'[2]Class S'!AD40)","v":181.03668552655591},{"$f":"IF('[2]Class S'!AE40=0,\"\",'[2]Class S'!AE40)","v":751.01},{"$f":"IF('[2]Class S'!AF40=0,\"\",'[2]Class S'!AF40)","v":""},{"$f":"IF('[2]Class S'!AG40=0,\"\",'[2]Class S'!AG40)","v":193.64839565663308},{"$f":"IF('[2]Class S'!AH40=0,\"\",'[2]Class S'!AH40)","v":849.66},{"$f":"IF('[2]Class S'!AI40=0,\"\",'[2]Class S'!AI40)","v":181.71},{"$f":"IF('[2]Class S'!AJ40=0,\"\",'[2]Class S'!AJ40)","v":184.21},{"$f":"IF('[2]Class S'!AK40=0,\"\",'[2]Class S'!AK40)","v":169.64},{"$f":"IF('[2]Class S'!AL40=0,\"\",'[2]Class S'!AL40)","v":196.64563874253221},{"$f":"IF('[2]Class S'!AM40=0,\"\",'[2]Class S'!AM40)","v":1816},{"$f":"IF('[2]Class S'!AN40=0,\"\",'[2]Class S'!AN40)","v":202.86726139776749},{"$f":"IF('[2]Class S'!AO40=0,\"\",'[2]Class S'!AO40)","v":161.62},{"$f":"IF('[2]Class S'!AP40=0,\"\",'[2]Class S'!AP40)","v":""},{"$f":"'[2]Class S'!$AQ40","v":178.28768748151046},5.7580808197670308E-3]
[null,"2014-07-07",28,{"$f":"IF('[2]Class S'!D41=0,\"\",'[2]Class S'!D41)","v":166.7},{"$f":"IF('[2]Class S'!E41=0,\"\",'[2]Class S'!E41)","v":195.60793537171492},{"$f":"IF('[2]Class S'!F41=0,\"\",'[2]Class S'!F41)","v":382.57},{"$f":"IF('[2]Class S'!G41=0,\"\",'[2]Class S'!G41)","v":183.42982693629341},{"$f":"IF('[2]Class S'!H41=0,\"\",'[2]Class S'!H41)","v":5033},{"$f":"IF('[2]Class S'!I41=0,\"\",'[2]Class S'!I41)","v":158.53520673381834},{"$f":"IF('[2]Class S'!J41=0,\"\",'[2]Class S'!J41)","v":1182},{"$f":"IF('[2]Class S'!K41=0,\"\",'[2]Class S'!K41)","v":179.6},{"$f":"IF('[2]Class S'!L41=0,\"\",'[2]Class S'!L41)","v":172.96},{"$f":"IF('[2]Class S'!M41=0,\"\",'[2]Class S'!M41)","v":185.16},{"$f":"IF('[2]Class S'!N41=0,\"\",'[2]Class S'!N41)","v":188.78},{"$f":"IF('[2]Class S'!O41=0,\"\",'[2]Class S'!O41)","v":169},{"$f":"IF('[2]Class S'!P41=0,\"\",'[2]Class S'!P41)","v":183.44194574326397},{"$f":"IF('[2]Class S'!Q41=0,\"\",'[2]Class S'!Q41)","v":1395},{"$f":"IF('[2]Class S'!R41=0,\"\",'[2]Class S'!R41)","v":""},{"$f":"IF('[2]Class S'!S41=0,\"\",'[2]Class S'!S41)","v":""},{"$f":"IF('[2]Class S'!T41=0,\"\",'[2]Class S'!T41)","v":""},{"$f":"IF('[2]Class S'!U41=0,\"\",'[2]Class S'!U41)","v":178.67},{"$f":"IF('[2]Class S'!V41=0,\"\",'[2]Class S'!V41)","v":180.25949953660796},{"$f":"IF('[2]Class S'!W41=0,\"\",'[2]Class S'!W41)","v":622.4},{"$f":"IF('[2]Class S'!X41=0,\"\",'[2]Class S'!X41)","v":180.6},{"$f":"IF('[2]Class S'!Y41=0,\"\",'[2]Class S'!Y41)","v":188.53719434905855},{"$f":"IF('[2]Class S'!Z41=0,\"\",'[2]Class S'!Z41)","v":58434.41},{"$f":"IF('[2]Class S'!AA41=0,\"\",'[2]Class S'!AA41)","v":237},{"$f":"IF('[2]Class S'!AB41=0,\"\",'[2]Class S'!AB41)","v":""},{"$f":"IF('[2]Class S'!AC41=0,\"\",'[2]Class S'!AC41)","v":188.01},{"$f":"IF('[2]Class S'!AD41=0,\"\",'[2]Class S'!AD41)","v":177.25418323392975},{"$f":"IF('[2]Class S'!AE41=0,\"\",'[2]Class S'!AE41)","v":733.65},{"$f":"IF('[2]Class S'!AF41=0,\"\",'[2]Class S'!AF41)","v":""},{"$f":"IF('[2]Class S'!AG41=0,\"\",'[2]Class S'!AG41)","v":194.06762318379225},{"$f":"IF('[2]Class S'!AH41=0,\"\",'[2]Class S'!AH41)","v":853.49},{"$f":"IF('[2]Class S'!AI41=0,\"\",'[2]Class S'!AI41)","v":190.82},{"$f":"IF('[2]Class S'!AJ41=0,\"\",'[2]Class S'!AJ41)","v":184.39},{"$f":"IF('[2]Class S'!AK41=0,\"\",'[2]Class S'!AK41)","v":169.06},{"$f":"IF('[2]Class S'!AL41=0,\"\",'[2]Class S'!AL41)","v":194.67568705663504},{"$f":"IF('[2]Class S'!AM41=0,\"\",'[2]Class S'!AM41)","v":1803},{"$f":"IF('[2]Class S'!AN41=0,\"\",'[2]Class S'!AN41)","v":203.27211239229368},{"$f":"IF('[2]Class S'!AO41=0,\"\",'[2]Class S'!AO41)","v":161.43},{"$f":"IF('[2]Class S'!AP41=0,\"\",'[2]Class S'!AP41)","v":""},{"$f":"'[2]Class S'!$AQ41","v":179.90950801880118},{"$f":"(AQ42/AQ41)-1","v":9.0966491304056429E-3}]
[null,"2014-07-14",29,{"$f":"IF('[2]Class S'!D42=0,\"\",'[2]Class S'!D42)","v":166.9},{"$f":"IF('[2]Class S'!E42=0,\"\",'[2]Class S'!E42)","v":198.57858676756317},{"$f":"IF('[2]Class S'!F42=0,\"\",'[2]Class S'!F42)","v":388.38},{"$f":"IF('[2]Class S'!G42=0,\"\",'[2]Class S'!G42)","v":180.04602680384463},{"$f":"IF('[2]Class S'!H42=0,\"\",'[2]Class S'!H42)","v":4940},{"$f":"IF('[2]Class S'!I42=0,\"\",'[2]Class S'!I42)","v":157.30880442492366},{"$f":"IF('[2]Class S'!J42=0,\"\",'[2]Class S'!J42)","v":1173},{"$f":"IF('[2]Class S'!K42=0,\"\",'[2]Class S'!K42)","v":172.26},{"$f":"IF('[2]Class S'!L42=0,\"\",'[2]Class S'!L42)","v":173.51},{"$f":"IF('[2]Class S'!M42=0,\"\",'[2]Class S'!M42)","v":188.87},{"$f":"IF('[2]Class S'!N42=0,\"\",'[2]Class S'!N42)","v":188.78},{"$f":"IF('[2]Class S'!O42=0,\"\",'[2]Class S'!O42)","v":168},{"$f":"IF('[2]Class S'!P42=0,\"\",'[2]Class S'!P42)","v":178.00615107643841},{"$f":"IF('[2]Class S'!Q42=0,\"\",'[2]Class S'!Q42)","v":1356},{"$f":"IF('[2]Class S'!R42=0,\"\",'[2]Class S'!R42)","v":""},{"$f":"IF('[2]Class S'!S42=0,\"\",'[2]Class S'!S42)","v":""},{"$f":"IF('[2]Class S'!T42=0,\"\",'[2]Class S'!T42)","v":""},{"$f":"IF('[2]Class S'!U42=0,\"\",'[2]Class S'!U42)","v":176.29},{"$f":"IF('[2]Class S'!V42=0,\"\",'[2]Class S'!V42)","v":175.07530120481928},{"$f":"IF('[2]Class S'!W42=0,\"\",'[2]Class S'!W42)","v":604.5},{"$f":"IF('[2]Class S'!X42=0,\"\",'[2]Class S'!X42)","v":173},{"$f":"IF('[2]Class S'!Y42=0,\"\",'[2]Class S'!Y42)","v":178.36756826544445},{"$f":"IF('[2]Class S'!Z42=0,\"\",'[2]Class S'!Z42)","v":55261.84},{"$f":"IF('[2]Class S'!AA42=0,\"\",'[2]Class S'!AA42)","v":237},{"$f":"IF('[2]Class S'!AB42=0,\"\",'[2]Class S'!AB42)","v":""},{"$f":"IF('[2]Class S'!AC42=0,\"\",'[2]Class S'!AC42)","v":183.39},{"$f":"IF('[2]Class S'!AD42=0,\"\",'[2]Class S'!AD42)","v":169.83426900423467},{"$f":"IF('[2]Class S'!AE42=0,\"\",'[2]Class S'!AE42)","v":703.57},{"$f":"IF('[2]Class S'!AF42=0,\"\",'[2]Class S'!AF42)","v":""},{"$f":"IF('[2]Class S'!AG42=0,\"\",'[2]Class S'!AG42)","v":193.38547745400851},{"$f":"IF('[2]Class S'!AH42=0,\"\",'[2]Class S'!AH42)","v":856.88},{"$f":"IF('[2]Class S'!AI42=0,\"\",'[2]Class S'!AI42)","v":187.29},{"$f":"IF('[2]Class S'!AJ42=0,\"\",'[2]Class S'!AJ42)","v":179.76},{"$f":"IF('[2]Class S'!AK42=0,\"\",'[2]Class S'!AK42)","v":170.31},{"$f":"IF('[2]Class S'!AL42=0,\"\",'[2]Class S'!AL42)","v":196.98},{"$f":"IF('[2]Class S'!AM42=0,\"\",'[2]Class S'!AM42)","v":1820},{"$f":"IF('[2]Class S'!AN42=0,\"\",'[2]Class S'!AN42)","v":202.22418485607685},{"$f":"IF('[2]Class S'!AO42=0,\"\",'[2]Class S'!AO42)","v":160.28},{"$f":"IF('[2]Class S'!AP42=0,\"\",'[2]Class S'!AP42)","v":""},{"$f":"'[2]Class S'!$AQ42","v":177.71572622541561},{"$f":"(AQ43/AQ42)-1","v":-1.2193806861815815E-2}]
[null,"2014-07-21",30,{"$f":"IF('[2]Class S'!D43=0,\"\",'[2]Class S'!D43)","v":150.5},{"$f":"IF('[2]Class S'!E43=0,\"\",'[2]Class S'!E43)","v":186.9874220267921},{"$f":"IF('[2]Class S'!F43=0,\"\",'[2]Class S'!F43)","v":365.71},{"$f":"IF('[2]Class S'!G43=0,\"\",'[2]Class S'!G43)","v":175.61523579705022},{"$f":"IF('[2]Class S'!H43=0,\"\",'[2]Class S'!H43)","v":4824},{"$f":"IF('[2]Class S'!I43=0,\"\",'[2]Class S'!I43)","v":154.35398155491953},{"$f":"IF('[2]Class S'!J43=0,\"\",'[2]Class S'!J43)","v":1151},{"$f":"IF('[2]Class S'!K43=0,\"\",'[2]Class S'!K43)","v":169.91},{"$f":"IF('[2]Class S'!L43=0,\"\",'[2]Class S'!L43)","v":173.68},{"$f":"IF('[2]Class S'!M43=0,\"\",'[2]Class S'!M43)","v":190.36},{"$f":"IF('[2]Class S'!N43=0,\"\",'[2]Class S'!N43)","v":188.78},{"$f":"IF('[2]Class S'!O43=0,\"\",'[2]Class S'!O43)","v":167},{"$f":"IF('[2]Class S'!P43=0,\"\",'[2]Class S'!P43)","v":174.47035784226455},{"$f":"IF('[2]Class S'!Q43=0,\"\",'[2]Class S'!Q43)","v":1330},{"$f":"IF('[2]Class S'!R43=0,\"\",'[2]Class S'!R43)","v":""},{"$f":"IF('[2]Class S'!S43=0,\"\",'[2]Class S'!S43)","v":""},{"$f":"IF('[2]Class S'!T43=0,\"\",'[2]Class S'!T43)","v":""},{"$f":"IF('[2]Class S'!U43=0,\"\",'[2]Class S'!U43)","v":174.61},{"$f":"IF('[2]Class S'!V43=0,\"\",'[2]Class S'!V43)","v":173.47949490268769},{"$f":"IF('[2]Class S'!W43=0,\"\",'[2]Class S'!W43)","v":598.99},{"$f":"IF('[2]Class S'!X43=0,\"\",'[2]Class S'!X43)","v":169.7},{"$f":"IF('[2]Class S'!Y43=0,\"\",'[2]Class S'!Y43)","v":171.9114092219954},{"$f":"IF('[2]Class S'!Z43=0,\"\",'[2]Class S'!Z43)","v":53053.58},{"$f":"IF('[2]Class S'!AA43=0,\"\",'[2]Class S'!AA43)","v":237},{"$f":"IF('[2]Class S'!AB43=0,\"\",'[2]Class S'!AB43)","v":""},{"$f":"IF('[2]Class S'!AC43=0,\"\",'[2]Class S'!AC43)","v":179.5},{"$f":"IF('[2]Class S'!AD43=0,\"\",'[2]Class S'!AD43)","v":165.64303394259474},{"$f":"IF('[2]Class S'!AE43=0,\"\",'[2]Class S'!AE43)","v":686.42},{"$f":"IF('[2]Class S'!AF43=0,\"\",'[2]Class S'!AF43)","v":""},{"$f":"IF('[2]Class S'!AG43=0,\"\",'[2]Class S'!AG43)","v":192.81852932528102},{"$f":"IF('[2]Class S'!AH43=0,\"\",'[2]Class S'!AH43)","v":852.47},{"$f":"IF('[2]Class S'!AI43=0,\"\",'[2]Class S'!AI43)","v":181.59},{"$f":"IF('[2]Class S'!AJ43=0,\"\",'[2]Class S'!AJ43)","v":176.78},{"$f":"IF('[2]Class S'!AK43=0,\"\",'[2]Class S'!AK43)","v":170.07},{"$f":"IF('[2]Class S'!AL43=0,\"\",'[2]Class S'!AL43)","v":175.23668896030571},{"$f":"IF('[2]Class S'!AM43=0,\"\",'[2]Class S'!AM43)","v":1614},{"$f":"IF('[2]Class S'!AN43=0,\"\",'[2]Class S'!AN43)","v":201.98237885462555},{"$f":"IF('[2]Class S'!AO43=0,\"\",'[2]Class S'!AO43)","v":159.82},{"$f":"IF('[2]Class S'!AP43=0,\"\",'[2]Class S'!AP43)","v":""},{"$f":"'[2]Class S'!$AQ43","v":175.03789262827652},{"$f":"(AQ44/AQ43)-1","v":-1.5068073343956656E-2}]
[null,"2014-07-28",31,{"$f":"IF('[2]Class S'!D44=0,\"\",'[2]Class S'!D44)","v":153.1},{"$f":"IF('[2]Class S'!E44=0,\"\",'[2]Class S'!E44)","v":188.74629307700175},{"$f":"IF('[2]Class S'!F44=0,\"\",'[2]Class S'!F44)","v":369.15},{"$f":"IF('[2]Class S'!G44=0,\"\",'[2]Class S'!G44)","v":174.62968341562589},{"$f":"IF('[2]Class S'!H44=0,\"\",'[2]Class S'!H44)","v":4810},{"$f":"IF('[2]Class S'!I44=0,\"\",'[2]Class S'!I44)","v":154.36462775842713},{"$f":"IF('[2]Class S'!J44=0,\"\",'[2]Class S'!J44)","v":1151},{"$f":"IF('[2]Class S'!K44=0,\"\",'[2]Class S'!K44)","v":171.26},{"$f":"IF('[2]Class S'!L44=0,\"\",'[2]Class S'!L44)","v":172.71},{"$f":"IF('[2]Class S'!M44=0,\"\",'[2]Class S'!M44)","v":190.73},{"$f":"IF('[2]Class S'!N44=0,\"\",'[2]Class S'!N44)","v":188.78},{"$f":"IF('[2]Class S'!O44=0,\"\",'[2]Class S'!O44)","v":165},{"$f":"IF('[2]Class S'!P44=0,\"\",'[2]Class S'!P44)","v":173.97565126325435},{"$f":"IF('[2]Class S'!Q44=0,\"\",'[2]Class S'!Q44)","v":1329},{"$f":"IF('[2]Class S'!R44=0,\"\",'[2]Class S'!R44)","v":""},{"$f":"IF('[2]Class S'!S44=0,\"\",'[2]Class S'!S44)","v":""},{"$f":"IF('[2]Class S'!T44=0,\"\",'[2]Class S'!T44)","v":""},{"$f":"IF('[2]Class S'!U44=0,\"\",'[2]Class S'!U44)","v":173.88},{"$f":"IF('[2]Class S'!V44=0,\"\",'[2]Class S'!V44)","v":174.41207136237259},{"$f":"IF('[2]Class S'!W44=0,\"\",'[2]Class S'!W44)","v":602.21},{"$f":"IF('[2]Class S'!X44=0,\"\",'[2]Class S'!X44)","v":171.5},{"$f":"IF('[2]Class S'!Y44=0,\"\",'[2]Class S'!Y44)","v":173.3078087722518},{"$f":"IF('[2]Class S'!Z44=0,\"\",'[2]Class S'!Z44)","v":53963.1},{"$f":"IF('[2]Class S'!AA44=0,\"\",'[2]Class S'!AA44)","v":237},{"$f":"IF('[2]Class S'!AB44=0,\"\",'[2]Class S'!AB44)","v":""},{"$f":"IF('[2]Class S'!AC44=0,\"\",'[2]Class S'!AC44)","v":178.97},{"$f":"IF('[2]Class S'!AD44=0,\"\",'[2]Class S'!AD44)","v":164.97523775530163},{"$f":"IF('[2]Class S'!AE44=0,\"\",'[2]Class S'!AE44)","v":686.7},{"$f":"IF('[2]Class S'!AF44=0,\"\",'[2]Class S'!AF44)","v":""},{"$f":"IF('[2]Class S'!AG44=0,\"\",'[2]Class S'!AG44)","v":190.61082860481451},{"$f":"IF('[2]Class S'!AH44=0,\"\",'[2]Class S'!AH44)","v":841.25},{"$f":"IF('[2]Class S'!AI44=0,\"\",'[2]Class S'!AI44)","v":181.67},{"$f":"IF('[2]Class S'!AJ44=0,\"\",'[2]Class S'!AJ44)","v":178.5},{"$f":"IF('[2]Class S'!AK44=0,\"\",'[2]Class S'!AK44)","v":170.04},{"$f":"IF('[2]Class S'!AL44=0,\"\",'[2]Class S'!AL44)","v":176.75889229851782},{"$f":"IF('[2]Class S'!AM44=0,\"\",'[2]Class S'!AM44)","v":1626},{"$f":"IF('[2]Class S'!AN44=0,\"\",'[2]Class S'!AN44)","v":200.12070332204362},{"$f":"IF('[2]Class S'!AO44=0,\"\",'[2]Class S'!AO44)","v":158.69},{"$f":"IF('[2]Class S'!AP44=0,\"\",'[2]Class S'!AP44)","v":""},{"$f":"'[2]Class S'!$AQ44","v":175.04038078269284},{"$f":"(AQ45/AQ44)-1","v":1.4214947283486268E-5}]
[null,"2014-08-04",32,{"$f":"IF('[2]Class S'!D45=0,\"\",'[2]Class S'!D45)","v":155},{"$f":"IF('[2]Class S'!E45=0,\"\",'[2]Class S'!E45)","v":194.51375396257288},{"$f":"IF('[2]Class S'!F45=0,\"\",'[2]Class S'!F45)","v":380.43},{"$f":"IF('[2]Class S'!G45=0,\"\",'[2]Class S'!G45)","v":173.58766367454501},{"$f":"IF('[2]Class S'!H45=0,\"\",'[2]Class S'!H45)","v":4818},{"$f":"IF('[2]Class S'!I45=0,\"\",'[2]Class S'!I45)","v":154.38326214879581},{"$f":"IF('[2]Class S'!J45=0,\"\",'[2]Class S'!J45)","v":1151},{"$f":"IF('[2]Class S'!K45=0,\"\",'[2]Class S'!K45)","v":171.2},{"$f":"IF('[2]Class S'!L45=0,\"\",'[2]Class S'!L45)","v":170.41},{"$f":"IF('[2]Class S'!M45=0,\"\",'[2]Class S'!M45)","v":190.73},{"$f":"IF('[2]Class S'!N45=0,\"\",'[2]Class S'!N45)","v":188.78},{"$f":"IF('[2]Class S'!O45=0,\"\",'[2]Class S'!O45)","v":162},{"$f":"IF('[2]Class S'!P45=0,\"\",'[2]Class S'!P45)","v":177.07844848040986},{"$f":"IF('[2]Class S'!Q45=0,\"\",'[2]Class S'!Q45)","v":1354},{"$f":"IF('[2]Class S'!R45=0,\"\",'[2]Class S'!R45)","v":""},{"$f":"IF('[2]Class S'!S45=0,\"\",'[2]Class S'!S45)","v":""},{"$f":"IF('[2]Class S'!T45=0,\"\",'[2]Class S'!T45)","v":""},{"$f":"IF('[2]Class S'!U45=0,\"\",'[2]Class S'!U45)","v":170.94},{"$f":"IF('[2]Class S'!V45=0,\"\",'[2]Class S'!V45)","v":170.06777108433738},{"$f":"IF('[2]Class S'!W45=0,\"\",'[2]Class S'!W45)","v":587.21},{"$f":"IF('[2]Class S'!X45=0,\"\",'[2]Class S'!X45)","v":171.3},{"$f":"IF('[2]Class S'!Y45=0,\"\",'[2]Class S'!Y45)","v":173.15686746440812},{"$f":"IF('[2]Class S'!Z45=0,\"\",'[2]Class S'!Z45)","v":54471.44},{"$f":"IF('[2]Class S'!AA45=0,\"\",'[2]Class S'!AA45)","v":237},{"$f":"IF('[2]Class S'!AB45=0,\"\",'[2]Class S'!AB45)","v":""},{"$f":"IF('[2]Class S'!AC45=0,\"\",'[2]Class S'!AC45)","v":178.78},{"$f":"IF('[2]Class S'!AD45=0,\"\",'[2]Class S'!AD45)","v":164.52936405705833},{"$f":"IF('[2]Class S'!AE45=0,\"\",'[2]Class S'!AE45)","v":689.74},{"$f":"IF('[2]Class S'!AF45=0,\"\",'[2]Class S'!AF45)","v":""},{"$f":"IF('[2]Class S'!AG45=0,\"\",'[2]Class S'!AG45)","v":189.66353967206786},{"$f":"IF('[2]Class S'!AH45=0,\"\",'[2]Class S'!AH45)","v":841.93},{"$f":"IF('[2]Class S'!AI45=0,\"\",'[2]Class S'!AI45)","v":179.59},{"$f":"IF('[2]Class S'!AJ45=0,\"\",'[2]Class S'!AJ45)","v":177.57},{"$f":"IF('[2]Class S'!AK45=0,\"\",'[2]Class S'!AK45)","v":170.19},{"$f":"IF('[2]Class S'!AL45=0,\"\",'[2]Class S'!AL45)","v":184.28403933785202},{"$f":"IF('[2]Class S'!AM45=0,\"\",'[2]Class S'!AM45)","v":1702},{"$f":"IF('[2]Class S'!AN45=0,\"\",'[2]Class S'!AN45)","v":198.86842270698438},{"$f":"IF('[2]Class S'!AO45=0,\"\",'[2]Class S'!AO45)","v":158.16999999999999},{"$f":"IF('[2]Class S'!AP45=0,\"\",'[2]Class S'!AP45)","v":""},{"$f":"'[2]Class S'!$AQ45","v":174.68372661645799},{"$f":"(AQ46/AQ45)-1","v":-2.0375536469932065E-3}]
[null,"2014-08-11",33,{"$f":"IF('[2]Class S'!D46=0,\"\",'[2]Class S'!D46)","v":156},{"$f":"IF('[2]Class S'!E46=0,\"\",'[2]Class S'!E46)","v":194.8409857858677},{"$f":"IF('[2]Class S'!F46=0,\"\",'[2]Class S'!F46)","v":381.07},{"$f":"IF('[2]Class S'!G46=0,\"\",'[2]Class S'!G46)","v":172.51372005949634},{"$f":"IF('[2]Class S'!H46=0,\"\",'[2]Class S'!H46)","v":4805},{"$f":"IF('[2]Class S'!I46=0,\"\",'[2]Class S'!I46)","v":154.38326214879581},{"$f":"IF('[2]Class S'!J46=0,\"\",'[2]Class S'!J46)","v":1151},{"$f":"IF('[2]Class S'!K46=0,\"\",'[2]Class S'!K46)","v":171.2},{"$f":"IF('[2]Class S'!L46=0,\"\",'[2]Class S'!L46)","v":169.81},{"$f":"IF('[2]Class S'!M46=0,\"\",'[2]Class S'!M46)","v":190.73},{"$f":"IF('[2]Class S'!N46=0,\"\",'[2]Class S'!N46)","v":188.78},{"$f":"IF('[2]Class S'!O46=0,\"\",'[2]Class S'!O46)","v":162},{"$f":"IF('[2]Class S'!P46=0,\"\",'[2]Class S'!P46)","v":173.43820468627484},{"$f":"IF('[2]Class S'!Q46=0,\"\",'[2]Class S'!Q46)","v":1324},{"$f":"IF('[2]Class S'!R46=0,\"\",'[2]Class S'!R46)","v":""},{"$f":"IF('[2]Class S'!S46=0,\"\",'[2]Class S'!S46)","v":""},{"$f":"IF('[2]Class S'!T46=0,\"\",'[2]Class S'!T46)","v":""},{"$f":"IF('[2]Class S'!U46=0,\"\",'[2]Class S'!U46)","v":166.67},{"$f":"IF('[2]Class S'!V46=0,\"\",'[2]Class S'!V46)","v":165.01390176088972},{"$f":"IF('[2]Class S'!W46=0,\"\",'[2]Class S'!W46)","v":569.76},{"$f":"IF('[2]Class S'!X46=0,\"\",'[2]Class S'!X46)","v":171.4},{"$f":"IF('[2]Class S'!Y46=0,\"\",'[2]Class S'!Y46)","v":173.90274011930205},{"$f":"IF('[2]Class S'!Z46=0,\"\",'[2]Class S'!Z46)","v":54516.77},{"$f":"IF('[2]Class S'!AA46=0,\"\",'[2]Class S'!AA46)","v":237},{"$f":"IF('[2]Class S'!AB46=0,\"\",'[2]Class S'!AB46)","v":""},{"$f":"IF('[2]Class S'!AC46=0,\"\",'[2]Class S'!AC46)","v":178.82},{"$f":"IF('[2]Class S'!AD46=0,\"\",'[2]Class S'!AD46)","v":164.21962067378968},{"$f":"IF('[2]Class S'!AE46=0,\"\",'[2]Class S'!AE46)","v":688.35},{"$f":"IF('[2]Class S'!AF46=0,\"\",'[2]Class S'!AF46)","v":""},{"$f":"IF('[2]Class S'!AG46=0,\"\",'[2]Class S'!AG46)","v":189.96813544047117},{"$f":"IF('[2]Class S'!AH46=0,\"\",'[2]Class S'!AH46)","v":843.16},{"$f":"IF('[2]Class S'!AI46=0,\"\",'[2]Class S'!AI46)","v":181.05},{"$f":"IF('[2]Class S'!AJ46=0,\"\",'[2]Class S'!AJ46)","v":176.35},{"$f":"IF('[2]Class S'!AK46=0,\"\",'[2]Class S'!AK46)","v":171.11},{"$f":"IF('[2]Class S'!AL46=0,\"\",'[2]Class S'!AL46)","v":189.74880561361596},{"$f":"IF('[2]Class S'!AM46=0,\"\",'[2]Class S'!AM46)","v":1743},{"$f":"IF('[2]Class S'!AN46=0,\"\",'[2]Class S'!AN46)","v":196.32376595060225},{"$f":"IF('[2]Class S'!AO46=0,\"\",'[2]Class S'!AO46)","v":156.93},{"$f":"IF('[2]Class S'!AP46=0,\"\",'[2]Class S'!AP46)","v":""},{"$f":"'[2]Class S'!$AQ46","v":174.62310947259468},{"$f":"(AQ47/AQ46)-1","v":-3.4701082371801917E-4}]
[]
[]
[]
[]
[]
[]
[]
[]
[]
[]
[]
[]
[]
[]
[]
[]
[]
[]
[]
[]
[]
[]
[]
[]
[]
[]
[]
[]
[]
[]
[]
[]
[]
[]
[]
[]
[]
[]
[]
[]
[]
[]
[]
[]
[]
[]
[]
[]
[]
[]
[]
[]
[]
[]
[]
[]
[]
[]
[]
[]
[]
[]
[]
[]
[]
[]
[]
[]
[]
[]
[]
[]
[]
[]
[]
[]
[]
[]
[]
[]
[]
[]
[]
[]
[]
[]
[]
[]
[]
[]
[]
[]
[]
[]
[]
[]
[]
[]
[]
[]
[]
[]
[]
[]
[]
[]
[]
[]
[]
[]
[]
[]
[]
[]
[]
[]
[]
[]
[]
[]
[]
[]
[]
[]
[]
[]
[]
[]
[]
[]
[]
[]
[]
[]
[]
[]
[]
[]
[]
[]
[]
[]
[]
[]
[]
[]
[]
[]
[]
[]
[]
[]
[]
[]
[]
[]
[]
[]
[]
[]
[]
[]
[]
[]
[]
[]
[]
[]
[]
[]
[]
[]
[]
[]
[]
[]
[]
[]
[]
[]
[]
[]
[]
[]
[]
[]
[]
[]
[]
[]
[]
[]
[]
[]
[]
[]
[]
[]
[]
[]
[]
[]
[]
[]
[]
[]
[]
[]
[]
[]
[]
[]
[]
[]
[]
[]
[]
[]
[]
[]
[]
[]
[]
[]
[]
[]
[]
[]
[]
[]
[]
[]
[]
[]
[]
[]
[]
[]
[]
[]
[]
[]
[]
[]
[]
[]
[]
[]
[]
[]
[]
[]
[]
[]
[]
[]
[]
[]
[]
[]
[]
[]
[]
[]
[]
[]
[]
[]
[]
[]
[]
[]
[]
[]
[]
[]
[]
[]
[]
[]
[]
[]
[]
[]
[]
[]
[]
[]
[]
[]
[]
[]
[]
[]
[]
[]
[]
[]
[]
[]
[]
[]
[]
[]
[]
[]
[]
[]
[]
[]
[]
[]
[]
[]
[]
[]
[]
[]
[]
[]
[]
[]
[]
[]
[]
[]
[]
[]
[]
[]
[]
[]
[]
[]
[]
[]
[]
[]
[]
[]
[]
[]
[]
[]
[]
[]
[]
[]
[]
[]
[]
[]
[]
[]
[]
[]
[]
[]
[]
[]
[]
[]
[]
[]
[]
[]
[]
[]
[]
[]
[]
[]
[]
[]
[]
[]
[]
[]
[]
[]
[]
[]
[]
[]
[]
[]
[]
[]
[]
[]
[]
[]
[]
[]
[]
[]
[]
[]
[]
[]
[]
[]
[]
[]
[]
[]
[]
[]
[]
[]
[]
[]
[]
[]
[]
[]
[]
[]
[]
[]
[]
[]
[]
[]
[]
[]
[]
[]
[]
[]
[]
[]
[]
[]
[]
[]
[]
[]
[]
[]
[]
[]
[]
[]
[]
[]
[]
[]
[]
[]
[null,null,null,null,null,null,null,null,"THE AVERAGE PRICE HAS BEEN CALCULATED ON BASIS OF THE RECEIVED COMMUNICATIONS"]
[]
[null,null,null,{"$f":"D$10","v":"BE"},{"$f":"E$10","v":"BG"},"BG","CZ","CZ","DK","DK","DE","EE","GR","ES","FR","HR","HR","IE","IT","CY","LV","LT","LT","LU","HU","HU","MT","NL","AT","PL","PL","PT","RO","RO","SI","SK","FI","SE","SE","UK","UK"]
[null,"Change 1 week",null,{"$f":"INDEX(D:D,MATCH(MAX($B$14:$B$499),$B:$B,0),1)/INDEX(D:D,MATCH(MAX($B$14:$B$499),$B:$B,0)-1,1)-1","v":6.4516129032257119E-3},1.6823068632862981E-3,1.6823068632862981E-3,-6.186750788133133E-3,-2.6982150269821981E-3,0,0,0,-3.5209201337949025E-3,0,null,{"$f":"INDEX(O:O,MATCH(MAX($B$14:$B$499),$B:$B,0),1)/INDEX(O:O,MATCH(MAX($B$14:$B$499),$B:$B,0)-1,1)-1","v":0},{"$f":"INDEX(P:P,MATCH(MAX($B$14:$B$499),$B:$B,0),1)/INDEX(P:P,MATCH(MAX($B$14:$B$499),$B:$B,0)-1,1)-1","v":-2.0557237909941017E-2},{"$f":"INDEX(Q:Q,MATCH(MAX($B$14:$B$499),$B:$B,0),1)/INDEX(Q:Q,MATCH(MAX($B$14:$B$499),$B:$B,0)-1,1)-1","v":-2.215657311669128E-2},null,null,null,{"$f":"INDEX(U:U,MATCH(MAX($B$14:$B$499),$B:$B,0),1)/INDEX(U:U,MATCH(MAX($B$14:$B$499),$B:$B,0)-1,1)-1","v":-2.4979524979525047E-2},-2.9716796376083598E-2,-2.9716796376083598E-2,5.8377116170449384E-4,4.3074968138197001E-3,8.3217921171163667E-4,0,null,{"$f":"INDEX(AC:AC,MATCH(MAX($B$14:$B$499),$B:$B,0),1)/INDEX(AC:AC,MATCH(MAX($B$14:$B$499),$B:$B,0)-1,1)-1","v":2.2373867322955654E-4},{"$f":"INDEX(AD:AD,MATCH(MAX($B$14:$B$499),$B:$B,0),1)/INDEX(AD:AD,MATCH(MAX($B$14:$B$499),$B:$B,0)-1,1)-1","v":-1.8826024463404201E-3},{"$f":"INDEX(AE:AE,MATCH(MAX($B$14:$B$499),$B:$B,0),1)/INDEX(AE:AE,MATCH(MAX($B$14:$B$499),$B:$B,0)-1,1)-1","v":-2.0152521239886756E-3},null,{"$f":"INDEX(AG:AG,MATCH(MAX($B$14:$B$499),$B:$B,0),1)/INDEX(AG:AG,MATCH(MAX($B$14:$B$499),$B:$B,0)-1,1)-1","v":1.6059795621761186E-3},1.4609290558598165E-3,8.1296285984744365E-3,-6.8705299318578827E-3,5.4057230154533897E-3,2.9654040010189231E-2,2.4089306698002355E-2,-1.2795680288224864E-2,-7.8396661819559732E-3,null,{"$f":"INDEX(AQ:AQ,MATCH(MAX($B$9:$B$543),$B:$B,0),1)/INDEX(AQ:AQ,MATCH(MAX($B$9:$B$543),$B:$B,0)-1,1)-1","v":-3.4701082371801917E-4}]
[null,"Change 4 weeks",null,{"$f":"INDEX(D:D,MATCH(MAX($B$9:$B$515),$B:$B,0),1)/INDEX(D:D,MATCH(MAX($B$9:$B$515),$B:$B,0)-4,1)-1","v":-6.5308568004793344E-2},-1.8821772490859479E-2,-1.8821772490859479E-2,-4.1835451068045759E-2,-2.7327935222672073E-2,-1.8597447783185506E-2,-1.8755328218243772E-2,-6.1534889121096503E-3,-2.1324419341824608E-2,null,null,{"$f":"INDEX(O:O,MATCH(MAX($B$9:$B$515),$B:$B,0),1)/INDEX(O:O,MATCH(MAX($B$9:$B$515),$B:$B,0)-4,1)-1","v":-3.5714285714285698E-2},{"$f":"INDEX(P:P,MATCH(MAX($B$9:$B$515),$B:$B,0),1)/INDEX(P:P,MATCH(MAX($B$9:$B$515),$B:$B,0)-4,1)-1","v":-2.566173338696609E-2},{"$f":"INDEX(Q:Q,MATCH(MAX($B$9:$B$515),$B:$B,0),1)/INDEX(Q:Q,MATCH(MAX($B$9:$B$515),$B:$B,0)-4,1)-1","v":-2.359882005899705E-2},null,null,null,{"$f":"INDEX(U:U,MATCH(MAX($B$9:$B$515),$B:$B,0),1)/INDEX(U:U,MATCH(MAX($B$9:$B$515),$B:$B,0)-4,1)-1","v":-5.4569175789891733E-2},-5.7468982630272891E-2,-5.7468982630273002E-2,-9.2485549132947931E-3,-2.503161415251165E-2,-1.3482540574110469E-2,0,null,{"$f":"INDEX(AC:AC,MATCH(MAX($B$9:$B$515),$B:$B,0),1)/INDEX(AC:AC,MATCH(MAX($B$9:$B$515),$B:$B,0)-4,1)-1","v":-2.4919570314629991E-2},{"$f":"INDEX(AD:AD,MATCH(MAX($B$9:$B$515),$B:$B,0),1)/INDEX(AD:AD,MATCH(MAX($B$9:$B$515),$B:$B,0)-4,1)-1","v":-3.3059572507742829E-2},{"$f":"INDEX(AE:AE,MATCH(MAX($B$9:$B$515),$B:$B,0),1)/INDEX(AE:AE,MATCH(MAX($B$9:$B$515),$B:$B,0)-4,1)-1","v":-2.163253123356601E-2},null,{"$f":"INDEX(AG:AG,MATCH(MAX($B$9:$B$515),$B:$B,0),1)/INDEX(AG:AG,MATCH(MAX($B$9:$B$515),$B:$B,0)-4,1)-1","v":-1.7671140866045931E-2},-1.6011576883577683E-2,-3.3317315393240343E-2,-1.8969737427681377E-2,4.6973166578592185E-3,-3.6710297423007576E-2,-4.2307692307692268E-2,-2.9177612507989226E-2,null,null,{"$f":"INDEX(AQ:AQ,MATCH(MAX($B$9:$B$515),$B:$B,0),1)/INDEX(AQ:AQ,MATCH(MAX($B$9:$B$515),$B:$B,0)-4,1)-1","v":-1.7402043243478826E-2}]
[null,"% of Reference Price",null,{"$f":"INDEX(D:D,MATCH(MAX($B$9:$B$544),$B:$B,0),1)*100/150.939","v":103.35301015642081},129.08591271034504,252.46622807889281,114.29366834250681,3183.4052166769357,102.28189013362737,762.55970955154078,113.42330345371309,112.50240163244754,null,null,{"$f":"INDEX(O:O,MATCH(MAX($B$9:$B$544),$B:$B,0),1)*100/150.939","v":107.32812593166777},{"$f":"INDEX(P:P,MATCH(MAX($B$9:$B$544),$B:$B,0),1)*100/150.939","v":114.90615724648688},{"$f":"INDEX(Q:Q,MATCH(MAX($B$9:$B$544),$B:$B,0),1)*100/150.939","v":877.17554773782786},null,null,null,{"$f":"INDEX(U:U,MATCH(MAX($B$9:$B$544),$B:$B,0),1)*100/150.939","v":110.42209104340165},109.32489400412732,377.47699401745075,113.55580731288799,115.21392093448482,36118.41207375165,157.01707312225469,null,{"$f":"INDEX(AC:AC,MATCH(MAX($B$9:$B$544),$B:$B,0),1)*100/150.939","v":118.47170048827672},{"$f":"INDEX(AD:AD,MATCH(MAX($B$9:$B$544),$B:$B,0),1)*100/150.939","v":108.79866745757538},{"$f":"INDEX(AE:AE,MATCH(MAX($B$9:$B$544),$B:$B,0),1)*100/150.939","v":456.04515731520684},null,{"$f":"INDEX(AG:AG,MATCH(MAX($B$9:$B$544),$B:$B,0),1)*100/150.939","v":125.85755533061115},558.60976950953705,119.94911851807684,116.83527782746673,113.36367671708439,125.71224508815877,1154.7711327092402,130.06828318102166,103.96915310158408,null,{"$f":"INDEX(AQ:AQ,MATCH(MAX($B$9:$B$544),$B:$B,0),1)*100/150.939","v":115.69117953119782}]
[]
[null,"???","Price not communicated"]

{"sheet":"Class E","index":6,"n_rows":504,"n_cols":44,"rows_kept":504,"cut":false,"hidden":false,"merged":[[3,18,4,24],[5,18,5,24],[7,1,7,2],[7,37,8,40],[8,1,8,2],[8,3,8,8],[9,1,9,2],[10,1,10,2],[12,1,12,40],[504,0,504,2],[504,3,504,5],[504,6,504,8]]}
[null,"EUROPEAN COMMISSION",null,null,null,null,null,null,null,null,null,null,null,null,null,null,null,null,null,null,null,null,null,null,null,null,null,null,null,null,null,null,null,null,null,null,null,null,null,null,null,null,"Week ",{"$f":"'Class S'!AR1","v":33}]
[null,"Directorate-General for Agriculture and Rural Development",null,null,null,null,null,null,null,null,null,null,null,null,null,null,null,null,null,null,null,null,null,null,null,null,null,null,null,null,null,null,null,null,null,null,null,null,null,null,"du / from :"]
[null,"C3. Animal Products"]
[null,null,null,null,null,null,null,null,null,null,null,null,null,null,null,null,null,null,"PIG PRICE\n(CLASS E)"]
[]
[null,null,null,null,null,null,null,null,null,null,null,null,null,null,null,null,null,null,"DG-Agri-C3,  Meat sector"]
[null,null,null,null,null,null,null,null,null,null,null," "]
[null,"PIG",null,null,null,null,null,null,null,null,null,null,null,null,null,null,null,null,null,null,null,null,null,null,null,null,null,null,null,null,null,null,null,null,null,null,null,"€ur per 100 kg carcass"]
[null,"Class E",null,"Country Code/Currency"]
[null,{"$f":"[2]COVER!B22","v":2014},null,"BE","BG","BG","CZ","CZ","DK","DK","DE","EE","GR","ES","FR","HR","HR","IE","IT","CY","LV","LT","LT","LU","HU","HU","MT","NL","AT","PL","PL","PT","RO","RO","SI","SK","FI","SE","SE","UK","UK",null,"EU_28"]
[null,"Weightings from 01/01/2014\nuntil --/--/----",null,{"$f":"VLOOKUP(D$10,'[2]New Pig Coef.'!$A$1:$M$34,13,0)","v":1.6},{"$f":"VLOOKUP(E$10,'[2]New Pig Coef.'!$A$1:$M$34,13,0)","v":1},null,{"$f":"VLOOKUP(G$10,'[2]New Pig Coef.'!$A$1:$M$34,13,0)","v":2},null,{"$f":"VLOOKUP(I$10,'[2]New Pig Coef.'!$A$1:$M$34,13,0)","v":8.5},null,{"$f":"VLOOKUP(K$10,'[2]New Pig Coef.'!$A$1:$M$34,13,0)","v":26.6},{"$f":"VLOOKUP(L$10,'[2]New Pig Coef.'!$A$1:$M$34,13,0)","v":0.2},{"$f":"VLOOKUP(M$10,'[2]New Pig Coef.'!$A$1:$M$34,13,0)","v":0.7},{"$f":"VLOOKUP(N$10,'[2]New Pig Coef.'!$A$1:$M$34,13,0)","v":6.5},{"$f":"VLOOKUP(O$10,'[2]New Pig Coef.'!$A$1:$M$34,13,0)","v":7.1},{"$f":"VLOOKUP(P$10,'[2]New Pig Coef.'!$A$1:$M$34,13,0)","v":1},null,{"$f":"VLOOKUP(R$10,'[2]New Pig Coef.'!$A$1:$M$34,13,0)","v":1.9},{"$f":"VLOOKUP(S$10,'[2]New Pig Coef.'!$A$1:$M$34,13,0)","v":1.2},{"$f":"VLOOKUP(T$10,'[2]New Pig Coef.'!$A$1:$M$34,13,0)","v":0.3},{"$f":"VLOOKUP(U$10,'[2]New Pig Coef.'!$A$1:$M$34,13,0)","v":0.4},{"$f":"VLOOKUP(V$10,'[2]New Pig Coef.'!$A$1:$M$34,13,0)","v":0.6},null,{"$f":"VLOOKUP(X$10,'[2]New Pig Coef.'!$A$1:$M$34,13,0)","v":0},{"$f":"VLOOKUP(Y$10,'[2]New Pig Coef.'!$A$1:$M$34,13,0)","v":2.9},null,{"$f":"VLOOKUP(AA$10,'[2]New Pig Coef.'!$A$1:$M$34,13,0)","v":0.1},{"$f":"VLOOKUP(AB$10,'[2]New Pig Coef.'!$A$1:$M$34,13,0)","v":11.1},{"$f":"VLOOKUP(AC$10,'[2]New Pig Coef.'!$A$1:$M$34,13,0)","v":1.7},{"$f":"VLOOKUP(AD$10,'[2]New Pig Coef.'!$A$1:$M$34,13,0)","v":13.4},null,{"$f":"VLOOKUP(AF$10,'[2]New Pig Coef.'!$A$1:$M$34,13,0)","v":2.2999999999999998},{"$f":"VLOOKUP(AG$10,'[2]New Pig Coef.'!$A$1:$M$34,13,0)","v":4.3},null,{"$f":"VLOOKUP(AI$10,'[2]New Pig Coef.'!$A$1:$M$34,13,0)","v":0.1},{"$f":"VLOOKUP(AJ$10,'[2]New Pig Coef.'!$A$1:$M$34,13,0)","v":0.3},{"$f":"VLOOKUP(AK$10,'[2]New Pig Coef.'!$A$1:$M$34,13,0)","v":0.9},{"$f":"VLOOKUP(AL$10,'[2]New Pig Coef.'!$A$1:$M$34,13,0)","v":1.7},null,{"$f":"VLOOKUP(AN$10,'[2]New Pig Coef.'!$A$1:$M$34,13,0)","v":1.6},null,null,{"$f":"SUM(D11:AO11)-S11","v":98.8}]
[null,"Week beginning","Week N°","EUR","EUR","BGN","EUR","CZK","EUR","DKK","EUR","EUR","EUR","EUR","EUR","EUR","HRK","EUR","EUR","EUR","EUR","EUR","LTL","EUR","EUR","HUF","EUR","EUR","EUR","EUR","PLN","EUR","EUR","RON","EUR","EUR","EUR","EUR","SEK","EUR","GBP",null,"EURO","Compare to previous week"]
[null,"2014"]
[{"$f":"YEAR(B14+3)&TEXT(C14,\"00\")","v":"201401"},"2013-12-30",1,{"$f":"+'[2]Class E'!D14","v":142.70000000000002},{"$f":"+'[2]Class E'!E14","v":205.36353410369159},{"$f":"+'[2]Class E'!F14","v":401.65},{"$f":"+'[2]Class E'!G14","v":164.05},{"$f":"+'[2]Class E'!H14","v":4507},{"$f":"+'[2]Class E'!I14","v":152.43},{"$f":"+'[2]Class E'!J14","v":1137},{"$f":"+'[2]Class E'!K14","v":167.17000000000002},{"$f":"+'[2]Class E'!L14","v":168.07},{"$f":"+'[2]Class E'!M14","v":200.48000000000002},{"$f":"+'[2]Class E'!N14","v":173.93},{"$f":"+'[2]Class E'!O14","v":148},{"$f":"+'[2]Class E'!P14","v":173.03111563871701},{"$f":"+'[2]Class E'!Q14","v":1320},{"$f":"+'[2]Class E'!R14","v":163.43},null,{"$f":"+'[2]Class E'!T14","v":189},{"$f":"+'[2]Class E'!U14","v":165.24},{"$f":"+'[2]Class E'!V14","v":168.52},{"$f":"+'[2]Class E'!W14","v":581.86},{"$f":"+'[2]Class E'!X14","v":151.19999999999999},{"$f":"+'[2]Class E'!Y14","v":159},{"$f":"+'[2]Class E'!Z14","v":47338.42},{"$f":"+'[2]Class E'!AA14","v":237},{"$f":"+'[2]Class E'!AB14","v":140.34},{"$f":"+'[2]Class E'!AC14","v":159.32},{"$f":"+'[2]Class E'!AD14","v":161.82},{"$f":"+'[2]Class E'!AE14","v":672.94},{"$f":"+'[2]Class E'!AF14","v":168},{"$f":"+'[2]Class E'!AG14","v":178.62},{"$f":"+'[2]Class E'!AH14","v":799.96},{"$f":"+'[2]Class E'!AI14","v":166.19},{"$f":"+'[2]Class E'!AJ14","v":168.44},{"$f":"+'[2]Class E'!AK14","v":171.89},{"$f":"+'[2]Class E'!AL14","v":182.59283855811734},{"$f":"+'[2]Class E'!AM14","v":1623},{"$f":"+'[2]Class E'!AN14","v":200.17},{"$f":"+'[2]Class E'!AO14","v":166.7},null,{"$f":"+'[2]Class E'!AQ14","v":162.50724165274502}]
[null,{"$f":"B14+7","v":"2014-01-06"},{"$f":"C14+1","v":2},{"$f":"+'[2]Class E'!D15","v":140.69999999999999},{"$f":"+'[2]Class E'!E15","v":207.06104918703346},{"$f":"+'[2]Class E'!F15","v":404.97},{"$f":"+'[2]Class E'!G15","v":160.6004299194812},{"$f":"+'[2]Class E'!H15","v":4408},{"$f":"+'[2]Class E'!I15","v":152.4},{"$f":"+'[2]Class E'!J15","v":1137},{"$f":"+'[2]Class E'!K15","v":155.32},{"$f":"+'[2]Class E'!L15","v":162.9},{"$f":"+'[2]Class E'!M15","v":201.13},{"$f":"+'[2]Class E'!N15","v":173.93},{"$f":"+'[2]Class E'!O15","v":147},{"$f":"+'[2]Class E'!P15","v":168.17438753326135},{"$f":"+'[2]Class E'!Q15","v":1283},{"$f":"+'[2]Class E'!R15","v":159.68},null,{"$f":"+'[2]Class E'!T15","v":189},{"$f":"+'[2]Class E'!U15","v":171.6},{"$f":"+'[2]Class E'!V15","v":167.25},{"$f":"+'[2]Class E'!W15","v":577.47},{"$f":"+'[2]Class E'!X15","v":150.80000000000001},{"$f":"+'[2]Class E'!Y15","v":159.49952561895995},{"$f":"+'[2]Class E'!Z15","v":47792.21},{"$f":"+'[2]Class E'!AA15","v":237},{"$f":"+'[2]Class E'!AB15","v":140.63999999999999},{"$f":"+'[2]Class E'!AC15","v":155.93},{"$f":"+'[2]Class E'!AD15","v":158.07},{"$f":"+'[2]Class E'!AE15","v":659.87},{"$f":"+'[2]Class E'!AF15","v":164},{"$f":"+'[2]Class E'!AG15","v":175.32},{"$f":"+'[2]Class E'!AH15","v":791.32},{"$f":"+'[2]Class E'!AI15","v":159.34},{"$f":"+'[2]Class E'!AJ15","v":172.86},{"$f":"+'[2]Class E'!AK15","v":169.93},{"$f":"+'[2]Class E'!AL15","v":181.95710631451962},{"$f":"+'[2]Class E'!AM15","v":1616},{"$f":"+'[2]Class E'!AN15","v":198.33142285847256},{"$f":"+'[2]Class E'!AO15","v":164.37},null,{"$f":"+'[2]Class E'!AQ15","v":158.24089350366881},{"$f":"(AQ15/AQ14)-1","v":-2.6253280196539164E-2}]
[null,"2014-01-13",3,{"$f":"+'[2]Class E'!D16","v":141.4},{"$f":"+'[2]Class E'!E16","v":221.67399529604256},{"$f":"+'[2]Class E'!F16","v":433.55},{"$f":"+'[2]Class E'!G16","v":160.07581003754055},{"$f":"+'[2]Class E'!H16","v":4392},{"$f":"+'[2]Class E'!I16","v":152.3705596875628},{"$f":"+'[2]Class E'!J16","v":1137},{"$f":"+'[2]Class E'!K16","v":156.66},{"$f":"+'[2]Class E'!L16","v":173.5},{"$f":"+'[2]Class E'!M16","v":200.76},{"$f":"+'[2]Class E'!N16","v":173.93},{"$f":"+'[2]Class E'!O16","v":149},{"$f":"+'[2]Class E'!P16","v":171.36681376478785},{"$f":"+'[2]Class E'!Q16","v":1307},{"$f":"+'[2]Class E'!R16","v":155.88},null,{"$f":"+'[2]Class E'!T16","v":189},{"$f":"+'[2]Class E'!U16","v":169.18},{"$f":"+'[2]Class E'!V16","v":162.87360982391104},{"$f":"+'[2]Class E'!W16","v":562.37},{"$f":"+'[2]Class E'!X16","v":151.80000000000001},{"$f":"+'[2]Class E'!Y16","v":158.7493131704623},{"$f":"+'[2]Class E'!Z16","v":47630.01},{"$f":"+'[2]Class E'!AA16","v":237},{"$f":"+'[2]Class E'!AB16","v":140.66},{"$f":"+'[2]Class E'!AC16","v":155.80000000000001},{"$f":"+'[2]Class E'!AD16","v":158.1562011978514},{"$f":"+'[2]Class E'!AE16","v":658.28},{"$f":"+'[2]Class E'!AF16","v":163},{"$f":"+'[2]Class E'!AG16","v":171.97470102501205},{"$f":"+'[2]Class E'!AH16","v":779.21},{"$f":"+'[2]Class E'!AI16","v":159.19999999999999},{"$f":"+'[2]Class E'!AJ16","v":169.34},{"$f":"+'[2]Class E'!AK16","v":168.68},{"$f":"+'[2]Class E'!AL16","v":182.10104262195586},{"$f":"+'[2]Class E'!AM16","v":1607},{"$f":"+'[2]Class E'!AN16","v":195.48734907593996},{"$f":"+'[2]Class E'!AO16","v":162.13999999999999},null,{"$f":"+'[2]Class E'!AQ16","v":158.58818018225176},2.1946708647402335E-3]
[null,"2014-01-20",4,{"$f":"+'[2]Class E'!D17","v":144.5},{"$f":"+'[2]Class E'!E17","v":205.8339298496779},{"$f":"+'[2]Class E'!F17","v":402.57},{"$f":"+'[2]Class E'!G17","v":157.61738624800117},{"$f":"+'[2]Class E'!H17","v":4337},{"$f":"+'[2]Class E'!I17","v":149.82234202223788},{"$f":"+'[2]Class E'!J17","v":1118},{"$f":"+'[2]Class E'!K17","v":160.13},{"$f":"+'[2]Class E'!L17","v":167.09},{"$f":"+'[2]Class E'!M17","v":200.76},{"$f":"+'[2]Class E'!N17","v":173.93},{"$f":"+'[2]Class E'!O17","v":151},{"$f":"+'[2]Class E'!P17","v":167.83180163904382},{"$f":"+'[2]Class E'!Q17","v":1282},{"$f":"+'[2]Class E'!R17","v":156},null,{"$f":"+'[2]Class E'!T17","v":189},{"$f":"+'[2]Class E'!U17","v":167.49},{"$f":"+'[2]Class E'!V17","v":165.09789156626505},{"$f":"+'[2]Class E'!W17","v":570.04999999999995},{"$f":"+'[2]Class E'!X17","v":156.1},{"$f":"+'[2]Class E'!Y17","v":160.71875721494769},{"$f":"+'[2]Class E'!Z17","v":48728.32},{"$f":"+'[2]Class E'!AA17","v":237},{"$f":"+'[2]Class E'!AB17","v":143.43},{"$f":"+'[2]Class E'!AC17","v":158.75},{"$f":"+'[2]Class E'!AD17","v":159.50000513060817},{"$f":"+'[2]Class E'!AE17","v":666.17},{"$f":"+'[2]Class E'!AF17","v":163},{"$f":"+'[2]Class E'!AG17","v":166.12497795025575},{"$f":"+'[2]Class E'!AH17","v":753.41},{"$f":"+'[2]Class E'!AI17","v":162.12},{"$f":"+'[2]Class E'!AJ17","v":167.48},{"$f":"+'[2]Class E'!AK17","v":168.32},{"$f":"+'[2]Class E'!AL17","v":180.95286916573338},{"$f":"+'[2]Class E'!AM17","v":1592},{"$f":"+'[2]Class E'!AN17","v":197.66417038223454},{"$f":"+'[2]Class E'!AO17","v":163.08000000000001},null,{"$f":"+'[2]Class E'!AQ17","v":159.60419601383023},6.4066302445167089E-3]
[null,"2014-01-27",5,{"$f":"+'[2]Class E'!D18","v":149},{"$f":"+'[2]Class E'!E18","v":207.22466509868087},{"$f":"+'[2]Class E'!F18","v":405.29},{"$f":"+'[2]Class E'!G18","v":158.35673610498287},{"$f":"+'[2]Class E'!H18","v":4358},{"$f":"+'[2]Class E'!I18","v":149.82234202223788},{"$f":"+'[2]Class E'!J18","v":1118},{"$f":"+'[2]Class E'!K18","v":162.53},{"$f":"+'[2]Class E'!L18","v":164.71},{"$f":"+'[2]Class E'!M18","v":201.5},{"$f":"+'[2]Class E'!N18","v":172.2},{"$f":"+'[2]Class E'!O18","v":151},{"$f":"+'[2]Class E'!P18","v":167.07099116462263},{"$f":"+'[2]Class E'!Q18","v":1278},{"$f":"+'[2]Class E'!R18","v":156.15},null,{"$f":"+'[2]Class E'!T18","v":197},{"$f":"+'[2]Class E'!U18","v":166.18},{"$f":"+'[2]Class E'!V18","v":166.56626506024097},{"$f":"+'[2]Class E'!W18","v":575.12},{"$f":"+'[2]Class E'!X18","v":156.1},{"$f":"+'[2]Class E'!Y18","v":162.9493859563851},{"$f":"+'[2]Class E'!Z18","v":50287.81},{"$f":"+'[2]Class E'!AA18","v":237},{"$f":"+'[2]Class E'!AB18","v":143.43},{"$f":"+'[2]Class E'!AC18","v":163.35},{"$f":"+'[2]Class E'!AD18","v":161.22856610863789},{"$f":"+'[2]Class E'!AE18","v":680.35},{"$f":"+'[2]Class E'!AF18","v":163},{"$f":"+'[2]Class E'!AG18","v":163.44530642438497},{"$f":"+'[2]Class E'!AH18","v":738.6},{"$f":"+'[2]Class E'!AI18","v":166.08},{"$f":"+'[2]Class E'!AJ18","v":168.4},{"$f":"+'[2]Class E'!AK18","v":168.59},{"$f":"+'[2]Class E'!AL18","v":181.63365364535795},{"$f":"+'[2]Class E'!AM18","v":1603},{"$f":"+'[2]Class E'!AN18","v":197.66417038223454},{"$f":"+'[2]Class E'!AO18","v":163.08000000000001},null,{"$f":"+'[2]Class E'!AQ18","v":160.54537956742146},5.8969850235621735E-3]
[{"$f":"YEAR(B19+3)&TEXT(C19,\"00\")","v":"201406"},"2014-02-03",6,{"$f":"+'[2]Class E'!D19","v":145.4},{"$f":"+'[2]Class E'!E19","v":200.01022599447799},{"$f":"+'[2]Class E'!F19","v":391.18},{"$f":"+'[2]Class E'!G19","v":158.22617236778581},{"$f":"+'[2]Class E'!H19","v":4354},{"$f":"+'[2]Class E'!I19","v":149.82205520021901},{"$f":"+'[2]Class E'!J19","v":1118},{"$f":"+'[2]Class E'!K19","v":157.68},{"$f":"+'[2]Class E'!L19","v":163.27000000000001},{"$f":"+'[2]Class E'!M19","v":200.76},{"$f":"+'[2]Class E'!N19","v":175.74},{"$f":"+'[2]Class E'!O19","v":151},{"$f":"+'[2]Class E'!P19","v":166.26674758414643},{"$f":"+'[2]Class E'!Q19","v":1272},{"$f":"+'[2]Class E'!R19","v":156},null,{"$f":"+'[2]Class E'!T19","v":197},{"$f":"+'[2]Class E'!U19","v":168.59},{"$f":"+'[2]Class E'!V19","v":165.10947636700649},{"$f":"+'[2]Class E'!W19","v":570.09},{"$f":"+'[2]Class E'!X19","v":156},{"$f":"+'[2]Class E'!Y19","v":164.21178294716736},{"$f":"+'[2]Class E'!Z19","v":50835.97},{"$f":"+'[2]Class E'!AA19","v":237},{"$f":"+'[2]Class E'!AB19","v":140.36000000000001},{"$f":"+'[2]Class E'!AC19","v":163.25},{"$f":"+'[2]Class E'!AD19","v":158.75440378598194},{"$f":"+'[2]Class E'!AE19","v":667.56},{"$f":"+'[2]Class E'!AF19","v":165},{"$f":"+'[2]Class E'!AG19","v":159.9235788344655},{"$f":"+'[2]Class E'!AH19","v":715.69},{"$f":"+'[2]Class E'!AI19","v":165.71},{"$f":"+'[2]Class E'!AJ19","v":166.72},{"$f":"+'[2]Class E'!AK19","v":166.85},{"$f":"+'[2]Class E'!AL19","v":180.88000954430689},{"$f":"+'[2]Class E'!AM19","v":1598},{"$f":"+'[2]Class E'!AN19","v":192.61},{"$f":"+'[2]Class E'!AO19","v":159.59},null,{"$f":"+'[2]Class E'!AQ19","v":158.45224756911668},-1.3037634617356075E-2]
[{"$f":"YEAR(B20+3)&TEXT(C20,\"00\")","v":"201407"},"2014-02-10",7,{"$f":"+'[2]Class E'!D20","v":142.19999999999999},{"$f":"+'[2]Class E'!E20","v":214.33684425810412},{"$f":"+'[2]Class E'!F20","v":419.2},{"$f":"+'[2]Class E'!G20","v":157.1513908007168},{"$f":"+'[2]Class E'!H20","v":4322},{"$f":"+'[2]Class E'!I20","v":149.82348932129537},{"$f":"+'[2]Class E'!J20","v":1118},{"$f":"+'[2]Class E'!K20","v":154.93},{"$f":"+'[2]Class E'!L20","v":164.29},{"$f":"+'[2]Class E'!M20","v":199.83},{"$f":"+'[2]Class E'!N20","v":174.6},{"$f":"+'[2]Class E'!O20","v":146},{"$f":"+'[2]Class E'!P20","v":163.84660612791532},{"$f":"+'[2]Class E'!Q20","v":1254},{"$f":"+'[2]Class E'!R20","v":156.47999999999999},null,{"$f":"+'[2]Class E'!T20","v":197},{"$f":"+'[2]Class E'!U20","v":158.63999999999999},{"$f":"+'[2]Class E'!V20","v":162.34070898980536},{"$f":"+'[2]Class E'!W20","v":560.53},{"$f":"+'[2]Class E'!X20","v":150.80000000000001},{"$f":"+'[2]Class E'!Y20","v":157.75012453415002},{"$f":"+'[2]Class E'!Z20","v":48859.27},{"$f":"+'[2]Class E'!AA20","v":237},{"$f":"+'[2]Class E'!AB20","v":136.62},{"$f":"+'[2]Class E'!AC20","v":156.37},{"$f":"+'[2]Class E'!AD20","v":151.02149911248483},{"$f":"+'[2]Class E'!AE20","v":629.6},{"$f":"+'[2]Class E'!AF20","v":165},{"$f":"+'[2]Class E'!AG20","v":155.23904820478828},{"$f":"+'[2]Class E'!AH20","v":695.93},{"$f":"+'[2]Class E'!AI20","v":157.94},{"$f":"+'[2]Class E'!AJ20","v":163.6},{"$f":"+'[2]Class E'!AK20","v":168.2},{"$f":"+'[2]Class E'!AL20","v":180.19636306882902},{"$f":"+'[2]Class E'!AM20","v":1591},{"$f":"+'[2]Class E'!AN20","v":192.73},{"$f":"+'[2]Class E'!AO20","v":159.07},null,{"$f":"+'[2]Class E'!AQ20","v":155.2764523316425},-2.0042601390610759E-2]
["201408","2014-02-17",8,{"$f":"+'[2]Class E'!D21","v":140.30000000000001},{"$f":"+'[2]Class E'!E21","v":216.62235402392886},{"$f":"+'[2]Class E'!F21","v":423.67},{"$f":"+'[2]Class E'!G21","v":155.89867133888163},{"$f":"+'[2]Class E'!H21","v":4271},{"$f":"+'[2]Class E'!I21","v":146.47098913384741},{"$f":"+'[2]Class E'!J21","v":1093},{"$f":"+'[2]Class E'!K21","v":153.76},{"$f":"+'[2]Class E'!L21","v":162.26},{"$f":"+'[2]Class E'!M21","v":199.27},{"$f":"+'[2]Class E'!N21","v":172.33},{"$f":"+'[2]Class E'!O21","v":142},{"$f":"+'[2]Class E'!P21","v":160.09498708280054},{"$f":"+'[2]Class E'!Q21","v":1227},{"$f":"+'[2]Class E'!R21","v":156.49},null,{"$f":"+'[2]Class E'!T21","v":197},{"$f":"+'[2]Class E'!U21","v":158.66},{"$f":"+'[2]Class E'!V21","v":155.85032437442078},{"$f":"+'[2]Class E'!W21","v":538.12},{"$f":"+'[2]Class E'!X21","v":150.30000000000001},{"$f":"+'[2]Class E'!Y21","v":154.86444505645827},{"$f":"+'[2]Class E'!Z21","v":48198.239999999998},{"$f":"+'[2]Class E'!AA21","v":237},{"$f":"+'[2]Class E'!AB21","v":131.94},{"$f":"+'[2]Class E'!AC21","v":156.31},{"$f":"+'[2]Class E'!AD21","v":144.47541022992095},{"$f":"+'[2]Class E'!AE21","v":601.35},{"$f":"+'[2]Class E'!AF21","v":158},{"$f":"+'[2]Class E'!AG21","v":151.68257491675917},{"$f":"+'[2]Class E'!AH21","v":683.33},{"$f":"+'[2]Class E'!AI21","v":155.59},{"$f":"+'[2]Class E'!AJ21","v":163.38999999999999},{"$f":"+'[2]Class E'!AK21","v":165.43},{"$f":"+'[2]Class E'!AL21","v":178.11248486744006},{"$f":"+'[2]Class E'!AM21","v":1590},{"$f":"+'[2]Class E'!AN21","v":192.89585382895956},{"$f":"+'[2]Class E'!AO21","v":158.54},null,{"$f":"+'[2]Class E'!AQ21","v":152.2395378171515},-1.9558113731273918E-2]
[null,"2014-02-24",9,{"$f":"+'[2]Class E'!D22","v":137.69999999999999},{"$f":"+'[2]Class E'!E22","v":197.61223028939568},{"$f":"+'[2]Class E'!F22","v":386.49},{"$f":"+'[2]Class E'!G22","v":157.01987170110957},{"$f":"+'[2]Class E'!H22","v":4294},{"$f":"+'[2]Class E'!I22","v":144.05470441506134},{"$f":"+'[2]Class E'!J22","v":1075},{"$f":"+'[2]Class E'!K22","v":151.51},{"$f":"+'[2]Class E'!L22","v":161.29},{"$f":"+'[2]Class E'!M22","v":199.27},{"$f":"+'[2]Class E'!N22","v":172.76},{"$f":"+'[2]Class E'!O22","v":143},{"$f":"+'[2]Class E'!P22","v":159.78814270528341},{"$f":"+'[2]Class E'!Q22","v":1224},{"$f":"+'[2]Class E'!R22","v":151.15},null,{"$f":"+'[2]Class E'!T22","v":197},{"$f":"+'[2]Class E'!U22","v":146.16999999999999},{"$f":"+'[2]Class E'!V22","v":147.96976367006488},{"$f":"+'[2]Class E'!W22","v":510.91},{"$f":"+'[2]Class E'!X22","v":146.80000000000001},{"$f":"+'[2]Class E'!Y22","v":154.9103800496917},{"$f":"+'[2]Class E'!Z22","v":48097.46},{"$f":"+'[2]Class E'!AA22","v":237},{"$f":"+'[2]Class E'!AB22","v":131.9},{"$f":"+'[2]Class E'!AC22","v":156.02000000000001},{"$f":"+'[2]Class E'!AD22","v":135.06240008781981},{"$f":"+'[2]Class E'!AE22","v":562.45000000000005},{"$f":"+'[2]Class E'!AF22","v":158},{"$f":"+'[2]Class E'!AG22","v":148.77949114315399},{"$f":"+'[2]Class E'!AH22","v":670.97},{"$f":"+'[2]Class E'!AI22","v":155.80000000000001},{"$f":"+'[2]Class E'!AJ22","v":162.97999999999999},{"$f":"+'[2]Class E'!AK22","v":166.15},{"$f":"+'[2]Class E'!AL22","v":178.43210109014052},{"$f":"+'[2]Class E'!AM22","v":1591},{"$f":"+'[2]Class E'!AN22","v":191.41744191693201},{"$f":"+'[2]Class E'!AO22","v":157.66999999999999},null,{"$f":"+'[2]Class E'!AQ22","v":149.68397283687997},-1.6786473585731154E-2]
[null,"2014-03-03",10,{"$f":"+'[2]Class E'!D23","v":135.5},{"$f":"+'[2]Class E'!E23","v":208.40576746088561},{"$f":"+'[2]Class E'!F23","v":407.6},{"$f":"+'[2]Class E'!G23","v":154.95510553724489},{"$f":"+'[2]Class E'!H23","v":4238},{"$f":"+'[2]Class E'!I23","v":141.23520504756016},{"$f":"+'[2]Class E'!J23","v":1054},{"$f":"+'[2]Class E'!K23","v":149.63},{"$f":"+'[2]Class E'!L23","v":156.65},{"$f":"+'[2]Class E'!M23","v":195.19},{"$f":"+'[2]Class E'!N23","v":174.65},{"$f":"+'[2]Class E'!O23","v":144},{"$f":"+'[2]Class E'!P23","v":159.78814270528341},{"$f":"+'[2]Class E'!Q23","v":1224},{"$f":"+'[2]Class E'!R23","v":151.44999999999999},null,{"$f":"+'[2]Class E'!T23","v":197},{"$f":"+'[2]Class E'!U23","v":142.9},{"$f":"+'[2]Class E'!V23","v":140.71478220574608},{"$f":"+'[2]Class E'!W23","v":485.86},{"$f":"+'[2]Class E'!X23","v":144.69999999999999},{"$f":"+'[2]Class E'!Y23","v":151.60522925734057},{"$f":"+'[2]Class E'!Z23","v":47074.29},{"$f":"+'[2]Class E'!AA23","v":237},{"$f":"+'[2]Class E'!AB23","v":130.08000000000001},{"$f":"+'[2]Class E'!AC23","v":156.16999999999999},{"$f":"+'[2]Class E'!AD23","v":140.28243824010323},{"$f":"+'[2]Class E'!AE23","v":587.08000000000004},{"$f":"+'[2]Class E'!AF23","v":158},{"$f":"+'[2]Class E'!AG23","v":146.13618853459568},{"$f":"+'[2]Class E'!AH23","v":658.45},{"$f":"+'[2]Class E'!AI23","v":157.06},{"$f":"+'[2]Class E'!AJ23","v":160.87},{"$f":"+'[2]Class E'!AK23","v":164.12},{"$f":"+'[2]Class E'!AL23","v":179.35424790597136},{"$f":"+'[2]Class E'!AM23","v":1588},{"$f":"+'[2]Class E'!AN23","v":190.40339335180059},{"$f":"+'[2]Class E'!AO23","v":157.11000000000001},null,{"$f":"+'[2]Class E'!AQ23","v":149.34330295783235},{"$f":"(AQ23/AQ22)-1","v":-2.2759275598521755E-3}]
[null,"2014-03-10",11,{"$f":"+'[2]Class E'!D24","v":137.5},{"$f":"+'[2]Class E'!E24","v":204.79599141016467},{"$f":"+'[2]Class E'!F24","v":400.54},{"$f":"+'[2]Class E'!G24","v":153.78026168029041},{"$f":"+'[2]Class E'!H24","v":4206},{"$f":"+'[2]Class E'!I24","v":141.22952765250415},{"$f":"+'[2]Class E'!J24","v":1054},{"$f":"+'[2]Class E'!K24","v":156.47},{"$f":"+'[2]Class E'!L24","v":156.32},{"$f":"+'[2]Class E'!M24","v":194.26},{"$f":"+'[2]Class E'!N24","v":173.66},{"$f":"+'[2]Class E'!O24","v":144},{"$f":"+'[2]Class E'!P24","v":157.24555344725613},{"$f":"+'[2]Class E'!Q24","v":1204},{"$f":"+'[2]Class E'!R24","v":151.29},null,{"$f":"+'[2]Class E'!T24","v":197},{"$f":"+'[2]Class E'!U24","v":141.52000000000001},{"$f":"+'[2]Class E'!V24","v":145.61804911955517},{"$f":"+'[2]Class E'!W24","v":502.79},{"$f":"+'[2]Class E'!X24","v":151.19999999999999},{"$f":"+'[2]Class E'!Y24","v":150.90479801209551},{"$f":"+'[2]Class E'!Z24","v":47195.26},{"$f":"+'[2]Class E'!AA24","v":237},{"$f":"+'[2]Class E'!AB24","v":131.66},{"$f":"+'[2]Class E'!AC24","v":156.1},{"$f":"+'[2]Class E'!AD24","v":145.61230119376819},{"$f":"+'[2]Class E'!AE24","v":614.59},{"$f":"+'[2]Class E'!AF24","v":158},{"$f":"+'[2]Class E'!AG24","v":142.18808958337956},{"$f":"+'[2]Class E'!AH24","v":640.6},{"$f":"+'[2]Class E'!AI24","v":157.93},{"$f":"+'[2]Class E'!AJ24","v":158.57},{"$f":"+'[2]Class E'!AK24","v":165.24},{"$f":"+'[2]Class E'!AL24","v":179.04199437880388},{"$f":"+'[2]Class E'!AM24","v":1586},{"$f":"+'[2]Class E'!AN24","v":188.19118062511239},{"$f":"+'[2]Class E'!AO24","v":157.02000000000001},null,{"$f":"+'[2]Class E'!AQ24","v":151.74910625121731},{"$f":"(AQ24/AQ23)-1","v":1.6109214445754194E-2}]
[null,"2014-03-17",12,{"$f":"+'[2]Class E'!D25","v":149.6},{"$f":"+'[2]Class E'!E25","v":205.13344922793743},{"$f":"+'[2]Class E'!F25","v":401.2},{"$f":"+'[2]Class E'!G25","v":152.5431671908521},{"$f":"+'[2]Class E'!H25","v":4185},{"$f":"+'[2]Class E'!I25","v":143.62244751483789},{"$f":"+'[2]Class E'!J25","v":1072},{"$f":"+'[2]Class E'!K25","v":160.84},{"$f":"+'[2]Class E'!L25","v":159.04},{"$f":"+'[2]Class E'!M25","v":192.77},{"$f":"+'[2]Class E'!N25","v":175.05},{"$f":"+'[2]Class E'!O25","v":149},{"$f":"+'[2]Class E'!P25","v":155.35392907431063},{"$f":"+'[2]Class E'!Q25","v":1190},{"$f":"+'[2]Class E'!R25","v":152.35},null,{"$f":"+'[2]Class E'!T25","v":198},{"$f":"+'[2]Class E'!U25","v":149.36000000000001},{"$f":"+'[2]Class E'!V25","v":150.36492122335494},{"$f":"+'[2]Class E'!W25","v":519.17999999999995},{"$f":"+'[2]Class E'!X25","v":157.4},{"$f":"+'[2]Class E'!Y25","v":162.3307425926011},{"$f":"+'[2]Class E'!Z25","v":50693.34},{"$f":"+'[2]Class E'!AA25","v":237},{"$f":"+'[2]Class E'!AB25","v":144.16},{"$f":"+'[2]Class E'!AC25","v":165.01},{"$f":"+'[2]Class E'!AD25","v":157.31965129813059},{"$f":"+'[2]Class E'!AE25","v":662.3},{"$f":"+'[2]Class E'!AF25","v":150},{"$f":"+'[2]Class E'!AG25","v":138.93618643421686},{"$f":"+'[2]Class E'!AH25","v":624.79999999999995},{"$f":"+'[2]Class E'!AI25","v":164.87},{"$f":"+'[2]Class E'!AJ25","v":157.46},{"$f":"+'[2]Class E'!AK25","v":163.65},{"$f":"+'[2]Class E'!AL25","v":179.20816881906677},{"$f":"+'[2]Class E'!AM25","v":1586},{"$f":"+'[2]Class E'!AN25","v":187.94},{"$f":"+'[2]Class E'!AO25","v":157.18},null,{"$f":"+'[2]Class E'!AQ25","v":156.95746395614498},{"$f":"(AQ25/AQ24)-1","v":3.4322163955979645E-2}]
[null,"2014-03-24",13,{"$f":"+'[2]Class E'!D26","v":146},{"$f":"+'[2]Class E'!E26","v":203.2978832191431},{"$f":"+'[2]Class E'!F26","v":397.61},{"$f":"+'[2]Class E'!G26","v":154.96486594887983},{"$f":"+'[2]Class E'!H26","v":4250},{"$f":"+'[2]Class E'!I26","v":146.1447784386219},{"$f":"+'[2]Class E'!J26","v":1091},{"$f":"+'[2]Class E'!K26","v":158.80000000000001},{"$f":"+'[2]Class E'!L26","v":157.99},{"$f":"+'[2]Class E'!M26","v":191.66},{"$f":"+'[2]Class E'!N26","v":178.3},{"$f":"+'[2]Class E'!O26","v":154},{"$f":"+'[2]Class E'!P26","v":156.65358111951363},{"$f":"+'[2]Class E'!Q26","v":1200},{"$f":"+'[2]Class E'!R26","v":152.35},null,{"$f":"+'[2]Class E'!T26","v":198},{"$f":"+'[2]Class E'!U26","v":149.36000000000001},{"$f":"+'[2]Class E'!V26","v":153.19999999999999},{"$f":"+'[2]Class E'!W26","v":553.59},{"$f":"+'[2]Class E'!X26","v":164.09},{"$f":"+'[2]Class E'!Y26","v":159.40746570721836},{"$f":"+'[2]Class E'!Z26","v":49621.95},{"$f":"+'[2]Class E'!AA26","v":237},{"$f":"+'[2]Class E'!AB26","v":139.62},{"$f":"+'[2]Class E'!AC26","v":162.06},{"$f":"+'[2]Class E'!AD26","v":156.75026198205208},{"$f":"+'[2]Class E'!AE26","v":656.02},{"$f":"+'[2]Class E'!AF26","v":167},{"$f":"+'[2]Class E'!AG26","v":139.02519300577737},{"$f":"+'[2]Class E'!AH26","v":621.53},{"$f":"+'[2]Class E'!AI26","v":160.55000000000001},{"$f":"+'[2]Class E'!AJ26","v":158.99},{"$f":"+'[2]Class E'!AK26","v":164.22},{"$f":"+'[2]Class E'!AL26","v":179.89425366034212},{"$f":"+'[2]Class E'!AM26","v":1600},{"$f":"+'[2]Class E'!AN26","v":188.68352342998483},{"$f":"+'[2]Class E'!AO26","v":156.91999999999999},null,{"$f":"+'[2]Class E'!AQ26","v":156.8959734080014},{"$f":"(AQ26/AQ25)-1","v":-3.9176568347687457E-4}]
[null,"2014-03-31",14,{"$f":"+'[2]Class E'!D27","v":146},{"$f":"+'[2]Class E'!E27","v":194.29389508129668},{"$f":"+'[2]Class E'!F27","v":380},{"$f":"+'[2]Class E'!G27","v":154.96486594887983},{"$f":"+'[2]Class E'!H27","v":4277},{"$f":"+'[2]Class E'!I27","v":146.14142249165673},{"$f":"+'[2]Class E'!J27","v":1091},{"$f":"+'[2]Class E'!K27","v":161.59},{"$f":"+'[2]Class E'!L27","v":159.03},{"$f":"+'[2]Class E'!M27","v":191.84},{"$f":"+'[2]Class E'!N27","v":185.2},{"$f":"+'[2]Class E'!O27","v":159},{"$f":"+'[2]Class E'!P27","v":157.71980726871217},{"$f":"+'[2]Class E'!Q27","v":1206},{"$f":"+'[2]Class E'!R27","v":155.51},null,{"$f":"+'[2]Class E'!T27","v":198},{"$f":"+'[2]Class E'!U27","v":168.35},{"$f":"+'[2]Class E'!V27","v":161.93524096385542},{"$f":"+'[2]Class E'!W27","v":559.13},{"$f":"+'[2]Class E'!X27","v":157},{"$f":"+'[2]Class E'!Y27","v":159.32114773297641},{"$f":"+'[2]Class E'!Z27","v":48973.5},{"$f":"+'[2]Class E'!AA27","v":237},{"$f":"+'[2]Class E'!AB27","v":142.41999999999999},{"$f":"+'[2]Class E'!AC27","v":162.65},{"$f":"+'[2]Class E'!AD27","v":158.55899353495511},{"$f":"+'[2]Class E'!AE27","v":661.49},{"$f":"+'[2]Class E'!AF27","v":170},{"$f":"+'[2]Class E'!AG27","v":137.97653536501434},{"$f":"+'[2]Class E'!AH27","v":615.74},{"$f":"+'[2]Class E'!AI27","v":159.31},{"$f":"+'[2]Class E'!AJ27","v":158.13},{"$f":"+'[2]Class E'!AK27","v":163.72},{"$f":"+'[2]Class E'!AL27","v":181.37903115176468},{"$f":"+'[2]Class E'!AM27","v":1621},{"$f":"+'[2]Class E'!AN27","v":190.69827630829749},{"$f":"+'[2]Class E'!AO27","v":157.88999999999999},null,{"$f":"+'[2]Class E'!AQ27","v":159.2152956368424},{"$f":"(AQ27/AQ26)-1","v":1.4782547814721214E-2}]
[null,"2014-04-07",15,{"$f":"+'[2]Class E'!D28","v":152.1},{"$f":"+'[2]Class E'!E28","v":190.79660496983334},{"$f":"+'[2]Class E'!F28","v":373.16},{"$f":"+'[2]Class E'!G28","v":157.98984507225623},{"$f":"+'[2]Class E'!H28","v":4334},{"$f":"+'[2]Class E'!I28","v":146.13023711482234},{"$f":"+'[2]Class E'!J28","v":1091},{"$f":"+'[2]Class E'!K28","v":165.49},{"$f":"+'[2]Class E'!L28","v":161.36000000000001},{"$f":"+'[2]Class E'!M28","v":189.99},{"$f":"+'[2]Class E'!N28","v":185.48},{"$f":"+'[2]Class E'!O28","v":157},{"$f":"+'[2]Class E'!P28","v":160.68031694201878},{"$f":"+'[2]Class E'!Q28","v":1226},{"$f":"+'[2]Class E'!R28","v":158.46},null,{"$f":"+'[2]Class E'!T28","v":201},{"$f":"+'[2]Class E'!U28","v":165.54},{"$f":"+'[2]Class E'!V28","v":165.42805838739577},{"$f":"+'[2]Class E'!W28","v":571.19000000000005},{"$f":"+'[2]Class E'!X28","v":161.30000000000001},{"$f":"+'[2]Class E'!Y28","v":164.07955569038342},{"$f":"+'[2]Class E'!Z28","v":50223.58},{"$f":"+'[2]Class E'!AA28","v":237},{"$f":"+'[2]Class E'!AB28","v":147.86000000000001},{"$f":"+'[2]Class E'!AC28","v":166.5},{"$f":"+'[2]Class E'!AD28","v":161.73215141351221},{"$f":"+'[2]Class E'!AE28","v":675.07},{"$f":"+'[2]Class E'!AF28","v":158},{"$f":"+'[2]Class E'!AG28","v":140.57962197453148},{"$f":"+'[2]Class E'!AH28","v":627.20000000000005},{"$f":"+'[2]Class E'!AI28","v":164.47},{"$f":"+'[2]Class E'!AJ28","v":159.84},{"$f":"+'[2]Class E'!AK28","v":161.63},{"$f":"+'[2]Class E'!AL28","v":180.83469523307539},{"$f":"+'[2]Class E'!AM28","v":1630},{"$f":"+'[2]Class E'!AN28","v":190.44780245889598},{"$f":"+'[2]Class E'!AO28","v":157.44999999999999},null,{"$f":"+'[2]Class E'!AQ28","v":161.42025145069755},{"$f":"(AQ28/AQ27)-1","v":1.3848894385652954E-2}]
[null,"2014-04-14",16,{"$f":"+'[2]Class E'!D29","v":153},{"$f":"+'[2]Class E'!E29","v":192.3509561304837},{"$f":"+'[2]Class E'!F29","v":376.2},{"$f":"+'[2]Class E'!G29","v":159.58221122352424},{"$f":"+'[2]Class E'!H29","v":4385},{"$f":"+'[2]Class E'!I29","v":149.8725710043548},{"$f":"+'[2]Class E'!J29","v":1119},{"$f":"+'[2]Class E'!K29","v":163.76},{"$f":"+'[2]Class E'!L29","v":161.68},{"$f":"+'[2]Class E'!M29","v":189.06},{"$f":"+'[2]Class E'!N29","v":185.8},{"$f":"+'[2]Class E'!O29","v":163},{"$f":"+'[2]Class E'!P29","v":159.78560317847038},{"$f":"+'[2]Class E'!Q29","v":1218},{"$f":"+'[2]Class E'!R29","v":160.35},null,{"$f":"+'[2]Class E'!T29","v":201},{"$f":"+'[2]Class E'!U29","v":172.64},{"$f":"+'[2]Class E'!V29","v":163.6468952734013},{"$f":"+'[2]Class E'!W29","v":565.04},{"$f":"+'[2]Class E'!X29","v":160.5},{"$f":"+'[2]Class E'!Y29","v":165.34008907548196},{"$f":"+'[2]Class E'!Z29","v":50859.32},{"$f":"+'[2]Class E'!AA29","v":237},{"$f":"+'[2]Class E'!AB29","v":147.55000000000001},{"$f":"+'[2]Class E'!AC29","v":165.68},{"$f":"+'[2]Class E'!AD29","v":160.83512901642024},{"$f":"+'[2]Class E'!AE29","v":673.89},{"$f":"+'[2]Class E'!AF29","v":180},{"$f":"+'[2]Class E'!AG29","v":146.44029196706734},{"$f":"+'[2]Class E'!AH29","v":654.04},{"$f":"+'[2]Class E'!AI29","v":165.4},{"$f":"+'[2]Class E'!AJ29","v":163.76},{"$f":"+'[2]Class E'!AK29","v":160.57},{"$f":"+'[2]Class E'!AL29","v":180.79074175450157},{"$f":"+'[2]Class E'!AM29","v":1644},{"$f":"+'[2]Class E'!AN29","v":191.08},{"$f":"+'[2]Class E'!AO29","v":157.72999999999999},null,{"$f":"+'[2]Class E'!AQ29","v":162.47677607324931},{"$f":"(AQ29/AQ28)-1","v":6.5451801310969504E-3}]
[null,"2014-04-21",17,{"$f":"+'[2]Class E'!D30","v":149.4},{"$f":"+'[2]Class E'!E30","v":190.2188362818284},{"$f":"+'[2]Class E'!F30","v":372.03},{"$f":"+'[2]Class E'!G30","v":158.34057002605209},{"$f":"+'[2]Class E'!H30","v":4350},{"$f":"+'[2]Class E'!I30","v":149.88432902222144},{"$f":"+'[2]Class E'!J30","v":1119},{"$f":"+'[2]Class E'!K30","v":162.94999999999999},{"$f":"+'[2]Class E'!L30","v":160.91999999999999},{"$f":"+'[2]Class E'!M30","v":189.61},{"$f":"+'[2]Class E'!N30","v":185.88},{"$f":"+'[2]Class E'!O30","v":164},{"$f":"+'[2]Class E'!P30","v":163.50633160553767},{"$f":"+'[2]Class E'!Q30","v":1246},{"$f":"+'[2]Class E'!R30","v":160.61000000000001},null,{"$f":"+'[2]Class E'!T30","v":201},{"$f":"+'[2]Class E'!U30","v":171.91},{"$f":"+'[2]Class E'!V30","v":167.18894810009269},{"$f":"+'[2]Class E'!W30","v":577.27},{"$f":"+'[2]Class E'!X30","v":157.69999999999999},{"$f":"+'[2]Class E'!Y30","v":161.85107684890738},{"$f":"+'[2]Class E'!Z30","v":49878.34},{"$f":"+'[2]Class E'!AA30","v":237},{"$f":"+'[2]Class E'!AB30","v":145.1},{"$f":"+'[2]Class E'!AC30","v":163.44},{"$f":"+'[2]Class E'!AD30","v":160.47208488265983},{"$f":"+'[2]Class E'!AE30","v":673.24},{"$f":"+'[2]Class E'!AF30","v":180},{"$f":"+'[2]Class E'!AG30","v":147.71403223895129},{"$f":"+'[2]Class E'!AH30","v":658.87},{"$f":"+'[2]Class E'!AI30","v":161.86000000000001},{"$f":"+'[2]Class E'!AJ30","v":162.5},{"$f":"+'[2]Class E'!AK30","v":160.88999999999999},{"$f":"+'[2]Class E'!AL30","v":182.56662499528463},{"$f":"+'[2]Class E'!AM30","v":1660},{"$f":"+'[2]Class E'!AN30","v":191.22828331915929},{"$f":"+'[2]Class E'!AO30","v":157.4},null,{"$f":"+'[2]Class E'!AQ30","v":161.91385008307705},{"$f":"(AQ30/AQ29)-1","v":-3.4646550958056244E-3}]
[null,"2014-04-28",18,{"$f":"+'[2]Class E'!D31","v":150.30000000000001},{"$f":"+'[2]Class E'!E31","v":187.64699867062075},{"$f":"+'[2]Class E'!F31","v":372.03},{"$f":"+'[2]Class E'!G31","v":159.67379311780502},{"$f":"+'[2]Class E'!H31","v":4383},{"$f":"+'[2]Class E'!I31","v":149.91559711690471},{"$f":"+'[2]Class E'!J31","v":1119},{"$f":"+'[2]Class E'!K31","v":163.96},{"$f":"+'[2]Class E'!L31","v":160.97999999999999},{"$f":"+'[2]Class E'!M31","v":188.69},{"$f":"+'[2]Class E'!N31","v":185.07},{"$f":"+'[2]Class E'!O31","v":164},{"$f":"+'[2]Class E'!P31","v":163.91256994779735},{"$f":"+'[2]Class E'!Q31","v":1247},{"$f":"+'[2]Class E'!R31","v":162.19},null,{"$f":"+'[2]Class E'!T31","v":201},{"$f":"+'[2]Class E'!U31","v":173.35},{"$f":"+'[2]Class E'!V31","v":166.81823447636702},{"$f":"+'[2]Class E'!W31","v":575.99},{"$f":"+'[2]Class E'!X31","v":159.80000000000001},{"$f":"+'[2]Class E'!Y31","v":163.72743071647048},{"$f":"+'[2]Class E'!Z31","v":50470.15},{"$f":"+'[2]Class E'!AA31","v":237},{"$f":"+'[2]Class E'!AB31","v":147.08000000000001},{"$f":"+'[2]Class E'!AC31","v":163.31},{"$f":"+'[2]Class E'!AD31","v":162.81758885690104},{"$f":"+'[2]Class E'!AE31","v":684.32},{"$f":"+'[2]Class E'!AF31","v":180},{"$f":"+'[2]Class E'!AG31","v":153.97399726219319},{"$f":"+'[2]Class E'!AH31","v":684.52},{"$f":"+'[2]Class E'!AI31","v":162.32},{"$f":"+'[2]Class E'!AJ31","v":161.19},{"$f":"+'[2]Class E'!AK31","v":162.22},{"$f":"+'[2]Class E'!AL31","v":181.5313694819267},{"$f":"+'[2]Class E'!AM31","v":1644},{"$f":"+'[2]Class E'!AN31","v":192.57554306758274},{"$f":"+'[2]Class E'!AO31","v":158.37},null,{"$f":"+'[2]Class E'!AQ31","v":163.06084307741514},{"$f":"(AQ31/AQ30)-1","v":7.0839708508541044E-3}]
[null,"2014-05-05",19,{"$f":"+'[2]Class E'!D32","v":151.69999999999999},{"$f":"+'[2]Class E'!E32","v":199.00807853563762},{"$f":"+'[2]Class E'!F32","v":389.22},{"$f":"+'[2]Class E'!G32","v":159.67379311780502},{"$f":"+'[2]Class E'!H32","v":4383},{"$f":"+'[2]Class E'!I32","v":149.91961414790998},{"$f":"+'[2]Class E'!J32","v":1119},{"$f":"+'[2]Class E'!K32","v":164.07},{"$f":"+'[2]Class E'!L32","v":163.01},{"$f":"+'[2]Class E'!M32","v":187.76},{"$f":"+'[2]Class E'!N32","v":185.14},{"$f":"+'[2]Class E'!O32","v":160},{"$f":"+'[2]Class E'!P32","v":166.39000869496479},{"$f":"+'[2]Class E'!Q32","v":1263},{"$f":"+'[2]Class E'!R32","v":163.4},null,{"$f":"+'[2]Class E'!T32","v":201},{"$f":"+'[2]Class E'!U32","v":172.19},{"$f":"+'[2]Class E'!V32","v":167.1599860982391},{"$f":"+'[2]Class E'!W32","v":577.16999999999996},{"$f":"+'[2]Class E'!X32","v":158.69999999999999},{"$f":"+'[2]Class E'!Y32","v":164.79099344927155},{"$f":"+'[2]Class E'!Z32","v":50384.14},{"$f":"+'[2]Class E'!AA32","v":237},{"$f":"+'[2]Class E'!AB32","v":147.15},{"$f":"+'[2]Class E'!AC32","v":163.13999999999999},{"$f":"+'[2]Class E'!AD32","v":163.16420227634086},{"$f":"+'[2]Class E'!AE32","v":684.63},{"$f":"+'[2]Class E'!AF32","v":181},{"$f":"+'[2]Class E'!AG32","v":157.54137755529354},{"$f":"+'[2]Class E'!AH32","v":698.66},{"$f":"+'[2]Class E'!AI32","v":163.81},{"$f":"+'[2]Class E'!AJ32","v":162.36000000000001},{"$f":"+'[2]Class E'!AK32","v":160.55000000000001},{"$f":"+'[2]Class E'!AL32","v":183.32886068410858},{"$f":"+'[2]Class E'!AM32","v":1658},{"$f":"+'[2]Class E'!AN32","v":192.89064376965098},{"$f":"+'[2]Class E'!AO32","v":158.28},null,{"$f":"+'[2]Class E'!AQ32","v":163.27645337621897},{"$f":"(AQ32/AQ31)-1","v":1.3222690054501829E-3}]
[null,"2014-05-12",20,{"$f":"+'[2]Class E'!D33","v":151.1},{"$f":"+'[2]Class E'!E33","v":193.93598527456797},{"$f":"+'[2]Class E'!F33","v":379.3},{"$f":"+'[2]Class E'!G33","v":160.8612749286265},{"$f":"+'[2]Class E'!H33","v":4411},{"$f":"+'[2]Class E'!I33","v":149.91301485350323},{"$f":"+'[2]Class E'!J33","v":1119},{"$f":"+'[2]Class E'!K33","v":164.07},{"$f":"+'[2]Class E'!L33","v":163.88},{"$f":"+'[2]Class E'!M33","v":185.71},{"$f":"+'[2]Class E'!N33","v":185.32},{"$f":"+'[2]Class E'!O33","v":157},{"$f":"+'[2]Class E'!P33","v":166.42352254651894},{"$f":"+'[2]Class E'!Q33","v":1263},{"$f":"+'[2]Class E'!R33","v":166.37},null,{"$f":"+'[2]Class E'!T33","v":201},{"$f":"+'[2]Class E'!U33","v":172.55},{"$f":"+'[2]Class E'!V33","v":168.21420296570898},{"$f":"+'[2]Class E'!W33","v":580.80999999999995},{"$f":"+'[2]Class E'!X33","v":158.6},{"$f":"+'[2]Class E'!Y33","v":164.70647174770036},{"$f":"+'[2]Class E'!Z33","v":50136.65},{"$f":"+'[2]Class E'!AA33","v":237},{"$f":"+'[2]Class E'!AB33","v":147.22999999999999},{"$f":"+'[2]Class E'!AC33","v":163.43},{"$f":"+'[2]Class E'!AD33","v":160.74872260469178},{"$f":"+'[2]Class E'!AE33","v":672.8},{"$f":"+'[2]Class E'!AF33","v":181},{"$f":"+'[2]Class E'!AG33","v":162.46967045926897},{"$f":"+'[2]Class E'!AH33","v":720.3},{"$f":"+'[2]Class E'!AI33","v":162.41999999999999},{"$f":"+'[2]Class E'!AJ33","v":162.19},{"$f":"+'[2]Class E'!AK33","v":161.01},{"$f":"+'[2]Class E'!AL33","v":184.04450744880438},{"$f":"+'[2]Class E'!AM33","v":1657},{"$f":"+'[2]Class E'!AN33","v":195.70841763227273},{"$f":"+'[2]Class E'!AO33","v":159.61000000000001},null,{"$f":"+'[2]Class E'!AQ33","v":163.04627095681377},{"$f":"(AQ33/AQ32)-1","v":-1.4097710640175176E-3}]
[null,"2014-05-19",21,{"$f":"+'[2]Class E'!D34","v":143.1},{"$f":"+'[2]Class E'!E34","v":190.76081398916045},{"$f":"+'[2]Class E'!F34","v":373.09},{"$f":"+'[2]Class E'!G34","v":161.86739653037228},{"$f":"+'[2]Class E'!H34","v":4444},{"$f":"+'[2]Class E'!I34","v":149.90928507452401},{"$f":"+'[2]Class E'!J34","v":1119},{"$f":"+'[2]Class E'!K34","v":168.06},{"$f":"+'[2]Class E'!L34","v":163.44},{"$f":"+'[2]Class E'!M34","v":185.71},{"$f":"+'[2]Class E'!N34","v":177.67},{"$f":"+'[2]Class E'!O34","v":153},{"$f":"+'[2]Class E'!P34","v":167.76166274120905},{"$f":"+'[2]Class E'!Q34","v":1276},{"$f":"+'[2]Class E'!R34","v":166.88},null,{"$f":"+'[2]Class E'!T34","v":201},{"$f":"+'[2]Class E'!U34","v":175.18},{"$f":"+'[2]Class E'!V34","v":167.70736793327154},{"$f":"+'[2]Class E'!W34","v":579.05999999999995},{"$f":"+'[2]Class E'!X34","v":163.6},{"$f":"+'[2]Class E'!Y34","v":166.56446703840399},{"$f":"+'[2]Class E'!Z34","v":50738.63},{"$f":"+'[2]Class E'!AA34","v":237},{"$f":"+'[2]Class E'!AB34","v":147.4},{"$f":"+'[2]Class E'!AC34","v":165.08},{"$f":"+'[2]Class E'!AD34","v":162.08763415134322},{"$f":"+'[2]Class E'!AE34","v":677.48},{"$f":"+'[2]Class E'!AF34","v":181},{"$f":"+'[2]Class E'!AG34","v":163.53145599648605},{"$f":"+'[2]Class E'!AH34","v":723.33},{"$f":"+'[2]Class E'!AI34","v":163.9},{"$f":"+'[2]Class E'!AJ34","v":164.2},{"$f":"+'[2]Class E'!AK34","v":160.99},{"$f":"+'[2]Class E'!AL34","v":186.28891439193725},{"$f":"+'[2]Class E'!AM34","v":1682},{"$f":"+'[2]Class E'!AN34","v":196.07},{"$f":"+'[2]Class E'!AO34","v":159.15},null,{"$f":"+'[2]Class E'!AQ34","v":163.59987126492999},{"$f":"(AQ34/AQ33)-1","v":3.3953570656199972E-3}]
[null,"2014-05-26",22,{"$f":"+'[2]Class E'!D35","v":150.80000000000001},{"$f":"+'[2]Class E'!E35","v":191.59934553635344},{"$f":"+'[2]Class E'!F35","v":374.73},{"$f":"+'[2]Class E'!G35","v":165.46448087431696},{"$f":"+'[2]Class E'!H35","v":4542},{"$f":"+'[2]Class E'!I35","v":151.9350763694828},{"$f":"+'[2]Class E'!J35","v":1134},{"$f":"+'[2]Class E'!K35","v":171.87},{"$f":"+'[2]Class E'!L35","v":162.80000000000001},{"$f":"+'[2]Class E'!M35","v":181.81},{"$f":"+'[2]Class E'!N35","v":177.8},{"$f":"+'[2]Class E'!O35","v":151},{"$f":"+'[2]Class E'!P35","v":170.44481618567158},{"$f":"+'[2]Class E'!Q35","v":1294},{"$f":"+'[2]Class E'!R35","v":167.84},null,{"$f":"+'[2]Class E'!T35","v":201},{"$f":"+'[2]Class E'!U35","v":175.02},{"$f":"+'[2]Class E'!V35","v":166.69080166821129},{"$f":"+'[2]Class E'!W35","v":575.54999999999995},{"$f":"+'[2]Class E'!X35","v":167.5},{"$f":"+'[2]Class E'!Y35","v":173.0768016585389},{"$f":"+'[2]Class E'!Z35","v":52475.65},{"$f":"+'[2]Class E'!AA35","v":237},{"$f":"+'[2]Class E'!AB35","v":151.30000000000001},{"$f":"+'[2]Class E'!AC35","v":169.36},{"$f":"+'[2]Class E'!AD35","v":166.88972991570617},{"$f":"+'[2]Class E'!AE35","v":692.95},{"$f":"+'[2]Class E'!AF35","v":184},{"$f":"+'[2]Class E'!AG35","v":167.73064952177566},{"$f":"+'[2]Class E'!AH35","v":738.3},{"$f":"+'[2]Class E'!AI35","v":169.6},{"$f":"+'[2]Class E'!AJ35","v":169.69},{"$f":"+'[2]Class E'!AK35","v":161.41999999999999},{"$f":"+'[2]Class E'!AL35","v":186.82576723962111},{"$f":"+'[2]Class E'!AM35","v":1691},{"$f":"+'[2]Class E'!AN35","v":196.63232719562939},{"$f":"+'[2]Class E'!AO35","v":159.65},null,{"$f":"+'[2]Class E'!AQ35","v":166.53216781433619},1.7923587144257125E-2]
[null,"2014-06-02",23,{"$f":"+'[2]Class E'!D36","v":151.80000000000001},{"$f":"+'[2]Class E'!E36","v":184.45648839349627},{"$f":"+'[2]Class E'!F36","v":360.76},{"$f":"+'[2]Class E'!G36","v":166.61811826390914},{"$f":"+'[2]Class E'!H36","v":4576},{"$f":"+'[2]Class E'!I36","v":155.43049653535471},{"$f":"+'[2]Class E'!J36","v":1160},{"$f":"+'[2]Class E'!K36","v":173.46},{"$f":"+'[2]Class E'!L36","v":162.61000000000001},{"$f":"+'[2]Class E'!M36","v":180.89},{"$f":"+'[2]Class E'!N36","v":178.84},{"$f":"+'[2]Class E'!O36","v":151},{"$f":"+'[2]Class E'!P36","v":170.37538389606672},{"$f":"+'[2]Class E'!Q36","v":1319},{"$f":"+'[2]Class E'!R36","v":169.54},null,{"$f":"+'[2]Class E'!T36","v":205},{"$f":"+'[2]Class E'!U36","v":175.8},{"$f":"+'[2]Class E'!V36","v":168.93825301204819},{"$f":"+'[2]Class E'!W36","v":583.30999999999995},{"$f":"+'[2]Class E'!X36","v":168},{"$f":"+'[2]Class E'!Y36","v":173.98078288468321},{"$f":"+'[2]Class E'!Z36","v":52859.09},{"$f":"+'[2]Class E'!AA36","v":237},{"$f":"+'[2]Class E'!AB36","v":154},{"$f":"+'[2]Class E'!AC36","v":170.12},{"$f":"+'[2]Class E'!AD36","v":166.68579825395454},{"$f":"+'[2]Class E'!AE36","v":688.71},{"$f":"+'[2]Class E'!AF36","v":186},{"$f":"+'[2]Class E'!AG36","v":169.20729428358786},{"$f":"+'[2]Class E'!AH36","v":743.77},{"$f":"+'[2]Class E'!AI36","v":170.23},{"$f":"+'[2]Class E'!AJ36","v":170.75},{"$f":"+'[2]Class E'!AK36","v":159.63},{"$f":"+'[2]Class E'!AL36","v":185.55976958413123},{"$f":"+'[2]Class E'!AM36","v":1684},{"$f":"+'[2]Class E'!AN36","v":196.45},{"$f":"+'[2]Class E'!AO36","v":159.56},null,{"$f":"+'[2]Class E'!AQ36","v":167.73960750866544},{"$f":"(AQ36/AQ35)-1","v":7.2504892608820093E-3}]
[null,"2014-06-09",24,{"$f":"+'[2]Class E'!D37","v":154.4},{"$f":"+'[2]Class E'!E37","v":189.93250843644549},{"$f":"+'[2]Class E'!F37","v":371.47},{"$f":"+'[2]Class E'!G37","v":170.01894767526599},{"$f":"+'[2]Class E'!H37","v":4666},{"$f":"+'[2]Class E'!I37","v":155.48287773531146},{"$f":"+'[2]Class E'!J37","v":1160},{"$f":"+'[2]Class E'!K37","v":175.21},{"$f":"+'[2]Class E'!L37","v":163.54},{"$f":"+'[2]Class E'!M37","v":180.51},{"$f":"+'[2]Class E'!N37","v":181.36},{"$f":"+'[2]Class E'!O37","v":153},{"$f":"+'[2]Class E'!P37","v":173.86781447817984},{"$f":"+'[2]Class E'!Q37","v":1318},{"$f":"+'[2]Class E'!R37","v":170.38},null,{"$f":"+'[2]Class E'!T37","v":205},{"$f":"+'[2]Class E'!U37","v":176.66},{"$f":"+'[2]Class E'!V37","v":170.50220111214088},{"$f":"+'[2]Class E'!W37","v":588.71},{"$f":"+'[2]Class E'!X37","v":170},{"$f":"+'[2]Class E'!Y37","v":176.71303549772199},{"$f":"+'[2]Class E'!Z37","v":53913.38},{"$f":"+'[2]Class E'!AA37","v":237},{"$f":"+'[2]Class E'!AB37","v":156.99},{"$f":"+'[2]Class E'!AC37","v":171.75},{"$f":"+'[2]Class E'!AD37","v":170.16907709192958},{"$f":"+'[2]Class E'!AE37","v":699.92},{"$f":"+'[2]Class E'!AF37","v":189},{"$f":"+'[2]Class E'!AG37","v":173.3255494773542},{"$f":"+'[2]Class E'!AH37","v":761.33},{"$f":"+'[2]Class E'!AI37","v":172.59},{"$f":"+'[2]Class E'!AJ37","v":170.74},{"$f":"+'[2]Class E'!AK37","v":160.84},{"$f":"+'[2]Class E'!AL37","v":187.44782223628235},{"$f":"+'[2]Class E'!AM37","v":1697},{"$f":"+'[2]Class E'!AN37","v":197.19779585969459},{"$f":"+'[2]Class E'!AO37","v":158.74},null,{"$f":"+'[2]Class E'!AQ37","v":169.97847236424752},1.3347264184259133E-2]
[null,"2014-06-16",25,{"$f":"+'[2]Class E'!D38","v":156.19999999999999},{"$f":"+'[2]Class E'!E38","v":194.58533592391862},{"$f":"+'[2]Class E'!F38","v":380.57},{"$f":"+'[2]Class E'!G38","v":171.69776944899925},{"$f":"+'[2]Class E'!H38","v":4712},{"$f":"+'[2]Class E'!I38","v":155.56419801100063},{"$f":"+'[2]Class E'!J38","v":1160},{"$f":"+'[2]Class E'!K38","v":176.47},{"$f":"+'[2]Class E'!L38","v":162.97},{"$f":"+'[2]Class E'!M38","v":180.51},{"$f":"+'[2]Class E'!N38","v":184.07},{"$f":"+'[2]Class E'!O38","v":158},{"$f":"+'[2]Class E'!P38","v":174.60571837969812},{"$f":"+'[2]Class E'!Q38","v":1323},{"$f":"+'[2]Class E'!R38","v":172.89},null,{"$f":"+'[2]Class E'!T38","v":205},{"$f":"+'[2]Class E'!U38","v":178.35},{"$f":"+'[2]Class E'!V38","v":169.93164967562558},{"$f":"+'[2]Class E'!W38","v":586.74},{"$f":"+'[2]Class E'!X38","v":170.4},{"$f":"+'[2]Class E'!Y38","v":177.95},{"$f":"+'[2]Class E'!Z38","v":54541.45},{"$f":"+'[2]Class E'!AA38","v":237},{"$f":"+'[2]Class E'!AB38","v":156.99},{"$f":"+'[2]Class E'!AC38","v":172.91},{"$f":"+'[2]Class E'!AD38","v":171.32735490944447},{"$f":"+'[2]Class E'!AE38","v":709.89},{"$f":"+'[2]Class E'!AF38","v":192},{"$f":"+'[2]Class E'!AG38","v":175.87396795586216},{"$f":"+'[2]Class E'!AH38","v":773.25},{"$f":"+'[2]Class E'!AI38","v":172},{"$f":"+'[2]Class E'!AJ38","v":173.85},{"$f":"+'[2]Class E'!AK38","v":160.68},{"$f":"+'[2]Class E'!AL38","v":187.84982477099044},{"$f":"+'[2]Class E'!AM38","v":1702},{"$f":"+'[2]Class E'!AN38","v":197.98},{"$f":"+'[2]Class E'!AO38","v":158.1},null,{"$f":"+'[2]Class E'!AQ38","v":171.4515747591897},{"$f":"(AQ38/AQ37)-1","v":8.6664056598029227E-3}]
[null,"2014-06-23",26,{"$f":"+'[2]Class E'!D39","v":158.69999999999999},{"$f":"+'[2]Class E'!E39","v":194.76940382452196},{"$f":"+'[2]Class E'!F39","v":380.93},{"$f":"+'[2]Class E'!G39","v":174.33145617121383},{"$f":"+'[2]Class E'!H39","v":4785},{"$f":"+'[2]Class E'!I39","v":157.19215418779905},{"$f":"+'[2]Class E'!J39","v":1172},{"$f":"+'[2]Class E'!K39","v":180.9},{"$f":"+'[2]Class E'!L39","v":165.85},{"$f":"+'[2]Class E'!M39","v":182.37},{"$f":"+'[2]Class E'!N39","v":186.73},{"$f":"+'[2]Class E'!O39","v":159},{"$f":"+'[2]Class E'!P39","v":177.82781876612503},{"$f":"+'[2]Class E'!Q39","v":1347},{"$f":"+'[2]Class E'!R39","v":172.87},null,{"$f":"+'[2]Class E'!T39","v":205},{"$f":"+'[2]Class E'!U39","v":174.11},{"$f":"+'[2]Class E'!V39","v":175.76459684893422},{"$f":"+'[2]Class E'!W39","v":606.88},{"$f":"+'[2]Class E'!X39","v":175.7},{"$f":"+'[2]Class E'!Y39","v":180.01013029315962},{"$f":"+'[2]Class E'!Z39","v":55263.11},{"$f":"+'[2]Class E'!AA39","v":237},{"$f":"+'[2]Class E'!AB39","v":159.09},{"$f":"+'[2]Class E'!AC39","v":176.83},{"$f":"+'[2]Class E'!AD39","v":175.66778954177749},{"$f":"+'[2]Class E'!AE39","v":729.33},{"$f":"+'[2]Class E'!AF39","v":195},{"$f":"+'[2]Class E'!AG39","v":178.95271127654175},{"$f":"+'[2]Class E'!AH39","v":785.72},{"$f":"+'[2]Class E'!AI39","v":173.95},{"$f":"+'[2]Class E'!AJ39","v":175.18},{"$f":"+'[2]Class E'!AK39","v":161.05000000000001},{"$f":"+'[2]Class E'!AL39","v":185.20134374590987},{"$f":"+'[2]Class E'!AM39","v":1698},{"$f":"+'[2]Class E'!AN39","v":199.48384100874256},{"$f":"+'[2]Class E'!AO39","v":159.56},null,{"$f":"+'[2]Class E'!AQ39","v":174.34087094959389},{"$f":"(AQ39/AQ38)-1","v":1.6851966477778424E-2}]
[null,"2014-06-30",27,{"$f":"+'[2]Class E'!D40","v":162.5},{"$f":"+'[2]Class E'!E40","v":194.69270886593722},{"$f":"+'[2]Class E'!F40","v":380.78},{"$f":"+'[2]Class E'!G40","v":177.09157539666015},{"$f":"+'[2]Class E'!H40","v":4860},{"$f":"+'[2]Class E'!I40","v":157.1801076350371},{"$f":"+'[2]Class E'!J40","v":1172},{"$f":"+'[2]Class E'!K40","v":180.35},{"$f":"+'[2]Class E'!L40","v":166.3},{"$f":"+'[2]Class E'!M40","v":180.89},{"$f":"+'[2]Class E'!N40","v":189.19},{"$f":"+'[2]Class E'!O40","v":160},{"$f":"+'[2]Class E'!P40","v":179.21666886456549},{"$f":"+'[2]Class E'!Q40","v":1359},{"$f":"+'[2]Class E'!R40","v":173.49},null,{"$f":"+'[2]Class E'!T40","v":205},{"$f":"+'[2]Class E'!U40","v":182.12},{"$f":"+'[2]Class E'!V40","v":177.74849397590364},{"$f":"+'[2]Class E'!W40","v":613.73},{"$f":"+'[2]Class E'!X40","v":176},{"$f":"+'[2]Class E'!Y40","v":183.6801650570838},{"$f":"+'[2]Class E'!Z40","v":56976.800000000003},{"$f":"+'[2]Class E'!AA40","v":237},{"$f":"+'[2]Class E'!AB40","v":160.1},{"$f":"+'[2]Class E'!AC40","v":178},{"$f":"+'[2]Class E'!AD40","v":178.27657574202698},{"$f":"+'[2]Class E'!AE40","v":739.56},{"$f":"+'[2]Class E'!AF40","v":196},{"$f":"+'[2]Class E'!AG40","v":180.80322985006595},{"$f":"+'[2]Class E'!AH40","v":793.3},{"$f":"+'[2]Class E'!AI40","v":173.42},{"$f":"+'[2]Class E'!AJ40","v":176.97},{"$f":"+'[2]Class E'!AK40","v":161.47},{"$f":"+'[2]Class E'!AL40","v":188.84911562058159},{"$f":"+'[2]Class E'!AM40","v":1744},{"$f":"+'[2]Class E'!AN40","v":198.68740754023398},{"$f":"+'[2]Class E'!AO40","v":158.29},null,{"$f":"+'[2]Class E'!AQ40","v":175.36054018613902},5.8487102363962151E-3]
[null,"2014-07-07",28,{"$f":"+'[2]Class E'!D41","v":158.69999999999999},{"$f":"+'[2]Class E'!E41","v":194.52397995705084},{"$f":"+'[2]Class E'!F41","v":380.45},{"$f":"+'[2]Class E'!G41","v":178.50969448320387},{"$f":"+'[2]Class E'!H41","v":4898},{"$f":"+'[2]Class E'!I41","v":153.84084782038039},{"$f":"+'[2]Class E'!J41","v":1147},{"$f":"+'[2]Class E'!K41","v":174.85},{"$f":"+'[2]Class E'!L41","v":167.21},{"$f":"+'[2]Class E'!M41","v":185.16},{"$f":"+'[2]Class E'!N41","v":189.91},{"$f":"+'[2]Class E'!O41","v":160},{"$f":"+'[2]Class E'!P41","v":180.81195368959709},{"$f":"+'[2]Class E'!Q41","v":1375},{"$f":"+'[2]Class E'!R41","v":175.07},null,{"$f":"+'[2]Class E'!T41","v":205},{"$f":"+'[2]Class E'!U41","v":181.74},{"$f":"+'[2]Class E'!V41","v":179.39},{"$f":"+'[2]Class E'!W41","v":608.9},{"$f":"+'[2]Class E'!X41","v":170.7},{"$f":"+'[2]Class E'!Y41","v":184.5207808070798},{"$f":"+'[2]Class E'!Z41","v":57189.58},{"$f":"+'[2]Class E'!AA41","v":237},{"$f":"+'[2]Class E'!AB41","v":157.6},{"$f":"+'[2]Class E'!AC41","v":175.79},{"$f":"+'[2]Class E'!AD41","v":175.31408769604593},{"$f":"+'[2]Class E'!AE41","v":725.62},{"$f":"+'[2]Class E'!AF41","v":196},{"$f":"+'[2]Class E'!AG41","v":181.0955228631847},{"$f":"+'[2]Class E'!AH41","v":796.44},{"$f":"+'[2]Class E'!AI41","v":178.24},{"$f":"+'[2]Class E'!AJ41","v":178.07},{"$f":"+'[2]Class E'!AK41","v":161.44},{"$f":"+'[2]Class E'!AL41","v":186.57769674645888},{"$f":"+'[2]Class E'!AM41","v":1728},{"$f":"+'[2]Class E'!AN41","v":198.68863664981737},{"$f":"+'[2]Class E'!AO41","v":157.79},null,{"$f":"+'[2]Class E'!AQ41","v":172.97795769204677},{"$f":"(AQ41/AQ40)-1","v":-1.35867652526801E-2}]
[null,"2014-07-14",29,{"$f":"+'[2]Class E'!D42","v":150.9},{"$f":"+'[2]Class E'!E42","v":194.58533592391862},{"$f":"+'[2]Class E'!F42","v":380.57},{"$f":"+'[2]Class E'!G42","v":174.90706126146767},{"$f":"+'[2]Class E'!H42","v":4799},{"$f":"+'[2]Class E'!I42","v":152.61502083168213},{"$f":"+'[2]Class E'!J42","v":1138},{"$f":"+'[2]Class E'!K42","v":168.04},{"$f":"+'[2]Class E'!L42","v":167.69},{"$f":"+'[2]Class E'!M42","v":188.87},{"$f":"+'[2]Class E'!N42","v":187.74},{"$f":"+'[2]Class E'!O42","v":159},{"$f":"+'[2]Class E'!P42","v":175.51196459380395},{"$f":"+'[2]Class E'!Q42","v":1337},{"$f":"+'[2]Class E'!R42","v":175.12},null,{"$f":"+'[2]Class E'!T42","v":205},{"$f":"+'[2]Class E'!U42","v":179.66},{"$f":"+'[2]Class E'!V42","v":169.88820667284526},{"$f":"+'[2]Class E'!W42","v":586.59},{"$f":"+'[2]Class E'!X42","v":163.19999999999999},{"$f":"+'[2]Class E'!Y42","v":174.86827835517397},{"$f":"+'[2]Class E'!Z42","v":54177.69},{"$f":"+'[2]Class E'!AA42","v":237},{"$f":"+'[2]Class E'!AB42","v":149.71},{"$f":"+'[2]Class E'!AC42","v":170.75},{"$f":"+'[2]Class E'!AD42","v":168.04798819261487},{"$f":"+'[2]Class E'!AE42","v":696.17},{"$f":"+'[2]Class E'!AF42","v":197},{"$f":"+'[2]Class E'!AG42","v":181.1984550208598},{"$f":"+'[2]Class E'!AH42","v":802.88},{"$f":"+'[2]Class E'!AI42","v":175.41},{"$f":"+'[2]Class E'!AJ42","v":177.24},{"$f":"+'[2]Class E'!AK42","v":161.87},{"$f":"+'[2]Class E'!AL42","v":189.08},{"$f":"+'[2]Class E'!AM42","v":1747},{"$f":"+'[2]Class E'!AN42","v":198.83023016888663},{"$f":"+'[2]Class E'!AO42","v":157.59},null,{"$f":"+'[2]Class E'!AQ42","v":168.36392508081602},{"$f":"(AQ42/AQ41)-1","v":-2.6674107341729258E-2}]
[null,"2014-07-21",30,{"$f":"+'[2]Class E'!D43","v":141.69999999999999},{"$f":"+'[2]Class E'!E43","v":191.53798956948566},{"$f":"+'[2]Class E'!F43","v":374.61},{"$f":"+'[2]Class E'!G43","v":171.10107965301327},{"$f":"+'[2]Class E'!H43","v":4700},{"$f":"+'[2]Class E'!I43","v":149.66033311493499},{"$f":"+'[2]Class E'!J43","v":1116},{"$f":"+'[2]Class E'!K43","v":165.47},{"$f":"+'[2]Class E'!L43","v":167.54},{"$f":"+'[2]Class E'!M43","v":190.36},{"$f":"+'[2]Class E'!N43","v":185.18},{"$f":"+'[2]Class E'!O43","v":158},{"$f":"+'[2]Class E'!P43","v":170.53493623679992},{"$f":"+'[2]Class E'!Q43","v":1300},{"$f":"+'[2]Class E'!R43","v":171.24},null,{"$f":"+'[2]Class E'!T43","v":205},{"$f":"+'[2]Class E'!U43","v":173.1},{"$f":"+'[2]Class E'!V43","v":171.03510194624653},{"$f":"+'[2]Class E'!W43","v":590.54999999999995},{"$f":"+'[2]Class E'!X43","v":160.30000000000001},{"$f":"+'[2]Class E'!Y43","v":169.04649881727747},{"$f":"+'[2]Class E'!Z43","v":52169.440000000002},{"$f":"+'[2]Class E'!AA43","v":237},{"$f":"+'[2]Class E'!AB43","v":143.76},{"$f":"+'[2]Class E'!AC43","v":167.2},{"$f":"+'[2]Class E'!AD43","v":164.08896917380844},{"$f":"+'[2]Class E'!AE43","v":679.98},{"$f":"+'[2]Class E'!AF43","v":194},{"$f":"+'[2]Class E'!AG43","v":180.87806202076402},{"$f":"+'[2]Class E'!AH43","v":799.68},{"$f":"+'[2]Class E'!AI43","v":171.33},{"$f":"+'[2]Class E'!AJ43","v":173.27},{"$f":"+'[2]Class E'!AK43","v":161.71},{"$f":"+'[2]Class E'!AL43","v":172.52236602101968},{"$f":"+'[2]Class E'!AM43","v":1589},{"$f":"+'[2]Class E'!AN43","v":197.02823716328447},{"$f":"+'[2]Class E'!AO43","v":155.9},null,{"$f":"+'[2]Class E'!AQ43","v":164.93341983443742},{"$f":"(AQ43/AQ42)-1","v":-2.0375536176956754E-2}]
[null,"2014-07-28",31,{"$f":"+'[2]Class E'!D44","v":143.5},{"$f":"+'[2]Class E'!E44","v":191.18007976275698},{"$f":"+'[2]Class E'!F44","v":373.91},{"$f":"+'[2]Class E'!G44","v":170.01887888469358},{"$f":"+'[2]Class E'!H44","v":4683},{"$f":"+'[2]Class E'!I44","v":149.67065558506053},{"$f":"+'[2]Class E'!J44","v":1116},{"$f":"+'[2]Class E'!K44","v":166.84},{"$f":"+'[2]Class E'!L44","v":166.9},{"$f":"+'[2]Class E'!M44","v":190.73},{"$f":"+'[2]Class E'!N44","v":183.27},{"$f":"+'[2]Class E'!O44","v":156},{"$f":"+'[2]Class E'!P44","v":170.70297159314046},{"$f":"+'[2]Class E'!Q44","v":1304},{"$f":"+'[2]Class E'!R44","v":167.18},null,{"$f":"+'[2]Class E'!T44","v":205},{"$f":"+'[2]Class E'!U44","v":175.91},{"$f":"+'[2]Class E'!V44","v":171.50428637627434},{"$f":"+'[2]Class E'!W44","v":592.16999999999996},{"$f":"+'[2]Class E'!X44","v":162.5},{"$f":"+'[2]Class E'!Y44","v":170.62063222609655},{"$f":"+'[2]Class E'!Z44","v":53126.39},{"$f":"+'[2]Class E'!AA44","v":237},{"$f":"+'[2]Class E'!AB44","v":146.75},{"$f":"+'[2]Class E'!AC44","v":166.38},{"$f":"+'[2]Class E'!AD44","v":162.96920421043959},{"$f":"+'[2]Class E'!AE44","v":678.35},{"$f":"+'[2]Class E'!AF44","v":194},{"$f":"+'[2]Class E'!AG44","v":183.1472676012572},{"$f":"+'[2]Class E'!AH44","v":808.31},{"$f":"+'[2]Class E'!AI44","v":170.18},{"$f":"+'[2]Class E'!AJ44","v":175.05},{"$f":"+'[2]Class E'!AK44","v":161.29},{"$f":"+'[2]Class E'!AL44","v":173.38895031742678},{"$f":"+'[2]Class E'!AM44","v":1595},{"$f":"+'[2]Class E'!AN44","v":195.18988253945375},{"$f":"+'[2]Class E'!AO44","v":154.78},null,{"$f":"+'[2]Class E'!AQ44","v":165.27702835615173},{"$f":"(AQ44/AQ43)-1","v":2.0833165410578669E-3}]
[null,"2014-08-04",32,{"$f":"+'[2]Class E'!D45","v":146},{"$f":"+'[2]Class E'!E45","v":193.30708661417324},{"$f":"+'[2]Class E'!F45","v":378.07},{"$f":"+'[2]Class E'!G45","v":168.75977929671416},{"$f":"+'[2]Class E'!H45","v":4684},{"$f":"+'[2]Class E'!I45","v":149.68872333454053},{"$f":"+'[2]Class E'!J45","v":1116},{"$f":"+'[2]Class E'!K45","v":166.75},{"$f":"+'[2]Class E'!L45","v":163.80000000000001},{"$f":"+'[2]Class E'!M45","v":190.73},{"$f":"+'[2]Class E'!N45","v":183.27},{"$f":"+'[2]Class E'!O45","v":156},{"$f":"+'[2]Class E'!P45","v":171.58561625280481},{"$f":"+'[2]Class E'!Q45","v":1312},{"$f":"+'[2]Class E'!R45","v":167.19},null,{"$f":"+'[2]Class E'!T45","v":218},{"$f":"+'[2]Class E'!U45","v":174.39},{"$f":"+'[2]Class E'!V45","v":167.06151529193698},{"$f":"+'[2]Class E'!W45","v":576.83000000000004},{"$f":"+'[2]Class E'!X45","v":161.5},{"$f":"+'[2]Class E'!Y45","v":169.91758134465607},{"$f":"+'[2]Class E'!Z45","v":53452.43},{"$f":"+'[2]Class E'!AA45","v":237},{"$f":"+'[2]Class E'!AB45","v":146.76},{"$f":"+'[2]Class E'!AC45","v":166.46},{"$f":"+'[2]Class E'!AD45","v":162.60197509660796},{"$f":"+'[2]Class E'!AE45","v":681.66},{"$f":"+'[2]Class E'!AF45","v":194},{"$f":"+'[2]Class E'!AG45","v":181.6573607736496},{"$f":"+'[2]Class E'!AH45","v":806.39},{"$f":"+'[2]Class E'!AI45","v":169.1},{"$f":"+'[2]Class E'!AJ45","v":173.23},{"$f":"+'[2]Class E'!AK45","v":162.74},{"$f":"+'[2]Class E'!AL45","v":179.41166461975371},{"$f":"+'[2]Class E'!AM45","v":1657},{"$f":"+'[2]Class E'!AN45","v":194.24152888665373},{"$f":"+'[2]Class E'!AO45","v":154.49},null,{"$f":"+'[2]Class E'!AQ45","v":165.26214269809853},{"$f":"(AQ45/AQ44)-1","v":-9.0064894082697577E-5}]
[null,"2014-08-11",33,{"$f":"+'[2]Class E'!D46","v":146.4},{"$f":"+'[2]Class E'!E46","v":193.71101339605281},{"$f":"+'[2]Class E'!F46","v":378.86},{"$f":"+'[2]Class E'!G46","v":167.91814125250039},{"$f":"+'[2]Class E'!H46","v":4677},{"$f":"+'[2]Class E'!I46","v":149.68872333454053},{"$f":"+'[2]Class E'!J46","v":1116},{"$f":"+'[2]Class E'!K46","v":167.11},{"$f":"+'[2]Class E'!L46","v":164.58},{"$f":"+'[2]Class E'!M46","v":190.73},{"$f":"+'[2]Class E'!N46","v":183.27},{"$f":"+'[2]Class E'!O46","v":154},{"$f":"+'[2]Class E'!P46","v":169.11534913140545},{"$f":"+'[2]Class E'!Q46","v":1291},{"$f":"+'[2]Class E'!R46","v":167.19},null,{"$f":"+'[2]Class E'!T46","v":218},{"$f":"+'[2]Class E'!U46","v":167.7},{"$f":"+'[2]Class E'!V46","v":170.05039388322521},{"$f":"+'[2]Class E'!W46","v":587.15},{"$f":"+'[2]Class E'!X46","v":162},{"$f":"+'[2]Class E'!Y46","v":170.77326230501774},{"$f":"+'[2]Class E'!Z46","v":53535.71},{"$f":"+'[2]Class E'!AA46","v":237},{"$f":"+'[2]Class E'!AB46","v":146.88999999999999},{"$f":"+'[2]Class E'!AC46","v":166.33},{"$f":"+'[2]Class E'!AD46","v":162.19654755210198},{"$f":"+'[2]Class E'!AE46","v":679.87},{"$f":"+'[2]Class E'!AF46","v":191},{"$f":"+'[2]Class E'!AG46","v":182.72232772216677},{"$f":"+'[2]Class E'!AH46","v":811},{"$f":"+'[2]Class E'!AI46","v":169.25},{"$f":"+'[2]Class E'!AJ46","v":173.23},{"$f":"+'[2]Class E'!AK46","v":162.91},{"$f":"+'[2]Class E'!AL46","v":184.74109186821934},{"$f":"+'[2]Class E'!AM46","v":1697},{"$f":"+'[2]Class E'!AN46","v":192.25792615362616},{"$f":"+'[2]Class E'!AO46","v":153.68},null,{"$f":"+'[2]Class E'!AQ46","v":165.19679934024086},{"$f":"(AQ46/AQ45)-1","v":-3.9539217385697878E-4}]
[]
[]
[]
[]
[]
[]
[]
[]
[]
[]
[]
[]
[]
[]
[]
[]
[]
[]
[]
[]
[]
[]
[]
[]
[]
[]
[]
[]
[]
[]
[]
[]
[]
[]
[]
[]
[]
[]
[]
[]
[]
[]
[]
[]
[]
[]
[]
[]
[]
[]
[]
[]
[]
[]
[]
[]
[]
[]
[]
[]
[]
[]
[]
[]
[]
[]
[]
[]
[]
[]
[]
[]
[]
[]
[]
[]
[]
[]
[]
[]
[]
[]
[]
[]
[]
[]
[]
[]
[]
[]
[]
[]
[]
[]
[]
[]
[]
[]
[]
[]
[]
[]
[]
[]
[]
[]
[]
[]
[]
[]
[]
[]
[]
[]
[]
[]
[]
[]
[]
[]
[]
[]
[]
[]
[]
[]
[]
[]
[]
[]
[]
[]
[]
[]
[]
[]
[]
[]
[]
[]
[]
[]
[]
[]
[]
[]
[]
[]
[]
[]
[]
[]
[]
[]
[]
[]
[]
[]
[]
[]
[]
[]
[]
[]
[]
[]
[]
[]
[]
[]
[]
[]
[]
[]
[]
[]
[]
[]
[]
[]
[]
[]
[]
[]
[]
[]
[]
[]
[]
[]
[]
[]
[]
[]
[]
[]
[]
[]
[]
[]
[]
[]
[]
[]
[]
[]
[]
[]
[]
[]
[]
[]
[]
[]
[]
[]
[]
[]
[]
[]
[]
[]
[]
[]
[]
[]
[]
[]
[]
[]
[]
[]
[]
[]
[]
[]
[]
[]
[]
[]
[]
[]
[]
[]
[]
[]
[]
[]
[]
[]
[]
[]
[]
[]
[]
[]
[]
[]
[]
[]
[]
[]
[]
[]
[]
[]
[]
[]
[]
[]
[]
[]
[]
[]
[]
[]
[]
[]
[]
[]
[]
[]
[]
[]
[]
[]
[]
[]
[]
[]
[]
[]
[]
[]
[]
[]
[]
[]
[]
[]
[]
[]
[]
[]
[]
[]
[]
[]
[]
[]
[]
[]
[]
[]
[]
[]
[]
[]
[]
[]
[]
[]
[]
[]
[]
[]
[]
[]
[]
[]
[]
[]
[]
[]
[]
[]
[]
[]
[]
[]
[]
[]
[]
[]
[]
[]
[]
[]
[]
[]
[]
[]
[]
[]
[]
[]
[]
[]
[]
[]
[]
[]
[]
[]
[]
[]
[]
[]
[]
[]
[]
[]
[]
[]
[]
[]
[]
[]
[]
[]
[]
[]
[]
[]
[]
[]
[]
[]
[]
[]
[]
[]
[]
[]
[]
[]
[]
[]
[]
[]
[]
[]
[]
[]
[]
[]
[]
[]
[]
[]
[]
[]
[]
[]
[]
[]
[]
[]
[]
[]
[]
[]
[]
[]
[]
[]
[]
[]
[]
[]
[]
[]
[]
[]
[]
[]
[]
[]
[]
[]
[]
[]
[]
[]
[]
[]
[]
[]
[]
[]
[]
[]
[null,null,null,{"$f":"D$10","v":"BE"},{"$f":"E$10","v":"BG"},"BG","CZ","CZ","DK","DK","DE","EE","GR","ES","FR","HR","HR","IE","IT","CY","LV","LT","LT","LU","HU","HU","MT","NL","AT","PL","PL","PT","RO","RO","SI","SK","FI","SE","SE","UK","UK",null,"EU_28"]
[null,"Change 1 week",null,{"$f":"INDEX(D:D,MATCH(MAX($B$13:$B$497),$B:$B,0),1)/INDEX(D:D,MATCH(MAX($B$13:$B$497),$B:$B,0)-1,1)-1","v":2.73972602739736E-3},2.0895601343666748E-3,2.0895601343666748E-3,-4.9871956915397142E-3,-1.4944491887275424E-3,0,0,2.1589205397303246E-3,4.761904761904745E-3,0,0,-1.2820512820512775E-2,-1.4396702796811378E-2,-1.6006097560975596E-2,0,null,{"$f":"INDEX(T:T,MATCH(MAX($B$13:$B$497),$B:$B,0),1)/INDEX(T:T,MATCH(MAX($B$13:$B$497),$B:$B,0)-1,1)-1","v":0},-3.8362291415792171E-2,1.7890886396338512E-2,1.7890886396338512E-2,3.0959752321981782E-3,5.0358588769341406E-3,1.5580208420833408E-3,0,8.8579994548920737E-4,-7.8096840081698371E-4,-2.4933740458263909E-3,-2.6259425520053226E-3,-1.5463917525773141E-2,5.8625036936661434E-3,5.7168367663289477E-3,8.8704908338255173E-4,0,1.0446110360082805E-3,2.9705020906867219E-2,2.4140012070005934E-2,-1.0212042421603229E-2,-5.2430578030940866E-3,null,{"$f":"INDEX(AQ:AQ,MATCH(MAX($B$9:$B$542),$B:$B,0),1)/INDEX(AQ:AQ,MATCH(MAX($B$9:$B$542),$B:$B,0)-1,1)-1","v":-3.9539217385697878E-4}]
[null,"Change 4 weeks",null,{"$f":"INDEX(D:D,MATCH(MAX($B$14:$B$498),$B:$B,0),1)/INDEX(D:D,MATCH(MAX($B$14:$B$498),$B:$B,0)-4,1)-1","v":-2.9821073558648159E-2},-4.4932601098351954E-3,-4.4932601098351954E-3,-3.9957906550837197E-2,-2.5421962908939388E-2,-1.9174374063539834E-2,-1.9332161687170446E-2,-5.5343965722445265E-3,-1.854612678156109E-2,9.8480436278920447E-3,-2.3809523809523836E-2,-3.1446540880503138E-2,-3.6445466707654361E-2,-3.4405385190725557E-2,-4.5283234353586166E-2,null,{"$f":"INDEX(T:T,MATCH(MAX($B$14:$B$498),$B:$B,0),1)/INDEX(T:T,MATCH(MAX($B$14:$B$498),$B:$B,0)-4,1)-1","v":6.341463414634152E-2},-6.6570188133140418E-2,9.5467021258444085E-4,9.5467021258444085E-4,-7.3529411764705621E-3,-2.341771811716975E-2,-1.1849526991645543E-2,0,-1.8836417073007983E-2,-2.5885797950219502E-2,-3.4820057671895666E-2,-2.3413821336742413E-2,-3.0456852791878153E-2,8.4099652015880988E-3,1.0113591072140382E-2,-3.5117724189042798E-2,-2.2624689686301158E-2,6.4249088774941399E-3,-2.2947472666493884E-2,-2.8620492272467102E-2,-3.3054852924919609E-2,-2.4811218985976269E-2,null,{"$f":"INDEX(AQ:AQ,MATCH(MAX($B$14:$B$498),$B:$B,0),1)/INDEX(AQ:AQ,MATCH(MAX($B$14:$B$498),$B:$B,0)-4,1)-1","v":-1.8811189743021983E-2}]
[null,"% of Reference Price",null,{"$f":"INDEX(D:D,MATCH(MAX($B$9:$B$543),$B:$B,0),1)*100/150.939","v":96.992824916025683},128.33728419828725,251.00206043501018,111.24900870716012,3098.6027468050011,99.171667583951475,739.37153419593346,110.71359953358642,109.03742571502396,126.36230530214193,121.41991135491821,102.02797156467183,112.04218202810769,null,{"$f":"INDEX(R:R,MATCH(MAX($B$9:$B$543),$B:$B,0),1)*100/150.939","v":110.76660107725638},null,{"$f":"INDEX(T:T,MATCH(MAX($B$9:$B$543),$B:$B,0),1)*100/150.939","v":144.42920650063934},{"$f":"INDEX(U:U,MATCH(MAX($B$9:$B$543),$B:$B,0),1)*100/150.939","v":111.10448591815238},{"$f":"INDEX(V:V,MATCH(MAX($B$9:$B$543),$B:$B,0),1)*100/150.939","v":112.66166721869446},null,{"$f":"INDEX(X:X,MATCH(MAX($B$9:$B$543),$B:$B,0),1)*100/150.939","v":107.32812593166777},113.14058149651035,35468.440893341023,157.01707312225469,97.317459371004176,110.19683448280432,107.45834247749222,450.42699368619111,126.54118551202805,121.05706790303817,537.30314895421327,112.13139082675784,114.76821762433832,107.93101849091356,122.39453810361758,1124.2952450990135,127.37458586159056,101.81596538999199,null,{"$f":"INDEX(AQ:AQ,MATCH(MAX($B$9:$B$543),$B:$B,0),1)*100/150.939","v":109.44606717961619}]
[]
[null,"???","Price not communicated"]

{"sheet":"Class R","index":7,"n_rows":505,"n_cols":71,"rows_kept":505,"cut":false,"hidden":false,"merged":[[505,1,505,2],[505,3,505,5],[505,6,505,8],[3,18,4,24],[5,18,5,24],[7,1,7,2],[8,1,8,2],[8,3,8,8],[8,42,9,42],[9,1,9,2],[10,1,10,2],[12,1,12,40],[497,8,498,35],[7,37,8,40]]}
[null,"EUROPEAN COMMISSION",null,null,null,null,null,null,null,null,null,null,null,null,null,null,null,null,null,null,null,null,null,null,null,null,null,null,null,null,null,null,null,null,null,null,null,null,null,null,null,null,"Week ",{"$f":"'Class E'!AR1","v":33}]
[null,"Directorate-General for Agriculture and Rural Development",null,null,null,null,null,null,null,null,null,null,null,null,null,null,null,null,null,null,null,null,null,null,null,null,null,null,null,null,null,null,null,null,null,null,null,null,null,null,"du / from :"]
[null,"C3. Animal Products"]
[null,null,null,null,null,null,null,null,null,null,null,null,null,null,null,null,null,null,"PIG PRICE\n(CLASS R)"]
[]
[null,null,null,null,null,null,null,null,null,null,null,null,null,null,null,null,null,null,"DG-Agri-C3,  Meat sector"]
[null,null,null,null,null,null,null,null,null,null,null," "]
[null,"PIG",null,null,null,null,null,null,null,null,null,null,null,null,null,null,null,null,null,null,null,null,null,null,null,null,null,null,null,null,null,null,null,null,null,null,null,"€ur per 100 kg carcass"]
[null,"Class R",null,"Country Code/Currency",null,null,null,null,null,null,null,null,null,null,null,null,null,null,null,null,null,null,null,null,null,null,null,null,null,null,null,null,null,null,null,null,null,null,null,null,null,null,"Average price"]
[null,{"$f":"[2]COVER!B22","v":2014},null,"BE","BG","BG","CZ","CZ","DK","DK","DE","EE","GR","ES","FR","HR","HR","IE","IT","CY","LV","LT","LT","LU","HU","HU","MT","NL","AT","PL","PL","PT","RO","RO","SI","SK","FI","SE","SE","UK","UK"]
[null,"Weightings from 01/01/2014\nuntil --/--/----",null,{"$f":"VLOOKUP(D$10,'[2]New Pig Coef.'!$A$1:$N$34,14,0)","v":0.1},{"$f":"VLOOKUP(E$10,'[2]New Pig Coef.'!$A$1:$N$34,14,0)","v":0.1},null,{"$f":"VLOOKUP(G$10,'[2]New Pig Coef.'!$A$1:$N$34,14,0)","v":0.3},null,{"$f":"VLOOKUP(I$10,'[2]New Pig Coef.'!$A$1:$N$34,14,0)","v":0.2},null,{"$f":"VLOOKUP(K$10,'[2]New Pig Coef.'!$A$1:$N$34,14,0)","v":3.2},{"$f":"VLOOKUP(L$10,'[2]New Pig Coef.'!$A$1:$N$34,14,0)","v":0},{"$f":"VLOOKUP(M$10,'[2]New Pig Coef.'!$A$1:$N$34,14,0)","v":0},{"$f":"VLOOKUP(N$10,'[2]New Pig Coef.'!$A$1:$N$34,14,0)","v":0.8},{"$f":"VLOOKUP(O$10,'[2]New Pig Coef.'!$A$1:$N$34,14,0)","v":0.2},{"$f":"VLOOKUP(P$10,'[2]New Pig Coef.'!$A$1:$N$34,14,0)","v":0.2},null,{"$f":"VLOOKUP(R$10,'[2]New Pig Coef.'!$A$1:$N$34,14,0)","v":0.6},{"$f":"VLOOKUP(S$10,'[2]New Pig Coef.'!$A$1:$N$34,14,0)","v":82.9},{"$f":"VLOOKUP(T$10,'[2]New Pig Coef.'!$A$1:$N$34,14,0)","v":0},{"$f":"VLOOKUP(U$10,'[2]New Pig Coef.'!$A$1:$N$34,14,0)","v":0},{"$f":"VLOOKUP(V$10,'[2]New Pig Coef.'!$A$1:$N$34,14,0)","v":0.1},null,{"$f":"VLOOKUP(X$10,'[2]New Pig Coef.'!$A$1:$N$34,14,0)","v":0},{"$f":"VLOOKUP(Y$10,'[2]New Pig Coef.'!$A$1:$N$34,14,0)","v":0.5},null,{"$f":"VLOOKUP(AA$10,'[2]New Pig Coef.'!$A$1:$N$34,14,0)","v":0.1},{"$f":"VLOOKUP(AB$10,'[2]New Pig Coef.'!$A$1:$N$34,14,0)","v":0.1},{"$f":"VLOOKUP(AC$10,'[2]New Pig Coef.'!$A$1:$N$34,14,0)","v":0},{"$f":"VLOOKUP(AD$10,'[2]New Pig Coef.'!$A$1:$N$34,14,0)","v":9.3000000000000007},null,{"$f":"VLOOKUP(AF$10,'[2]New Pig Coef.'!$A$1:$N$34,14,0)","v":0.3},{"$f":"VLOOKUP(AG$10,'[2]New Pig Coef.'!$A$1:$N$34,14,0)","v":0.8},null,{"$f":"VLOOKUP(AI$10,'[2]New Pig Coef.'!$A$1:$N$34,14,0)","v":0},{"$f":"VLOOKUP(AJ$10,'[2]New Pig Coef.'!$A$1:$N$34,14,0)","v":0.1},{"$f":"VLOOKUP(AK$10,'[2]New Pig Coef.'!$A$1:$N$34,14,0)","v":0},{"$f":"VLOOKUP(AL$10,'[2]New Pig Coef.'!$A$1:$N$34,14,0)","v":0.1},null,{"$f":"VLOOKUP(AN$10,'[2]New Pig Coef.'!$A$1:$N$34,14,0)","v":0},null,null,{"$f":"SUM($D$11:$AN$11)-$D$11-$E$11-$G$11-$I$11-$K$11-$M$11-$N$11-$O$11-$P$11-$R$11-$T$11-$Y$11-$AB$11-$AC$11-$AD$11-$AF$11-$AG$11-$AI$11-$AL$11/9","v":83.288888888888891}]
[null,"Week beginning","Week N°","EUR","EUR","BGN","EUR","CZK","EUR","DKK","EUR","EUR","EUR","EUR","EUR","EUR","HRK","EUR","EUR","EUR","EUR","EUR","LTL","EUR","EUR","HUF","EUR","EUR","EUR","EUR","PLN","EUR","EUR","RON","EUR","EUR","EUR","EUR","SEK","EUR","GBP",null,"EURO","Compare to previous week"]
[null,"2014"]
[{"$f":"YEAR(B14+3)&TEXT(C14,\"00\")","v":"201401"},"2013-12-30",1,{"$f":"'[2]Class R'!D14","v":0},{"$f":"'[2]Class R'!E14","v":0},{"$f":"'[2]Class R'!F14","v":0},{"$f":"'[2]Class R'!G14","v":0},{"$f":"'[2]Class R'!H14","v":0},{"$f":"'[2]Class R'!I14","v":0},{"$f":"'[2]Class R'!J14","v":0},{"$f":"'[2]Class R'!K14","v":0},{"$f":"'[2]Class R'!L14","v":163.01},{"$f":"'[2]Class R'!M14","v":0},{"$f":"'[2]Class R'!N14","v":0},{"$f":"'[2]Class R'!O14","v":0},{"$f":"'[2]Class R'!P14","v":156.25234078890202},{"$f":"'[2]Class R'!Q14","v":1192},{"$f":"'[2]Class R'!R14","v":0},{"$f":"'[2]Class R'!S14","v":192.17},{"$f":"'[2]Class R'!T14","v":0},{"$f":"'[2]Class R'!U14","v":0},{"$f":"'[2]Class R'!V14","v":162.42758460000002},{"$f":"'[2]Class R'!W14","v":560.83000000000004},{"$f":"'[2]Class R'!X14","v":121.6},{"$f":"'[2]Class R'!Y14","v":148.51707653},{"$f":"'[2]Class R'!Z14","v":44214.67},{"$f":"'[2]Class R'!AA14","v":0},{"$f":"'[2]Class R'!AB14","v":0},{"$f":"'[2]Class R'!AC14","v":0},{"$f":"'[2]Class R'!AD14","v":0},{"$f":"'[2]Class R'!AE14","v":0},{"$f":"'[2]Class R'!AF14","v":0},{"$f":"'[2]Class R'!AG14","v":0},{"$f":"'[2]Class R'!AH14","v":0},{"$f":"'[2]Class R'!AI14","v":0},{"$f":"'[2]Class R'!AJ14","v":165.67},{"$f":"'[2]Class R'!AK14","v":126.09},{"$f":"'[2]Class R'!AL14","v":0},{"$f":"'[2]Class R'!AM14","v":0},{"$f":"'[2]Class R'!AN14","v":0},null,null,{"$f":"'[2]Class R'!$AQ14","v":191.75670363821928}]
["201402",{"$f":"B14+7","v":"2014-01-06"},{"$f":"C14+1","v":2},{"$f":"'[2]Class R'!D15","v":0},{"$f":"'[2]Class R'!E15","v":0},{"$f":"'[2]Class R'!F15","v":0},{"$f":"'[2]Class R'!G15","v":0},{"$f":"'[2]Class R'!H15","v":0},{"$f":"'[2]Class R'!I15","v":0},{"$f":"'[2]Class R'!J15","v":0},{"$f":"'[2]Class R'!K15","v":0},{"$f":"'[2]Class R'!L15","v":163.01},{"$f":"'[2]Class R'!M15","v":0},{"$f":"'[2]Class R'!N15","v":0},{"$f":"'[2]Class R'!O15","v":0},{"$f":"'[2]Class R'!P15","v":152.05166760606639},{"$f":"'[2]Class R'!Q15","v":1160},{"$f":"'[2]Class R'!R15","v":0},{"$f":"'[2]Class R'!S15","v":192.17},{"$f":"'[2]Class R'!T15","v":0},{"$f":"'[2]Class R'!U15","v":162.56},{"$f":"'[2]Class R'!V15","v":158.94999999999999},{"$f":"'[2]Class R'!W15","v":548.82000000000005},{"$f":"'[2]Class R'!X15","v":119},{"$f":"'[2]Class R'!Y15","v":147.7825427777274},{"$f":"'[2]Class R'!Z15","v":44281.35},{"$f":"'[2]Class R'!AA15","v":0},{"$f":"'[2]Class R'!AB15","v":0},{"$f":"'[2]Class R'!AC15","v":0},{"$f":"'[2]Class R'!AD15","v":0},{"$f":"'[2]Class R'!AE15","v":0},{"$f":"'[2]Class R'!AF15","v":0},{"$f":"'[2]Class R'!AG15","v":0},{"$f":"'[2]Class R'!AH15","v":0},{"$f":"'[2]Class R'!AI15","v":0},{"$f":"'[2]Class R'!AJ15","v":184.51},{"$f":"'[2]Class R'!AK15","v":123.56},{"$f":"'[2]Class R'!AL15","v":0},{"$f":"'[2]Class R'!AM15","v":0},{"$f":"'[2]Class R'!AN15","v":184.72079774535234},153.09,null,{"$f":"'[2]Class R'!$AQ15","v":191.55490052342444}]
["201403","2014-01-13",3,{"$f":"'[2]Class R'!D16","v":0},{"$f":"'[2]Class R'!E16","v":0},{"$f":"'[2]Class R'!F16","v":0},{"$f":"'[2]Class R'!G16","v":0},{"$f":"'[2]Class R'!H16","v":0},{"$f":"'[2]Class R'!I16","v":0},{"$f":"'[2]Class R'!J16","v":0},{"$f":"'[2]Class R'!K16","v":0},{"$f":"'[2]Class R'!L16","v":163.01},{"$f":"'[2]Class R'!M16","v":0},{"$f":"'[2]Class R'!N16","v":0},{"$f":"'[2]Class R'!O16","v":0},{"$f":"'[2]Class R'!P16","v":139.63707472035125},{"$f":"'[2]Class R'!Q16","v":1065},{"$f":"'[2]Class R'!R16","v":0},{"$f":"'[2]Class R'!S16","v":191.64},{"$f":"'[2]Class R'!T16","v":0},{"$f":"'[2]Class R'!U16","v":156.38999999999999},{"$f":"'[2]Class R'!V16","v":155.09441612604263},{"$f":"'[2]Class R'!W16","v":535.51},{"$f":"'[2]Class R'!X16","v":121.6},{"$f":"'[2]Class R'!Y16","v":147.28176913957046},{"$f":"'[2]Class R'!Z16","v":44189.37},{"$f":"'[2]Class R'!AA16","v":233},{"$f":"'[2]Class R'!AB16","v":0},{"$f":"'[2]Class R'!AC16","v":0},{"$f":"'[2]Class R'!AD16","v":0},{"$f":"'[2]Class R'!AE16","v":0},{"$f":"'[2]Class R'!AF16","v":0},{"$f":"'[2]Class R'!AG16","v":0},{"$f":"'[2]Class R'!AH16","v":0},{"$f":"'[2]Class R'!AI16","v":0},{"$f":"'[2]Class R'!AJ16","v":185.57},{"$f":"'[2]Class R'!AK16","v":120.21},{"$f":"'[2]Class R'!AL16","v":0},{"$f":"'[2]Class R'!AM16","v":0},{"$f":"'[2]Class R'!AN16","v":173.9299677913846},144.26,null,{"$f":"'[2]Class R'!$AQ16","v":191.04525230535137},{"$f":"(AQ16/AQ15)-1","v":-2.6605856424474217E-3}]
["201404","2014-01-20",4,{"$f":"'[2]Class R'!D17","v":0},{"$f":"'[2]Class R'!E17","v":0},{"$f":"'[2]Class R'!F17","v":0},{"$f":"'[2]Class R'!G17","v":0},{"$f":"'[2]Class R'!H17","v":0},{"$f":"'[2]Class R'!I17","v":0},{"$f":"'[2]Class R'!J17","v":0},{"$f":"'[2]Class R'!K17","v":0},{"$f":"'[2]Class R'!L17","v":161.1},{"$f":"'[2]Class R'!M17","v":0},{"$f":"'[2]Class R'!N17","v":0},{"$f":"'[2]Class R'!O17","v":0},{"$f":"'[2]Class R'!P17","v":0},{"$f":"'[2]Class R'!Q17","v":0},{"$f":"'[2]Class R'!R17","v":0},{"$f":"'[2]Class R'!S17","v":191.64},{"$f":"'[2]Class R'!T17","v":191.56},{"$f":"'[2]Class R'!U17","v":0},{"$f":"'[2]Class R'!V17","v":163.22115384615387},{"$f":"'[2]Class R'!W17","v":563.57000000000005},{"$f":"'[2]Class R'!X17","v":124.1},{"$f":"'[2]Class R'!Y17","v":149.76638411557104},{"$f":"'[2]Class R'!Z17","v":45407.67},{"$f":"'[2]Class R'!AA17","v":233},{"$f":"'[2]Class R'!AB17","v":0},{"$f":"'[2]Class R'!AC17","v":0},{"$f":"'[2]Class R'!AD17","v":0},{"$f":"'[2]Class R'!AE17","v":0},{"$f":"'[2]Class R'!AF17","v":0},{"$f":"'[2]Class R'!AG17","v":0},{"$f":"'[2]Class R'!AH17","v":0},{"$f":"'[2]Class R'!AI17","v":0},{"$f":"'[2]Class R'!AJ17","v":174.2},{"$f":"'[2]Class R'!AK17","v":139.35},{"$f":"'[2]Class R'!AL17","v":0},{"$f":"'[2]Class R'!AM17","v":0},{"$f":"'[2]Class R'!AN17","v":163.20505605817931},134.65,null,{"$f":"'[2]Class R'!$AQ17","v":190.72367314492678},-1.683261722257301E-3]
["201405","2014-01-27",5,{"$f":"'[2]Class R'!D18","v":0},{"$f":"'[2]Class R'!E18","v":0},{"$f":"'[2]Class R'!F18","v":0},{"$f":"'[2]Class R'!G18","v":0},{"$f":"'[2]Class R'!H18","v":0},{"$f":"'[2]Class R'!I18","v":0},{"$f":"'[2]Class R'!J18","v":0},{"$f":"'[2]Class R'!K18","v":0},{"$f":"'[2]Class R'!L18","v":161.1},{"$f":"'[2]Class R'!M18","v":0},{"$f":"'[2]Class R'!N18","v":0},{"$f":"'[2]Class R'!O18","v":0},{"$f":"'[2]Class R'!P18","v":0},{"$f":"'[2]Class R'!Q18","v":0},{"$f":"'[2]Class R'!R18","v":0},{"$f":"'[2]Class R'!S18","v":191.64},{"$f":"'[2]Class R'!T18","v":0},{"$f":"'[2]Class R'!U18","v":0},{"$f":"'[2]Class R'!V18","v":159.71095922150141},{"$f":"'[2]Class R'!W18","v":551.45000000000005},{"$f":"'[2]Class R'!X18","v":0},{"$f":"'[2]Class R'!Y18","v":0},{"$f":"'[2]Class R'!Z18","v":0},{"$f":"'[2]Class R'!AA18","v":0},{"$f":"'[2]Class R'!AB18","v":0},{"$f":"'[2]Class R'!AC18","v":0},{"$f":"'[2]Class R'!AD18","v":0},{"$f":"'[2]Class R'!AE18","v":0},{"$f":"'[2]Class R'!AF18","v":0},{"$f":"'[2]Class R'!AG18","v":0},{"$f":"'[2]Class R'!AH18","v":0},{"$f":"'[2]Class R'!AI18","v":0},{"$f":"'[2]Class R'!AJ18","v":0},{"$f":"'[2]Class R'!AK18","v":0},{"$f":"'[2]Class R'!AL18","v":0},{"$f":"'[2]Class R'!AM18","v":0},{"$f":"'[2]Class R'!AN18","v":0},null,null,{"$f":"'[2]Class R'!$AQ18","v":196.64726375451491}]
["201406","2014-02-03",6,{"$f":"'[2]Class R'!D19","v":0},{"$f":"'[2]Class R'!E19","v":0},{"$f":"'[2]Class R'!F19","v":0},{"$f":"'[2]Class R'!G19","v":0},{"$f":"'[2]Class R'!H19","v":0},{"$f":"'[2]Class R'!I19","v":0},{"$f":"'[2]Class R'!J19","v":0},{"$f":"'[2]Class R'!K19","v":0},{"$f":"'[2]Class R'!L19","v":138.22},{"$f":"'[2]Class R'!M19","v":0},{"$f":"'[2]Class R'!N19","v":0},{"$f":"'[2]Class R'!O19","v":0},{"$f":"'[2]Class R'!P19","v":0},{"$f":"'[2]Class R'!Q19","v":0},{"$f":"'[2]Class R'!R19","v":0},{"$f":"'[2]Class R'!S19","v":186.34},{"$f":"'[2]Class R'!T19","v":0},{"$f":"'[2]Class R'!U19","v":164.49},{"$f":"'[2]Class R'!V19","v":150.13322520852643},{"$f":"'[2]Class R'!W19","v":518.38},{"$f":"'[2]Class R'!X19","v":134},{"$f":"'[2]Class R'!Y19","v":0},{"$f":"'[2]Class R'!Z19","v":0},{"$f":"'[2]Class R'!AA19","v":233},{"$f":"'[2]Class R'!AB19","v":0},{"$f":"'[2]Class R'!AC19","v":0},{"$f":"'[2]Class R'!AD19","v":0},{"$f":"'[2]Class R'!AE19","v":0},{"$f":"'[2]Class R'!AF19","v":0},{"$f":"'[2]Class R'!AG19","v":0},{"$f":"'[2]Class R'!AH19","v":0},{"$f":"'[2]Class R'!AI19","v":0},{"$f":"'[2]Class R'!AJ19","v":181.97},{"$f":"'[2]Class R'!AK19","v":130.03},{"$f":"'[2]Class R'!AL19","v":0},{"$f":"'[2]Class R'!AM19","v":0},{"$f":"'[2]Class R'!AN19","v":168.76},139.83000000000001,null,{"$f":"'[2]Class R'!$AQ19","v":186.14843503560255}]
["201407","2014-02-10",7,{"$f":"'[2]Class R'!D20","v":0},{"$f":"'[2]Class R'!E20","v":0},{"$f":"'[2]Class R'!F20","v":0},{"$f":"'[2]Class R'!G20","v":0},{"$f":"'[2]Class R'!H20","v":0},{"$f":"'[2]Class R'!I20","v":0},{"$f":"'[2]Class R'!J20","v":0},{"$f":"'[2]Class R'!K20","v":0},{"$f":"'[2]Class R'!L20","v":138.22},{"$f":"'[2]Class R'!M20","v":0},{"$f":"'[2]Class R'!N20","v":0},{"$f":"'[2]Class R'!O20","v":0},{"$f":"'[2]Class R'!P20","v":0},{"$f":"'[2]Class R'!Q20","v":0},{"$f":"'[2]Class R'!R20","v":0},{"$f":"'[2]Class R'!S20","v":180.03},{"$f":"'[2]Class R'!T20","v":0},{"$f":"'[2]Class R'!U20","v":146.66},{"$f":"'[2]Class R'!V20","v":155.91693697868399},{"$f":"'[2]Class R'!W20","v":538.35},{"$f":"'[2]Class R'!X20","v":134},{"$f":"'[2]Class R'!Y20","v":0},{"$f":"'[2]Class R'!Z20","v":0},{"$f":"'[2]Class R'!AA20","v":233},{"$f":"'[2]Class R'!AB20","v":0},{"$f":"'[2]Class R'!AC20","v":0},{"$f":"'[2]Class R'!AD20","v":0},{"$f":"'[2]Class R'!AE20","v":0},{"$f":"'[2]Class R'!AF20","v":0},{"$f":"'[2]Class R'!AG20","v":0},{"$f":"'[2]Class R'!AH20","v":0},{"$f":"'[2]Class R'!AI20","v":0},{"$f":"'[2]Class R'!AJ20","v":168.93},{"$f":"'[2]Class R'!AK20","v":133.54},{"$f":"'[2]Class R'!AL20","v":0},{"$f":"'[2]Class R'!AM20","v":0},{"$f":"'[2]Class R'!AN20","v":168.76},139.83000000000001,null,{"$f":"'[2]Class R'!$AQ20","v":179.8591852231601},-3.3786208362372561E-2]
["201408","2014-02-17",8,{"$f":"'[2]Class R'!D21","v":0},{"$f":"'[2]Class R'!E21","v":0},{"$f":"'[2]Class R'!F21","v":0},{"$f":"'[2]Class R'!G21","v":0},{"$f":"'[2]Class R'!H21","v":0},{"$f":"'[2]Class R'!I21","v":0},{"$f":"'[2]Class R'!J21","v":0},{"$f":"'[2]Class R'!K21","v":0},{"$f":"'[2]Class R'!L21","v":137.27000000000001},{"$f":"'[2]Class R'!M21","v":0},{"$f":"'[2]Class R'!N21","v":0},{"$f":"'[2]Class R'!O21","v":0},{"$f":"'[2]Class R'!P21","v":0},{"$f":"'[2]Class R'!Q21","v":0},{"$f":"'[2]Class R'!R21","v":0},{"$f":"'[2]Class R'!S21","v":178.5},{"$f":"'[2]Class R'!T21","v":0},{"$f":"'[2]Class R'!U21","v":146.66},{"$f":"'[2]Class R'!V21","v":149.53950417052829},{"$f":"'[2]Class R'!W21","v":516.33000000000004},{"$f":"'[2]Class R'!X21","v":162.47},{"$f":"'[2]Class R'!Y21","v":0},{"$f":"'[2]Class R'!Z21","v":0},{"$f":"'[2]Class R'!AA21","v":233},{"$f":"'[2]Class R'!AB21","v":0},{"$f":"'[2]Class R'!AC21","v":0},{"$f":"'[2]Class R'!AD21","v":0},{"$f":"'[2]Class R'!AE21","v":0},{"$f":"'[2]Class R'!AF21","v":0},{"$f":"'[2]Class R'!AG21","v":0},{"$f":"'[2]Class R'!AH21","v":0},{"$f":"'[2]Class R'!AI21","v":0},{"$f":"'[2]Class R'!AJ21","v":187.77},{"$f":"'[2]Class R'!AK21","v":117.8},{"$f":"'[2]Class R'!AL21","v":0},{"$f":"'[2]Class R'!AM21","v":0},{"$f":"'[2]Class R'!AN21","v":170.41121033987687},140.06,null,{"$f":"'[2]Class R'!$AQ21","v":178.3512920941215},-8.3837426883017763E-3]
[null,"2014-02-24",9,{"$f":"'[2]Class R'!D22","v":0},{"$f":"'[2]Class R'!E22","v":0},{"$f":"'[2]Class R'!F22","v":0},{"$f":"'[2]Class R'!G22","v":0},{"$f":"'[2]Class R'!H22","v":0},{"$f":"'[2]Class R'!I22","v":0},{"$f":"'[2]Class R'!J22","v":0},{"$f":"'[2]Class R'!K22","v":0},{"$f":"'[2]Class R'!L22","v":137.27000000000001},{"$f":"'[2]Class R'!M22","v":0},{"$f":"'[2]Class R'!N22","v":0},{"$f":"'[2]Class R'!O22","v":0},{"$f":"'[2]Class R'!P22","v":0},{"$f":"'[2]Class R'!Q22","v":0},{"$f":"'[2]Class R'!R22","v":0},{"$f":"'[2]Class R'!S22","v":180.6},{"$f":"'[2]Class R'!T22","v":0},{"$f":"'[2]Class R'!U22","v":143.29},{"$f":"'[2]Class R'!V22","v":141.76031047265988},{"$f":"'[2]Class R'!W22","v":489.47},{"$f":"'[2]Class R'!X22","v":115},{"$f":"'[2]Class R'!Y22","v":0},{"$f":"'[2]Class R'!Z22","v":0},{"$f":"'[2]Class R'!AA22","v":233},{"$f":"'[2]Class R'!AB22","v":0},{"$f":"'[2]Class R'!AC22","v":0},{"$f":"'[2]Class R'!AD22","v":0},{"$f":"'[2]Class R'!AE22","v":0},{"$f":"'[2]Class R'!AF22","v":0},{"$f":"'[2]Class R'!AG22","v":0},{"$f":"'[2]Class R'!AH22","v":0},{"$f":"'[2]Class R'!AI22","v":0},{"$f":"'[2]Class R'!AJ22","v":181.57},{"$f":"'[2]Class R'!AK22","v":125.38},{"$f":"'[2]Class R'!AL22","v":0},{"$f":"'[2]Class R'!AM22","v":0},{"$f":"'[2]Class R'!AN22","v":128.773058058787},106.07,null,{"$f":"'[2]Class R'!$AQ22","v":180.42470288077024},1.1625431822240628E-2]
[null,"2014-03-03",10,{"$f":"'[2]Class R'!D23","v":0},{"$f":"'[2]Class R'!E23","v":0},{"$f":"'[2]Class R'!F23","v":0},{"$f":"'[2]Class R'!G23","v":0},{"$f":"'[2]Class R'!H23","v":0},{"$f":"'[2]Class R'!I23","v":0},{"$f":"'[2]Class R'!J23","v":0},{"$f":"'[2]Class R'!K23","v":0},{"$f":"'[2]Class R'!L23","v":140.13},{"$f":"'[2]Class R'!M23","v":0},{"$f":"'[2]Class R'!N23","v":0},{"$f":"'[2]Class R'!O23","v":0},{"$f":"'[2]Class R'!P23","v":0},{"$f":"'[2]Class R'!Q23","v":0},{"$f":"'[2]Class R'!R23","v":0},{"$f":"'[2]Class R'!S23","v":178.54},{"$f":"'[2]Class R'!T23","v":0},{"$f":"'[2]Class R'!U23","v":143.91999999999999},{"$f":"'[2]Class R'!V23","v":131.43825301204819},{"$f":"'[2]Class R'!W23","v":453.83},{"$f":"'[2]Class R'!X23","v":114.5},{"$f":"'[2]Class R'!Y23","v":0},{"$f":"'[2]Class R'!Z23","v":0},{"$f":"'[2]Class R'!AA23","v":233},{"$f":"'[2]Class R'!AB23","v":0},{"$f":"'[2]Class R'!AC23","v":0},{"$f":"'[2]Class R'!AD23","v":0},{"$f":"'[2]Class R'!AE23","v":0},{"$f":"'[2]Class R'!AF23","v":0},{"$f":"'[2]Class R'!AG23","v":0},{"$f":"'[2]Class R'!AH23","v":0},{"$f":"'[2]Class R'!AI23","v":0},{"$f":"'[2]Class R'!AJ23","v":154.11000000000001},{"$f":"'[2]Class R'!AK23","v":114.85},{"$f":"'[2]Class R'!AL23","v":0},{"$f":"'[2]Class R'!AM23","v":0},{"$f":"'[2]Class R'!AN23","v":145.10214681440445},119.73,null,{"$f":"'[2]Class R'!$AQ23","v":178.32895868157797},-1.1615616740558998E-2]
[null,"2014-03-10",11,{"$f":"'[2]Class R'!D24","v":0},{"$f":"'[2]Class R'!E24","v":0},{"$f":"'[2]Class R'!F24","v":0},{"$f":"'[2]Class R'!G24","v":0},{"$f":"'[2]Class R'!H24","v":0},{"$f":"'[2]Class R'!I24","v":0},{"$f":"'[2]Class R'!J24","v":0},{"$f":"'[2]Class R'!K24","v":0},{"$f":"'[2]Class R'!L24","v":141.08000000000001},{"$f":"'[2]Class R'!M24","v":0},{"$f":"'[2]Class R'!N24","v":0},{"$f":"'[2]Class R'!O24","v":0},{"$f":"'[2]Class R'!P24","v":0},{"$f":"'[2]Class R'!Q24","v":0},{"$f":"'[2]Class R'!R24","v":0},{"$f":"'[2]Class R'!S24","v":178.63},{"$f":"'[2]Class R'!T24","v":0},{"$f":"'[2]Class R'!U24","v":124.74},{"$f":"'[2]Class R'!V24","v":143.99038461538461},{"$f":"'[2]Class R'!W24","v":497.17},{"$f":"'[2]Class R'!X24","v":126.5},{"$f":"'[2]Class R'!Y24","v":0},{"$f":"'[2]Class R'!Z24","v":0},{"$f":"'[2]Class R'!AA24","v":233},{"$f":"'[2]Class R'!AB24","v":0},{"$f":"'[2]Class R'!AC24","v":0},{"$f":"'[2]Class R'!AD24","v":0},{"$f":"'[2]Class R'!AE24","v":0},{"$f":"'[2]Class R'!AF24","v":0},{"$f":"'[2]Class R'!AG24","v":0},{"$f":"'[2]Class R'!AH24","v":0},{"$f":"'[2]Class R'!AI24","v":0},{"$f":"'[2]Class R'!AJ24","v":163.16},{"$f":"'[2]Class R'!AK24","v":148.44999999999999},{"$f":"'[2]Class R'!AL24","v":0},{"$f":"'[2]Class R'!AM24","v":0},{"$f":"'[2]Class R'!AN24","v":155.7712886628828},129.97,null,{"$f":"'[2]Class R'!$AQ24","v":178.44447484812414},6.4777009522298812E-4]
[null,"2014-03-17",12,{"$f":"'[2]Class R'!D25","v":0},{"$f":"'[2]Class R'!E25","v":0},{"$f":"'[2]Class R'!F25","v":0},{"$f":"'[2]Class R'!G25","v":0},{"$f":"'[2]Class R'!H25","v":0},{"$f":"'[2]Class R'!I25","v":0},{"$f":"'[2]Class R'!J25","v":0},{"$f":"'[2]Class R'!K25","v":0},{"$f":"'[2]Class R'!L25","v":141.08000000000001},{"$f":"'[2]Class R'!M25","v":0},{"$f":"'[2]Class R'!N25","v":0},{"$f":"'[2]Class R'!O25","v":0},{"$f":"'[2]Class R'!P25","v":0},{"$f":"'[2]Class R'!Q25","v":0},{"$f":"'[2]Class R'!R25","v":0},{"$f":"'[2]Class R'!S25","v":178.63},{"$f":"'[2]Class R'!T25","v":0},{"$f":"'[2]Class R'!U25","v":142.28},{"$f":"'[2]Class R'!V25","v":142.35113531047267},{"$f":"'[2]Class R'!W25","v":491.51},{"$f":"'[2]Class R'!X25","v":121.2},{"$f":"'[2]Class R'!Y25","v":0},{"$f":"'[2]Class R'!Z25","v":0},{"$f":"'[2]Class R'!AA25","v":233},{"$f":"'[2]Class R'!AB25","v":0},{"$f":"'[2]Class R'!AC25","v":0},{"$f":"'[2]Class R'!AD25","v":0},{"$f":"'[2]Class R'!AE25","v":0},{"$f":"'[2]Class R'!AF25","v":0},{"$f":"'[2]Class R'!AG25","v":0},{"$f":"'[2]Class R'!AH25","v":0},{"$f":"'[2]Class R'!AI25","v":0},{"$f":"'[2]Class R'!AJ25","v":156.99},{"$f":"'[2]Class R'!AK25","v":114.67},{"$f":"'[2]Class R'!AL25","v":0},{"$f":"'[2]Class R'!AM25","v":0},{"$f":"'[2]Class R'!AN25","v":155.94999999999999},130.43,null,{"$f":"'[2]Class R'!$AQ25","v":178.4350987483717},-5.2543513944125486E-5]
[null,"2014-03-24",13,{"$f":"'[2]Class R'!D26","v":0},{"$f":"'[2]Class R'!E26","v":0},{"$f":"'[2]Class R'!F26","v":0},{"$f":"'[2]Class R'!G26","v":0},{"$f":"'[2]Class R'!H26","v":0},{"$f":"'[2]Class R'!I26","v":0},{"$f":"'[2]Class R'!J26","v":0},{"$f":"'[2]Class R'!K26","v":0},{"$f":"'[2]Class R'!L26","v":141.08000000000001},{"$f":"'[2]Class R'!M26","v":0},{"$f":"'[2]Class R'!N26","v":0},{"$f":"'[2]Class R'!O26","v":0},{"$f":"'[2]Class R'!P26","v":0},{"$f":"'[2]Class R'!Q26","v":0},{"$f":"'[2]Class R'!R26","v":0},{"$f":"'[2]Class R'!S26","v":178.33},{"$f":"'[2]Class R'!T26","v":0},{"$f":"'[2]Class R'!U26","v":142.28},{"$f":"'[2]Class R'!V26","v":153.18292400370714},{"$f":"'[2]Class R'!W26","v":528.91},{"$f":"'[2]Class R'!X26","v":125.5},{"$f":"'[2]Class R'!Y26","v":0},{"$f":"'[2]Class R'!Z26","v":0},{"$f":"'[2]Class R'!AA26","v":233},{"$f":"'[2]Class R'!AB26","v":0},{"$f":"'[2]Class R'!AC26","v":0},{"$f":"'[2]Class R'!AD26","v":0},{"$f":"'[2]Class R'!AE26","v":0},{"$f":"'[2]Class R'!AF26","v":0},{"$f":"'[2]Class R'!AG26","v":0},{"$f":"'[2]Class R'!AH26","v":0},{"$f":"'[2]Class R'!AI26","v":0},{"$f":"'[2]Class R'!AJ26","v":164.79},{"$f":"'[2]Class R'!AK26","v":114.53},{"$f":"'[2]Class R'!AL26","v":0},{"$f":"'[2]Class R'!AM26","v":0},{"$f":"'[2]Class R'!AN26","v":157.10801154321831},130.66,null,{"$f":"'[2]Class R'!$AQ26","v":178.15886957257649},-1.5480652502384284E-3]
[null,"2014-03-31",14,{"$f":"'[2]Class R'!D27","v":0},{"$f":"'[2]Class R'!E27","v":0},{"$f":"'[2]Class R'!F27","v":0},{"$f":"'[2]Class R'!G27","v":0},{"$f":"'[2]Class R'!H27","v":0},{"$f":"'[2]Class R'!I27","v":0},{"$f":"'[2]Class R'!J27","v":0},{"$f":"'[2]Class R'!K27","v":0},{"$f":"'[2]Class R'!L27","v":139.18},{"$f":"'[2]Class R'!M27","v":0},{"$f":"'[2]Class R'!N27","v":0},{"$f":"'[2]Class R'!O27","v":0},{"$f":"'[2]Class R'!P27","v":0},{"$f":"'[2]Class R'!Q27","v":0},{"$f":"'[2]Class R'!R27","v":0},{"$f":"'[2]Class R'!S27","v":181.58},{"$f":"'[2]Class R'!T27","v":0},{"$f":"'[2]Class R'!U27","v":143.18},{"$f":"'[2]Class R'!V27","v":150.19983781278964},{"$f":"'[2]Class R'!W27","v":518.61},{"$f":"'[2]Class R'!X27","v":124.7},{"$f":"'[2]Class R'!Y27","v":0},{"$f":"'[2]Class R'!Z27","v":0},{"$f":"'[2]Class R'!AA27","v":233},{"$f":"'[2]Class R'!AB27","v":0},{"$f":"'[2]Class R'!AC27","v":0},{"$f":"'[2]Class R'!AD27","v":0},{"$f":"'[2]Class R'!AE27","v":0},{"$f":"'[2]Class R'!AF27","v":0},{"$f":"'[2]Class R'!AG27","v":0},{"$f":"'[2]Class R'!AH27","v":0},{"$f":"'[2]Class R'!AI27","v":0},{"$f":"'[2]Class R'!AJ27","v":153.22999999999999},{"$f":"'[2]Class R'!AK27","v":114.07},{"$f":"'[2]Class R'!AL27","v":0},{"$f":"'[2]Class R'!AM27","v":0},{"$f":"'[2]Class R'!AN27","v":161.44555446279136},{"$f":"'[2]Class R'!AO$27","v":133.66999999999999},{"$f":"'[2]Class R'!AP$27","v":0},{"$f":"'[2]Class R'!$AQ27","v":181.37623379673363},1.8058961823657516E-2]
[null,"2014-04-07",15,{"$f":"'[2]Class R'!D28","v":0},{"$f":"'[2]Class R'!E28","v":0},{"$f":"'[2]Class R'!F28","v":0},{"$f":"'[2]Class R'!G28","v":0},{"$f":"'[2]Class R'!H28","v":0},{"$f":"'[2]Class R'!I28","v":0},{"$f":"'[2]Class R'!J28","v":0},{"$f":"'[2]Class R'!K28","v":0},{"$f":"'[2]Class R'!L28","v":139.18},{"$f":"'[2]Class R'!M28","v":0},{"$f":"'[2]Class R'!N28","v":0},{"$f":"'[2]Class R'!O28","v":0},{"$f":"'[2]Class R'!P28","v":0},{"$f":"'[2]Class R'!Q28","v":0},{"$f":"'[2]Class R'!R28","v":0},{"$f":"'[2]Class R'!S28","v":180.3},{"$f":"'[2]Class R'!T28","v":0},{"$f":"'[2]Class R'!U28","v":169.39156},{"$f":"'[2]Class R'!V28","v":146.63171918443004},{"$f":"'[2]Class R'!W28","v":506.29},{"$f":"'[2]Class R'!X28","v":125},{"$f":"'[2]Class R'!Y28","v":0},{"$f":"'[2]Class R'!Z28","v":0},{"$f":"'[2]Class R'!AA28","v":233},{"$f":"'[2]Class R'!AB28","v":0},{"$f":"'[2]Class R'!AC28","v":0},{"$f":"'[2]Class R'!AD28","v":0},{"$f":"'[2]Class R'!AE28","v":0},{"$f":"'[2]Class R'!AF28","v":0},{"$f":"'[2]Class R'!AG28","v":0},{"$f":"'[2]Class R'!AH28","v":0},{"$f":"'[2]Class R'!AI28","v":0},{"$f":"'[2]Class R'!AJ28","v":158.13999999999999},{"$f":"'[2]Class R'!AK28","v":113.04},{"$f":"'[2]Class R'!AL28","v":0},{"$f":"'[2]Class R'!AM28","v":0},{"$f":"'[2]Class R'!AN28","v":156.08373724544896},{"$f":"'[2]Class R'!AO28","v":129.04},{"$f":"'[2]Class R'!AP28","v":0},{"$f":"'[2]Class R'!$AQ28","v":180.10382143445304},{"$f":"(AQ28/AQ27)-1","v":-7.0153202304694684E-3}]
[null,"2014-04-14",16,{"$f":"'[2]Class R'!D29","v":0},{"$f":"'[2]Class R'!E29","v":0},{"$f":"'[2]Class R'!F29","v":0},{"$f":"'[2]Class R'!G29","v":0},{"$f":"'[2]Class R'!H29","v":0},{"$f":"'[2]Class R'!I29","v":0},{"$f":"'[2]Class R'!J29","v":0},{"$f":"'[2]Class R'!K29","v":0},{"$f":"'[2]Class R'!L29","v":139.18},{"$f":"'[2]Class R'!M29","v":0},{"$f":"'[2]Class R'!N29","v":0},{"$f":"'[2]Class R'!O29","v":0},{"$f":"'[2]Class R'!P29","v":0},{"$f":"'[2]Class R'!Q29","v":0},{"$f":"'[2]Class R'!R29","v":0},{"$f":"'[2]Class R'!S29","v":178.23},{"$f":"'[2]Class R'!T29","v":0},{"$f":"'[2]Class R'!U29","v":128.58000000000001},{"$f":"'[2]Class R'!V29","v":145.89318813716406},{"$f":"'[2]Class R'!W29","v":503.74},{"$f":"'[2]Class R'!X29","v":128.5},{"$f":"'[2]Class R'!Y29","v":0},{"$f":"'[2]Class R'!Z29","v":0},{"$f":"'[2]Class R'!AA29","v":233},{"$f":"'[2]Class R'!AB29","v":0},{"$f":"'[2]Class R'!AC29","v":0},{"$f":"'[2]Class R'!AD29","v":0},{"$f":"'[2]Class R'!AE29","v":0},{"$f":"'[2]Class R'!AF29","v":0},{"$f":"'[2]Class R'!AG29","v":0},{"$f":"'[2]Class R'!AH29","v":0},{"$f":"'[2]Class R'!AI29","v":0},{"$f":"'[2]Class R'!AJ29","v":149.16999999999999},{"$f":"'[2]Class R'!AK29","v":110.66},{"$f":"'[2]Class R'!AL29","v":0},{"$f":"'[2]Class R'!AM29","v":0},{"$f":"'[2]Class R'!AN29","v":163.72999999999999},{"$f":"'[2]Class R'!AO29","v":135.16},{"$f":"'[2]Class R'!AP29","v":0},{"$f":"'[2]Class R'!$AQ29","v":178.03183013517},{"$f":"(AQ29/AQ28)-1","v":-1.1504427184167887E-2}]
[null,"2014-04-21",17,{"$f":"'[2]Class R'!D30","v":0},{"$f":"'[2]Class R'!E30","v":0},{"$f":"'[2]Class R'!F30","v":0},{"$f":"'[2]Class R'!G30","v":0},{"$f":"'[2]Class R'!H30","v":0},{"$f":"'[2]Class R'!I30","v":0},{"$f":"'[2]Class R'!J30","v":0},{"$f":"'[2]Class R'!K30","v":0},{"$f":"'[2]Class R'!L30","v":139.18},{"$f":"'[2]Class R'!M30","v":0},{"$f":"'[2]Class R'!N30","v":0},{"$f":"'[2]Class R'!O30","v":0},{"$f":"'[2]Class R'!P30","v":0},{"$f":"'[2]Class R'!Q30","v":0},{"$f":"'[2]Class R'!R30","v":0},{"$f":"'[2]Class R'!S30","v":179.6},{"$f":"'[2]Class R'!T30","v":0},{"$f":"'[2]Class R'!U30","v":130.44999999999999},{"$f":"'[2]Class R'!V30","v":146.64909638554218},{"$f":"'[2]Class R'!W30","v":506.35},{"$f":"'[2]Class R'!X30","v":128.5},{"$f":"'[2]Class R'!Y30","v":0},{"$f":"'[2]Class R'!Z30","v":0},{"$f":"'[2]Class R'!AA30","v":233},{"$f":"'[2]Class R'!AB30","v":0},{"$f":"'[2]Class R'!AC30","v":0},{"$f":"'[2]Class R'!AD30","v":0},{"$f":"'[2]Class R'!AE30","v":0},{"$f":"'[2]Class R'!AF30","v":0},{"$f":"'[2]Class R'!AG30","v":0},{"$f":"'[2]Class R'!AH30","v":0},{"$f":"'[2]Class R'!AI30","v":0},{"$f":"'[2]Class R'!AJ30","v":147.02000000000001},{"$f":"'[2]Class R'!AK30","v":121.17},{"$f":"'[2]Class R'!AL30","v":0},{"$f":"'[2]Class R'!AM30","v":0},{"$f":"'[2]Class R'!AN30","v":162.43469809257684},{"$f":"'[2]Class R'!AO30","v":133.69999999999999},{"$f":"'[2]Class R'!AP30","v":0},{"$f":"'[2]Class R'!$AQ30","v":179.39375958744259},{"$f":"(AQ30/AQ29)-1","v":7.6499210912932547E-3}]
[null,"2014-04-28",18,{"$f":"'[2]Class R'!D31","v":0},{"$f":"'[2]Class R'!E31","v":0},{"$f":"'[2]Class R'!F31","v":0},{"$f":"'[2]Class R'!G31","v":0},{"$f":"'[2]Class R'!H31","v":0},{"$f":"'[2]Class R'!I31","v":0},{"$f":"'[2]Class R'!J31","v":0},{"$f":"'[2]Class R'!K31","v":0},{"$f":"'[2]Class R'!L31","v":139.18},{"$f":"'[2]Class R'!M31","v":0},{"$f":"'[2]Class R'!N31","v":0},{"$f":"'[2]Class R'!O31","v":0},{"$f":"'[2]Class R'!P31","v":0},{"$f":"'[2]Class R'!Q31","v":0},{"$f":"'[2]Class R'!R31","v":0},{"$f":"'[2]Class R'!S31","v":180.61},{"$f":"'[2]Class R'!T31","v":0},{"$f":"'[2]Class R'!U31","v":130.44999999999999},{"$f":"'[2]Class R'!V31","v":149.8262279888786},{"$f":"'[2]Class R'!W31","v":517.32000000000005},{"$f":"'[2]Class R'!X31","v":128},{"$f":"'[2]Class R'!Y31","v":0},{"$f":"'[2]Class R'!Z31","v":0},{"$f":"'[2]Class R'!AA31","v":233},{"$f":"'[2]Class R'!AB31","v":0},{"$f":"'[2]Class R'!AC31","v":0},{"$f":"'[2]Class R'!AD31","v":0},{"$f":"'[2]Class R'!AE31","v":0},{"$f":"'[2]Class R'!AF31","v":0},{"$f":"'[2]Class R'!AG31","v":0},{"$f":"'[2]Class R'!AH31","v":0},{"$f":"'[2]Class R'!AI31","v":0},{"$f":"'[2]Class R'!AJ31","v":148.05000000000001},{"$f":"'[2]Class R'!AK31","v":117.59},{"$f":"'[2]Class R'!AL31","v":0},{"$f":"'[2]Class R'!AM31","v":0},{"$f":"'[2]Class R'!AN31","v":152.3629194062519},{"$f":"'[2]Class R'!AO31","v":125.3},{"$f":"'[2]Class R'!AP31","v":0},{"$f":"'[2]Class R'!$AQ31","v":180.40409499091513},{"$f":"(AQ31/AQ30)-1","v":5.6319428601978583E-3}]
[null,"2014-05-05",19,{"$f":"'[2]Class R'!D32","v":0},{"$f":"'[2]Class R'!E32","v":0},{"$f":"'[2]Class R'!F32","v":0},{"$f":"'[2]Class R'!G32","v":0},{"$f":"'[2]Class R'!H32","v":0},{"$f":"'[2]Class R'!I32","v":0},{"$f":"'[2]Class R'!J32","v":0},{"$f":"'[2]Class R'!K32","v":0},{"$f":"'[2]Class R'!L32","v":162.06},{"$f":"'[2]Class R'!M32","v":0},{"$f":"'[2]Class R'!N32","v":0},{"$f":"'[2]Class R'!O32","v":0},{"$f":"'[2]Class R'!P32","v":0},{"$f":"'[2]Class R'!Q32","v":0},{"$f":"'[2]Class R'!R32","v":0},{"$f":"'[2]Class R'!S32","v":177.87},{"$f":"'[2]Class R'!T32","v":0},{"$f":"'[2]Class R'!U32","v":122.62},{"$f":"'[2]Class R'!V32","v":148.85020852641335},{"$f":"'[2]Class R'!W32","v":513.95000000000005},{"$f":"'[2]Class R'!X32","v":126.6},{"$f":"'[2]Class R'!Y32","v":0},{"$f":"'[2]Class R'!Z32","v":0},{"$f":"'[2]Class R'!AA32","v":233},{"$f":"'[2]Class R'!AB32","v":0},{"$f":"'[2]Class R'!AC32","v":0},{"$f":"'[2]Class R'!AD32","v":0},{"$f":"'[2]Class R'!AE32","v":0},{"$f":"'[2]Class R'!AF32","v":0},{"$f":"'[2]Class R'!AG32","v":0},{"$f":"'[2]Class R'!AH32","v":0},{"$f":"'[2]Class R'!AI32","v":0},{"$f":"'[2]Class R'!AJ32","v":157.61000000000001},{"$f":"'[2]Class R'!AK32","v":118.09},{"$f":"'[2]Class R'!AL32","v":0},{"$f":"'[2]Class R'!AM32","v":0},{"$f":"'[2]Class R'!AN32","v":160.04756283970346},{"$f":"'[2]Class R'!AO32","v":131.33000000000001},{"$f":"'[2]Class R'!AP32","v":0},{"$f":"'[2]Class R'!$AQ32","v":177.68719475410055},{"$f":"(AQ32/AQ31)-1","v":-1.5060080742354542E-2}]
[null,"2014-05-12",20,{"$f":"'[2]Class R'!D33","v":0},{"$f":"'[2]Class R'!E33","v":0},{"$f":"'[2]Class R'!F33","v":0},{"$f":"'[2]Class R'!G33","v":0},{"$f":"'[2]Class R'!H33","v":0},{"$f":"'[2]Class R'!I33","v":0},{"$f":"'[2]Class R'!J33","v":0},{"$f":"'[2]Class R'!K33","v":0},{"$f":"'[2]Class R'!L33","v":150.62},{"$f":"'[2]Class R'!M33","v":0},{"$f":"'[2]Class R'!N33","v":0},{"$f":"'[2]Class R'!O33","v":0},{"$f":"'[2]Class R'!P33","v":0},{"$f":"'[2]Class R'!Q33","v":0},{"$f":"'[2]Class R'!R33","v":0},{"$f":"'[2]Class R'!S33","v":177.63},{"$f":"'[2]Class R'!T33","v":0},{"$f":"'[2]Class R'!U33","v":122.62},{"$f":"'[2]Class R'!V33","v":152.93385078776643},{"$f":"'[2]Class R'!W33","v":528.04999999999995},{"$f":"'[2]Class R'!X33","v":136.5},{"$f":"'[2]Class R'!Y33","v":0},{"$f":"'[2]Class R'!Z33","v":0},{"$f":"'[2]Class R'!AA33","v":233},{"$f":"'[2]Class R'!AB33","v":0},{"$f":"'[2]Class R'!AC33","v":0},{"$f":"'[2]Class R'!AD33","v":0},{"$f":"'[2]Class R'!AE33","v":0},{"$f":"'[2]Class R'!AF33","v":0},{"$f":"'[2]Class R'!AG33","v":0},{"$f":"'[2]Class R'!AH33","v":0},{"$f":"'[2]Class R'!AI33","v":0},{"$f":"'[2]Class R'!AJ33","v":161},{"$f":"'[2]Class R'!AK33","v":111.6},{"$f":"'[2]Class R'!AL33","v":0},{"$f":"'[2]Class R'!AM33","v":0},{"$f":"'[2]Class R'!AN33","v":170.8049782355466},{"$f":"'[2]Class R'!AO33","v":139.30000000000001},{"$f":"'[2]Class R'!AP33","v":0},{"$f":"'[2]Class R'!$AQ33","v":177.45728850814965},-1.2938819044842065E-3]
[null,"2014-05-19",21,{"$f":"'[2]Class R'!D34","v":0},{"$f":"'[2]Class R'!E34","v":0},{"$f":"'[2]Class R'!F34","v":0},{"$f":"'[2]Class R'!G34","v":0},{"$f":"'[2]Class R'!H34","v":0},{"$f":"'[2]Class R'!I34","v":0},{"$f":"'[2]Class R'!J34","v":0},{"$f":"'[2]Class R'!K34","v":0},{"$f":"'[2]Class R'!L34","v":150.62},{"$f":"'[2]Class R'!M34","v":0},{"$f":"'[2]Class R'!N34","v":0},{"$f":"'[2]Class R'!O34","v":0},{"$f":"'[2]Class R'!P34","v":0},{"$f":"'[2]Class R'!Q34","v":0},{"$f":"'[2]Class R'!R34","v":0},{"$f":"'[2]Class R'!S34","v":181.59},{"$f":"'[2]Class R'!T34","v":0},{"$f":"'[2]Class R'!U34","v":165.6},{"$f":"'[2]Class R'!V34","v":153.13079240037072},{"$f":"'[2]Class R'!W34","v":528.73},{"$f":"'[2]Class R'!X34","v":129.4},{"$f":"'[2]Class R'!Y34","v":0},{"$f":"'[2]Class R'!Z34","v":0},{"$f":"'[2]Class R'!AA34","v":233},{"$f":"'[2]Class R'!AB34","v":0},{"$f":"'[2]Class R'!AC34","v":0},{"$f":"'[2]Class R'!AD34","v":0},{"$f":"'[2]Class R'!AE34","v":0},{"$f":"'[2]Class R'!AF34","v":0},{"$f":"'[2]Class R'!AG34","v":0},{"$f":"'[2]Class R'!AH34","v":0},{"$f":"'[2]Class R'!AI34","v":0},{"$f":"'[2]Class R'!AJ34","v":156.37},{"$f":"'[2]Class R'!AK34","v":123.64},{"$f":"'[2]Class R'!AL34","v":0},{"$f":"'[2]Class R'!AM34","v":0},{"$f":"'[2]Class R'!AN34","v":153.85},{"$f":"'[2]Class R'!AO34","v":124.88},{"$f":"'[2]Class R'!AP34","v":0},{"$f":"'[2]Class R'!$AQ34","v":181.39347613815414},{"$f":"(AQ34/AQ33)-1","v":2.2181042340358559E-2}]
[null,"2014-05-26",22,{"$f":"'[2]Class R'!D35","v":0},{"$f":"'[2]Class R'!E35","v":0},{"$f":"'[2]Class R'!F35","v":0},{"$f":"'[2]Class R'!G35","v":0},{"$f":"'[2]Class R'!H35","v":0},{"$f":"'[2]Class R'!I35","v":0},{"$f":"'[2]Class R'!J35","v":0},{"$f":"'[2]Class R'!K35","v":0},{"$f":"'[2]Class R'!L35","v":150.62},{"$f":"'[2]Class R'!M35","v":0},{"$f":"'[2]Class R'!N35","v":0},{"$f":"'[2]Class R'!O35","v":0},{"$f":"'[2]Class R'!P35","v":0},{"$f":"'[2]Class R'!Q35","v":0},{"$f":"'[2]Class R'!R35","v":0},{"$f":"'[2]Class R'!S35","v":184.17},{"$f":"'[2]Class R'!T35","v":0},{"$f":"'[2]Class R'!U35","v":134.63},{"$f":"'[2]Class R'!V35","v":149.64087117701575},{"$f":"'[2]Class R'!W35","v":516.67999999999995},{"$f":"'[2]Class R'!X35","v":132.9},{"$f":"'[2]Class R'!Y35","v":0},{"$f":"'[2]Class R'!Z35","v":0},{"$f":"'[2]Class R'!AA35","v":233},{"$f":"'[2]Class R'!AB35","v":0},{"$f":"'[2]Class R'!AC35","v":0},{"$f":"'[2]Class R'!AD35","v":0},{"$f":"'[2]Class R'!AE35","v":0},{"$f":"'[2]Class R'!AF35","v":0},{"$f":"'[2]Class R'!AG35","v":0},{"$f":"'[2]Class R'!AH35","v":0},{"$f":"'[2]Class R'!AI35","v":0},{"$f":"'[2]Class R'!AJ35","v":153.31},{"$f":"'[2]Class R'!AK35","v":113.99},{"$f":"'[2]Class R'!AL35","v":0},{"$f":"'[2]Class R'!AM35","v":0},{"$f":"'[2]Class R'!AN35","v":176.66734113962465},{"$f":"'[2]Class R'!AO35","v":143.44},{"$f":"'[2]Class R'!AP35","v":0},{"$f":"'[2]Class R'!$AQ35","v":183.95356561373973},1.4113459480955992E-2]
[null,"2014-06-02",23,{"$f":"'[2]Class R'!D36","v":0},{"$f":"'[2]Class R'!E36","v":0},{"$f":"'[2]Class R'!F36","v":0},{"$f":"'[2]Class R'!G36","v":0},{"$f":"'[2]Class R'!H36","v":0},{"$f":"'[2]Class R'!I36","v":0},{"$f":"'[2]Class R'!J36","v":0},{"$f":"'[2]Class R'!K36","v":0},{"$f":"'[2]Class R'!L36","v":155.38},{"$f":"'[2]Class R'!M36","v":0},{"$f":"'[2]Class R'!N36","v":0},{"$f":"'[2]Class R'!O36","v":0},{"$f":"'[2]Class R'!P36","v":0},{"$f":"'[2]Class R'!Q36","v":0},{"$f":"'[2]Class R'!R36","v":0},{"$f":"'[2]Class R'!S36","v":184.17},{"$f":"'[2]Class R'!T36","v":0},{"$f":"'[2]Class R'!U36","v":142.16},{"$f":"'[2]Class R'!V36","v":152.11132993512513},{"$f":"'[2]Class R'!W36","v":525.21},{"$f":"'[2]Class R'!X36","v":138.69999999999999},{"$f":"'[2]Class R'!Y36","v":0},{"$f":"'[2]Class R'!Z36","v":0},{"$f":"'[2]Class R'!AA36","v":233},{"$f":"'[2]Class R'!AB36","v":0},{"$f":"'[2]Class R'!AC36","v":0},{"$f":"'[2]Class R'!AD36","v":0},{"$f":"'[2]Class R'!AE36","v":0},{"$f":"'[2]Class R'!AF36","v":0},{"$f":"'[2]Class R'!AG36","v":0},{"$f":"'[2]Class R'!AH36","v":0},{"$f":"'[2]Class R'!AI36","v":0},{"$f":"'[2]Class R'!AJ36","v":151.74},{"$f":"'[2]Class R'!AK36","v":113.48},{"$f":"'[2]Class R'!AL36","v":0},{"$f":"'[2]Class R'!AM36","v":0},{"$f":"'[2]Class R'!AN36","v":166.3},{"$f":"'[2]Class R'!AO36","v":135.07},{"$f":"'[2]Class R'!AP36","v":0},{"$f":"'[2]Class R'!$AQ36","v":183.95464674085059},{"$f":"(AQ36/AQ35)-1","v":5.8771739881446905E-6}]
[null,"2014-06-09",24,{"$f":"'[2]Class R'!D37","v":0},{"$f":"'[2]Class R'!E37","v":0},{"$f":"'[2]Class R'!F37","v":0},{"$f":"'[2]Class R'!G37","v":0},{"$f":"'[2]Class R'!H37","v":0},{"$f":"'[2]Class R'!I37","v":0},{"$f":"'[2]Class R'!J37","v":0},{"$f":"'[2]Class R'!K37","v":0},{"$f":"'[2]Class R'!L37","v":154.43},{"$f":"'[2]Class R'!M37","v":0},{"$f":"'[2]Class R'!N37","v":0},{"$f":"'[2]Class R'!O37","v":0},{"$f":"'[2]Class R'!P37","v":0},{"$f":"'[2]Class R'!Q37","v":0},{"$f":"'[2]Class R'!R37","v":0},{"$f":"'[2]Class R'!S37","v":185.82},{"$f":"'[2]Class R'!T37","v":0},{"$f":"'[2]Class R'!U37","v":153.47999999999999},{"$f":"'[2]Class R'!V37","v":155.29135773864692},{"$f":"'[2]Class R'!W37","v":536.19000000000005},{"$f":"'[2]Class R'!X37","v":141},{"$f":"'[2]Class R'!Y37","v":0},{"$f":"'[2]Class R'!Z37","v":0},{"$f":"'[2]Class R'!AA37","v":233},{"$f":"'[2]Class R'!AB37","v":0},{"$f":"'[2]Class R'!AC37","v":0},{"$f":"'[2]Class R'!AD37","v":0},{"$f":"'[2]Class R'!AE37","v":0},{"$f":"'[2]Class R'!AF37","v":0},{"$f":"'[2]Class R'!AG37","v":0},{"$f":"'[2]Class R'!AH37","v":0},{"$f":"'[2]Class R'!AI37","v":0},{"$f":"'[2]Class R'!AJ37","v":151.03},{"$f":"'[2]Class R'!AK37","v":99.74},{"$f":"'[2]Class R'!AL37","v":0},{"$f":"'[2]Class R'!AM37","v":0},{"$f":"'[2]Class R'!AN37","v":153.64384145097031},{"$f":"'[2]Class R'!AO37","v":123.68},{"$f":"'[2]Class R'!AP37","v":0},{"$f":"'[2]Class R'!$AQ37","v":185.59990824701811},8.9438431445838518E-3]
[null,"2014-06-16",25,{"$f":"'[2]Class R'!D38","v":0},{"$f":"'[2]Class R'!E38","v":0},{"$f":"'[2]Class R'!F38","v":0},{"$f":"'[2]Class R'!G38","v":0},{"$f":"'[2]Class R'!H38","v":0},{"$f":"'[2]Class R'!I38","v":0},{"$f":"'[2]Class R'!J38","v":0},{"$f":"'[2]Class R'!K38","v":0},{"$f":"'[2]Class R'!L38","v":169.68},{"$f":"'[2]Class R'!M38","v":0},{"$f":"'[2]Class R'!N38","v":0},{"$f":"'[2]Class R'!O38","v":0},{"$f":"'[2]Class R'!P38","v":0},{"$f":"'[2]Class R'!Q38","v":0},{"$f":"'[2]Class R'!R38","v":0},{"$f":"'[2]Class R'!S38","v":188.36},{"$f":"'[2]Class R'!T38","v":0},{"$f":"'[2]Class R'!U38","v":138.1},{"$f":"'[2]Class R'!V38","v":148.50266450417053},{"$f":"'[2]Class R'!W38","v":512.75},{"$f":"'[2]Class R'!X38","v":141.80000000000001},{"$f":"'[2]Class R'!Y38","v":0},{"$f":"'[2]Class R'!Z38","v":0},{"$f":"'[2]Class R'!AA38","v":233},{"$f":"'[2]Class R'!AB38","v":0},{"$f":"'[2]Class R'!AC38","v":0},{"$f":"'[2]Class R'!AD38","v":0},{"$f":"'[2]Class R'!AE38","v":0},{"$f":"'[2]Class R'!AF38","v":0},{"$f":"'[2]Class R'!AG38","v":0},{"$f":"'[2]Class R'!AH38","v":0},{"$f":"'[2]Class R'!AI38","v":0},{"$f":"'[2]Class R'!AJ38","v":152.49},{"$f":"'[2]Class R'!AK38","v":114.45},{"$f":"'[2]Class R'!AL38","v":0},{"$f":"'[2]Class R'!AM38","v":0},{"$f":"'[2]Class R'!AN38","v":164.42},{"$f":"'[2]Class R'!AO38","v":131.30000000000001},{"$f":"'[2]Class R'!AP38","v":0},{"$f":"'[2]Class R'!$AQ38","v":188.12165074446872},{"$f":"(AQ38/AQ37)-1","v":1.3586981379831276E-2}]
[null,"2014-06-23",26,{"$f":"'[2]Class R'!D39","v":0},{"$f":"'[2]Class R'!E39","v":0},{"$f":"'[2]Class R'!F39","v":0},{"$f":"'[2]Class R'!G39","v":0},{"$f":"'[2]Class R'!H39","v":0},{"$f":"'[2]Class R'!I39","v":0},{"$f":"'[2]Class R'!J39","v":0},{"$f":"'[2]Class R'!K39","v":0},{"$f":"'[2]Class R'!L39","v":152.52000000000001},{"$f":"'[2]Class R'!M39","v":0},{"$f":"'[2]Class R'!N39","v":0},{"$f":"'[2]Class R'!O39","v":0},{"$f":"'[2]Class R'!P39","v":0},{"$f":"'[2]Class R'!Q39","v":0},{"$f":"'[2]Class R'!R39","v":0},{"$f":"'[2]Class R'!S39","v":187.78},{"$f":"'[2]Class R'!T39","v":0},{"$f":"'[2]Class R'!U39","v":174.16},{"$f":"'[2]Class R'!V39","v":169.16994902687674},{"$f":"'[2]Class R'!W39","v":584.11},{"$f":"'[2]Class R'!X39","v":144.9},{"$f":"'[2]Class R'!Y39","v":0},{"$f":"'[2]Class R'!Z39","v":0},{"$f":"'[2]Class R'!AA39","v":233},{"$f":"'[2]Class R'!AB39","v":0},{"$f":"'[2]Class R'!AC39","v":0},{"$f":"'[2]Class R'!AD39","v":0},{"$f":"'[2]Class R'!AE39","v":0},{"$f":"'[2]Class R'!AF39","v":0},{"$f":"'[2]Class R'!AG39","v":0},{"$f":"'[2]Class R'!AH39","v":0},{"$f":"'[2]Class R'!AI39","v":0},{"$f":"'[2]Class R'!AJ39","v":154.79},{"$f":"'[2]Class R'!AK39","v":116.32},{"$f":"'[2]Class R'!AL39","v":0},{"$f":"'[2]Class R'!AM39","v":0},{"$f":"'[2]Class R'!AN39","v":154.40119305953687},{"$f":"'[2]Class R'!AO39","v":123.5},{"$f":"'[2]Class R'!AP39","v":0},{"$f":"'[2]Class R'!$AQ39","v":187.57193430379428},{"$f":"(AQ39/AQ38)-1","v":-2.9221327715284184E-3}]
[null,"2014-06-30",27,{"$f":"'[2]Class R'!D40","v":0},{"$f":"'[2]Class R'!E40","v":0},{"$f":"'[2]Class R'!F40","v":0},{"$f":"'[2]Class R'!G40","v":0},{"$f":"'[2]Class R'!H40","v":0},{"$f":"'[2]Class R'!I40","v":0},{"$f":"'[2]Class R'!J40","v":0},{"$f":"'[2]Class R'!K40","v":0},{"$f":"'[2]Class R'!L40","v":154.22},{"$f":"'[2]Class R'!M40","v":0},{"$f":"'[2]Class R'!N40","v":0},{"$f":"'[2]Class R'!O40","v":0},{"$f":"'[2]Class R'!P40","v":0},{"$f":"'[2]Class R'!Q40","v":0},{"$f":"'[2]Class R'!R40","v":0},{"$f":"'[2]Class R'!S40","v":188.02},{"$f":"'[2]Class R'!T40","v":0},{"$f":"'[2]Class R'!U40","v":143.16},{"$f":"'[2]Class R'!V40","v":166.66473586654311},{"$f":"'[2]Class R'!W40","v":575.46},{"$f":"'[2]Class R'!X40","v":148.69999999999999},{"$f":"'[2]Class R'!Y40","v":0},{"$f":"'[2]Class R'!Z40","v":0},{"$f":"'[2]Class R'!AA40","v":233},{"$f":"'[2]Class R'!AB40","v":0},{"$f":"'[2]Class R'!AC40","v":0},{"$f":"'[2]Class R'!AD40","v":0},{"$f":"'[2]Class R'!AE40","v":0},{"$f":"'[2]Class R'!AF40","v":0},{"$f":"'[2]Class R'!AG40","v":0},{"$f":"'[2]Class R'!AH40","v":0},{"$f":"'[2]Class R'!AI40","v":0},{"$f":"'[2]Class R'!AJ40","v":151.71},{"$f":"'[2]Class R'!AK40","v":122.24},{"$f":"'[2]Class R'!AL40","v":0},{"$f":"'[2]Class R'!AM40","v":0},{"$f":"'[2]Class R'!AN40","v":162.60008069215939},{"$f":"'[2]Class R'!AO40","v":129.54},{"$f":"'[2]Class R'!AP40","v":0},{"$f":"'[2]Class R'!$AQ40","v":187.80410787390593},{"$f":"(AQ40/AQ39)-1","v":1.2377841651705079E-3}]
[null,"2014-07-07",28,{"$f":"'[2]Class R'!D41","v":0},{"$f":"'[2]Class R'!E41","v":0},{"$f":"'[2]Class R'!F41","v":0},{"$f":"'[2]Class R'!G41","v":0},{"$f":"'[2]Class R'!H41","v":0},{"$f":"'[2]Class R'!I41","v":0},{"$f":"'[2]Class R'!J41","v":0},{"$f":"'[2]Class R'!K41","v":0},{"$f":"'[2]Class R'!L41","v":154.43},{"$f":"'[2]Class R'!M41","v":0},{"$f":"'[2]Class R'!N41","v":185.26},{"$f":"'[2]Class R'!O41","v":0},{"$f":"'[2]Class R'!P41","v":0},{"$f":"'[2]Class R'!Q41","v":0},{"$f":"'[2]Class R'!R41","v":0},{"$f":"'[2]Class R'!S41","v":189.41},{"$f":"'[2]Class R'!T41","v":0},{"$f":"'[2]Class R'!U41","v":140.6},{"$f":"'[2]Class R'!V41","v":166.09},{"$f":"'[2]Class R'!W41","v":562.98},{"$f":"'[2]Class R'!X41","v":142.69999999999999},{"$f":"'[2]Class R'!Y41","v":0},{"$f":"'[2]Class R'!Z41","v":0},{"$f":"'[2]Class R'!AA41","v":233},{"$f":"'[2]Class R'!AB41","v":0},{"$f":"'[2]Class R'!AC41","v":0},{"$f":"'[2]Class R'!AD41","v":0},{"$f":"'[2]Class R'!AE41","v":0},{"$f":"'[2]Class R'!AF41","v":0},{"$f":"'[2]Class R'!AG41","v":0},{"$f":"'[2]Class R'!AH41","v":0},{"$f":"'[2]Class R'!AI41","v":0},{"$f":"'[2]Class R'!AJ41","v":155.51},{"$f":"'[2]Class R'!AK41","v":115.82},{"$f":"'[2]Class R'!AL41","v":0},{"$f":"'[2]Class R'!AM41","v":0},{"$f":"'[2]Class R'!AN41","v":158.15509704808329},{"$f":"'[2]Class R'!AO41","v":125.6},{"$f":"'[2]Class R'!AP41","v":0},{"$f":"'[2]Class R'!$AQ41","v":189.15158758473066},{"$f":"(AQ41/AQ40)-1","v":7.1749213905876186E-3}]
[null,"2014-07-14",29,{"$f":"'[2]Class R'!D42","v":0},{"$f":"'[2]Class R'!E42","v":0},{"$f":"'[2]Class R'!F42","v":0},{"$f":"'[2]Class R'!G42","v":0},{"$f":"'[2]Class R'!H42","v":0},{"$f":"'[2]Class R'!I42","v":0},{"$f":"'[2]Class R'!J42","v":0},{"$f":"'[2]Class R'!K42","v":0},{"$f":"'[2]Class R'!L42","v":153.47999999999999},{"$f":"'[2]Class R'!M42","v":0},{"$f":"'[2]Class R'!N42","v":185.26},{"$f":"'[2]Class R'!O42","v":0},{"$f":"'[2]Class R'!P42","v":0},{"$f":"'[2]Class R'!Q42","v":0},{"$f":"'[2]Class R'!R42","v":0},{"$f":"'[2]Class R'!S42","v":190.57},{"$f":"'[2]Class R'!T42","v":0},{"$f":"'[2]Class R'!U42","v":145},{"$f":"'[2]Class R'!V42","v":155.53753475440223},{"$f":"'[2]Class R'!W42","v":537.04},{"$f":"'[2]Class R'!X42","v":135.19999999999999},{"$f":"'[2]Class R'!Y42","v":0},{"$f":"'[2]Class R'!Z42","v":0},{"$f":"'[2]Class R'!AA42","v":233},{"$f":"'[2]Class R'!AB42","v":0},{"$f":"'[2]Class R'!AC42","v":0},{"$f":"'[2]Class R'!AD42","v":0},{"$f":"'[2]Class R'!AE42","v":0},{"$f":"'[2]Class R'!AF42","v":0},{"$f":"'[2]Class R'!AG42","v":0},{"$f":"'[2]Class R'!AH42","v":0},{"$f":"'[2]Class R'!AI42","v":0},{"$f":"'[2]Class R'!AJ42","v":157.63},{"$f":"'[2]Class R'!AK42","v":117.19},{"$f":"'[2]Class R'!AL42","v":0},{"$f":"'[2]Class R'!AM42","v":0},{"$f":"'[2]Class R'!AN42","v":163.4397361258809},{"$f":"'[2]Class R'!AO42","v":129.54},{"$f":"'[2]Class R'!AP42","v":0},{"$f":"'[2]Class R'!$AQ42","v":190.28514393477755},{"$f":"(AQ42/AQ41)-1","v":5.9928460792808558E-3}]
[null,"2014-07-21",30,{"$f":"'[2]Class R'!D43","v":0},{"$f":"'[2]Class R'!E43","v":0},{"$f":"'[2]Class R'!F43","v":0},{"$f":"'[2]Class R'!G43","v":0},{"$f":"'[2]Class R'!H43","v":0},{"$f":"'[2]Class R'!I43","v":0},{"$f":"'[2]Class R'!J43","v":0},{"$f":"'[2]Class R'!K43","v":0},{"$f":"'[2]Class R'!L43","v":157.29},{"$f":"'[2]Class R'!M43","v":0},{"$f":"'[2]Class R'!N43","v":185.26},{"$f":"'[2]Class R'!O43","v":0},{"$f":"'[2]Class R'!P43","v":0},{"$f":"'[2]Class R'!Q43","v":0},{"$f":"'[2]Class R'!R43","v":0},{"$f":"'[2]Class R'!S43","v":190.57},{"$f":"'[2]Class R'!T43","v":0},{"$f":"'[2]Class R'!U43","v":149.5},{"$f":"'[2]Class R'!V43","v":149.6930027803522},{"$f":"'[2]Class R'!W43","v":516.86},{"$f":"'[2]Class R'!X43","v":132.5},{"$f":"'[2]Class R'!Y43","v":0},{"$f":"'[2]Class R'!Z43","v":0},{"$f":"'[2]Class R'!AA43","v":233},{"$f":"'[2]Class R'!AB43","v":0},{"$f":"'[2]Class R'!AC43","v":0},{"$f":"'[2]Class R'!AD43","v":0},{"$f":"'[2]Class R'!AE43","v":0},{"$f":"'[2]Class R'!AF43","v":0},{"$f":"'[2]Class R'!AG43","v":0},{"$f":"'[2]Class R'!AH43","v":0},{"$f":"'[2]Class R'!AI43","v":0},{"$f":"'[2]Class R'!AJ43","v":153.87},{"$f":"'[2]Class R'!AK43","v":124.96},{"$f":"'[2]Class R'!AL43","v":0},{"$f":"'[2]Class R'!AM43","v":0},{"$f":"'[2]Class R'!AN43","v":164.11858164223301},{"$f":"'[2]Class R'!AO43","v":129.86000000000001},{"$f":"'[2]Class R'!AP43","v":0},{"$f":"'[2]Class R'!$AQ43","v":190.27372220570862},{"$f":"(AQ43/AQ42)-1","v":-6.0024281626769316E-5}]
[null,"2014-07-28",31,{"$f":"'[2]Class R'!D44","v":0},{"$f":"'[2]Class R'!E44","v":0},{"$f":"'[2]Class R'!F44","v":0},{"$f":"'[2]Class R'!G44","v":0},{"$f":"'[2]Class R'!H44","v":0},{"$f":"'[2]Class R'!I44","v":0},{"$f":"'[2]Class R'!J44","v":0},{"$f":"'[2]Class R'!K44","v":0},{"$f":"'[2]Class R'!L44","v":148.71},{"$f":"'[2]Class R'!M44","v":0},{"$f":"'[2]Class R'!N44","v":185.26},{"$f":"'[2]Class R'!O44","v":0},{"$f":"'[2]Class R'!P44","v":0},{"$f":"'[2]Class R'!Q44","v":0},{"$f":"'[2]Class R'!R44","v":0},{"$f":"'[2]Class R'!S44","v":196.56},{"$f":"'[2]Class R'!T44","v":0},{"$f":"'[2]Class R'!U44","v":138.28},{"$f":"'[2]Class R'!V44","v":153.29297961075071},{"$f":"'[2]Class R'!W44","v":529.29},{"$f":"'[2]Class R'!X44","v":132.1},{"$f":"'[2]Class R'!Y44","v":0},{"$f":"'[2]Class R'!Z44","v":0},{"$f":"'[2]Class R'!AA44","v":233},{"$f":"'[2]Class R'!AB44","v":0},{"$f":"'[2]Class R'!AC44","v":0},{"$f":"'[2]Class R'!AD44","v":0},{"$f":"'[2]Class R'!AE44","v":0},{"$f":"'[2]Class R'!AF44","v":0},{"$f":"'[2]Class R'!AG44","v":0},{"$f":"'[2]Class R'!AH44","v":0},{"$f":"'[2]Class R'!AI44","v":0},{"$f":"'[2]Class R'!AJ44","v":162.25},{"$f":"'[2]Class R'!AK44","v":116.18},{"$f":"'[2]Class R'!AL44","v":0},{"$f":"'[2]Class R'!AM44","v":0},{"$f":"'[2]Class R'!AN44","v":159.89226778122071},{"$f":"'[2]Class R'!AO44","v":126.79},{"$f":"'[2]Class R'!AP44","v":0},{"$f":"'[2]Class R'!$AQ44","v":196.19320130765934},{"$f":"(AQ44/AQ43)-1","v":3.1110334277010931E-2}]
[null,"2014-08-04",32,{"$f":"'[2]Class R'!D45","v":0},{"$f":"'[2]Class R'!E45","v":0},{"$f":"'[2]Class R'!F45","v":0},{"$f":"'[2]Class R'!G45","v":0},{"$f":"'[2]Class R'!H45","v":0},{"$f":"'[2]Class R'!I45","v":0},{"$f":"'[2]Class R'!J45","v":0},{"$f":"'[2]Class R'!K45","v":0},{"$f":"'[2]Class R'!L45","v":161.1},{"$f":"'[2]Class R'!M45","v":0},{"$f":"'[2]Class R'!N45","v":185.26},{"$f":"'[2]Class R'!O45","v":0},{"$f":"'[2]Class R'!P45","v":0},{"$f":"'[2]Class R'!Q45","v":0},{"$f":"'[2]Class R'!R45","v":0},{"$f":"'[2]Class R'!S45","v":196.83},{"$f":"'[2]Class R'!T45","v":0},{"$f":"'[2]Class R'!U45","v":136.16},{"$f":"'[2]Class R'!V45","v":141.74582947173309},{"$f":"'[2]Class R'!W45","v":489.42},{"$f":"'[2]Class R'!X45","v":136.6},{"$f":"'[2]Class R'!Y45","v":0},{"$f":"'[2]Class R'!Z45","v":0},{"$f":"'[2]Class R'!AA45","v":233},{"$f":"'[2]Class R'!AB45","v":0},{"$f":"'[2]Class R'!AC45","v":0},{"$f":"'[2]Class R'!AD45","v":0},{"$f":"'[2]Class R'!AE45","v":0},{"$f":"'[2]Class R'!AF45","v":0},{"$f":"'[2]Class R'!AG45","v":0},{"$f":"'[2]Class R'!AH45","v":0},{"$f":"'[2]Class R'!AI45","v":0},{"$f":"'[2]Class R'!AJ45","v":158.34},{"$f":"'[2]Class R'!AK45","v":121.5},{"$f":"'[2]Class R'!AL45","v":0},{"$f":"'[2]Class R'!AM45","v":0},{"$f":"'[2]Class R'!AN45","v":162.97227635632115},{"$f":"'[2]Class R'!AO45","v":129.62},{"$f":"'[2]Class R'!AP45","v":0},{"$f":"'[2]Class R'!$AQ45","v":196.44099872692561},{"$f":"(AQ45/AQ44)-1","v":1.2630275545466585E-3}]
[null,"2014-08-11",33,{"$f":"'[2]Class R'!D46","v":0},{"$f":"'[2]Class R'!E46","v":0},{"$f":"'[2]Class R'!F46","v":0},{"$f":"'[2]Class R'!G46","v":0},{"$f":"'[2]Class R'!H46","v":0},{"$f":"'[2]Class R'!I46","v":0},{"$f":"'[2]Class R'!J46","v":0},{"$f":"'[2]Class R'!K46","v":0},{"$f":"'[2]Class R'!L46","v":150.94999999999999},{"$f":"'[2]Class R'!M46","v":0},{"$f":"'[2]Class R'!N46","v":185.26},{"$f":"'[2]Class R'!O46","v":0},{"$f":"'[2]Class R'!P46","v":0},{"$f":"'[2]Class R'!Q46","v":0},{"$f":"'[2]Class R'!R46","v":0},{"$f":"'[2]Class R'!S46","v":196.76},{"$f":"'[2]Class R'!T46","v":0},{"$f":"'[2]Class R'!U46","v":118.16},{"$f":"'[2]Class R'!V46","v":153.73899443929565},{"$f":"'[2]Class R'!W46","v":530.83000000000004},{"$f":"'[2]Class R'!X46","v":137.69999999999999},{"$f":"'[2]Class R'!Y46","v":0},{"$f":"'[2]Class R'!Z46","v":0},{"$f":"'[2]Class R'!AA46","v":233},{"$f":"'[2]Class R'!AB46","v":0},{"$f":"'[2]Class R'!AC46","v":0},{"$f":"'[2]Class R'!AD46","v":0},{"$f":"'[2]Class R'!AE46","v":0},{"$f":"'[2]Class R'!AF46","v":0},{"$f":"'[2]Class R'!AG46","v":0},{"$f":"'[2]Class R'!AH46","v":0},{"$f":"'[2]Class R'!AI46","v":0},{"$f":"'[2]Class R'!AJ46","v":161.69999999999999},{"$f":"'[2]Class R'!AK46","v":113.02},{"$f":"'[2]Class R'!AL46","v":0},{"$f":"'[2]Class R'!AM46","v":0},{"$f":"'[2]Class R'!AN46","v":144.71887621975191},{"$f":"'[2]Class R'!AO46","v":115.68},{"$f":"'[2]Class R'!AP46","v":0},{"$f":"'[2]Class R'!$AQ46","v":196.39024734741267},{"$f":"(AQ46/AQ45)-1","v":-2.5835431423093524E-4}]
[]
[]
[]
[]
[]
[]
[]
[]
[]
[]
[]
[]
[]
[]
[]
[]
[]
[]
[]
[]
[]
[]
[]
[]
[]
[]
[]
[]
[]
[]
[]
[]
[]
[]
[]
[]
[]
[]
[]
[]
[]
[]
[]
[]
[]
[]
[]
[]
[]
[]
[]
[]
[]
[]
[]
[]
[]
[]
[]
[]
[]
[]
[]
[]
[]
[]
[]
[]
[]
[]
[]
[]
[]
[]
[]
[]
[]
[]
[]
[]
[]
[]
[]
[]
[]
[]
[]
[]
[]
[]
[]
[]
[]
[]
[]
[]
[]
[]
[]
[]
[]
[]
[]
[]
[]
[]
[]
[]
[]
[]
[]
[]
[]
[]
[]
[]
[]
[]
[]
[]
[]
[]
[]
[]
[]
[]
[]
[]
[]
[]
[]
[]
[]
[]
[]
[]
[]
[]
[]
[]
[]
[]
[]
[]
[]
[]
[]
[]
[]
[]
[]
[]
[]
[]
[]
[]
[]
[]
[]
[]
[]
[]
[]
[]
[]
[]
[]
[]
[]
[]
[]
[]
[]
[]
[]
[]
[]
[]
[]
[]
[]
[]
[]
[]
[]
[]
[]
[]
[]
[]
[]
[]
[]
[]
[]
[]
[]
[]
[]
[]
[]
[]
[]
[]
[]
[]
[]
[]
[]
[]
[]
[]
[]
[]
[]
[]
[]
[]
[]
[]
[]
[]
[]
[]
[]
[]
[]
[]
[]
[]
[]
[]
[]
[]
[]
[]
[]
[]
[]
[]
[]
[]
[]
[]
[]
[]
[]
[]
[]
[]
[]
[]
[]
[]
[]
[]
[]
[]
[]
[]
[]
[]
[]
[]
[]
[]
[]
[]
[]
[]
[]
[]
[]
[]
[]
[]
[]
[]
[]
[]
[]
[]
[]
[]
[]
[]
[]
[]
[]
[]
[]
[]
[]
[]
[]
[]
[]
[]
[]
[]
[]
[]
[]
[]
[]
[]
[]
[]
[]
[]
[]
[]
[]
[]
[]
[]
[]
[]
[]
[]
[]
[]
[]
[]
[]
[]
[]
[]
[]
[]
[]
[]
[]
[]
[]
[]
[]
[]
[]
[]
[]
[]
[]
[]
[]
[]
[]
[]
[]
[]
[]
[]
[]
[]
[]
[]
[]
[]
[]
[]
[]
[]
[]
[]
[]
[]
[]
[]
[]
[]
[]
[]
[]
[]
[]
[]
[]
[]
[]
[]
[]
[]
[]
[]
[]
[]
[]
[]
[]
[]
[]
[]
[]
[]
[]
[]
[]
[]
[]
[]
[]
[]
[]
[]
[]
[]
[]
[]
[]
[]
[]
[]
[]
[]
[]
[]
[]
[]
[]
[]
[]
[]
[]
[]
[]
[]
[]
[]
[]
[]
[]
[]
[]
[]
[]
[]
[]
[]
[]
[]
[]
[]
[]
[]
[]
[]
[]
[]
[]
[]
[]
[null,null,null,null,null,null,null,null,"THE AVERAGE PRICE HAS BEEN CALCULATED ON BASIS OF THE RECEIVED COMMUNICATIONS"]
[]
[null,null,null,{"$f":"D$10","v":"BE"},{"$f":"E$10","v":"BG"},"BG","CZ","CZ","DK","DK","DE","EE","GR","ES","FR","HR","HR","IE","IT","CY","LV","LT","LT","LU","HU","HU","MT","NL","AT","PL","PL","PT","RO","RO","SI","SK","FI","SE","SE","UK","UK"]
[null,"Change 1 week",null,{"$f":"'[2]Class R'!D$500","v":0},{"$f":"'[2]Class R'!E$500","v":0},{"$f":"'[2]Class R'!F$500","v":0},{"$f":"'[2]Class R'!G$500","v":0},{"$f":"'[2]Class R'!H$500","v":0},{"$f":"'[2]Class R'!I$500","v":0},{"$f":"'[2]Class R'!J$500","v":0},{"$f":"'[2]Class R'!K$500","v":0},{"$f":"INDEX(L:L,MATCH(MAX($B$13:$B$499),$B:$B,0),1)/INDEX(L:L,MATCH(MAX($B$13:$B$499),$B:$B,0)-1,1)-1","v":-6.3004345127250172E-2},{"$f":"'[2]Class R'!M$500","v":0},{"$f":"'[2]Class R'!N$500","v":0},{"$f":"'[2]Class R'!O$500","v":0},{"$f":"'[2]Class R'!P$500","v":0},{"$f":"'[2]Class R'!Q$500","v":{"$error":"#DIV/0!"}},{"$f":"'[2]Class R'!R$500","v":0},{"$f":"INDEX(S:S,MATCH(MAX($B$13:$B$499),$B:$B,0),1)/INDEX(S:S,MATCH(MAX($B$13:$B$499),$B:$B,0)-1,1)-1","v":-3.5563684397710293E-4},{"$f":"'[2]Class R'!T$500","v":0},{"$f":"INDEX(U:U,MATCH(MAX($B$13:$B$499),$B:$B,0),1)/INDEX(U:U,MATCH(MAX($B$13:$B$499),$B:$B,0)-1,1)-1","v":-0.13219741480611047},{"$f":"INDEX(V:V,MATCH(MAX($B$13:$B$499),$B:$B,0),1)/INDEX(V:V,MATCH(MAX($B$13:$B$499),$B:$B,0)-1,1)-1","v":8.4610355114216773E-2},{"$f":"'[2]Class R'!W$500","v":8.4610355114216773E-2},{"$f":"INDEX(X:X,MATCH(MAX($B$13:$B$499),$B:$B,0),1)/INDEX(X:X,MATCH(MAX($B$13:$B$499),$B:$B,0)-1,1)-1","v":8.052708638360162E-3},{"$f":"'[2]Class R'!Y$500","v":0},{"$f":"'[2]Class R'!Z$500","v":{"$error":"#DIV/0!"}},{"$f":"'[2]Class R'!AA$500","v":0},{"$f":"'[2]Class R'!AB$500","v":0},{"$f":"'[2]Class R'!AC$500","v":0},{"$f":"'[2]Class R'!AD$500","v":0},{"$f":"'[2]Class R'!AE$500","v":0},{"$f":"'[2]Class R'!AF$500","v":0},{"$f":"'[2]Class R'!AG$500","v":0},{"$f":"'[2]Class R'!AH$500","v":{"$error":"#DIV/0!"}},{"$f":"'[2]Class R'!AI$500","v":0},{"$f":"INDEX(AJ:AJ,MATCH(MAX($B$13:$B$499),$B:$B,0),1)/INDEX(AJ:AJ,MATCH(MAX($B$13:$B$499),$B:$B,0)-1,1)-1","v":2.1220159151193574E-2},{"$f":"INDEX(AK:AK,MATCH(MAX($B$13:$B$499),$B:$B,0),1)/INDEX(AK:AK,MATCH(MAX($B$13:$B$499),$B:$B,0)-1,1)-1","v":-6.9794238683127618E-2},{"$f":"'[2]Class R'!AL$500","v":0},{"$f":"'[2]Class R'!AM$500","v":{"$error":"#DIV/0!"}},{"$f":"INDEX(AN:AN,MATCH(MAX($B$13:$B$499),$B:$B,0),1)/INDEX(AN:AN,MATCH(MAX($B$13:$B$499),$B:$B,0)-1,1)-1","v":-0.11200309981962919},{"$f":"'[2]Class R'!AO$500","v":-0.10754513192408577},null,{"$f":"INDEX(AQ:AQ,MATCH(MAX($B$13:$B$499),$B:$B,0),1)/INDEX(AQ:AQ,MATCH(MAX($B$13:$B$499),$B:$B,0)-1,1)-1","v":-2.5835431423093524E-4}]
[null,"Change 4 weeks",null,null,null,null,null,null,null,null,null,{"$f":"INDEX(L:L,MATCH(MAX($B$14:$B$499),$B:$B,0),1)/INDEX(L:L,MATCH(MAX($B$14:$B$499),$B:$B,0)-4,1)-1","v":-1.6484232473286453E-2},null,null,null,null,null,null,{"$f":"INDEX(S:S,MATCH(MAX($B$14:$B$499),$B:$B,0),1)/INDEX(S:S,MATCH(MAX($B$14:$B$499),$B:$B,0)-4,1)-1","v":3.2481502859841527E-2},null,{"$f":"INDEX(U:U,MATCH(MAX($B$14:$B$499),$B:$B,0),1)/INDEX(U:U,MATCH(MAX($B$14:$B$499),$B:$B,0)-4,1)-1","v":-0.18510344827586211},{"$f":"INDEX(V:V,MATCH(MAX($B$14:$B$499),$B:$B,0),1)/INDEX(V:V,MATCH(MAX($B$14:$B$499),$B:$B,0)-4,1)-1","v":-1.1563384477878746E-2},{"$f":"INDEX(W:W,MATCH(MAX($B$14:$B$499),$B:$B,0),1)/INDEX(W:W,MATCH(MAX($B$14:$B$499),$B:$B,0)-4,1)-1","v":-1.1563384477878635E-2},{"$f":"INDEX(X:X,MATCH(MAX($B$14:$B$499),$B:$B,0),1)/INDEX(X:X,MATCH(MAX($B$14:$B$499),$B:$B,0)-4,1)-1","v":1.849112426035493E-2},null,{"$f":"INDEX(Z:Z,MATCH(MAX($B$14:$B$499),$B:$B,0),1)/INDEX(Z:Z,MATCH(MAX($B$14:$B$499),$B:$B,0)-4,1)-1","v":{"$error":"#DIV/0!"}},{"$f":"INDEX(AA:AA,MATCH(MAX($B$14:$B$499),$B:$B,0),1)/INDEX(AA:AA,MATCH(MAX($B$14:$B$499),$B:$B,0)-4,1)-1","v":0},null,null,null,null,null,null,null,null,{"$f":"INDEX(AJ:AJ,MATCH(MAX($B$14:$B$499),$B:$B,0),1)/INDEX(AJ:AJ,MATCH(MAX($B$14:$B$499),$B:$B,0)-4,1)-1","v":2.5819958129797538E-2},{"$f":"INDEX(AK:AK,MATCH(MAX($B$14:$B$499),$B:$B,0),1)/INDEX(AK:AK,MATCH(MAX($B$14:$B$499),$B:$B,0)-4,1)-1","v":-3.5583240890860957E-2},null,{"$f":"INDEX(AM:AM,MATCH(MAX($B$14:$B$499),$B:$B,0),1)/INDEX(AM:AM,MATCH(MAX($B$14:$B$499),$B:$B,0)-4,1)-1","v":{"$error":"#DIV/0!"}},{"$f":"INDEX(AN:AN,MATCH(MAX($B$14:$B$499),$B:$B,0),1)/INDEX(AN:AN,MATCH(MAX($B$14:$B$499),$B:$B,0)-4,1)-1","v":-0.11454289115904004},null,null,{"$f":"INDEX(AQ:AQ,MATCH(MAX($B$14:$B$499),$B:$B,0),1)/INDEX(AQ:AQ,MATCH(MAX($B$14:$B$499),$B:$B,0)-4,1)-1","v":3.2083972959695117E-2}]
[null,"% of Reference Price",null,{"$f":"'[2]Class R'!D$501","v":0},{"$f":"'[2]Class R'!E$501","v":0},{"$f":"'[2]Class R'!F$501","v":0},{"$f":"'[2]Class R'!G$501","v":0},{"$f":"'[2]Class R'!H$501","v":0},{"$f":"'[2]Class R'!I$501","v":0},{"$f":"'[2]Class R'!J$501","v":0},{"$f":"'[2]Class R'!K$501","v":0},{"$f":"'[2]Class R'!L$502","v":100.00728771225461},{"$f":"'[2]Class R'!M$502","v":0},{"$f":"'[2]Class R'!N$502","v":122.73832475370845},{"$f":"'[2]Class R'!O$502","v":0},{"$f":"'[2]Class R'!P$502","v":0},{"$f":"'[2]Class R'!Q$502","v":0},{"$f":"'[2]Class R'!R$502","v":0},{"$f":"'[2]Class R'!S$502","v":130.35729665626511},{"$f":"'[2]Class R'!T$502","v":0},{"$f":"'[2]Class R'!U$502","v":78.283280000530013},{"$f":"'[2]Class R'!V$502","v":101.85505034437466},{"$f":"'[2]Class R'!W$502","v":351.68511782905682},{"$f":"'[2]Class R'!X$502","v":91.228907041917594},{"$f":"'[2]Class R'!Y$502","v":0},{"$f":"'[2]Class R'!Z$502","v":0},{"$f":"'[2]Class R'!AA$502","v":154.36699593875673},{"$f":"'[2]Class R'!AB$502","v":0},{"$f":"'[2]Class R'!AC$502","v":0},{"$f":"'[2]Class R'!AD$502","v":0},{"$f":"'[2]Class R'!AE$502","v":0},{"$f":"'[2]Class R'!AF$502","v":0},{"$f":"'[2]Class R'!AG$502","v":0},{"$f":"'[2]Class R'!AH$502","v":0},{"$f":"'[2]Class R'!AI$502","v":0},{"$f":"'[2]Class R'!AJ$502","v":107.1293701429054},{"$f":"'[2]Class R'!AK$502","v":74.877930819735127},{"$f":"'[2]Class R'!AL$502","v":0},{"$f":"'[2]Class R'!AM$502","v":0},{"$f":"'[2]Class R'!AN$502","v":95.879047972857848},{"$f":"'[2]Class R'!AO$501","v":0},null,{"$f":"'[2]Class R'!AQ$502","v":130.11232838922524},{"$f":"'[2]Class R'!AR$502","v":0},{"$f":"'[2]Class R'!AS$502","v":0},{"$f":"'[2]Class R'!AT$502","v":0},{"$f":"'[2]Class R'!AU$502","v":0},{"$f":"'[2]Class R'!AV$502","v":0},{"$f":"'[2]Class R'!AW$502","v":0},{"$f":"'[2]Class R'!AX$502","v":0},{"$f":"'[2]Class R'!AY$502","v":0},{"$f":"'[2]Class R'!AZ$502","v":0},{"$f":"'[2]Class R'!BA$502","v":0},{"$f":"'[2]Class R'!BB$502","v":0},{"$f":"'[2]Class R'!BC$502","v":0},{"$f":"'[2]Class R'!BD$502","v":0},{"$f":"'[2]Class R'!BE$502","v":0},{"$f":"'[2]Class R'!BF$502","v":0},{"$f":"'[2]Class R'!BG$502","v":0},{"$f":"'[2]Class R'!BH$502","v":0},{"$f":"'[2]Class R'!BI$502","v":0},{"$f":"'[2]Class R'!BJ$502","v":0},{"$f":"'[2]Class R'!BK$502","v":0},{"$f":"'[2]Class R'!BL$502","v":0},{"$f":"'[2]Class R'!BM$502","v":0},{"$f":"'[2]Class R'!BN$502","v":0},{"$f":"'[2]Class R'!BO$502","v":0},{"$f":"'[2]Class R'!BP$502","v":0},{"$f":"'[2]Class R'!BQ$502","v":0},{"$f":"'[2]Class R'!BR$502","v":0},{"$f":"'[2]Class R'!BS$502","v":0}]
[]
[null,"???","Price not communicated"]

{"sheet":"Graphs Prices","index":8,"n_rows":129,"n_cols":2,"rows_kept":129,"cut":false,"hidden":false,"merged":[[128,1,128,3]]}
[]
[null,"GRAPHS"]
[]
[]
[]
[]
[]
[]
[]
[]
[]
[]
[]
[]
[]
[]
[]
[]
[]
[]
[]
[]
[]
[]
[]
[]
[]
[]
[]
[]
[]
[]
[]
[]
[]
[]
[]
[]
[]
[]
[]
[]
[]
[]
[]
[]
[]
[]
[]
[]
[]
[]
[]
[]
[]
[]
[]
[]
[]
[]
[]
[]
[]
[]
[]
[]
[]
[]
[]
[]
[]
[]
[]
[]
[]
[]
[]
[]
[]
[]
[]
[]
[]
[]
[]
[]
[]
[]
[]
[]
[]
[]
[]
[]
[]
[]
[]
[]
[]
[]
[]
[]
[]
[]
[]
[]
[]
[]
[]
[]
[]
[]
[]
[]
[]
[]
[]
[]
[]
[]
[]
[]
[]
[]
[]
[]
[]
[]
[null,"Source:     EU Commission DG AGRI\n"]

{"sheet":"Monthly piglet prices","index":9,"n_rows":403,"n_cols":37,"rows_kept":403,"cut":false,"hidden":false,"merged":[[2,16,3,16],[0,0,0,13]]}
["Monthly Market Prices for Piglets in the E.U."]
[]
[null,null,{"$f":"'[2]Monthly Piglet Prices'!D3","v":2013},{"$f":"'[2]Monthly Piglet Prices'!E3","v":2013},{"$f":"'[2]Monthly Piglet Prices'!F3","v":2013},{"$f":"'[2]Monthly Piglet Prices'!G3","v":2013},{"$f":"'[2]Monthly Piglet Prices'!H3","v":2013},{"$f":"'[2]Monthly Piglet Prices'!I3","v":2013},{"$f":"'[2]Monthly Piglet Prices'!J3","v":2014},{"$f":"'[2]Monthly Piglet Prices'!K3","v":2014},{"$f":"'[2]Monthly Piglet Prices'!L3","v":2014},{"$f":"'[2]Monthly Piglet Prices'!M3","v":2014},{"$f":"'[2]Monthly Piglet Prices'!N3","v":2014},{"$f":"'[2]Monthly Piglet Prices'!O3","v":2014},{"$f":"'[2]Monthly Piglet Prices'!P3","v":2014},null,{"$f":"'[2]Monthly Piglet Prices'!R3","v":"June14 /June 13"}]
[null,null,{"$f":"'[2]Monthly Piglet Prices'!D4","v":"July"},{"$f":"'[2]Monthly Piglet Prices'!E4","v":"August"},{"$f":"'[2]Monthly Piglet Prices'!F4","v":"September"},{"$f":"'[2]Monthly Piglet Prices'!G4","v":"October"},{"$f":"'[2]Monthly Piglet Prices'!H4","v":"November"},{"$f":"'[2]Monthly Piglet Prices'!I4","v":"December"},{"$f":"'[2]Monthly Piglet Prices'!J4","v":"January"},{"$f":"'[2]Monthly Piglet Prices'!K4","v":"February"},{"$f":"'[2]Monthly Piglet Prices'!L4","v":"March"},{"$f":"'[2]Monthly Piglet Prices'!M4","v":"April"},{"$f":"'[2]Monthly Piglet Prices'!N4","v":"May"},{"$f":"'[2]Monthly Piglet Prices'!O4","v":"June"},{"$f":"'[2]Monthly Piglet Prices'!P4","v":"July"}]
[]
[{"$f":"'[2]Monthly Piglet Prices'!B6","v":"Belgique"},{"$f":"'[2]Monthly Piglet Prices'!C6","v":"EUR / piece"},{"$f":"'[2]Monthly Piglet Prices'!D6","v":44.322600000000001},{"$f":"'[2]Monthly Piglet Prices'!E6","v":46.145200000000003},{"$f":"'[2]Monthly Piglet Prices'!F6","v":45.366700000000002},{"$f":"'[2]Monthly Piglet Prices'!G6","v":42.241900000000001},{"$f":"'[2]Monthly Piglet Prices'!H6","v":40},{"$f":"'[2]Monthly Piglet Prices'!I6","v":43.409100000000002},{"$f":"'[2]Monthly Piglet Prices'!J6","v":46.387096774193552},{"$f":"'[2]Monthly Piglet Prices'!K6","v":48.553571428571431},{"$f":"'[2]Monthly Piglet Prices'!L6","v":46.806451612903224},{"$f":"'[2]Monthly Piglet Prices'!M6","v":51.43333333333333},{"$f":"'[2]Monthly Piglet Prices'!N6","v":49.354838709677416},{"$f":"'[2]Monthly Piglet Prices'!O6","v":48.833333333333336},{"$f":"'[2]Monthly Piglet Prices'!P6","v":43.258064516129032},null,{"$f":"'[2]Monthly Piglet Prices'!R6","v":-2.4017893441967919E-2}]
[{"$f":"'[2]Monthly Piglet Prices'!B7","v":"Tchéquie"},{"$f":"'[2]Monthly Piglet Prices'!C7","v":"EUR / piece"},{"$f":"'[2]Monthly Piglet Prices'!D7","v":64.080600000000004},{"$f":"'[2]Monthly Piglet Prices'!E7","v":55.240499999999997},{"$f":"'[2]Monthly Piglet Prices'!F7","v":63.032899999999998},{"$f":"'[2]Monthly Piglet Prices'!G7","v":59.241300000000003},{"$f":"'[2]Monthly Piglet Prices'!H7","v":54.833199999999998},{"$f":"'[2]Monthly Piglet Prices'!I7","v":56.940899999999999},{"$f":"'[2]Monthly Piglet Prices'!J7","v":51.361701999256177},{"$f":"'[2]Monthly Piglet Prices'!K7","v":50.656191101429563},{"$f":"'[2]Monthly Piglet Prices'!L7","v":51.808266641840461},{"$f":"'[2]Monthly Piglet Prices'!M7","v":56.22894023805317},{"$f":"'[2]Monthly Piglet Prices'!N7","v":58.323576496078438},{"$f":"'[2]Monthly Piglet Prices'!O7","v":60.062584902879273},{"$f":"'[2]Monthly Piglet Prices'!P7","v":50.329001880907775},null,{"$f":"'[2]Monthly Piglet Prices'!R7","v":-0.21459846067440425}]
[{"$f":"'[2]Monthly Piglet Prices'!B8","v":"Tchéquie"},{"$f":"'[2]Monthly Piglet Prices'!C8","v":"CZK/ piece"},{"$f":"'[2]Monthly Piglet Prices'!D8","v":1662.4838999999999},{"$f":"'[2]Monthly Piglet Prices'!E8","v":1426.5161000000001},{"$f":"'[2]Monthly Piglet Prices'!F8","v":1624.8667},{"$f":"'[2]Monthly Piglet Prices'!G8","v":1520.5161000000001},{"$f":"'[2]Monthly Piglet Prices'!H8","v":1471.2},{"$f":"'[2]Monthly Piglet Prices'!I8","v":1563.6},{"$f":"'[2]Monthly Piglet Prices'!J8","v":1411.3870967741937},{"$f":"'[2]Monthly Piglet Prices'!K8","v":1390.6428571428571},{"$f":"'[2]Monthly Piglet Prices'!L8","v":1416.9354838709678},{"$f":"'[2]Monthly Piglet Prices'!M8","v":1542.7666666666667},{"$f":"'[2]Monthly Piglet Prices'!N8","v":881.25806451612902},{"$f":"'[2]Monthly Piglet Prices'!O8","v":857.26666666666665},{"$f":"'[2]Monthly Piglet Prices'!P8","v":1381.9677419354839},null,{"$f":"'[2]Monthly Piglet Prices'!R8","v":-0.1687331576952511}]
[{"$f":"'[2]Monthly Piglet Prices'!B9","v":"Danemark"},{"$f":"'[2]Monthly Piglet Prices'!C9","v":"EUR / piece"},{"$f":"'[2]Monthly Piglet Prices'!D9","v":44.416800000000002},{"$f":"'[2]Monthly Piglet Prices'!E9","v":47.403599999999997},{"$f":"'[2]Monthly Piglet Prices'!F9","v":50.733199999999997},{"$f":"'[2]Monthly Piglet Prices'!G9","v":49.854799999999997},{"$f":"'[2]Monthly Piglet Prices'!H9","v":48.4893},{"$f":"'[2]Monthly Piglet Prices'!I9","v":47.142600000000002},{"$f":"'[2]Monthly Piglet Prices'!J9","v":44.900009998335676},{"$f":"'[2]Monthly Piglet Prices'!K9","v":43.107661435812886},{"$f":"'[2]Monthly Piglet Prices'!L9","v":41.305102585229015},{"$f":"'[2]Monthly Piglet Prices'!M9","v":44.376318396859261},{"$f":"'[2]Monthly Piglet Prices'!N9","v":43.640812089008747},{"$f":"'[2]Monthly Piglet Prices'!O9","v":45.706869225644105},{"$f":"'[2]Monthly Piglet Prices'!P9","v":45.100782537198391},null,{"$f":"'[2]Monthly Piglet Prices'!R9","v":1.5399185380270186E-2}]
[{"$f":"'[2]Monthly Piglet Prices'!B10","v":"Danemark"},{"$f":"'[2]Monthly Piglet Prices'!C10","v":"DKK / piece"},{"$f":"'[2]Monthly Piglet Prices'!D10","v":331.25810000000001},{"$f":"'[2]Monthly Piglet Prices'!E10","v":353.51609999999999},{"$f":"'[2]Monthly Piglet Prices'!F10","v":378.36669999999998},{"$f":"'[2]Monthly Piglet Prices'!G10","v":371.87099999999998},{"$f":"'[2]Monthly Piglet Prices'!H10","v":361.66669999999999},{"$f":"'[2]Monthly Piglet Prices'!I10","v":351.68970000000002},{"$f":"'[2]Monthly Piglet Prices'!J10","v":335},{"$f":"'[2]Monthly Piglet Prices'!K10","v":321.67857142857144},{"$f":"'[2]Monthly Piglet Prices'!L10","v":308.29032258064518},{"$f":"'[2]Monthly Piglet Prices'!M10","v":331.3},{"$f":"'[2]Monthly Piglet Prices'!N10","v":325.74193548387098},{"$f":"'[2]Monthly Piglet Prices'!O10","v":340.93333333333334},{"$f":"'[2]Monthly Piglet Prices'!P10","v":336.29032258064518},null,{"$f":"'[2]Monthly Piglet Prices'!R10","v":1.5191243868890147E-2}]
[{"$f":"'[2]Monthly Piglet Prices'!B11","v":"Allemagne"},{"$f":"'[2]Monthly Piglet Prices'!C11","v":"EUR / piece"},{"$f":"'[2]Monthly Piglet Prices'!D11","v":54.1},{"$f":"'[2]Monthly Piglet Prices'!E11","v":56.8645},{"$f":"'[2]Monthly Piglet Prices'!F11","v":58.276699999999998},{"$f":"'[2]Monthly Piglet Prices'!G11","v":56.406500000000001},{"$f":"'[2]Monthly Piglet Prices'!H11","v":54.643300000000004},{"$f":"'[2]Monthly Piglet Prices'!I11","v":57.14},{"$f":"'[2]Monthly Piglet Prices'!J11","v":57.674193548387102},{"$f":"'[2]Monthly Piglet Prices'!K11","v":58.753571428571433},{"$f":"'[2]Monthly Piglet Prices'!L11","v":57.590322580645157},{"$f":"'[2]Monthly Piglet Prices'!M11","v":62.406666666666673},{"$f":"'[2]Monthly Piglet Prices'!N11","v":60.50645161290322},{"$f":"'[2]Monthly Piglet Prices'!O11","v":60.183333333333323},{"$f":"'[2]Monthly Piglet Prices'!P11","v":55.880645161290325},null,{"$f":"'[2]Monthly Piglet Prices'!R11","v":3.2913958619044781E-2}]
[{"$f":"'[2]Monthly Piglet Prices'!B12","v":"Estonie"},{"$f":"'[2]Monthly Piglet Prices'!C12","v":"EUR / piece"},{"$f":"'[2]Monthly Piglet Prices'!D12","v":39.3994},{"$f":"'[2]Monthly Piglet Prices'!E12","v":38.675199999999997},{"$f":"'[2]Monthly Piglet Prices'!F12","v":38.3613},{"$f":"'[2]Monthly Piglet Prices'!G12","v":39.234200000000001},{"$f":"'[2]Monthly Piglet Prices'!H12","v":38.628},{"$f":"'[2]Monthly Piglet Prices'!I12","v":38.829300000000003},{"$f":"'[2]Monthly Piglet Prices'!J12","v":38.424516129032263},{"$f":"'[2]Monthly Piglet Prices'!K12","v":39.266785714285717},{"$f":"'[2]Monthly Piglet Prices'!L12","v":39.645483870967745},{"$f":"'[2]Monthly Piglet Prices'!M12","v":41.398000000000003},{"$f":"'[2]Monthly Piglet Prices'!N12","v":39.349999999999994},{"$f":"'[2]Monthly Piglet Prices'!O12","v":38.452333333333328},{"$f":"'[2]Monthly Piglet Prices'!P12","v":38.658064516129031},null,{"$f":"'[2]Monthly Piglet Prices'!R12","v":-1.8815907954714217E-2}]
[{"$f":"'[2]Monthly Piglet Prices'!B13","v":"Espagne"},{"$f":"'[2]Monthly Piglet Prices'!C13","v":"EUR / piece"},{"$f":"'[2]Monthly Piglet Prices'!D13","v":40.506100000000004},{"$f":"'[2]Monthly Piglet Prices'!E13","v":39.360599999999998},{"$f":"'[2]Monthly Piglet Prices'!F13","v":41.5563},{"$f":"'[2]Monthly Piglet Prices'!G13","v":40.0426},{"$f":"'[2]Monthly Piglet Prices'!H13","v":40.042000000000002},{"$f":"'[2]Monthly Piglet Prices'!I13","v":45.897199999999998},{"$f":"'[2]Monthly Piglet Prices'!J13","v":49.151612903225811},{"$f":"'[2]Monthly Piglet Prices'!K13","v":51.486071428571428},{"$f":"'[2]Monthly Piglet Prices'!L13","v":49.911612903225802},{"$f":"'[2]Monthly Piglet Prices'!M13","v":54.033000000000001},{"$f":"'[2]Monthly Piglet Prices'!N13","v":49.870322580645158},{"$f":"'[2]Monthly Piglet Prices'!O13","v":44.754333333333328},{"$f":"'[2]Monthly Piglet Prices'!P13","v":38.896451612903228},null,{"$f":"'[2]Monthly Piglet Prices'!R13","v":-3.9738419326885932E-2}]
[{"$f":"'[2]Monthly Piglet Prices'!B14","v":"France"},{"$f":"'[2]Monthly Piglet Prices'!C14","v":"EUR / piece"},{"$f":"'[2]Monthly Piglet Prices'!D14","v":33.658099999999997},{"$f":"'[2]Monthly Piglet Prices'!E14","v":33.664499999999997},{"$f":"'[2]Monthly Piglet Prices'!F14","v":33.893300000000004},{"$f":"'[2]Monthly Piglet Prices'!G14","v":32.954799999999999},{"$f":"'[2]Monthly Piglet Prices'!H14","v":33.64},{"$f":"'[2]Monthly Piglet Prices'!I14","v":36.2759},{"$f":"'[2]Monthly Piglet Prices'!J14","v":38.045161290322582},{"$f":"'[2]Monthly Piglet Prices'!K14","v":38.878571428571426},{"$f":"'[2]Monthly Piglet Prices'!L14","v":39.619354838709668},{"$f":"'[2]Monthly Piglet Prices'!M14","v":42.746666666666663},{"$f":"'[2]Monthly Piglet Prices'!N14","v":41.109677419354838},{"$f":"'[2]Monthly Piglet Prices'!O14","v":39.526666666666664},{"$f":"'[2]Monthly Piglet Prices'!P14","v":35.341935483870962},null,{"$f":"'[2]Monthly Piglet Prices'!R14","v":5.0027645169244961E-2}]
[{"$f":"'[2]Monthly Piglet Prices'!B15","v":"Croatia"},{"$f":"'[2]Monthly Piglet Prices'!C15","v":"EUR / piece"},{"$f":"'[2]Monthly Piglet Prices'!D15","v":44.0411},{"$f":"'[2]Monthly Piglet Prices'!E15","v":42.690100000000001},{"$f":"'[2]Monthly Piglet Prices'!F15","v":41.698399999999999},{"$f":"'[2]Monthly Piglet Prices'!G15","v":39.904299999999999},{"$f":"'[2]Monthly Piglet Prices'!H15","v":38.748899999999999},{"$f":"'[2]Monthly Piglet Prices'!I15","v":40.504600000000003},{"$f":"'[2]Monthly Piglet Prices'!J15","v":45.927248602948666},{"$f":"'[2]Monthly Piglet Prices'!K15","v":48.472648273253334},{"$f":"'[2]Monthly Piglet Prices'!L15","v":49.55229464486569},{"$f":"'[2]Monthly Piglet Prices'!M15","v":54.798258353821183},{"$f":"'[2]Monthly Piglet Prices'!N15","v":50.164549294845934},{"$f":"'[2]Monthly Piglet Prices'!O15","v":50.401012467443337},{"$f":"'[2]Monthly Piglet Prices'!P15","v":43.141930835144642},null,{"$f":"'[2]Monthly Piglet Prices'!R15","v":-2.0416591884747648E-2}]
[{"$f":"'[2]Monthly Piglet Prices'!B16","v":"Croatia"},{"$f":"'[2]Monthly Piglet Prices'!C16","v":"HRK / piece"},{"$f":"'[2]Monthly Piglet Prices'!D16","v":330.58710000000002},{"$f":"'[2]Monthly Piglet Prices'!E16","v":321.65159999999997},{"$f":"'[2]Monthly Piglet Prices'!F16","v":316.74},{"$f":"'[2]Monthly Piglet Prices'!G16","v":304.00650000000002},{"$f":"'[2]Monthly Piglet Prices'!H16","v":295.70670000000001},{"$f":"'[2]Monthly Piglet Prices'!I16","v":309.16550000000001},{"$f":"'[2]Monthly Piglet Prices'!J16","v":350.69677419354838},{"$f":"'[2]Monthly Piglet Prices'!K16","v":371.11428571428576},{"$f":"'[2]Monthly Piglet Prices'!L16","v":379.51612903225805},{"$f":"'[2]Monthly Piglet Prices'!M16","v":418},{"$f":"'[2]Monthly Piglet Prices'!N16","v":381.05806451612909},{"$f":"'[2]Monthly Piglet Prices'!O16","v":381.94666666666666},{"$f":"'[2]Monthly Piglet Prices'!P16","v":328.37419354838715},null,{"$f":"'[2]Monthly Piglet Prices'!R16","v":-6.6938681261696775E-3}]
[{"$f":"'[2]Monthly Piglet Prices'!B17","v":"Italie"},{"$f":"'[2]Monthly Piglet Prices'!C17","v":"EUR / piece"},{"$f":"'[2]Monthly Piglet Prices'!D17","v":64.3035},{"$f":"'[2]Monthly Piglet Prices'!E17","v":64.299000000000007},{"$f":"'[2]Monthly Piglet Prices'!F17","v":64.648300000000006},{"$f":"'[2]Monthly Piglet Prices'!G17","v":64.053899999999999},{"$f":"'[2]Monthly Piglet Prices'!H17","v":62.348300000000002},{"$f":"'[2]Monthly Piglet Prices'!I17","v":64.464100000000002},{"$f":"'[2]Monthly Piglet Prices'!J17","v":68.897096774193543},{"$f":"'[2]Monthly Piglet Prices'!K17","v":76.153571428571439},{"$f":"'[2]Monthly Piglet Prices'!L17","v":78.408709677419353},{"$f":"'[2]Monthly Piglet Prices'!M17","v":80.325000000000003},{"$f":"'[2]Monthly Piglet Prices'!N17","v":75.535161290322591},{"$f":"'[2]Monthly Piglet Prices'!O17","v":73.315000000000012},{"$f":"'[2]Monthly Piglet Prices'!P17","v":72.459032258064511},null,{"$f":"'[2]Monthly Piglet Prices'!R17","v":0.12682874583909909}]
[{"$f":"'[2]Monthly Piglet Prices'!B18","v":"Luxembourg"},{"$f":"'[2]Monthly Piglet Prices'!C18","v":"EUR / piece"},{"$f":"'[2]Monthly Piglet Prices'!D18","v":40.951599999999999},{"$f":"'[2]Monthly Piglet Prices'!E18","v":42.551600000000001},{"$f":"'[2]Monthly Piglet Prices'!F18","v":42.976700000000001},{"$f":"'[2]Monthly Piglet Prices'!G18","v":41.8613},{"$f":"'[2]Monthly Piglet Prices'!H18","v":42.653300000000002},{"$f":"'[2]Monthly Piglet Prices'!I18","v":47.679299999999998},{"$f":"'[2]Monthly Piglet Prices'!J18","v":50.054193548387097},{"$f":"'[2]Monthly Piglet Prices'!K18","v":44.11},{"$f":"'[2]Monthly Piglet Prices'!L18","v":44.77129032258064},{"$f":"'[2]Monthly Piglet Prices'!M18","v":46.902333333333338},{"$f":"'[2]Monthly Piglet Prices'!N18","v":45.385161290322586},{"$f":"'[2]Monthly Piglet Prices'!O18","v":44.00333333333333},{"$f":"'[2]Monthly Piglet Prices'!P18","v":39.90870967741936},null,{"$f":"'[2]Monthly Piglet Prices'!R18","v":-2.5466412120176973E-2}]
[{"$f":"'[2]Monthly Piglet Prices'!B19","v":"Hongrie"},{"$f":"'[2]Monthly Piglet Prices'!C19","v":"EUR / piece"},{"$f":"'[2]Monthly Piglet Prices'!D19","v":43.761499999999998},{"$f":"'[2]Monthly Piglet Prices'!E19","v":41.743499999999997},{"$f":"'[2]Monthly Piglet Prices'!F19","v":39.008800000000001},{"$f":"'[2]Monthly Piglet Prices'!G19","v":40.483800000000002},{"$f":"'[2]Monthly Piglet Prices'!H19","v":40.490499999999997},{"$f":"'[2]Monthly Piglet Prices'!I19","v":33.5062},{"$f":"'[2]Monthly Piglet Prices'!J19","v":45.918324985115746},{"$f":"'[2]Monthly Piglet Prices'!K19","v":45.175445246778274},{"$f":"'[2]Monthly Piglet Prices'!L19","v":47.166370544652743},{"$f":"'[2]Monthly Piglet Prices'!M19","v":51.147597969054246},{"$f":"'[2]Monthly Piglet Prices'!N19","v":46.930605035295038},{"$f":"'[2]Monthly Piglet Prices'!O19","v":44.915598647250583},{"$f":"'[2]Monthly Piglet Prices'!P19","v":40.12772483711295},null,{"$f":"'[2]Monthly Piglet Prices'!R19","v":-8.303589143167045E-2}]
[{"$f":"'[2]Monthly Piglet Prices'!B20","v":"Hongrie"},{"$f":"'[2]Monthly Piglet Prices'!C20","v":"HUF/ piece"},{"$f":"'[2]Monthly Piglet Prices'!D20","v":12900.381299999999},{"$f":"'[2]Monthly Piglet Prices'!E20","v":12498.2497},{"$f":"'[2]Monthly Piglet Prices'!F20","v":11694.8017},{"$f":"'[2]Monthly Piglet Prices'!G20","v":11944.880300000001},{"$f":"'[2]Monthly Piglet Prices'!H20","v":12039.3343},{"$f":"'[2]Monthly Piglet Prices'!I20","v":10117.248},{"$f":"'[2]Monthly Piglet Prices'!J20","v":13817.818064516128},{"$f":"'[2]Monthly Piglet Prices'!K20","v":14011.278571428571},{"$f":"'[2]Monthly Piglet Prices'!L20","v":14690.717419354838},{"$f":"'[2]Monthly Piglet Prices'!M20","v":15724.305333333334},{"$f":"'[2]Monthly Piglet Prices'!N20","v":14318.848064516131},{"$f":"'[2]Monthly Piglet Prices'!O20","v":13727.268666666667},{"$f":"'[2]Monthly Piglet Prices'!P20","v":12433.04322580645},null,{"$f":"'[2]Monthly Piglet Prices'!R20","v":-3.6226686895956206E-2}]
[{"$f":"'[2]Monthly Piglet Prices'!B21","v":"Malte"},{"$f":"'[2]Monthly Piglet Prices'!C21","v":"EUR / piece"},{"$f":"'[2]Monthly Piglet Prices'!D21","v":91.32},{"$f":"'[2]Monthly Piglet Prices'!E21","v":91.32},{"$f":"'[2]Monthly Piglet Prices'!F21","v":91.32},{"$f":"'[2]Monthly Piglet Prices'!G21","v":91.32},{"$f":"'[2]Monthly Piglet Prices'!H21","v":91.32},{"$f":"'[2]Monthly Piglet Prices'!I21","v":91.32},{"$f":"'[2]Monthly Piglet Prices'!J21","v":91.320000000000007},{"$f":"'[2]Monthly Piglet Prices'!K21","v":91.319999999999979},{"$f":"'[2]Monthly Piglet Prices'!L21","v":91.32},{"$f":"'[2]Monthly Piglet Prices'!M21","v":94.364000000000004},{"$f":"'[2]Monthly Piglet Prices'!N21","v":91.320000000000007},{"$f":"'[2]Monthly Piglet Prices'!O21","v":91.32},{"$f":"'[2]Monthly Piglet Prices'!P21","v":91.320000000000007},null,{"$f":"'[2]Monthly Piglet Prices'!R21","v":0}]
[{"$f":"'[2]Monthly Piglet Prices'!B22","v":"Pays-Bas"},{"$f":"'[2]Monthly Piglet Prices'!C22","v":"EUR / piece"},{"$f":"'[2]Monthly Piglet Prices'!D22","v":34.572600000000001},{"$f":"'[2]Monthly Piglet Prices'!E22","v":36.612900000000003},{"$f":"'[2]Monthly Piglet Prices'!F22","v":36.966700000000003},{"$f":"'[2]Monthly Piglet Prices'!G22","v":34.403199999999998},{"$f":"'[2]Monthly Piglet Prices'!H22","v":33.9833},{"$f":"'[2]Monthly Piglet Prices'!I22","v":39.079500000000003},{"$f":"'[2]Monthly Piglet Prices'!J22","v":42.532258064516128},{"$f":"'[2]Monthly Piglet Prices'!K22","v":42.4375},{"$f":"'[2]Monthly Piglet Prices'!L22","v":39.612903225806448},{"$f":"'[2]Monthly Piglet Prices'!M22","v":45.141666666666666},{"$f":"'[2]Monthly Piglet Prices'!N22","v":41.62096774193548},{"$f":"'[2]Monthly Piglet Prices'!O22","v":39.450000000000003},{"$f":"'[2]Monthly Piglet Prices'!P22","v":33.935483870967744},null,{"$f":"'[2]Monthly Piglet Prices'!R22","v":-1.8428354507102673E-2}]
[{"$f":"'[2]Monthly Piglet Prices'!B23","v":"Pologne"},{"$f":"'[2]Monthly Piglet Prices'!C23","v":"EUR / piece"},{"$f":"'[2]Monthly Piglet Prices'!D23","v":40.396299999999997},{"$f":"'[2]Monthly Piglet Prices'!E23","v":40.729300000000002},{"$f":"'[2]Monthly Piglet Prices'!F23","v":42.495600000000003},{"$f":"'[2]Monthly Piglet Prices'!G23","v":42.6798},{"$f":"'[2]Monthly Piglet Prices'!H23","v":40.195799999999998},{"$f":"'[2]Monthly Piglet Prices'!I23","v":39.061199999999999},{"$f":"'[2]Monthly Piglet Prices'!J23","v":40.412595989356483},{"$f":"'[2]Monthly Piglet Prices'!K23","v":38.980861937450008},{"$f":"'[2]Monthly Piglet Prices'!L23","v":39.557761944185316},{"$f":"'[2]Monthly Piglet Prices'!M23","v":43.098162884349428},{"$f":"'[2]Monthly Piglet Prices'!N23","v":42.182561341521286},{"$f":"'[2]Monthly Piglet Prices'!O23","v":41.232763920822485},{"$f":"'[2]Monthly Piglet Prices'!P23","v":39.772120612689875},null,{"$f":"'[2]Monthly Piglet Prices'!R23","v":-1.5451399937868593E-2}]
[{"$f":"'[2]Monthly Piglet Prices'!B24","v":"Pologne"},{"$f":"'[2]Monthly Piglet Prices'!C24","v":"PLN/ piece"},{"$f":"'[2]Monthly Piglet Prices'!D24","v":172.79769999999999},{"$f":"'[2]Monthly Piglet Prices'!E24","v":172.2174},{"$f":"'[2]Monthly Piglet Prices'!F24","v":180.161},{"$f":"'[2]Monthly Piglet Prices'!G24","v":178.93610000000001},{"$f":"'[2]Monthly Piglet Prices'!H24","v":168.3417},{"$f":"'[2]Monthly Piglet Prices'!I24","v":163.55860000000001},{"$f":"'[2]Monthly Piglet Prices'!J24","v":169.14419354838708},{"$f":"'[2]Monthly Piglet Prices'!K24","v":162.92464285714283},{"$f":"'[2]Monthly Piglet Prices'!L24","v":166.00838709677421},{"$f":"'[2]Monthly Piglet Prices'!M24","v":180.35633333333334},{"$f":"'[2]Monthly Piglet Prices'!N24","v":176.42483870967743},{"$f":"'[2]Monthly Piglet Prices'!O24","v":170.53566666666669},{"$f":"'[2]Monthly Piglet Prices'!P24","v":164.88645161290322},null,{"$f":"'[2]Monthly Piglet Prices'!R24","v":-4.578329680948745E-2}]
[{"$f":"'[2]Monthly Piglet Prices'!B25","v":"Portugal"},{"$f":"'[2]Monthly Piglet Prices'!C25","v":"EUR / piece"},{"$f":"'[2]Monthly Piglet Prices'!D25","v":38.419400000000003},{"$f":"'[2]Monthly Piglet Prices'!E25","v":41.871000000000002},{"$f":"'[2]Monthly Piglet Prices'!F25","v":47.9},{"$f":"'[2]Monthly Piglet Prices'!G25","v":47.419400000000003},{"$f":"'[2]Monthly Piglet Prices'!H25","v":47.606699999999996},{"$f":"'[2]Monthly Piglet Prices'!I25","v":48.979300000000002},{"$f":"'[2]Monthly Piglet Prices'!J25","v":50.903225806451616},{"$f":"'[2]Monthly Piglet Prices'!K25","v":44.74285714285714},{"$f":"'[2]Monthly Piglet Prices'!L25","v":43.400000000000006},{"$f":"'[2]Monthly Piglet Prices'!M25","v":45.38},{"$f":"'[2]Monthly Piglet Prices'!N25","v":44.354838709677416},{"$f":"'[2]Monthly Piglet Prices'!O25","v":44},{"$f":"'[2]Monthly Piglet Prices'!P25","v":44},null,{"$f":"'[2]Monthly Piglet Prices'!R25","v":0.14525474109434278}]
[{"$f":"'[2]Monthly Piglet Prices'!B26","v":"Slovakie"},{"$f":"'[2]Monthly Piglet Prices'!C26","v":"EUR / piece"},{"$f":"'[2]Monthly Piglet Prices'!D26","v":65.988100000000003},{"$f":"'[2]Monthly Piglet Prices'!E26","v":67.167100000000005},{"$f":"'[2]Monthly Piglet Prices'!F26","v":72.774000000000001},{"$f":"'[2]Monthly Piglet Prices'!G26","v":69.058400000000006},{"$f":"'[2]Monthly Piglet Prices'!H26","v":71.232299999999995},{"$f":"'[2]Monthly Piglet Prices'!I26","v":70.510000000000005},{"$f":"'[2]Monthly Piglet Prices'!J26","v":68.368064516129024},{"$f":"'[2]Monthly Piglet Prices'!K26","v":72.542500000000004},{"$f":"'[2]Monthly Piglet Prices'!L26","v":79.710967741935477},{"$f":"'[2]Monthly Piglet Prices'!M26","v":82.848333333333329},{"$f":"'[2]Monthly Piglet Prices'!N26","v":77.932903225806456},{"$f":"'[2]Monthly Piglet Prices'!O26","v":71.851333333333343},{"$f":"'[2]Monthly Piglet Prices'!P26","v":62.327419354838703},null,{"$f":"'[2]Monthly Piglet Prices'!R26","v":-5.5474860545481675E-2}]
[{"$f":"'[2]Monthly Piglet Prices'!B27","v":"Finlande"},{"$f":"'[2]Monthly Piglet Prices'!C27","v":"EUR / piece"},{"$f":"'[2]Monthly Piglet Prices'!D27","v":54.25},{"$f":"'[2]Monthly Piglet Prices'!E27","v":55.640599999999999},{"$f":"'[2]Monthly Piglet Prices'!F27","v":55.572000000000003},{"$f":"'[2]Monthly Piglet Prices'!G27","v":55.17},{"$f":"'[2]Monthly Piglet Prices'!H27","v":54.337000000000003},{"$f":"'[2]Monthly Piglet Prices'!I27","v":54.133800000000001},{"$f":"'[2]Monthly Piglet Prices'!J27","v":52.130645161290332},{"$f":"'[2]Monthly Piglet Prices'!K27","v":54.432857142857138},{"$f":"'[2]Monthly Piglet Prices'!L27","v":53.361612903225804},{"$f":"'[2]Monthly Piglet Prices'!M27","v":53.782333333333334},{"$f":"'[2]Monthly Piglet Prices'!N27","v":52.110645161290321},{"$f":"'[2]Monthly Piglet Prices'!O27","v":52.243000000000002},{"$f":"'[2]Monthly Piglet Prices'!P27","v":52.569354838709678},null,{"$f":"'[2]Monthly Piglet Prices'!R27","v":-3.0979634309499016E-2}]
[{"$f":"'[2]Monthly Piglet Prices'!B28","v":"Suède"},{"$f":"'[2]Monthly Piglet Prices'!C28","v":"EUR / piece"},{"$f":"'[2]Monthly Piglet Prices'!D28","v":86.171000000000006},{"$f":"'[2]Monthly Piglet Prices'!E28","v":85.926400000000001},{"$f":"'[2]Monthly Piglet Prices'!F28","v":85.359499999999997},{"$f":"'[2]Monthly Piglet Prices'!G28","v":84.068299999999994},{"$f":"'[2]Monthly Piglet Prices'!H28","v":81.894900000000007},{"$f":"'[2]Monthly Piglet Prices'!I28","v":78.835700000000003},{"$f":"'[2]Monthly Piglet Prices'!J28","v":78.219418737538604},{"$f":"'[2]Monthly Piglet Prices'!K28","v":75.78523276504157},{"$f":"'[2]Monthly Piglet Prices'!L28","v":74.300644132636421},{"$f":"'[2]Monthly Piglet Prices'!M28","v":74.955210627277026},{"$f":"'[2]Monthly Piglet Prices'!N28","v":72.106303362018593},{"$f":"'[2]Monthly Piglet Prices'!O28","v":73.836714697408254},{"$f":"'[2]Monthly Piglet Prices'!P28","v":76.964379962782971},null,{"$f":"'[2]Monthly Piglet Prices'!R28","v":-0.10684128114118474}]
[{"$f":"'[2]Monthly Piglet Prices'!B29","v":"Suède"},{"$f":"'[2]Monthly Piglet Prices'!C29","v":"SEK / piece"},{"$f":"'[2]Monthly Piglet Prices'!D29","v":746.59550000000002},{"$f":"'[2]Monthly Piglet Prices'!E29","v":747.72260000000006},{"$f":"'[2]Monthly Piglet Prices'!F29","v":740.88199999999995},{"$f":"'[2]Monthly Piglet Prices'!G29","v":735.05},{"$f":"'[2]Monthly Piglet Prices'!H29","v":726.55129999999997},{"$f":"'[2]Monthly Piglet Prices'!I29","v":705.57910000000004},{"$f":"'[2]Monthly Piglet Prices'!J29","v":691.60870967741937},{"$f":"'[2]Monthly Piglet Prices'!K29","v":672.18964285714287},{"$f":"'[2]Monthly Piglet Prices'!L29","v":659.0116129032258},{"$f":"'[2]Monthly Piglet Prices'!M29","v":677.26700000000005},{"$f":"'[2]Monthly Piglet Prices'!N29","v":651.44290322580639},{"$f":"'[2]Monthly Piglet Prices'!O29","v":671.39300000000003},{"$f":"'[2]Monthly Piglet Prices'!P29","v":710.49774193548376},null,{"$f":"'[2]Monthly Piglet Prices'!R29","v":-4.8349820035770708E-2}]
[{"$f":"'[2]Monthly Piglet Prices'!B30","v":"Royaume Uni"},{"$f":"'[2]Monthly Piglet Prices'!C30","v":"EUR / piece"},{"$f":"'[2]Monthly Piglet Prices'!D30","v":62.159799999999997},{"$f":"'[2]Monthly Piglet Prices'!E30","v":62.414499999999997},{"$f":"'[2]Monthly Piglet Prices'!F30","v":64.111999999999995},{"$f":"'[2]Monthly Piglet Prices'!G30","v":64.342399999999998},{"$f":"'[2]Monthly Piglet Prices'!H30","v":67.3827},{"$f":"'[2]Monthly Piglet Prices'!I30","v":68.044499999999999},{"$f":"'[2]Monthly Piglet Prices'!J30","v":68.495034709179379},{"$f":"'[2]Monthly Piglet Prices'!K30","v":67.638882078004144},{"$f":"'[2]Monthly Piglet Prices'!L30","v":67.513117622140484},{"$f":"'[2]Monthly Piglet Prices'!M30","v":70.729700472408609},{"$f":"'[2]Monthly Piglet Prices'!N30","v":68.825542039822153},{"$f":"'[2]Monthly Piglet Prices'!O30","v":70.156453112676374},{"$f":"'[2]Monthly Piglet Prices'!P30","v":70.920139945001509},null,{"$f":"'[2]Monthly Piglet Prices'!R30","v":0.14093256324829739}]
[{"$f":"'[2]Monthly Piglet Prices'!B31","v":"Royaume Uni"},{"$f":"'[2]Monthly Piglet Prices'!C31","v":"GBP / piece"},{"$f":"'[2]Monthly Piglet Prices'!D31","v":53.555799999999998},{"$f":"'[2]Monthly Piglet Prices'!E31","v":53.646799999999999},{"$f":"'[2]Monthly Piglet Prices'!F31","v":54.028300000000002},{"$f":"'[2]Monthly Piglet Prices'!G31","v":54.474800000000002},{"$f":"'[2]Monthly Piglet Prices'!H31","v":56.512700000000002},{"$f":"'[2]Monthly Piglet Prices'!I31","v":56.970999999999997},{"$f":"'[2]Monthly Piglet Prices'!J31","v":56.762903225806461},{"$f":"'[2]Monthly Piglet Prices'!K31","v":55.801785714285714},{"$f":"'[2]Monthly Piglet Prices'!L31","v":56.114838709677421},{"$f":"'[2]Monthly Piglet Prices'!M31","v":58.38633333333334},{"$f":"'[2]Monthly Piglet Prices'!N31","v":56.160322580645165},{"$f":"'[2]Monthly Piglet Prices'!O31","v":56.39800000000001},{"$f":"'[2]Monthly Piglet Prices'!P31","v":56.273225806451613},null,{"$f":"'[2]Monthly Piglet Prices'!R31","v":5.0740084294355059E-2}]
[]
[{"$f":"'[2]Monthly Piglet Prices'!B33","v":"EU"},{"$f":"'[2]Monthly Piglet Prices'!C33","v":"EUR / piece"},{"$f":"'[2]Monthly Piglet Prices'!D33","v":46.017200000000003},{"$f":"'[2]Monthly Piglet Prices'!E33","v":46.883000000000003},{"$f":"'[2]Monthly Piglet Prices'!F33","v":48.270200000000003},{"$f":"'[2]Monthly Piglet Prices'!G33","v":46.946899999999999},{"$f":"'[2]Monthly Piglet Prices'!H33","v":46.072600000000001},{"$f":"'[2]Monthly Piglet Prices'!I33","v":48.416499999999999},{"$f":"'[2]Monthly Piglet Prices'!J33","v":50.285818665358853},{"$f":"'[2]Monthly Piglet Prices'!K33","v":51.208649351756627},{"$f":"'[2]Monthly Piglet Prices'!L33","v":50.471497875518025},{"$f":"'[2]Monthly Piglet Prices'!M33","v":54.3614282959905},{"$f":"'[2]Monthly Piglet Prices'!N33","v":51.869215573700025},{"$f":"'[2]Monthly Piglet Prices'!O33","v":50.416922516733898},{"$f":"'[2]Monthly Piglet Prices'!P33","v":46.710674139689147},null,{"$f":"'[2]Monthly Piglet Prices'!R33","v":1.5069889947435744E-2}]
[]
[]
[]
[]
[]
[]
[]
[]
[]
[]
[]
[]
[]
[]
[]
[]
[]
[]
[]
[]
[]
[]
[]
[]
[]
[]
[]
[]
[]
[]
[]
[]
[]
[]
[]
[]
[]
[]
[]
[]
[]
[]
[]
[]
[]
[]
[]
[]
[]
[]
[]
[]
[]
[]
[]
[]
[]
[]
[]
[]
[]
[]
[]
[]
[]
[]
[]
[]
[]
[]
[]
[]
[]
[]
[]
[]
[]
[]
[]
[]
[]
[]
[]
[]
[]
[]
[]
[]
[]
[]
[]
[]
[]
[]
[]
[]
[]
[]
[]
[]
[]
[]
[]
[]
[]
[]
[]
[]
[]
[]
[]
[]
[]
[]
[]
[]
[]
[]
[]
[]
[]
[]
[]
[]
[]
[]
[]
[]
[]
[]
[]
[]
[]
[]
[]
[]
[]
[]
[]
[]
[]
[]
[]
[]
[]
[]
[]
[]
[]
[]
[]
[]
[]
[]
[]
[]
[]
[]
[]
[]
[]
[]
[]
[]
[]
[]
[]
[]
[]
[]
[]
[]
[]
[]
[]
[]
[]
[]
[]
[]
[]
[]
[]
[]
[]
[]
[]
[]
[]
[]
[]
[]
[]
[]
[]
[]
[]
[]
[]
[]
[]
[]
[]
[]
[]
[]
[]
[]
[]
[]
[]
[]
[]
[]
[]
[]
[]
[]
[]
[]
[]
[]
[]
[]
[]
[]
[]
[]
[]
[]
[]
[]
[]
[]
[]
[]
[]
[]
[]
[]
[]
[]
[]
[]
[]
[]
[]
[]
[]
[]
[]
[]
[]
[]
[]
[]
[]
[]
[]
[]
[]
[]
[]
[]
[]
[]
[]
[]
[]
[]
[]
[]
[]
[]
[]
[]
[]
[]
[]
[]
[]
[]
[]
[]
[]
[]
[]
[]
[]
[]
[]
[]
[]
[]
[]
[]
[]
[]
[]
[]
[]
[]
[]
[]
[]
[]
[]
[]
[]
[]
[]
[]
[]
[]
[]
[]
[]
[]
[]
[]
[]
[]
[]
[]
[]
[]
[]
[]
[]
[]
[]
[]
[]
[]
[]
[]
[]
[]
[]
[]
[]
[]
[]
[]
[]
[]
[]
[]
[]
[]
[]
[]
[]
[]
[]
[]
[]
[]
[]
[]
[]
[]
[]
[]
[]
[]
[]
[]
[]
[null,null,"BG","BG","CZ","CZ","DK","DK","DE","EE","GR","ES","FR","HR",null,null,"HR","IE","IT","LT","LU","HU","HU","MT","NL","AT","PL","PL","PT","RO","RO","SI","SK","FI","SE","SE","UK"]

{"sheet":"Monthly pig prices-Classe E","index":10,"n_rows":45,"n_cols":17,"rows_kept":45,"cut":false,"hidden":false,"merged":[[0,0,0,16],[2,16,3,16]]}
["Monthly Market Prices for Pig Carcase Grade E in the E.U."]
[]
[null,null,{"$f":"'[2]Monthly Pig Prices - E'!C3","v":2013},{"$f":"'[2]Monthly Pig Prices - E'!D3","v":2013},{"$f":"'[2]Monthly Pig Prices - E'!E3","v":2013},{"$f":"'[2]Monthly Pig Prices - E'!F3","v":2013},{"$f":"'[2]Monthly Pig Prices - E'!G3","v":2013},{"$f":"'[2]Monthly Pig Prices - E'!H3","v":2013},{"$f":"'[2]Monthly Pig Prices - E'!I3","v":2014},{"$f":"'[2]Monthly Pig Prices - E'!J3","v":2014},{"$f":"'[2]Monthly Pig Prices - E'!K3","v":2014},{"$f":"'[2]Monthly Pig Prices - E'!L3","v":2014},{"$f":"'[2]Monthly Pig Prices - E'!M3","v":2014},{"$f":"'[2]Monthly Pig Prices - E'!N3","v":2014},{"$f":"'[2]Monthly Pig Prices - E'!O3","v":2014},null,{"$f":"'[2]Monthly Pig Prices - E'!$Q$3:$Q$4","v":"June14 /June 13"}]
[null,null,{"$f":"'[2]Monthly Pig Prices - E'!C4","v":"July"},{"$f":"'[2]Monthly Pig Prices - E'!D4","v":"August"},{"$f":"'[2]Monthly Pig Prices - E'!E4","v":"September"},{"$f":"'[2]Monthly Pig Prices - E'!F4","v":"October"},{"$f":"'[2]Monthly Pig Prices - E'!G4","v":"November"},{"$f":"'[2]Monthly Pig Prices - E'!H4","v":"December"},{"$f":"'[2]Monthly Pig Prices - E'!I4","v":"January"},{"$f":"'[2]Monthly Pig Prices - E'!J4","v":"February"},{"$f":"'[2]Monthly Pig Prices - E'!K4","v":"March"},{"$f":"'[2]Monthly Pig Prices - E'!L4","v":"April"},{"$f":"'[2]Monthly Pig Prices - E'!M4","v":"May"},{"$f":"'[2]Monthly Pig Prices - E'!N4","v":"June"},{"$f":"'[2]Monthly Pig Prices - E'!O4","v":"July"}]
[]
[{"$f":"'[2]Monthly Pig Prices - E'!$A6","v":"Belgique"},"EUR / 100 Kg",{"$f":"'[2]Monthly Pig Prices - E'!C6","v":163.34520000000001},{"$f":"'[2]Monthly Pig Prices - E'!D6","v":174.5129},{"$f":"'[2]Monthly Pig Prices - E'!E6","v":173.92},{"$f":"'[2]Monthly Pig Prices - E'!F6","v":164.2774},{"$f":"'[2]Monthly Pig Prices - E'!G6","v":154.63999999999999},{"$f":"'[2]Monthly Pig Prices - E'!H6","v":150.4862},{"$f":"'[2]Monthly Pig Prices - E'!I6","v":143.37741935483874},{"$f":"'[2]Monthly Pig Prices - E'!J6","v":142.20714285714286},{"$f":"'[2]Monthly Pig Prices - E'!K6","v":141.98709677419356},{"$f":"'[2]Monthly Pig Prices - E'!L6","v":150.28},{"$f":"'[2]Monthly Pig Prices - E'!M6","v":149.26774193548388},{"$f":"'[2]Monthly Pig Prices - E'!N6","v":155.36666666666665},{"$f":"'[2]Monthly Pig Prices - E'!O6","v":151.87419354838707},null,{"$f":"'[2]Monthly Pig Prices - E'!Q6","v":-7.0225549643411211E-2}]
[{"$f":"'[2]Monthly Pig Prices - E'!$A7","v":"Bulgaria"},"EUR / 100 Kg",{"$f":"'[2]Monthly Pig Prices - E'!C7","v":186.06180000000001},{"$f":"'[2]Monthly Pig Prices - E'!D7","v":202.7953},{"$f":"'[2]Monthly Pig Prices - E'!E7","v":215.30779999999999},{"$f":"'[2]Monthly Pig Prices - E'!F7","v":223.6601},{"$f":"'[2]Monthly Pig Prices - E'!G7","v":211.83799999999999},{"$f":"'[2]Monthly Pig Prices - E'!H7","v":201.0598},{"$f":"'[2]Monthly Pig Prices - E'!I7","v":209.83625214003678},{"$f":"'[2]Monthly Pig Prices - E'!J7","v":207.83201612785416},{"$f":"'[2]Monthly Pig Prices - E'!K7","v":204.54677402861302},{"$f":"'[2]Monthly Pig Prices - E'!L7","v":191.40897160582199},{"$f":"'[2]Monthly Pig Prices - E'!M7","v":193.1005874998763},{"$f":"'[2]Monthly Pig Prices - E'!N7","v":191.0832736816989},{"$f":"'[2]Monthly Pig Prices - E'!O7","v":193.46476485160767},null,{"$f":"'[2]Monthly Pig Prices - E'!Q7","v":3.9787666525894494E-2}]
[{"$f":"'[2]Monthly Pig Prices - E'!$A8","v":"Bulgaria"},"BGN/ 100 Kg",{"$f":"'[2]Monthly Pig Prices - E'!C8","v":363.8997},{"$f":"'[2]Monthly Pig Prices - E'!D8","v":396.62709999999998},{"$f":"'[2]Monthly Pig Prices - E'!E8","v":421.09899999999999},{"$f":"'[2]Monthly Pig Prices - E'!F8","v":437.43450000000001},{"$f":"'[2]Monthly Pig Prices - E'!G8","v":414.31270000000001},{"$f":"'[2]Monthly Pig Prices - E'!H8","v":393.2328},{"$f":"'[2]Monthly Pig Prices - E'!I8","v":410.39774193548385},{"$f":"'[2]Monthly Pig Prices - E'!J8","v":406.4778571428572},{"$f":"'[2]Monthly Pig Prices - E'!K8","v":400.0525806451613},{"$f":"'[2]Monthly Pig Prices - E'!L8","v":374.86066666666665},{"$f":"'[2]Monthly Pig Prices - E'!M8","v":378.31516129032258},{"$f":"'[2]Monthly Pig Prices - E'!N8","v":373.72066666666672},{"$f":"'[2]Monthly Pig Prices - E'!O8","v":378.37838709677419},null,{"$f":"'[2]Monthly Pig Prices - E'!Q8","v":3.9787576348027098E-2}]
[{"$f":"'[2]Monthly Pig Prices - E'!$A9","v":"Tchéquie"},"EUR / 100 Kg",{"$f":"'[2]Monthly Pig Prices - E'!C9","v":176.0136},{"$f":"'[2]Monthly Pig Prices - E'!D9","v":183.14949999999999},{"$f":"'[2]Monthly Pig Prices - E'!E9","v":191.73509999999999},{"$f":"'[2]Monthly Pig Prices - E'!F9","v":185.60720000000001},{"$f":"'[2]Monthly Pig Prices - E'!G9","v":171.8741},{"$f":"'[2]Monthly Pig Prices - E'!H9","v":170.26079999999999},{"$f":"'[2]Monthly Pig Prices - E'!I9","v":160.00287303097016},{"$f":"'[2]Monthly Pig Prices - E'!J9","v":157.16951686668583},{"$f":"'[2]Monthly Pig Prices - E'!K9","v":154.28091651135384},{"$f":"'[2]Monthly Pig Prices - E'!L9","v":158.00663197665074},{"$f":"'[2]Monthly Pig Prices - E'!M9","v":161.55804225015316},{"$f":"'[2]Monthly Pig Prices - E'!N9","v":170.70733657288983},{"$f":"'[2]Monthly Pig Prices - E'!O9","v":174.65321986137192},null,{"$f":"'[2]Monthly Pig Prices - E'!Q9","v":-7.7288353776530094E-3}]
[{"$f":"'[2]Monthly Pig Prices - E'!$A10","v":"Tchéquie"},"CZK/ 100kg",{"$f":"'[2]Monthly Pig Prices - E'!C10","v":4566.4516000000003},{"$f":"'[2]Monthly Pig Prices - E'!D10","v":4729.4516000000003},{"$f":"'[2]Monthly Pig Prices - E'!E10","v":4942.4332999999997},{"$f":"'[2]Monthly Pig Prices - E'!F10","v":4763.6773999999996},{"$f":"'[2]Monthly Pig Prices - E'!G10","v":4613.1333000000004},{"$f":"'[2]Monthly Pig Prices - E'!H10","v":4679.0909000000001},{"$f":"'[2]Monthly Pig Prices - E'!I10","v":4396.2580645161288},{"$f":"'[2]Monthly Pig Prices - E'!J10","v":4314.8214285714284},{"$f":"'[2]Monthly Pig Prices - E'!K10","v":4226.3870967741932},{"$f":"'[2]Monthly Pig Prices - E'!L10","v":4343.1333333333332},{"$f":"'[2]Monthly Pig Prices - E'!M10","v":4433.8709677419356},{"$f":"'[2]Monthly Pig Prices - E'!N10","v":4685.833333333333},{"$f":"'[2]Monthly Pig Prices - E'!O10","v":4795.8387096774195},null,{"$f":"'[2]Monthly Pig Prices - E'!Q10","v":5.0233119667231207E-2}]
[{"$f":"'[2]Monthly Pig Prices - E'!$A11","v":"Danemark"},"EUR / 100 Kg",{"$f":"'[2]Monthly Pig Prices - E'!C11","v":159.74719999999999},{"$f":"'[2]Monthly Pig Prices - E'!D11","v":165.69460000000001},{"$f":"'[2]Monthly Pig Prices - E'!E11","v":169.39359999999999},{"$f":"'[2]Monthly Pig Prices - E'!F11","v":166.7766},{"$f":"'[2]Monthly Pig Prices - E'!G11","v":162.94210000000001},{"$f":"'[2]Monthly Pig Prices - E'!H11","v":158.4008},{"$f":"'[2]Monthly Pig Prices - E'!I11","v":151.4003878090256},{"$f":"'[2]Monthly Pig Prices - E'!J11","v":147.95478363240412},{"$f":"'[2]Monthly Pig Prices - E'!K11","v":143.22175941601446},{"$f":"'[2]Monthly Pig Prices - E'!L11","v":148.2601762096815},{"$f":"'[2]Monthly Pig Prices - E'!M11","v":150.30536274890565},{"$f":"'[2]Monthly Pig Prices - E'!N11","v":155.82677564302602},{"$f":"'[2]Monthly Pig Prices - E'!O11","v":152.72828001675637},null,{"$f":"'[2]Monthly Pig Prices - E'!Q11","v":-4.3937671416110047E-2}]
[{"$f":"'[2]Monthly Pig Prices - E'!$A12","v":"Danemark"},"DKK / 100 Kg",{"$f":"'[2]Monthly Pig Prices - E'!C12","v":1191.3870999999999},{"$f":"'[2]Monthly Pig Prices - E'!D12","v":1235.6774},{"$f":"'[2]Monthly Pig Prices - E'!E12","v":1263.3333},{"$f":"'[2]Monthly Pig Prices - E'!F12","v":1244},{"$f":"'[2]Monthly Pig Prices - E'!G12","v":1215.3333},{"$f":"'[2]Monthly Pig Prices - E'!H12","v":1181.6896999999999},{"$f":"'[2]Monthly Pig Prices - E'!I12","v":1129.6451612903227},{"$f":"'[2]Monthly Pig Prices - E'!J12","v":1104.0714285714287},{"$f":"'[2]Monthly Pig Prices - E'!K12","v":1068.9677419354839},{"$f":"'[2]Monthly Pig Prices - E'!L12","v":1106.8666666666666},{"$f":"'[2]Monthly Pig Prices - E'!M12","v":1121.9032258064517},{"$f":"'[2]Monthly Pig Prices - E'!N12","v":1162.3333333333333},{"$f":"'[2]Monthly Pig Prices - E'!O12","v":1138.8064516129032},null,{"$f":"'[2]Monthly Pig Prices - E'!Q12","v":-4.4133974916378382E-2}]
[{"$f":"'[2]Monthly Pig Prices - E'!$A13","v":"Allemagne"},"EUR / 100 Kg",{"$f":"'[2]Monthly Pig Prices - E'!C13","v":177.84190000000001},{"$f":"'[2]Monthly Pig Prices - E'!D13","v":189.82060000000001},{"$f":"'[2]Monthly Pig Prices - E'!E13","v":185.86369999999999},{"$f":"'[2]Monthly Pig Prices - E'!F13","v":177.27289999999999},{"$f":"'[2]Monthly Pig Prices - E'!G13","v":169.1833},{"$f":"'[2]Monthly Pig Prices - E'!H13","v":170.17670000000001},{"$f":"'[2]Monthly Pig Prices - E'!I13","v":159.78290322580645},{"$f":"'[2]Monthly Pig Prices - E'!J13","v":155.25714285714284},{"$f":"'[2]Monthly Pig Prices - E'!K13","v":156.28354838709677},{"$f":"'[2]Monthly Pig Prices - E'!L13","v":163.56066666666666},{"$f":"'[2]Monthly Pig Prices - E'!M13","v":166.46645161290323},{"$f":"'[2]Monthly Pig Prices - E'!N13","v":176.48333333333338},{"$f":"'[2]Monthly Pig Prices - E'!O13","v":171.22516129032257},null,{"$f":"'[2]Monthly Pig Prices - E'!Q13","v":-3.720573559817697E-2}]
[{"$f":"'[2]Monthly Pig Prices - E'!$A14","v":"Estonie"},"EUR / 100 Kg",{"$f":"'[2]Monthly Pig Prices - E'!C14","v":173.75},{"$f":"'[2]Monthly Pig Prices - E'!D14","v":175.7277},{"$f":"'[2]Monthly Pig Prices - E'!E14","v":181.22370000000001},{"$f":"'[2]Monthly Pig Prices - E'!F14","v":180.46420000000001},{"$f":"'[2]Monthly Pig Prices - E'!G14","v":175.56200000000001},{"$f":"'[2]Monthly Pig Prices - E'!H14","v":171.1327},{"$f":"'[2]Monthly Pig Prices - E'!I14","v":167.36548387096775},{"$f":"'[2]Monthly Pig Prices - E'!J14","v":163.0217857142857},{"$f":"'[2]Monthly Pig Prices - E'!K14","v":157.79387096774192},{"$f":"'[2]Monthly Pig Prices - E'!L14","v":160.82799999999997},{"$f":"'[2]Monthly Pig Prices - E'!M14","v":163.00096774193548},{"$f":"'[2]Monthly Pig Prices - E'!N14","v":163.79633333333334},{"$f":"'[2]Monthly Pig Prices - E'!O14","v":167.1767741935484},null,{"$f":"'[2]Monthly Pig Prices - E'!Q14","v":-3.7831515432814933E-2}]
[{"$f":"'[2]Monthly Pig Prices - E'!$A15","v":"Greece"},"EUR / 100 Kg",{"$f":"'[2]Monthly Pig Prices - E'!C15","v":195.77680000000001},{"$f":"'[2]Monthly Pig Prices - E'!D15","v":199.9658},{"$f":"'[2]Monthly Pig Prices - E'!E15","v":202.256},{"$f":"'[2]Monthly Pig Prices - E'!F15","v":201.18350000000001},{"$f":"'[2]Monthly Pig Prices - E'!G15","v":199.35499999999999},{"$f":"'[2]Monthly Pig Prices - E'!H15","v":200.38339999999999},{"$f":"'[2]Monthly Pig Prices - E'!I15","v":200.91774193548386},{"$f":"'[2]Monthly Pig Prices - E'!J15","v":199.94178571428574},{"$f":"'[2]Monthly Pig Prices - E'!K15","v":193.7916129032258},{"$f":"'[2]Monthly Pig Prices - E'!L15","v":189.92433333333332},{"$f":"'[2]Monthly Pig Prices - E'!M15","v":185.80258064516133},{"$f":"'[2]Monthly Pig Prices - E'!N15","v":181.08866666666665},{"$f":"'[2]Monthly Pig Prices - E'!O15","v":187.0641935483871},null,{"$f":"'[2]Monthly Pig Prices - E'!Q15","v":-4.4502752377262866E-2}]
[{"$f":"'[2]Monthly Pig Prices - E'!$A16","v":"Espagne"},"EUR / 100 Kg",{"$f":"'[2]Monthly Pig Prices - E'!C16","v":203.76},{"$f":"'[2]Monthly Pig Prices - E'!D16","v":213.2561},{"$f":"'[2]Monthly Pig Prices - E'!E16","v":214.03},{"$f":"'[2]Monthly Pig Prices - E'!F16","v":197.60810000000001},{"$f":"'[2]Monthly Pig Prices - E'!G16","v":184.0027},{"$f":"'[2]Monthly Pig Prices - E'!H16","v":179.0669},{"$f":"'[2]Monthly Pig Prices - E'!I16","v":173.65096774193549},{"$f":"'[2]Monthly Pig Prices - E'!J16","v":173.81750000000002},{"$f":"'[2]Monthly Pig Prices - E'!K16","v":175.55935483870968},{"$f":"'[2]Monthly Pig Prices - E'!L16","v":185.55099999999999},{"$f":"'[2]Monthly Pig Prices - E'!M16","v":182.0641935483871},{"$f":"'[2]Monthly Pig Prices - E'!N16","v":182.79966666666664},{"$f":"'[2]Monthly Pig Prices - E'!O16","v":187.60225806451612},null,{"$f":"'[2]Monthly Pig Prices - E'!Q16","v":-7.9297908988436694E-2}]
[{"$f":"'[2]Monthly Pig Prices - E'!$A17","v":"France"},"EUR / 100 Kg",{"$f":"'[2]Monthly Pig Prices - E'!C17","v":172.5806},{"$f":"'[2]Monthly Pig Prices - E'!D17","v":180.03229999999999},{"$f":"'[2]Monthly Pig Prices - E'!E17","v":185.3},{"$f":"'[2]Monthly Pig Prices - E'!F17","v":166.25810000000001},{"$f":"'[2]Monthly Pig Prices - E'!G17","v":156.1},{"$f":"'[2]Monthly Pig Prices - E'!H17","v":153.03450000000001},{"$f":"'[2]Monthly Pig Prices - E'!I17","v":149.16129032258064},{"$f":"'[2]Monthly Pig Prices - E'!J17","v":146.07142857142858},{"$f":"'[2]Monthly Pig Prices - E'!K17","v":147.80645161290323},{"$f":"'[2]Monthly Pig Prices - E'!L17","v":161.13333333333333},{"$f":"'[2]Monthly Pig Prices - E'!M17","v":156.51612903225808},{"$f":"'[2]Monthly Pig Prices - E'!N17","v":155.26666666666668},{"$f":"'[2]Monthly Pig Prices - E'!O17","v":158.80645161290323},null,{"$f":"'[2]Monthly Pig Prices - E'!Q17","v":-7.9812843315510418E-2}]
[{"$f":"'[2]Monthly Pig Prices - E'!$A18","v":"Croatia"},"EUR / 100kg",null,null,{"$f":"'[2]Monthly Pig Prices - E'!E18","v":181.15469999999999},{"$f":"'[2]Monthly Pig Prices - E'!F18","v":177.3391},{"$f":"'[2]Monthly Pig Prices - E'!G18","v":170.26859999999999},{"$f":"'[2]Monthly Pig Prices - E'!H18","v":171.7646},{"$f":"'[2]Monthly Pig Prices - E'!I18","v":169.42327595407579},{"$f":"'[2]Monthly Pig Prices - E'!J18","v":163.01932433641781},{"$f":"'[2]Monthly Pig Prices - E'!K18","v":157.43821087431698},{"$f":"'[2]Monthly Pig Prices - E'!L18","v":160.86207718459508},{"$f":"'[2]Monthly Pig Prices - E'!M18","v":167.17243660593769},{"$f":"'[2]Monthly Pig Prices - E'!N18","v":174.21328778969081},{"$f":"'[2]Monthly Pig Prices - E'!O18","v":175.68141552262458}]
[{"$f":"'[2]Monthly Pig Prices - E'!$A19","v":"Croatia"},"HRK / 100kg",null,null,{"$f":"'[2]Monthly Pig Prices - E'!E19","v":1376.0667000000001},{"$f":"'[2]Monthly Pig Prices - E'!F19","v":1351.0323000000001},{"$f":"'[2]Monthly Pig Prices - E'!G19","v":1299.4000000000001},{"$f":"'[2]Monthly Pig Prices - E'!H19","v":1311.1034},{"$f":"'[2]Monthly Pig Prices - E'!I19","v":1293.3548387096773},{"$f":"'[2]Monthly Pig Prices - E'!J19","v":1248.1071428571429},{"$f":"'[2]Monthly Pig Prices - E'!K19","v":1205.8064516129032},{"$f":"'[2]Monthly Pig Prices - E'!L19","v":1226.9000000000001},{"$f":"'[2]Monthly Pig Prices - E'!M19","v":1269.8709677419354},{"$f":"'[2]Monthly Pig Prices - E'!N19","v":1326.7333333333333},{"$f":"'[2]Monthly Pig Prices - E'!O19","v":1337.2258064516129}]
[{"$f":"'[2]Monthly Pig Prices - E'!$A20","v":"Irlande"},"EUR / 100 Kg",{"$f":"'[2]Monthly Pig Prices - E'!C20","v":161.5258},{"$f":"'[2]Monthly Pig Prices - E'!D20","v":162.1652},{"$f":"'[2]Monthly Pig Prices - E'!E20","v":165.84299999999999},{"$f":"'[2]Monthly Pig Prices - E'!F20","v":172.22059999999999},{"$f":"'[2]Monthly Pig Prices - E'!G20","v":171.4263},{"$f":"'[2]Monthly Pig Prices - E'!H20","v":165.8903},{"$f":"'[2]Monthly Pig Prices - E'!I20","v":158.02645161290323},{"$f":"'[2]Monthly Pig Prices - E'!J20","v":155.38714285714286},{"$f":"'[2]Monthly Pig Prices - E'!K20","v":151.93193548387094},{"$f":"'[2]Monthly Pig Prices - E'!L20","v":159.18566666666666},{"$f":"'[2]Monthly Pig Prices - E'!M20","v":165.55967741935481},{"$f":"'[2]Monthly Pig Prices - E'!N20","v":171.36966666666666},{"$f":"'[2]Monthly Pig Prices - E'!O20","v":172.89258064516133},null,{"$f":"'[2]Monthly Pig Prices - E'!Q20","v":7.0371300715807106E-2}]
[{"$f":"'[2]Monthly Pig Prices - E'!$A21","v":"Italie"},"EUR / 100 Kg",{"$f":"'[2]Monthly Pig Prices - E'!C21","v":195.59389999999999},{"$f":"'[2]Monthly Pig Prices - E'!D21","v":208.98259999999999},{"$f":"'[2]Monthly Pig Prices - E'!E21","v":220.93},{"$f":"'[2]Monthly Pig Prices - E'!F21","v":192.0077},{"$f":"'[2]Monthly Pig Prices - E'!G21","v":185.5763},{"$f":"'[2]Monthly Pig Prices - E'!H21","v":193.48830000000001}]
[{"$f":"'[2]Monthly Pig Prices - E'!$A22","v":"Chypre"},"EUR / 100 Kg",{"$f":"'[2]Monthly Pig Prices - E'!C22","v":209.45160000000001},{"$f":"'[2]Monthly Pig Prices - E'!D22","v":209.4194},{"$f":"'[2]Monthly Pig Prices - E'!E22","v":210},{"$f":"'[2]Monthly Pig Prices - E'!F22","v":203.7097},{"$f":"'[2]Monthly Pig Prices - E'!G22","v":194.73330000000001},{"$f":"'[2]Monthly Pig Prices - E'!H22","v":190.27590000000001},{"$f":"'[2]Monthly Pig Prices - E'!I22","v":190.29032258064515},{"$f":"'[2]Monthly Pig Prices - E'!J22","v":197},{"$f":"'[2]Monthly Pig Prices - E'!K22","v":197.48387096774192},{"$f":"'[2]Monthly Pig Prices - E'!L22","v":200.4},{"$f":"'[2]Monthly Pig Prices - E'!M22","v":201},{"$f":"'[2]Monthly Pig Prices - E'!N22","v":204.86666666666667},{"$f":"'[2]Monthly Pig Prices - E'!O22","v":205},null,{"$f":"'[2]Monthly Pig Prices - E'!Q22","v":-2.1253597489825915E-2}]
[{"$f":"'[2]Monthly Pig Prices - E'!$A23","v":"Lettonie"},"EUR / 100 Kg",{"$f":"'[2]Monthly Pig Prices - E'!C23","v":190.1635},{"$f":"'[2]Monthly Pig Prices - E'!D23","v":198.9487},{"$f":"'[2]Monthly Pig Prices - E'!E23","v":199.1645},{"$f":"'[2]Monthly Pig Prices - E'!F23","v":189.68620000000001},{"$f":"'[2]Monthly Pig Prices - E'!G23","v":183.08500000000001},{"$f":"'[2]Monthly Pig Prices - E'!H23","v":182.42859999999999},{"$f":"'[2]Monthly Pig Prices - E'!I23","v":168.22548387096774},{"$f":"'[2]Monthly Pig Prices - E'!J23","v":159.44428571428574},{"$f":"'[2]Monthly Pig Prices - E'!K23","v":146.53774193548387},{"$f":"'[2]Monthly Pig Prices - E'!L23","v":170.02599999999998},{"$f":"'[2]Monthly Pig Prices - E'!M23","v":173.64387096774195},{"$f":"'[2]Monthly Pig Prices - E'!N23","v":176.38599999999997},{"$f":"'[2]Monthly Pig Prices - E'!O23","v":178.64064516129034},null,{"$f":"'[2]Monthly Pig Prices - E'!Q23","v":-6.0594461285733869E-2}]
[{"$f":"'[2]Monthly Pig Prices - E'!$A24","v":"Lituanie"},"EUR / 100 Kg",{"$f":"'[2]Monthly Pig Prices - E'!C24","v":183.64230000000001},{"$f":"'[2]Monthly Pig Prices - E'!D24","v":192.13040000000001},{"$f":"'[2]Monthly Pig Prices - E'!E24","v":189.91290000000001},{"$f":"'[2]Monthly Pig Prices - E'!F24","v":180.68260000000001},{"$f":"'[2]Monthly Pig Prices - E'!G24","v":175.2405},{"$f":"'[2]Monthly Pig Prices - E'!H24","v":175.62870000000001},{"$f":"'[2]Monthly Pig Prices - E'!I24","v":165.87038177523993},{"$f":"'[2]Monthly Pig Prices - E'!J24","v":159.14588987819411},{"$f":"'[2]Monthly Pig Prices - E'!K24","v":147.97287213369606},{"$f":"'[2]Monthly Pig Prices - E'!L24","v":164.86378205128207},{"$f":"'[2]Monthly Pig Prices - E'!M24","v":167.38673054500882},{"$f":"'[2]Monthly Pig Prices - E'!N24","v":171.34654000617857},{"$f":"'[2]Monthly Pig Prices - E'!O24","v":174.02262160303752},null,{"$f":"'[2]Monthly Pig Prices - E'!Q24","v":-5.2382693948847758E-2}]
[{"$f":"'[2]Monthly Pig Prices - E'!$A25","v":"Lituanie"},"LTL / 100 Kg",{"$f":"'[2]Monthly Pig Prices - E'!C25","v":634.08000000000004},{"$f":"'[2]Monthly Pig Prices - E'!D25","v":663.3877},{"$f":"'[2]Monthly Pig Prices - E'!E25","v":655.73130000000003},{"$f":"'[2]Monthly Pig Prices - E'!F25","v":623.86099999999999},{"$f":"'[2]Monthly Pig Prices - E'!G25","v":605.07029999999997},{"$f":"'[2]Monthly Pig Prices - E'!H25","v":606.41070000000002},{"$f":"'[2]Monthly Pig Prices - E'!I25","v":572.71387096774185},{"$f":"'[2]Monthly Pig Prices - E'!J25","v":549.49892857142856},{"$f":"'[2]Monthly Pig Prices - E'!K25","v":516.48032258064518},{"$f":"'[2]Monthly Pig Prices - E'!L25","v":569.24166666666667},{"$f":"'[2]Monthly Pig Prices - E'!M25","v":577.95290322580649},{"$f":"'[2]Monthly Pig Prices - E'!N25","v":591.62533333333329},{"$f":"'[2]Monthly Pig Prices - E'!O25","v":598.49483870967742},null,{"$f":"'[2]Monthly Pig Prices - E'!Q25","v":-5.6120933147745689E-2}]
[{"$f":"'[2]Monthly Pig Prices - E'!$A26","v":"Luxembourg"},"EUR / 100 Kg",{"$f":"'[2]Monthly Pig Prices - E'!C26","v":173.7645},{"$f":"'[2]Monthly Pig Prices - E'!D26","v":186.1},{"$f":"'[2]Monthly Pig Prices - E'!E26","v":182.3167},{"$f":"'[2]Monthly Pig Prices - E'!F26","v":172.9742},{"$f":"'[2]Monthly Pig Prices - E'!G26","v":164.80330000000001},{"$f":"'[2]Monthly Pig Prices - E'!H26","v":160.9828},{"$f":"'[2]Monthly Pig Prices - E'!I26","v":153.14193548387098},{"$f":"'[2]Monthly Pig Prices - E'!J26","v":151.63928571428573},{"$f":"'[2]Monthly Pig Prices - E'!K26","v":153.94612903225806},{"$f":"'[2]Monthly Pig Prices - E'!L26","v":159.26333333333332},{"$f":"'[2]Monthly Pig Prices - E'!M26","v":161.62903225806451},{"$f":"'[2]Monthly Pig Prices - E'!N26","v":171.07333333333332},{"$f":"'[2]Monthly Pig Prices - E'!O26","v":166.6258064516129},null,{"$f":"'[2]Monthly Pig Prices - E'!Q26","v":-4.1082577559784061E-2}]
[{"$f":"'[2]Monthly Pig Prices - E'!$A27","v":"Hongrie"},"EUR / 100 Kg",{"$f":"'[2]Monthly Pig Prices - E'!C27","v":179.03729999999999},{"$f":"'[2]Monthly Pig Prices - E'!D27","v":187.02520000000001},{"$f":"'[2]Monthly Pig Prices - E'!E27","v":187.0762},{"$f":"'[2]Monthly Pig Prices - E'!F27","v":180.08029999999999},{"$f":"'[2]Monthly Pig Prices - E'!G27","v":168.9802},{"$f":"'[2]Monthly Pig Prices - E'!H27","v":171.01900000000001},{"$f":"'[2]Monthly Pig Prices - E'!I27","v":160.0812936068553},{"$f":"'[2]Monthly Pig Prices - E'!J27","v":158.50839785448781},{"$f":"'[2]Monthly Pig Prices - E'!K27","v":156.09288892958543},{"$f":"'[2]Monthly Pig Prices - E'!L27","v":162.86680766168931},{"$f":"'[2]Monthly Pig Prices - E'!M27","v":166.63884059563699},{"$f":"'[2]Monthly Pig Prices - E'!N27","v":177.24448691481925},{"$f":"'[2]Monthly Pig Prices - E'!O27","v":176.89072339043898},null,{"$f":"'[2]Monthly Pig Prices - E'!Q27","v":-1.1989549717075776E-2}]
[{"$f":"'[2]Monthly Pig Prices - E'!$A28","v":"Hongrie"},"HUF / 100 Kg",{"$f":"'[2]Monthly Pig Prices - E'!C28","v":52793.6806},{"$f":"'[2]Monthly Pig Prices - E'!D28","v":55995.582300000002},{"$f":"'[2]Monthly Pig Prices - E'!E28","v":56097.671000000002},{"$f":"'[2]Monthly Pig Prices - E'!F28","v":53143.262900000002},{"$f":"'[2]Monthly Pig Prices - E'!G28","v":50248.262000000002},{"$f":"'[2]Monthly Pig Prices - E'!H28","v":51643.5213},{"$f":"'[2]Monthly Pig Prices - E'!I28","v":48296.288064516128},{"$f":"'[2]Monthly Pig Prices - E'!J28","v":49154.188571428575},{"$f":"'[2]Monthly Pig Prices - E'!K28","v":48621.364516129026},{"$f":"'[2]Monthly Pig Prices - E'!L28","v":50066.004333333338},{"$f":"'[2]Monthly Pig Prices - E'!M28","v":50824.207741935483},{"$f":"'[2]Monthly Pig Prices - E'!N28","v":54183.05533333333},{"$f":"'[2]Monthly Pig Prices - E'!O28","v":54810.430000000008},null,{"$f":"'[2]Monthly Pig Prices - E'!Q28","v":3.8200583423615431E-2}]
[{"$f":"'[2]Monthly Pig Prices - E'!$A29","v":"Malte"},"EUR / 100 Kg",{"$f":"'[2]Monthly Pig Prices - E'!C29","v":237},{"$f":"'[2]Monthly Pig Prices - E'!D29","v":237},{"$f":"'[2]Monthly Pig Prices - E'!E29","v":237},{"$f":"'[2]Monthly Pig Prices - E'!F29","v":237},{"$f":"'[2]Monthly Pig Prices - E'!G29","v":237},{"$f":"'[2]Monthly Pig Prices - E'!H29","v":237},{"$f":"'[2]Monthly Pig Prices - E'!I29","v":237},{"$f":"'[2]Monthly Pig Prices - E'!J29","v":237},{"$f":"'[2]Monthly Pig Prices - E'!K29","v":237},{"$f":"'[2]Monthly Pig Prices - E'!L29","v":237},{"$f":"'[2]Monthly Pig Prices - E'!M29","v":237},{"$f":"'[2]Monthly Pig Prices - E'!N29","v":237},{"$f":"'[2]Monthly Pig Prices - E'!O29","v":237},null,{"$f":"'[2]Monthly Pig Prices - E'!Q29","v":0}]
[{"$f":"'[2]Monthly Pig Prices - E'!$A30","v":"Pays-Bas"},"EUR / 100 Kg",{"$f":"'[2]Monthly Pig Prices - E'!C30","v":161.321},{"$f":"'[2]Monthly Pig Prices - E'!D30","v":172.17},{"$f":"'[2]Monthly Pig Prices - E'!E30","v":169.28630000000001},{"$f":"'[2]Monthly Pig Prices - E'!F30","v":160.54},{"$f":"'[2]Monthly Pig Prices - E'!G30","v":151.25569999999999},{"$f":"'[2]Monthly Pig Prices - E'!H30","v":152.65639999999999},{"$f":"'[2]Monthly Pig Prices - E'!I30","v":141.67612903225805},{"$f":"'[2]Monthly Pig Prices - E'!J30","v":136.02857142857144},{"$f":"'[2]Monthly Pig Prices - E'!K30","v":136.2858064516129},{"$f":"'[2]Monthly Pig Prices - E'!L30","v":145.97766666666666},{"$f":"'[2]Monthly Pig Prices - E'!M30","v":148.01870967741937},{"$f":"'[2]Monthly Pig Prices - E'!N30","v":156.69633333333334},{"$f":"'[2]Monthly Pig Prices - E'!O30","v":150.01161290322582},null,{"$f":"'[2]Monthly Pig Prices - E'!Q30","v":-7.01048660544763E-2}]
[{"$f":"'[2]Monthly Pig Prices - E'!$A31","v":"Autriche"},"EUR / 100 Kg",{"$f":"'[2]Monthly Pig Prices - E'!C31","v":178.01419999999999},{"$f":"'[2]Monthly Pig Prices - E'!D31","v":188.51390000000001},{"$f":"'[2]Monthly Pig Prices - E'!E31","v":187.4263},{"$f":"'[2]Monthly Pig Prices - E'!F31","v":179.3126},{"$f":"'[2]Monthly Pig Prices - E'!G31","v":169.58529999999999},{"$f":"'[2]Monthly Pig Prices - E'!H31","v":167.78899999999999},{"$f":"'[2]Monthly Pig Prices - E'!I31","v":158.28096774193548},{"$f":"'[2]Monthly Pig Prices - E'!J31","v":158.51107142857146},{"$f":"'[2]Monthly Pig Prices - E'!K31","v":159.67967741935482},{"$f":"'[2]Monthly Pig Prices - E'!L31","v":164.50566666666666},{"$f":"'[2]Monthly Pig Prices - E'!M31","v":164.86935483870968},{"$f":"'[2]Monthly Pig Prices - E'!N31","v":172.95433333333332},{"$f":"'[2]Monthly Pig Prices - E'!O31","v":171.92580645161286},null,{"$f":"'[2]Monthly Pig Prices - E'!Q31","v":-3.4201729684413595E-2}]
[{"$f":"'[2]Monthly Pig Prices - E'!$A32","v":"Pologne"},"EUR / 100 Kg",{"$f":"'[2]Monthly Pig Prices - E'!C32","v":179.8107},{"$f":"'[2]Monthly Pig Prices - E'!D32","v":187.96879999999999},{"$f":"'[2]Monthly Pig Prices - E'!E32","v":187.4949},{"$f":"'[2]Monthly Pig Prices - E'!F32","v":181.19},{"$f":"'[2]Monthly Pig Prices - E'!G32","v":169.44059999999999},{"$f":"'[2]Monthly Pig Prices - E'!H32","v":168.40700000000001},{"$f":"'[2]Monthly Pig Prices - E'!I32","v":159.52665402717437},{"$f":"'[2]Monthly Pig Prices - E'!J32","v":149.19744016268174},{"$f":"'[2]Monthly Pig Prices - E'!K32","v":149.3043987970637},{"$f":"'[2]Monthly Pig Prices - E'!L32","v":160.70274283228596},{"$f":"'[2]Monthly Pig Prices - E'!M32","v":163.05202090801521},{"$f":"'[2]Monthly Pig Prices - E'!N32","v":171.07054814124919},{"$f":"'[2]Monthly Pig Prices - E'!O32","v":170.11914795907111},null,{"$f":"'[2]Monthly Pig Prices - E'!Q32","v":-5.3898639185147923E-2}]
[{"$f":"'[2]Monthly Pig Prices - E'!$A33","v":"Pologne"},"PLN / 100 Kg",{"$f":"'[2]Monthly Pig Prices - E'!C33","v":769.05650000000003},{"$f":"'[2]Monthly Pig Prices - E'!D33","v":794.84649999999999},{"$f":"'[2]Monthly Pig Prices - E'!E33","v":795.00530000000003},{"$f":"'[2]Monthly Pig Prices - E'!F33","v":759.62869999999998},{"$f":"'[2]Monthly Pig Prices - E'!G33","v":709.62929999999994},{"$f":"'[2]Monthly Pig Prices - E'!H33","v":705.19269999999995},{"$f":"'[2]Monthly Pig Prices - E'!I33","v":666.34483870967733},{"$f":"'[2]Monthly Pig Prices - E'!J33","v":623.66142857142859},{"$f":"'[2]Monthly Pig Prices - E'!K33","v":626.65548387096771},{"$f":"'[2]Monthly Pig Prices - E'!L33","v":672.5766666666666},{"$f":"'[2]Monthly Pig Prices - E'!M33","v":681.91451612903234},{"$f":"'[2]Monthly Pig Prices - E'!N33","v":707.58200000000011},{"$f":"'[2]Monthly Pig Prices - E'!O33","v":705.26290322580655},null,{"$f":"'[2]Monthly Pig Prices - E'!Q33","v":-8.2950468235030161E-2}]
[{"$f":"'[2]Monthly Pig Prices - E'!$A34","v":"Portugal"},"EUR / 100 Kg",{"$f":"'[2]Monthly Pig Prices - E'!C34","v":189.12899999999999},{"$f":"'[2]Monthly Pig Prices - E'!D34","v":195.77420000000001},{"$f":"'[2]Monthly Pig Prices - E'!E34","v":197.7},{"$f":"'[2]Monthly Pig Prices - E'!F34","v":182.9032},{"$f":"'[2]Monthly Pig Prices - E'!G34","v":171.26669999999999},{"$f":"'[2]Monthly Pig Prices - E'!H34","v":170.20689999999999},{"$f":"'[2]Monthly Pig Prices - E'!I34","v":164.03225806451613},{"$f":"'[2]Monthly Pig Prices - E'!J34","v":161.85714285714286},{"$f":"'[2]Monthly Pig Prices - E'!K34","v":158.61290322580646},{"$f":"'[2]Monthly Pig Prices - E'!L34","v":172.86666666666667},{"$f":"'[2]Monthly Pig Prices - E'!M34","v":181.45161290322579},{"$f":"'[2]Monthly Pig Prices - E'!N34","v":190.46666666666667},{"$f":"'[2]Monthly Pig Prices - E'!O34","v":195.51612903225808},null,{"$f":"'[2]Monthly Pig Prices - E'!Q34","v":3.3771283263053675E-2}]
[{"$f":"'[2]Monthly Pig Prices - E'!$A35","v":"Romania"},"EUR / 100 Kg",{"$f":"'[2]Monthly Pig Prices - E'!C35","v":195.18360000000001},{"$f":"'[2]Monthly Pig Prices - E'!D35","v":203.4205},{"$f":"'[2]Monthly Pig Prices - E'!E35","v":203.17009999999999},{"$f":"'[2]Monthly Pig Prices - E'!F35","v":199.84870000000001},{"$f":"'[2]Monthly Pig Prices - E'!G35","v":193.06460000000001},{"$f":"'[2]Monthly Pig Prices - E'!H35","v":186.43279999999999},{"$f":"'[2]Monthly Pig Prices - E'!I35","v":171.10529951447739},{"$f":"'[2]Monthly Pig Prices - E'!J35","v":154.95373150916538},{"$f":"'[2]Monthly Pig Prices - E'!K35","v":141.92048775990673},{"$f":"'[2]Monthly Pig Prices - E'!L35","v":144.43062757468388},{"$f":"'[2]Monthly Pig Prices - E'!M35","v":161.51862626634733},{"$f":"'[2]Monthly Pig Prices - E'!N35","v":174.33501801084211},{"$f":"'[2]Monthly Pig Prices - E'!O35","v":181.27782996255112},null,{"$f":"'[2]Monthly Pig Prices - E'!Q35","v":-7.1244561722649258E-2}]
[{"$f":"'[2]Monthly Pig Prices - E'!$A36","v":"Romania"},"RON / 100 Kg",{"$f":"'[2]Monthly Pig Prices - E'!C36","v":863.96609999999998},{"$f":"'[2]Monthly Pig Prices - E'!D36","v":902.19870000000003},{"$f":"'[2]Monthly Pig Prices - E'!E36","v":906.53070000000002},{"$f":"'[2]Monthly Pig Prices - E'!F36","v":888.51679999999999},{"$f":"'[2]Monthly Pig Prices - E'!G36","v":858.15229999999997},{"$f":"'[2]Monthly Pig Prices - E'!H36","v":831.58209999999997},{"$f":"'[2]Monthly Pig Prices - E'!I36","v":772.91548387096782},{"$f":"'[2]Monthly Pig Prices - E'!J36","v":696.3107142857142},{"$f":"'[2]Monthly Pig Prices - E'!K36","v":637.91419354838706},{"$f":"'[2]Monthly Pig Prices - E'!L36","v":644.29233333333332},{"$f":"'[2]Monthly Pig Prices - E'!M36","v":714.96483870967745},{"$f":"'[2]Monthly Pig Prices - E'!N36","v":766.00300000000004},{"$f":"'[2]Monthly Pig Prices - E'!O36","v":799.54967741935491},null,{"$f":"'[2]Monthly Pig Prices - E'!Q36","v":-7.455897005755785E-2}]
[{"$f":"'[2]Monthly Pig Prices - E'!$A37","v":"Slovenie"},"EUR / 100 Kg",{"$f":"'[2]Monthly Pig Prices - E'!C37","v":172.18870000000001},{"$f":"'[2]Monthly Pig Prices - E'!D37","v":180.74520000000001},{"$f":"'[2]Monthly Pig Prices - E'!E37","v":184.19730000000001},{"$f":"'[2]Monthly Pig Prices - E'!F37","v":178.28899999999999},{"$f":"'[2]Monthly Pig Prices - E'!G37","v":172.5943},{"$f":"'[2]Monthly Pig Prices - E'!H37","v":170.33279999999999},{"$f":"'[2]Monthly Pig Prices - E'!I37","v":162.128064516129},{"$f":"'[2]Monthly Pig Prices - E'!J37","v":159.49428571428572},{"$f":"'[2]Monthly Pig Prices - E'!K37","v":159.79935483870969},{"$f":"'[2]Monthly Pig Prices - E'!L37","v":162.83099999999999},{"$f":"'[2]Monthly Pig Prices - E'!M37","v":164.44483870967738},{"$f":"'[2]Monthly Pig Prices - E'!N37","v":172.14699999999999},{"$f":"'[2]Monthly Pig Prices - E'!O37","v":174.06774193548389},null,{"$f":"'[2]Monthly Pig Prices - E'!Q37","v":1.0912690179343265E-2}]
[{"$f":"'[2]Monthly Pig Prices - E'!$A38","v":"Slovakie"},"EUR / 100 Kg",{"$f":"'[2]Monthly Pig Prices - E'!C38","v":185.25389999999999},{"$f":"'[2]Monthly Pig Prices - E'!D38","v":193.42679999999999},{"$f":"'[2]Monthly Pig Prices - E'!E38","v":199.559},{"$f":"'[2]Monthly Pig Prices - E'!F38","v":189.8416},{"$f":"'[2]Monthly Pig Prices - E'!G38","v":179.03399999999999},{"$f":"'[2]Monthly Pig Prices - E'!H38","v":173.97669999999999},{"$f":"'[2]Monthly Pig Prices - E'!I38","v":169.41806451612902},{"$f":"'[2]Monthly Pig Prices - E'!J38","v":164.55964285714285},{"$f":"'[2]Monthly Pig Prices - E'!K38","v":159.20387096774195},{"$f":"'[2]Monthly Pig Prices - E'!L38","v":161.16833333333332},{"$f":"'[2]Monthly Pig Prices - E'!M38","v":164.00483870967741},{"$f":"'[2]Monthly Pig Prices - E'!N38","v":172.67666666666668},{"$f":"'[2]Monthly Pig Prices - E'!O38","v":176.19612903225806},null,{"$f":"'[2]Monthly Pig Prices - E'!Q38","v":-4.889382068470316E-2}]
[{"$f":"'[2]Monthly Pig Prices - E'!$A39","v":"Finlande"},"EUR / 100 Kg",{"$f":"'[2]Monthly Pig Prices - E'!C39","v":176.23259999999999},{"$f":"'[2]Monthly Pig Prices - E'!D39","v":176.6806},{"$f":"'[2]Monthly Pig Prices - E'!E39","v":176.61969999999999},{"$f":"'[2]Monthly Pig Prices - E'!F39","v":173.82810000000001},{"$f":"'[2]Monthly Pig Prices - E'!G39","v":171.14169999999999},{"$f":"'[2]Monthly Pig Prices - E'!H39","v":172.3262},{"$f":"'[2]Monthly Pig Prices - E'!I39","v":169.38419354838709},{"$f":"'[2]Monthly Pig Prices - E'!J39","v":166.8317857142857},{"$f":"'[2]Monthly Pig Prices - E'!K39","v":164.40741935483871},{"$f":"'[2]Monthly Pig Prices - E'!L39","v":161.68699999999995},{"$f":"'[2]Monthly Pig Prices - E'!M39","v":161.13709677419354},{"$f":"'[2]Monthly Pig Prices - E'!N39","v":160.6096666666667},{"$f":"'[2]Monthly Pig Prices - E'!O39","v":161.58451612903227},null,{"$f":"'[2]Monthly Pig Prices - E'!Q39","v":-8.3117901403983896E-2}]
[{"$f":"'[2]Monthly Pig Prices - E'!$A40","v":"Suède"},"EUR / 100 Kg",{"$f":"'[2]Monthly Pig Prices - E'!C40","v":195.9375},{"$f":"'[2]Monthly Pig Prices - E'!D40","v":194.52},{"$f":"'[2]Monthly Pig Prices - E'!E40","v":195.2593},{"$f":"'[2]Monthly Pig Prices - E'!F40","v":193.1893},{"$f":"'[2]Monthly Pig Prices - E'!G40","v":189.02459999999999},{"$f":"'[2]Monthly Pig Prices - E'!H40","v":185.22489999999999},{"$f":"'[2]Monthly Pig Prices - E'!I40","v":184.99877873405273},{"$f":"'[2]Monthly Pig Prices - E'!J40","v":180.24902568773129},{"$f":"'[2]Monthly Pig Prices - E'!K40","v":181.11351406733257},{"$f":"'[2]Monthly Pig Prices - E'!L40","v":182.8049542628514},{"$f":"'[2]Monthly Pig Prices - E'!M40","v":188.23242653877892},{"$f":"'[2]Monthly Pig Prices - E'!N40","v":186.60287350738002},{"$f":"'[2]Monthly Pig Prices - E'!O40","v":188.7124815210091},null,{"$f":"'[2]Monthly Pig Prices - E'!Q40","v":-3.6874097500432024E-2}]
[{"$f":"'[2]Monthly Pig Prices - E'!$A41","v":"Suède"},"SEK / 100 Kg",{"$f":"'[2]Monthly Pig Prices - E'!C41","v":1697.5806},{"$f":"'[2]Monthly Pig Prices - E'!D41","v":1692.7097000000001},{"$f":"'[2]Monthly Pig Prices - E'!E41","v":1694.8},{"$f":"'[2]Monthly Pig Prices - E'!F41","v":1689.0968},{"$f":"'[2]Monthly Pig Prices - E'!G41","v":1677},{"$f":"'[2]Monthly Pig Prices - E'!H41","v":1657.7273},{"$f":"'[2]Monthly Pig Prices - E'!I41","v":1635.6451612903227},{"$f":"'[2]Monthly Pig Prices - E'!J41","v":1598.7857142857142},{"$f":"'[2]Monthly Pig Prices - E'!K41","v":1606.4193548387098},{"$f":"'[2]Monthly Pig Prices - E'!L41","v":1652.4666666666667},{"$f":"'[2]Monthly Pig Prices - E'!M41","v":1700.516129032258},{"$f":"'[2]Monthly Pig Prices - E'!N41","v":1696.7333333333333},{"$f":"'[2]Monthly Pig Prices - E'!O41","v":1742.1290322580646},null,{"$f":"'[2]Monthly Pig Prices - E'!Q41","v":2.6242307586493707E-2}]
[{"$f":"'[2]Monthly Pig Prices - E'!$A42","v":"U.K."},"EUR / 100 Kg",{"$f":"'[2]Monthly Pig Prices - E'!C42","v":191.14109999999999},{"$f":"'[2]Monthly Pig Prices - E'!D42","v":190.7175},{"$f":"'[2]Monthly Pig Prices - E'!E42","v":197.2388},{"$f":"'[2]Monthly Pig Prices - E'!F42","v":198.6559},{"$f":"'[2]Monthly Pig Prices - E'!G42","v":199.81700000000001},{"$f":"'[2]Monthly Pig Prices - E'!H42","v":199.72040000000001},{"$f":"'[2]Monthly Pig Prices - E'!I42","v":197.72746606863555},{"$f":"'[2]Monthly Pig Prices - E'!J42","v":192.85951882685163},{"$f":"'[2]Monthly Pig Prices - E'!K42","v":189.03418845130474},{"$f":"'[2]Monthly Pig Prices - E'!L42","v":191.04029624996397},{"$f":"'[2]Monthly Pig Prices - E'!M42","v":194.92837307282494},{"$f":"'[2]Monthly Pig Prices - E'!N42","v":197.77003976049744},{"$f":"'[2]Monthly Pig Prices - E'!O42","v":198.07623675360097},null,{"$f":"'[2]Monthly Pig Prices - E'!Q42","v":3.6282812820481736E-2}]
[{"$f":"'[2]Monthly Pig Prices - E'!$A43","v":"U.K."},"GBP / 100 Kg",{"$f":"'[2]Monthly Pig Prices - E'!C43","v":164.6823},{"$f":"'[2]Monthly Pig Prices - E'!D43","v":163.9265},{"$f":"'[2]Monthly Pig Prices - E'!E43","v":166.21629999999999},{"$f":"'[2]Monthly Pig Prices - E'!F43","v":168.18770000000001},{"$f":"'[2]Monthly Pig Prices - E'!G43","v":167.5873},{"$f":"'[2]Monthly Pig Prices - E'!H43","v":167.21899999999999},{"$f":"'[2]Monthly Pig Prices - E'!I43","v":163.74290322580649},{"$f":"'[2]Monthly Pig Prices - E'!J43","v":159.10392857142855},{"$f":"'[2]Monthly Pig Prices - E'!K43","v":157.12387096774194},{"$f":"'[2]Monthly Pig Prices - E'!L43","v":157.68366666666665},{"$f":"'[2]Monthly Pig Prices - E'!M43","v":159.05354838709678},{"$f":"'[2]Monthly Pig Prices - E'!N43","v":158.98866666666666},{"$f":"'[2]Monthly Pig Prices - E'!O43","v":157.1709677419355},null,{"$f":"'[2]Monthly Pig Prices - E'!Q43","v":-4.5611047805772076E-2}]
[]
["EU","EUR / 100 Kg",{"$f":"'[2]Monthly Pig Prices - E'!C45","v":181.0924},{"$f":"'[2]Monthly Pig Prices - E'!D45","v":190.07470000000001},{"$f":"'[2]Monthly Pig Prices - E'!E45","v":191.03620000000001},{"$f":"'[2]Monthly Pig Prices - E'!F45","v":180.4417},{"$f":"'[2]Monthly Pig Prices - E'!G45","v":171.5539},{"$f":"'[2]Monthly Pig Prices - E'!H45","v":170.12289999999999},{"$f":"'[2]Monthly Pig Prices - E'!I45","v":159.6869675483577},{"$f":"'[2]Monthly Pig Prices - E'!J45","v":154.6888674051649},{"$f":"'[2]Monthly Pig Prices - E'!K45","v":153.65174733299924},{"$f":"'[2]Monthly Pig Prices - E'!L45","v":161.50501487674893},{"$f":"'[2]Monthly Pig Prices - E'!M45","v":163.89982414133604},{"$f":"'[2]Monthly Pig Prices - E'!N45","v":170.88221290241168},{"$f":"'[2]Monthly Pig Prices - E'!O45","v":169.5112004431829},null,{"$f":"'[2]Monthly Pig Prices - E'!Q45","v":-6.3951880679791628E-2}]

{"sheet":"Monthly pig prices-Classe S ","index":11,"n_rows":45,"n_cols":18,"rows_kept":45,"cut":false,"hidden":false,"merged":[[0,0,0,16],[2,16,3,16]]}
["Monthly Market Prices for Pig Carcase Grade S in the E.U."]
[]
[null,null,{"$f":"'[2]Monthly Pig Prices - S'!C3","v":2014},{"$f":"'[2]Monthly Pig Prices - S'!D3","v":2014},{"$f":"'[2]Monthly Pig Prices - S'!E3","v":2014},{"$f":"'[2]Monthly Pig Prices - S'!F3","v":2014},{"$f":"'[2]Monthly Pig Prices - S'!G3","v":2014},{"$f":"'[2]Monthly Pig Prices - S'!H3","v":2014},{"$f":"'[2]Monthly Pig Prices - S'!I3","v":2014},{"$f":"'[2]Monthly Pig Prices - S'!J3","v":2014},{"$f":"'[2]Monthly Pig Prices - S'!K3","v":2014},{"$f":"'[2]Monthly Pig Prices - S'!L3","v":2014},{"$f":"'[2]Monthly Pig Prices - S'!M3","v":2014},{"$f":"'[2]Monthly Pig Prices - S'!N3","v":2014},{"$f":"'[2]Monthly Pig Prices - S'!O3","v":2015},null,"Jan2015/Jan2014"]
[null,null,{"$f":"'[2]Monthly Pig Prices - S'!C4","v":"January"},{"$f":"'[2]Monthly Pig Prices - S'!D4","v":"February"},{"$f":"'[2]Monthly Pig Prices - S'!E4","v":"March"},{"$f":"'[2]Monthly Pig Prices - S'!F4","v":"April"},{"$f":"'[2]Monthly Pig Prices - S'!G4","v":"May"},{"$f":"'[2]Monthly Pig Prices - S'!H4","v":"June"},{"$f":"'[2]Monthly Pig Prices - S'!I4","v":"July"},{"$f":"'[2]Monthly Pig Prices - S'!J4","v":"August"},{"$f":"'[2]Monthly Pig Prices - S'!K4","v":"September"},{"$f":"'[2]Monthly Pig Prices - S'!L4","v":"October"},{"$f":"'[2]Monthly Pig Prices - S'!M4","v":"November"},{"$f":"'[2]Monthly Pig Prices - S'!N4","v":"December"},{"$f":"'[2]Monthly Pig Prices - S'!O4","v":"January"}]
[]
[{"$f":"'[2]Monthly Pig Prices - S'!A6","v":"Belgique"},{"$f":"'[2]Monthly Pig Prices - S'!B6","v":"EUR / 100 Kg"},{"$f":"'[2]Monthly Pig Prices - S'!C6","v":143.50769230769231},{"$f":"'[2]Monthly Pig Prices - S'!D6","v":142.20714285714286},{"$f":"'[2]Monthly Pig Prices - S'!E6","v":141.98709677419356},{"$f":"'[2]Monthly Pig Prices - S'!F6","v":150.28},{"$f":"'[2]Monthly Pig Prices - S'!G6","v":153.20322580645166},{"$f":"'[2]Monthly Pig Prices - S'!H6","v":164.27333333333334},{"$f":"'[2]Monthly Pig Prices - S'!I6","v":162.0096774193548},{"$f":"'[2]Monthly Pig Prices - S'!J6","v":0},{"$f":"'[2]Monthly Pig Prices - S'!K6","v":0},{"$f":"'[2]Monthly Pig Prices - S'!L6","v":0},{"$f":"'[2]Monthly Pig Prices - S'!M6","v":0},{"$f":"'[2]Monthly Pig Prices - S'!N6","v":0},{"$f":"'[2]Monthly Pig Prices - S'!O6","v":0},null,{"$f":"'[2]Monthly Pig Prices - S'!Q6","v":0},"BE"]
[{"$f":"'[2]Monthly Pig Prices - S'!A7","v":"Bulgaria"},{"$f":"'[2]Monthly Pig Prices - S'!B7","v":"EUR / 100 Kg"},{"$f":"'[2]Monthly Pig Prices - S'!C7","v":216.85293370586746},{"$f":"'[2]Monthly Pig Prices - S'!D7","v":213.45740873299928},{"$f":"'[2]Monthly Pig Prices - S'!E7","v":206.83541756693907},{"$f":"'[2]Monthly Pig Prices - S'!F7","v":200.69178852643424},{"$f":"'[2]Monthly Pig Prices - S'!G7","v":197.61899264058269},{"$f":"'[2]Monthly Pig Prices - S'!H7","v":189.55636227289773},{"$f":"'[2]Monthly Pig Prices - S'!I7","v":192.60066831821979},{"$f":"'[2]Monthly Pig Prices - S'!J7","v":0},{"$f":"'[2]Monthly Pig Prices - S'!K7","v":0},{"$f":"'[2]Monthly Pig Prices - S'!L7","v":0},{"$f":"'[2]Monthly Pig Prices - S'!M7","v":0},{"$f":"'[2]Monthly Pig Prices - S'!N7","v":0},{"$f":"'[2]Monthly Pig Prices - S'!O7","v":0},null,{"$f":"'[2]Monthly Pig Prices - S'!Q7","v":0},"BG"]
[{"$f":"'[2]Monthly Pig Prices - S'!A8","v":"Bulgaria"},{"$f":"'[2]Monthly Pig Prices - S'!B8","v":"BGN/ 100 Kg"},{"$f":"'[2]Monthly Pig Prices - S'!C8","v":424.12096774193549},{"$f":"'[2]Monthly Pig Prices - S'!D8","v":417.48},{"$f":"'[2]Monthly Pig Prices - S'!E8","v":404.52870967741933},{"$f":"'[2]Monthly Pig Prices - S'!F8","v":393.06400000000008},{"$f":"'[2]Monthly Pig Prices - S'!G8","v":387.21419354838707},{"$f":"'[2]Monthly Pig Prices - S'!H8","v":370.73433333333338},{"$f":"'[2]Monthly Pig Prices - S'!I8","v":376.68838709677419},{"$f":"'[2]Monthly Pig Prices - S'!J8","v":0},{"$f":"'[2]Monthly Pig Prices - S'!K8","v":0},{"$f":"'[2]Monthly Pig Prices - S'!L8","v":0},{"$f":"'[2]Monthly Pig Prices - S'!M8","v":0},{"$f":"'[2]Monthly Pig Prices - S'!N8","v":0},{"$f":"'[2]Monthly Pig Prices - S'!O8","v":0},null,{"$f":"'[2]Monthly Pig Prices - S'!Q8","v":0},"BG"]
[{"$f":"'[2]Monthly Pig Prices - S'!A9","v":"Tchéquie"},{"$f":"'[2]Monthly Pig Prices - S'!B9","v":"EUR / 100 Kg"},{"$f":"'[2]Monthly Pig Prices - S'!C9","v":163.65362444088188},{"$f":"'[2]Monthly Pig Prices - S'!D9","v":160.78193854451339},{"$f":"'[2]Monthly Pig Prices - S'!E9","v":158.55932711611672},{"$f":"'[2]Monthly Pig Prices - S'!F9","v":162.77500730710895},{"$f":"'[2]Monthly Pig Prices - S'!G9","v":165.97150312005542},{"$f":"'[2]Monthly Pig Prices - S'!H9","v":175.48581736350309},{"$f":"'[2]Monthly Pig Prices - S'!I9","v":179.50510769412969},{"$f":"'[2]Monthly Pig Prices - S'!J9","v":0},{"$f":"'[2]Monthly Pig Prices - S'!K9","v":0},{"$f":"'[2]Monthly Pig Prices - S'!L9","v":0},{"$f":"'[2]Monthly Pig Prices - S'!M9","v":0},{"$f":"'[2]Monthly Pig Prices - S'!N9","v":0},{"$f":"'[2]Monthly Pig Prices - S'!O9","v":0},null,{"$f":"'[2]Monthly Pig Prices - S'!Q9","v":0},"CZ"]
[{"$f":"'[2]Monthly Pig Prices - S'!A10","v":"Tchéquie"},{"$f":"'[2]Monthly Pig Prices - S'!B10","v":"CZK/ 100kg"},{"$f":"'[2]Monthly Pig Prices - S'!C10","v":4496.5483870967746},{"$f":"'[2]Monthly Pig Prices - S'!D10","v":4414},{"$f":"'[2]Monthly Pig Prices - S'!E10","v":4343.2580645161288},{"$f":"'[2]Monthly Pig Prices - S'!F10","v":4472.0333333333338},{"$f":"'[2]Monthly Pig Prices - S'!G10","v":4553.7741935483873},{"$f":"'[2]Monthly Pig Prices - S'!H10","v":4817},{"$f":"'[2]Monthly Pig Prices - S'!I10","v":4929.0645161290322},{"$f":"'[2]Monthly Pig Prices - S'!J10","v":0},{"$f":"'[2]Monthly Pig Prices - S'!K10","v":0},{"$f":"'[2]Monthly Pig Prices - S'!L10","v":0},{"$f":"'[2]Monthly Pig Prices - S'!M10","v":0},{"$f":"'[2]Monthly Pig Prices - S'!N10","v":0},{"$f":"'[2]Monthly Pig Prices - S'!O10","v":0},null,{"$f":"'[2]Monthly Pig Prices - S'!Q10","v":0},"CZ"]
[{"$f":"'[2]Monthly Pig Prices - S'!A11","v":"Danemark"},{"$f":"'[2]Monthly Pig Prices - S'!B11","v":"EUR / 100 Kg"},{"$f":"'[2]Monthly Pig Prices - S'!C11","v":156.09060043964723},{"$f":"'[2]Monthly Pig Prices - S'!D11","v":152.64507468991604},{"$f":"'[2]Monthly Pig Prices - S'!E11","v":147.91111544945375},{"$f":"'[2]Monthly Pig Prices - S'!F11","v":152.9482804909488},{"$f":"'[2]Monthly Pig Prices - S'!G11","v":154.99443642366595},{"$f":"'[2]Monthly Pig Prices - S'!H11","v":160.51899945557858},{"$f":"'[2]Monthly Pig Prices - S'!I11","v":157.42221861299473},{"$f":"'[2]Monthly Pig Prices - S'!J11","v":0},{"$f":"'[2]Monthly Pig Prices - S'!K11","v":0},{"$f":"'[2]Monthly Pig Prices - S'!L11","v":0},{"$f":"'[2]Monthly Pig Prices - S'!M11","v":0},{"$f":"'[2]Monthly Pig Prices - S'!N11","v":0},{"$f":"'[2]Monthly Pig Prices - S'!O11","v":0},null,{"$f":"'[2]Monthly Pig Prices - S'!Q11","v":0},"DK"]
[{"$f":"'[2]Monthly Pig Prices - S'!A12","v":"Danemark"},{"$f":"'[2]Monthly Pig Prices - S'!B12","v":"DKK / 100 Kg"},{"$f":"'[2]Monthly Pig Prices - S'!C12","v":1164.6451612903227},{"$f":"'[2]Monthly Pig Prices - S'!D12","v":1139.0714285714287},{"$f":"'[2]Monthly Pig Prices - S'!E12","v":1103.9677419354839},{"$f":"'[2]Monthly Pig Prices - S'!F12","v":1141.8666666666666},{"$f":"'[2]Monthly Pig Prices - S'!G12","v":1156.9032258064517},{"$f":"'[2]Monthly Pig Prices - S'!H12","v":1197.3333333333333},{"$f":"'[2]Monthly Pig Prices - S'!I12","v":1173.8064516129032},{"$f":"'[2]Monthly Pig Prices - S'!J12","v":0},{"$f":"'[2]Monthly Pig Prices - S'!K12","v":0},{"$f":"'[2]Monthly Pig Prices - S'!L12","v":0},{"$f":"'[2]Monthly Pig Prices - S'!M12","v":0},{"$f":"'[2]Monthly Pig Prices - S'!N12","v":0},{"$f":"'[2]Monthly Pig Prices - S'!O12","v":0},null,{"$f":"'[2]Monthly Pig Prices - S'!Q12","v":0},"DK"]
[{"$f":"'[2]Monthly Pig Prices - S'!A13","v":"Allemagne"},{"$f":"'[2]Monthly Pig Prices - S'!B13","v":"EUR / 100 Kg"},{"$f":"'[2]Monthly Pig Prices - S'!C13","v":162.76923076923077},{"$f":"'[2]Monthly Pig Prices - S'!D13","v":159.61357142857145},{"$f":"'[2]Monthly Pig Prices - S'!E13","v":160.3158064516129},{"$f":"'[2]Monthly Pig Prices - S'!F13","v":167.76899999999998},{"$f":"'[2]Monthly Pig Prices - S'!G13","v":170.71451612903223},{"$f":"'[2]Monthly Pig Prices - S'!H13","v":180.65366666666665},{"$f":"'[2]Monthly Pig Prices - S'!I13","v":175.6674193548387},{"$f":"'[2]Monthly Pig Prices - S'!J13","v":0},{"$f":"'[2]Monthly Pig Prices - S'!K13","v":0},{"$f":"'[2]Monthly Pig Prices - S'!L13","v":0},{"$f":"'[2]Monthly Pig Prices - S'!M13","v":0},{"$f":"'[2]Monthly Pig Prices - S'!N13","v":0},{"$f":"'[2]Monthly Pig Prices - S'!O13","v":0},null,{"$f":"'[2]Monthly Pig Prices - S'!Q13","v":0},"DE"]
[{"$f":"'[2]Monthly Pig Prices - S'!A14","v":"Estonie"},{"$f":"'[2]Monthly Pig Prices - S'!B14","v":"EUR / 100 Kg"},{"$f":"'[2]Monthly Pig Prices - S'!C14","v":173.43},{"$f":"'[2]Monthly Pig Prices - S'!D14","v":169.34107142857141},{"$f":"'[2]Monthly Pig Prices - S'!E14","v":163.69483870967741},{"$f":"'[2]Monthly Pig Prices - S'!F14","v":167.43899999999999},{"$f":"'[2]Monthly Pig Prices - S'!G14","v":169.15322580645162},{"$f":"'[2]Monthly Pig Prices - S'!H14","v":169.12266666666667},{"$f":"'[2]Monthly Pig Prices - S'!I14","v":172.6841935483871},{"$f":"'[2]Monthly Pig Prices - S'!J14","v":0},{"$f":"'[2]Monthly Pig Prices - S'!K14","v":0},{"$f":"'[2]Monthly Pig Prices - S'!L14","v":0},{"$f":"'[2]Monthly Pig Prices - S'!M14","v":0},{"$f":"'[2]Monthly Pig Prices - S'!N14","v":0},{"$f":"'[2]Monthly Pig Prices - S'!O14","v":0},null,{"$f":"'[2]Monthly Pig Prices - S'!Q14","v":0},"EE"]
[{"$f":"'[2]Monthly Pig Prices - S'!A15","v":"Greece"},{"$f":"'[2]Monthly Pig Prices - S'!B15","v":"EUR / 100 Kg"},{"$f":"'[2]Monthly Pig Prices - S'!C15","v":0},{"$f":"'[2]Monthly Pig Prices - S'!D15","v":0},{"$f":"'[2]Monthly Pig Prices - S'!E15","v":0},{"$f":"'[2]Monthly Pig Prices - S'!F15","v":0},{"$f":"'[2]Monthly Pig Prices - S'!G15","v":0},{"$f":"'[2]Monthly Pig Prices - S'!H15","v":183.83},{"$f":"'[2]Monthly Pig Prices - S'!I15","v":187.0641935483871},{"$f":"'[2]Monthly Pig Prices - S'!J15","v":0},{"$f":"'[2]Monthly Pig Prices - S'!K15","v":0},{"$f":"'[2]Monthly Pig Prices - S'!L15","v":0},{"$f":"'[2]Monthly Pig Prices - S'!M15","v":0},{"$f":"'[2]Monthly Pig Prices - S'!N15","v":0},{"$f":"'[2]Monthly Pig Prices - S'!O15","v":0},null,{"$f":"'[2]Monthly Pig Prices - S'!Q15","v":0},"GR"]
[{"$f":"'[2]Monthly Pig Prices - S'!A16","v":"Espagne"},{"$f":"'[2]Monthly Pig Prices - S'!B16","v":"EUR / 100 Kg"},{"$f":"'[2]Monthly Pig Prices - S'!C16","v":0},{"$f":"'[2]Monthly Pig Prices - S'!D16","v":0},{"$f":"'[2]Monthly Pig Prices - S'!E16","v":0},{"$f":"'[2]Monthly Pig Prices - S'!F16","v":0},{"$f":"'[2]Monthly Pig Prices - S'!G16","v":0},{"$f":"'[2]Monthly Pig Prices - S'!H16","v":0},{"$f":"'[2]Monthly Pig Prices - S'!I16","v":188.78},{"$f":"'[2]Monthly Pig Prices - S'!J16","v":0},{"$f":"'[2]Monthly Pig Prices - S'!K16","v":0},{"$f":"'[2]Monthly Pig Prices - S'!L16","v":0},{"$f":"'[2]Monthly Pig Prices - S'!M16","v":0},{"$f":"'[2]Monthly Pig Prices - S'!N16","v":0},{"$f":"'[2]Monthly Pig Prices - S'!O16","v":0},null,{"$f":"'[2]Monthly Pig Prices - S'!Q16","v":0},"ES"]
[{"$f":"'[2]Monthly Pig Prices - S'!A17","v":"France"},{"$f":"'[2]Monthly Pig Prices - S'!B17","v":"EUR / 100 Kg"},{"$f":"'[2]Monthly Pig Prices - S'!C17","v":0},{"$f":"'[2]Monthly Pig Prices - S'!D17","v":0},{"$f":"'[2]Monthly Pig Prices - S'!E17","v":0},{"$f":"'[2]Monthly Pig Prices - S'!F17","v":170.66666666666666},{"$f":"'[2]Monthly Pig Prices - S'!G17","v":165.29032258064515},{"$f":"'[2]Monthly Pig Prices - S'!H17","v":164.26666666666668},{"$f":"'[2]Monthly Pig Prices - S'!I17","v":167.80645161290323},{"$f":"'[2]Monthly Pig Prices - S'!J17","v":0},{"$f":"'[2]Monthly Pig Prices - S'!K17","v":0},{"$f":"'[2]Monthly Pig Prices - S'!L17","v":0},{"$f":"'[2]Monthly Pig Prices - S'!M17","v":0},{"$f":"'[2]Monthly Pig Prices - S'!N17","v":0},{"$f":"'[2]Monthly Pig Prices - S'!O17","v":0},null,{"$f":"'[2]Monthly Pig Prices - S'!Q17","v":0},"FR"]
[{"$f":"'[2]Monthly Pig Prices - S'!A18","v":"Croatia"},{"$f":"'[2]Monthly Pig Prices - S'!B18","v":"EUR / 100kg"},{"$f":"'[2]Monthly Pig Prices - S'!C18","v":173.70939123157282},{"$f":"'[2]Monthly Pig Prices - S'!D18","v":165.90226182626603},{"$f":"'[2]Monthly Pig Prices - S'!E18","v":158.86192617961018},{"$f":"'[2]Monthly Pig Prices - S'!F18","v":164.82582794203992},{"$f":"'[2]Monthly Pig Prices - S'!G18","v":169.68204864523344},{"$f":"'[2]Monthly Pig Prices - S'!H18","v":176.2984698691703},{"$f":"'[2]Monthly Pig Prices - S'!I18","v":178.12388894525913},{"$f":"'[2]Monthly Pig Prices - S'!J18","v":0},{"$f":"'[2]Monthly Pig Prices - S'!K18","v":0},{"$f":"'[2]Monthly Pig Prices - S'!L18","v":0},{"$f":"'[2]Monthly Pig Prices - S'!M18","v":0},{"$f":"'[2]Monthly Pig Prices - S'!N18","v":0},{"$f":"'[2]Monthly Pig Prices - S'!O18","v":0},null,{"$f":"'[2]Monthly Pig Prices - S'!Q18","v":0},"HR"]
[{"$f":"'[2]Monthly Pig Prices - S'!A19","v":"Croatia"},{"$f":"'[2]Monthly Pig Prices - S'!B19","v":"HRK / 100kg"},{"$f":"'[2]Monthly Pig Prices - S'!C19","v":1326.0645161290322},{"$f":"'[2]Monthly Pig Prices - S'!D19","v":1270.1785714285713},{"$f":"'[2]Monthly Pig Prices - S'!E19","v":1216.7096774193549},{"$f":"'[2]Monthly Pig Prices - S'!F19","v":1257.1333333333334},{"$f":"'[2]Monthly Pig Prices - S'!G19","v":1288.9354838709678},{"$f":"'[2]Monthly Pig Prices - S'!H19","v":1341.8333333333333},{"$f":"'[2]Monthly Pig Prices - S'!I19","v":1355.8387096774193},{"$f":"'[2]Monthly Pig Prices - S'!J19","v":0},{"$f":"'[2]Monthly Pig Prices - S'!K19","v":0},{"$f":"'[2]Monthly Pig Prices - S'!L19","v":0},{"$f":"'[2]Monthly Pig Prices - S'!M19","v":0},{"$f":"'[2]Monthly Pig Prices - S'!N19","v":0},{"$f":"'[2]Monthly Pig Prices - S'!O19","v":0},null,{"$f":"'[2]Monthly Pig Prices - S'!Q19","v":0},"HR"]
[{"$f":"'[2]Monthly Pig Prices - S'!A20","v":"Irlande"},{"$f":"'[2]Monthly Pig Prices - S'!B20","v":"EUR / 100 Kg"},{"$f":"'[2]Monthly Pig Prices - S'!C20","v":0},{"$f":"'[2]Monthly Pig Prices - S'!D20","v":0},{"$f":"'[2]Monthly Pig Prices - S'!E20","v":0},{"$f":"'[2]Monthly Pig Prices - S'!F20","v":0},{"$f":"'[2]Monthly Pig Prices - S'!G20","v":0},{"$f":"'[2]Monthly Pig Prices - S'!H20","v":0},{"$f":"'[2]Monthly Pig Prices - S'!I20","v":0},{"$f":"'[2]Monthly Pig Prices - S'!J20","v":0},{"$f":"'[2]Monthly Pig Prices - S'!K20","v":0},{"$f":"'[2]Monthly Pig Prices - S'!L20","v":0},{"$f":"'[2]Monthly Pig Prices - S'!M20","v":0},{"$f":"'[2]Monthly Pig Prices - S'!N20","v":0},{"$f":"'[2]Monthly Pig Prices - S'!O20","v":0},null,{"$f":"'[2]Monthly Pig Prices - S'!Q20","v":0},"IE"]
[{"$f":"'[2]Monthly Pig Prices - S'!A21","v":"Italie"},{"$f":"'[2]Monthly Pig Prices - S'!B21","v":"EUR / 100 Kg"},{"$f":"'[2]Monthly Pig Prices - S'!C21","v":0},{"$f":"'[2]Monthly Pig Prices - S'!D21","v":0},{"$f":"'[2]Monthly Pig Prices - S'!E21","v":0},{"$f":"'[2]Monthly Pig Prices - S'!F21","v":0},{"$f":"'[2]Monthly Pig Prices - S'!G21","v":0},{"$f":"'[2]Monthly Pig Prices - S'!H21","v":0},{"$f":"'[2]Monthly Pig Prices - S'!I21","v":0},{"$f":"'[2]Monthly Pig Prices - S'!J21","v":0},{"$f":"'[2]Monthly Pig Prices - S'!K21","v":0},{"$f":"'[2]Monthly Pig Prices - S'!L21","v":0},{"$f":"'[2]Monthly Pig Prices - S'!M21","v":0},{"$f":"'[2]Monthly Pig Prices - S'!N21","v":0},{"$f":"'[2]Monthly Pig Prices - S'!O21","v":0},null,{"$f":"'[2]Monthly Pig Prices - S'!Q21","v":0},"IT"]
[{"$f":"'[2]Monthly Pig Prices - S'!A22","v":"Chypre"},{"$f":"'[2]Monthly Pig Prices - S'!B22","v":"EUR / 100 Kg"},{"$f":"'[2]Monthly Pig Prices - S'!C22","v":0},{"$f":"'[2]Monthly Pig Prices - S'!D22","v":0},{"$f":"'[2]Monthly Pig Prices - S'!E22","v":0},{"$f":"'[2]Monthly Pig Prices - S'!F22","v":0},{"$f":"'[2]Monthly Pig Prices - S'!G22","v":0},{"$f":"'[2]Monthly Pig Prices - S'!H22","v":0},{"$f":"'[2]Monthly Pig Prices - S'!I22","v":0},{"$f":"'[2]Monthly Pig Prices - S'!J22","v":0},{"$f":"'[2]Monthly Pig Prices - S'!K22","v":0},{"$f":"'[2]Monthly Pig Prices - S'!L22","v":0},{"$f":"'[2]Monthly Pig Prices - S'!M22","v":0},{"$f":"'[2]Monthly Pig Prices - S'!N22","v":0},{"$f":"'[2]Monthly Pig Prices - S'!O22","v":0},null,{"$f":"'[2]Monthly Pig Prices - S'!Q22","v":0},"CY"]
[{"$f":"'[2]Monthly Pig Prices - S'!A23","v":"Lettonie"},{"$f":"'[2]Monthly Pig Prices - S'!B23","v":"EUR / 100 Kg"},{"$f":"'[2]Monthly Pig Prices - S'!C23","v":174.58677419354834},{"$f":"'[2]Monthly Pig Prices - S'!D23","v":161.64928571428572},{"$f":"'[2]Monthly Pig Prices - S'!E23","v":148.88419354838712},{"$f":"'[2]Monthly Pig Prices - S'!F23","v":164.94233333333332},{"$f":"'[2]Monthly Pig Prices - S'!G23","v":171.15258064516129},{"$f":"'[2]Monthly Pig Prices - S'!H23","v":176.88666666666668},{"$f":"'[2]Monthly Pig Prices - S'!I23","v":176.58032258064515},{"$f":"'[2]Monthly Pig Prices - S'!J23","v":0},{"$f":"'[2]Monthly Pig Prices - S'!K23","v":0},{"$f":"'[2]Monthly Pig Prices - S'!L23","v":0},{"$f":"'[2]Monthly Pig Prices - S'!M23","v":0},{"$f":"'[2]Monthly Pig Prices - S'!N23","v":0},{"$f":"'[2]Monthly Pig Prices - S'!O23","v":0},null,{"$f":"'[2]Monthly Pig Prices - S'!Q23","v":0},"LV"]
[{"$f":"'[2]Monthly Pig Prices - S'!A24","v":"Lituanie"},{"$f":"'[2]Monthly Pig Prices - S'!B24","v":"EUR / 100 Kg"},{"$f":"'[2]Monthly Pig Prices - S'!C24","v":170.43777257915036},{"$f":"'[2]Monthly Pig Prices - S'!D24","v":162.60136700648749},{"$f":"'[2]Monthly Pig Prices - S'!E24","v":152.60368396663577},{"$f":"'[2]Monthly Pig Prices - S'!F24","v":168.91797961075071},{"$f":"'[2]Monthly Pig Prices - S'!G24","v":169.32568985619903},{"$f":"'[2]Monthly Pig Prices - S'!H24","v":174.05564565956132},{"$f":"'[2]Monthly Pig Prices - S'!I24","v":176.40035950252624},{"$f":"'[2]Monthly Pig Prices - S'!J24","v":0},{"$f":"'[2]Monthly Pig Prices - S'!K24","v":0},{"$f":"'[2]Monthly Pig Prices - S'!L24","v":0},{"$f":"'[2]Monthly Pig Prices - S'!M24","v":0},{"$f":"'[2]Monthly Pig Prices - S'!N24","v":0},{"$f":"'[2]Monthly Pig Prices - S'!O24","v":0},null,{"$f":"'[2]Monthly Pig Prices - S'!Q24","v":0},"LT"]
[{"$f":"'[2]Monthly Pig Prices - S'!A25","v":"Lituanie"},{"$f":"'[2]Monthly Pig Prices - S'!B25","v":"LTL / 100 Kg"},{"$f":"'[2]Monthly Pig Prices - S'!C25","v":588.49032258064517},{"$f":"'[2]Monthly Pig Prices - S'!D25","v":561.42999999999995},{"$f":"'[2]Monthly Pig Prices - S'!E25","v":526.91},{"$f":"'[2]Monthly Pig Prices - S'!F25","v":583.2399999999999},{"$f":"'[2]Monthly Pig Prices - S'!G25","v":584.64774193548385},{"$f":"'[2]Monthly Pig Prices - S'!H25","v":600.97933333333322},{"$f":"'[2]Monthly Pig Prices - S'!I25","v":609.07516129032263},{"$f":"'[2]Monthly Pig Prices - S'!J25","v":0},{"$f":"'[2]Monthly Pig Prices - S'!K25","v":0},{"$f":"'[2]Monthly Pig Prices - S'!L25","v":0},{"$f":"'[2]Monthly Pig Prices - S'!M25","v":0},{"$f":"'[2]Monthly Pig Prices - S'!N25","v":0},{"$f":"'[2]Monthly Pig Prices - S'!O25","v":0},null,{"$f":"'[2]Monthly Pig Prices - S'!Q25","v":0},"LT"]
[{"$f":"'[2]Monthly Pig Prices - S'!A26","v":"Luxembourg"},{"$f":"'[2]Monthly Pig Prices - S'!B26","v":"EUR / 100 Kg"},{"$f":"'[2]Monthly Pig Prices - S'!C26","v":161.78387096774193},{"$f":"'[2]Monthly Pig Prices - S'!D26","v":160.46785714285716},{"$f":"'[2]Monthly Pig Prices - S'!E26","v":160.70322580645163},{"$f":"'[2]Monthly Pig Prices - S'!F26","v":168.3666666666667},{"$f":"'[2]Monthly Pig Prices - S'!G26","v":170.8516129032258},{"$f":"'[2]Monthly Pig Prices - S'!H26","v":180.40666666666667},{"$f":"'[2]Monthly Pig Prices - S'!I26","v":176.19677419354838},{"$f":"'[2]Monthly Pig Prices - S'!J26","v":0},{"$f":"'[2]Monthly Pig Prices - S'!K26","v":0},{"$f":"'[2]Monthly Pig Prices - S'!L26","v":0},{"$f":"'[2]Monthly Pig Prices - S'!M26","v":0},{"$f":"'[2]Monthly Pig Prices - S'!N26","v":0},{"$f":"'[2]Monthly Pig Prices - S'!O26","v":0},null,{"$f":"'[2]Monthly Pig Prices - S'!Q26","v":0},"LU"]
[{"$f":"'[2]Monthly Pig Prices - S'!A27","v":"Hongrie"},{"$f":"'[2]Monthly Pig Prices - S'!B27","v":"EUR / 100 Kg"},{"$f":"'[2]Monthly Pig Prices - S'!C27","v":162.4851978821394},{"$f":"'[2]Monthly Pig Prices - S'!D27","v":161.60516738155371},{"$f":"'[2]Monthly Pig Prices - S'!E27","v":159.28122785632092},{"$f":"'[2]Monthly Pig Prices - S'!F27","v":166.13421766894189},{"$f":"'[2]Monthly Pig Prices - S'!G27","v":169.67077529296236},{"$f":"'[2]Monthly Pig Prices - S'!H27","v":180.34661842195277},{"$f":"'[2]Monthly Pig Prices - S'!I27","v":180.37003313382408},{"$f":"'[2]Monthly Pig Prices - S'!J27","v":0},{"$f":"'[2]Monthly Pig Prices - S'!K27","v":0},{"$f":"'[2]Monthly Pig Prices - S'!L27","v":0},{"$f":"'[2]Monthly Pig Prices - S'!M27","v":0},{"$f":"'[2]Monthly Pig Prices - S'!N27","v":0},{"$f":"'[2]Monthly Pig Prices - S'!O27","v":0},null,{"$f":"'[2]Monthly Pig Prices - S'!Q27","v":0},"HU"]
[{"$f":"'[2]Monthly Pig Prices - S'!A28","v":"Hongrie"},{"$f":"'[2]Monthly Pig Prices - S'!B28","v":"HUF / 100 Kg"},{"$f":"'[2]Monthly Pig Prices - S'!C28","v":49023.176129032254},{"$f":"'[2]Monthly Pig Prices - S'!D28","v":50114.369999999995},{"$f":"'[2]Monthly Pig Prices - S'!E28","v":49614.806774193545},{"$f":"'[2]Monthly Pig Prices - S'!F28","v":51070.281666666669},{"$f":"'[2]Monthly Pig Prices - S'!G28","v":51749.000322580643},{"$f":"'[2]Monthly Pig Prices - S'!H28","v":55131.383000000009},{"$f":"'[2]Monthly Pig Prices - S'!I28","v":55888.546129032264},{"$f":"'[2]Monthly Pig Prices - S'!J28","v":0},{"$f":"'[2]Monthly Pig Prices - S'!K28","v":0},{"$f":"'[2]Monthly Pig Prices - S'!L28","v":0},{"$f":"'[2]Monthly Pig Prices - S'!M28","v":0},{"$f":"'[2]Monthly Pig Prices - S'!N28","v":0},{"$f":"'[2]Monthly Pig Prices - S'!O28","v":0},null,{"$f":"'[2]Monthly Pig Prices - S'!Q28","v":0},"HU"]
[{"$f":"'[2]Monthly Pig Prices - S'!A29","v":"Malte"},{"$f":"'[2]Monthly Pig Prices - S'!B29","v":"EUR / 100 Kg"},{"$f":"'[2]Monthly Pig Prices - S'!C29","v":237},{"$f":"'[2]Monthly Pig Prices - S'!D29","v":237},{"$f":"'[2]Monthly Pig Prices - S'!E29","v":237},{"$f":"'[2]Monthly Pig Prices - S'!F29","v":237},{"$f":"'[2]Monthly Pig Prices - S'!G29","v":237},{"$f":"'[2]Monthly Pig Prices - S'!H29","v":237},{"$f":"'[2]Monthly Pig Prices - S'!I29","v":237},{"$f":"'[2]Monthly Pig Prices - S'!J29","v":0},{"$f":"'[2]Monthly Pig Prices - S'!K29","v":0},{"$f":"'[2]Monthly Pig Prices - S'!L29","v":0},{"$f":"'[2]Monthly Pig Prices - S'!M29","v":0},{"$f":"'[2]Monthly Pig Prices - S'!N29","v":0},{"$f":"'[2]Monthly Pig Prices - S'!O29","v":0},null,{"$f":"'[2]Monthly Pig Prices - S'!Q29","v":0},"MT"]
[{"$f":"'[2]Monthly Pig Prices - S'!A30","v":"Pays-Bas"},{"$f":"'[2]Monthly Pig Prices - S'!B30","v":"EUR / 100 Kg"},{"$f":"'[2]Monthly Pig Prices - S'!C30","v":0},{"$f":"'[2]Monthly Pig Prices - S'!D30","v":0},{"$f":"'[2]Monthly Pig Prices - S'!E30","v":0},{"$f":"'[2]Monthly Pig Prices - S'!F30","v":0},{"$f":"'[2]Monthly Pig Prices - S'!G30","v":0},{"$f":"'[2]Monthly Pig Prices - S'!H30","v":0},{"$f":"'[2]Monthly Pig Prices - S'!I30","v":0},{"$f":"'[2]Monthly Pig Prices - S'!J30","v":0},{"$f":"'[2]Monthly Pig Prices - S'!K30","v":0},{"$f":"'[2]Monthly Pig Prices - S'!L30","v":0},{"$f":"'[2]Monthly Pig Prices - S'!M30","v":0},{"$f":"'[2]Monthly Pig Prices - S'!N30","v":0},{"$f":"'[2]Monthly Pig Prices - S'!O30","v":0},null,{"$f":"'[2]Monthly Pig Prices - S'!Q30","v":0},"NL"]
[{"$f":"'[2]Monthly Pig Prices - S'!A31","v":"Autriche"},{"$f":"'[2]Monthly Pig Prices - S'!B31","v":"EUR / 100 Kg"},{"$f":"'[2]Monthly Pig Prices - S'!C31","v":170.50807692307697},{"$f":"'[2]Monthly Pig Prices - S'!D31","v":170.96250000000003},{"$f":"'[2]Monthly Pig Prices - S'!E31","v":172.18483870967742},{"$f":"'[2]Monthly Pig Prices - S'!F31","v":176.89800000000002},{"$f":"'[2]Monthly Pig Prices - S'!G31","v":177.24548387096772},{"$f":"'[2]Monthly Pig Prices - S'!H31","v":185.30633333333336},{"$f":"'[2]Monthly Pig Prices - S'!I31","v":184.28322580645161},{"$f":"'[2]Monthly Pig Prices - S'!J31","v":0},{"$f":"'[2]Monthly Pig Prices - S'!K31","v":0},{"$f":"'[2]Monthly Pig Prices - S'!L31","v":0},{"$f":"'[2]Monthly Pig Prices - S'!M31","v":0},{"$f":"'[2]Monthly Pig Prices - S'!N31","v":0},{"$f":"'[2]Monthly Pig Prices - S'!O31","v":0},null,{"$f":"'[2]Monthly Pig Prices - S'!Q31","v":0},"AT"]
[{"$f":"'[2]Monthly Pig Prices - S'!A32","v":"Pologne"},{"$f":"'[2]Monthly Pig Prices - S'!B32","v":"EUR / 100 Kg"},{"$f":"'[2]Monthly Pig Prices - S'!C32","v":161.9610055301392},{"$f":"'[2]Monthly Pig Prices - S'!D32","v":152.59417530272458},{"$f":"'[2]Monthly Pig Prices - S'!E32","v":152.33131315620571},{"$f":"'[2]Monthly Pig Prices - S'!F32","v":163.62016791964533},{"$f":"'[2]Monthly Pig Prices - S'!G32","v":166.31133875594242},{"$f":"'[2]Monthly Pig Prices - S'!H32","v":173.99233527868853},{"$f":"'[2]Monthly Pig Prices - S'!I32","v":172.10456346599534},{"$f":"'[2]Monthly Pig Prices - S'!J32","v":0},{"$f":"'[2]Monthly Pig Prices - S'!K32","v":0},{"$f":"'[2]Monthly Pig Prices - S'!L32","v":0},{"$f":"'[2]Monthly Pig Prices - S'!M32","v":0},{"$f":"'[2]Monthly Pig Prices - S'!N32","v":0},{"$f":"'[2]Monthly Pig Prices - S'!O32","v":0},null,{"$f":"'[2]Monthly Pig Prices - S'!Q32","v":0},"PL"]
[{"$f":"'[2]Monthly Pig Prices - S'!A33","v":"Pologne"},{"$f":"'[2]Monthly Pig Prices - S'!B33","v":"PLN / 100 Kg"},{"$f":"'[2]Monthly Pig Prices - S'!C33","v":676.51129032258075},{"$f":"'[2]Monthly Pig Prices - S'!D33","v":637.84821428571433},{"$f":"'[2]Monthly Pig Prices - S'!E33","v":639.35451612903216},{"$f":"'[2]Monthly Pig Prices - S'!F33","v":684.78533333333326},{"$f":"'[2]Monthly Pig Prices - S'!G33","v":695.53967741935469},{"$f":"'[2]Monthly Pig Prices - S'!H33","v":719.66466666666668},{"$f":"'[2]Monthly Pig Prices - S'!I33","v":713.49483870967742},{"$f":"'[2]Monthly Pig Prices - S'!J33","v":0},{"$f":"'[2]Monthly Pig Prices - S'!K33","v":0},{"$f":"'[2]Monthly Pig Prices - S'!L33","v":0},{"$f":"'[2]Monthly Pig Prices - S'!M33","v":0},{"$f":"'[2]Monthly Pig Prices - S'!N33","v":0},{"$f":"'[2]Monthly Pig Prices - S'!O33","v":0},null,{"$f":"'[2]Monthly Pig Prices - S'!Q33","v":0},"PL"]
[{"$f":"'[2]Monthly Pig Prices - S'!A34","v":"Portugal"},{"$f":"'[2]Monthly Pig Prices - S'!B34","v":"EUR / 100 Kg"},{"$f":"'[2]Monthly Pig Prices - S'!C34","v":0},{"$f":"'[2]Monthly Pig Prices - S'!D34","v":0},{"$f":"'[2]Monthly Pig Prices - S'!E34","v":0},{"$f":"'[2]Monthly Pig Prices - S'!F34","v":0},{"$f":"'[2]Monthly Pig Prices - S'!G34","v":0},{"$f":"'[2]Monthly Pig Prices - S'!H34","v":0},{"$f":"'[2]Monthly Pig Prices - S'!I34","v":0},{"$f":"'[2]Monthly Pig Prices - S'!J34","v":0},{"$f":"'[2]Monthly Pig Prices - S'!K34","v":0},{"$f":"'[2]Monthly Pig Prices - S'!L34","v":0},{"$f":"'[2]Monthly Pig Prices - S'!M34","v":0},{"$f":"'[2]Monthly Pig Prices - S'!N34","v":0},{"$f":"'[2]Monthly Pig Prices - S'!O34","v":0},null,{"$f":"'[2]Monthly Pig Prices - S'!Q34","v":0},"PT"]
[{"$f":"'[2]Monthly Pig Prices - S'!A35","v":"Romania"},{"$f":"'[2]Monthly Pig Prices - S'!B35","v":"EUR / 100 Kg"},{"$f":"'[2]Monthly Pig Prices - S'!C35","v":180.26196039380901},{"$f":"'[2]Monthly Pig Prices - S'!D35","v":165.35236806138133},{"$f":"'[2]Monthly Pig Prices - S'!E35","v":150.29632788994016},{"$f":"'[2]Monthly Pig Prices - S'!F35","v":154.35617146442831},{"$f":"'[2]Monthly Pig Prices - S'!G35","v":173.32963046445826},{"$f":"'[2]Monthly Pig Prices - S'!H35","v":187.6617234074449},{"$f":"'[2]Monthly Pig Prices - S'!I35","v":193.10435800324612},{"$f":"'[2]Monthly Pig Prices - S'!J35","v":0},{"$f":"'[2]Monthly Pig Prices - S'!K35","v":0},{"$f":"'[2]Monthly Pig Prices - S'!L35","v":0},{"$f":"'[2]Monthly Pig Prices - S'!M35","v":0},{"$f":"'[2]Monthly Pig Prices - S'!N35","v":0},{"$f":"'[2]Monthly Pig Prices - S'!O35","v":0},null,{"$f":"'[2]Monthly Pig Prices - S'!Q35","v":0},"RO"]
[{"$f":"'[2]Monthly Pig Prices - S'!A36","v":"Romania"},{"$f":"'[2]Monthly Pig Prices - S'!B36","v":"RON / 100 Kg"},{"$f":"'[2]Monthly Pig Prices - S'!C36","v":814.25709677419354},{"$f":"'[2]Monthly Pig Prices - S'!D36","v":743.02571428571434},{"$f":"'[2]Monthly Pig Prices - S'!E36","v":675.56032258064511},{"$f":"'[2]Monthly Pig Prices - S'!F36","v":688.56666666666672},{"$f":"'[2]Monthly Pig Prices - S'!G36","v":767.24354838709678},{"$f":"'[2]Monthly Pig Prices - S'!H36","v":824.55933333333337},{"$f":"'[2]Monthly Pig Prices - S'!I36","v":851.7045161290323},{"$f":"'[2]Monthly Pig Prices - S'!J36","v":0},{"$f":"'[2]Monthly Pig Prices - S'!K36","v":0},{"$f":"'[2]Monthly Pig Prices - S'!L36","v":0},{"$f":"'[2]Monthly Pig Prices - S'!M36","v":0},{"$f":"'[2]Monthly Pig Prices - S'!N36","v":0},{"$f":"'[2]Monthly Pig Prices - S'!O36","v":0},null,{"$f":"'[2]Monthly Pig Prices - S'!Q36","v":0},"RO"]
[{"$f":"'[2]Monthly Pig Prices - S'!A37","v":"Slovenie"},{"$f":"'[2]Monthly Pig Prices - S'!B37","v":"EUR / 100 Kg"},{"$f":"'[2]Monthly Pig Prices - S'!C37","v":0},{"$f":"'[2]Monthly Pig Prices - S'!D37","v":169.43833333333333},{"$f":"'[2]Monthly Pig Prices - S'!E37","v":172.62483870967742},{"$f":"'[2]Monthly Pig Prices - S'!F37","v":176.83833333333331},{"$f":"'[2]Monthly Pig Prices - S'!G37","v":177.15516129032255},{"$f":"'[2]Monthly Pig Prices - S'!H37","v":184.68299999999999},{"$f":"'[2]Monthly Pig Prices - S'!I37","v":184.99483870967742},{"$f":"'[2]Monthly Pig Prices - S'!J37","v":0},{"$f":"'[2]Monthly Pig Prices - S'!K37","v":0},{"$f":"'[2]Monthly Pig Prices - S'!L37","v":0},{"$f":"'[2]Monthly Pig Prices - S'!M37","v":0},{"$f":"'[2]Monthly Pig Prices - S'!N37","v":0},{"$f":"'[2]Monthly Pig Prices - S'!O37","v":0},null,{"$f":"'[2]Monthly Pig Prices - S'!Q37","v":0},"SI"]
[{"$f":"'[2]Monthly Pig Prices - S'!A38","v":"Slovakie"},{"$f":"'[2]Monthly Pig Prices - S'!B38","v":"EUR / 100 Kg"},{"$f":"'[2]Monthly Pig Prices - S'!C38","v":167.58225806451614},{"$f":"'[2]Monthly Pig Prices - S'!D38","v":164.42928571428573},{"$f":"'[2]Monthly Pig Prices - S'!E38","v":159.21935483870965},{"$f":"'[2]Monthly Pig Prices - S'!F38","v":164.00233333333333},{"$f":"'[2]Monthly Pig Prices - S'!G38","v":167.37129032258065},{"$f":"'[2]Monthly Pig Prices - S'!H38","v":176.52066666666667},{"$f":"'[2]Monthly Pig Prices - S'!I38","v":180.83129032258063},{"$f":"'[2]Monthly Pig Prices - S'!J38","v":0},{"$f":"'[2]Monthly Pig Prices - S'!K38","v":0},{"$f":"'[2]Monthly Pig Prices - S'!L38","v":0},{"$f":"'[2]Monthly Pig Prices - S'!M38","v":0},{"$f":"'[2]Monthly Pig Prices - S'!N38","v":0},{"$f":"'[2]Monthly Pig Prices - S'!O38","v":0},null,{"$f":"'[2]Monthly Pig Prices - S'!Q38","v":0},"SK"]
[{"$f":"'[2]Monthly Pig Prices - S'!A39","v":"Finlande"},{"$f":"'[2]Monthly Pig Prices - S'!B39","v":"EUR / 100 Kg"},{"$f":"'[2]Monthly Pig Prices - S'!C39","v":178.45064516129034},{"$f":"'[2]Monthly Pig Prices - S'!D39","v":176.59428571428569},{"$f":"'[2]Monthly Pig Prices - S'!E39","v":173.63354838709677},{"$f":"'[2]Monthly Pig Prices - S'!F39","v":170.98933333333332},{"$f":"'[2]Monthly Pig Prices - S'!G39","v":170.03483870967742},{"$f":"'[2]Monthly Pig Prices - S'!H39","v":169.40766666666667},{"$f":"'[2]Monthly Pig Prices - S'!I39","v":169.80903225806452},{"$f":"'[2]Monthly Pig Prices - S'!J39","v":0},{"$f":"'[2]Monthly Pig Prices - S'!K39","v":0},{"$f":"'[2]Monthly Pig Prices - S'!L39","v":0},{"$f":"'[2]Monthly Pig Prices - S'!M39","v":0},{"$f":"'[2]Monthly Pig Prices - S'!N39","v":0},{"$f":"'[2]Monthly Pig Prices - S'!O39","v":0},null,{"$f":"'[2]Monthly Pig Prices - S'!Q39","v":0},"FI"]
[{"$f":"'[2]Monthly Pig Prices - S'!A40","v":"Suède"},{"$f":"'[2]Monthly Pig Prices - S'!B40","v":"EUR / 100 Kg"},{"$f":"'[2]Monthly Pig Prices - S'!C40","v":185.60329939975833},{"$f":"'[2]Monthly Pig Prices - S'!D40","v":186.6068590458174},{"$f":"'[2]Monthly Pig Prices - S'!E40","v":185.24175717034765},{"$f":"'[2]Monthly Pig Prices - S'!F40","v":186.5620590037561},{"$f":"'[2]Monthly Pig Prices - S'!G40","v":188.07799043519921},{"$f":"'[2]Monthly Pig Prices - S'!H40","v":192.79115912803417},{"$f":"'[2]Monthly Pig Prices - S'!I40","v":196.64759478190277},{"$f":"'[2]Monthly Pig Prices - S'!J40","v":0},{"$f":"'[2]Monthly Pig Prices - S'!K40","v":0},{"$f":"'[2]Monthly Pig Prices - S'!L40","v":0},{"$f":"'[2]Monthly Pig Prices - S'!M40","v":0},{"$f":"'[2]Monthly Pig Prices - S'!N40","v":0},{"$f":"'[2]Monthly Pig Prices - S'!O40","v":0},null,{"$f":"'[2]Monthly Pig Prices - S'!Q40","v":0},"SE"]
[{"$f":"'[2]Monthly Pig Prices - S'!A41","v":"Suède"},{"$f":"'[2]Monthly Pig Prices - S'!B41","v":"SEK / 100 Kg"},{"$f":"'[2]Monthly Pig Prices - S'!C41","v":1641.1612903225807},{"$f":"'[2]Monthly Pig Prices - S'!D41","v":1655.2142857142858},{"$f":"'[2]Monthly Pig Prices - S'!E41","v":1643.0967741935483},{"$f":"'[2]Monthly Pig Prices - S'!F41","v":1686.5},{"$f":"'[2]Monthly Pig Prices - S'!G41","v":1699.1935483870968},{"$f":"'[2]Monthly Pig Prices - S'!H41","v":1753.0666666666666},{"$f":"'[2]Monthly Pig Prices - S'!I41","v":1815.3870967741937},{"$f":"'[2]Monthly Pig Prices - S'!J41","v":0},{"$f":"'[2]Monthly Pig Prices - S'!K41","v":0},{"$f":"'[2]Monthly Pig Prices - S'!L41","v":0},{"$f":"'[2]Monthly Pig Prices - S'!M41","v":0},{"$f":"'[2]Monthly Pig Prices - S'!N41","v":0},{"$f":"'[2]Monthly Pig Prices - S'!O41","v":0},null,{"$f":"'[2]Monthly Pig Prices - S'!Q41","v":0},"SE"]
[{"$f":"'[2]Monthly Pig Prices - S'!A42","v":"U.K."},{"$f":"'[2]Monthly Pig Prices - S'!B42","v":"EUR / 100 Kg"},{"$f":"'[2]Monthly Pig Prices - S'!C42","v":201.84557200572272},{"$f":"'[2]Monthly Pig Prices - S'!D42","v":197.97857488408832},{"$f":"'[2]Monthly Pig Prices - S'!E42","v":194.06421424076697},{"$f":"'[2]Monthly Pig Prices - S'!F42","v":196.27345904394366},{"$f":"'[2]Monthly Pig Prices - S'!G42","v":199.29769431725194},{"$f":"'[2]Monthly Pig Prices - S'!H42","v":202.32891512025387},{"$f":"'[2]Monthly Pig Prices - S'!I42","v":202.44313527947114},{"$f":"'[2]Monthly Pig Prices - S'!J42","v":0},{"$f":"'[2]Monthly Pig Prices - S'!K42","v":0},{"$f":"'[2]Monthly Pig Prices - S'!L42","v":0},{"$f":"'[2]Monthly Pig Prices - S'!M42","v":0},{"$f":"'[2]Monthly Pig Prices - S'!N42","v":0},{"$f":"'[2]Monthly Pig Prices - S'!O42","v":0},null,{"$f":"'[2]Monthly Pig Prices - S'!Q42","v":0},"UK"]
[{"$f":"'[2]Monthly Pig Prices - S'!A43","v":"U.K."},{"$f":"'[2]Monthly Pig Prices - S'!B43","v":"GBP / 100 Kg"},{"$f":"'[2]Monthly Pig Prices - S'!C43","v":166.97},{"$f":"'[2]Monthly Pig Prices - S'!D43","v":163.32857142857142},{"$f":"'[2]Monthly Pig Prices - S'!E43","v":161.43548387096774},{"$f":"'[2]Monthly Pig Prices - S'!F43","v":162.00266666666667},{"$f":"'[2]Monthly Pig Prices - S'!G43","v":162.62032258064517},{"$f":"'[2]Monthly Pig Prices - S'!H43","v":162.654},{"$f":"'[2]Monthly Pig Prices - S'!I43","v":160.63580645161289},{"$f":"'[2]Monthly Pig Prices - S'!J43","v":0},{"$f":"'[2]Monthly Pig Prices - S'!K43","v":0},{"$f":"'[2]Monthly Pig Prices - S'!L43","v":0},{"$f":"'[2]Monthly Pig Prices - S'!M43","v":0},{"$f":"'[2]Monthly Pig Prices - S'!N43","v":0},{"$f":"'[2]Monthly Pig Prices - S'!O43","v":0},null,{"$f":"'[2]Monthly Pig Prices - S'!Q43","v":0},"UK"]
[]
[{"$f":"'[2]Monthly Pig Prices - S'!A45","v":"EU"},{"$f":"'[2]Monthly Pig Prices - S'!B45","v":"EUR / 100 Kg"},{"$f":"'[2]Monthly Pig Prices - S'!C45","v":164.86457248636299},{"$f":"'[2]Monthly Pig Prices - S'!D45","v":160.68575203697171},{"$f":"'[2]Monthly Pig Prices - S'!E45","v":158.28300587573716},{"$f":"'[2]Monthly Pig Prices - S'!F45","v":165.38077351870456},{"$f":"'[2]Monthly Pig Prices - S'!G45","v":167.67851274067809},{"$f":"'[2]Monthly Pig Prices - S'!H45","v":174.28378159762056},{"$f":"'[2]Monthly Pig Prices - S'!I45","v":177.43158805165828},{"$f":"'[2]Monthly Pig Prices - S'!J45","v":0},{"$f":"'[2]Monthly Pig Prices - S'!K45","v":0},{"$f":"'[2]Monthly Pig Prices - S'!L45","v":0},{"$f":"'[2]Monthly Pig Prices - S'!M45","v":0},{"$f":"'[2]Monthly Pig Prices - S'!N45","v":0},{"$f":"'[2]Monthly Pig Prices - S'!O45","v":0},null,{"$f":"'[2]Monthly Pig Prices - S'!Q45","v":0},"EU_28"]

{"sheet":"Monthly pig prices-Class R","index":12,"n_rows":45,"n_cols":18,"rows_kept":45,"cut":false,"hidden":false,"merged":[[0,0,0,16],[2,16,3,16]]}
["Monthly Market Prices for Pig Carcase Grade R in the E.U."]
[]
[null,null,2014,2014,2014,2014,2014,2014,2014,2014,2014,2014,2014,2014,2015,null,"Jan2015/Jan2014"]
[null,null,"January","February","March","April","May","June","July","August","September","October","November","December","January"]
[]
["Belgique","EUR / 100 Kg",{"$f":"'[2]Monthly Prices - R'!C6","v":0},{"$f":"'[2]Monthly Prices - R'!D6","v":0},{"$f":"'[2]Monthly Prices - R'!E6","v":0},{"$f":"'[2]Monthly Prices - R'!F6","v":0},{"$f":"'[2]Monthly Prices - R'!G6","v":0},{"$f":"'[2]Monthly Prices - R'!H6","v":0},{"$f":"'[2]Monthly Prices - R'!I6","v":0},{"$f":"'[2]Monthly Prices - R'!J6","v":0},{"$f":"'[2]Monthly Prices - R'!K6","v":0},{"$f":"'[2]Monthly Prices - R'!L6","v":0},{"$f":"'[2]Monthly Prices - R'!M6","v":0},{"$f":"'[2]Monthly Prices - R'!N6","v":0},{"$f":"'[2]Monthly Prices - R'!O6","v":0},null,null,"BE"]
["Bulgaria","EUR / 100 Kg",{"$f":"'[2]Monthly Prices - R'!C7","v":0},{"$f":"'[2]Monthly Prices - R'!D7","v":0},{"$f":"'[2]Monthly Prices - R'!E7","v":0},{"$f":"'[2]Monthly Prices - R'!F7","v":0},{"$f":"'[2]Monthly Prices - R'!G7","v":0},{"$f":"'[2]Monthly Prices - R'!H7","v":0},{"$f":"'[2]Monthly Prices - R'!I7","v":0},{"$f":"'[2]Monthly Prices - R'!J7","v":0},{"$f":"'[2]Monthly Prices - R'!K7","v":0},{"$f":"'[2]Monthly Prices - R'!L7","v":0},{"$f":"'[2]Monthly Prices - R'!M7","v":0},{"$f":"'[2]Monthly Prices - R'!N7","v":0},{"$f":"'[2]Monthly Prices - R'!O7","v":0},null,null,"BG"]
["Bulgaria","BGN/ 100 Kg",{"$f":"'[2]Monthly Prices - R'!C8","v":0},{"$f":"'[2]Monthly Prices - R'!D8","v":0},{"$f":"'[2]Monthly Prices - R'!E8","v":0},{"$f":"'[2]Monthly Prices - R'!F8","v":0},{"$f":"'[2]Monthly Prices - R'!G8","v":0},{"$f":"'[2]Monthly Prices - R'!H8","v":0},{"$f":"'[2]Monthly Prices - R'!I8","v":0},{"$f":"'[2]Monthly Prices - R'!J8","v":0},{"$f":"'[2]Monthly Prices - R'!K8","v":0},{"$f":"'[2]Monthly Prices - R'!L8","v":0},{"$f":"'[2]Monthly Prices - R'!M8","v":0},{"$f":"'[2]Monthly Prices - R'!N8","v":0},{"$f":"'[2]Monthly Prices - R'!O8","v":0},null,null,"BG"]
["Tchéquie","EUR / 100 Kg",{"$f":"'[2]Monthly Prices - R'!C9","v":0},{"$f":"'[2]Monthly Prices - R'!D9","v":0},{"$f":"'[2]Monthly Prices - R'!E9","v":0},{"$f":"'[2]Monthly Prices - R'!F9","v":0},{"$f":"'[2]Monthly Prices - R'!G9","v":0},{"$f":"'[2]Monthly Prices - R'!H9","v":0},{"$f":"'[2]Monthly Prices - R'!I9","v":0},{"$f":"'[2]Monthly Prices - R'!J9","v":0},{"$f":"'[2]Monthly Prices - R'!K9","v":0},{"$f":"'[2]Monthly Prices - R'!L9","v":0},{"$f":"'[2]Monthly Prices - R'!M9","v":0},{"$f":"'[2]Monthly Prices - R'!N9","v":0},{"$f":"'[2]Monthly Prices - R'!O9","v":0},null,null,"CZ"]
["Tchéquie","CZK/ 100kg",{"$f":"'[2]Monthly Prices - R'!C10","v":0},{"$f":"'[2]Monthly Prices - R'!D10","v":0},{"$f":"'[2]Monthly Prices - R'!E10","v":0},{"$f":"'[2]Monthly Prices - R'!F10","v":0},{"$f":"'[2]Monthly Prices - R'!G10","v":0},{"$f":"'[2]Monthly Prices - R'!H10","v":0},{"$f":"'[2]Monthly Prices - R'!I10","v":0},{"$f":"'[2]Monthly Prices - R'!J10","v":0},{"$f":"'[2]Monthly Prices - R'!K10","v":0},{"$f":"'[2]Monthly Prices - R'!L10","v":0},{"$f":"'[2]Monthly Prices - R'!M10","v":0},{"$f":"'[2]Monthly Prices - R'!N10","v":0},{"$f":"'[2]Monthly Prices - R'!O10","v":0},null,null,"CZ"]
["Danemark","EUR / 100 Kg",{"$f":"'[2]Monthly Prices - R'!C11","v":0},{"$f":"'[2]Monthly Prices - R'!D11","v":0},{"$f":"'[2]Monthly Prices - R'!E11","v":0},{"$f":"'[2]Monthly Prices - R'!F11","v":0},{"$f":"'[2]Monthly Prices - R'!G11","v":0},{"$f":"'[2]Monthly Prices - R'!H11","v":0},{"$f":"'[2]Monthly Prices - R'!I11","v":0},{"$f":"'[2]Monthly Prices - R'!J11","v":0},{"$f":"'[2]Monthly Prices - R'!K11","v":0},{"$f":"'[2]Monthly Prices - R'!L11","v":0},{"$f":"'[2]Monthly Prices - R'!M11","v":0},{"$f":"'[2]Monthly Prices - R'!N11","v":0},{"$f":"'[2]Monthly Prices - R'!O11","v":0},null,null,"DK"]
["Danemark","DKK / 100 Kg",{"$f":"'[2]Monthly Prices - R'!C12","v":0},{"$f":"'[2]Monthly Prices - R'!D12","v":0},{"$f":"'[2]Monthly Prices - R'!E12","v":0},{"$f":"'[2]Monthly Prices - R'!F12","v":0},{"$f":"'[2]Monthly Prices - R'!G12","v":0},{"$f":"'[2]Monthly Prices - R'!H12","v":0},{"$f":"'[2]Monthly Prices - R'!I12","v":0},{"$f":"'[2]Monthly Prices - R'!J12","v":0},{"$f":"'[2]Monthly Prices - R'!K12","v":0},{"$f":"'[2]Monthly Prices - R'!L12","v":0},{"$f":"'[2]Monthly Prices - R'!M12","v":0},{"$f":"'[2]Monthly Prices - R'!N12","v":0},{"$f":"'[2]Monthly Prices - R'!O12","v":0},null,null,"DK"]
["Allemagne","EUR / 100 Kg",{"$f":"'[2]Monthly Prices - R'!C13","v":0},{"$f":"'[2]Monthly Prices - R'!D13","v":0},{"$f":"'[2]Monthly Prices - R'!E13","v":0},{"$f":"'[2]Monthly Prices - R'!F13","v":0},{"$f":"'[2]Monthly Prices - R'!G13","v":0},{"$f":"'[2]Monthly Prices - R'!H13","v":0},{"$f":"'[2]Monthly Prices - R'!I13","v":0},{"$f":"'[2]Monthly Prices - R'!J13","v":0},{"$f":"'[2]Monthly Prices - R'!K13","v":0},{"$f":"'[2]Monthly Prices - R'!L13","v":0},{"$f":"'[2]Monthly Prices - R'!M13","v":0},{"$f":"'[2]Monthly Prices - R'!N13","v":0},{"$f":"'[2]Monthly Prices - R'!O13","v":0},null,null,"DE"]
["Estonie","EUR / 100 Kg",{"$f":"'[2]Monthly Prices - R'!C14","v":162.2706451612903},{"$f":"'[2]Monthly Prices - R'!D14","v":139.44714285714286},{"$f":"'[2]Monthly Prices - R'!E14","v":140.5583870967742},{"$f":"'[2]Monthly Prices - R'!F14","v":139.18},{"$f":"'[2]Monthly Prices - R'!G14","v":151.72709677419357},{"$f":"'[2]Monthly Prices - R'!H14","v":157.63033333333337},{"$f":"'[2]Monthly Prices - R'!I14","v":154.08258064516127},{"$f":"'[2]Monthly Prices - R'!J14","v":0},{"$f":"'[2]Monthly Prices - R'!K14","v":0},{"$f":"'[2]Monthly Prices - R'!L14","v":0},{"$f":"'[2]Monthly Prices - R'!M14","v":0},{"$f":"'[2]Monthly Prices - R'!N14","v":0},{"$f":"'[2]Monthly Prices - R'!O14","v":0},null,null,"EE"]
["Greece","EUR / 100 Kg",{"$f":"'[2]Monthly Prices - R'!C15","v":0},{"$f":"'[2]Monthly Prices - R'!D15","v":0},{"$f":"'[2]Monthly Prices - R'!E15","v":0},{"$f":"'[2]Monthly Prices - R'!F15","v":0},{"$f":"'[2]Monthly Prices - R'!G15","v":0},{"$f":"'[2]Monthly Prices - R'!H15","v":0},{"$f":"'[2]Monthly Prices - R'!I15","v":0},{"$f":"'[2]Monthly Prices - R'!J15","v":0},{"$f":"'[2]Monthly Prices - R'!K15","v":0},{"$f":"'[2]Monthly Prices - R'!L15","v":0},{"$f":"'[2]Monthly Prices - R'!M15","v":0},{"$f":"'[2]Monthly Prices - R'!N15","v":0},{"$f":"'[2]Monthly Prices - R'!O15","v":0},null,null,"GR"]
["Espagne","EUR / 100 Kg",{"$f":"'[2]Monthly Prices - R'!C16","v":0},{"$f":"'[2]Monthly Prices - R'!D16","v":0},{"$f":"'[2]Monthly Prices - R'!E16","v":0},{"$f":"'[2]Monthly Prices - R'!F16","v":0},{"$f":"'[2]Monthly Prices - R'!G16","v":0},{"$f":"'[2]Monthly Prices - R'!H16","v":0},{"$f":"'[2]Monthly Prices - R'!I16","v":0},{"$f":"'[2]Monthly Prices - R'!J16","v":0},{"$f":"'[2]Monthly Prices - R'!K16","v":0},{"$f":"'[2]Monthly Prices - R'!L16","v":0},{"$f":"'[2]Monthly Prices - R'!M16","v":0},{"$f":"'[2]Monthly Prices - R'!N16","v":0},{"$f":"'[2]Monthly Prices - R'!O16","v":0},null,null,"ES"]
["France","EUR / 100 Kg",{"$f":"'[2]Monthly Prices - R'!C17","v":0},{"$f":"'[2]Monthly Prices - R'!D17","v":0},{"$f":"'[2]Monthly Prices - R'!E17","v":0},{"$f":"'[2]Monthly Prices - R'!F17","v":0},{"$f":"'[2]Monthly Prices - R'!G17","v":0},{"$f":"'[2]Monthly Prices - R'!H17","v":0},{"$f":"'[2]Monthly Prices - R'!I17","v":0},{"$f":"'[2]Monthly Prices - R'!J17","v":0},{"$f":"'[2]Monthly Prices - R'!K17","v":0},{"$f":"'[2]Monthly Prices - R'!L17","v":0},{"$f":"'[2]Monthly Prices - R'!M17","v":0},{"$f":"'[2]Monthly Prices - R'!N17","v":0},{"$f":"'[2]Monthly Prices - R'!O17","v":0},null,null,"FR"]
["Croatia","EUR / 100kg",{"$f":"'[2]Monthly Prices - R'!C18","v":148.58331053839123},{"$f":"'[2]Monthly Prices - R'!D18","v":0},{"$f":"'[2]Monthly Prices - R'!E18","v":0},{"$f":"'[2]Monthly Prices - R'!F18","v":0},{"$f":"'[2]Monthly Prices - R'!G18","v":0},{"$f":"'[2]Monthly Prices - R'!H18","v":0},{"$f":"'[2]Monthly Prices - R'!I18","v":0},{"$f":"'[2]Monthly Prices - R'!J18","v":0},{"$f":"'[2]Monthly Prices - R'!K18","v":0},{"$f":"'[2]Monthly Prices - R'!L18","v":0},{"$f":"'[2]Monthly Prices - R'!M18","v":0},{"$f":"'[2]Monthly Prices - R'!N18","v":0},{"$f":"'[2]Monthly Prices - R'!O18","v":0},null,null,"HR"]
["Croatia","HRK / 100kg",{"$f":"'[2]Monthly Prices - R'!C19","v":694.67741935483866},{"$f":"'[2]Monthly Prices - R'!D19","v":0},{"$f":"'[2]Monthly Prices - R'!E19","v":0},{"$f":"'[2]Monthly Prices - R'!F19","v":0},{"$f":"'[2]Monthly Prices - R'!G19","v":0},{"$f":"'[2]Monthly Prices - R'!H19","v":0},{"$f":"'[2]Monthly Prices - R'!I19","v":0},{"$f":"'[2]Monthly Prices - R'!J19","v":0},{"$f":"'[2]Monthly Prices - R'!K19","v":0},{"$f":"'[2]Monthly Prices - R'!L19","v":0},{"$f":"'[2]Monthly Prices - R'!M19","v":0},{"$f":"'[2]Monthly Prices - R'!N19","v":0},{"$f":"'[2]Monthly Prices - R'!O19","v":0},null,null,"HR"]
["Irlande","EUR / 100 Kg",{"$f":"'[2]Monthly Prices - R'!C20","v":0},{"$f":"'[2]Monthly Prices - R'!D20","v":0},{"$f":"'[2]Monthly Prices - R'!E20","v":0},{"$f":"'[2]Monthly Prices - R'!F20","v":0},{"$f":"'[2]Monthly Prices - R'!G20","v":0},{"$f":"'[2]Monthly Prices - R'!H20","v":0},{"$f":"'[2]Monthly Prices - R'!I20","v":0},{"$f":"'[2]Monthly Prices - R'!J20","v":0},{"$f":"'[2]Monthly Prices - R'!K20","v":0},{"$f":"'[2]Monthly Prices - R'!L20","v":0},{"$f":"'[2]Monthly Prices - R'!M20","v":0},{"$f":"'[2]Monthly Prices - R'!N20","v":0},{"$f":"'[2]Monthly Prices - R'!O20","v":0},null,null,"IE"]
["Italie","EUR / 100 Kg",{"$f":"'[2]Monthly Prices - R'!C21","v":191.84516129032258},{"$f":"'[2]Monthly Prices - R'!D21","v":182.15607142857144},{"$f":"'[2]Monthly Prices - R'!E21","v":178.76419354838708},{"$f":"'[2]Monthly Prices - R'!F21","v":179.94066666666666},{"$f":"'[2]Monthly Prices - R'!G21","v":180.22870967741935},{"$f":"'[2]Monthly Prices - R'!H21","v":186.50333333333336},{"$f":"'[2]Monthly Prices - R'!I21","v":190.58741935483869},{"$f":"'[2]Monthly Prices - R'!J21","v":0},{"$f":"'[2]Monthly Prices - R'!K21","v":0},{"$f":"'[2]Monthly Prices - R'!L21","v":0},{"$f":"'[2]Monthly Prices - R'!M21","v":0},{"$f":"'[2]Monthly Prices - R'!N21","v":0},{"$f":"'[2]Monthly Prices - R'!O21","v":0},null,null,"IT"]
["Chypre","EUR / 100 Kg",{"$f":"'[2]Monthly Prices - R'!C22","v":191.56},{"$f":"'[2]Monthly Prices - R'!D22","v":0},{"$f":"'[2]Monthly Prices - R'!E22","v":0},{"$f":"'[2]Monthly Prices - R'!F22","v":0},{"$f":"'[2]Monthly Prices - R'!G22","v":0},{"$f":"'[2]Monthly Prices - R'!H22","v":0},{"$f":"'[2]Monthly Prices - R'!I22","v":0},{"$f":"'[2]Monthly Prices - R'!J22","v":0},{"$f":"'[2]Monthly Prices - R'!K22","v":0},{"$f":"'[2]Monthly Prices - R'!L22","v":0},{"$f":"'[2]Monthly Prices - R'!M22","v":0},{"$f":"'[2]Monthly Prices - R'!N22","v":0},{"$f":"'[2]Monthly Prices - R'!O22","v":0},null,null,"CY"]
["Lettonie","EUR / 100 Kg",{"$f":"'[2]Monthly Prices - R'!C23","v":159.47499999999999},{"$f":"'[2]Monthly Prices - R'!D23","v":150.81230769230768},{"$f":"'[2]Monthly Prices - R'!E23","v":138.78387096774193},{"$f":"'[2]Monthly Prices - R'!F23","v":141.64603066666669},{"$f":"'[2]Monthly Prices - R'!G23","v":135.66},{"$f":"'[2]Monthly Prices - R'!H23","v":151.10299999999998},{"$f":"'[2]Monthly Prices - R'!I23","v":143.79935483870966},{"$f":"'[2]Monthly Prices - R'!J23","v":0},{"$f":"'[2]Monthly Prices - R'!K23","v":0},{"$f":"'[2]Monthly Prices - R'!L23","v":0},{"$f":"'[2]Monthly Prices - R'!M23","v":0},{"$f":"'[2]Monthly Prices - R'!N23","v":0},{"$f":"'[2]Monthly Prices - R'!O23","v":0},null,null,"LV"]
["Lituanie","EUR / 100 Kg",{"$f":"'[2]Monthly Prices - R'!C24","v":159.72747448106074},{"$f":"'[2]Monthly Prices - R'!D24","v":150.61968340394546},{"$f":"'[2]Monthly Prices - R'!E24","v":142.91804314030315},{"$f":"'[2]Monthly Prices - R'!F24","v":147.49652455977758},{"$f":"'[2]Monthly Prices - R'!G24","v":151.01787422643426},{"$f":"'[2]Monthly Prices - R'!H24","v":156.39442384924314},{"$f":"'[2]Monthly Prices - R'!I24","v":158.46464827050139},{"$f":"'[2]Monthly Prices - R'!J24","v":0},{"$f":"'[2]Monthly Prices - R'!K24","v":0},{"$f":"'[2]Monthly Prices - R'!L24","v":0},{"$f":"'[2]Monthly Prices - R'!M24","v":0},{"$f":"'[2]Monthly Prices - R'!N24","v":0},{"$f":"'[2]Monthly Prices - R'!O24","v":0},null,null,"LT"]
["Lituanie","LTL / 100 Kg",{"$f":"'[2]Monthly Prices - R'!C25","v":551.50645161290311},{"$f":"'[2]Monthly Prices - R'!D25","v":520.05964285714288},{"$f":"'[2]Monthly Prices - R'!E25","v":493.46741935483874},{"$f":"'[2]Monthly Prices - R'!F25","v":509.27600000000007},{"$f":"'[2]Monthly Prices - R'!G25","v":521.4345161290322},{"$f":"'[2]Monthly Prices - R'!H25","v":524.69433333333336},{"$f":"'[2]Monthly Prices - R'!I25","v":0},{"$f":"'[2]Monthly Prices - R'!J25","v":0},{"$f":"'[2]Monthly Prices - R'!K25","v":0},{"$f":"'[2]Monthly Prices - R'!L25","v":0},{"$f":"'[2]Monthly Prices - R'!M25","v":0},{"$f":"'[2]Monthly Prices - R'!N25","v":0},{"$f":"'[2]Monthly Prices - R'!O25","v":0},null,null,"LT"]
["Luxembourg","EUR / 100 Kg",{"$f":"'[2]Monthly Prices - R'!C26","v":101.96451612903225},{"$f":"'[2]Monthly Prices - R'!D26","v":128.15321428571428},{"$f":"'[2]Monthly Prices - R'!E26","v":121.56774193548387},{"$f":"'[2]Monthly Prices - R'!F26","v":126.87333333333332},{"$f":"'[2]Monthly Prices - R'!G26","v":130.86774193548388},{"$f":"'[2]Monthly Prices - R'!H26","v":141.54666666666668},{"$f":"'[2]Monthly Prices - R'!I26","v":138.49677419354836},{"$f":"'[2]Monthly Prices - R'!J26","v":0},{"$f":"'[2]Monthly Prices - R'!K26","v":0},{"$f":"'[2]Monthly Prices - R'!L26","v":0},{"$f":"'[2]Monthly Prices - R'!M26","v":0},{"$f":"'[2]Monthly Prices - R'!N26","v":0},{"$f":"'[2]Monthly Prices - R'!O26","v":0},null,null,"LU"]
["Hongrie","EUR / 100 Kg",{"$f":"'[2]Monthly Prices - R'!C27","v":148.32308672615699},{"$f":"'[2]Monthly Prices - R'!D27","v":0},{"$f":"'[2]Monthly Prices - R'!E27","v":0},{"$f":"'[2]Monthly Prices - R'!F27","v":0},{"$f":"'[2]Monthly Prices - R'!G27","v":0},{"$f":"'[2]Monthly Prices - R'!H27","v":0},{"$f":"'[2]Monthly Prices - R'!I27","v":0},{"$f":"'[2]Monthly Prices - R'!J27","v":0},{"$f":"'[2]Monthly Prices - R'!K27","v":0},{"$f":"'[2]Monthly Prices - R'!L27","v":0},{"$f":"'[2]Monthly Prices - R'!M27","v":0},{"$f":"'[2]Monthly Prices - R'!N27","v":0},{"$f":"'[2]Monthly Prices - R'!O27","v":0},null,null,"HU"]
["Hongrie","HUF / 100 Kg",{"$f":"'[2]Monthly Prices - R'!C28","v":37362.002580645167},{"$f":"'[2]Monthly Prices - R'!D28","v":0},{"$f":"'[2]Monthly Prices - R'!E28","v":0},{"$f":"'[2]Monthly Prices - R'!F28","v":0},{"$f":"'[2]Monthly Prices - R'!G28","v":0},{"$f":"'[2]Monthly Prices - R'!H28","v":0},{"$f":"'[2]Monthly Prices - R'!I28","v":0},{"$f":"'[2]Monthly Prices - R'!J28","v":0},{"$f":"'[2]Monthly Prices - R'!K28","v":0},{"$f":"'[2]Monthly Prices - R'!L28","v":0},{"$f":"'[2]Monthly Prices - R'!M28","v":0},{"$f":"'[2]Monthly Prices - R'!N28","v":0},{"$f":"'[2]Monthly Prices - R'!O28","v":0},null,null,"HU"]
["Malte","EUR / 100 Kg",{"$f":"'[2]Monthly Prices - R'!C29","v":233},{"$f":"'[2]Monthly Prices - R'!D29","v":233},{"$f":"'[2]Monthly Prices - R'!E29","v":233},{"$f":"'[2]Monthly Prices - R'!F29","v":233},{"$f":"'[2]Monthly Prices - R'!G29","v":233},{"$f":"'[2]Monthly Prices - R'!H29","v":233},{"$f":"'[2]Monthly Prices - R'!I29","v":233},{"$f":"'[2]Monthly Prices - R'!J29","v":0},{"$f":"'[2]Monthly Prices - R'!K29","v":0},{"$f":"'[2]Monthly Prices - R'!L29","v":0},{"$f":"'[2]Monthly Prices - R'!M29","v":0},{"$f":"'[2]Monthly Prices - R'!N29","v":0},{"$f":"'[2]Monthly Prices - R'!O29","v":0},null,null,"MT"]
["Pays-Bas","EUR / 100 Kg",{"$f":"'[2]Monthly Prices - R'!C30","v":0},{"$f":"'[2]Monthly Prices - R'!D30","v":0},{"$f":"'[2]Monthly Prices - R'!E30","v":0},{"$f":"'[2]Monthly Prices - R'!F30","v":0},{"$f":"'[2]Monthly Prices - R'!G30","v":0},{"$f":"'[2]Monthly Prices - R'!H30","v":0},{"$f":"'[2]Monthly Prices - R'!I30","v":0},{"$f":"'[2]Monthly Prices - R'!J30","v":0},{"$f":"'[2]Monthly Prices - R'!K30","v":0},{"$f":"'[2]Monthly Prices - R'!L30","v":0},{"$f":"'[2]Monthly Prices - R'!M30","v":0},{"$f":"'[2]Monthly Prices - R'!N30","v":0},{"$f":"'[2]Monthly Prices - R'!O30","v":0},null,null,"NL"]
["Autriche","EUR / 100 Kg",{"$f":"'[2]Monthly Prices - R'!C31","v":0},{"$f":"'[2]Monthly Prices - R'!D31","v":0},{"$f":"'[2]Monthly Prices - R'!E31","v":0},{"$f":"'[2]Monthly Prices - R'!F31","v":0},{"$f":"'[2]Monthly Prices - R'!G31","v":0},{"$f":"'[2]Monthly Prices - R'!H31","v":0},{"$f":"'[2]Monthly Prices - R'!I31","v":0},{"$f":"'[2]Monthly Prices - R'!J31","v":0},{"$f":"'[2]Monthly Prices - R'!K31","v":0},{"$f":"'[2]Monthly Prices - R'!L31","v":0},{"$f":"'[2]Monthly Prices - R'!M31","v":0},{"$f":"'[2]Monthly Prices - R'!N31","v":0},{"$f":"'[2]Monthly Prices - R'!O31","v":0},null,null,"AT"]
["Pologne","EUR / 100 Kg",{"$f":"'[2]Monthly Prices - R'!C32","v":0},{"$f":"'[2]Monthly Prices - R'!D32","v":0},{"$f":"'[2]Monthly Prices - R'!E32","v":0},{"$f":"'[2]Monthly Prices - R'!F32","v":0},{"$f":"'[2]Monthly Prices - R'!G32","v":0},{"$f":"'[2]Monthly Prices - R'!H32","v":0},{"$f":"'[2]Monthly Prices - R'!I32","v":0},{"$f":"'[2]Monthly Prices - R'!J32","v":0},{"$f":"'[2]Monthly Prices - R'!K32","v":0},{"$f":"'[2]Monthly Prices - R'!L32","v":0},{"$f":"'[2]Monthly Prices - R'!M32","v":0},{"$f":"'[2]Monthly Prices - R'!N32","v":0},{"$f":"'[2]Monthly Prices - R'!O32","v":0},null,null,"PL"]
["Pologne","PLN / 100 Kg",{"$f":"'[2]Monthly Prices - R'!C33","v":0},{"$f":"'[2]Monthly Prices - R'!D33","v":0},{"$f":"'[2]Monthly Prices - R'!E33","v":0},{"$f":"'[2]Monthly Prices - R'!F33","v":0},{"$f":"'[2]Monthly Prices - R'!G33","v":0},{"$f":"'[2]Monthly Prices - R'!H33","v":0},{"$f":"'[2]Monthly Prices - R'!I33","v":0},{"$f":"'[2]Monthly Prices - R'!J33","v":0},{"$f":"'[2]Monthly Prices - R'!K33","v":0},{"$f":"'[2]Monthly Prices - R'!L33","v":0},{"$f":"'[2]Monthly Prices - R'!M33","v":0},{"$f":"'[2]Monthly Prices - R'!N33","v":0},{"$f":"'[2]Monthly Prices - R'!O33","v":0},null,null,"PL"]
["Portugal","EUR / 100 Kg",{"$f":"'[2]Monthly Prices - R'!C34","v":0},{"$f":"'[2]Monthly Prices - R'!D34","v":0},{"$f":"'[2]Monthly Prices - R'!E34","v":0},{"$f":"'[2]Monthly Prices - R'!F34","v":0},{"$f":"'[2]Monthly Prices - R'!G34","v":0},{"$f":"'[2]Monthly Prices - R'!H34","v":0},{"$f":"'[2]Monthly Prices - R'!I34","v":0},{"$f":"'[2]Monthly Prices - R'!J34","v":0},{"$f":"'[2]Monthly Prices - R'!K34","v":0},{"$f":"'[2]Monthly Prices - R'!L34","v":0},{"$f":"'[2]Monthly Prices - R'!M34","v":0},{"$f":"'[2]Monthly Prices - R'!N34","v":0},{"$f":"'[2]Monthly Prices - R'!O34","v":0},null,null,"PT"]
["Romania","EUR / 100 Kg",{"$f":"'[2]Monthly Prices - R'!C35","v":0},{"$f":"'[2]Monthly Prices - R'!D35","v":0},{"$f":"'[2]Monthly Prices - R'!E35","v":0},{"$f":"'[2]Monthly Prices - R'!F35","v":0},{"$f":"'[2]Monthly Prices - R'!G35","v":0},{"$f":"'[2]Monthly Prices - R'!H35","v":0},{"$f":"'[2]Monthly Prices - R'!I35","v":0},{"$f":"'[2]Monthly Prices - R'!J35","v":0},{"$f":"'[2]Monthly Prices - R'!K35","v":0},{"$f":"'[2]Monthly Prices - R'!L35","v":0},{"$f":"'[2]Monthly Prices - R'!M35","v":0},{"$f":"'[2]Monthly Prices - R'!N35","v":0},{"$f":"'[2]Monthly Prices - R'!O35","v":0},null,null,"RO"]
["Romania","RON / 100 Kg",{"$f":"'[2]Monthly Prices - R'!C36","v":0},{"$f":"'[2]Monthly Prices - R'!D36","v":0},{"$f":"'[2]Monthly Prices - R'!E36","v":0},{"$f":"'[2]Monthly Prices - R'!F36","v":0},{"$f":"'[2]Monthly Prices - R'!G36","v":0},{"$f":"'[2]Monthly Prices - R'!H36","v":0},{"$f":"'[2]Monthly Prices - R'!I36","v":0},{"$f":"'[2]Monthly Prices - R'!J36","v":0},{"$f":"'[2]Monthly Prices - R'!K36","v":0},{"$f":"'[2]Monthly Prices - R'!L36","v":0},{"$f":"'[2]Monthly Prices - R'!M36","v":0},{"$f":"'[2]Monthly Prices - R'!N36","v":0},{"$f":"'[2]Monthly Prices - R'!O36","v":0},null,null,"RO"]
["Slovenie","EUR / 100 Kg",{"$f":"'[2]Monthly Prices - R'!C37","v":0},{"$f":"'[2]Monthly Prices - R'!D37","v":0},{"$f":"'[2]Monthly Prices - R'!E37","v":0},{"$f":"'[2]Monthly Prices - R'!F37","v":0},{"$f":"'[2]Monthly Prices - R'!G37","v":0},{"$f":"'[2]Monthly Prices - R'!H37","v":0},{"$f":"'[2]Monthly Prices - R'!I37","v":0},{"$f":"'[2]Monthly Prices - R'!J37","v":0},{"$f":"'[2]Monthly Prices - R'!K37","v":0},{"$f":"'[2]Monthly Prices - R'!L37","v":0},{"$f":"'[2]Monthly Prices - R'!M37","v":0},{"$f":"'[2]Monthly Prices - R'!N37","v":0},{"$f":"'[2]Monthly Prices - R'!O37","v":0},null,null,"SI"]
["Slovakie","EUR / 100 Kg",{"$f":"'[2]Monthly Prices - R'!C38","v":149.62290322580643},{"$f":"'[2]Monthly Prices - R'!D38","v":167.09071428571431},{"$f":"'[2]Monthly Prices - R'!E38","v":160.95870967741934},{"$f":"'[2]Monthly Prices - R'!F38","v":151.4613333333333},{"$f":"'[2]Monthly Prices - R'!G38","v":156.02967741935484},{"$f":"'[2]Monthly Prices - R'!H38","v":152.51233333333332},{"$f":"'[2]Monthly Prices - R'!I38","v":155.75258064516129},{"$f":"'[2]Monthly Prices - R'!J38","v":0},{"$f":"'[2]Monthly Prices - R'!K38","v":0},{"$f":"'[2]Monthly Prices - R'!L38","v":0},{"$f":"'[2]Monthly Prices - R'!M38","v":0},{"$f":"'[2]Monthly Prices - R'!N38","v":0},{"$f":"'[2]Monthly Prices - R'!O38","v":0},null,null,"SK"]
["Finlande","EUR / 100 Kg",{"$f":"'[2]Monthly Prices - R'!C39","v":106.84806451612903},{"$f":"'[2]Monthly Prices - R'!D39","v":117.73178571428572},{"$f":"'[2]Monthly Prices - R'!E39","v":122.97838709677418},{"$f":"'[2]Monthly Prices - R'!F39","v":115.04266666666668},{"$f":"'[2]Monthly Prices - R'!G39","v":117.01967741935485},{"$f":"'[2]Monthly Prices - R'!H39","v":111.47199999999999},{"$f":"'[2]Monthly Prices - R'!I39","v":119.48225806451612},{"$f":"'[2]Monthly Prices - R'!J39","v":0},{"$f":"'[2]Monthly Prices - R'!K39","v":0},{"$f":"'[2]Monthly Prices - R'!L39","v":0},{"$f":"'[2]Monthly Prices - R'!M39","v":0},{"$f":"'[2]Monthly Prices - R'!N39","v":0},{"$f":"'[2]Monthly Prices - R'!O39","v":0},null,null,"FI"]
["Suède","EUR / 100 Kg",{"$f":"'[2]Monthly Prices - R'!C40","v":0},{"$f":"'[2]Monthly Prices - R'!D40","v":0},{"$f":"'[2]Monthly Prices - R'!E40","v":0},{"$f":"'[2]Monthly Prices - R'!F40","v":0},{"$f":"'[2]Monthly Prices - R'!G40","v":0},{"$f":"'[2]Monthly Prices - R'!H40","v":0},{"$f":"'[2]Monthly Prices - R'!I40","v":0},{"$f":"'[2]Monthly Prices - R'!J40","v":0},{"$f":"'[2]Monthly Prices - R'!K40","v":0},{"$f":"'[2]Monthly Prices - R'!L40","v":0},{"$f":"'[2]Monthly Prices - R'!M40","v":0},{"$f":"'[2]Monthly Prices - R'!N40","v":0},{"$f":"'[2]Monthly Prices - R'!O40","v":0},null,null,"SE"]
["Suède","SEK / 100 Kg",{"$f":"'[2]Monthly Prices - R'!C41","v":0},{"$f":"'[2]Monthly Prices - R'!D41","v":0},{"$f":"'[2]Monthly Prices - R'!E41","v":0},{"$f":"'[2]Monthly Prices - R'!F41","v":0},{"$f":"'[2]Monthly Prices - R'!G41","v":0},{"$f":"'[2]Monthly Prices - R'!H41","v":0},{"$f":"'[2]Monthly Prices - R'!I41","v":0},{"$f":"'[2]Monthly Prices - R'!J41","v":0},{"$f":"'[2]Monthly Prices - R'!K41","v":0},{"$f":"'[2]Monthly Prices - R'!L41","v":0},{"$f":"'[2]Monthly Prices - R'!M41","v":0},{"$f":"'[2]Monthly Prices - R'!N41","v":0},{"$f":"'[2]Monthly Prices - R'!O41","v":0},null,null,"SE"]
["U.K.","EUR / 100 Kg",{"$f":"'[2]Monthly Prices - R'!C42","v":173.95194053163874},{"$f":"'[2]Monthly Prices - R'!D42","v":161.5147601028105},{"$f":"'[2]Monthly Prices - R'!E42","v":152.14554192657755},{"$f":"'[2]Monthly Prices - R'!F42","v":160.05003774538949},{"$f":"'[2]Monthly Prices - R'!G42","v":163.3023713545002},{"$f":"'[2]Monthly Prices - R'!H42","v":160.35408878017782},{"$f":"'[2]Monthly Prices - R'!I42","v":162.2790166146842},{"$f":"'[2]Monthly Prices - R'!J42","v":0},{"$f":"'[2]Monthly Prices - R'!K42","v":0},{"$f":"'[2]Monthly Prices - R'!L42","v":0},{"$f":"'[2]Monthly Prices - R'!M42","v":0},{"$f":"'[2]Monthly Prices - R'!N42","v":0},{"$f":"'[2]Monthly Prices - R'!O42","v":0},null,null,"UK"]
["U.K.","GBP / 100 Kg",{"$f":"'[2]Monthly Prices - R'!C43","v":144},{"$f":"'[2]Monthly Prices - R'!D43","v":133.39961538461537},{"$f":"'[2]Monthly Prices - R'!E43","v":126.49483870967742},{"$f":"'[2]Monthly Prices - R'!F43","v":132.10733333333332},{"$f":"'[2]Monthly Prices - R'!G43","v":133.2390322580645},{"$f":"'[2]Monthly Prices - R'!H43","v":128.92766666666665},{"$f":"'[2]Monthly Prices - R'!I43","v":128.76387096774195},{"$f":"'[2]Monthly Prices - R'!J43","v":0},{"$f":"'[2]Monthly Prices - R'!K43","v":0},{"$f":"'[2]Monthly Prices - R'!L43","v":0},{"$f":"'[2]Monthly Prices - R'!M43","v":0},{"$f":"'[2]Monthly Prices - R'!N43","v":0},{"$f":"'[2]Monthly Prices - R'!O43","v":0},null,null,"UK"]
[]
["EU","EUR / 100 Kg",{"$f":"'[2]Monthly Prices - R'!C45","v":192.10601996063193},{"$f":"'[2]Monthly Prices - R'!D45","v":182.35465815653819},{"$f":"'[2]Monthly Prices - R'!E45","v":178.57411137138146},{"$f":"'[2]Monthly Prices - R'!F45","v":179.73918552842025},{"$f":"'[2]Monthly Prices - R'!G45","v":180.03559643383639},{"$f":"'[2]Monthly Prices - R'!H45","v":186.28315512468561},{"$f":"'[2]Monthly Prices - R'!I45","v":190.30872995324486},{"$f":"'[2]Monthly Prices - R'!J45","v":0},{"$f":"'[2]Monthly Prices - R'!K45","v":0},{"$f":"'[2]Monthly Prices - R'!L45","v":0},{"$f":"'[2]Monthly Prices - R'!M45","v":0},{"$f":"'[2]Monthly Prices - R'!N45","v":0},{"$f":"'[2]Monthly Prices - R'!O45","v":0},null,null,"EU_28"]

{"sheet":"Annual pig price","index":13,"n_rows":45,"n_cols":22,"rows_kept":45,"cut":false,"hidden":false,"merged":[[0,0,0,20]]}
["Annual Market Prices for Pig Carcass Grade E in the E.U."]
[]
[null,null,"1995","1996","1997","1998","1999","2000","2001","2002","2003","2004","2005","2006","2007",2008,2009,2010,2011,2012,2013,"13 / 12"]
[]
["BE","EUR ",142.24590833333301,172.859733333333,170.94505833333301,118.36347499999999,101.85804166666699,138.17882499999999,165.35896666666699,132.63184999999999,121.04419166666699,135.05584999999999,136.145258333333,141.05655000000002,129.166416666667,145.333675,133.23542499999999,130.25364166666665,141.29193333333333,160.51012499999999,158.44052500000001,{"$f":"(+U5/T5)-1","v":-1.2893890650200301E-2}]
["BG","EUR ",null,null,null,null,null,null,null,null,null,null,null,null,171.29306666666699,176.824733333333,174.51870833333334,163.52574999999999,168.71776666666668,186.09641666666667,202.47799166666667,{"$f":"(+U6/T6)-1","v":8.8027353204454428E-2}]
["CZ","EUR ",null,null,null,null,null,null,null,null,null,145.81446249999999,144.03037499999999,147.53948333333301,138.56256666666698,163.184908333333,149.95845,142.08476666666667,156.222925,177.38331666666667,173.18677500000001,-2.3658040370012179E-2]
["DK","EUR ",129.345233333333,150.36320833333301,153.247075,108.92955000000001,104.086983333333,132.12905833333301,157.17773333333301,125.969716666667,109.319408333333,120.686916666667,122.0772,128.25274166666699,117.699616666667,130.508141666667,122.870625,126.30896666666666,138.915325,157.39080833333333,159.51092499999999,1.3470396963566778E-2]
["DE","EUR ",143.22014999999999,173.50534999999999,175.90961666666701,121.55130000000001,114.46625,143.79499999999999,170.53988333333302,138.20140000000001,128.506775,145.4804,147.09007500000001,153.99166666666699,139.08119166666702,160.66464166666699,146.02562499999999,144.36543333333333,155.726225,173.84329166666666,173.97309166666668,7.4664946087699136E-4]
["EE","EUR ",null,null,null,null,null,null,null,null,null,143.83282500000001,137.978275,139.79746666666699,141.38057499999999,156.0926,149.80395833333333,142.53116666666668,156.30416666666667,169.86779166666668,173.66485833333334,2.2353070169521594E-2]
["IE","EUR ",130.982316666667,152.246691666667,146.10829166666701,113.67534166666699,103.731275,129.433291666667,146.27374166666701,128.29278333333301,123.093191666667,133.131008333333,130.86793333333301,140.10615833333298,132.57390000000001,144.31296666666699,131.59645,130.63437500000001,142.78958333333333,158.10361666666665,166.14766666666668,5.0878342757708639E-2]
["GR","EUR ",157.23307499999999,182.890975,182.539866666667,140.27282500000001,148.85746666666699,167.96905833333298,221.02563333333299,157.22705833333299,147.40520833333301,159.192825,178.48598333333302,188.46823333333299,161.751816666667,184.45869166666702,172.98246666666665,160.87108333333333,172.54355833333332,190.68975,198.92965000000001,4.3211027336288454E-2]
["ES","EUR ",142.32363333333299,161.520158333333,167.36397499999998,121.865891666667,112.00330000000001,142.36010833333302,174.71577500000001,136.79318333333302,129.14213333333299,139.04784999999998,143.46554166666701,154.16330833333302,139.13527500000001,151.46075833333299,145.17060000000001,145.70089999999999,159.75133333333332,173.73076666666665,193.28234166666667,0.11253950797047474]
["FR","EUR ",138.09572500000002,161.13313333333301,160.277616666667,119.670733333333,114.174816666667,139.498741666667,164.50503333333299,129.38515000000001,122.554183333333,131.29634166666699,135.022525,141.57204999999999,127.74657500000001,142.09895,131.06486666666666,129.91291666666666,146.57216666666667,161.11315833333333,163.557725,1.5172979612310789E-2]
["HR","EUR ",null,null,null,null,null,null,null,null,null,null,null,null,null,null,null,null,null,null,178.12809999999999]
["IT","EUR ",145.01605000000001,160.77235833333299,165.71122500000001,140.67802499999999,132.076991666667,156.984608333333,191.255216666667,159.060791666667,157.571441666667,155.055733333333,142.23875833333298,157.97444999999999,144.15564166666701,165.833575,151.93010000000001,150.22636666666668,172.69064166666666,186.62635,189.04221666666666,1.2944938732749378E-2]
["CY","EUR ",null,null,null,null,null,null,null,null,null,134.248975,141.648008333333,164.89162499999998,149.6885,154.36066666666699,153.02203333333333,161.92983333333333,169.7732,197.66539166666666,201.85651666666666,2.1203130020189365E-2]
["LV","EUR ",null,null,null,null,null,null,null,null,null,144.9845,146.08556666666698,153.84131666666701,148.97085833333298,170.837858333333,155.29195000000001,143.362875,161.80224999999999,181.59620833333332,183.98780833333333,1.3169878501042565E-2]
["LT","EUR ",null,null,null,null,null,null,null,null,null,155.15710000000001,144.94074166666701,143.53039166666701,140.70783333333301,169.7483,156.779775,145.37042500000001,153.98074166666666,174.72696666666667,177.5067,1.5909011564519071E-2]
["LU","EUR ",155.422008333333,185.74314166666699,203.82998333333302,147.974758333333,140.73646666666698,161.29372499999999,180.27978333333303,140.24565833333298,130.65483333333299,145.97143333333301,147.927975,154.79240833333301,139.99025,161.29920000000001,147.31978333333333,146.20859166666668,156.73694166666667,174.63442499999999,170.98605833333335,-2.0891451766549718E-2]
["HU","EUR ",null,null,null,null,null,null,null,null,null,142.85703749999999,143.81063333333299,144.978258333333,136.643933333333,160.423441666667,149.45683333333332,141.21233333333333,154.06823333333332,173.52213333333333,174.22268333333332,4.0372371324772782E-3]
["MT","EUR ",null,null,null,null,null,null,null,null,null,161.18606249999999,160.484508333333,160.7268,152.45704166666698,161.71724166666701,182,182,181.36155833333333,198.42252500000001,237,0.19442084511322477]
["NL","EUR ",123.938666666667,152.509158333333,153.96254999999999,100.41200833333301,93.628174999999999,127.13395833333301,141.49493333333299,119.375391666667,115.165775,131.41413333333301,130.57104166666699,137.220125,123.63605,142.93690833333301,130.39590833333332,128.79150000000001,140.77734166666667,157.06501666666668,157.12572499999999,3.8651721829396912E-4]
["AT","EUR ",143.22561666666701,176.44143333333301,170.88376666666699,122.82910000000001,115.4499,143.011908333333,172.00437500000001,137.383266666667,127.23485833333301,143.06370833333301,145.15118333333302,151.2448,137.82271666666699,155.12528333333302,138.38519166666666,137.78986666666665,151.21410833333334,170.57287500000001,172.18036666666666,9.4240755845069746E-3]
["PL","EUR ",null,null,null,null,null,null,null,null,null,143.97252499999999,133.14525,129.000458333333,128.36879999999999,158.31842499999999,143.68832499999999,134.90825000000001,151.46074166666668,174.62115833333334,173.83294166666667,-4.5138669001498766E-3]
["PT","EUR ",148.65992499999999,172.58994999999999,169.574733333333,129.01015000000001,120.203666666667,149.51113333333299,184.374091666667,143.14410000000001,133.49675833333299,141.63307499999999,147.558766666667,160.66034999999999,147.33368333333303,156.719558333333,151.96039166666668,153.207075,161.31506666666667,174.91201666666666,181.32803333333334,3.6681394388664579E-2]
["RO","EUR ",null,null,null,null,null,null,null,null,null,null,null,null,151.093966666667,173.05430000000001,158.12879166666667,153.41001666666668,158.64179166666668,176.79299166666667,185.41800833333335,4.8785964790553749E-2]
["SI","EUR ",null,null,null,null,null,null,null,null,null,142.8700375,148.666008333333,147.85716666666698,136.552525,150.16354166666699,137.78199166666667,136.85164166666667,151.02505833333333,168.379625,169.62118333333333,7.3735663286655928E-3]
["SK","EUR ",null,null,null,null,null,null,null,null,null,142.1904625,143.783941666667,147.46787499999999,139.18518333333301,167.92734999999999,153.35602499999999,145.76858333333334,158.77485833333333,178.73051666666666,178.97804166666666,1.3849061963024933E-3]
["FI","EUR ",139.33443333333301,141.52861666666701,144.62615,131.28798333333302,118.925366666667,134.72674166666698,157.61574166666699,145.52859166666701,122.77290833333301,127.734483333333,137.91556666666699,133.071091666667,138.286466666667,150.20281666666699,144.74165833333333,141.67058333333333,149.85679166666668,166.09292500000001,178.07147499999999,7.2119568006885126E-2]
["SE","EUR ",125.482066666667,144.709225,153.47514166666699,130.78740000000002,122.536233333333,146.602566666667,152.80090833333301,137.72126666666699,123.161983333333,129.581625,133.208783333333,139.38584166666701,144.03490833333299,152.046425,137.84261666666666,145.75921666666667,148.40431666666666,169.70668333333333,189.38084166666667,0.11593036848578242]
["UK","EUR ",139.40480833333299,165.506233333333,154.50595833333298,120.118658333333,121.87113333333301,157.49844999999999,159.46833333333299,150.40594166666699,149.61659166666701,151.23112499999999,147.27600833333301,149.52635833333301,152.947258333333,154.13830833333301,159.42105833333332,160.42374166666667,161.95929166666667,180.62523333333334,189.83293333333333,5.0976819960740105E-2]
[]
["EU","EUR ",138.42847499999999,162.59458333333302,164.0138,119.43026666666699,112.24850833333301,141.441466666667,166.51127500000001,135.51296666666698,127.25647499999999,138.35544999999999,139.04094166666698,145.22661666666701,135.17066666666699,153.238541666667,142.21501666666666,140.23595833333334,153.18684166666668,170.51689166666668,175.47700833333334,2.9088711494711594E-2]
["change in €uro",null,null,null,null,null,null,null,null,null,null,null,null,null,{"$f":"+O34-N34","v":-10.055950000000024},{"$f":"+P34-O34","v":18.067875000000015},{"$f":"+Q34-P34","v":-11.023525000000348},{"$f":"+R34-Q34","v":-1.9790583333333132},{"$f":"+S34-R34","v":12.950883333333337},17.33005,4.9601166666666643]
[]
[null,null,"1995","1996","1997","1998","1999","2000","2001","2002","2003","2004","2005","2006","2007",2008,2009,2010,2011,2012,2013]
[null,"min",{"$f":"MIN(C5:C32)","v":123.938666666667},141.52861666666701,144.62615,100.41200833333301,93.628174999999999,127.13395833333301,141.49493333333299,119.375391666667,109.319408333333,120.686916666667,122.0772,128.25274166666699,117.699616666667,130.508141666667,122.870625,126.30896666666666,138.915325,157.06501666666668,157.12572499999999]
[null,"max",{"$f":"MAX(C5:C32)","v":157.23307499999999},185.74314166666699,203.82998333333302,147.974758333333,148.85746666666699,167.96905833333298,221.02563333333299,159.060791666667,157.571441666667,161.18606249999999,178.48598333333302,188.46823333333299,171.29306666666699,184.45869166666702,182,182,181.36155833333333,198.42252500000001,237]
[null,"difference",{"$f":"+C39-C38","v":33.294408333332981},{"$f":"+D39-D38","v":44.214524999999981},59.203833333333023,47.562749999999994,55.229291666666995,40.835099999999969,79.530699999999996,39.685400000000001,48.252033333333998,40.499145833332989,56.40878333333302,60.215491666665997,53.59344999999999,53.950550000000021,59.129374999999996,55.691033333333337,42.446233333333339,41.357508333333328,79.874275000000011]
[]
[]
[null,"eu avg - min",{"$f":"+C34-C38","v":14.489808333332988},{"$f":"+D34-D38","v":21.065966666666014},19.387650000000008,19.018258333333989,18.620333333333008,14.307508333333985,25.016341666667017,16.137574999999984,17.937066666666993,17.668533333332988,16.963741666666976,16.973875000000021,17.471049999999991,22.730400000000003,{"$f":"+Q34-Q38","v":19.344391666666652},{"$f":"+R34-R38","v":13.92699166666668},{"$f":"+S34-S38","v":14.271516666666685},{"$f":"+T34-T38","v":13.451875000000001},{"$f":"+U34-U38","v":18.351283333333356}]
[null,"eu max - eu avg",{"$f":"+C39-C34","v":18.804599999999994},{"$f":"+D39-D34","v":23.148558333333966},39.816183333333015,28.544491666666005,36.608958333333987,26.527591666665984,54.514358333332979,23.547825000000017,30.314966666667004,22.830612500000001,39.445041666666043,43.241616666665976,36.122399999999999,31.220150000000018,{"$f":"+Q39-Q34","v":39.784983333333344},{"$f":"+R39-R34","v":41.764041666666657},{"$f":"+S39-S34","v":28.174716666666654},{"$f":"+T39-T34","v":27.905633333333327},{"$f":"+U39-U34","v":61.522991666666655}]
[null,"difference",{"$f":"+C44-C43","v":4.3147916666670056},{"$f":"+D44-D43","v":2.0825916666679518},20.428533333333007,9.5262333333320157,17.98862500000098,12.220083333331999,29.498016666665961,7.4102500000000333,12.377900000000011,5.1620791666670129,22.481299999999067,26.267741666665955,18.651350000000008,8.489750000000015,20.440591666666691,27.837049999999977,13.90319999999997,14.453758333333326,43.171708333333299]

{"sheet":"Annual piglet price","index":14,"n_rows":37,"n_cols":22,"rows_kept":37,"cut":false,"hidden":false,"merged":[[0,0,0,20]]}
["Annual Market Prices for Piglets in the E.U."]
[]
["MN","100 kg","1995","1996","1997","1998","1999","2000","2001","2002","2003","2004","2005","2006","2007",2008,2009,2010,2011,2012,2013,"13/ 12"]
[]
["BE","EUR",36.631008333333305,46.013125000000002,49.063708333333302,25.681266666666698,18.862591666666699,34.063108333333304,41.3849916666667,28.783549999999998,24.044924999999999,27.8271333333333,31.9224416666667,45.792916666666699,35.840516666666701,41.669041666666701,43.589374999999997,38.440291666666667,38.701233333333334,44.955616666666664,46.133375000000001,{"$f":"(+U5/T5)-1","v":2.6198246641039091E-2}]
["CZ","EUR",null,null,null,null,null,null,null,null,null,40.904000000000003,41.654433333333301,43.021166666666701,37.244149999999998,50.924683333333299,55.964133333333336,54.564791666666665,48.375633333333333,62.782391666666669,59.572249999999997,{"$f":"(+U6/T6)-1","v":-5.1131242079951678E-2}]
["DK","EUR",40.532683333333303,49.046924999999995,52.549374999999998,36.4400166666667,34.535316666666702,46.4936333333333,56.518583333333304,43.395158333333299,35.420999999999999,39.589649999999999,39.854941666666697,42.610466666666696,37.4174583333333,37.220983333333301,37.982025,38.498558333333335,40.615291666666664,45.286358333333332,45.288674999999998,5.1155949648551413E-5]
["DE","EUR",47.504574999999996,55.2980916666667,59.521133333333303,36.618983333333304,31.008133333333298,44.8612416666667,56.513283333333298,45.264249999999997,39.489083333333305,45.259758333333302,49.561258333333299,53.027074999999996,40.661274999999996,48.018225000000001,54.54804166666667,47.361841666666663,45.330766666666669,56.347566666666665,56.504508333333334,2.7852430184800436E-3]
["EE","EUR",null,null,null,null,null,null,null,null,null,32.711662500000003,32.4733083333333,34.156691666666696,33.846508333333304,31.496991666666698,39.807850000000002,38.072158333333334,39.727449999999997,40.645474999999998,39.095649999999999,-3.8130320779865334E-2]
["IE","EUR",27.655008333333299,35.304983333333304,30.652833333333298,19.35605,19.941783333333298,29.395474999999998,32.378300000000003]
["GR","EUR",null,null,null,null,null,null,null,79,66.531716666666711,62.281475]
["ES","EUR",35.321391666666699,41.754183333333302,43.896633333333305,29.4681,21.9586166666667,35.761274999999998,48.239049999999999,33.6170166666667,28.922691666666701,32.3555833333333,38.728533333333303,42.336233333333304,28.539108333333299,27.480941666666698,36.05340833333333,36.053750000000001,32.4923,42.821375000000003,44.396650000000001,3.6787118582717104E-2]
["FR","EUR",null,null,null,null,null,36.991475000000001,44.0262666666667,34.329491666666698,29.7757166666667,32.708266666666702,35.167358333333304,37.193033333333304,31.328558333333298,26.8922666666667,31.041416666666667,29.486583333333332,29.167833333333334,33.614983333333335,34.325833333333335,2.1146819944875883E-2]
["HR",null,null,null,null,null,null,null,null,null,null,null,null,null,null,null,null,null,null,null,41.264566666666667]
["IT","EUR",46.017941666666701,49.909641666666701,56.2181833333333,47.7312333333333,41.015283333333301,53.676591666666695,68.074233333333297,60.3427583333333,58.415149999999997,54.386283333333303,55.524583333333304,58.9549916666667,55.164649999999995,51.2522083333333,58.047133333333335,59.47334166666667,57.97775,66.597875000000002,67.407391666666669,1.2155292742698887E-2]
["LV","EUR",null,null,null,null,null,null,null,null,null,23.97955]
["LU","EUR",46.466049999999996,53.399049999999995,58.754324999999994,42.696249999999999,31.663216666666699,43.610400000000006,49.3095833333333,43.709758333333305,35.740349999999999,34.053874999999998,33.538049999999998,37.105941666666702,33.267949999999999,32.661816666666702,38.810091666666665,39.713883333333335,36.338141666666665,44.623208333333331,44.328499999999998,-6.6043734715772739E-3]
["HU","EUR",null,null,null,null,null,null,null,null,null,35.692949999999996,48.799808333333303,41.849499999999999,37.351141666666699,37.2058416666667,49.202925,40.359274999999997,34.176183333333334,46.547758333333334,43.314583333333331,-6.9459306221513417E-2]
["MT","EUR",null,null,null,null,null,null,null,null,null,55.480687500000002,55.239208333333302,55.322600000000001,57.925141666666697,55.3201416666667,61.695666666666668,80,80,82.54965,91.32,0.10624333355744087]
["NL","EUR",38.162574999999997,50.574075000000001,46.722149999999999,28.673866666666701,25.2196,37.617416666666699,44.076583333333303,22.774449999999998,26.270374999999998,32.133624999999995,38.841425000000001,38.775374999999997,26.681808333333301,31.4969583333333,33.563749999999999,30.309941666666667,29.583525000000002,38.777324999999998,38.783000000000001,1.463484136670079E-4]
["PL","EUR",null,null,null,null,null,null,null,null,null,30.138312500000001,33.544499999999999,27.324441666666701,20.939108333333298,29.033758333333299,40.789141666666666,30.259141666666668,28.338566666666665,42.674841666666666,41.199108333333335,-3.4580874250460969E-2]
["PT","EUR",37.398900000000005,42.966724999999997,42.418074999999995,29.823649999999997,28.3702583333333,43.942183333333304,48.293324999999996,43.353366666666702,35.2631333333333,41.203841666666698,44.591391666666695,47.868616666666696,35.767241666666699,31.978375,32.56451666666667,42.524466666666669,30.681541666666668,31.948433333333334,41.155425000000001,0.28818288429375261]
["SK","EUR",null,null,null,null,null,null,null,null,null,35.381675000000001,46.432258333333301,54.334891666666699,43.642424999999996,50.760933333333298,60.900824999999998,53.252716666666664,54.059383333333336,66.246799999999993,71.298316666666665,7.6252991339456067E-2]
["FI","EUR",55.787941666666697,56.308866666666695,54.500958333333301,52.904841666666698,46.413541666666696,58.8714333333333,68.02441666666671,61.335224999999994,45.1959083333333,47.319416666666697,51.246608333333299,48.882683333333304,49.1965583333333,48.582966666666699,50.002025000000003,49.806975000000001,47.710316666666664,56.323974999999997,56.344783333333332,3.6944007118355771E-4]
["SE","EUR",48.034233333333304,50.699583333333301,58.247149999999998,46.371400000000001,44.111325000000001,54.706900000000005,58.2182666666667,54.911191666666696,50.164483333333301,51.785224999999997,55.966449999999995,57.823474999999995,56.897200000000005,57.340133333333299,55.013916666666667,59.567149999999998,57.128116666666664,77.881474999999995,85.232133333333337,9.4382628646072053E-2]
["UK","EUR",29.796141666666699,36.894908333333305,29.70645,20.060166666666699,27.283524999999997,40.050508333333305,46.585366666666701,null,48.082500000000003,48.220666666666702,50.189450000000001,49.911149999999999,48.750358333333303,48.322049999999997,58.49755833333333,57.640916666666669,49.370683333333332,53.372824999999999,60.853583333333333,0.14016043432839331]
[]
["EU","EUR",40.454691666666697,48.144158333333301,49.659633333333304,33.058241666666696,28.790541666666698,41.725874999999995,51.230725,40.186441666666695,35.2798916666667,38.376200000000004,41.837108333333305,43.540541666666698,34.590325,36.9666833333333,43.180166666666665,40.112291666666664,38.041474999999998,47.277133333333332,48.126075,1.7956707753008283E-2]
[]
["change with previous year",null,null,{"$f":"+D28-C28","v":7.6894666666666041},1.5154750000000021,-16.601391666666608,-4.2676999999999978,12.935333333333297,9.5048500000000047,-11.044283333333304,-4.9065499999999957,3.0963083333333046,3.4609083333333004,1.7034333333333933,-8.950216666666698,2.3763583333333003,6.2134833333333646,-3.0678750000000008,-2.0708166666666656,9.2356583333333333,0.84894166666666848]
[]
[]
[]
[null,null,"1995","1996","1997","1998","1999","2000","2001","2002","2003","2004","2005","2006","2007",2008,2009,2010,2011,2012,2013]
[null,"min",{"$f":"MIN(C5:C28)","v":27.655008333333299},{"$f":"MIN(D5:D28)","v":35.304983333333304},29.70645,19.35605,18.862591666666699,29.395474999999998,32.378300000000003,22.774449999999998,24.044924999999999,23.97955,31.9224416666667,27.324441666666701,20.939108333333298,26.8922666666667,31.041416666666667,29.486583333333332,28.338566666666665,31.948433333333334,34.325833333333335]
[null,"max",{"$f":"MAX(C5:C28)","v":55.787941666666697},{"$f":"MAX(D5:D28)","v":56.308866666666695},59.521133333333303,52.904841666666698,46.413541666666696,58.8714333333333,68.074233333333297,79,66.531716666666711,62.281475,55.966449999999995,58.9549916666667,57.925141666666697,57.340133333333299,61.695666666666668,80,80,82.54965,91.32]
[null,"difference",{"$f":"+C36-C35","v":28.132933333333398},{"$f":"+D36-D35","v":21.003883333333391},29.814683333333303,33.548791666666702,27.550949999999997,29.475958333333303,35.695933333333294,56.225549999999998,42.486791666666711,38.301924999999997,24.044008333333295,31.630549999999999,36.986033333333395,30.447866666666599,30.654250000000001,50.513416666666672,51.661433333333335,50.601216666666666,56.994166666666658]