{"text_format":"1","workbook":"xlsx","n_sheets":15,"sheets":["Amis Exchange rate","COVER","Weekly Pig prices","Prices","Weekly Piglet prices","Class S","Class E","Class R","Graphs Prices","Monthly pig prices-Classe E","Monthly pig prices-Classe S ","Monthly piglet prices","Annual pig price","Annual piglet price","Sheet2"],"not_rendered":{"charts":5,"images":5,"macros":1,"external_links":1,"defined_names":64,"comments":0,"pivot_tables":1},"unopened":[],"bounds":{"document_bytes":16777216,"sheet_cells":100000,"rows_first":2000,"rows_last":500,"rows_between":2000,"halvings":0,"cell_chars":16384,"cell_head_chars":4096},"cells_cut":0,"cells_raw":0,"read":"whole","date_system":"1900"}

{"sheet":"Amis Exchange rate","index":0,"n_rows":1465,"n_cols":116,"rows_kept":562,"cut":true,"hidden":true,"merged":[],"bounds":{"rows_first":250,"rows_last":62,"rows_between":250,"halvings":3}}
["AMIS2-MILK",null,null,null,null,null,null,null,null,null,null,null,null,null,null,null,null,null,null,null,null,null,null,null,null,null,"DAILY",null,null,null,null,null,null,null,null,null,null,null,null,null,null,null,null,null,null,null,null,null,null,null,null,null,"WEEKLY",null,null,null,null,null,null,null,null,null,null,null,null,null,null,null,null,null,null,null,null,null,null,null,null,null,"MONTHLY",null,null,null,null,null,null,null,null,null,null,null,null,null,null,null,null,null,null,null,null,null,null,null,null,null,"ANNUAL"]
["From : ",{"$f":"A5","v":"2010-01-01"},"to : ",{"$f":" MAX(A5:A1100)","v":"2013-06-01"}]
["Min of RATE","FROM_CURRENCY_CODE",null,null,null,null,null,null,null,null,null,null,null,null,null,null,null,null,null,null,null,null,null,null,null,null,"Day",{"$f":"MATCH(AB4,$A4:$Z4,0)","v":2},3,4,5,6,7,8,9,10,11,12,null,null,null,null,null,null,null,null,null,null,null,null,null,null,"Monday",null,null,null,null,null,null,null,null,null,null,null,null,null,null,null,null,null,null,null,null,null,null,null,null,null,"1st of month",null,null,null,null,null,null,null,null,null,null,null,null,null,null,null,null,null,null,null,null,null,null,null,null,null,"1st of year"]
["BEGIN_DATE","BGN","CZK","DKK","GBP","HUF","LTL","LVL","PLN","RON","SEK","USD",null,null,null,null,null,null,null,null,null,null,"Line","Week","Month","Year",null,{"$f":"B4","v":"BGN"},{"$f":"C4","v":"CZK"},"DKK","GBP","HUF","LTL","LVL","PLN","RON","SEK","USD",null,null,null,null,null,null,null,null,null,null,null,null,null,null,null,{"$f":"B4","v":"BGN"},{"$f":"C4","v":"CZK"},"DKK","GBP","HUF","LTL","LVL","PLN","RON","SEK","USD",null,null,null,null,null,null,null,null,null,null,null,null,null,null,null,{"$f":"B4","v":"BGN"},{"$f":"C4","v":"CZK"},"DKK","GBP","HUF","LTL","LVL","PLN","RON","SEK","USD",null,null,null,null,null,null,null,null,null,null,null,null,null,null,null,{"$f":"AB4","v":"BGN"},"CZK","DKK","GBP","HUF","LTL","LVL","PLN","RON","SEK","USD"]
["2010-01-01",1.9558,26.472999999999999,7.4417999999999997,0.8881,270.42,3.4527999999999999,0.70930000000000004,4.1044999999999998,4.2363,10.252000000000001,1.4406000000000001,null,null,null,null,null,null,null,null,null,null,{"$f":"IF(AA5>MaxDate,\"\",MATCH(AA5,$A:$A,1))","v":5},{"$f":"IF(W5=\"\",\"\",IF(WEEKDAY(AA5,2)=1,AA5,X4))","v":"Week"},{"$f":"IF(W5=\"\",\"\",DATE(YEAR(AA5),MONTH(AA5),1))","v":"2010-01-01"},{"$f":"IF(W5=\"\",\"\",DATE(YEAR(AA5),1,1))","v":"2010-01-01"},{"$f":"A5","v":"2010-01-01"},{"$f":"IF($W5=\"\",\"\",INDEX($A:$Z,$W5,AB$3))","v":1.9558},26.472999999999999,7.4417999999999997,0.8881,270.42,3.4527999999999999,0.70930000000000004,4.1044999999999998,4.2363,10.252000000000001,1.4406000000000001,null,null,null,null,null,null,null,null,null,null,null,null,null,null,{"$f":"AA5+8-WEEKDAY(AA5,2)","v":"2010-01-04"},{"$f":"IF(MaxDate>=$BA6,SUMIF($X:$X,$BA5,AB:AB)/COUNTIF($X:$X,$BA5),\"\")","v":1.9558},{"$f":"IF(MaxDate>=$BA6,SUMIF($X:$X,$BA5,AC:AC)/COUNTIF($X:$X,$BA5),\"\")","v":26.331285714285716},{"$f":"IF(MaxDate>=$BA6,SUMIF($X:$X,$BA5,AD:AD)/COUNTIF($X:$X,$BA5),\"\")","v":7.4412285714285717},{"$f":"IF(MaxDate>=$BA6,SUMIF($X:$X,$BA5,AE:AE)/COUNTIF($X:$X,$BA5),\"\")","v":0.89499285714285703},{"$f":"IF(MaxDate>=$BA6,SUMIF($X:$X,$BA5,AF:AF)/COUNTIF($X:$X,$BA5),\"\")","v":269.59857142857146},{"$f":"IF(MaxDate>=$BA6,SUMIF($X:$X,$BA5,AG:AG)/COUNTIF($X:$X,$BA5),\"\")","v":3.4527999999999999},{"$f":"IF(MaxDate>=$BA6,SUMIF($X:$X,$BA5,AH:AH)/COUNTIF($X:$X,$BA5),\"\")","v":0.70934285714285716},{"$f":"IF(MaxDate>=$BA6,SUMIF($X:$X,$BA5,AI:AI)/COUNTIF($X:$X,$BA5),\"\")","v":4.1049857142857133},{"$f":"IF(MaxDate>=$BA6,SUMIF($X:$X,$BA5,AJ:AJ)/COUNTIF($X:$X,$BA5),\"\")","v":4.1881714285714287},{"$f":"IF(MaxDate>=$BA6,SUMIF($X:$X,$BA5,AK:AK)/COUNTIF($X:$X,$BA5),\"\")","v":10.215285714285713},{"$f":"IF(MaxDate>=$BA6,SUMIF($X:$X,$BA5,AL:AL)/COUNTIF($X:$X,$BA5),\"\")","v":1.4348142857142858},null,null,null,null,null,null,null,null,null,null,null,null,null,null,{"$f":"DATE(YEAR($AA$5),MONTH($AA$5),1)","v":"2010-01-01"},{"$f":"IF(MaxDate>=$CA6,SUMIF($Y:$Y,$CA5,AB:AB)/COUNTIF($Y:$Y,$CA5),\"\")","v":1.9557999999999982},{"$f":"IF(MaxDate>=$CA6,SUMIF($Y:$Y,$CA5,AC:AC)/COUNTIF($Y:$Y,$CA5),\"\")","v":26.182709677419346},{"$f":"IF(MaxDate>=$CA6,SUMIF($Y:$Y,$CA5,AD:AD)/COUNTIF($Y:$Y,$CA5),\"\")","v":7.4424903225806478},{"$f":"IF(MaxDate>=$CA6,SUMIF($Y:$Y,$CA5,AE:AE)/COUNTIF($Y:$Y,$CA5),\"\")","v":0.88327258064516123},{"$f":"IF(MaxDate>=$CA6,SUMIF($Y:$Y,$CA5,AF:AF)/COUNTIF($Y:$Y,$CA5),\"\")","v":269.60548387096782},{"$f":"IF(MaxDate>=$CA6,SUMIF($Y:$Y,$CA5,AG:AG)/COUNTIF($Y:$Y,$CA5),\"\")","v":3.4527999999999976},{"$f":"IF(MaxDate>=$CA6,SUMIF($Y:$Y,$CA5,AH:AH)/COUNTIF($Y:$Y,$CA5),\"\")","v":0.70881935483871006},{"$f":"IF(MaxDate>=$CA6,SUMIF($Y:$Y,$CA5,AI:AI)/COUNTIF($Y:$Y,$CA5),\"\")","v":4.0765193548387106},{"$f":"IF(MaxDate>=$CA6,SUMIF($Y:$Y,$CA5,AJ:AJ)/COUNTIF($Y:$Y,$CA5),\"\")","v":4.1499870967741943},{"$f":"IF(MaxDate>=$CA6,SUMIF($Y:$Y,$CA5,AK:AK)/COUNTIF($Y:$Y,$CA5),\"\")","v":10.202838709677417},{"$f":"IF(MaxDate>=$CA6,SUMIF($Y:$Y,$CA5,AL:AL)/COUNTIF($Y:$Y,$CA5),\"\")","v":1.4277290322580647},null,null,null,null,null,null,null,null,null,null,null,null,null,null,{"$f":"DATE(YEAR($AA$5),1,1)","v":"2010-01-01"},{"$f":"IF(MaxDate>=$DA6,SUMIF($Z:$Z,$DA5,AB:AB)/COUNTIF($Z:$Z,$DA5),\"\")","v":1.9558002739725948},25.302438356164409,7.4471978082191699,0.85840323287671338,275.39098630136965,3.452800000000019,0.70871835616438406,3.9959487671232918,4.2115509589041107,9.5500164383561543,1.3269421917808208]
["2010-01-05",1.9558,26.285,7.4414999999999996,0.89139999999999997,269.85000000000002,3.4527999999999999,0.70930000000000004,4.1029999999999998,4.2252999999999998,10.193,1.4389000000000001,null,null,null,null,null,null,null,null,null,null,5,{"$f":"IF(W6=\"\",\"\",IF(WEEKDAY(AA6,2)=1,AA6,X5))","v":"Week"},{"$f":"IF(W6=\"\",\"\",DATE(YEAR(AA6),MONTH(AA6),1))","v":"2010-01-01"},{"$f":"IF(W6=\"\",\"\",DATE(YEAR(AA6),1,1))","v":"2010-01-01"},{"$f":"1+AA5","v":"2010-01-02"},1.9558,26.472999999999999,7.4417999999999997,0.8881,270.42,3.4527999999999999,0.70930000000000004,4.1044999999999998,4.2363,10.252000000000001,1.4406000000000001,null,null,null,null,null,null,null,null,null,null,null,null,null,null,{"$f":"7+BA5","v":"2010-01-11"},1.9558,26.123999999999999,7.4410571428571428,0.89095714285714289,267.43857142857138,3.4527999999999999,0.70894285714285721,4.0637428571428575,4.1271142857142857,10.185971428571431,1.4439857142857142,null,null,null,null,null,null,null,null,null,null,null,null,null,null,{"$f":"EDATE(CA5,1)","v":"2010-02-01"},1.9557999999999984,25.990249999999996,7.4440035714285733,0.87576428571428555,271.32214285714286,3.4527999999999976,0.70901785714285681,4.0186321428571423,4.12195,9.9634178571428578,1.3671928571428571,null,null,null,null,null,null,null,null,null,null,null,null,null,null,{"$f":"EDATE(DA5,12)","v":"2011-01-01"},1.9557999999999922,24.589701369863015,7.4506600000000009,0.86809575342465806,279.22909589041149,3.452800000000019,0.70632082191780976,4.1189389041095872,4.2380673972602727,9.0291934246575423,1.3923221917808208]
["2010-01-06",1.9558,26.231000000000002,7.4414999999999996,0.90044999999999997,269,3.4527999999999999,0.70940000000000003,4.0919999999999996,4.1929999999999996,10.212,1.4441999999999999,null,null,null,null,null,null,null,null,null,null,5,"Week","2010-01-01","2010-01-01",{"$f":"1+AA6","v":"2010-01-03"},1.9558,26.472999999999999,7.4417999999999997,0.8881,270.42,3.4527999999999999,0.70930000000000004,4.1044999999999998,4.2363,10.252000000000001,1.4406000000000001,null,null,null,null,null,null,null,null,null,null,null,null,null,null,{"$f":"7+BA6","v":"2010-01-18"},1.9558,25.996571428571428,7.4431285714285718,0.87523571428571412,269.42142857142858,3.4527999999999999,0.7084571428571429,4.0534571428571429,4.1254857142857144,10.157928571428572,1.4212571428571426,null,null,null,null,null,null,null,null,null,null,null,null,null,null,"2010-03-01",1.9557999999999982,25.551870967741937,7.4415483870967751,0.90165000000000028,265.45548387096773,3.4527999999999976,0.70828064516129008,3.8929709677419368,4.0865129032258052,9.7230548387096789,1.3569774193548383,null,null,null,null,null,null,null,null,null,null,null,null,null,null,{"$f":"EDATE(DA6,12)","v":"2012-01-01"},1.955799999999992,25.14799180327871,7.4437106557376893,0.81112765027322409,289.4013114754095,3.452800000000019,0.69730409836065732,4.1844300546448077,4.4584256830601063,8.7060491803278577,1.285318306010931]
["2010-01-07",1.9558,26.338000000000001,7.4406999999999996,0.89859999999999995,268.88,3.4527999999999999,0.70950000000000002,4.0952999999999999,4.1585000000000001,10.186999999999999,1.4350000000000001,null,null,null,null,null,null,null,null,null,null,5,"2010-01-04","2010-01-01","2010-01-01","2010-01-04",1.9558,26.472999999999999,7.4417999999999997,0.8881,270.42,3.4527999999999999,0.70930000000000004,4.1044999999999998,4.2363,10.252000000000001,1.4406000000000001,null,null,null,null,null,null,null,null,null,null,null,null,null,null,"2010-01-25",1.9558,26.154571428571426,7.4448428571428567,0.86983571428571427,271.61428571428576,3.4527999999999999,0.70832857142857153,4.0718999999999994,4.1221857142857141,10.2311,1.405342857142857,null,null,null,null,null,null,null,null,null,null,null,null,null,null,"2010-04-01",1.9558033333333318,25.308400000000002,7.4431000000000012,0.87609333333333339,265.32866666666661,3.4527999999999976,0.70776333333333308,3.8721666666666676,4.1279133333333329,9.6728333333333349,1.3420333333333334,null,null,null,null,null,null,null,null,null,null,null,null,null,null,{"$f":"EDATE(DA7,12)","v":"2013-01-01"},"","","","","","","","","","",""]
["2010-01-08",1.9558,26.37,7.4410999999999996,0.89959999999999996,270.3,3.4527999999999999,0.70930000000000004,4.1224999999999996,4.1730999999999998,10.212,1.4303999999999999,null,null,null,null,null,null,null,null,null,null,6,"2010-01-04","2010-01-01","2010-01-01","2010-01-05",1.9558,26.285,7.4414999999999996,0.89139999999999997,269.85000000000002,3.4527999999999999,0.70930000000000004,4.1029999999999998,4.2252999999999998,10.193,1.4389000000000001,null,null,null,null,null,null,null,null,null,null,null,null,null,null,"2010-02-01",1.9558,26.114285714285717,7.4449285714285702,0.87299285714285701,271.93857142857138,3.4527999999999999,0.70878571428571424,4.0325999999999995,4.1136857142857144,10.174771428571429,1.3861285714285714,null,null,null,null,null,null,null,null,null,null,null,null,null,null,"2010-05-01",1.9557999999999982,25.686064516129029,7.4415645161290334,0.85978064516129016,276.23677419354834,3.4527999999999976,0.70747741935483843,4.0502709677419348,4.1735612903225805,9.6723354838709685,1.2637032258064513,null,null,null,null,null,null,null,null,null,null,null,null,null,null,{"$f":"EDATE(DA8,12)","v":"2014-01-01"},"","","","","","","","","","",""]
["2010-01-09",1.9558,26.311,7.4409999999999998,0.89339999999999997,269.37,3.4527999999999999,0.70930000000000004,4.1087999999999996,4.1654999999999998,10.2255,1.4273,null,null,null,null,null,null,null,null,null,null,7,"2010-01-04","2010-01-01","2010-01-01","2010-01-06",1.9558,26.231000000000002,7.4414999999999996,0.90044999999999997,269,3.4527999999999999,0.70940000000000003,4.0919999999999996,4.1929999999999996,10.212,1.4441999999999999,null,null,null,null,null,null,null,null,null,null,null,null,null,null,"2010-02-08",1.9558,26.088285714285718,7.4447142857142854,0.87503571428571425,271.85857142857145,3.4527999999999999,0.70905714285714283,4.0568857142857144,4.1263714285714288,10.049414285714287,1.3675428571428576,null,null,null,null,null,null,null,null,null,null,null,null,null,null,"2010-06-01",1.9557999999999984,25.78436666666666,7.4404666666666657,0.82909433333333327,281.63666666666666,3.4527999999999976,0.70816333333333326,4.1067633333333324,4.2362500000000001,9.5729799999999994,1.2210966666666667,null,null,null,null,null,null,null,null,null,null,null,null,null,null,{"$f":"EDATE(DA9,12)","v":"2015-01-01"}]
["2010-01-12",1.9558,26.192,7.4410999999999996,0.89890000000000003,266.7,3.4527999999999999,0.70930000000000004,4.0583,4.1280999999999999,10.1995,1.4528000000000001,null,null,null,null,null,null,null,null,null,null,8,"2010-01-04","2010-01-01","2010-01-01","2010-01-07",1.9558,26.338000000000001,7.4406999999999996,0.89859999999999995,268.88,3.4527999999999999,0.70950000000000002,4.0952999999999999,4.1585000000000001,10.186999999999999,1.4350000000000001,null,null,null,null,null,null,null,null,null,null,null,null,null,null,"2010-02-15",1.9558,25.890571428571427,7.4433857142857152,0.87188571428571426,271.26285714285711,3.4527999999999999,0.7089714285714287,4.0048428571428571,4.1244428571428582,9.8533571428571438,1.3594142857142859,null,null,null,null,null,null,null,null,null,null,null,null,null,null,"2010-07-01",1.9557999999999982,25.365741935483864,7.4520290322580625,0.83514193548387095,283.75677419354849,3.4527999999999976,0.70907741935483859,4.0873806451612884,4.2660096774193539,9.4944161290322562,1.2754032258064518]
["2010-01-13",1.9558,26.257999999999999,7.4405000000000001,0.8972,268.18,3.4527999999999999,0.70930000000000004,4.0838000000000001,4.1405000000000003,10.221500000000001,1.4480999999999999,null,null,null,null,null,null,null,null,null,null,9,"2010-01-04","2010-01-01","2010-01-01","2010-01-08",1.9558,26.37,7.4410999999999996,0.89959999999999996,270.3,3.4527999999999999,0.70930000000000004,4.1224999999999996,4.1730999999999998,10.212,1.4303999999999999,null,null,null,null,null,null,null,null,null,null,null,null,null,null,"2010-02-22",1.9558,25.86785714285714,7.4429857142857134,0.8831428571428569,270.2285714285714,3.4527999999999999,0.70925714285714292,3.9802,4.1232999999999995,9.7761285714285719,1.3556857142857142,null,null,null,null,null,null,null,null,null,null,null,null,null,null,"2010-08-01",1.9557999999999982,24.800838709677414,7.4499322580645178,0.82409354838709648,281.39096774193547,3.4527999999999976,0.70850000000000013,3.9911741935483871,4.2390064516129033,9.4263580645161298,1.289825806451613]
["2010-01-14",1.9558,26.167999999999999,7.4405000000000001,0.89459999999999995,266.82,3.4527999999999999,0.70899999999999996,4.0563000000000002,4.1178999999999997,10.197800000000001,1.4562999999999999,null,null,null,null,null,null,null,null,null,null,10,"2010-01-04","2010-01-01","2010-01-01","2010-01-09",1.9558,26.311,7.4409999999999998,0.89339999999999997,269.37,3.4527999999999999,0.70930000000000004,4.1087999999999996,4.1654999999999998,10.2255,1.4273,null,null,null,null,null,null,null,null,null,null,null,null,null,null,"2010-03-01",1.9558,25.828285714285716,7.442328571428571,0.90306428571428565,267.40714285714284,3.4527999999999999,0.70912857142857144,3.9109285714285713,4.1004428571428573,9.742228571428571,1.3588,null,null,null,null,null,null,null,null,null,null,null,null,null,null,"2010-09-01",1.9557999999999984,24.66523333333334,7.4471433333333339,0.8377833333333331,282.60033333333325,3.4527999999999976,0.70902999999999983,3.9560799999999992,4.2644133333333327,9.2359999999999971,1.3018933333333338]
["2010-01-15",1.9558,26.045000000000002,7.4402999999999997,0.89049999999999996,267.39999999999998,3.4527999999999999,0.7087,4.0591999999999997,4.1292,10.1715,1.4486000000000001,null,null,null,null,null,null,null,null,null,null,10,"2010-01-04","2010-01-01","2010-01-01","2010-01-10",1.9558,26.311,7.4409999999999998,0.89339999999999997,269.37,3.4527999999999999,0.70930000000000004,4.1087999999999996,4.1654999999999998,10.2255,1.4273,null,null,null,null,null,null,null,null,null,null,null,null,null,null,"2010-03-08",1.9558,25.602857142857143,7.4414571428571437,0.90684285714285706,266.48714285714289,3.4527999999999999,0.70830000000000004,3.8868857142857145,4.0934714285714282,9.7184714285714282,1.3656857142857142,null,null,null,null,null,null,null,null,null,null,null,null,null,null,"2010-10-01",1.9557999999999982,24.530967741935481,7.4562580645161285,0.87572419354838715,274.18225806451625,3.4527999999999976,0.70942580645161302,3.9511645161290327,4.2776354838709674,9.2709580645161314,1.3890483870967738]
["2010-01-16",1.9558,25.946999999999999,7.4420000000000002,0.88105,266.8,3.4527999999999999,0.70850000000000002,4.0399000000000003,4.1043000000000003,10.143000000000001,1.4374,null,null,null,null,null,null,null,null,null,null,10,"2010-01-11","2010-01-01","2010-01-01","2010-01-11",{"$f":"IF($W15=\"\",\"\",INDEX($A:$Z,$W15,AB$3))","v":1.9558},26.311,7.4409999999999998,0.89339999999999997,269.37,3.4527999999999999,0.70930000000000004,4.1087999999999996,4.1654999999999998,10.2255,1.4273,null,null,null,null,null,null,null,null,null,null,null,null,null,null,"2010-03-15",1.9558,25.418142857142861,7.4409142857142854,0.90069999999999983,263.50000000000006,3.4527999999999999,0.70788571428571423,3.8836714285714287,4.0845142857142864,9.7124142857142868,1.3672142857142855,null,null,null,null,null,null,null,null,null,null,null,null,null,null,"2010-11-01",1.9557999999999984,24.631033333333338,7.4547066666666675,0.85600166666666666,275.21699999999993,3.4527999999999976,0.70944666666666667,3.9489766666666668,4.2945000000000002,9.3285500000000017,1.3692933333333328]
["2010-01-19",1.9558,25.888999999999999,7.4417999999999997,0.87949999999999995,267.75,3.4527999999999999,0.70850000000000002,4.0227000000000004,4.1052999999999997,10.1295,1.4369000000000001,null,null,null,null,null,null,null,null,null,null,11,"2010-01-11","2010-01-01","2010-01-01","2010-01-12",1.9558,26.192,7.4410999999999996,0.89890000000000003,266.7,3.4527999999999999,0.70930000000000004,4.0583,4.1280999999999999,10.1995,1.4528000000000001,null,null,null,null,null,null,null,null,null,null,null,null,null,null,"2010-03-22",1.9558,25.407,7.4410714285714281,0.89768571428571431,264.34714285714284,3.4527999999999999,0.70784285714285711,3.8935571428571429,4.0744857142857143,9.7054714285714283,1.3419714285714286,null,null,null,null,null,null,null,null,null,null,null,null,null,null,"2010-12-01",1.9557999999999982,25.171870967741935,7.452712903225807,0.8470016129032254,277.66935483870964,3.4527999999999976,0.70963225806451602,3.9982612903225809,4.2946806451612902,9.063890322580642,1.3206354838709675]
["2010-01-20",1.9558,25.905000000000001,7.4420999999999999,0.87429999999999997,267.94,3.4527999999999999,0.70850000000000002,4.0303000000000004,4.1204999999999998,10.1518,1.4278999999999999,null,null,null,null,null,null,null,null,null,null,12,"2010-01-11","2010-01-01","2010-01-01","2010-01-13",1.9558,26.257999999999999,7.4405000000000001,0.8972,268.18,3.4527999999999999,0.70930000000000004,4.0838000000000001,4.1405000000000003,10.221500000000001,1.4480999999999999,null,null,null,null,null,null,null,null,null,null,null,null,null,null,"2010-03-29",1.9558,25.415571428571429,7.4438142857142866,0.89106428571428575,265.2885714285714,3.4527999999999999,0.70854285714285703,3.8659285714285718,4.0904000000000007,9.7377857142857156,1.3455571428571427,null,null,null,null,null,null,null,null,null,null,null,null,null,null,"2011-01-01",1.9557999999999982,24.49512903225807,7.4519193548387115,0.84806806451612915,275.53129032258067,3.4527999999999976,0.70380645161290301,3.8956935483870967,4.2621193548387089,8.9237999999999982,1.3355774193548391]
["2010-01-21",1.9558,25.89,7.4421999999999997,0.86919999999999997,268.99,3.4527999999999999,0.70850000000000002,4.0232000000000001,4.1277999999999997,10.1165,1.4132,null,null,null,null,null,null,null,null,null,null,13,"2010-01-11","2010-01-01","2010-01-01","2010-01-14",1.9558,26.167999999999999,7.4405000000000001,0.89459999999999995,266.82,3.4527999999999999,0.70899999999999996,4.0563000000000002,4.1178999999999997,10.197800000000001,1.4562999999999999,null,null,null,null,null,null,null,null,null,null,null,null,null,null,"2010-04-05",1.9558142857142857,25.279857142857139,7.4438571428571425,0.87856428571428569,266.47714285714289,3.4527999999999999,0.70742857142857141,3.8526857142857138,4.1153714285714287,9.694685714285713,1.3390857142857142,null,null,null,null,null,null,null,null,null,null,null,null,null,null,"2011-02-01",1.9557999999999984,24.273035714285719,7.4553357142857122,0.8468067857142858,271.28357142857146,3.4527999999999976,0.70365714285714276,3.9257035714285715,4.2471607142857151,8.7948785714285709,1.3640178571428569]
["2010-01-22",1.9558,25.978999999999999,7.4425999999999997,0.87,270.43,3.4527999999999999,0.70879999999999999,4.0545,4.1275000000000004,10.137499999999999,1.4064000000000001,null,null,null,null,null,null,null,null,null,null,14,"2010-01-11","2010-01-01","2010-01-01","2010-01-15",1.9558,26.045000000000002,7.4402999999999997,0.89049999999999996,267.39999999999998,3.4527999999999999,0.7087,4.0591999999999997,4.1292,10.1715,1.4486000000000001,null,null,null,null,null,null,null,null,null,null,null,null,null,null,"2010-04-12",1.9558,25.148714285714284,7.4428857142857145,0.87837857142857145,264.33428571428573,3.4527999999999999,0.70744285714285715,3.869728571428571,4.141,9.7158857142857151,1.3540142857142858,null,null,null,null,null,null,null,null,null,null,null,null,null,null,"2011-03-01",1.9557999999999982,24.386354838709675,7.4574322580645163,0.86584032258064525,271.10774193548394,3.4527999999999976,0.70701935483870959,4.0153612903225806,4.1647258064516119,8.8803935483870955,1.3985741935483864]
["2010-01-23",1.9558,26.183,7.4455999999999998,0.87629999999999997,272.02,3.4527999999999999,0.70820000000000005,4.1017999999999999,4.1464999999999996,10.2136,1.4135,null,null,null,null,null,null,null,null,null,null,15,"2010-01-11","2010-01-01","2010-01-01","2010-01-16",1.9558,25.946999999999999,7.4420000000000002,0.88105,266.8,3.4527999999999999,0.70850000000000002,4.0399000000000003,4.1043000000000003,10.143000000000001,1.4374,null,null,null,null,null,null,null,null,null,null,null,null,null,null,"2010-04-19",1.9558,25.314,7.4422714285714289,0.87206428571428574,264.46999999999997,3.4527999999999999,0.70772857142857137,3.8826999999999998,4.139671428571428,9.6318000000000001,1.3398142857142854,null,null,null,null,null,null,null,null,null,null,null,null,null,null,"2011-04-01",1.9557999999999984,24.309666666666658,7.4573333333333363,0.88255833333333333,265.21466666666674,3.4527999999999976,0.70920666666666643,3.970386666666665,4.1025333333333327,8.9569099999999988,1.4430699999999994]
["2010-01-26",1.9558,26.010999999999999,7.4450000000000003,0.87729999999999997,271.18,3.4527999999999999,0.70830000000000004,4.0674000000000001,4.1185,10.2075,1.4151,null,null,null,null,null,null,null,null,null,null,15,"2010-01-11","2010-01-01","2010-01-01","2010-01-17",1.9558,25.946999999999999,7.4420000000000002,0.88105,266.8,3.4527999999999999,0.70850000000000002,4.0399000000000003,4.1043000000000003,10.143000000000001,1.4374,null,null,null,null,null,null,null,null,null,null,null,null,null,null,"2010-04-26",1.9558,25.501857142857141,7.4422571428571436,0.8680000000000001,266.63428571428568,3.4527999999999999,0.70775714285714286,3.9081571428571427,4.1291142857142855,9.6045571428571428,1.3293285714285712,null,null,null,null,null,null,null,null,null,null,null,null,null,null,"2011-05-01",1.9557999999999982,24.366838709677417,7.4566322580645146,0.8785854838709678,266.90290322580643,3.4527999999999976,0.70933225806451605,3.9403451612903204,4.112774193548387,8.9584032258064532,1.4373258064516128]
["2010-01-27",1.9558,26.097000000000001,7.4450000000000003,0.87329999999999997,272.75,3.4527999999999999,0.70820000000000005,4.0902000000000003,4.1284999999999998,10.2723,1.4085000000000001,null,null,null,null,null,null,null,null,null,null,15,"2010-01-18","2010-01-01","2010-01-01","2010-01-18",1.9558,25.946999999999999,7.4420000000000002,0.88105,266.8,3.4527999999999999,0.70850000000000002,4.0399000000000003,4.1043000000000003,10.143000000000001,1.4374,null,null,null,null,null,null,null,null,null,null,null,null,null,null,"2010-05-03",1.9558,25.800714285714285,7.4429285714285713,0.8622428571428572,275.38571428571424,3.4527999999999999,0.70712857142857144,4.0302428571428575,4.1609714285714281,9.6716142857142859,1.2969285714285712,null,null,null,null,null,null,null,null,null,null,null,null,null,null,"2011-06-01",1.9557999999999984,24.288966666666671,7.4577566666666684,0.88624833333333342,266.86966666666672,3.4527999999999976,0.70915666666666655,3.9675099999999994,4.1874799999999999,9.1034033333333344,1.4380166666666663]
["2010-01-28",1.9558,26.113,7.4450000000000003,0.86724999999999997,271.75,3.4527999999999999,0.70789999999999997,4.0808,4.1147999999999998,10.2446,1.4072,null,null,null,null,null,null,null,null,null,null,16,"2010-01-18","2010-01-01","2010-01-01","2010-01-19",1.9558,25.888999999999999,7.4417999999999997,0.87949999999999995,267.75,3.4527999999999999,0.70850000000000002,4.0227000000000004,4.1052999999999997,10.1295,1.4369000000000001,null,null,null,null,null,null,null,null,null,null,null,null,null,null,"2010-05-10",1.9558,25.557857142857141,7.4409571428571422,0.85832857142857144,275.62428571428569,3.4527999999999999,0.70755714285714277,4.0174714285714286,4.1799428571428567,9.6233428571428572,1.2667142857142859,null,null,null,null,null,null,null,null,null,null,null,null,null,null,"2011-07-01",1.9557999999999982,24.336258064516127,7.4561193548387079,0.88626290322580625,267.35806451612899,3.4527999999999976,0.70922903225806433,3.991741935483871,4.2394290322580659,9.1310548387096748,1.4283774193548393]
["2010-01-29",1.9558,26.231999999999999,7.4447000000000001,0.86160000000000003,271.3,3.4527999999999999,0.70830000000000004,4.0705,4.1360000000000001,10.2021,1.3998999999999999,null,null,null,null,null,null,null,null,null,null,17,"2010-01-18","2010-01-01","2010-01-01","2010-01-20",1.9558,25.905000000000001,7.4420999999999999,0.87429999999999997,267.94,3.4527999999999999,0.70850000000000002,4.0303000000000004,4.1204999999999998,10.1518,1.4278999999999999,null,null,null,null,null,null,null,null,null,null,null,null,null,null,"2010-05-17",1.9558,25.70814285714286,7.4411428571428564,0.86208571428571434,279.49857142857138,3.4527999999999999,0.70741428571428566,4.0830428571428561,4.1945285714285712,9.6772571428571439,1.2409571428571429,null,null,null,null,null,null,null,null,null,null,null,null,null,null,"2011-08-01",1.9557999999999982,24.274322580645169,7.4496161290322584,0.87594838709677414,272.5032258064515,3.4527999999999976,0.70935161290322579,4.119312903225806,4.2530870967741929,9.1695870967741957,1.4325419354838709]
["2010-01-30",1.9558,26.222999999999999,7.4443000000000001,0.86655000000000004,271.14999999999998,3.4527999999999999,0.7087,4.0462999999999996,4.1055000000000001,10.238799999999999,1.3966000000000001,null,null,null,null,null,null,null,null,null,null,18,"2010-01-18","2010-01-01","2010-01-01","2010-01-21",{"$f":"IF($W25=\"\",\"\",INDEX($A:$Z,$W25,AB$3))","v":1.9558},25.89,7.4421999999999997,0.86919999999999997,268.99,3.4527999999999999,0.70850000000000002,4.0232000000000001,4.1277999999999997,10.1165,1.4132,null,null,null,null,null,null,null,null,null,null,null,null,null,null,"2010-05-24",1.9558,25.709571428571429,7.4410285714285704,0.85486428571428574,277.45857142857142,3.4527999999999999,0.70775714285714297,4.1070000000000002,4.1725285714285709,9.7336428571428577,1.2344571428571431,null,null,null,null,null,null,null,null,null,null,null,null,null,null,"2011-09-01",1.9557999999999984,24.52343333333333,7.4466866666666682,0.87248499999999996,283.98300000000006,3.4527999999999976,0.70929999999999993,4.3287866666666677,4.2759633333333325,9.1281299999999987,1.3813700000000007]
["2010-02-02",1.9558,26.065000000000001,7.4454000000000002,0.87485000000000002,271.35000000000002,3.4527999999999999,0.7087,4.0045000000000002,4.0862999999999996,10.1417,1.3913,null,null,null,null,null,null,null,null,null,null,19,"2010-01-18","2010-01-01","2010-01-01","2010-01-22",1.9558,25.978999999999999,7.4425999999999997,0.87,270.43,3.4527999999999999,0.70879999999999999,4.0545,4.1275000000000004,10.137499999999999,1.4064000000000001,null,null,null,null,null,null,null,null,null,null,null,null,null,null,"2010-05-31",1.9558,25.793142857142861,7.4401571428571431,0.83676142857142843,279.25142857142856,3.4527999999999999,0.70865714285714276,4.1165571428571424,4.1916000000000002,9.5834428571428578,1.2207428571428571,null,null,null,null,null,null,null,null,null,null,null,null,null,null,"2011-10-01",1.9557999999999982,24.824193548387104,7.4440741935483876,0.87025161290322572,296.22516129032255,3.4527999999999976,0.70636774193548413,4.3569129032258056,4.3262548387096773,9.1271806451612889,1.3701258064516124]
["2010-02-03",1.9558,25.998000000000001,7.4454000000000002,0.87375000000000003,270.25,3.4527999999999999,0.7087,3.9916999999999998,4.0914999999999999,10.1229,1.3936999999999999,null,null,null,null,null,null,null,null,null,null,20,"2010-01-18","2010-01-01","2010-01-01","2010-01-23",1.9558,26.183,7.4455999999999998,0.87629999999999997,272.02,3.4527999999999999,0.70820000000000005,4.1017999999999999,4.1464999999999996,10.2136,1.4135,null,null,null,null,null,null,null,null,null,null,null,null,null,null,"2010-06-07",1.9558,25.874285714285712,7.4388142857142849,0.82711428571428569,282.82,3.4527999999999999,0.70779999999999998,4.1272142857142864,4.2200714285714289,9.6016142857142874,1.2038571428571427,null,null,null,null,null,null,null,null,null,null,null,null,null,null,"2011-11-01",1.9557999999999984,25.469533333333331,7.4413666666666671,0.85812999999999984,308.85433333333339,3.4527999999999976,0.70180666666666658,4.426213333333334,4.3559966666666678,9.1381766666666628,1.3575499999999998]
["2010-02-04",1.9558,26.024000000000001,7.4450000000000003,0.87619999999999998,270.02,3.4527999999999999,0.70889999999999997,3.9826999999999999,4.1005000000000003,10.106,1.3984000000000001,null,null,null,null,null,null,null,null,null,null,20,"2010-01-18","2010-01-01","2010-01-01","2010-01-24",1.9558,26.183,7.4455999999999998,0.87629999999999997,272.02,3.4527999999999999,0.70820000000000005,4.1017999999999999,4.1464999999999996,10.2136,1.4135,null,null,null,null,null,null,null,null,null,null,null,null,null,null,"2010-06-14",1.9558,25.711000000000002,7.4386857142857128,0.83274999999999999,279.86857142857144,3.4527999999999999,0.70755714285714288,4.0774999999999997,4.2334428571428573,9.5806714285714296,1.2288285714285714,null,null,null,null,null,null,null,null,null,null,null,null,null,null,"2011-12-01",1.9557999999999982,25.50554838709677,7.4341161290322573,0.84477580645161299,304.40483870967745,3.4527999999999976,0.69749354838709687,4.4776032258064511,4.329187096774195,9.0224967741935487,1.3202161290322583]
["2010-02-05",1.9558,26.12,7.4446000000000003,0.87309999999999999,272.60000000000002,3.4527999999999999,0.70909999999999995,4.0279999999999996,4.125,10.132999999999999,1.3847,null,null,null,null,null,null,null,null,null,null,20,"2010-01-25","2010-01-01","2010-01-01","2010-01-25",1.9558,26.183,7.4455999999999998,0.87629999999999997,272.02,3.4527999999999999,0.70820000000000005,4.1017999999999999,4.1464999999999996,10.2136,1.4135,null,null,null,null,null,null,null,null,null,null,null,null,null,null,"2010-06-21",1.9558,25.767000000000003,7.4421714285714273,0.82748571428571427,281.81,3.4527999999999999,0.70831428571428579,4.0856428571428571,4.2479999999999993,9.5491142857142854,1.2306000000000001,null,null,null,null,null,null,null,null,null,null,null,null,null,null,"2012-01-01",1.9557999999999982,25.545451612903221,7.4352580645161312,0.83233677419354823,308.0667741935485,3.4527999999999976,0.69900645161290353,4.3822967741935486,4.3406935483870948,8.8530064516129023,1.2896677419354843]
["2010-02-06",1.9558,26.184999999999999,7.4448999999999996,0.87324999999999997,274.10000000000002,3.4527999999999999,0.7087,4.0875000000000004,4.1435000000000004,10.240500000000001,1.3691,null,null,null,null,null,null,null,null,null,null,21,"2010-01-25","2010-01-01","2010-01-01","2010-01-26",1.9558,26.010999999999999,7.4450000000000003,0.87729999999999997,271.18,3.4527999999999999,0.70830000000000004,4.0674000000000001,4.1185,10.2075,1.4151,null,null,null,null,null,null,null,null,null,null,null,null,null,null,"2010-06-28",1.9558,25.751428571428569,7.4476000000000004,0.8205714285714284,285.94714285714286,3.4527999999999999,0.70922857142857132,4.1498571428571429,4.3310142857142866,9.5535999999999994,1.2360857142857142,null,null,null,null,null,null,null,null,null,null,null,null,null,null,"2012-02-01",1.9557999999999984,25.066068965517243,7.4340103448275867,0.83665,290.96034482758614,3.4527999999999976,0.69892413793103436,4.1888482758620702,4.3513413793103455,8.8247413793103462,1.3216517241379309]
["2010-02-09",1.9558,26.167999999999999,7.4442000000000004,0.87609999999999999,273.89999999999998,3.4527999999999999,0.70879999999999999,4.1040000000000001,4.1369999999999996,10.1616,1.3674999999999999,null,null,null,null,null,null,null,null,null,null,22,"2010-01-25","2010-01-01","2010-01-01","2010-01-27",1.9558,26.097000000000001,7.4450000000000003,0.87329999999999997,272.75,3.4527999999999999,0.70820000000000005,4.0902000000000003,4.1284999999999998,10.2723,1.4085000000000001,null,null,null,null,null,null,null,null,null,null,null,null,null,null,"2010-07-05",1.9558,25.505714285714287,7.453214285714286,0.83167142857142873,283.28142857142859,3.4527999999999999,0.70920000000000005,4.1032857142857146,4.2462571428571438,9.5561857142857143,1.2594142857142858,null,null,null,null,null,null,null,null,null,null,null,null,null,null,"2012-03-01",1.9557999999999982,24.678774193548389,7.4353645161290292,0.83456129032258064,291.96741935483868,3.4527999999999976,0.69762258064516114,4.133735483870967,4.3658258064516131,8.8827935483870988,1.3206354838709677]
["2010-02-10",1.9558,26.099,7.4447999999999999,0.88039999999999996,272,3.4527999999999999,0.70920000000000005,4.0774999999999997,4.1280000000000001,10.121700000000001,1.3759999999999999,null,null,null,null,null,null,null,null,null,null,23,"2010-01-25","2010-01-01","2010-01-01","2010-01-28",1.9558,26.113,7.4450000000000003,0.86724999999999997,271.75,3.4527999999999999,0.70789999999999997,4.0808,4.1147999999999998,10.2446,1.4072,null,null,null,null,null,null,null,null,null,null,null,null,null,null,"2010-07-12",1.9558,25.402714285714286,7.4527000000000001,0.83782142857142861,279.37142857142857,3.4527999999999999,0.70885714285714285,4.0759285714285713,4.2560999999999991,9.4465714285714295,1.2758428571428571,null,null,null,null,null,null,null,null,null,null,null,null,null,null,"2012-04-01",1.9557999999999984,24.795166666666663,7.43926,0.82283833333333367,295.00299999999999,3.4527999999999976,0.69930333333333339,4.1768233333333331,4.3774333333333315,8.8577933333333316,1.3166033333333325]
["2010-02-11",1.9558,26.108000000000001,7.4448999999999996,0.87980000000000003,271.55,3.4527999999999999,0.70909999999999995,4.0663,4.1180000000000003,10.0335,1.3740000000000001,null,null,null,null,null,null,null,null,null,null,24,"2010-01-25","2010-01-01","2010-01-01","2010-01-29",1.9558,26.231999999999999,7.4447000000000001,0.86160000000000003,271.3,3.4527999999999999,0.70830000000000004,4.0705,4.1360000000000001,10.2021,1.3998999999999999,null,null,null,null,null,null,null,null,null,null,null,null,null,null,"2010-07-19",1.9558,25.298857142857145,7.4519857142857138,0.84253571428571428,286.15571428571428,3.4527999999999999,0.70895714285714284,4.0988571428571436,4.2676285714285713,9.4719857142857133,1.2894571428571429,null,null,null,null,null,null,null,null,null,null,null,null,null,null,"2012-05-01",1.9557999999999982,25.257967741935474,7.4339516129032255,0.80474419354838722,292.84451612903229,3.4527999999999976,0.6981935483870968,4.278870967741935,4.4374451612903236,8.9888838709677419,1.2840870967741935]
["2010-02-12",1.9558,26.007999999999999,7.4451999999999998,0.87749999999999995,270.5,3.4527999999999999,0.70940000000000003,4.0285000000000002,4.1044999999999998,9.9597999999999995,1.3717999999999999,null,null,null,null,null,null,null,null,null,null,25,"2010-01-25","2010-01-01","2010-01-01","2010-01-30",1.9558,26.222999999999999,7.4443000000000001,0.86655000000000004,271.14999999999998,3.4527999999999999,0.7087,4.0462999999999996,4.1055000000000001,10.238799999999999,1.3966000000000001,null,null,null,null,null,null,null,null,null,null,null,null,null,null,"2010-07-26",1.9558,24.956714285714288,7.4516714285714292,0.8357285714285716,285.08142857142855,3.4527999999999999,0.70901428571428571,4.0196857142857132,4.2557714285714283,9.4579000000000004,1.2996857142857141,null,null,null,null,null,null,null,null,null,null,null,null,null,null,"2012-06-01",1.9557999999999984,25.646733333333326,7.432383333333334,0.80598833333333364,294.67966666666672,3.4527999999999976,0.69700666666666655,4.305369999999999,4.4644666666666657,8.8851099999999992,1.2510166666666664]
["2010-02-13",1.9558,26.024999999999999,7.4444999999999997,0.86909999999999998,270.48,3.4527999999999999,0.70909999999999995,4.0171999999999999,4.1268000000000002,9.9144000000000005,1.3572,null,null,null,null,null,null,null,null,null,null,25,"2010-01-25","2010-01-01","2010-01-01","2010-01-31",{"$f":"IF($W35=\"\",\"\",INDEX($A:$Z,$W35,AB$3))","v":1.9558},26.222999999999999,7.4443000000000001,0.86655000000000004,271.14999999999998,3.4527999999999999,0.7087,4.0462999999999996,4.1055000000000001,10.238799999999999,1.3966000000000001,null,null,null,null,null,null,null,null,null,null,null,null,null,null,"2010-08-02",1.9558,24.738,7.4510571428571444,0.82979999999999987,281.13571428571424,3.4527999999999999,0.70845714285714301,3.9935142857142858,4.2483714285714296,9.3831285714285713,1.3152000000000001,null,null,null,null,null,null,null,null,null,null,null,null,null,null,"2012-07-01",1.9557999999999982,25.477935483870962,7.4382838709677435,0.78910000000000013,286.6183870967742,3.4527999999999976,0.69629677419354841,4.1891516129032258,4.5531387096774205,8.5662129032258072,1.2303225806451616]
["2010-02-16",1.9558,26.001999999999999,7.4436999999999998,0.86760000000000004,271.38,3.4527999999999999,0.70850000000000002,4.0167999999999999,4.1150000000000002,9.8804999999999996,1.3607,null,null,null,null,null,null,null,null,null,null,25,"2010-02-01","2010-02-01","2010-01-01","2010-02-01",1.9558,26.222999999999999,7.4443000000000001,0.86655000000000004,271.14999999999998,3.4527999999999999,0.7087,4.0462999999999996,4.1055000000000001,10.238799999999999,1.3966000000000001,null,null,null,null,null,null,null,null,null,null,null,null,null,null,"2010-08-09",1.9558,24.825428571428571,7.450628571428572,0.82664285714285712,280.52714285714285,3.4527999999999999,0.70851428571428576,4.0020428571428566,4.2359142857142853,9.4483000000000015,1.2995142857142856,null,null,null,null,null,null,null,null,null,null,null,null,null,null,"2012-08-01",1.9557999999999982,25.055451612903216,7.4448419354838711,0.78801741935483849,278.70935483870966,3.4527999999999976,0.6963064516129035,4.0907096774193548,4.5268225806451605,8.2738774193548394,1.2373354838709674]
["2010-02-17",1.9558,26.027999999999999,7.4429999999999996,0.87050000000000005,272.37,3.4527999999999999,0.70860000000000001,4.0134999999999996,4.1134000000000004,9.8770000000000007,1.3649,null,null,null,null,null,null,null,null,null,null,26,"2010-02-01","2010-02-01","2010-01-01","2010-02-02",1.9558,26.065000000000001,7.4454000000000002,0.87485000000000002,271.35000000000002,3.4527999999999999,0.7087,4.0045000000000002,4.0862999999999996,10.1417,1.3913,null,null,null,null,null,null,null,null,null,null,null,null,null,null,"2010-08-16",1.9558,24.822571428571429,7.4501285714285714,0.82104999999999995,279.26285714285717,3.4527999999999999,0.70844285714285715,3.973071428571429,4.2312000000000003,9.4665428571428585,1.2802428571428572,null,null,null,null,null,null,null,null,null,null,null,null,null,null,"2012-09-01",1.9557999999999984,24.744633333333336,7.4537433333333336,0.79845733333333324,284.0716666666666,3.4527999999999976,0.69620000000000004,4.1316133333333331,4.4991033333333341,8.4819433333333336,1.2848499999999998]
["2010-02-18",1.9558,25.928999999999998,7.4435000000000002,0.86899999999999999,270.83,3.4527999999999999,0.70920000000000005,3.9769999999999999,4.1188000000000002,9.8183000000000007,1.3726,null,null,null,null,null,null,null,null,null,null,27,"2010-02-01","2010-02-01","2010-01-01","2010-02-03",1.9558,25.998000000000001,7.4454000000000002,0.87375000000000003,270.25,3.4527999999999999,0.7087,3.9916999999999998,4.0914999999999999,10.1229,1.3936999999999999,null,null,null,null,null,null,null,null,null,null,null,null,null,null,"2010-08-23",1.9558,24.826285714285717,7.4484714285714277,0.81892142857142858,283.26428571428568,3.4527999999999999,0.70847142857142853,3.9954714285714283,4.2388714285714286,9.4194714285714269,1.2679714285714287,null,null,null,null,null,null,null,null,null,null,null,null,null,null,"2012-10-01",1.9557999999999982,24.930354838709668,7.4580580645161305,0.80619354838709689,281.92580645161286,3.4527999999999976,0.69618709677419377,4.1059548387096774,4.5646129032258056,8.6123741935483853,1.2973322580645159]
["2010-02-19",1.9558,25.72,7.4432,0.87039999999999995,271.18,3.4527999999999999,0.70899999999999996,4.0007999999999999,4.1351000000000004,9.7912999999999997,1.3567,null,null,null,null,null,null,null,null,null,null,28,"2010-02-01","2010-02-01","2010-01-01","2010-02-04",1.9558,26.024000000000001,7.4450000000000003,0.87619999999999998,270.02,3.4527999999999999,0.70889999999999997,3.9826999999999999,4.1005000000000003,10.106,1.3984000000000001,null,null,null,null,null,null,null,null,null,null,null,null,null,null,"2010-08-30",1.9558,24.75057142857143,7.4455428571428559,0.82744285714285704,285.16857142857145,3.4527999999999999,0.70879999999999999,3.9789999999999992,4.2611857142857144,9.3491999999999997,1.2768428571428572,null,null,null,null,null,null,null,null,null,null,null,null,null,null,"2012-11-01",1.9557999999999984,25.361266666666666,7.4585966666666659,0.80346666666666655,282.45633333333342,3.4527999999999976,0.69620333333333351,4.1354100000000011,4.5294133333333342,8.6039933333333316,1.2820433333333334]
["2010-02-20",1.9558,25.765000000000001,7.4428999999999998,0.87829999999999997,271.3,3.4527999999999999,0.70920000000000005,4.0042999999999997,4.1310000000000002,9.8460000000000001,1.3519000000000001,null,null,null,null,null,null,null,null,null,null,29,"2010-02-01","2010-02-01","2010-01-01","2010-02-05",1.9558,26.12,7.4446000000000003,0.87309999999999999,272.60000000000002,3.4527999999999999,0.70909999999999995,4.0279999999999996,4.125,10.132999999999999,1.3847,null,null,null,null,null,null,null,null,null,null,null,null,null,null,"2010-09-06",1.9558,24.69857142857143,7.4454142857142855,0.82824285714285728,285.43714285714287,3.4527999999999999,0.70891428571428583,3.9399714285714289,4.2822428571428572,9.2652142857142881,1.2759142857142858,null,null,null,null,null,null,null,null,null,null,null,null,null,null,"2012-12-01",1.9557999999999982,25.209387096774183,7.4604451612903206,0.81238064516129005,285.56806451612903,3.4527999999999976,0.69648709677419374,4.0950322580645153,4.4850870967741923,8.6496677419354846,1.3104000000000005]
["2010-02-23",1.9558,25.75,7.4436,0.87970000000000004,269.75,3.4527999999999999,0.70930000000000004,3.9620000000000002,4.1269999999999998,9.8089999999999993,1.3626,null,null,null,null,null,null,null,null,null,null,30,"2010-02-01","2010-02-01","2010-01-01","2010-02-06",1.9558,26.184999999999999,7.4448999999999996,0.87324999999999997,274.10000000000002,3.4527999999999999,0.7087,4.0875000000000004,4.1435000000000004,10.240500000000001,1.3691,null,null,null,null,null,null,null,null,null,null,null,null,null,null,"2010-09-13",1.9558,24.643857142857144,7.446414285714285,0.83330000000000004,282.92142857142852,3.4527999999999999,0.70877142857142861,3.9451999999999998,4.2542285714285715,9.2119857142857153,1.2937571428571428,null,null,null,null,null,null,null,null,null,null,null,null,null,null,"2013-01-01",1.9557999999999982,25.531419354838711,7.4614161290322576,0.83041935483870977,294.09451612903223,3.4527999999999976,0.69775806451612898,4.1343193548387092,4.3858451612903222,8.6202225806451569,1.32688064516129]
["2010-02-24",1.9558,25.805,7.4433999999999996,0.88019999999999998,269.8,3.4527999999999999,0.70930000000000004,3.9702999999999999,4.1241000000000003,9.7912999999999997,1.3576999999999999,null,null,null,null,null,null,null,null,null,null,30,"2010-02-01","2010-02-01","2010-01-01","2010-02-07",1.9558,26.184999999999999,7.4448999999999996,0.87324999999999997,274.10000000000002,3.4527999999999999,0.7087,4.0875000000000004,4.1435000000000004,10.240500000000001,1.3691,null,null,null,null,null,null,null,null,null,null,null,null,null,null,"2010-09-20",1.9558,24.639714285714287,7.4490857142857134,0.8474571428571428,280.27857142857141,3.4527999999999999,0.70927142857142855,3.9608571428571437,4.2569142857142861,9.185771428571428,1.3252142857142857,null,null,null,null,null,null,null,null,null,null,null,null,null,null,"2013-02-01",1.9557999999999984,25.464607142857144,7.4599821428571422,0.86089107142857135,292.50535714285724,3.4527999999999976,0.69980000000000009,4.1717500000000003,4.385014285714286,8.5203964285714289,1.3380714285714286]
["2010-02-25",1.9558,25.88,7.4427000000000003,0.87749999999999995,270.5,3.4527999999999999,0.70930000000000004,3.9925999999999999,4.1260000000000003,9.7850000000000001,1.3547,null,null,null,null,null,null,null,null,null,null,30,"2010-02-08","2010-02-01","2010-01-01","2010-02-08",1.9558,26.184999999999999,7.4448999999999996,0.87324999999999997,274.10000000000002,3.4527999999999999,0.7087,4.0875000000000004,4.1435000000000004,10.240500000000001,1.3691,null,null,null,null,null,null,null,null,null,null,null,null,null,null,"2010-09-27",1.9558,24.547285714285717,7.4515000000000002,0.85866428571428588,276.14142857142855,3.4527999999999999,0.70941428571428577,3.9621571428571434,4.2615857142857143,9.1907428571428564,1.3580000000000001,null,null,null,null,null,null,null,null,null,null,null,null,null,null,"2013-03-01",1.9557999999999982,25.656354838709678,7.4555322580645154,0.85994516129032272,302.42612903225802,3.4527999999999976,0.70128709677419354,4.1572354838709673,4.3913483870967758,8.3557225806451587,1.2976096774193546]
["2010-02-26",1.9558,25.934999999999999,7.4427000000000003,0.88090000000000002,270.45,3.4527999999999999,0.70930000000000004,3.9925999999999999,4.1260000000000003,9.7495999999999992,1.3489,null,null,null,null,null,null,null,null,null,null,31,"2010-02-08","2010-02-01","2010-01-01","2010-02-09",1.9558,26.167999999999999,7.4442000000000004,0.87609999999999999,273.89999999999998,3.4527999999999999,0.70879999999999999,4.1040000000000001,4.1369999999999996,10.1616,1.3674999999999999,null,null,null,null,null,null,null,null,null,null,null,null,null,null,"2010-10-04",1.9558,24.487857142857145,7.4549285714285727,0.87104999999999999,273.36571428571426,3.4527999999999999,0.70912857142857155,3.9605142857142859,4.2692571428571426,9.282114285714286,1.3826428571428571,null,null,null,null,null,null,null,null,null,null,null,null,null,null,"2013-04-01",1.9557999999999984,25.827066666666664,7.4553299999999991,0.84997333333333325,299.05833333333334,3.4527999999999976,0.70062999999999998,4.1379400000000013,4.3828900000000006,8.4373299999999993,1.3010133333333334]
["2010-02-27",1.9558,25.97,7.4428000000000001,0.89270000000000005,269.89999999999998,3.4527999999999999,0.70920000000000005,3.9698000000000002,4.1144999999999996,9.7260000000000009,1.357,null,null,null,null,null,null,null,null,null,null,32,"2010-02-08","2010-02-01","2010-01-01","2010-02-10",{"$f":"IF($W45=\"\",\"\",INDEX($A:$Z,$W45,AB$3))","v":1.9558},26.099,7.4447999999999999,0.88039999999999996,272,3.4527999999999999,0.70920000000000005,4.0774999999999997,4.1280000000000001,10.121700000000001,1.3759999999999999,null,null,null,null,null,null,null,null,null,null,null,null,null,null,"2010-10-11",1.9558,24.49942857142857,7.4567428571428573,0.87695714285714288,274.12428571428569,3.4527999999999999,0.70937142857142843,3.9390285714285715,4.2736571428571422,9.2543857142857142,1.3982857142857144,null,null,null,null,null,null,null,null,null,null,null,null,null,null,"2013-05-01",1.9557999999999982,25.879967741935484,7.4537032258064535,0.84820322580645169,292.80387096774194,3.4527999999999976,0.70005161290322571,4.1704548387096771,4.3326161290322585,8.5690516129032268,1.298590322580645]
["2010-03-02",1.9558,25.933,7.4427000000000003,0.90669999999999995,269.45,3.4527999999999999,0.70920000000000005,3.94,4.1109999999999998,9.7649000000000008,1.3525,null,null,null,null,null,null,null,null,null,null,33,"2010-02-08","2010-02-01","2010-01-01","2010-02-11",1.9558,26.108000000000001,7.4448999999999996,0.87980000000000003,271.55,3.4527999999999999,0.70909999999999995,4.0663,4.1180000000000003,10.0335,1.3740000000000001,null,null,null,null,null,null,null,null,null,null,null,null,null,null,"2010-10-18",1.9558,24.552285714285716,7.4576000000000002,0.88279999999999992,275.49714285714288,3.4527999999999999,0.70964285714285713,3.9449999999999994,4.2972285714285716,9.2767285714285723,1.3941285714285716,null,null,null,null,null,null,null,null,null,null,null,null,null,null,"2013-06-01","","","","","","","","","","",""]
["2010-03-03",1.9558,25.77,7.4423000000000004,0.90634999999999999,266.89999999999998,3.4527999999999999,0.70930000000000004,3.9146999999999998,4.1066000000000003,9.7316000000000003,1.3548,null,null,null,null,null,null,null,null,null,null,34,"2010-02-08","2010-02-01","2010-01-01","2010-02-12",1.9558,26.007999999999999,7.4451999999999998,0.87749999999999995,270.5,3.4527999999999999,0.70940000000000003,4.0285000000000002,4.1044999999999998,9.9597999999999995,1.3717999999999999,null,null,null,null,null,null,null,null,null,null,null,null,null,null,"2010-10-25",1.9558,24.606142857142856,7.4575142857142867,0.87666428571428567,273.61285714285714,3.4527999999999999,0.70962857142857139,3.9593714285714285,4.2747000000000002,9.3040571428571432,1.3893,null,null,null,null,null,null,null,null,null,null,null,null,null,null,"2013-07-01","","","","","","","","","","",""]
["2010-03-04",1.9558,25.765000000000001,7.4420000000000002,0.90569999999999995,266.02,3.4527999999999999,0.70930000000000004,3.9,4.1005000000000003,9.7944999999999993,1.3641000000000001,null,null,null,null,null,null,null,null,null,null,35,"2010-02-08","2010-02-01","2010-01-01","2010-02-13",1.9558,26.024999999999999,7.4444999999999997,0.86909999999999998,270.48,3.4527999999999999,0.70909999999999995,4.0171999999999999,4.1268000000000002,9.9144000000000005,1.3572,null,null,null,null,null,null,null,null,null,null,null,null,null,null,"2010-11-01",1.9558,24.529428571428575,7.4552428571428582,0.8703142857142856,272.15428571428572,3.4527999999999999,0.70969999999999989,3.9379142857142857,4.285914285714286,9.3030714285714282,1.403242857142857,null,null,null,null,null,null,null,null,null,null,null,null,null,null,"2013-08-01","","","","","","","","","","",""]
["2010-03-05",1.9558,25.818000000000001,7.4423000000000004,0.90500000000000003,266.02,3.4527999999999999,0.70909999999999995,3.9009999999999998,4.0884999999999998,9.7430000000000003,1.3668,null,null,null,null,null,null,null,null,null,null,35,"2010-02-08","2010-02-01","2010-01-01","2010-02-14",1.9558,26.024999999999999,7.4444999999999997,0.86909999999999998,270.48,3.4527999999999999,0.70909999999999995,4.0171999999999999,4.1268000000000002,9.9144000000000005,1.3572,null,null,null,null,null,null,null,null,null,null,null,null,null,null,"2010-11-08",1.9558,24.607857142857142,7.4538714285714294,0.85718571428571422,274.91714285714284,3.4527999999999999,0.70931428571428579,3.9187428571428566,4.2882428571428575,9.3167714285714283,1.3834,null,null,null,null,null,null,null,null,null,null,null,null,null,null,"2013-09-01","","","","","","","","","","",""]
["2010-03-06",1.9558,25.771000000000001,7.4420999999999999,0.90249999999999997,266.77999999999997,3.4527999999999999,0.70889999999999997,3.8755000000000002,4.0910000000000002,9.7178000000000004,1.3582000000000001,null,null,null,null,null,null,null,null,null,null,35,"2010-02-15","2010-02-01","2010-01-01","2010-02-15",1.9558,26.024999999999999,7.4444999999999997,0.86909999999999998,270.48,3.4527999999999999,0.70909999999999995,4.0171999999999999,4.1268000000000002,9.9144000000000005,1.3572,null,null,null,null,null,null,null,null,null,null,null,null,null,null,"2010-11-15",1.9558,24.649285714285714,7.4548142857142849,0.85159285714285715,275.87714285714287,3.4527999999999999,0.7092857142857143,3.9380857142857146,4.2960000000000003,9.3781142857142878,1.3632142857142857,null,null,null,null,null,null,null,null,null,null,null,null,null,null,"2013-10-01","","","","","","","","","","",""]
["2010-03-09",1.9558,25.577999999999999,7.4420000000000002,0.90239999999999998,265.33999999999997,3.4527999999999999,0.70840000000000003,3.8681000000000001,4.09,9.6793999999999993,1.3662000000000001,null,null,null,null,null,null,null,null,null,null,36,"2010-02-15","2010-02-01","2010-01-01","2010-02-16",1.9558,26.001999999999999,7.4436999999999998,0.86760000000000004,271.38,3.4527999999999999,0.70850000000000002,4.0167999999999999,4.1150000000000002,9.8804999999999996,1.3607,null,null,null,null,null,null,null,null,null,null,null,null,null,null,"2010-11-22",1.9558,24.706,7.455057142857143,0.84824285714285708,276.48428571428576,3.4527999999999999,0.70944285714285715,3.975857142857143,4.3053000000000008,9.3347571428571428,1.3418142857142856,null,null,null,null,null,null,null,null,null,null,null,null,null,null,"2013-11-01","","","","","","","","","","",""]
["2010-03-10",1.9558,25.666,7.4417,0.90639999999999998,267.2,3.4527999999999999,0.70840000000000003,3.8954,4.0999999999999996,9.7279999999999998,1.3556999999999999,null,null,null,null,null,null,null,null,null,null,37,"2010-02-15","2010-02-01","2010-01-01","2010-02-17",1.9558,26.027999999999999,7.4429999999999996,0.87050000000000005,272.37,3.4527999999999999,0.70860000000000001,4.0134999999999996,4.1134000000000004,9.8770000000000007,1.3649,null,null,null,null,null,null,null,null,null,null,null,null,null,null,"2010-11-29",1.9558,24.914999999999999,7.4531285714285715,0.84373571428571437,279.98857142857145,3.4527999999999999,0.70961428571428553,4.0229142857142861,4.3021142857142847,9.1798714285714276,1.316157142857143,null,null,null,null,null,null,null,null,null,null,null,null,null,null,"2013-12-01","","","","","","","","","","",""]
["2010-03-11",1.9558,25.616,7.4410999999999996,0.91139999999999999,266.87,3.4527999999999999,0.70799999999999996,3.86,4.0949999999999998,9.718,1.361,null,null,null,null,null,null,null,null,null,null,38,"2010-02-15","2010-02-01","2010-01-01","2010-02-18",1.9558,25.928999999999998,7.4435000000000002,0.86899999999999999,270.83,3.4527999999999999,0.70920000000000005,3.9769999999999999,4.1188000000000002,9.8183000000000007,1.3726,null,null,null,null,null,null,null,null,null,null,null,null,null,null,"2010-12-06",1.9558,25.091285714285714,7.4539571428571421,0.84158571428571438,278.40285714285716,3.4527999999999999,0.70972857142857126,4.0255571428571431,4.3007142857142853,9.1186857142857143,1.3255857142857141,null,null,null,null,null,null,null,null,null,null,null,null,null,null,"2014-01-01"]
["2010-03-12",1.9558,25.555,7.4409000000000001,0.90859999999999996,266.92,3.4527999999999999,0.70799999999999996,3.9011999999999998,4.0952999999999999,9.7285000000000004,1.3656999999999999,null,null,null,null,null,null,null,null,null,null,39,"2010-02-15","2010-02-01","2010-01-01","2010-02-19",1.9558,25.72,7.4432,0.87039999999999995,271.18,3.4527999999999999,0.70899999999999996,4.0007999999999999,4.1351000000000004,9.7912999999999997,1.3567,null,null,null,null,null,null,null,null,null,null,null,null,null,null,"2010-12-13",1.9558,25.178428571428565,7.4520571428571429,0.84772857142857128,275.3857142857143,3.4527999999999999,0.70971428571428574,3.9931571428571431,4.2924999999999995,9.0778571428571428,1.3294857142857146]
["2010-03-13",1.9558,25.516999999999999,7.4412000000000003,0.9083,266.14999999999998,3.4527999999999999,0.70820000000000005,3.9039999999999999,4.0914999999999999,9.7287999999999997,1.3765000000000001,null,null,null,null,null,null,null,null,null,null,40,"2010-02-15","2010-02-01","2010-01-01","2010-02-20",{"$f":"IF($W55=\"\",\"\",INDEX($A:$Z,$W55,AB$3))","v":1.9558},25.765000000000001,7.4428999999999998,0.87829999999999997,271.3,3.4527999999999999,0.70920000000000005,4.0042999999999997,4.1310000000000002,9.8460000000000001,1.3519000000000001,null,null,null,null,null,null,null,null,null,null,null,null,null,null,"2010-12-20",1.9558,25.283142857142856,7.4515571428571432,0.84927857142857133,276.60142857142858,3.4527999999999999,0.70950000000000002,3.9819999999999998,4.2890714285714298,8.9870000000000001,1.3133714285714286]
["2010-03-16",1.9558,25.49,7.4413999999999998,0.91049999999999998,264.60000000000002,3.4527999999999999,0.70760000000000001,3.895,4.0880000000000001,9.7142999999999997,1.3705000000000001,null,null,null,null,null,null,null,null,null,null,40,"2010-02-15","2010-02-01","2010-01-01","2010-02-21",1.9558,25.765000000000001,7.4428999999999998,0.87829999999999997,271.3,3.4527999999999999,0.70920000000000005,4.0042999999999997,4.1310000000000002,9.8460000000000001,1.3519000000000001,null,null,null,null,null,null,null,null,null,null,null,null,null,null,"2010-12-27",1.9558,25.236857142857144,7.4534999999999991,0.85585000000000011,278.78285714285715,3.4527999999999999,0.7095285714285714,3.9722571428571434,4.2821571428571437,8.9850285714285718,1.3224285714285713]
["2010-03-17",1.9558,25.504000000000001,7.4406999999999996,0.90690000000000004,264.19,3.4527999999999999,0.7077,3.8864999999999998,4.0892999999999997,9.7241999999999997,1.3723000000000001,null,null,null,null,null,null,null,null,null,null,40,"2010-02-22","2010-02-01","2010-01-01","2010-02-22",1.9558,25.765000000000001,7.4428999999999998,0.87829999999999997,271.3,3.4527999999999999,0.70920000000000005,4.0042999999999997,4.1310000000000002,9.8460000000000001,1.3519000000000001,null,null,null,null,null,null,null,null,null,null,null,null,null,null,"2011-01-03",1.9558,24.821714285714286,7.4521285714285712,0.85003000000000006,277.10428571428571,3.4527999999999999,0.70551428571428576,3.9113285714285717,4.2637428571428568,8.9404428571428571,1.3193857142857144]
["2010-03-18",1.9558,25.402000000000001,7.4405999999999999,0.8962,262.24,3.4527999999999999,0.70779999999999998,3.8681999999999999,4.0811999999999999,9.7402999999999995,1.3755999999999999,null,null,null,null,null,null,null,null,null,null,41,"2010-02-22","2010-02-01","2010-01-01","2010-02-23",1.9558,25.75,7.4436,0.87970000000000004,269.75,3.4527999999999999,0.70930000000000004,3.9620000000000002,4.1269999999999998,9.8089999999999993,1.3626,null,null,null,null,null,null,null,null,null,null,null,null,null,null,"2011-01-10",1.9558,24.470571428571436,7.4498428571428565,0.83624285714285718,277.18714285714287,3.4527999999999999,0.70121428571428568,3.8768285714285708,4.260185714285714,8.9184714285714293,1.3097428571428573]
["2010-03-19",1.9558,25.283999999999999,7.4406999999999996,0.89400000000000002,261.92,3.4527999999999999,0.70809999999999995,3.8730000000000002,4.0776000000000003,9.7242999999999995,1.3660000000000001,null,null,null,null,null,null,null,null,null,null,42,"2010-02-22","2010-02-01","2010-01-01","2010-02-24",1.9558,25.805,7.4433999999999996,0.88019999999999998,269.8,3.4527999999999999,0.70930000000000004,3.9702999999999999,4.1241000000000003,9.7912999999999997,1.3576999999999999,null,null,null,null,null,null,null,null,null,null,null,null,null,null,"2011-01-17",1.9558,24.321714285714286,7.451485714285714,0.84247857142857152,274.26000000000005,3.4527999999999999,0.70265714285714276,3.8789000000000002,4.2621714285714285,8.9446142857142839,1.3435857142857144]
["2010-03-20",1.9558,25.364999999999998,7.4409000000000001,0.89449999999999996,262.7,3.4527999999999999,0.70789999999999997,3.8795000000000002,4.0819999999999999,9.6775000000000002,1.3548,null,null,null,null,null,null,null,null,null,null,43,"2010-02-22","2010-02-01","2010-01-01","2010-02-25",1.9558,25.88,7.4427000000000003,0.87749999999999995,270.5,3.4527999999999999,0.70930000000000004,3.9925999999999999,4.1260000000000003,9.7850000000000001,1.3547,null,null,null,null,null,null,null,null,null,null,null,null,null,null,"2011-01-24",1.9558,24.240142857142853,7.4534714285714285,0.85806428571428572,273.43,3.4527999999999999,0.70408571428571431,3.8901428571428567,4.2630857142857144,8.8898714285714284,1.3643571428571428]
["2010-03-23",1.9558,25.465,7.4404000000000003,0.89900000000000002,265.3,3.4527999999999999,0.70799999999999996,3.9249999999999998,4.0914999999999999,9.7584999999999997,1.3471,null,null,null,null,null,null,null,null,null,null,44,"2010-02-22","2010-02-01","2010-01-01","2010-02-26",1.9558,25.934999999999999,7.4427000000000003,0.88090000000000002,270.45,3.4527999999999999,0.70930000000000004,3.9925999999999999,4.1260000000000003,9.7495999999999992,1.3489,null,null,null,null,null,null,null,null,null,null,null,null,null,null,"2011-01-31",1.9558,24.118571428571432,7.4546571428571431,0.85290714285714286,271.02714285714285,3.4527999999999999,0.70231428571428578,3.9135999999999997,4.2604857142857142,8.8433571428571423,1.3709571428571425]
["2010-03-24",1.9558,25.442,7.4405000000000001,0.90049999999999997,264.61,3.4527999999999999,0.70809999999999995,3.8952,4.0724999999999998,9.7285000000000004,1.3519000000000001,null,null,null,null,null,null,null,null,null,null,45,"2010-02-22","2010-02-01","2010-01-01","2010-02-27",1.9558,25.97,7.4428000000000001,0.89270000000000005,269.89999999999998,3.4527999999999999,0.70920000000000005,3.9698000000000002,4.1144999999999996,9.7260000000000009,1.357,null,null,null,null,null,null,null,null,null,null,null,null,null,null,"2011-02-07",1.9558,24.151999999999997,7.4555285714285713,0.8464571428571428,270.99714285714288,3.4527999999999999,0.70299999999999996,3.9038571428571425,4.2593714285714279,8.8016142857142849,1.3588285714285713]
["2010-03-25",1.9558,25.378,7.4404000000000003,0.89459999999999995,264.02999999999997,3.4527999999999999,0.70789999999999997,3.8885999999999998,4.0685000000000002,9.6921999999999997,1.3338000000000001,null,null,null,null,null,null,null,null,null,null,45,"2010-02-22","2010-02-01","2010-01-01","2010-02-28",1.9558,25.97,7.4428000000000001,0.89270000000000005,269.89999999999998,3.4527999999999999,0.70920000000000005,3.9698000000000002,4.1144999999999996,9.7260000000000009,1.357,null,null,null,null,null,null,null,null,null,null,null,null,null,null,"2011-02-14",1.9558,24.311142857142858,7.4558714285714283,0.84071428571428564,270.74285714285713,3.4527999999999999,0.70491428571428572,3.9196285714285715,4.2486142857142859,8.7464285714285701,1.3542571428571428]
["2010-03-26",1.9558,25.363,7.4417,0.89439999999999997,263.73,3.4527999999999999,0.70740000000000003,3.8879999999999999,4.0632999999999999,9.6649999999999991,1.3355999999999999,null,null,null,null,null,null,null,null,null,null,45,"2010-03-01","2010-03-01","2010-01-01","2010-03-01",1.9558,25.97,7.4428000000000001,0.89270000000000005,269.89999999999998,3.4527999999999999,0.70920000000000005,3.9698000000000002,4.1144999999999996,9.7260000000000009,1.357,null,null,null,null,null,null,null,null,null,null,null,null,null,null,"2011-02-21",1.9558,24.477428571428568,7.4551000000000007,0.84794857142857138,272.20857142857142,3.4527999999999999,0.70441428571428566,3.9579,4.2265857142857142,8.7911142857142863,1.3712857142857142]
["2010-03-27",1.9558,25.417999999999999,7.4417999999999997,0.90039999999999998,265.02999999999997,3.4527999999999999,0.70779999999999998,3.8893,4.0717999999999996,9.7082999999999995,1.3352999999999999,null,null,null,null,null,null,null,null,null,null,46,"2010-03-01","2010-03-01","2010-01-01","2010-03-02",{"$f":"IF($W65=\"\",\"\",INDEX($A:$Z,$W65,AB$3))","v":1.9558},25.933,7.4427000000000003,0.90669999999999995,269.45,3.4527999999999999,0.70920000000000005,3.94,4.1109999999999998,9.7649000000000008,1.3525,null,null,null,null,null,null,null,null,null,null,null,null,null,null,"2011-02-28",1.9558,24.329714285714289,7.4562428571428558,0.85324285714285708,271.75,3.4527999999999999,0.70489999999999997,3.9779000000000004,4.2070999999999996,8.7780142857142867,1.3856285714285712]
["2010-03-30",1.9558,25.452999999999999,7.4419000000000004,0.89939999999999998,266,3.4527999999999999,0.70799999999999996,3.8915999999999999,4.0682,9.7759999999999998,1.3471,null,null,null,null,null,null,null,null,null,null,47,"2010-03-01","2010-03-01","2010-01-01","2010-03-03",1.9558,25.77,7.4423000000000004,0.90634999999999999,266.89999999999998,3.4527999999999999,0.70930000000000004,3.9146999999999998,4.1066000000000003,9.7316000000000003,1.3548,null,null,null,null,null,null,null,null,null,null,null,null,null,null,"2011-03-07",1.9558,24.299000000000003,7.4577428571428568,0.85964285714285726,272.52714285714285,3.4527999999999999,0.70619999999999994,4.000285714285714,4.193542857142857,8.8286428571428583,1.3881999999999999]
["2010-03-31",1.9558,25.443000000000001,7.4439000000000002,0.89329999999999998,265.89999999999998,3.4527999999999999,0.70879999999999999,3.8759000000000001,4.0715000000000003,9.7803000000000004,1.3482000000000001,null,null,null,null,null,null,null,null,null,null,48,"2010-03-01","2010-03-01","2010-01-01","2010-03-04",1.9558,25.765000000000001,7.4420000000000002,0.90569999999999995,266.02,3.4527999999999999,0.70930000000000004,3.9,4.1005000000000003,9.7944999999999993,1.3641000000000001,null,null,null,null,null,null,null,null,null,null,null,null,null,null,"2011-03-14",1.9558,24.37142857142857,7.4580142857142855,0.8681214285714286,273.39,3.4527999999999999,0.70674285714285712,4.0557428571428575,4.1789571428571426,8.9155714285714289,1.3974285714285715]
["2010-04-01",1.9558,25.44,7.4447000000000001,0.88980000000000004,265.75,3.4527999999999999,0.70850000000000002,3.8673000000000002,4.0970000000000004,9.7134999999999998,1.3479000000000001,null,null,null,null,null,null,null,null,null,null,49,"2010-03-01","2010-03-01","2010-01-01","2010-03-05",1.9558,25.818000000000001,7.4423000000000004,0.90500000000000003,266.02,3.4527999999999999,0.70909999999999995,3.9009999999999998,4.0884999999999998,9.7430000000000003,1.3668,null,null,null,null,null,null,null,null,null,null,null,null,null,null,"2011-03-21",1.9558,24.477714285714285,7.4573714285714283,0.87327142857142859,269.28142857142859,3.4527999999999999,0.70871428571428563,4.0308428571428569,4.1204000000000001,8.9428571428571413,1.4146999999999998]
["2010-04-02",1.9558,25.385000000000002,7.4447999999999999,0.88485000000000003,264.77999999999997,3.4527999999999999,0.70889999999999997,3.8458000000000001,4.1081000000000003,9.7287999999999997,1.3468,null,null,null,null,null,null,null,null,null,null,{"$f":"IF(AA69>MaxDate,\"\",MATCH(AA69,$A:$A,1))","v":50},"2010-03-01","2010-03-01","2010-01-01","2010-03-06",1.9558,25.771000000000001,7.4420999999999999,0.90249999999999997,266.77999999999997,3.4527999999999999,0.70889999999999997,3.8755000000000002,4.0910000000000002,9.7178000000000004,1.3582000000000001,null,null,null,null,null,null,null,null,null,null,null,null,null,null,"2011-03-28",{"$f":"IF(MaxDate>=$BA70,SUMIF($X:$X,$BA69,AB:AB)/COUNTIF($X:$X,$BA69),\"\")","v":1.9558},{"$f":"IF(MaxDate>=$BA70,SUMIF($X:$X,$BA69,AC:AC)/COUNTIF($X:$X,$BA69),\"\")","v":24.52542857142857},{"$f":"IF(MaxDate>=$BA70,SUMIF($X:$X,$BA69,AD:AD)/COUNTIF($X:$X,$BA69),\"\")","v":7.4570857142857152},{"$f":"IF(MaxDate>=$BA70,SUMIF($X:$X,$BA69,AE:AE)/COUNTIF($X:$X,$BA69),\"\")","v":0.88044285714285719},{"$f":"IF(MaxDate>=$BA70,SUMIF($X:$X,$BA69,AF:AF)/COUNTIF($X:$X,$BA69),\"\")","v":266.67857142857144},{"$f":"IF(MaxDate>=$BA70,SUMIF($X:$X,$BA69,AG:AG)/COUNTIF($X:$X,$BA69),\"\")","v":3.4527999999999999},{"$f":"IF(MaxDate>=$BA70,SUMIF($X:$X,$BA69,AH:AH)/COUNTIF($X:$X,$BA69),\"\")","v":0.70920000000000005},{"$f":"IF(MaxDate>=$BA70,SUMIF($X:$X,$BA69,AI:AI)/COUNTIF($X:$X,$BA69),\"\")","v":4.0119857142857143},{"$f":"IF(MaxDate>=$BA70,SUMIF($X:$X,$BA69,AJ:AJ)/COUNTIF($X:$X,$BA69),\"\")","v":4.1178714285714282},{"$f":"IF(MaxDate>=$BA70,SUMIF($X:$X,$BA69,AK:AK)/COUNTIF($X:$X,$BA69),\"\")","v":8.9539857142857162},{"$f":"IF(MaxDate>=$BA70,SUMIF($X:$X,$BA69,AL:AL)/COUNTIF($X:$X,$BA69),\"\")","v":1.4113142857142855}]
["2010-04-07",1.9558,25.295000000000002,7.4440999999999997,0.88239999999999996,265.27999999999997,3.4527999999999999,0.70760000000000001,3.8349000000000002,4.0940000000000003,9.6630000000000003,1.3395999999999999,null,null,null,null,null,null,null,null,null,null,50,{"$f":"IF(W70=\"\",\"\",IF(WEEKDAY(AA70,2)=1,AA70,X69))","v":"2010-03-01"},{"$f":"IF(W70=\"\",\"\",DATE(YEAR(AA70),MONTH(AA70),1))","v":"2010-03-01"},{"$f":"IF(W70=\"\",\"\",DATE(YEAR(AA70),1,1))","v":"2010-01-01"},"2010-03-07",1.9558,25.771000000000001,7.4420999999999999,0.90249999999999997,266.77999999999997,3.4527999999999999,0.70889999999999997,3.8755000000000002,4.0910000000000002,9.7178000000000004,1.3582000000000001,null,null,null,null,null,null,null,null,null,null,null,null,null,null,"2011-04-04",1.9558,24.448857142857147,7.4569714285714284,0.87865714285714291,264.54285714285709,3.4527999999999999,0.70907142857142857,3.9942285714285712,4.1179999999999994,8.9932285714285722,1.4275999999999998]
["2010-04-08",1.9558,25.24,7.4435000000000002,0.87885000000000002,266.2,3.4527999999999999,0.70699999999999996,3.8384999999999998,4.0942999999999996,9.6754999999999995,1.3340000000000001,null,null,null,null,null,null,null,null,null,null,50,"2010-03-08","2010-03-01","2010-01-01",{"$f":"1+AA70","v":"2010-03-08"},1.9558,25.771000000000001,7.4420999999999999,0.90249999999999997,266.77999999999997,3.4527999999999999,0.70889999999999997,3.8755000000000002,4.0910000000000002,9.7178000000000004,1.3582000000000001,null,null,null,null,null,null,null,null,null,null,null,null,null,null,{"$f":"7+BA70","v":"2011-04-11"},1.9558,24.342571428571425,7.4580285714285717,0.88469999999999993,266.24285714285713,3.4527999999999999,0.70915714285714271,3.9587428571428576,4.1061714285714288,9.0107857142857135,1.4442714285714284]
["2010-04-09",1.9559,25.19,7.4438000000000004,0.875,268.89999999999998,3.4527999999999999,0.70679999999999998,3.8498000000000001,4.1185,9.6784999999999997,1.3295999999999999,null,null,null,null,null,null,null,null,null,null,51,"2010-03-08","2010-03-01","2010-01-01","2010-03-09",1.9558,25.577999999999999,7.4420000000000002,0.90239999999999998,265.33999999999997,3.4527999999999999,0.70840000000000003,3.8681000000000001,4.09,9.6793999999999993,1.3662000000000001,null,null,null,null,null,null,null,null,null,null,null,null,null,null,"2011-04-18",1.9558,24.177142857142858,7.4576428571428579,0.88141428571428548,265.26428571428568,3.4527999999999999,0.70927142857142844,3.9591000000000003,4.088857142857143,8.912685714285713,1.4470571428571426]
["2010-04-10",1.9558,25.231999999999999,7.4429999999999996,0.872,267.7,3.4527999999999999,0.70640000000000003,3.8769999999999998,4.1422999999999996,9.6941000000000006,1.3384,null,null,null,null,null,null,null,null,null,null,52,"2010-03-08","2010-03-01","2010-01-01","2010-03-10",1.9558,25.666,7.4417,0.90639999999999998,267.2,3.4527999999999999,0.70840000000000003,3.8954,4.0999999999999996,9.7279999999999998,1.3556999999999999,null,null,null,null,null,null,null,null,null,null,null,null,null,null,"2011-04-25",1.9558,24.166571428571427,7.4570857142857152,0.88690714285714289,264.33571428571429,3.4527999999999999,0.70929999999999993,3.9389285714285718,4.0795285714285709,8.9135857142857144,1.4709571428571431]
["2010-04-13",1.9558,25.164999999999999,7.4429999999999996,0.88249999999999995,265.20999999999998,3.4527999999999999,0.70650000000000002,3.8664999999999998,4.1280000000000001,9.7460000000000004,1.3585,null,null,null,null,null,null,null,null,null,null,53,"2010-03-08","2010-03-01","2010-01-01","2010-03-11",1.9558,25.616,7.4410999999999996,0.91139999999999999,266.87,3.4527999999999999,0.70799999999999996,3.86,4.0949999999999998,9.718,1.361,null,null,null,null,null,null,null,null,null,null,null,null,null,null,"2011-05-02",1.9558,24.165285714285712,7.4571142857142858,0.89202857142857128,264.84571428571428,3.4527999999999999,0.70939999999999992,3.9423857142857139,4.1053714285714289,8.9886428571428585,1.4739285714285713]
["2010-04-14",1.9558,25.155000000000001,7.4435000000000002,0.88119999999999998,264.58,3.4527999999999999,0.70660000000000001,3.8828,4.1390000000000002,9.7575000000000003,1.3583000000000001,null,null,null,null,null,null,null,null,null,null,54,"2010-03-08","2010-03-01","2010-01-01","2010-03-12",{"$f":"IF($W75=\"\",\"\",INDEX($A:$Z,$W75,AB$3))","v":1.9558},25.555,7.4409000000000001,0.90859999999999996,266.92,3.4527999999999999,0.70799999999999996,3.9011999999999998,4.0952999999999999,9.7285000000000004,1.3656999999999999,null,null,null,null,null,null,null,null,null,null,null,null,null,null,"2011-05-09",1.9558,24.258142857142854,7.4562857142857144,0.87683571428571427,265.29285714285709,3.4527999999999999,0.70934285714285716,3.9246000000000003,4.1063857142857145,8.9785571428571433,1.4332285714285713]
["2010-04-15",1.9558,25.047999999999998,7.4431000000000003,0.88139999999999996,262.64999999999998,3.4527999999999999,0.70820000000000005,3.8549000000000002,4.1440000000000001,9.7326999999999995,1.3614999999999999,null,null,null,null,null,null,null,null,null,null,55,"2010-03-08","2010-03-01","2010-01-01","2010-03-13",1.9558,25.516999999999999,7.4412000000000003,0.9083,266.14999999999998,3.4527999999999999,0.70820000000000005,3.9039999999999999,4.0914999999999999,9.7287999999999997,1.3765000000000001,null,null,null,null,null,null,null,null,null,null,null,null,null,null,"2011-05-16",1.9558,24.448571428571427,7.4566857142857135,0.87705714285714287,268.18142857142857,3.4527999999999999,0.70927142857142855,3.925642857142857,4.1132714285714282,8.9740571428571432,1.4222857142857142]
["2010-04-16",1.9558,25.085000000000001,7.4428000000000001,0.87734999999999996,263.3,3.4527999999999999,0.70820000000000005,3.8582999999999998,4.1410999999999998,9.7068999999999992,1.3544,null,null,null,null,null,null,null,null,null,null,55,"2010-03-08","2010-03-01","2010-01-01","2010-03-14",1.9558,25.516999999999999,7.4412000000000003,0.9083,266.14999999999998,3.4527999999999999,0.70820000000000005,3.9039999999999999,4.0914999999999999,9.7287999999999997,1.3765000000000001,null,null,null,null,null,null,null,null,null,null,null,null,null,null,"2011-05-23",1.9558,24.564428571428572,7.4564571428571442,0.86986428571428576,269.2285714285714,3.4527999999999999,0.70929999999999993,3.9591000000000003,4.1267571428571426,8.9150714285714283,1.4159000000000004]
["2010-04-17",1.9558,25.178000000000001,7.4424000000000001,0.87709999999999999,263.45,3.4527999999999999,0.70809999999999995,3.8742999999999999,4.1463000000000001,9.6869999999999994,1.3534999999999999,null,null,null,null,null,null,null,null,null,null,55,"2010-03-15","2010-03-01","2010-01-01","2010-03-15",1.9558,25.516999999999999,7.4412000000000003,0.9083,266.14999999999998,3.4527999999999999,0.70820000000000005,3.9039999999999999,4.0914999999999999,9.7287999999999997,1.3765000000000001,null,null,null,null,null,null,null,null,null,null,null,null,null,null,"2011-05-30",1.9558,24.510714285714283,7.4555428571428584,0.87728571428571434,266.63428571428574,3.4527999999999999,0.7093857142857144,3.9637285714285717,4.1304714285714281,8.9341571428571438,1.4395142857142855]
["2010-04-20",1.9558,25.25,7.4427000000000003,0.88049999999999995,265.38,3.4527999999999999,0.70799999999999996,3.9030999999999998,4.1577999999999999,9.6980000000000004,1.3431999999999999,null,null,null,null,null,null,null,null,null,null,56,"2010-03-15","2010-03-01","2010-01-01","2010-03-16",1.9558,25.49,7.4413999999999998,0.91049999999999998,264.60000000000002,3.4527999999999999,0.70760000000000001,3.895,4.0880000000000001,9.7142999999999997,1.3705000000000001,null,null,null,null,null,null,null,null,null,null,null,null,null,null,"2011-06-06",1.9558,24.231428571428573,7.4568714285714277,0.8899071428571429,265.25428571428569,3.4527999999999999,0.70902857142857134,3.9500999999999999,4.153314285714286,9.0404857142857136,1.4561428571428574]
["2010-04-21",1.9558,25.309000000000001,7.4423000000000004,0.87649999999999995,264.93,3.4527999999999999,0.70740000000000003,3.8860999999999999,4.1470000000000002,9.6449999999999996,1.3486,null,null,null,null,null,null,null,null,null,null,57,"2010-03-15","2010-03-01","2010-01-01","2010-03-17",1.9558,25.504000000000001,7.4406999999999996,0.90690000000000004,264.19,3.4527999999999999,0.7077,3.8864999999999998,4.0892999999999997,9.7241999999999997,1.3723000000000001,null,null,null,null,null,null,null,null,null,null,null,null,null,null,"2011-06-13",1.9558,24.163428571428572,7.4588285714285716,0.88145714285714294,266.39000000000004,3.4527999999999999,0.70894285714285721,3.9528142857142856,4.1974,9.1514571428571418,1.431542857142857]
["2010-04-22",1.9558,25.286000000000001,7.4420999999999999,0.86899999999999999,264.13,3.4527999999999999,0.7077,3.8713000000000002,4.1369999999999996,9.5953999999999997,1.3372999999999999,null,null,null,null,null,null,null,null,null,null,58,"2010-03-15","2010-03-01","2010-01-01","2010-03-18",1.9558,25.402000000000001,7.4405999999999999,0.8962,262.24,3.4527999999999999,0.70779999999999998,3.8681999999999999,4.0811999999999999,9.7402999999999995,1.3755999999999999,null,null,null,null,null,null,null,null,null,null,null,null,null,null,"2011-06-20",1.9558,24.266285714285711,7.4587571428571433,0.88694285714285725,268.50714285714287,3.4527999999999999,0.70919999999999994,3.9865142857142861,4.2349428571428573,9.1709000000000014,1.4275285714285715]
["2010-04-23",1.9558,25.364999999999998,7.4420000000000002,0.86675000000000002,264.5,3.4527999999999999,0.70750000000000002,3.8795000000000002,4.1416000000000004,9.6151999999999997,1.3339000000000001,null,null,null,null,null,null,null,null,null,null,59,"2010-03-15","2010-03-01","2010-01-01","2010-03-19",1.9558,25.283999999999999,7.4406999999999996,0.89400000000000002,261.92,3.4527999999999999,0.70809999999999995,3.8730000000000002,4.0776000000000003,9.7242999999999995,1.3660000000000001,null,null,null,null,null,null,null,null,null,null,null,null,null,null,"2011-06-27",1.9558,24.360714285714288,7.4587714285714286,0.89782857142857153,267.31571428571431,3.4527999999999999,0.70930000000000004,3.9903000000000004,4.2271000000000001,9.1793142857142858,1.4362857142857144]
["2010-04-24",1.9558,25.405000000000001,7.4421999999999997,0.86729999999999996,264.45,3.4527999999999999,0.7077,3.8822999999999999,4.1239999999999997,9.5909999999999993,1.3310999999999999,null,null,null,null,null,null,null,null,null,null,60,"2010-03-15","2010-03-01","2010-01-01","2010-03-20",1.9558,25.364999999999998,7.4409000000000001,0.89449999999999996,262.7,3.4527999999999999,0.70789999999999997,3.8795000000000002,4.0819999999999999,9.6775000000000002,1.3548,null,null,null,null,null,null,null,null,null,null,null,null,null,null,"2011-07-04",1.9558,24.271571428571427,7.4589571428571428,0.89689285714285716,264.11714285714282,3.4527999999999999,0.7091142857142857,3.9487714285714288,4.2090142857142867,9.0943714285714261,1.435685714285714]
["2010-04-27",1.9558,25.43,7.4420000000000002,0.86240000000000006,263.42,3.4527999999999999,0.7077,3.8788,4.1177999999999999,9.5679999999999996,1.3321000000000001,null,null,null,null,null,null,null,null,null,null,60,"2010-03-15","2010-03-01","2010-01-01","2010-03-21",1.9558,25.364999999999998,7.4409000000000001,0.89449999999999996,262.7,3.4527999999999999,0.70789999999999997,3.8795000000000002,4.0819999999999999,9.6775000000000002,1.3548,null,null,null,null,null,null,null,null,null,null,null,null,null,null,"2011-07-11",1.9558,24.347571428571431,7.4575428571428573,0.88211428571428563,268.28571428571428,3.4527999999999999,0.70917142857142856,4.0140000000000002,4.2585714285714289,9.187557142857143,1.4120000000000001]
["2010-04-28",1.9558,25.513999999999999,7.4421999999999997,0.86704999999999999,266.75,3.4527999999999999,0.70799999999999996,3.9165999999999999,4.1280000000000001,9.577,1.329,null,null,null,null,null,null,null,null,null,null,60,"2010-03-22","2010-03-01","2010-01-01","2010-03-22",{"$f":"IF($W85=\"\",\"\",INDEX($A:$Z,$W85,AB$3))","v":1.9558},25.364999999999998,7.4409000000000001,0.89449999999999996,262.7,3.4527999999999999,0.70789999999999997,3.8795000000000002,4.0819999999999999,9.6775000000000002,1.3548,null,null,null,null,null,null,null,null,null,null,null,null,null,null,"2011-07-18",1.9558,24.442857142857147,7.455228571428572,0.87918571428571435,269.37,3.4527999999999999,0.70930000000000004,4.0081857142857142,4.2506571428571425,9.1607142857142865,1.4223142857142859]
["2010-04-29",1.9558,25.57,7.4423000000000004,0.87080000000000002,269.89999999999998,3.4527999999999999,0.70799999999999996,3.9315000000000002,4.1369999999999996,9.6257999999999999,1.3245,null,null,null,null,null,null,null,null,null,null,61,"2010-03-22","2010-03-01","2010-01-01","2010-03-23",1.9558,25.465,7.4404000000000003,0.89900000000000002,265.3,3.4527999999999999,0.70799999999999996,3.9249999999999998,4.0914999999999999,9.7584999999999997,1.3471,null,null,null,null,null,null,null,null,null,null,null,null,null,null,"2011-07-25",1.9558,24.289285714285711,7.4515857142857129,0.87917857142857148,268.53142857142859,3.4527999999999999,0.70935714285714291,4.0030571428571431,4.2388428571428562,9.0763285714285722,1.435257142857143]
["2010-04-30",1.9558,25.54,7.4420999999999999,0.86785000000000001,268.27999999999997,3.4527999999999999,0.70809999999999995,3.9152999999999998,4.1369999999999996,9.6266999999999996,1.3255999999999999,null,null,null,null,null,null,null,null,null,null,62,"2010-03-22","2010-03-01","2010-01-01","2010-03-24",1.9558,25.442,7.4405000000000001,0.90049999999999997,264.61,3.4527999999999999,0.70809999999999995,3.8952,4.0724999999999998,9.7285000000000004,1.3519000000000001,null,null,null,null,null,null,null,null,null,null,null,null,null,null,"2011-08-01",1.9558,24.239142857142856,7.4491000000000005,0.87261428571428556,271.52285714285711,3.4527999999999999,0.70934285714285727,4.024457142857143,4.2310285714285714,9.1056857142857144,1.4240571428571427]
["2010-05-01",1.9558,25.527000000000001,7.4424999999999999,0.87029999999999996,266.82,3.4527999999999999,0.70740000000000003,3.9163000000000001,4.13,9.6217000000000006,1.3314999999999999,null,null,null,null,null,null,null,null,null,null,63,"2010-03-22","2010-03-01","2010-01-01","2010-03-25",1.9558,25.378,7.4404000000000003,0.89459999999999995,264.02999999999997,3.4527999999999999,0.70789999999999997,3.8885999999999998,4.0685000000000002,9.6921999999999997,1.3338000000000001,null,null,null,null,null,null,null,null,null,null,null,null,null,null,"2011-08-08",1.9558,24.187000000000005,7.4496571428571432,0.87485000000000013,274.29428571428576,3.4527999999999999,0.70932857142857142,4.1103714285714288,4.2684428571428574,9.2354000000000003,1.4236714285714289]
["2010-05-04",1.9558,25.57,7.4424999999999999,0.86799999999999999,268.02999999999997,3.4527999999999999,0.70709999999999995,3.9159999999999999,4.1269999999999998,9.6095000000000006,1.3238000000000001,null,null,null,null,null,null,null,null,null,null,64,"2010-03-22","2010-03-01","2010-01-01","2010-03-26",1.9558,25.363,7.4417,0.89439999999999997,263.73,3.4527999999999999,0.70740000000000003,3.8879999999999999,4.0632999999999999,9.6649999999999991,1.3355999999999999,null,null,null,null,null,null,null,null,null,null,null,null,null,null,"2011-08-15",1.9558,24.384142857142855,7.4493857142857154,0.87419285714285722,271.76428571428579,3.4527999999999999,0.70924285714285706,4.1572571428571425,4.2662142857142857,9.2201000000000004,1.4362142857142857]
["2010-05-05",1.9558,25.71,7.4428000000000001,0.86324999999999996,273.39999999999998,3.4527999999999999,0.70709999999999995,3.9584999999999999,4.1420000000000003,9.5896000000000008,1.3089,null,null,null,null,null,null,null,null,null,null,65,"2010-03-22","2010-03-01","2010-01-01","2010-03-27",1.9558,25.417999999999999,7.4417999999999997,0.90039999999999998,265.02999999999997,3.4527999999999999,0.70779999999999998,3.8893,4.0717999999999996,9.7082999999999995,1.3352999999999999,null,null,null,null,null,null,null,null,null,null,null,null,null,null,"2011-08-22",1.9558,24.349285714285713,7.4497428571428559,0.8784142857142857,272.36142857142858,3.4527999999999999,0.70947142857142864,4.1664142857142856,4.2552428571428562,9.1307142857142853,1.4417285714285712]
["2010-05-06",1.9558,25.878,7.4427000000000003,0.85509999999999997,276.83,3.4527999999999999,0.70669999999999999,4.032,4.1712999999999996,9.6418999999999997,1.2924,null,null,null,null,null,null,null,null,null,null,65,"2010-03-22","2010-03-01","2010-01-01","2010-03-28",1.9558,25.417999999999999,7.4417999999999997,0.90039999999999998,265.02999999999997,3.4527999999999999,0.70779999999999998,3.8893,4.0717999999999996,9.7082999999999995,1.3352999999999999,null,null,null,null,null,null,null,null,null,null,null,null,null,null,"2011-08-29",1.9558,24.179857142857141,7.4504714285714284,0.88264285714285706,273.42428571428576,3.4527999999999999,0.70934285714285716,4.163671428571428,4.2350428571428571,9.1316142857142868,1.4362285714285714]
["2010-05-07",1.9558,25.968,7.4429999999999996,0.84294999999999998,279.42,3.4527999999999999,0.70720000000000005,4.0922999999999998,4.1805000000000003,9.7119999999999997,1.2726999999999999,null,null,null,null,null,null,null,null,null,null,65,"2010-03-29","2010-03-01","2010-01-01","2010-03-29",1.9558,25.417999999999999,7.4417999999999997,0.90039999999999998,265.02999999999997,3.4527999999999999,0.70779999999999998,3.8893,4.0717999999999996,9.7082999999999995,1.3352999999999999,null,null,null,null,null,null,null,null,null,null,null,null,null,null,"2011-09-05",1.9558,24.41957142857143,7.4482714285714282,0.87394285714285702,277.6742857142857,3.4527999999999999,0.70927142857142855,4.2404000000000002,4.2498714285714287,9.0039285714285722,1.4027714285714286]
["2010-05-08",1.9558,25.975999999999999,7.4435000000000002,0.86804999999999999,281.60000000000002,3.4527999999999999,0.70720000000000005,4.1482999999999999,4.1879999999999997,9.7632999999999992,1.2746,null,null,null,null,null,null,null,null,null,null,66,"2010-03-29","2010-03-01","2010-01-01","2010-03-30",1.9558,25.452999999999999,7.4419000000000004,0.89939999999999998,266,3.4527999999999999,0.70799999999999996,3.8915999999999999,4.0682,9.7759999999999998,1.3471,null,null,null,null,null,null,null,null,null,null,null,null,null,null,"2011-09-12",1.9558,24.499571428571425,7.4476428571428572,0.86786428571428564,284.63428571428574,3.4527999999999999,0.70929999999999993,4.3372714285714284,4.2776571428571435,9.0998571428571449,1.3737428571428569]
["2010-05-11",1.9558,25.603000000000002,7.4419000000000004,0.86404999999999998,273.2,3.4527999999999999,0.70740000000000003,4.0279999999999996,4.1683000000000003,9.6860999999999997,1.2968999999999999,null,null,null,null,null,null,null,null,null,null,67,"2010-03-29","2010-03-01","2010-01-01","2010-03-31",1.9558,25.443000000000001,7.4439000000000002,0.89329999999999998,265.89999999999998,3.4527999999999999,0.70879999999999999,3.8759000000000001,4.0715000000000003,9.7803000000000004,1.3482000000000001,null,null,null,null,null,null,null,null,null,null,null,null,null,null,"2011-09-19",1.9558,24.755428571428574,7.4456428571428557,0.87187857142857139,291.08571428571429,3.4527999999999999,0.7092857142857143,4.4315142857142851,4.2959999999999994,9.2096857142857136,1.3579285714285716]
["2010-05-12",1.9558,25.59,7.4424999999999999,0.85960000000000003,276.10000000000002,3.4527999999999999,0.70760000000000001,4.0499000000000001,4.1798000000000002,9.6562999999999999,1.2698,null,null,null,null,null,null,null,null,null,null,68,"2010-03-29","2010-04-01","2010-01-01","2010-04-01",{"$f":"IF($W95=\"\",\"\",INDEX($A:$Z,$W95,AB$3))","v":1.9558},25.44,7.4447000000000001,0.88980000000000004,265.75,3.4527999999999999,0.70850000000000002,3.8673000000000002,4.0970000000000004,9.7134999999999998,1.3479000000000001,null,null,null,null,null,null,null,null,null,null,null,null,null,null,"2011-09-26",1.9558,24.659571428571429,7.441814285714285,0.8696357142857144,290.69428571428574,3.4527999999999999,0.70934285714285716,4.4218285714285717,4.3261571428571424,9.2368857142857141,1.3537285714285718]
["2010-05-13",1.9558,25.39,7.4417999999999997,0.84940000000000004,273.76,3.4527999999999999,0.70820000000000005,3.9706999999999999,4.1740000000000004,9.5780999999999992,1.2685999999999999,null,null,null,null,null,null,null,null,null,null,69,"2010-03-29","2010-04-01","2010-01-01","2010-04-02",1.9558,25.385000000000002,7.4447999999999999,0.88485000000000003,264.77999999999997,3.4527999999999999,0.70889999999999997,3.8458000000000001,4.1081000000000003,9.7287999999999997,1.3468,null,null,null,null,null,null,null,null,null,null,null,null,null,null,"2011-10-03",1.9558,24.823428571428568,7.4429428571428575,0.86316428571428561,296.47571428571428,3.4527999999999999,0.7089714285714287,4.3882714285714286,4.3193428571428569,9.161428571428571,1.3355000000000001]
["2010-05-14",1.9558,25.416,7.4387999999999996,0.85299999999999998,272.45,3.4527999999999999,0.70750000000000002,3.9538000000000002,4.1805000000000003,9.5305999999999997,1.2586999999999999,null,null,null,null,null,null,null,null,null,null,69,"2010-03-29","2010-04-01","2010-01-01","2010-04-03",1.9558,25.385000000000002,7.4447999999999999,0.88485000000000003,264.77999999999997,3.4527999999999999,0.70889999999999997,3.8458000000000001,4.1081000000000003,9.7287999999999997,1.3468,null,null,null,null,null,null,null,null,null,null,null,null,null,null,"2011-10-10",1.9558,24.764000000000003,7.4444857142857135,0.87210000000000021,293.50142857142856,3.4527999999999999,0.70628571428571429,4.3220000000000001,4.3205428571428577,9.1302285714285709,1.3677285714285716]
["2010-05-15",1.9558,25.465,7.4390999999999998,0.85709999999999997,276.13,3.4527999999999999,0.70750000000000002,3.9857999999999998,4.1844999999999999,9.5745000000000005,1.2492000000000001,null,null,null,null,null,null,null,null,null,null,69,"2010-03-29","2010-04-01","2010-01-01","2010-04-04",1.9558,25.385000000000002,7.4447999999999999,0.88485000000000003,264.77999999999997,3.4527999999999999,0.70889999999999997,3.8458000000000001,4.1081000000000003,9.7287999999999997,1.3468,null,null,null,null,null,null,null,null,null,null,null,null,null,null,"2011-10-17",1.9558,24.884142857142855,7.4454571428571423,0.87206428571428574,296.28571428571428,3.4527999999999999,0.70534285714285716,4.3492428571428565,4.3351571428571427,9.1264428571428571,1.3784285714285713]
["2010-05-18",1.9558,25.56,7.4405000000000001,0.85540000000000005,277.82,3.4527999999999999,0.70740000000000003,4.0194999999999999,4.1925999999999997,9.6035000000000004,1.2349000000000001,null,null,null,null,null,null,null,null,null,null,69,"2010-04-05","2010-04-01","2010-01-01","2010-04-05",1.9558,25.385000000000002,7.4447999999999999,0.88485000000000003,264.77999999999997,3.4527999999999999,0.70889999999999997,3.8458000000000001,4.1081000000000003,9.7287999999999997,1.3468,null,null,null,null,null,null,null,null,null,null,null,null,null,null,"2011-10-24",1.9558,24.862999999999996,7.444285714285714,0.87340714285714272,299.09857142857146,3.4527999999999999,0.70437142857142843,4.3589571428571423,4.3231571428571423,9.0688142857142857,1.3979571428571429]
["2010-05-19",1.9558,25.457999999999998,7.4404000000000003,0.85894999999999999,277.38,3.4527999999999999,0.70740000000000003,3.9990000000000001,4.1950000000000003,9.5545000000000009,1.2427999999999999,null,null,null,null,null,null,null,null,null,null,69,"2010-04-05","2010-04-01","2010-01-01","2010-04-06",1.9558,25.385000000000002,7.4447999999999999,0.88485000000000003,264.77999999999997,3.4527999999999999,0.70889999999999997,3.8458000000000001,4.1081000000000003,9.7287999999999997,1.3468,null,null,null,null,null,null,null,null,null,null,null,null,null,null,"2011-10-31",1.9558,24.938714285714287,7.4419428571428572,0.86447142857142867,304.24857142857144,3.4527999999999999,0.70344285714285715,4.3697285714285714,4.3446571428571428,9.0589285714285719,1.3845142857142856]
["2010-05-20",1.9558,25.727,7.4405999999999999,0.85804999999999998,279.5,3.4527999999999999,0.70740000000000003,4.0830000000000002,4.1965000000000003,9.6074999999999999,1.2270000000000001,null,null,null,null,null,null,null,null,null,null,70,"2010-04-05","2010-04-01","2010-01-01","2010-04-07",1.9558,25.295000000000002,7.4440999999999997,0.88239999999999996,265.27999999999997,3.4527999999999999,0.70760000000000001,3.8349000000000002,4.0940000000000003,9.6630000000000003,1.3395999999999999,null,null,null,null,null,null,null,null,null,null,null,null,null,null,"2011-11-07",1.9558,25.358571428571427,7.4431428571428579,0.85666428571428566,308.61857142857144,3.4527999999999999,0.70221428571428579,4.3864999999999998,4.3521142857142863,9.079699999999999,1.3693142857142857]
["2010-05-21",1.9558,25.913,7.4421999999999997,0.86439999999999995,283,3.4527999999999999,0.70740000000000003,4.1879999999999997,4.2031000000000001,9.7387999999999995,1.2334000000000001,null,null,null,null,null,null,null,null,null,null,71,"2010-04-05","2010-04-01","2010-01-01","2010-04-08",1.9558,25.24,7.4435000000000002,0.87885000000000002,266.2,3.4527999999999999,0.70699999999999996,3.8384999999999998,4.0942999999999996,9.6754999999999995,1.3340000000000001,null,null,null,null,null,null,null,null,null,null,null,null,null,null,"2011-11-14",1.9558,25.630571428571425,7.442614285714285,0.85589285714285723,311.09428571428572,3.4527999999999999,0.70214285714285729,4.4200000000000008,4.3577285714285718,9.1370142857142866,1.3565285714285713]
["2010-05-22",1.9558,25.917000000000002,7.4425999999999997,0.87034999999999996,281.33,3.4527999999999999,0.70740000000000003,4.1529999999999996,4.1950000000000003,9.8309999999999995,1.2497,null,null,null,null,null,null,null,null,null,null,72,"2010-04-05","2010-04-01","2010-01-01","2010-04-09",1.9559,25.19,7.4438000000000004,0.875,268.89999999999998,3.4527999999999999,0.70679999999999998,3.8498000000000001,4.1185,9.6784999999999997,1.3295999999999999,null,null,null,null,null,null,null,null,null,null,null,null,null,null,"2011-11-21",1.9558,25.70785714285714,7.439628571428571,0.85947857142857143,309.42,3.4527999999999999,0.70154285714285713,4.4744571428571422,4.3609714285714292,9.2149000000000001,1.3398142857142861]
["2010-05-25",1.9558,25.664000000000001,7.4420999999999999,0.86080000000000001,278.33999999999997,3.4527999999999999,0.70740000000000003,4.1150000000000002,4.1820000000000004,9.7959999999999994,1.236,null,null,null,null,null,null,null,null,null,null,73,"2010-04-05","2010-04-01","2010-01-01","2010-04-10",1.9558,25.231999999999999,7.4429999999999996,0.872,267.7,3.4527999999999999,0.70640000000000003,3.8769999999999998,4.1422999999999996,9.6941000000000006,1.3384,null,null,null,null,null,null,null,null,null,null,null,null,null,null,"2011-11-28",1.9558,25.477142857142859,7.435542857142857,0.85757142857142843,306.54571428571433,3.4527999999999999,0.69768571428571424,4.5021142857142857,4.3581714285714295,9.1669,1.3406428571428572]
["2010-05-26",1.9558,25.646999999999998,7.4404000000000003,0.85204999999999997,280.38,3.4527999999999999,0.70740000000000003,4.1642000000000001,4.1839000000000004,9.8275000000000006,1.2222999999999999,null,null,null,null,null,null,null,null,null,null,73,"2010-04-05","2010-04-01","2010-01-01","2010-04-11",{"$f":"IF($W105=\"\",\"\",INDEX($A:$Z,$W105,AB$3))","v":1.9558},25.231999999999999,7.4429999999999996,0.872,267.7,3.4527999999999999,0.70640000000000003,3.8769999999999998,4.1422999999999996,9.6941000000000006,1.3384,null,null,null,null,null,null,null,null,null,null,null,null,null,null,"2011-12-05",1.9558,25.298000000000002,7.4345714285714291,0.85607857142857147,301.89714285714291,3.4527999999999999,0.6978428571428571,4.4819571428571425,4.3478000000000003,9.0357857142857139,1.3414571428571429]
["2010-05-27",1.9558,25.55,7.4402999999999997,0.85470000000000002,277.44,3.4527999999999999,0.70820000000000005,4.109,4.1711,9.6989999999999998,1.2309000000000001,null,null,null,null,null,null,null,null,null,null,73,"2010-04-12","2010-04-01","2010-01-01","2010-04-12",1.9558,25.231999999999999,7.4429999999999996,0.872,267.7,3.4527999999999999,0.70640000000000003,3.8769999999999998,4.1422999999999996,9.6941000000000006,1.3384,null,null,null,null,null,null,null,null,null,null,null,null,null,null,"2011-12-12",1.9558,25.507857142857141,7.4342285714285712,0.84383571428571436,304.04142857142858,3.4527999999999999,0.69751428571428575,4.5270142857142863,4.3421714285714277,9.0506999999999973,1.3136571428571426]
["2010-05-28",1.9558,25.629000000000001,7.4396000000000004,0.84624999999999995,276.86,3.4527999999999999,0.70789999999999997,4.0848000000000004,4.1464999999999996,9.6660000000000004,1.2255,null,null,null,null,null,null,null,null,null,null,74,"2010-04-12","2010-04-01","2010-01-01","2010-04-13",1.9558,25.164999999999999,7.4429999999999996,0.88249999999999995,265.20999999999998,3.4527999999999999,0.70650000000000002,3.8664999999999998,4.1280000000000001,9.7460000000000004,1.3585,null,null,null,null,null,null,null,null,null,null,null,null,null,null,"2011-12-19",1.9558,25.578142857142858,7.4335000000000004,0.83545000000000003,304.25428571428574,3.4527999999999999,0.69681428571428572,4.4582142857142859,4.3081142857142858,8.9897714285714283,1.3055999999999999]
["2010-05-29",1.9558,25.78,7.4410999999999996,0.84994999999999998,273.93,3.4527999999999999,0.70799999999999996,4.0614999999999997,4.1646000000000001,9.6579999999999995,1.2383999999999999,null,null,null,null,null,null,null,null,null,null,75,"2010-04-12","2010-04-01","2010-01-01","2010-04-14",1.9558,25.155000000000001,7.4435000000000002,0.88119999999999998,264.58,3.4527999999999999,0.70660000000000001,3.8828,4.1390000000000002,9.7575000000000003,1.3583000000000001,null,null,null,null,null,null,null,null,null,null,null,null,null,null,"2011-12-26",1.9558,25.823857142857143,7.4341857142857135,0.83435714285714291,309.46714285714285,3.4527999999999999,0.6979428571428572,4.4335999999999993,4.3024857142857149,8.948142857142857,1.300342857142857]
["2010-06-01",1.9558,25.504999999999999,7.4394999999999998,0.84863,275.52999999999997,3.4527999999999999,0.70899999999999996,4.0791000000000004,4.1855000000000002,9.6229999999999993,1.2306999999999999,null,null,null,null,null,null,null,null,null,null,76,"2010-04-12","2010-04-01","2010-01-01","2010-04-15",1.9558,25.047999999999998,7.4431000000000003,0.88139999999999996,262.64999999999998,3.4527999999999999,0.70820000000000005,3.8549000000000002,4.1440000000000001,9.7326999999999995,1.3614999999999999,null,null,null,null,null,null,null,null,null,null,null,null,null,null,"2012-01-02",1.9558,25.765285714285714,7.4351142857142856,0.83088428571428552,317.45714285714286,3.4527999999999999,0.69871428571428584,4.4850285714285709,4.3323999999999998,8.8842857142857135,1.2888571428571429]
["2010-06-02",1.9558,25.628,7.4393000000000002,0.8347,276.62,3.4527999999999999,0.70930000000000004,4.1139999999999999,4.1867999999999999,9.6163000000000007,1.2155,null,null,null,null,null,null,null,null,null,null,77,"2010-04-12","2010-04-01","2010-01-01","2010-04-16",1.9558,25.085000000000001,7.4428000000000001,0.87734999999999996,263.3,3.4527999999999999,0.70820000000000005,3.8582999999999998,4.1410999999999998,9.7068999999999992,1.3544,null,null,null,null,null,null,null,null,null,null,null,null,null,null,"2012-01-09",1.9558,25.679428571428566,7.4360000000000008,0.82877857142857125,312.18,3.4527999999999999,0.69887142857142848,4.4505857142857135,4.3498999999999999,8.8462428571428582,1.2758285714285713]
["2010-06-03",1.9558,25.779,7.4402999999999997,0.83345000000000002,275.88,3.4527999999999999,0.70899999999999996,4.1007999999999996,4.1872999999999996,9.5668000000000006,1.2218,null,null,null,null,null,null,null,null,null,null,78,"2010-04-12","2010-04-01","2010-01-01","2010-04-17",1.9558,25.178000000000001,7.4424000000000001,0.87709999999999999,263.45,3.4527999999999999,0.70809999999999995,3.8742999999999999,4.1463000000000001,9.6869999999999994,1.3534999999999999,null,null,null,null,null,null,null,null,null,null,null,null,null,null,"2012-01-16",1.9558,25.495714285714286,7.4358000000000004,0.83262142857142851,306.85857142857145,3.4527999999999999,0.69978571428571434,4.354342857142858,4.3382428571428582,8.8209285714285723,1.2825142857142857]
["2010-06-04",1.9558,25.75,7.4413,0.8357,275.2,3.4527999999999999,0.70850000000000002,4.0705,4.1900000000000004,9.5210000000000008,1.2267999999999999,null,null,null,null,null,null,null,null,null,null,78,"2010-04-12","2010-04-01","2010-01-01","2010-04-18",1.9558,25.178000000000001,7.4424000000000001,0.87709999999999999,263.45,3.4527999999999999,0.70809999999999995,3.8742999999999999,4.1463000000000001,9.6869999999999994,1.3534999999999999,null,null,null,null,null,null,null,null,null,null,null,null,null,null,"2012-01-23",1.9558,25.301857142857141,7.434685714285715,0.83550000000000002,298.57571428571424,3.4527999999999999,0.69855714285714277,4.2697571428571433,4.3443857142857141,8.8392571428571411,1.3042714285714285]
["2010-06-05",1.9558,26.055,7.4398,0.82745000000000002,288.8,3.4527999999999999,0.70840000000000003,4.1950000000000003,4.2134999999999998,9.5495000000000001,1.206,null,null,null,null,null,null,null,null,null,null,78,"2010-04-19","2010-04-01","2010-01-01","2010-04-19",1.9558,25.178000000000001,7.4424000000000001,0.87709999999999999,263.45,3.4527999999999999,0.70809999999999995,3.8742999999999999,4.1463000000000001,9.6869999999999994,1.3534999999999999,null,null,null,null,null,null,null,null,null,null,null,null,null,null,"2012-01-30",1.9558,25.15,7.4337142857142871,0.83300000000000007,293.2657142857143,3.4527999999999999,0.69952857142857128,4.2122999999999999,4.3457428571428576,8.8764285714285709,1.3145714285714285]
["2010-06-08",1.9558,25.898,7.4377000000000004,0.8246,285.7,3.4527999999999999,0.70830000000000004,4.1502999999999997,4.2359,9.6448999999999998,1.1959,null,null,null,null,null,null,null,null,null,null,79,"2010-04-19","2010-04-01","2010-01-01","2010-04-20",1.9558,25.25,7.4427000000000003,0.88049999999999995,265.38,3.4527999999999999,0.70799999999999996,3.9030999999999998,4.1577999999999999,9.6980000000000004,1.3431999999999999,null,null,null,null,null,null,null,null,null,null,null,null,null,null,"2012-02-06",1.9558,25.047285714285714,7.432900000000001,0.8335285714285714,292.02571428571429,3.4527999999999999,0.69915714285714281,4.1943571428571431,4.3506857142857145,8.8168571428571436,1.3179285714285716]
["2010-06-09",1.9558,25.92,7.4382000000000001,0.82804999999999995,282.2,3.4527999999999999,0.70750000000000002,4.133,4.2164999999999999,9.6597000000000008,1.1941999999999999,null,null,null,null,null,null,null,null,null,null,80,"2010-04-19","2010-04-01","2010-01-01","2010-04-21",{"$f":"IF($W115=\"\",\"\",INDEX($A:$Z,$W115,AB$3))","v":1.9558},25.309000000000001,7.4423000000000004,0.87649999999999995,264.93,3.4527999999999999,0.70740000000000003,3.8860999999999999,4.1470000000000002,9.6449999999999996,1.3486,null,null,null,null,null,null,null,null,null,null,null,null,null,null,"2012-02-13",1.9558,25.118142857142857,7.4329571428571422,0.83403571428571432,291.34571428571422,3.4527999999999999,0.69878571428571434,4.1986714285714282,4.3514428571428576,8.8076428571428576,1.3143428571428573]
["2010-06-10",1.9558,25.891999999999999,7.4387999999999996,0.82589999999999997,281.8,3.4527999999999999,0.70750000000000002,4.1124000000000001,4.2157,9.6176999999999992,1.2010000000000001,null,null,null,null,null,null,null,null,null,null,81,"2010-04-19","2010-04-01","2010-01-01","2010-04-22",1.9558,25.286000000000001,7.4420999999999999,0.86899999999999999,264.13,3.4527999999999999,0.7077,3.8713000000000002,4.1369999999999996,9.5953999999999997,1.3372999999999999,null,null,null,null,null,null,null,null,null,null,null,null,null,null,"2012-02-20",1.9558,25.018999999999998,7.4356,0.84149999999999991,288.75857142857143,3.4527999999999999,0.69837142857142864,4.1761714285714282,4.355142857142857,8.8176857142857141,1.3285857142857143]
["2010-06-11",1.9558,25.965,7.4390000000000001,0.82520000000000004,282.04000000000002,3.4527999999999999,0.7077,4.1218000000000004,4.2202999999999999,9.5775000000000006,1.2044999999999999,null,null,null,null,null,null,null,null,null,null,82,"2010-04-19","2010-04-01","2010-01-01","2010-04-23",1.9558,25.364999999999998,7.4420000000000002,0.86675000000000002,264.5,3.4527999999999999,0.70750000000000002,3.8795000000000002,4.1416000000000004,9.6151999999999997,1.3339000000000001,null,null,null,null,null,null,null,null,null,null,null,null,null,null,"2012-02-27",1.9558,24.880571428571432,7.4352999999999998,0.84075,289.32,3.4527999999999999,0.69854285714285702,4.1332142857142857,4.350314285714286,8.824128571428572,1.3349]
["2010-06-12",1.9558,25.695,7.4390999999999998,0.82930000000000004,279.60000000000002,3.4527999999999999,0.70760000000000001,4.0890000000000004,4.2192999999999996,9.5809999999999995,1.2126999999999999,null,null,null,null,null,null,null,null,null,null,83,"2010-04-19","2010-04-01","2010-01-01","2010-04-24",1.9558,25.405000000000001,7.4421999999999997,0.86729999999999996,264.45,3.4527999999999999,0.7077,3.8822999999999999,4.1239999999999997,9.5909999999999993,1.3310999999999999,null,null,null,null,null,null,null,null,null,null,null,null,null,null,"2012-03-05",1.9558,24.775571428571428,7.4346285714285711,0.83504999999999996,292.42428571428576,3.4527999999999999,0.69767142857142872,4.1227428571428577,4.3542428571428573,8.8841142857142863,1.3190571428571427]
["2010-06-15",1.9558,25.681000000000001,7.4375,0.83079999999999998,279,3.4527999999999999,0.70760000000000001,4.077,4.2275,9.5670000000000002,1.2249000000000001,null,null,null,null,null,null,null,null,null,null,83,"2010-04-19","2010-04-01","2010-01-01","2010-04-25",1.9558,25.405000000000001,7.4421999999999997,0.86729999999999996,264.45,3.4527999999999999,0.7077,3.8822999999999999,4.1239999999999997,9.5909999999999993,1.3310999999999999,null,null,null,null,null,null,null,null,null,null,null,null,null,null,"2012-03-12",1.9558,24.579714285714285,7.4351000000000003,0.83353571428571438,292.07857142857137,3.4527999999999999,0.69677142857142849,4.1266857142857143,4.3689142857142862,8.8912285714285719,1.310257142857143]
["2010-06-16",1.9558,25.663,7.4377000000000004,0.83199999999999996,280.10000000000002,3.4527999999999999,0.70760000000000001,4.0734000000000004,4.2358000000000002,9.6214999999999993,1.2258,null,null,null,null,null,null,null,null,null,null,83,"2010-04-26","2010-04-01","2010-01-01","2010-04-26",1.9558,25.405000000000001,7.4421999999999997,0.86729999999999996,264.45,3.4527999999999999,0.7077,3.8822999999999999,4.1239999999999997,9.5909999999999993,1.3310999999999999,null,null,null,null,null,null,null,null,null,null,null,null,null,null,"2012-03-19",1.9558,24.617571428571431,7.435542857142857,0.83299999999999996,291.92142857142852,3.4527999999999999,0.69684285714285721,4.1479857142857144,4.3761428571428569,8.9054285714285726,1.3191428571428572]
["2010-06-17",1.9558,25.741,7.4382000000000001,0.83084999999999998,281.07,3.4527999999999999,0.70730000000000004,4.0925000000000002,4.2359999999999998,9.6013999999999999,1.2277,null,null,null,null,null,null,null,null,null,null,84,"2010-04-26","2010-04-01","2010-01-01","2010-04-27",1.9558,25.43,7.4420000000000002,0.86240000000000006,263.42,3.4527999999999999,0.7077,3.8788,4.1177999999999999,9.5679999999999996,1.3321000000000001,null,null,null,null,null,null,null,null,null,null,null,null,null,null,"2012-03-26",1.9558,24.685571428571425,7.4371285714285715,0.83571428571428563,293.68142857142863,3.4527999999999999,0.69912857142857143,4.1521285714285714,4.3752571428571425,8.8801714285714279,1.3310285714285712]
["2010-06-18",1.9558,25.731000000000002,7.4386999999999999,0.83489999999999998,279.20999999999998,3.4527999999999999,0.70760000000000001,4.0755999999999997,4.2355,9.5739999999999998,1.2363,null,null,null,null,null,null,null,null,null,null,85,"2010-04-26","2010-04-01","2010-01-01","2010-04-28",1.9558,25.513999999999999,7.4421999999999997,0.86704999999999999,266.75,3.4527999999999999,0.70799999999999996,3.9165999999999999,4.1280000000000001,9.577,1.329,null,null,null,null,null,null,null,null,null,null,null,null,null,null,"2012-04-02",1.9558,24.69014285714286,7.4399714285714298,0.82837142857142865,295.31428571428569,3.4527999999999999,0.70008571428571442,4.1570428571428568,4.3764571428571424,8.814742857142857,1.3190857142857142]
["2010-06-19",1.9558,25.733000000000001,7.4398,0.8357,280.05,3.4527999999999999,0.70760000000000001,4.0674999999999999,4.24,9.5599000000000007,1.2372000000000001,null,null,null,null,null,null,null,null,null,null,86,"2010-04-26","2010-04-01","2010-01-01","2010-04-29",1.9558,25.57,7.4423000000000004,0.87080000000000002,269.89999999999998,3.4527999999999999,0.70799999999999996,3.9315000000000002,4.1369999999999996,9.6257999999999999,1.3245,null,null,null,null,null,null,null,null,null,null,null,null,null,null,"2012-04-09",1.9558,24.761285714285716,7.4389142857142856,0.82507857142857133,296.68571428571425,3.4527999999999999,0.69905714285714293,4.1782142857142848,4.3738714285714293,8.8695714285714295,1.3118571428571428]
["2010-06-22",1.9558,25.76,7.4401999999999999,0.83409999999999995,278.02999999999997,3.4527999999999999,0.70830000000000004,4.0380000000000003,4.2314999999999996,9.5177999999999994,1.2391000000000001,null,null,null,null,null,null,null,null,null,null,87,"2010-04-26","2010-04-01","2010-01-01","2010-04-30",1.9558,25.54,7.4420999999999999,0.86785000000000001,268.27999999999997,3.4527999999999999,0.70809999999999995,3.9152999999999998,4.1369999999999996,9.6266999999999996,1.3255999999999999,null,null,null,null,null,null,null,null,null,null,null,null,null,null,"2012-04-16",1.9558,24.833428571428573,7.4389142857142847,0.82066428571428562,297.23285714285714,3.4527999999999999,0.69864285714285723,4.1881000000000004,4.3755285714285721,8.8613857142857153,1.3123857142857143]
["2010-06-23",1.9558,25.788,7.4419000000000004,0.83399999999999996,280.43,3.4527999999999999,0.70840000000000003,4.0601000000000003,4.2314999999999996,9.5579999999999998,1.2258,null,null,null,null,null,null,null,null,null,null,88,"2010-04-26","2010-05-01","2010-01-01","2010-05-01",{"$f":"IF($W125=\"\",\"\",INDEX($A:$Z,$W125,AB$3))","v":1.9558},25.527000000000001,7.4424999999999999,0.87029999999999996,266.82,3.4527999999999999,0.70740000000000003,3.9163000000000001,4.13,9.6217000000000006,1.3314999999999999,null,null,null,null,null,null,null,null,null,null,null,null,null,null,"2012-04-23",1.9558,24.89442857142857,7.4392571428571426,0.81673571428571423,291.89857142857142,3.4527999999999999,0.69925714285714291,4.1871714285714292,4.381742857142858,8.8808571428571419,1.3194714285714286]
["2010-06-24",1.9558,25.725000000000001,7.4438000000000004,0.82289999999999996,280.38,3.4527999999999999,0.70840000000000003,4.0662000000000003,4.2234999999999996,9.5120000000000005,1.2271000000000001,null,null,null,null,null,null,null,null,null,null,88,"2010-04-26","2010-05-01","2010-01-01","2010-05-02",1.9558,25.527000000000001,7.4424999999999999,0.87029999999999996,266.82,3.4527999999999999,0.70740000000000003,3.9163000000000001,4.13,9.6217000000000006,1.3314999999999999,null,null,null,null,null,null,null,null,null,null,null,null,null,null,"2012-04-30",1.9558,24.926571428571428,7.4382857142857146,0.81262857142857137,285.30428571428575,3.4527999999999999,0.69922857142857142,4.1746285714285714,4.4070285714285715,8.9010428571428584,1.3167857142857144]
["2010-06-25",1.9558,25.773,7.4427000000000003,0.81850000000000001,283.77999999999997,3.4527999999999999,0.70850000000000002,4.1207000000000003,4.2374999999999998,9.5740999999999996,1.2262,null,null,null,null,null,null,null,null,null,null,88,"2010-05-03","2010-05-01","2010-01-01","2010-05-03",1.9558,25.527000000000001,7.4424999999999999,0.87029999999999996,266.82,3.4527999999999999,0.70740000000000003,3.9163000000000001,4.13,9.6217000000000006,1.3314999999999999,null,null,null,null,null,null,null,null,null,null,null,null,null,null,"2012-05-07",1.9558,25.155999999999999,7.4352,0.80546000000000006,288.08571428571429,3.4527999999999999,0.69844285714285714,4.2146428571428576,4.4186714285714279,8.9322285714285723,1.2998428571428569]
["2010-06-26",1.9558,25.795000000000002,7.4433999999999996,0.8236,285,3.4527999999999999,0.70850000000000002,4.1234999999999999,4.2859999999999996,9.5609999999999999,1.2294,null,null,null,null,null,null,null,null,null,null,89,"2010-05-03","2010-05-01","2010-01-01","2010-05-04",1.9558,25.57,7.4424999999999999,0.86799999999999999,268.02999999999997,3.4527999999999999,0.70709999999999995,3.9159999999999999,4.1269999999999998,9.6095000000000006,1.3238000000000001,null,null,null,null,null,null,null,null,null,null,null,null,null,null,"2012-05-14",1.9558,25.400571428571428,7.4331285714285729,0.8016928571428571,294.37,3.4527999999999999,0.69745714285714289,4.3197571428571422,4.4417999999999997,9.0659285714285716,1.2787428571428572]
["2010-06-29",1.9558,25.745000000000001,7.4443000000000001,0.82,285.02,3.4527999999999999,0.70879999999999999,4.1322000000000001,4.3404999999999996,9.5584000000000007,1.2339,null,null,null,null,null,null,null,null,null,null,90,"2010-05-03","2010-05-01","2010-01-01","2010-05-05",1.9558,25.71,7.4428000000000001,0.86324999999999996,273.39999999999998,3.4527999999999999,0.70709999999999995,3.9584999999999999,4.1420000000000003,9.5896000000000008,1.3089,null,null,null,null,null,null,null,null,null,null,null,null,null,null,"2012-05-21",1.9558,25.369,7.4316428571428563,0.80376428571428582,299.30142857142852,3.4527999999999999,0.69782857142857135,4.3457000000000008,4.4581142857142853,9.0471714285714278,1.2649571428571431]
["2010-06-30",1.9558,25.753,7.4485999999999999,0.81040000000000001,286.76,3.4527999999999999,0.70930000000000004,4.1603000000000003,4.3738000000000001,9.5241000000000007,1.2198,null,null,null,null,null,null,null,null,null,null,91,"2010-05-03","2010-05-01","2010-01-01","2010-05-06",1.9558,25.878,7.4427000000000003,0.85509999999999997,276.83,3.4527999999999999,0.70669999999999999,4.032,4.1712999999999996,9.6418999999999997,1.2924,null,null,null,null,null,null,null,null,null,null,null,null,null,null,"2012-05-28",1.9558,25.595571428571429,7.4309285714285727,0.80106428571428556,301.37857142857143,3.4527999999999999,0.69807142857142856,4.3796000000000008,4.4695142857142853,8.9854000000000003,1.2445714285714284]
["2010-07-01",1.9558,25.690999999999999,7.4488000000000003,0.81745000000000001,286,3.4527999999999999,0.70930000000000004,4.1470000000000002,4.37,9.5259,1.2271000000000001,null,null,null,null,null,null,null,null,null,null,92,"2010-05-03","2010-05-01","2010-01-01","2010-05-07",1.9558,25.968,7.4429999999999996,0.84294999999999998,279.42,3.4527999999999999,0.70720000000000005,4.0922999999999998,4.1805000000000003,9.7119999999999997,1.2726999999999999,null,null,null,null,null,null,null,null,null,null,null,null,null,null,"2012-06-04",1.9558,25.584571428571426,7.4317285714285717,0.80775714285714284,299.93428571428569,3.4527999999999999,0.6971857142857143,4.3435571428571418,4.4671000000000003,8.9871142857142861,1.2457714285714285]
["2010-07-02",1.9558,25.77,7.4486999999999997,0.82215000000000005,287.45,3.4527999999999999,0.70930000000000004,4.1769999999999996,4.3441999999999998,9.6018000000000008,1.2327999999999999,null,null,null,null,null,null,null,null,null,null,93,"2010-05-03","2010-05-01","2010-01-01","2010-05-08",1.9558,25.975999999999999,7.4435000000000002,0.86804999999999999,281.60000000000002,3.4527999999999999,0.70720000000000005,4.1482999999999999,4.1879999999999997,9.7632999999999992,1.2746,null,null,null,null,null,null,null,null,null,null,null,null,null,null,"2012-06-11",1.9558,25.551428571428573,7.4318285714285706,0.8083999999999999,296.68285714285713,3.4527999999999999,0.6969428571428572,4.3079142857142863,4.4622000000000002,8.8637142857142859,1.2540142857142857]
["2010-07-03",1.9558,25.753,7.4497,0.82520000000000004,285.7,3.4527999999999999,0.7097,4.1544999999999996,4.3013000000000003,9.5519999999999996,1.2547999999999999,null,null,null,null,null,null,null,null,null,null,{"$f":"IF(AA133>MaxDate,\"\",MATCH(AA133,$A:$A,1))","v":93},"2010-05-03","2010-05-01","2010-01-01","2010-05-09",1.9558,25.975999999999999,7.4435000000000002,0.86804999999999999,281.60000000000002,3.4527999999999999,0.70720000000000005,4.1482999999999999,4.1879999999999997,9.7632999999999992,1.2746,null,null,null,null,null,null,null,null,null,null,null,null,null,null,"2012-06-18",{"$f":"IF(MaxDate>=$BA134,SUMIF($X:$X,$BA133,AB:AB)/COUNTIF($X:$X,$BA133),\"\")","v":1.9558},{"$f":"IF(MaxDate>=$BA134,SUMIF($X:$X,$BA133,AC:AC)/COUNTIF($X:$X,$BA133),\"\")","v":25.609428571428573},{"$f":"IF(MaxDate>=$BA134,SUMIF($X:$X,$BA133,AD:AD)/COUNTIF($X:$X,$BA133),\"\")","v":7.4331428571428564},{"$f":"IF(MaxDate>=$BA134,SUMIF($X:$X,$BA133,AE:AE)/COUNTIF($X:$X,$BA133),\"\")","v":0.80635000000000001},{"$f":"IF(MaxDate>=$BA134,SUMIF($X:$X,$BA133,AF:AF)/COUNTIF($X:$X,$BA133),\"\")","v":289.42142857142858},{"$f":"IF(MaxDate>=$BA134,SUMIF($X:$X,$BA133,AG:AG)/COUNTIF($X:$X,$BA133),\"\")","v":3.4527999999999999},{"$f":"IF(MaxDate>=$BA134,SUMIF($X:$X,$BA133,AH:AH)/COUNTIF($X:$X,$BA133),\"\")","v":0.6968714285714287},{"$f":"IF(MaxDate>=$BA134,SUMIF($X:$X,$BA133,AI:AI)/COUNTIF($X:$X,$BA133),\"\")","v":4.2625285714285708},{"$f":"IF(MaxDate>=$BA134,SUMIF($X:$X,$BA133,AJ:AJ)/COUNTIF($X:$X,$BA133),\"\")","v":4.4671714285714286},{"$f":"IF(MaxDate>=$BA134,SUMIF($X:$X,$BA133,AK:AK)/COUNTIF($X:$X,$BA133),\"\")","v":8.8281857142857145},{"$f":"IF(MaxDate>=$BA134,SUMIF($X:$X,$BA133,AL:AL)/COUNTIF($X:$X,$BA133),\"\")","v":1.2612142857142854}]
["2010-07-06",1.9558,25.585999999999999,7.4512999999999998,0.82750000000000001,286.2,3.4527999999999999,0.70930000000000004,4.1268000000000002,4.2526999999999999,9.5995000000000008,1.2531000000000001,null,null,null,null,null,null,null,null,null,null,93,{"$f":"IF(W134=\"\",\"\",IF(WEEKDAY(AA134,2)=1,AA134,X133))","v":"2010-05-10"},{"$f":"IF(W134=\"\",\"\",DATE(YEAR(AA134),MONTH(AA134),1))","v":"2010-05-01"},{"$f":"IF(W134=\"\",\"\",DATE(YEAR(AA134),1,1))","v":"2010-01-01"},"2010-05-10",1.9558,25.975999999999999,7.4435000000000002,0.86804999999999999,281.60000000000002,3.4527999999999999,0.70720000000000005,4.1482999999999999,4.1879999999999997,9.7632999999999992,1.2746,null,null,null,null,null,null,null,null,null,null,null,null,null,null,"2012-06-25",1.9558,25.793857142857139,7.4335285714285719,0.80271428571428571,287.4628571428571,3.4527999999999999,0.6966,4.2564857142857146,4.4561000000000002,8.8011999999999997,1.2511142857142858]
["2010-07-07",1.9558,25.484999999999999,7.4534000000000002,0.82950000000000002,284.85000000000002,3.4527999999999999,0.70909999999999995,4.1009000000000002,4.2361000000000004,9.625,1.2579,null,null,null,null,null,null,null,null,null,null,94,"2010-05-10","2010-05-01","2010-01-01",{"$f":"1+AA134","v":"2010-05-11"},{"$f":"IF($W135=\"\",\"\",INDEX($A:$Z,$W135,AB$3))","v":1.9558},25.603000000000002,7.4419000000000004,0.86404999999999998,273.2,3.4527999999999999,0.70740000000000003,4.0279999999999996,4.1683000000000003,9.6860999999999997,1.2968999999999999,null,null,null,null,null,null,null,null,null,null,null,null,null,null,{"$f":"7+BA134","v":"2012-07-02"},1.9558,25.580999999999996,7.4368285714285713,0.80117857142857141,286.67285714285714,3.4527999999999999,0.69644285714285714,4.2170999999999994,4.4842142857142866,8.6954000000000011,1.2499714285714287]
["2010-07-08",1.9558,25.547999999999998,7.4531999999999998,0.83189999999999997,284.47000000000003,3.4527999999999999,0.70950000000000002,4.1219999999999999,4.2317999999999998,9.6159999999999997,1.2566999999999999,null,null,null,null,null,null,null,null,null,null,95,"2010-05-10","2010-05-01","2010-01-01","2010-05-12",1.9558,25.59,7.4424999999999999,0.85960000000000003,276.10000000000002,3.4527999999999999,0.70760000000000001,4.0499000000000001,4.1798000000000002,9.6562999999999999,1.2698,null,null,null,null,null,null,null,null,null,null,null,null,null,null,"2012-07-09",1.9558,25.470857142857145,7.4383285714285705,0.79056428571428561,288.65428571428572,3.4527999999999999,0.69618571428571452,4.2065428571428569,4.5403285714285708,8.5888428571428594,1.2251857142857143]
["2010-07-09",1.9558,25.448,7.4542999999999999,0.83560000000000001,281.27,3.4527999999999999,0.70920000000000005,4.0789999999999997,4.2272999999999996,9.5473999999999997,1.266,null,null,null,null,null,null,null,null,null,null,96,"2010-05-10","2010-05-01","2010-01-01","2010-05-13",1.9558,25.39,7.4417999999999997,0.84940000000000004,273.76,3.4527999999999999,0.70820000000000005,3.9706999999999999,4.1740000000000004,9.5780999999999992,1.2685999999999999,null,null,null,null,null,null,null,null,null,null,null,null,null,null,"2012-07-16",1.9558,25.410285714285717,7.439514285714286,0.78310714285714289,286.54285714285714,3.4527999999999999,0.69608571428571431,4.1756142857142864,4.5761571428571424,8.5289857142857137,1.2223428571428572]
["2010-07-10",1.9558,25.36,7.4553000000000003,0.83599999999999997,280.24,3.4527999999999999,0.70879999999999999,4.0698999999999996,4.2373000000000003,9.4766999999999992,1.2637,null,null,null,null,null,null,null,null,null,null,97,"2010-05-10","2010-05-01","2010-01-01","2010-05-14",1.9558,25.416,7.4387999999999996,0.85299999999999998,272.45,3.4527999999999999,0.70750000000000002,3.9538000000000002,4.1805000000000003,9.5305999999999997,1.2586999999999999,null,null,null,null,null,null,null,null,null,null,null,null,null,null,"2012-07-23",1.9558,25.481857142857141,7.4390285714285715,0.7812214285714284,285.9942857142857,3.4527999999999999,0.69634285714285704,4.167414285714286,4.616657142857143,8.4625142857142848,1.2203142857142859]
["2010-07-13",1.9558,25.324999999999999,7.4551999999999996,0.83630000000000004,278.91000000000003,3.4527999999999999,0.7087,4.077,4.2460000000000004,9.4559999999999995,1.2572000000000001,null,null,null,null,null,null,null,null,null,null,98,"2010-05-10","2010-05-01","2010-01-01","2010-05-15",1.9558,25.465,7.4390999999999998,0.85709999999999997,276.13,3.4527999999999999,0.70750000000000002,3.9857999999999998,4.1844999999999999,9.5745000000000005,1.2492000000000001,null,null,null,null,null,null,null,null,null,null,null,null,null,null,"2012-07-30",1.9558,25.287285714285712,7.4406714285714282,0.78565000000000007,279.92857142857144,3.4527999999999999,0.69654285714285713,4.105785714285715,4.6087285714285713,8.3458428571428573,1.2282999999999997]
["2010-07-14",1.9558,25.344000000000001,7.4554999999999998,0.83179999999999998,277.8,3.4527999999999999,0.7087,4.0747999999999998,4.2614999999999998,9.4032999999999998,1.2568999999999999,null,null,null,null,null,null,null,null,null,null,98,"2010-05-10","2010-05-01","2010-01-01","2010-05-16",1.9558,25.465,7.4390999999999998,0.85709999999999997,276.13,3.4527999999999999,0.70750000000000002,3.9857999999999998,4.1844999999999999,9.5745000000000005,1.2492000000000001,null,null,null,null,null,null,null,null,null,null,null,null,null,null,"2012-08-06",1.9558,25.182142857142853,7.4427142857142865,0.78913571428571427,277.74857142857144,3.4527999999999999,0.69624285714285716,4.0749714285714287,4.561928571428572,8.271585714285715,1.2317285714285713]
["2010-07-15",1.9558,25.47,7.4501999999999997,0.83430000000000004,278.02,3.4527999999999999,0.7087,4.0662000000000003,4.2577999999999996,9.4117999999999995,1.2703,null,null,null,null,null,null,null,null,null,null,98,"2010-05-17","2010-05-01","2010-01-01","2010-05-17",1.9558,25.465,7.4390999999999998,0.85709999999999997,276.13,3.4527999999999999,0.70750000000000002,3.9857999999999998,4.1844999999999999,9.5745000000000005,1.2492000000000001,null,null,null,null,null,null,null,null,null,null,null,null,null,null,"2012-08-13",1.9558,25.043428571428571,7.4441285714285721,0.78472857142857144,278.85142857142858,3.4527999999999999,0.69624285714285716,4.0838857142857146,4.5066571428571427,8.24287142857143,1.2311714285714286]
["2010-07-16",1.9558,25.463999999999999,7.4503000000000004,0.83565,278.93,3.4527999999999999,0.70889999999999997,4.0608000000000004,4.2584999999999997,9.4161999999999999,1.2827999999999999,null,null,null,null,null,null,null,null,null,null,99,"2010-05-17","2010-05-01","2010-01-01","2010-05-18",1.9558,25.56,7.4405000000000001,0.85540000000000005,277.82,3.4527999999999999,0.70740000000000003,4.0194999999999999,4.1925999999999997,9.6035000000000004,1.2349000000000001,null,null,null,null,null,null,null,null,null,null,null,null,null,null,"2012-08-20",1.9558,24.913000000000004,7.4471142857142851,0.78787142857142867,277.33285714285711,3.4527999999999999,0.69628571428571429,4.0819999999999999,4.4891000000000005,8.2725857142857144,1.2439857142857143]
["2010-07-17",1.9558,25.428000000000001,7.4512,0.84535000000000005,280.85000000000002,3.4527999999999999,0.70909999999999995,4.0914000000000001,4.2657999999999996,9.4809999999999999,1.3,null,null,null,null,null,null,null,null,null,null,100,"2010-05-17","2010-05-01","2010-01-01","2010-05-19",1.9558,25.457999999999998,7.4404000000000003,0.85894999999999999,277.38,3.4527999999999999,0.70740000000000003,3.9990000000000001,4.1950000000000003,9.5545000000000009,1.2427999999999999,null,null,null,null,null,null,null,null,null,null,null,null,null,null,"2012-08-27",1.9558,24.855142857142855,7.4496857142857147,0.79287714285714284,281.80142857142857,3.4527999999999999,0.69620000000000004,4.1409571428571432,4.4668142857142863,8.2974285714285703,1.2556571428571428]
["2010-07-20",1.9558,25.428999999999998,7.4528999999999996,0.84830000000000005,289.18,3.4527999999999999,0.70879999999999999,4.1292,4.2729999999999997,9.5312000000000001,1.2957000000000001,null,null,null,null,null,null,null,null,null,null,101,"2010-05-17","2010-05-01","2010-01-01","2010-05-20",1.9558,25.727,7.4405999999999999,0.85804999999999998,279.5,3.4527999999999999,0.70740000000000003,4.0830000000000002,4.1965000000000003,9.6074999999999999,1.2270000000000001,null,null,null,null,null,null,null,null,null,null,null,null,null,null,"2012-09-03",1.9558,24.754999999999995,7.451428571428572,0.79369999999999996,285.33428571428573,3.4527999999999999,0.69622857142857153,4.1674571428571427,4.4827142857142857,8.4395571428571419,1.2626571428571427]
["2010-07-21",1.9558,25.35,7.452,0.84745000000000004,290.57,3.4527999999999999,0.70889999999999997,4.1353999999999997,4.2770000000000001,9.5007000000000001,1.2844,null,null,null,null,null,null,null,null,null,null,102,"2010-05-17","2010-05-01","2010-01-01","2010-05-21",{"$f":"IF($W145=\"\",\"\",INDEX($A:$Z,$W145,AB$3))","v":1.9558},25.913,7.4421999999999997,0.86439999999999995,283,3.4527999999999999,0.70740000000000003,4.1879999999999997,4.2031000000000001,9.7387999999999995,1.2334000000000001,null,null,null,null,null,null,null,null,null,null,null,null,null,null,"2012-09-10",1.9558,24.493285714285715,7.4535857142857145,0.80175000000000007,283.95,3.4527999999999999,0.69620000000000015,4.0946428571428575,4.4940571428571428,8.516628571428571,1.2895000000000001]
["2010-07-22",1.9558,25.346,7.4519000000000002,0.83945000000000003,284.89999999999998,3.4527999999999999,0.70879999999999999,4.0986000000000002,4.2610000000000001,9.4595000000000002,1.2817000000000001,null,null,null,null,null,null,null,null,null,null,103,"2010-05-17","2010-05-01","2010-01-01","2010-05-22",1.9558,25.917000000000002,7.4425999999999997,0.87034999999999996,281.33,3.4527999999999999,0.70740000000000003,4.1529999999999996,4.1950000000000003,9.8309999999999995,1.2497,null,null,null,null,null,null,null,null,null,null,null,null,null,null,"2012-09-17",1.9558,24.733285714285717,7.454828571428572,0.80259571428571441,282.93285714285719,3.4527999999999999,0.69620000000000004,4.1195285714285719,4.5071571428571433,8.5403285714285708,1.3023857142857143]
["2010-07-23",1.9558,25.178999999999998,7.4519000000000002,0.84279999999999999,283.25,3.4527999999999999,0.70889999999999997,4.0974000000000004,4.2670000000000003,9.4495000000000005,1.2849999999999999,null,null,null,null,null,null,null,null,null,null,103,"2010-05-17","2010-05-01","2010-01-01","2010-05-23",1.9558,25.917000000000002,7.4425999999999997,0.87034999999999996,281.33,3.4527999999999999,0.70740000000000003,4.1529999999999996,4.1950000000000003,9.8309999999999995,1.2497,null,null,null,null,null,null,null,null,null,null,null,null,null,null,"2012-09-24",1.9558,24.969714285714282,7.4558285714285715,0.79670000000000007,284.19,3.4527999999999999,0.69622857142857153,4.1319999999999997,4.5227142857142857,8.4728999999999992,1.2916428571428571]
["2010-07-24",1.9558,25.18,7.452,0.83720000000000006,287.17,3.4527999999999999,0.70909999999999995,4.07,4.2648000000000001,9.4410000000000007,1.2897000000000001,null,null,null,null,null,null,null,null,null,null,103,"2010-05-24","2010-05-01","2010-01-01","2010-05-24",1.9558,25.917000000000002,7.4425999999999997,0.87034999999999996,281.33,3.4527999999999999,0.70740000000000003,4.1529999999999996,4.1950000000000003,9.8309999999999995,1.2497,null,null,null,null,null,null,null,null,null,null,null,null,null,null,"2012-10-01",1.9558,25.014428571428567,7.455671428571427,0.80117857142857152,284.69142857142862,3.4527999999999999,0.69617142857142866,4.0910142857142855,4.5461142857142862,8.5457142857142863,1.2942285714285713]
["2010-07-27",1.9558,25.125,7.4526000000000003,0.83425000000000005,287.37,3.4527999999999999,0.70879999999999999,4.0353000000000003,4.2563000000000004,9.4862000000000002,1.2930999999999999,null,null,null,null,null,null,null,null,null,null,104,"2010-05-24","2010-05-01","2010-01-01","2010-05-25",1.9558,25.664000000000001,7.4420999999999999,0.86080000000000001,278.33999999999997,3.4527999999999999,0.70740000000000003,4.1150000000000002,4.1820000000000004,9.7959999999999994,1.236,null,null,null,null,null,null,null,null,null,null,null,null,null,null,"2012-10-08",1.9558,24.934428571428572,7.4578285714285704,0.8061071428571428,282.3857142857143,3.4527999999999999,0.69614285714285717,4.0854714285714291,4.5698428571428575,8.6322428571428578,1.2951428571428572]
["2010-07-28",1.9558,25.09,7.4530000000000003,0.83819999999999995,283.74,3.4527999999999999,0.70920000000000005,4.0045000000000002,4.2477999999999998,9.4614999999999991,1.3032999999999999,null,null,null,null,null,null,null,null,null,null,105,"2010-05-24","2010-05-01","2010-01-01","2010-05-26",1.9558,25.646999999999998,7.4404000000000003,0.85204999999999997,280.38,3.4527999999999999,0.70740000000000003,4.1642000000000001,4.1839000000000004,9.8275000000000006,1.2222999999999999,null,null,null,null,null,null,null,null,null,null,null,null,null,null,"2012-10-15",1.9558,24.850285714285715,7.4591285714285709,0.81036428571428576,279.03285714285715,3.4527999999999999,0.69620000000000004,4.0994571428571422,4.5773857142857137,8.6222714285714286,1.3042142857142858]
["2010-07-29",1.9558,24.984999999999999,7.452,0.83394999999999997,282.24,3.4527999999999999,0.70909999999999995,4.0069999999999997,4.2545000000000002,9.4794999999999998,1.2991999999999999,null,null,null,null,null,null,null,null,null,null,106,"2010-05-24","2010-05-01","2010-01-01","2010-05-27",1.9558,25.55,7.4402999999999997,0.85470000000000002,277.44,3.4527999999999999,0.70820000000000005,4.109,4.1711,9.6989999999999998,1.2309000000000001,null,null,null,null,null,null,null,null,null,null,null,null,null,null,"2012-10-22",1.9558,24.900571428571428,7.458971428571429,0.80807142857142844,280.74714285714288,3.4527999999999999,0.69625714285714291,4.1319000000000008,4.5715571428571433,8.6387999999999998,1.2979142857142858]
["2010-07-30",1.9558,24.763000000000002,7.4500999999999999,0.8367,283.81,3.4527999999999999,0.70930000000000004,4.0039999999999996,4.2653999999999996,9.4704999999999995,1.3069,null,null,null,null,null,null,null,null,null,null,107,"2010-05-24","2010-05-01","2010-01-01","2010-05-28",1.9558,25.629000000000001,7.4396000000000004,0.84624999999999995,276.86,3.4527999999999999,0.70789999999999997,4.0848000000000004,4.1464999999999996,9.6660000000000004,1.2255,null,null,null,null,null,null,null,null,null,null,null,null,null,null,"2012-10-29",1.9558,25.09957142857143,7.4596142857142862,0.80353571428571413,282.97285714285715,3.4527999999999999,0.69617142857142866,4.1304714285714281,4.5399571428571424,8.6201714285714282,1.2919428571428571]
["2010-07-31",1.9558,24.777000000000001,7.4509999999999996,0.83489999999999998,285.62,3.4527999999999999,0.70879999999999999,4.0084999999999997,4.2507999999999999,9.4332999999999991,1.3028,null,null,null,null,null,null,null,null,null,null,108,"2010-05-24","2010-05-01","2010-01-01","2010-05-29",1.9558,25.78,7.4410999999999996,0.84994999999999998,273.93,3.4527999999999999,0.70799999999999996,4.0614999999999997,4.1646000000000001,9.6579999999999995,1.2383999999999999,null,null,null,null,null,null,null,null,null,null,null,null,null,null,"2012-11-05",1.9558,25.340142857142862,7.4590000000000014,0.79884285714285708,283.0385714285714,3.4527999999999999,0.69620000000000004,4.1389714285714287,4.5235000000000003,8.5644000000000009,1.2756714285714286]
["2010-08-03",1.9558,24.68,7.4507000000000003,0.82599999999999996,281.64999999999998,3.4527999999999999,0.70850000000000002,3.9889999999999999,4.2447999999999997,9.3569999999999993,1.3072999999999999,null,null,null,null,null,null,null,null,null,null,108,"2010-05-24","2010-05-01","2010-01-01","2010-05-30",1.9558,25.78,7.4410999999999996,0.84994999999999998,273.93,3.4527999999999999,0.70799999999999996,4.0614999999999997,4.1646000000000001,9.6579999999999995,1.2383999999999999,null,null,null,null,null,null,null,null,null,null,null,null,null,null,"2012-11-12",1.9558,25.47728571428571,7.4580857142857147,0.80169285714285721,284.29428571428576,3.4527999999999999,0.69621428571428567,4.1687142857142856,4.5347714285714291,8.6193857142857127,1.2728142857142859]
["2010-08-04",1.9558,24.713999999999999,7.4500999999999999,0.82979999999999998,281.81,3.4527999999999999,0.70840000000000003,3.9964,4.2409999999999997,9.3650000000000002,1.3221000000000001,null,null,null,null,null,null,null,null,null,null,108,"2010-05-31","2010-05-01","2010-01-01","2010-05-31",{"$f":"IF($W155=\"\",\"\",INDEX($A:$Z,$W155,AB$3))","v":1.9558},25.78,7.4410999999999996,0.84994999999999998,273.93,3.4527999999999999,0.70799999999999996,4.0614999999999997,4.1646000000000001,9.6579999999999995,1.2383999999999999,null,null,null,null,null,null,null,null,null,null,null,null,null,null,"2012-11-19",1.9558,25.419285714285714,7.4580000000000002,0.80598571428571442,281.49571428571431,3.4527999999999999,0.69614285714285729,4.1296571428571429,4.5354285714285725,8.6202571428571417,1.2833142857142856]
["2010-08-05",1.9558,24.734999999999999,7.4512999999999998,0.82840000000000003,281.89,3.4527999999999999,0.70860000000000001,4.0035999999999996,4.2561999999999998,9.3842999999999996,1.3206,null,null,null,null,null,null,null,null,null,null,109,"2010-05-31","2010-06-01","2010-01-01","2010-06-01",1.9558,25.504999999999999,7.4394999999999998,0.84863,275.52999999999997,3.4527999999999999,0.70899999999999996,4.0791000000000004,4.1855000000000002,9.6229999999999993,1.2306999999999999,null,null,null,null,null,null,null,null,null,null,null,null,null,null,"2012-11-26",1.9558,25.278714285714283,7.4590857142857141,0.80959285714285734,280.69142857142856,3.4527999999999999,0.69625714285714291,4.1039571428571424,4.5178714285714294,8.6265285714285707,1.2955857142857143]
["2010-08-06",1.9558,24.75,7.4512999999999998,0.82930000000000004,279.68,3.4527999999999999,0.70830000000000004,3.9830999999999999,4.2538,9.3823000000000008,1.3184,null,null,null,null,null,null,null,null,null,null,110,"2010-05-31","2010-06-01","2010-01-01","2010-06-02",1.9558,25.628,7.4393000000000002,0.8347,276.62,3.4527999999999999,0.70930000000000004,4.1139999999999999,4.1867999999999999,9.6163000000000007,1.2155,null,null,null,null,null,null,null,null,null,null,null,null,null,null,"2012-12-03",1.9558,25.227142857142859,7.4596714285714301,0.81009285714285717,282.76142857142855,3.4527999999999999,0.69635714285714279,4.123157142857143,4.5336857142857143,8.6373142857142859,1.3011714285714286]
["2010-08-07",1.9558,24.754999999999999,7.4515000000000002,0.83009999999999995,278.64999999999998,3.4527999999999999,0.70830000000000004,3.9870000000000001,4.2460000000000004,9.3800000000000008,1.3176000000000001,null,null,null,null,null,null,null,null,null,null,111,"2010-05-31","2010-06-01","2010-01-01","2010-06-03",1.9558,25.779,7.4402999999999997,0.83345000000000002,275.88,3.4527999999999999,0.70899999999999996,4.1007999999999996,4.1872999999999996,9.5668000000000006,1.2218,null,null,null,null,null,null,null,null,null,null,null,null,null,null,"2012-12-10",1.9558,25.251285714285711,7.4602000000000004,0.80838571428571426,283.28000000000003,3.4527999999999999,0.69624285714285716,4.1013142857142864,4.5118000000000009,8.6848714285714284,1.3015285714285714]
["2010-08-10",1.9558,24.768000000000001,7.4508999999999999,0.83040000000000003,279.27999999999997,3.4527999999999999,0.70889999999999997,3.9813999999999998,4.2328000000000001,9.3940000000000001,1.3252999999999999,null,null,null,null,null,null,null,null,null,null,112,"2010-05-31","2010-06-01","2010-01-01","2010-06-04",1.9558,25.75,7.4413,0.8357,275.2,3.4527999999999999,0.70850000000000002,4.0705,4.1900000000000004,9.5210000000000008,1.2267999999999999,null,null,null,null,null,null,null,null,null,null,null,null,null,null,"2012-12-17",1.9558,25.216142857142859,7.4610428571428562,0.81362857142857137,286.67,3.4527999999999999,0.69629999999999992,4.0776428571428571,4.4644428571428572,8.6794571428571423,1.3197857142857143]
["2010-08-11",1.9558,24.774999999999999,7.4500999999999999,0.83520000000000005,279.05,3.4527999999999999,0.70809999999999995,3.9841000000000002,4.2365000000000004,9.4029000000000007,1.3132999999999999,null,null,null,null,null,null,null,null,null,null,113,"2010-05-31","2010-06-01","2010-01-01","2010-06-05",1.9558,26.055,7.4398,0.82745000000000002,288.8,3.4527999999999999,0.70840000000000003,4.1950000000000003,4.2134999999999998,9.5495000000000001,1.206,null,null,null,null,null,null,null,null,null,null,null,null,null,null,"2012-12-24",1.9558,25.13785714285714,7.4610000000000003,0.81721428571428578,290.11142857142858,3.4527999999999999,0.69694285714285709,4.0771285714285712,4.428585714285715,8.6059571428571431,1.3213571428571431]
["2010-08-12",1.9558,24.82,7.4504000000000001,0.82779999999999998,282.12,3.4527999999999999,0.70830000000000004,4.0054999999999996,4.2380000000000004,9.4789999999999992,1.3016000000000001,null,null,null,null,null,null,null,null,null,null,113,"2010-05-31","2010-06-01","2010-01-01","2010-06-06",1.9558,26.055,7.4398,0.82745000000000002,288.8,3.4527999999999999,0.70840000000000003,4.1950000000000003,4.2134999999999998,9.5495000000000001,1.206,null,null,null,null,null,null,null,null,null,null,null,null,null,null,"2012-12-31",1.9558,25.232857142857142,7.4600999999999997,0.81407142857142867,291.44142857142862,3.4527999999999999,0.69765714285714286,4.0890000000000004,4.4341857142857135,8.5568142857142853,1.3137000000000001]
["2010-08-13",1.9558,24.89,7.4507000000000003,0.8206,282.43,3.4527999999999999,0.70840000000000003,4.0243000000000002,4.2374999999999998,9.4779999999999998,1.2789999999999999,null,null,null,null,null,null,null,null,null,null,113,"2010-06-07","2010-06-01","2010-01-01","2010-06-07",1.9558,26.055,7.4398,0.82745000000000002,288.8,3.4527999999999999,0.70840000000000003,4.1950000000000003,4.2134999999999998,9.5495000000000001,1.206,null,null,null,null,null,null,null,null,null,null,null,null,null,null,"2013-01-07",1.9558,25.552142857142858,7.4603714285714293,0.81673571428571434,292.94142857142862,3.4527999999999999,0.69715714285714281,4.1083000000000007,4.4005428571428578,8.5762285714285706,1.3122000000000003]
["2010-08-14",1.9558,24.885000000000002,7.4504000000000001,0.82120000000000004,281.08,3.4527999999999999,0.70879999999999999,4.016,4.2302999999999997,9.5021000000000004,1.2799,null,null,null,null,null,null,null,null,null,null,114,"2010-06-07","2010-06-01","2010-01-01","2010-06-08",1.9558,25.898,7.4377000000000004,0.8246,285.7,3.4527999999999999,0.70830000000000004,4.1502999999999997,4.2359,9.6448999999999998,1.1959,null,null,null,null,null,null,null,null,null,null,null,null,null,null,"2013-01-14",1.9558,25.604999999999997,7.4624857142857133,0.83189285714285721,294.63,3.4527999999999999,0.69747142857142852,4.1260714285714286,4.3572571428571427,8.6402714285714293,1.3319285714285716]
["2010-08-17",1.9558,24.853000000000002,7.4497999999999998,0.82110000000000005,280.2,3.4527999999999999,0.70850000000000002,3.9929000000000001,4.2313000000000001,9.4943000000000008,1.282,null,null,null,null,null,null,null,null,null,null,115,"2010-06-07","2010-06-01","2010-01-01","2010-06-09",1.9558,25.92,7.4382000000000001,0.82804999999999995,282.2,3.4527999999999999,0.70750000000000002,4.133,4.2164999999999999,9.6597000000000008,1.1941999999999999,null,null,null,null,null,null,null,null,null,null,null,null,null,null,"2013-01-21",1.9558,25.611142857142855,7.4628714285714297,0.84332142857142856,294.97999999999996,3.4527999999999999,0.69809999999999994,4.1710857142857147,4.361128571428571,8.6864714285714282,1.3368714285714287]
["2010-08-18",1.9558,24.805,7.4492000000000003,0.82299999999999995,279.5,3.4527999999999999,0.70850000000000002,3.9708999999999999,4.2382999999999997,9.4329999999999998,1.286,null,null,null,null,null,null,null,null,null,null,116,"2010-06-07","2010-06-01","2010-01-01","2010-06-10",{"$f":"IF($W165=\"\",\"\",INDEX($A:$Z,$W165,AB$3))","v":1.9558},25.891999999999999,7.4387999999999996,0.82589999999999997,281.8,3.4527999999999999,0.70750000000000002,4.1124000000000001,4.2157,9.6176999999999992,1.2010000000000001,null,null,null,null,null,null,null,null,null,null,null,null,null,null,"2013-01-28",1.9558,25.643000000000004,7.4607428571428569,0.85688571428571425,295.25428571428569,3.4527999999999999,0.69938571428571439,4.1909285714285716,4.3803142857142854,8.629542857142857,1.3532142857142857]
["2010-08-19",1.9558,24.815999999999999,7.4497,0.82330000000000003,278.37,3.4527999999999999,0.70840000000000003,3.9413999999999998,4.2385000000000002,9.4452999999999996,1.288,null,null,null,null,null,null,null,null,null,null,117,"2010-06-07","2010-06-01","2010-01-01","2010-06-11",1.9558,25.965,7.4390000000000001,0.82520000000000004,282.04000000000002,3.4527999999999999,0.7077,4.1218000000000004,4.2202999999999999,9.5775000000000006,1.2044999999999999,null,null,null,null,null,null,null,null,null,null,null,null,null,null,"2013-02-04",1.9558,25.492428571428572,7.4600571428571447,0.85738571428571431,292.99285714285719,3.4527999999999999,0.69991428571428582,4.1740571428571434,4.3882142857142847,8.5944428571428571,1.3506285714285717]
["2010-08-20",1.9558,24.792999999999999,7.4505999999999997,0.82055,276.89,3.4527999999999999,0.70830000000000004,3.9283000000000001,4.226,9.4389000000000003,1.2836000000000001,null,null,null,null,null,null,null,null,null,null,118,"2010-06-07","2010-06-01","2010-01-01","2010-06-12",1.9558,25.695,7.4390999999999998,0.82930000000000004,279.60000000000002,3.4527999999999999,0.70760000000000001,4.0890000000000004,4.2192999999999996,9.5809999999999995,1.2126999999999999,null,null,null,null,null,null,null,null,null,null,null,null,null,null,"2013-02-11",1.9558,25.339428571428574,7.4604714285714291,0.85822142857142869,291.6571428571429,3.4527999999999999,0.69964285714285712,4.1740571428571425,4.3936714285714285,8.5111285714285714,1.3379999999999999]
["2010-08-21",1.9558,24.803000000000001,7.4505999999999997,0.81910000000000005,279.39999999999998,3.4527999999999999,0.70830000000000004,3.9809999999999999,4.2270000000000003,9.4761000000000006,1.2710999999999999,null,null,null,null,null,null,null,null,null,null,118,"2010-06-07","2010-06-01","2010-01-01","2010-06-13",1.9558,25.695,7.4390999999999998,0.82930000000000004,279.60000000000002,3.4527999999999999,0.70760000000000001,4.0890000000000004,4.2192999999999996,9.5809999999999995,1.2126999999999999,null,null,null,null,null,null,null,null,null,null,null,null,null,null,"2013-02-18",1.9558,25.440142857142856,7.4596571428571439,0.86385714285714277,292.00285714285712,3.4527999999999999,0.69965714285714287,4.1694000000000004,4.3811428571428568,8.4527714285714293,1.3279142857142858]
["2010-08-24",1.9558,24.805,7.4493999999999998,0.81689999999999996,280.70999999999998,3.4527999999999999,0.70850000000000002,3.9904000000000002,4.2237999999999998,9.3940000000000001,1.2704,null,null,null,null,null,null,null,null,null,null,118,"2010-06-14","2010-06-01","2010-01-01","2010-06-14",1.9558,25.695,7.4390999999999998,0.82930000000000004,279.60000000000002,3.4527999999999999,0.70760000000000001,4.0890000000000004,4.2192999999999996,9.5809999999999995,1.2126999999999999,null,null,null,null,null,null,null,null,null,null,null,null,null,null,"2013-02-25",1.9558,25.600142857142856,7.4578428571428583,0.86581428571428576,294.69,3.4527999999999999,0.70024285714285706,4.1543428571428569,4.3702428571428573,8.4293285714285719,1.3113285714285714]
["2010-08-25",1.9558,24.888000000000002,7.4486999999999997,0.81930000000000003,285.39999999999998,3.4527999999999999,0.70799999999999996,4.0220000000000002,4.2417999999999996,9.4164999999999992,1.2611000000000001,null,null,null,null,null,null,null,null,null,null,119,"2010-06-14","2010-06-01","2010-01-01","2010-06-15",1.9558,25.681000000000001,7.4375,0.83079999999999998,279,3.4527999999999999,0.70760000000000001,4.077,4.2275,9.5670000000000002,1.2249000000000001,null,null,null,null,null,null,null,null,null,null,null,null,null,null,"2013-03-04",1.9558,25.561000000000003,7.456028571428571,0.86570000000000014,297.7342857142857,3.4527999999999999,0.70075714285714275,4.1421714285714284,4.3603857142857141,8.3346,1.3038000000000001]
["2010-08-26",1.9558,24.92,7.4474999999999998,0.81850000000000001,284.35000000000002,3.4527999999999999,0.70840000000000003,4.0069999999999997,4.2404999999999999,9.4710000000000001,1.2613000000000001,null,null,null,null,null,null,null,null,null,null,120,"2010-06-14","2010-06-01","2010-01-01","2010-06-16",1.9558,25.663,7.4377000000000004,0.83199999999999996,280.10000000000002,3.4527999999999999,0.70760000000000001,4.0734000000000004,4.2358000000000002,9.6214999999999993,1.2258,null,null,null,null,null,null,null,null,null,null,null,null,null,null,"2013-03-11",1.9558,25.577714285714283,7.4575142857142867,0.86887857142857139,303.83714285714285,3.4527999999999999,0.7011571428571427,4.1463714285714284,4.3825428571428571,8.334657142857143,1.3032428571428571]
["2010-08-27",1.9558,24.858000000000001,7.4469000000000003,0.81745000000000001,283.63,3.4527999999999999,0.70850000000000002,3.9906999999999999,4.2519999999999998,9.4297000000000004,1.2693000000000001,null,null,null,null,null,null,null,null,null,null,121,"2010-06-14","2010-06-01","2010-01-01","2010-06-17",1.9558,25.741,7.4382000000000001,0.83084999999999998,281.07,3.4527999999999999,0.70730000000000004,4.0925000000000002,4.2359999999999998,9.6013999999999999,1.2277,null,null,null,null,null,null,null,null,null,null,null,null,null,null,"2013-03-18",1.9558,25.712714285714281,7.4542857142857146,0.85550000000000004,306.05285714285714,3.4527999999999999,0.70172857142857137,4.1665857142857146,4.4161142857142854,8.3685428571428577,1.2958571428571428]
["2010-08-28",1.9558,24.754999999999999,7.4481000000000002,0.8206,284.68,3.4527999999999999,0.70879999999999999,3.9885999999999999,4.2435,9.3744999999999994,1.2713000000000001,null,null,null,null,null,null,null,null,null,null,122,"2010-06-14","2010-06-01","2010-01-01","2010-06-18",1.9558,25.731000000000002,7.4386999999999999,0.83489999999999998,279.20999999999998,3.4527999999999999,0.70760000000000001,4.0755999999999997,4.2355,9.5739999999999998,1.2363,null,null,null,null,null,null,null,null,null,null,null,null,null,null,"2013-03-25",1.9558,25.770857142857146,7.4540428571428574,0.84790714285714286,305.08285714285722,3.4527999999999999,0.70178571428571423,4.1773571428571428,4.4188142857142854,8.3690428571428566,1.2846714285714285]
["2010-08-31",1.9558,24.808,7.4467999999999996,0.8165,283.49,3.4527999999999999,0.7087,3.9805999999999999,4.2343999999999999,9.3872,1.27,null,null,null,null,null,null,null,null,null,null,123,"2010-06-14","2010-06-01","2010-01-01","2010-06-19",1.9558,25.733000000000001,7.4398,0.8357,280.05,3.4527999999999999,0.70760000000000001,4.0674999999999999,4.24,9.5599000000000007,1.2372000000000001,null,null,null,null,null,null,null,null,null,null,null,null,null,null,"2013-04-01",1.9558,25.790285714285716,7.4545285714285727,0.84745000000000004,302.35571428571433,3.4527999999999999,0.70134285714285716,4.1817857142857147,4.4208571428571437,8.3643714285714292,1.2854857142857141]
["2010-09-01",1.9558,24.85,7.4447999999999999,0.82479999999999998,287.68,3.4527999999999999,0.70930000000000004,4.0134999999999996,4.2568000000000001,9.3889999999999993,1.268,null,null,null,null,null,null,null,null,null,null,123,"2010-06-14","2010-06-01","2010-01-01","2010-06-20",{"$f":"IF($W175=\"\",\"\",INDEX($A:$Z,$W175,AB$3))","v":1.9558},25.733000000000001,7.4398,0.8357,280.05,3.4527999999999999,0.70760000000000001,4.0674999999999999,4.24,9.5599000000000007,1.2372000000000001,null,null,null,null,null,null,null,null,null,null,null,null,null,null,"2013-04-08",1.9558,25.828714285714288,7.4553999999999991,0.85114285714285731,297.36142857142852,3.4527999999999999,0.70084285714285699,4.1241285714285709,4.3998142857142852,8.3511000000000006,1.3045142857142857]
["2010-09-02",1.9558,24.734999999999999,7.4446000000000003,0.83104999999999996,286.3,3.4527999999999999,0.70909999999999995,3.9895999999999998,4.2648000000000001,9.3490000000000002,1.28,null,null,null,null,null,null,null,null,null,null,123,"2010-06-21","2010-06-01","2010-01-01","2010-06-21",1.9558,25.733000000000001,7.4398,0.8357,280.05,3.4527999999999999,0.70760000000000001,4.0674999999999999,4.24,9.5599000000000007,1.2372000000000001,null,null,null,null,null,null,null,null,null,null,null,null,null,null,"2013-04-15",1.9558,25.863714285714284,7.455742857142857,0.85491428571428574,296.08571428571435,3.4527999999999999,0.70041428571428566,4.1090142857142862,4.375171428571428,8.4407857142857132,1.3095142857142859]
["2010-09-03",1.9558,24.71,7.4447000000000001,0.83274999999999999,285.02999999999997,3.4527999999999999,0.7087,3.9767000000000001,4.2698,9.3185000000000002,1.2818000000000001,null,null,null,null,null,null,null,null,null,null,124,"2010-06-21","2010-06-01","2010-01-01","2010-06-22",1.9558,25.76,7.4401999999999999,0.83409999999999995,278.02999999999997,3.4527999999999999,0.70830000000000004,4.0380000000000003,4.2314999999999996,9.5177999999999994,1.2391000000000001,null,null,null,null,null,null,null,null,null,null,null,null,null,null,"2013-04-22",1.9558,25.855999999999998,7.4554142857142853,0.84866428571428565,300.20142857142855,3.4527999999999999,0.7001142857142858,4.1348285714285709,4.3505142857142856,8.5597000000000012,1.3032285714285714]
["2010-09-04",1.9558,24.698,7.4448999999999996,0.83320000000000005,284.5,3.4527999999999999,0.70850000000000002,3.952,4.2794999999999996,9.3131000000000004,1.2834000000000001,null,null,null,null,null,null,null,null,null,null,125,"2010-06-21","2010-06-01","2010-01-01","2010-06-23",1.9558,25.788,7.4419000000000004,0.83399999999999996,280.43,3.4527999999999999,0.70840000000000003,4.0601000000000003,4.2314999999999996,9.5579999999999998,1.2258,null,null,null,null,null,null,null,null,null,null,null,null,null,null,"2013-04-29",1.9558,25.709857142857143,7.4552571428571426,0.84362857142857128,298.46857142857141,3.4527999999999999,0.69997142857142847,4.1455142857142855,4.3203857142857141,8.5434142857142863,1.3096428571428571]
["2010-09-07",1.9558,24.702999999999999,7.4459,0.83825000000000005,284.7,3.4527999999999999,0.70930000000000004,3.9333,4.2868000000000004,9.3012999999999995,1.2874000000000001,null,null,null,null,null,null,null,null,null,null,126,"2010-06-21","2010-06-01","2010-01-01","2010-06-24",1.9558,25.725000000000001,7.4438000000000004,0.82289999999999996,280.38,3.4527999999999999,0.70840000000000003,4.0662000000000003,4.2234999999999996,9.5120000000000005,1.2271000000000001,null,null,null,null,null,null,null,null,null,null,null,null,null,null,"2013-05-06",1.9558,25.764285714285709,7.4536714285714272,0.84432142857142878,294.51000000000005,3.4527999999999999,0.69998571428571421,4.1419285714285712,4.318542857142857,8.5422285714285699,1.3082999999999998]
["2010-09-08",1.9558,24.725999999999999,7.4448999999999996,0.83160000000000001,286.45,3.4527999999999999,0.70920000000000005,3.9371,4.2919,9.3185000000000002,1.2744,null,null,null,null,null,null,null,null,null,null,127,"2010-06-21","2010-06-01","2010-01-01","2010-06-25",1.9558,25.773,7.4427000000000003,0.81850000000000001,283.77999999999997,3.4527999999999999,0.70850000000000002,4.1207000000000003,4.2374999999999998,9.5740999999999996,1.2262,null,null,null,null,null,null,null,null,null,null,null,null,null,null,"2013-05-13",1.9558,25.928571428571427,7.4532999999999987,0.84542142857142877,292.27714285714285,3.4527999999999999,0.69944285714285725,4.1673857142857145,4.3327,8.5891857142857138,1.2918571428571428]
["2010-09-09",1.9558,24.718,7.4457000000000004,0.82204999999999995,288.95,3.4527999999999999,0.70899999999999996,3.9518,4.2874999999999996,9.2710000000000008,1.2697000000000001,null,null,null,null,null,null,null,null,null,null,128,"2010-06-21","2010-06-01","2010-01-01","2010-06-26",1.9558,25.795000000000002,7.4433999999999996,0.8236,285,3.4527999999999999,0.70850000000000002,4.1234999999999999,4.2859999999999996,9.5609999999999999,1.2294,null,null,null,null,null,null,null,null,null,null,null,null,null,null,"2013-05-20",1.9558,26.050999999999998,7.4533285714285711,0.85202857142857158,290.43,3.4527999999999999,0.70002857142857156,4.1894714285714283,4.351,8.5804285714285715,1.2896714285714286]
["2010-09-10",1.9558,24.683,7.4461000000000004,0.82579999999999998,285.76,3.4527999999999999,0.70879999999999999,3.9380000000000002,4.282,9.2487999999999992,1.2715000000000001,null,null,null,null,null,null,null,null,null,null,128,"2010-06-21","2010-06-01","2010-01-01","2010-06-27",1.9558,25.795000000000002,7.4433999999999996,0.8236,285,3.4527999999999999,0.70850000000000002,4.1234999999999999,4.2859999999999996,9.5609999999999999,1.2294,null,null,null,null,null,null,null,null,null,null,null,null,null,null,"2013-05-27","","","","","","","","","","",""]
["2010-09-11",1.9558,24.681000000000001,7.4451999999999998,0.82340000000000002,283.85000000000002,3.4527999999999999,0.70879999999999999,3.9338000000000002,4.274,9.2019000000000002,1.2725,null,null,null,null,null,null,null,null,null,null,128,"2010-06-28","2010-06-01","2010-01-01","2010-06-28",1.9558,25.795000000000002,7.4433999999999996,0.8236,285,3.4527999999999999,0.70850000000000002,4.1234999999999999,4.2859999999999996,9.5609999999999999,1.2294,null,null,null,null,null,null,null,null,null,null,null,null,null,null,"2013-06-03","","","","","","","","","","",""]
["2010-09-14",1.9558,24.672000000000001,7.4466000000000001,0.83120000000000005,283.76,3.4527999999999999,0.70879999999999999,3.9382999999999999,4.2607999999999997,9.1839999999999993,1.2801,null,null,null,null,null,null,null,null,null,null,129,"2010-06-28","2010-06-01","2010-01-01","2010-06-29",1.9558,25.745000000000001,7.4443000000000001,0.82,285.02,3.4527999999999999,0.70879999999999999,4.1322000000000001,4.3404999999999996,9.5584000000000007,1.2339,null,null,null,null,null,null,null,null,null,null,null,null,null,null,"2013-06-10","","","","","","","","","","",""]
["2010-09-15",1.9558,24.562999999999999,7.4461000000000004,0.83430000000000004,283.76,3.4527999999999999,0.70879999999999999,3.9439000000000002,4.2355,9.2260000000000009,1.2849999999999999,null,null,null,null,null,null,null,null,null,null,130,"2010-06-28","2010-06-01","2010-01-01","2010-06-30",{"$f":"IF($W185=\"\",\"\",INDEX($A:$Z,$W185,AB$3))","v":1.9558},25.753,7.4485999999999999,0.81040000000000001,286.76,3.4527999999999999,0.70930000000000004,4.1603000000000003,4.3738000000000001,9.5241000000000007,1.2198,null,null,null,null,null,null,null,null,null,null,null,null,null,null,"2013-06-17","","","","","","","","","","",""]
["2010-09-16",1.9558,24.614999999999998,7.4470999999999998,0.83550000000000002,281.82,3.4527999999999999,0.70899999999999996,3.9357000000000002,4.2474999999999996,9.1950000000000003,1.2988999999999999,null,null,null,null,null,null,null,null,null,null,131,"2010-06-28","2010-07-01","2010-01-01","2010-07-01",1.9558,25.690999999999999,7.4488000000000003,0.81745000000000001,286,3.4527999999999999,0.70930000000000004,4.1470000000000002,4.37,9.5259,1.2271000000000001,null,null,null,null,null,null,null,null,null,null,null,null,null,null,"2013-06-24","","","","","","","","","","",""]
["2010-09-17",1.9558,24.616,7.4462999999999999,0.83720000000000006,281.62,3.4527999999999999,0.70860000000000001,3.9403000000000001,4.2458,9.218,1.3078000000000001,null,null,null,null,null,null,null,null,null,null,132,"2010-06-28","2010-07-01","2010-01-01","2010-07-02",1.9558,25.77,7.4486999999999997,0.82215000000000005,287.45,3.4527999999999999,0.70930000000000004,4.1769999999999996,4.3441999999999998,9.6018000000000008,1.2327999999999999,null,null,null,null,null,null,null,null,null,null,null,null,null,null,"2013-07-01","","","","","","","","","","",""]
["2010-09-18",1.9558,24.68,7.4467999999999996,0.83574999999999999,282.82,3.4527999999999999,0.7087,3.9622000000000002,4.258,9.2294999999999998,1.306,null,null,null,null,null,null,null,null,null,null,133,"2010-06-28","2010-07-01","2010-01-01","2010-07-03",1.9558,25.753,7.4497,0.82520000000000004,285.7,3.4527999999999999,0.7097,4.1544999999999996,4.3013000000000003,9.5519999999999996,1.2547999999999999,null,null,null,null,null,null,null,null,null,null,null,null,null,null,"2013-07-08","","","","","","","","","","",""]
["2010-09-21",1.9558,24.675000000000001,7.4474,0.83830000000000005,281.25,3.4527999999999999,0.70909999999999995,3.9483000000000001,4.2640000000000002,9.1780000000000008,1.3073999999999999,null,null,null,null,null,null,null,null,null,null,133,"2010-06-28","2010-07-01","2010-01-01","2010-07-04",1.9558,25.753,7.4497,0.82520000000000004,285.7,3.4527999999999999,0.7097,4.1544999999999996,4.3013000000000003,9.5519999999999996,1.2547999999999999,null,null,null,null,null,null,null,null,null,null,null,null,null,null,"2013-07-15","","","","","","","","","","",""]
["2010-09-22",1.9558,24.655000000000001,7.4489000000000001,0.84545000000000003,279.88,3.4527999999999999,0.70930000000000004,3.9449999999999998,4.2667999999999999,9.1458999999999993,1.3120000000000001,null,null,null,null,null,null,null,null,null,null,133,"2010-07-05","2010-07-01","2010-01-01","2010-07-05",1.9558,25.753,7.4497,0.82520000000000004,285.7,3.4527999999999999,0.7097,4.1544999999999996,4.3013000000000003,9.5519999999999996,1.2547999999999999,null,null,null,null,null,null,null,null,null,null,null,null,null,null,"2013-07-22","","","","","","","","","","",""]
["2010-09-23",1.9558,24.577999999999999,7.4499000000000004,0.85529999999999995,279.64999999999998,3.4527999999999999,0.70950000000000002,3.9415,4.2590000000000003,9.1275999999999993,1.3364,null,null,null,null,null,null,null,null,null,null,134,"2010-07-05","2010-07-01","2010-01-01","2010-07-06",1.9558,25.585999999999999,7.4512999999999998,0.82750000000000001,286.2,3.4527999999999999,0.70930000000000004,4.1268000000000002,4.2526999999999999,9.5995000000000008,1.2531000000000001,null,null,null,null,null,null,null,null,null,null,null,null,null,null,"2013-07-29","","","","","","","","","","",""]
["2010-09-24",1.9558,24.623999999999999,7.4496000000000002,0.85050000000000003,280.85000000000002,3.4527999999999999,0.70930000000000004,3.9763999999999999,4.2670000000000003,9.2053999999999991,1.3323,null,null,null,null,null,null,null,null,null,null,135,"2010-07-05","2010-07-01","2010-01-01","2010-07-07",1.9558,25.484999999999999,7.4534000000000002,0.82950000000000002,284.85000000000002,3.4527999999999999,0.70909999999999995,4.1009000000000002,4.2361000000000004,9.625,1.2579,null,null,null,null,null,null,null,null,null,null,null,null,null,null,"2013-08-05","","","","","","","","","","",""]
["2010-09-25",1.9558,24.632999999999999,7.4504999999999999,0.85345000000000004,278.75,3.4527999999999999,0.70950000000000002,3.9763000000000002,4.2417999999999996,9.2070000000000007,1.3411999999999999,null,null,null,null,null,null,null,null,null,null,136,"2010-07-05","2010-07-01","2010-01-01","2010-07-08",1.9558,25.547999999999998,7.4531999999999998,0.83189999999999997,284.47000000000003,3.4527999999999999,0.70950000000000002,4.1219999999999999,4.2317999999999998,9.6159999999999997,1.2566999999999999,null,null,null,null,null,null,null,null,null,null,null,null,null,null,"2013-08-12","","","","","","","","","","",""]
["2010-09-28",1.9558,24.57,7.4503000000000004,0.85040000000000004,276.69,3.4527999999999999,0.70960000000000001,3.9497,4.2430000000000003,9.1709999999999994,1.3476999999999999,null,null,null,null,null,null,null,null,null,null,137,"2010-07-05","2010-07-01","2010-01-01","2010-07-09",1.9558,25.448,7.4542999999999999,0.83560000000000001,281.27,3.4527999999999999,0.70920000000000005,4.0789999999999997,4.2272999999999996,9.5473999999999997,1.266,null,null,null,null,null,null,null,null,null,null,null,null,null,null,"2013-08-19","","","","","","","","","","",""]
["2010-09-29",1.9558,24.617999999999999,7.4515000000000002,0.84984999999999999,277.95,3.4527999999999999,0.70979999999999999,3.9761000000000002,4.2685000000000004,9.2240000000000002,1.3460000000000001,null,null,null,null,null,null,null,null,null,null,138,"2010-07-05","2010-07-01","2010-01-01","2010-07-10",{"$f":"IF($W195=\"\",\"\",INDEX($A:$Z,$W195,AB$3))","v":1.9558},25.36,7.4553000000000003,0.83599999999999997,280.24,3.4527999999999999,0.70879999999999999,4.0698999999999996,4.2373000000000003,9.4766999999999992,1.2637,null,null,null,null,null,null,null,null,null,null,null,null,null,null,"2013-08-26","","","","","","","","","","",""]
["2010-09-30",1.9558,24.57,7.4516999999999998,0.86180000000000001,276.14999999999998,3.4527999999999999,0.70920000000000005,3.9742999999999999,4.2750000000000004,9.1545000000000005,1.3611,null,null,null,null,null,null,null,null,null,null,138,"2010-07-05","2010-07-01","2010-01-01","2010-07-11",1.9558,25.36,7.4553000000000003,0.83599999999999997,280.24,3.4527999999999999,0.70879999999999999,4.0698999999999996,4.2373000000000003,9.4766999999999992,1.2637,null,null,null,null,null,null,null,null,null,null,null,null,null,null,"2013-09-02","","","","","","","","","","",""]
["2010-10-01",1.9558,24.6,7.4519000000000002,0.85994999999999999,275.75,3.4527999999999999,0.70940000000000003,3.9847000000000001,4.2717999999999998,9.1420999999999992,1.3648,null,null,null,null,null,null,null,null,null,null,{"$f":"IF(AA197>MaxDate,\"\",MATCH(AA197,$A:$A,1))","v":138},"2010-07-12","2010-07-01","2010-01-01","2010-07-12",1.9558,25.36,7.4553000000000003,0.83599999999999997,280.24,3.4527999999999999,0.70879999999999999,4.0698999999999996,4.2373000000000003,9.4766999999999992,1.2637,null,null,null,null,null,null,null,null,null,null,null,null,null,null,"2013-09-09",{"$f":"IF(MaxDate>=$BA198,SUMIF($X:$X,$BA197,AB:AB)/COUNTIF($X:$X,$BA197),\"\")","v":""},{"$f":"IF(MaxDate>=$BA198,SUMIF($X:$X,$BA197,AC:AC)/COUNTIF($X:$X,$BA197),\"\")","v":""},{"$f":"IF(MaxDate>=$BA198,SUMIF($X:$X,$BA197,AD:AD)/COUNTIF($X:$X,$BA197),\"\")","v":""},{"$f":"IF(MaxDate>=$BA198,SUMIF($X:$X,$BA197,AE:AE)/COUNTIF($X:$X,$BA197),\"\")","v":""},{"$f":"IF(MaxDate>=$BA198,SUMIF($X:$X,$BA197,AF:AF)/COUNTIF($X:$X,$BA197),\"\")","v":""},{"$f":"IF(MaxDate>=$BA198,SUMIF($X:$X,$BA197,AG:AG)/COUNTIF($X:$X,$BA197),\"\")","v":""},{"$f":"IF(MaxDate>=$BA198,SUMIF($X:$X,$BA197,AH:AH)/COUNTIF($X:$X,$BA197),\"\")","v":""},{"$f":"IF(MaxDate>=$BA198,SUMIF($X:$X,$BA197,AI:AI)/COUNTIF($X:$X,$BA197),\"\")","v":""},{"$f":"IF(MaxDate>=$BA198,SUMIF($X:$X,$BA197,AJ:AJ)/COUNTIF($X:$X,$BA197),\"\")","v":""},{"$f":"IF(MaxDate>=$BA198,SUMIF($X:$X,$BA197,AK:AK)/COUNTIF($X:$X,$BA197),\"\")","v":""},{"$f":"IF(MaxDate>=$BA198,SUMIF($X:$X,$BA197,AL:AL)/COUNTIF($X:$X,$BA197),\"\")","v":""}]
["2010-10-02",1.9558,24.42,7.4523000000000001,0.86760000000000004,273.85000000000002,3.4527999999999999,0.70920000000000005,3.9369999999999998,4.2655000000000003,9.2182999999999993,1.3726,null,null,null,null,null,null,null,null,null,null,139,{"$f":"IF(W198=\"\",\"\",IF(WEEKDAY(AA198,2)=1,AA198,X197))","v":"2010-07-12"},{"$f":"IF(W198=\"\",\"\",DATE(YEAR(AA198),MONTH(AA198),1))","v":"2010-07-01"},{"$f":"IF(W198=\"\",\"\",DATE(YEAR(AA198),1,1))","v":"2010-01-01"},"2010-07-13",1.9558,25.324999999999999,7.4551999999999996,0.83630000000000004,278.91000000000003,3.4527999999999999,0.7087,4.077,4.2460000000000004,9.4559999999999995,1.2572000000000001,null,null,null,null,null,null,null,null,null,null,null,null,null,null,"2013-09-16","","","","","","","","","","",""]
["2010-10-05",1.9558,24.469000000000001,7.4541000000000004,0.86560000000000004,272.22000000000003,3.4527999999999999,0.70920000000000005,3.9483000000000001,4.2759,9.2398000000000007,1.3705000000000001,null,null,null,null,null,null,null,null,null,null,140,"2010-07-12","2010-07-01","2010-01-01",{"$f":"1+AA198","v":"2010-07-14"},1.9558,25.344000000000001,7.4554999999999998,0.83179999999999998,277.8,3.4527999999999999,0.7087,4.0747999999999998,4.2614999999999998,9.4032999999999998,1.2568999999999999,null,null,null,null,null,null,null,null,null,null,null,null,null,null,{"$f":"7+BA198","v":"2013-09-23"},"","","","","","","","","","",""]
["2010-10-06",1.9558,24.498000000000001,7.4549000000000003,0.86670000000000003,272.73,3.4527999999999999,0.70920000000000005,3.9708000000000001,4.2779999999999996,9.2626000000000008,1.3779999999999999,null,null,null,null,null,null,null,null,null,null,141,"2010-07-12","2010-07-01","2010-01-01","2010-07-15",1.9558,25.47,7.4501999999999997,0.83430000000000004,278.02,3.4527999999999999,0.7087,4.0662000000000003,4.2577999999999996,9.4117999999999995,1.2703,null,null,null,null,null,null,null,null,null,null,null,null,null,null,"2013-09-30","","","","","","","","","","",""]
["2010-10-07",1.9558,24.53,7.4546999999999999,0.87260000000000004,270.33,3.4527999999999999,0.70909999999999995,3.9489999999999998,4.2720000000000002,9.2993000000000006,1.3855999999999999,null,null,null,null,null,null,null,null,null,null,142,"2010-07-12","2010-07-01","2010-01-01","2010-07-16",1.9558,25.463999999999999,7.4503000000000004,0.83565,278.93,3.4527999999999999,0.70889999999999997,4.0608000000000004,4.2584999999999997,9.4161999999999999,1.2827999999999999,null,null,null,null,null,null,null,null,null,null,null,null,null,null,"2013-10-07","","","","","","","","","","",""]
["2010-10-08",1.9558,24.518000000000001,7.4561000000000002,0.87465000000000004,273.33,3.4527999999999999,0.70899999999999996,3.9655,4.2648000000000001,9.3208000000000002,1.397,null,null,null,null,null,null,null,null,null,null,143,"2010-07-12","2010-07-01","2010-01-01","2010-07-17",1.9558,25.428000000000001,7.4512,0.84535000000000005,280.85000000000002,3.4527999999999999,0.70909999999999995,4.0914000000000001,4.2657999999999996,9.4809999999999999,1.3,null,null,null,null,null,null,null,null,null,null,null,null,null,null,"2013-10-14","","","","","","","","","","",""]
["2010-10-09",1.9558,24.49,7.4561999999999999,0.87509999999999999,275.55,3.4527999999999999,0.70909999999999995,3.9765000000000001,4.2643000000000004,9.3170000000000002,1.3874,null,null,null,null,null,null,null,null,null,null,143,"2010-07-12","2010-07-01","2010-01-01","2010-07-18",1.9558,25.428000000000001,7.4512,0.84535000000000005,280.85000000000002,3.4527999999999999,0.70909999999999995,4.0914000000000001,4.2657999999999996,9.4809999999999999,1.3,null,null,null,null,null,null,null,null,null,null,null,null,null,null,"2013-10-21","","","","","","","","","","",""]
["2010-10-12",1.9558,24.542000000000002,7.4577,0.87460000000000004,274.02999999999997,3.4527999999999999,0.70899999999999996,3.9605000000000001,4.2667999999999999,9.2714999999999996,1.3935999999999999,null,null,null,null,null,null,null,null,null,null,143,"2010-07-19","2010-07-01","2010-01-01","2010-07-19",1.9558,25.428000000000001,7.4512,0.84535000000000005,280.85000000000002,3.4527999999999999,0.70909999999999995,4.0914000000000001,4.2657999999999996,9.4809999999999999,1.3,null,null,null,null,null,null,null,null,null,null,null,null,null,null,"2013-10-28","","","","","","","","","","",""]
["2010-10-13",1.9558,24.524000000000001,7.4569000000000001,0.87360000000000004,273.85000000000002,3.4527999999999999,0.70909999999999995,3.964,4.2743000000000002,9.2460000000000004,1.3833,null,null,null,null,null,null,null,null,null,null,144,"2010-07-19","2010-07-01","2010-01-01","2010-07-20",{"$f":"IF($W205=\"\",\"\",INDEX($A:$Z,$W205,AB$3))","v":1.9558},25.428999999999998,7.4528999999999996,0.84830000000000005,289.18,3.4527999999999999,0.70879999999999999,4.1292,4.2729999999999997,9.5312000000000001,1.2957000000000001,null,null,null,null,null,null,null,null,null,null,null,null,null,null,"2013-11-04","","","","","","","","","","",""]
["2010-10-14",1.9558,24.47,7.4565000000000001,0.88119999999999998,273.45,3.4527999999999999,0.70950000000000002,3.9544999999999999,4.2773000000000003,9.2661999999999995,1.3957999999999999,null,null,null,null,null,null,null,null,null,null,145,"2010-07-19","2010-07-01","2010-01-01","2010-07-21",1.9558,25.35,7.452,0.84745000000000004,290.57,3.4527999999999999,0.70889999999999997,4.1353999999999997,4.2770000000000001,9.5007000000000001,1.2844,null,null,null,null,null,null,null,null,null,null,null,null,null,null,"2013-11-11","","","","","","","","","","",""]
["2010-10-15",1.9558,24.44,7.4570999999999996,0.87919999999999998,273.63,3.4527999999999999,0.70950000000000002,3.9077000000000002,4.2798999999999996,9.234,1.4100999999999999,null,null,null,null,null,null,null,null,null,null,146,"2010-07-19","2010-07-01","2010-01-01","2010-07-22",1.9558,25.346,7.4519000000000002,0.83945000000000003,284.89999999999998,3.4527999999999999,0.70879999999999999,4.0986000000000002,4.2610000000000001,9.4595000000000002,1.2817000000000001,null,null,null,null,null,null,null,null,null,null,null,null,null,null,"2013-11-18","","","","","","","","","","",""]
["2010-10-16",1.9558,24.515000000000001,7.4564000000000004,0.87749999999999995,274.18,3.4527999999999999,0.7097,3.9049999999999998,4.2765000000000004,9.2230000000000008,1.4089,null,null,null,null,null,null,null,null,null,null,147,"2010-07-19","2010-07-01","2010-01-01","2010-07-23",1.9558,25.178999999999998,7.4519000000000002,0.84279999999999999,283.25,3.4527999999999999,0.70889999999999997,4.0974000000000004,4.2670000000000003,9.4495000000000005,1.2849999999999999,null,null,null,null,null,null,null,null,null,null,null,null,null,null,"2013-11-25","","","","","","","","","","",""]
["2010-10-19",1.9558,24.536000000000001,7.4574999999999996,0.87470000000000003,276.63,3.4527999999999999,0.70920000000000005,3.9226000000000001,4.2815000000000003,9.2871000000000006,1.3895999999999999,null,null,null,null,null,null,null,null,null,null,148,"2010-07-19","2010-07-01","2010-01-01","2010-07-24",1.9558,25.18,7.452,0.83720000000000006,287.17,3.4527999999999999,0.70909999999999995,4.07,4.2648000000000001,9.4410000000000007,1.2897000000000001,null,null,null,null,null,null,null,null,null,null,null,null,null,null,"2013-12-02","","","","","","","","","","",""]
["2010-10-20",1.9558,24.52,7.4573999999999998,0.88060000000000005,276.89,3.4527999999999999,0.70989999999999998,3.9363000000000001,4.298,9.3350000000000009,1.3858999999999999,null,null,null,null,null,null,null,null,null,null,148,"2010-07-19","2010-07-01","2010-01-01","2010-07-25",1.9558,25.18,7.452,0.83720000000000006,287.17,3.4527999999999999,0.70909999999999995,4.07,4.2648000000000001,9.4410000000000007,1.2897000000000001,null,null,null,null,null,null,null,null,null,null,null,null,null,null,"2013-12-09","","","","","","","","","","",""]
["2010-10-21",1.9558,24.503,7.4581,0.88200000000000001,275.58,3.4527999999999999,0.70950000000000002,3.9592999999999998,4.3068,9.3115000000000006,1.3861000000000001,null,null,null,null,null,null,null,null,null,null,148,"2010-07-26","2010-07-01","2010-01-01","2010-07-26",1.9558,25.18,7.452,0.83720000000000006,287.17,3.4527999999999999,0.70909999999999995,4.07,4.2648000000000001,9.4410000000000007,1.2897000000000001,null,null,null,null,null,null,null,null,null,null,null,null,null,null,"2013-12-16","","","","","","","","","","",""]
["2010-10-22",1.9558,24.54,7.4584000000000001,0.89019999999999999,274.5,3.4527999999999999,0.70979999999999999,3.9516,4.3151999999999999,9.2675000000000001,1.4016,null,null,null,null,null,null,null,null,null,null,149,"2010-07-26","2010-07-01","2010-01-01","2010-07-27",1.9558,25.125,7.4526000000000003,0.83425000000000005,287.37,3.4527999999999999,0.70879999999999999,4.0353000000000003,4.2563000000000004,9.4862000000000002,1.2930999999999999,null,null,null,null,null,null,null,null,null,null,null,null,null,null,"2013-12-23","","","","","","","","","","",""]
["2010-10-23",1.9558,24.626000000000001,7.4577,0.88729999999999998,275.35000000000002,3.4527999999999999,0.7097,3.9701,4.3013000000000003,9.2565000000000008,1.3934,null,null,null,null,null,null,null,null,null,null,150,"2010-07-26","2010-07-01","2010-01-01","2010-07-28",1.9558,25.09,7.4530000000000003,0.83819999999999995,283.74,3.4527999999999999,0.70920000000000005,4.0045000000000002,4.2477999999999998,9.4614999999999991,1.3032999999999999,null,null,null,null,null,null,null,null,null,null,null,null,null,null,"2013-12-30","","","","","","","","","","",""]
["2010-10-26",1.9558,24.51,7.4579000000000004,0.89254999999999995,273.52999999999997,3.4527999999999999,0.70950000000000002,3.9316,4.2679999999999998,9.1989999999999998,1.4031,null,null,null,null,null,null,null,null,null,null,151,"2010-07-26","2010-07-01","2010-01-01","2010-07-29",1.9558,24.984999999999999,7.452,0.83394999999999997,282.24,3.4527999999999999,0.70909999999999995,4.0069999999999997,4.2545000000000002,9.4794999999999998,1.2991999999999999,null,null,null,null,null,null,null,null,null,null,null,null,null,null,"2014-01-06"]
["2010-10-27",1.9558,24.617999999999999,7.4577,0.87685000000000002,274.60000000000002,3.4527999999999999,0.7097,3.9352,4.2750000000000004,9.3027999999999995,1.3912,null,null,null,null,null,null,null,null,null,null,152,"2010-07-26","2010-07-01","2010-01-01","2010-07-30",{"$f":"IF($W215=\"\",\"\",INDEX($A:$Z,$W215,AB$3))","v":1.9558},24.763000000000002,7.4500999999999999,0.8367,283.81,3.4527999999999999,0.70930000000000004,4.0039999999999996,4.2653999999999996,9.4704999999999995,1.3069]
["2010-10-28",1.9558,24.663,7.4584999999999999,0.87234999999999996,275.04000000000002,3.4527999999999999,0.70930000000000004,3.9500999999999999,4.2762000000000002,9.3316999999999997,1.3803000000000001,null,null,null,null,null,null,null,null,null,null,153,"2010-07-26","2010-07-01","2010-01-01","2010-07-31",1.9558,24.777000000000001,7.4509999999999996,0.83489999999999998,285.62,3.4527999999999999,0.70879999999999999,4.0084999999999997,4.2507999999999999,9.4332999999999991,1.3028]
["2010-10-29",1.9558,24.63,7.4584000000000001,0.87039999999999995,273.25,3.4527999999999999,0.70979999999999999,3.9645999999999999,4.2698,9.3163999999999998,1.3856999999999999,null,null,null,null,null,null,null,null,null,null,153,"2010-07-26","2010-08-01","2010-01-01","2010-08-01",1.9558,24.777000000000001,7.4509999999999996,0.83489999999999998,285.62,3.4527999999999999,0.70879999999999999,4.0084999999999997,4.2507999999999999,9.4332999999999991,1.3028]
["2010-10-30",1.9558,24.597999999999999,7.4561999999999999,0.86860000000000004,271.76,3.4527999999999999,0.7097,3.9820000000000002,4.2663000000000002,9.3610000000000007,1.3856999999999999,null,null,null,null,null,null,null,null,null,null,153,"2010-08-02","2010-08-01","2010-01-01","2010-08-02",1.9558,24.777000000000001,7.4509999999999996,0.83489999999999998,285.62,3.4527999999999999,0.70879999999999999,4.0084999999999997,4.2507999999999999,9.4332999999999991,1.3028]
["2010-11-02",1.9558,24.533000000000001,7.4569000000000001,0.86675000000000002,270.75,3.4527999999999999,0.7097,3.9701,4.2824999999999998,9.2765000000000004,1.3926000000000001,null,null,null,null,null,null,null,null,null,null,154,"2010-08-02","2010-08-01","2010-01-01","2010-08-03",1.9558,24.68,7.4507000000000003,0.82599999999999996,281.64999999999998,3.4527999999999999,0.70850000000000002,3.9889999999999999,4.2447999999999997,9.3569999999999993,1.3072999999999999]
["2010-11-03",1.9558,24.5,7.4564000000000004,0.87490000000000001,270.75,3.4527999999999999,0.7097,3.9548000000000001,4.2880000000000003,9.3230000000000004,1.4017999999999999,null,null,null,null,null,null,null,null,null,null,155,"2010-08-02","2010-08-01","2010-01-01","2010-08-04",1.9558,24.713999999999999,7.4500999999999999,0.82979999999999998,281.81,3.4527999999999999,0.70840000000000003,3.9964,4.2409999999999997,9.3650000000000002,1.3221000000000001]
["2010-11-04",1.9558,24.497,7.4553000000000003,0.87029999999999996,272,3.4527999999999999,0.7097,3.9327000000000001,4.2977999999999996,9.3239999999999998,1.4014,null,null,null,null,null,null,null,null,null,null,156,"2010-08-02","2010-08-01","2010-01-01","2010-08-05",1.9558,24.734999999999999,7.4512999999999998,0.82840000000000003,281.89,3.4527999999999999,0.70860000000000001,4.0035999999999996,4.2561999999999998,9.3842999999999996,1.3206]
["2010-11-05",1.9558,24.408000000000001,7.4546999999999999,0.87585000000000002,272.39999999999998,3.4527999999999999,0.7097,3.8957999999999999,4.2847999999999997,9.2550000000000008,1.4244000000000001,null,null,null,null,null,null,null,null,null,null,157,"2010-08-02","2010-08-01","2010-01-01","2010-08-06",1.9558,24.75,7.4512999999999998,0.82930000000000004,279.68,3.4527999999999999,0.70830000000000004,3.9830999999999999,4.2538,9.3823000000000008,1.3184]
["2010-11-06",1.9558,24.585000000000001,7.4535999999999998,0.8679,273.70999999999998,3.4527999999999999,0.7097,3.915,4.2910000000000004,9.2910000000000004,1.4084000000000001,null,null,null,null,null,null,null,null,null,null,158,"2010-08-02","2010-08-01","2010-01-01","2010-08-07",1.9558,24.754999999999999,7.4515000000000002,0.83009999999999995,278.64999999999998,3.4527999999999999,0.70830000000000004,3.9870000000000001,4.2460000000000004,9.3800000000000008,1.3176000000000001]
["2010-11-09",1.9558,24.574999999999999,7.4535,0.86270000000000002,274.60000000000002,3.4527999999999999,0.70930000000000004,3.9192999999999998,4.2874999999999996,9.2940000000000005,1.3916999999999999,null,null,null,null,null,null,null,null,null,null,158,"2010-08-02","2010-08-01","2010-01-01","2010-08-08",1.9558,24.754999999999999,7.4515000000000002,0.83009999999999995,278.64999999999998,3.4527999999999999,0.70830000000000004,3.9870000000000001,4.2460000000000004,9.3800000000000008,1.3176000000000001]
["2010-11-10",1.9558,24.582999999999998,7.4543999999999997,0.86234999999999995,274.14999999999998,3.4527999999999999,0.70920000000000005,3.9218999999999999,4.2850000000000001,9.3082999999999991,1.3945000000000001,null,null,null,null,null,null,null,null,null,null,158,"2010-08-09","2010-08-01","2010-01-01","2010-08-09",{"$f":"IF($W225=\"\",\"\",INDEX($A:$Z,$W225,AB$3))","v":1.9558},24.754999999999999,7.4515000000000002,0.83009999999999995,278.64999999999998,3.4527999999999999,0.70830000000000004,3.9870000000000001,4.2460000000000004,9.3800000000000008,1.3176000000000001]
["2010-11-11",1.9558,24.617999999999999,7.4534000000000002,0.85685,273.39999999999998,3.4527999999999999,0.70930000000000004,3.8843000000000001,4.2777000000000003,9.2974999999999994,1.377,null,null,null,null,null,null,null,null,null,null,159,"2010-08-09","2010-08-01","2010-01-01","2010-08-10",1.9558,24.768000000000001,7.4508999999999999,0.83040000000000003,279.27999999999997,3.4527999999999999,0.70889999999999997,3.9813999999999998,4.2328000000000001,9.3940000000000001,1.3252999999999999]
["2010-11-12",1.9558,24.634,7.4538000000000002,0.84909999999999997,276.54000000000002,3.4527999999999999,0.70930000000000004,3.9329000000000001,4.2865000000000002,9.3102,1.37,null,null,null,null,null,null,null,null,null,null,160,"2010-08-09","2010-08-01","2010-01-01","2010-08-11",1.9558,24.774999999999999,7.4500999999999999,0.83520000000000005,279.05,3.4527999999999999,0.70809999999999995,3.9841000000000002,4.2365000000000004,9.4029000000000007,1.3132999999999999]
["2010-11-13",1.9558,24.63,7.4542000000000002,0.85070000000000001,276.01,3.4527999999999999,0.70920000000000005,3.9289000000000001,4.2949999999999999,9.3582000000000001,1.3711,null,null,null,null,null,null,null,null,null,null,161,"2010-08-09","2010-08-01","2010-01-01","2010-08-12",1.9558,24.82,7.4504000000000001,0.82779999999999998,282.12,3.4527999999999999,0.70830000000000004,4.0054999999999996,4.2380000000000004,9.4789999999999992,1.3016000000000001]
["2010-11-16",1.9558,24.626999999999999,7.4541000000000004,0.84789999999999999,276.48,3.4527999999999999,0.70920000000000005,3.93,4.2939999999999996,9.3689999999999998,1.3626,null,null,null,null,null,null,null,null,null,null,162,"2010-08-09","2010-08-01","2010-01-01","2010-08-13",1.9558,24.89,7.4507000000000003,0.8206,282.43,3.4527999999999999,0.70840000000000003,4.0243000000000002,4.2374999999999998,9.4779999999999998,1.2789999999999999]
["2010-11-17",1.9558,24.606999999999999,7.4546999999999999,0.85099999999999998,276.95,3.4527999999999999,0.70920000000000005,3.9371999999999998,4.2925000000000004,9.3752999999999993,1.3612,null,null,null,null,null,null,null,null,null,null,163,"2010-08-09","2010-08-01","2010-01-01","2010-08-14",1.9558,24.885000000000002,7.4504000000000001,0.82120000000000004,281.08,3.4527999999999999,0.70879999999999999,4.016,4.2302999999999997,9.5021000000000004,1.2799]
["2010-11-18",1.9558,24.594999999999999,7.4550000000000001,0.84894999999999998,278.11,3.4527999999999999,0.70950000000000002,3.964,4.2965,9.3979999999999997,1.3481000000000001,null,null,null,null,null,null,null,null,null,null,163,"2010-08-09","2010-08-01","2010-01-01","2010-08-15",1.9558,24.885000000000002,7.4504000000000001,0.82120000000000004,281.08,3.4527999999999999,0.70879999999999999,4.016,4.2302999999999997,9.5021000000000004,1.2799]
["2010-11-19",1.9558,24.648,7.4549000000000003,0.85219999999999996,275.08999999999997,3.4527999999999999,0.70930000000000004,3.9375,4.298,9.3573000000000004,1.3647,null,null,null,null,null,null,null,null,null,null,163,"2010-08-16","2010-08-01","2010-01-01","2010-08-16",1.9558,24.885000000000002,7.4504000000000001,0.82120000000000004,281.08,3.4527999999999999,0.70879999999999999,4.016,4.2302999999999997,9.5021000000000004,1.2799]
["2010-11-20",1.9558,24.719000000000001,7.4554,0.85519999999999996,274.25,3.4527999999999999,0.70930000000000004,3.9344999999999999,4.298,9.3945000000000007,1.3673999999999999,null,null,null,null,null,null,null,null,null,null,164,"2010-08-16","2010-08-01","2010-01-01","2010-08-17",1.9558,24.853000000000002,7.4497999999999998,0.82110000000000005,280.2,3.4527999999999999,0.70850000000000002,3.9929000000000001,4.2313000000000001,9.4943000000000008,1.282]
["2010-11-23",1.9558,24.684999999999999,7.4561000000000002,0.85489999999999999,273.11,3.4527999999999999,0.70930000000000004,3.9340000000000002,4.2972999999999999,9.3855000000000004,1.3647,null,null,null,null,null,null,null,null,null,null,165,"2010-08-16","2010-08-01","2010-01-01","2010-08-18",1.9558,24.805,7.4492000000000003,0.82299999999999995,279.5,3.4527999999999999,0.70850000000000002,3.9708999999999999,4.2382999999999997,9.4329999999999998,1.286]
["2010-11-24",1.9558,24.68,7.4553000000000003,0.84794999999999998,275.3,3.4527999999999999,0.70960000000000001,3.9542999999999999,4.3113000000000001,9.3864999999999998,1.3495999999999999,null,null,null,null,null,null,null,null,null,null,166,"2010-08-16","2010-08-01","2010-01-01","2010-08-19",{"$f":"IF($W235=\"\",\"\",INDEX($A:$Z,$W235,AB$3))","v":1.9558},24.815999999999999,7.4497,0.82330000000000003,278.37,3.4527999999999999,0.70840000000000003,3.9413999999999998,4.2385000000000002,9.4452999999999996,1.288]
["2010-11-25",1.9558,24.687999999999999,7.4547999999999996,0.84379999999999999,275.58,3.4527999999999999,0.70940000000000003,3.9742999999999999,4.306,9.2922999999999991,1.3339000000000001,null,null,null,null,null,null,null,null,null,null,167,"2010-08-16","2010-08-01","2010-01-01","2010-08-20",1.9558,24.792999999999999,7.4505999999999997,0.82055,276.89,3.4527999999999999,0.70830000000000004,3.9283000000000001,4.226,9.4389000000000003,1.2836000000000001]
["2010-11-26",1.9558,24.72,7.4558,0.84645000000000004,277.35000000000002,3.4527999999999999,0.70930000000000004,3.9788999999999999,4.2995000000000001,9.2705000000000002,1.3321000000000001,null,null,null,null,null,null,null,null,null,null,168,"2010-08-16","2010-08-01","2010-01-01","2010-08-21",1.9558,24.803000000000001,7.4505999999999997,0.81910000000000005,279.39999999999998,3.4527999999999999,0.70830000000000004,3.9809999999999999,4.2270000000000003,9.4761000000000006,1.2710999999999999]
["2010-11-27",1.9558,24.725000000000001,7.4539999999999997,0.84470000000000001,279.89999999999998,3.4527999999999999,0.70960000000000001,4.0274999999999999,4.3125,9.3070000000000004,1.3225,null,null,null,null,null,null,null,null,null,null,168,"2010-08-16","2010-08-01","2010-01-01","2010-08-22",1.9558,24.803000000000001,7.4505999999999997,0.81910000000000005,279.39999999999998,3.4527999999999999,0.70830000000000004,3.9809999999999999,4.2270000000000003,9.4761000000000006,1.2710999999999999]
["2010-11-30",1.9558,24.757999999999999,7.4542999999999999,0.84399999999999997,280.58,3.4527999999999999,0.70960000000000001,4.0476000000000001,4.2942999999999998,9.2204999999999995,1.3146,null,null,null,null,null,null,null,null,null,null,168,"2010-08-23","2010-08-01","2010-01-01","2010-08-23",1.9558,24.803000000000001,7.4505999999999997,0.81910000000000005,279.39999999999998,3.4527999999999999,0.70830000000000004,3.9809999999999999,4.2270000000000003,9.4761000000000006,1.2710999999999999]
["2010-12-01",1.9558,24.914999999999999,7.4528999999999996,0.83765000000000001,284.18,3.4527999999999999,0.70930000000000004,4.0692000000000004,4.2925000000000004,9.1715,1.2998000000000001,null,null,null,null,null,null,null,null,null,null,169,"2010-08-23","2010-08-01","2010-01-01","2010-08-24",1.9558,24.805,7.4493999999999998,0.81689999999999996,280.70999999999998,3.4527999999999999,0.70850000000000002,3.9904000000000002,4.2237999999999998,9.3940000000000001,1.2704]
["2010-12-02",1.9558,24.960999999999999,7.4527999999999999,0.83930000000000005,280.45,3.4527999999999999,0.7097,4.0202,4.2972999999999999,9.1539999999999999,1.3115000000000001,null,null,null,null,null,null,null,null,null,null,170,"2010-08-23","2010-08-01","2010-01-01","2010-08-25",1.9558,24.888000000000002,7.4486999999999997,0.81930000000000003,285.39999999999998,3.4527999999999999,0.70799999999999996,4.0220000000000002,4.2417999999999996,9.4164999999999992,1.2611000000000001]
["2010-12-03",1.9558,25.01,7.4520999999999997,0.84450000000000003,278.75,3.4527999999999999,0.7097,4.0054999999999996,4.3036000000000003,9.1531000000000002,1.3154999999999999,null,null,null,null,null,null,null,null,null,null,171,"2010-08-23","2010-08-01","2010-01-01","2010-08-26",1.9558,24.92,7.4474999999999998,0.81850000000000001,284.35000000000002,3.4527999999999999,0.70840000000000003,4.0069999999999997,4.2404999999999999,9.4710000000000001,1.2613000000000001]
["2010-12-04",1.9558,25.018000000000001,7.4528999999999996,0.84799999999999998,278.02999999999997,3.4527999999999999,0.7097,3.9952000000000001,4.3072999999999997,9.1265000000000001,1.3246,null,null,null,null,null,null,null,null,null,null,172,"2010-08-23","2010-08-01","2010-01-01","2010-08-27",1.9558,24.858000000000001,7.4469000000000003,0.81745000000000001,283.63,3.4527999999999999,0.70850000000000002,3.9906999999999999,4.2519999999999998,9.4297000000000004,1.2693000000000001]
["2010-12-07",1.9558,25.042999999999999,7.4524999999999997,0.84719999999999995,280.14999999999998,3.4527999999999999,0.70979999999999999,4.0190000000000001,4.306,9.1114999999999995,1.3280000000000001,null,null,null,null,null,null,null,null,null,null,173,"2010-08-23","2010-08-01","2010-01-01","2010-08-28",1.9558,24.754999999999999,7.4481000000000002,0.8206,284.68,3.4527999999999999,0.70879999999999999,3.9885999999999999,4.2435,9.3744999999999994,1.2713000000000001]
["2010-12-08",1.9558,25.068999999999999,7.4527000000000001,0.84670000000000001,278,3.4527999999999999,0.70979999999999999,4.0117000000000003,4.3005000000000004,9.0980000000000008,1.3363,null,null,null,null,null,null,null,null,null,null,173,"2010-08-23","2010-08-01","2010-01-01","2010-08-29",{"$f":"IF($W245=\"\",\"\",INDEX($A:$Z,$W245,AB$3))","v":1.9558},24.754999999999999,7.4481000000000002,0.8206,284.68,3.4527999999999999,0.70879999999999999,3.9885999999999999,4.2435,9.3744999999999994,1.2713000000000001]
["2010-12-09",1.9558,25.09,7.4545000000000003,0.8367,278.85000000000002,3.4527999999999999,0.7097,4.0632999999999999,4.3005000000000004,9.1484000000000005,1.32,null,null,null,null,null,null,null,null,null,null,173,"2010-08-30","2010-08-01","2010-01-01","2010-08-30",1.9558,24.754999999999999,7.4481000000000002,0.8206,284.68,3.4527999999999999,0.70879999999999999,3.9885999999999999,4.2435,9.3744999999999994,1.2713000000000001]
["2010-12-10",1.9558,25.073,7.4554999999999998,0.83819999999999995,277.39,3.4527999999999999,0.7097,4.0305,4.3007,9.1310000000000002,1.3213999999999999,null,null,null,null,null,null,null,null,null,null,174,"2010-08-30","2010-08-01","2010-01-01","2010-08-31",1.9558,24.808,7.4467999999999996,0.8165,283.49,3.4527999999999999,0.7087,3.9805999999999999,4.2343999999999999,9.3872,1.27]
["2010-12-11",1.9558,25.172999999999998,7.4547999999999996,0.83714999999999995,278.2,3.4527999999999999,0.7097,4.0296000000000003,4.2949999999999999,9.1076999999999995,1.3244,null,null,null,null,null,null,null,null,null,null,175,"2010-08-30","2010-09-01","2010-01-01","2010-09-01",1.9558,24.85,7.4447999999999999,0.82479999999999998,287.68,3.4527999999999999,0.70930000000000004,4.0134999999999996,4.2568000000000001,9.3889999999999993,1.268]
["2010-12-14",1.9558,25.167999999999999,7.4545000000000003,0.84375,278.33999999999997,3.4527999999999999,0.70950000000000002,4.0156000000000001,4.2925000000000004,9.1463999999999999,1.3267,null,null,null,null,null,null,null,null,null,null,176,"2010-08-30","2010-09-01","2010-01-01","2010-09-02",1.9558,24.734999999999999,7.4446000000000003,0.83104999999999996,286.3,3.4527999999999999,0.70909999999999995,3.9895999999999998,4.2648000000000001,9.3490000000000002,1.28]
["2010-12-15",1.9558,25.161999999999999,7.4535999999999998,0.84865000000000002,277.33,3.4527999999999999,0.7097,3.99,4.2915000000000001,9.1283999999999992,1.3434999999999999,null,null,null,null,null,null,null,null,null,null,177,"2010-08-30","2010-09-01","2010-01-01","2010-09-03",1.9558,24.71,7.4447000000000001,0.83274999999999999,285.02999999999997,3.4527999999999999,0.7087,3.9767000000000001,4.2698,9.3185000000000002,1.2818000000000001]
["2010-12-17",1.9558,25.155000000000001,7.4503000000000004,0.84794999999999998,273.7,3.4527999999999999,0.70979999999999999,3.9790000000000001,4.2930000000000001,9.0381,1.3238000000000001,null,null,null,null,null,null,null,null,null,null,178,"2010-08-30","2010-09-01","2010-01-01","2010-09-05",1.9558,24.698,7.4448999999999996,0.83320000000000005,284.5,3.4527999999999999,0.70850000000000002,3.952,4.2794999999999996,9.3131000000000004,1.2834000000000001]
["2010-12-23",1.9558,25.28,7.4520999999999997,0.84919999999999995,276.2,3.4527999999999999,0.70979999999999999,3.9927999999999999,4.2853000000000003,8.9811999999999994,1.3111999999999999,null,null,null,null,null,null,null,null,null,null,181,"2010-09-06","2010-09-01","2010-01-01","2010-09-09",1.9558,24.718,7.4457000000000004,0.82204999999999995,288.95,3.4527999999999999,0.70899999999999996,3.9518,4.2874999999999996,9.2710000000000008,1.2697000000000001]
["2011-01-01",1.9558,25.061,7.4535,0.86075000000000002,277.95,3.4527999999999999,0.70940000000000003,3.9750000000000001,4.2619999999999996,8.9655000000000005,1.3362000000000001,null,null,null,null,null,null,null,null,null,null,186,"2010-09-13","2010-09-01","2010-01-01",{"$f":"1+AA262","v":"2010-09-16"},1.9558,24.614999999999998,7.4470999999999998,0.83550000000000002,281.82,3.4527999999999999,0.70899999999999996,3.9357000000000002,4.2474999999999996,9.1950000000000003,1.2988999999999999]
["2011-01-06",1.9558,24.875,7.4527000000000001,0.84830000000000005,277.05,3.4527999999999999,0.70630000000000004,3.8973,4.2699999999999996,8.9295000000000009,1.3212999999999999,null,null,null,null,null,null,null,null,null,null,188,"2010-09-13","2010-09-01","2010-01-01","2010-09-19",1.9558,24.68,7.4467999999999996,0.83574999999999999,282.82,3.4527999999999999,0.7087,3.9622000000000002,4.258,9.2294999999999998,1.306]
["2011-01-13",1.9558,24.39,7.4496000000000002,0.83155000000000001,275.57,3.4527999999999999,0.70089999999999997,3.8424999999999998,4.2525000000000004,8.8435000000000006,1.2972999999999999,null,null,null,null,null,null,null,null,null,null,192,"2010-09-20","2010-09-01","2010-01-01","2010-09-24",1.9558,24.623999999999999,7.4496000000000002,0.85050000000000003,280.85000000000002,3.4527999999999999,0.70930000000000004,3.9763999999999999,4.2670000000000003,9.2053999999999991,1.3323]
["2011-01-20",1.9558,24.257999999999999,7.4512999999999998,0.84330000000000005,272.39999999999998,3.4527999999999999,0.70289999999999997,3.8658000000000001,4.2595000000000001,8.9324999999999992,1.3506,null,null,null,null,null,null,null,null,null,null,195,"2010-09-27","2010-09-01","2010-01-01","2010-09-29",1.9558,24.617999999999999,7.4515000000000002,0.84984999999999999,277.95,3.4527999999999999,0.70979999999999999,3.9761000000000002,4.2685000000000004,9.2240000000000002,1.3460000000000001]
["2011-01-27",1.9558,24.219000000000001,7.4523000000000001,0.86324999999999996,274.23,3.4527999999999999,0.70399999999999996,3.8730000000000002,4.2699999999999996,8.8584999999999994,1.3681000000000001,null,null,null,null,null,null,null,null,null,null,198,"2010-10-04","2010-10-01","2010-01-01","2010-10-04",1.9558,24.42,7.4523000000000001,0.86760000000000004,273.85000000000002,3.4527999999999999,0.70920000000000005,3.9369999999999998,4.2655000000000003,9.2182999999999993,1.3726]
["2011-01-29",1.9558,24.248000000000001,7.4539999999999997,0.8609,271.7,3.4527999999999999,0.70489999999999997,3.9161000000000001,4.2573999999999996,8.8529999999999998,1.371,null,null,null,null,null,null,null,null,null,null,200,"2010-10-04","2010-10-01","2010-01-01","2010-10-06",1.9558,24.498000000000001,7.4549000000000003,0.86670000000000003,272.73,3.4527999999999999,0.70920000000000005,3.9708000000000001,4.2779999999999996,9.2626000000000008,1.3779999999999999]
["2011-02-10",1.9558,24.212,7.4560000000000004,0.85,271.61,3.4527999999999999,0.70350000000000001,3.8942999999999999,4.2565,8.7885000000000009,1.3647,null,null,null,null,null,null,null,null,null,null,206,"2010-10-11","2010-10-01","2010-01-01","2010-10-14",1.9558,24.47,7.4565000000000001,0.88119999999999998,273.45,3.4527999999999999,0.70950000000000002,3.9544999999999999,4.2773000000000003,9.2661999999999995,1.3957999999999999]
["2011-02-17",1.9558,24.324999999999999,7.4562999999999997,0.84189999999999998,270.77,3.4527999999999999,0.70530000000000004,3.9093,4.2492000000000001,8.7324999999999999,1.351,null,null,null,null,null,null,null,null,null,null,209,"2010-10-18","2010-10-01","2010-01-01","2010-10-19",1.9558,24.536000000000001,7.4574999999999996,0.87470000000000003,276.63,3.4527999999999999,0.70920000000000005,3.9226000000000001,4.2815000000000003,9.2871000000000006,1.3895999999999999]
["2011-02-23",1.9558,24.495000000000001,7.4554,0.84584000000000004,272.73,3.4527999999999999,0.70450000000000002,3.9655,4.2290000000000001,8.7870000000000008,1.3667,null,null,null,null,null,null,null,null,null,null,213,"2010-10-18","2010-10-01","2010-01-01","2010-10-23",1.9558,24.626000000000001,7.4577,0.88729999999999998,275.35000000000002,3.4527999999999999,0.7097,3.9701,4.3013000000000003,9.2565000000000008,1.3934]
["2011-02-24",1.9558,24.527000000000001,7.4550999999999998,0.84589999999999999,272.64999999999998,3.4527999999999999,0.70450000000000002,3.9582999999999999,4.2252999999999998,8.7934999999999999,1.3731,null,null,null,null,null,null,null,null,null,null,213,"2010-10-18","2010-10-01","2010-01-01","2010-10-24",1.9558,24.626000000000001,7.4577,0.88729999999999998,275.35000000000002,3.4527999999999999,0.7097,3.9701,4.3013000000000003,9.2565000000000008,1.3934]
["2011-03-04",1.9558,24.207999999999998,7.4564000000000004,0.85129999999999995,270.89999999999998,3.4527999999999999,0.70450000000000002,3.9826000000000001,4.2045000000000003,8.7576000000000001,1.385,null,null,null,null,null,null,null,null,null,null,218,"2010-10-25","2010-10-01","2010-01-01","2010-10-30",1.9558,24.597999999999999,7.4561999999999999,0.86860000000000004,271.76,3.4527999999999999,0.7097,3.9820000000000002,4.2663000000000002,9.3610000000000007,1.3856999999999999]
["2011-03-09",1.9558,24.233000000000001,7.4576000000000002,0.86050000000000004,272.62,3.4527999999999999,0.70589999999999997,3.9847999999999999,4.1894999999999998,8.8469999999999995,1.3897999999999999,null,null,null,null,null,null,null,null,null,null,219,"2010-11-01","2010-11-01","2010-01-01","2010-11-02",1.9558,24.533000000000001,7.4569000000000001,0.86675000000000002,270.75,3.4527999999999999,0.7097,3.9701,4.2824999999999998,9.2765000000000004,1.3926000000000001]
["2011-03-17",1.9558,24.367999999999999,7.4585999999999997,0.86729999999999996,273.39999999999998,3.4527999999999999,0.70599999999999996,4.0625,4.1787999999999998,8.9730000000000008,1.3951,null,null,null,null,null,null,null,null,null,null,223,"2010-11-08","2010-11-01","2010-01-01","2010-11-08",1.9558,24.585000000000001,7.4535999999999998,0.8679,273.70999999999998,3.4527999999999999,0.7097,3.915,4.2910000000000004,9.2910000000000004,1.4084000000000001]
["2011-03-23",1.9558,24.45,7.4572000000000003,0.86780000000000002,270.43,3.4527999999999999,0.70889999999999997,4.0338000000000003,4.1288,8.9320000000000004,1.4211,null,null,null,null,null,null,null,null,null,null,227,"2010-11-08","2010-11-01","2010-01-01","2010-11-12",1.9558,24.634,7.4538000000000002,0.84909999999999997,276.54000000000002,3.4527999999999999,0.70930000000000004,3.9329000000000001,4.2865000000000002,9.3102,1.37]
["2011-03-31",1.9558,24.527999999999999,7.4573,0.87890000000000001,267.10000000000002,3.4527999999999999,0.70930000000000004,3.988,4.1035000000000004,8.9184999999999999,1.409,null,null,null,null,null,null,null,null,null,null,231,{"$f":"IF(W326=\"\",\"\",IF(WEEKDAY(AA326,2)=1,AA326,X325))","v":"2010-11-15"},{"$f":"IF(W326=\"\",\"\",DATE(YEAR(AA326),MONTH(AA326),1))","v":"2010-11-01"},{"$f":"IF(W326=\"\",\"\",DATE(YEAR(AA326),1,1))","v":"2010-01-01"},"2010-11-18",1.9558,24.594999999999999,7.4550000000000001,0.84894999999999998,278.11,3.4527999999999999,0.70950000000000002,3.964,4.2965,9.3979999999999997,1.3481000000000001]
["2011-04-07",1.9558,24.425999999999998,7.4569000000000001,0.87749999999999995,263.24,3.4527999999999999,0.70899999999999996,3.9857999999999998,4.1005000000000003,9.0123999999999995,1.43,null,null,null,null,null,null,null,null,null,null,234,"2010-11-22","2010-11-01","2010-01-01","2010-11-23",1.9558,24.684999999999999,7.4561000000000002,0.85489999999999999,273.11,3.4527999999999999,0.70930000000000004,3.9340000000000002,4.2972999999999999,9.3855000000000004,1.3647]
["2011-04-15",1.9558,24.268999999999998,7.4585999999999997,0.88249999999999995,267.48,3.4527999999999999,0.70920000000000005,3.9525999999999999,4.1037999999999997,9.0292999999999992,1.4400999999999999,null,null,null,null,null,null,null,null,null,null,238,"2010-11-29","2010-11-01","2010-01-01","2010-11-29",1.9558,24.725000000000001,7.4539999999999997,0.84470000000000001,279.89999999999998,3.4527999999999999,0.70960000000000001,4.0274999999999999,4.3125,9.3070000000000004,1.3225]
["2011-04-21",1.9558,24.173999999999999,7.4576000000000002,0.88670000000000004,264.05,3.4527999999999999,0.70930000000000004,3.9723000000000002,4.0872999999999999,8.9010999999999996,1.4515,null,null,null,null,null,null,null,null,null,null,242,"2010-11-29","2010-12-01","2010-01-01","2010-12-03",1.9558,25.01,7.4520999999999997,0.84450000000000003,278.75,3.4527999999999999,0.7097,4.0054999999999996,4.3036000000000003,9.1531000000000002,1.3154999999999999]
["2011-04-28",1.9558,24.135999999999999,7.4558,0.88639999999999997,264.79000000000002,3.4527999999999999,0.70930000000000004,3.9293999999999998,4.0735999999999999,8.9364000000000008,1.4668000000000001,null,null,null,null,null,null,null,null,null,null,243,"2010-12-06","2010-12-01","2010-01-01","2010-12-06",1.9558,25.018000000000001,7.4528999999999996,0.84799999999999998,278.02999999999997,3.4527999999999999,0.7097,3.9952000000000001,4.3072999999999997,9.1265000000000001,1.3246]
["2011-05-07",1.9558,24.093,7.4569999999999999,0.88390000000000002,264.95,3.4527999999999999,0.70960000000000001,3.9514999999999998,4.1188000000000002,9.0214999999999996,1.4500999999999999,null,null,null,null,null,null,null,null,null,null,248,"2010-12-13","2010-12-01","2010-01-01","2010-12-13",1.9558,25.172999999999998,7.4547999999999996,0.83714999999999995,278.2,3.4527999999999999,0.7097,4.0296000000000003,4.2949999999999999,9.1076999999999995,1.3244]
["2011-05-14",1.9558,24.388000000000002,7.4558,0.87795000000000001,267.05,3.4527999999999999,0.70930000000000004,3.9173,4.1150000000000002,8.9951000000000008,1.4279999999999999,null,null,null,null,null,null,null,null,null,null,253,"2010-12-13","2010-12-01","2010-01-01","2010-12-18",1.9558,25.218,7.4497999999999998,0.85185,272.75,3.4527999999999999,0.70979999999999999,3.9798,4.2934999999999999,9.0222999999999995,1.3260000000000001]
["2011-05-17",1.9558,24.373000000000001,7.4564000000000004,0.87250000000000005,267.93,3.4527999999999999,0.70930000000000004,3.9302999999999999,4.1059999999999999,9.0090000000000003,1.4142999999999999,null,null,null,null,null,null,null,null,null,null,253,"2010-12-13","2010-12-01","2010-01-01","2010-12-19",1.9558,25.218,7.4497999999999998,0.85185,272.75,3.4527999999999999,0.70979999999999999,3.9798,4.2934999999999999,9.0222999999999995,1.3260000000000001]
["2011-05-21",1.9558,24.475999999999999,7.4565000000000001,0.87705,268.8,3.4527999999999999,0.70930000000000004,3.9266000000000001,4.1124999999999998,8.9323999999999995,1.4237,null,null,null,null,null,null,null,null,null,null,256,"2010-12-20","2010-12-01","2010-01-01","2010-12-23",1.9558,25.28,7.4520999999999997,0.84919999999999995,276.2,3.4527999999999999,0.70979999999999999,3.9927999999999999,4.2853000000000003,8.9811999999999994,1.3111999999999999]
["2011-06-01",1.9558,24.547000000000001,7.4561000000000002,0.87204999999999999,266.85000000000002,3.4527999999999999,0.70950000000000002,3.9558,4.1280000000000001,8.8932000000000002,1.4384999999999999,null,null,null,null,null,null,null,null,null,null,261,"2010-12-27","2010-12-01","2010-01-01","2010-12-30",1.9558,25.263000000000002,7.4527999999999999,0.85389999999999999,279.39999999999998,3.4527999999999999,0.7097,3.9666999999999999,4.2986000000000004,8.9885000000000002,1.3136000000000001]
["2011-06-03",1.9558,24.533000000000001,7.4553000000000003,0.88295000000000001,265.95,3.4527999999999999,0.70950000000000002,3.9662999999999999,4.1355000000000004,8.9606999999999992,1.446,null,null,null,null,null,null,null,null,null,null,263,"2010-12-27","2011-01-01","2011-01-01","2011-01-01",1.9558,25.061,7.4535,0.86075000000000002,277.95,3.4527999999999999,0.70940000000000003,3.9750000000000001,4.2619999999999996,8.9655000000000005,1.3362000000000001]
["2011-06-11",1.9558,24.132999999999999,7.4577999999999998,0.88839999999999997,264.55,3.4527999999999999,0.70889999999999997,3.9354,4.1559999999999997,9.0884999999999998,1.4486000000000001,null,null,null,null,null,null,null,null,null,null,267,"2011-01-03","2011-01-01","2011-01-01","2011-01-07",1.9558,24.71,7.4516999999999998,0.84450000000000003,275.95,3.4527999999999999,0.70150000000000001,3.8553000000000002,4.2575000000000003,8.9209999999999994,1.3090999999999999]
["2011-06-18",1.9558,24.13,7.4592000000000001,0.88260000000000005,267.66000000000003,3.4527999999999999,0.70930000000000004,3.9729000000000001,4.2270000000000003,9.1887000000000008,1.427,null,null,null,null,null,null,null,null,null,null,270,"2011-01-10","2011-01-01","2011-01-01","2011-01-12",1.9558,24.553000000000001,7.45,0.83189999999999997,279.24,3.4527999999999999,0.70109999999999995,3.8881999999999999,4.258,8.8740000000000006,1.2948]
["2011-06-25",1.9558,24.378,7.4587000000000003,0.88854999999999995,269.5,3.4527999999999999,0.70930000000000004,3.9918999999999998,4.2240000000000002,9.1801999999999992,1.4219999999999999,null,null,null,null,null,null,null,null,null,null,273,"2011-01-17","2011-01-01","2011-01-01","2011-01-17",1.9558,24.384,7.4497999999999998,0.84219999999999995,276.60000000000002,3.4527999999999999,0.70189999999999997,3.88,4.2652000000000001,8.9764999999999997,1.3349]
["2011-07-05",1.9558,24.277999999999999,7.4593999999999996,0.90149999999999997,264.02999999999997,3.4527999999999999,0.70909999999999995,3.9424999999999999,4.2237,9.0991999999999997,1.45,null,null,null,null,null,null,null,null,null,null,278,"2011-01-17","2011-01-01","2011-01-01","2011-01-23",1.9558,24.285,7.4532999999999996,0.84824999999999995,274.24,3.4527999999999999,0.70350000000000001,3.8748,4.2628000000000004,8.9589999999999996,1.3521000000000001]
["2011-07-08",1.9558,24.28,7.4589999999999996,0.8921,264,3.4527999999999999,0.70920000000000005,3.9464999999999999,4.2068000000000003,9.0950000000000006,1.4247000000000001,null,null,null,null,null,null,null,null,null,null,280,"2011-01-24","2011-01-01","2011-01-01","2011-01-26",{"$f":"IF($W395=\"\",\"\",INDEX($A:$Z,$W395,AB$3))","v":1.9558},24.222000000000001,7.4539,0.86199999999999999,275.22000000000003,3.4527999999999999,0.70279999999999998,3.8755000000000002,4.2605000000000004,8.9074000000000009,1.3595999999999999]
["2011-07-16",1.9558,24.49,7.4568000000000003,0.87749999999999995,270.7,3.4527999999999999,0.70920000000000005,4.0347999999999997,4.2633000000000001,9.2120999999999995,1.4146000000000001,null,null,null,null,null,null,null,null,null,null,284,"2011-01-31","2011-02-01","2011-01-01","2011-02-01",1.9558,24.222999999999999,7.4543999999999997,0.8609,273.85000000000002,3.4527999999999999,0.70299999999999996,3.9361999999999999,4.2590000000000003,8.8670000000000009,1.3692]
["2011-07-22",1.9558,24.411000000000001,7.4542000000000002,0.87870000000000004,267.93,3.4527999999999999,0.70940000000000003,3.9954999999999998,4.2560000000000002,9.1007999999999996,1.4221999999999999,null,null,null,null,null,null,null,null,null,null,288,"2011-01-31","2011-02-01","2011-01-01","2011-02-05",{"$f":"IF($W405=\"\",\"\",INDEX($A:$Z,$W405,AB$3))","v":1.9558},24.018000000000001,7.4543999999999997,0.84719999999999995,270.35000000000002,3.4527999999999999,0.70150000000000001,3.9007999999999998,4.2640000000000002,8.8185000000000002,1.3631]
["2011-07-29",1.9558,24.215,7.4497,0.87390000000000001,268.2,3.4527999999999999,0.70960000000000001,4.0149999999999997,4.2504999999999997,9.0734999999999992,1.4259999999999999,null,null,null,null,null,null,null,null,null,null,291,"2011-02-07","2011-02-01","2011-01-01","2011-02-10",1.9558,24.212,7.4560000000000004,0.85,271.61,3.4527999999999999,0.70350000000000001,3.8942999999999999,4.2565,8.7885000000000009,1.3647]
["2011-08-06",1.9558,24.248000000000001,7.4489000000000001,0.86904999999999999,274.10000000000002,3.4527999999999999,0.70950000000000002,4.0454999999999997,4.2417999999999996,9.2070000000000007,1.4155,null,null,null,null,null,null,null,null,null,null,295,"2011-02-14","2011-02-01","2011-01-01","2011-02-16",1.9558,24.292999999999999,7.4566999999999997,0.83750000000000002,271.06,3.4527999999999999,0.70589999999999997,3.9287000000000001,4.2518000000000002,8.7255000000000003,1.351]
["2011-08-10",1.9558,24.22,7.4497,0.87309999999999999,274.7,3.4527999999999999,0.70920000000000005,4.0956000000000001,4.2625000000000002,9.2126999999999999,1.4267000000000001,null,null,null,null,null,null,null,null,null,null,297,"2011-02-14","2011-02-01","2011-01-01","2011-02-18",1.9558,24.324999999999999,7.4554999999999998,0.84089999999999998,269.25,3.4527999999999999,0.70440000000000003,3.9075000000000002,4.2480000000000002,8.7430000000000003,1.3560000000000001]
["2011-08-13",1.9558,24.186,7.4490999999999996,0.87634999999999996,273.68,3.4527999999999999,0.70930000000000004,4.1517999999999997,4.2835000000000001,9.2376000000000005,1.425,null,null,null,null,null,null,null,null,null,null,298,"2011-02-21","2011-02-01","2011-01-01","2011-02-21",1.9558,24.375,7.4546000000000001,0.83950000000000002,270.05,3.4527999999999999,0.70450000000000002,3.9144999999999999,4.242,8.7327999999999992,1.3627]
["2011-08-25",1.9558,24.488,7.4499000000000004,0.87709999999999999,272.05,3.4527999999999999,0.70930000000000004,4.1566000000000001,4.2569999999999997,9.1234000000000002,1.4433,null,null,null,null,null,null,null,null,null,null,304,"2011-02-28","2011-03-01","2011-01-01","2011-03-01",1.9558,24.353000000000002,7.4564000000000004,0.8528,270.72000000000003,3.4527999999999999,0.70450000000000002,3.9548000000000001,4.2057000000000002,8.7445000000000004,1.3834]
["2011-08-26",1.9558,24.24,7.4496000000000002,0.88119999999999998,272.39999999999998,3.4527999999999999,0.70960000000000001,4.1528,4.2519999999999998,9.1098999999999997,1.4423999999999999,null,null,null,null,null,null,null,null,null,null,305,"2011-02-28","2011-03-01","2011-01-01","2011-03-02",1.9558,24.355,7.4558999999999997,0.84940000000000004,272.64,3.4527999999999999,0.70450000000000002,3.9725000000000001,4.2119999999999997,8.7089999999999996,1.3825000000000001]
["2011-09-03",1.9558,24.303999999999998,7.4496000000000002,0.87890000000000001,275.43,3.4527999999999999,0.70930000000000004,4.1821000000000002,4.2404999999999999,9.1236999999999995,1.4255,null,null,null,null,null,null,null,null,null,null,309,"2011-03-07","2011-03-01","2011-01-01","2011-03-08",1.9558,24.225999999999999,7.4572000000000003,0.86099999999999999,271.66000000000003,3.4527999999999999,0.70609999999999995,3.9731999999999998,4.2004999999999999,8.8755000000000006,1.4028]
["2011-09-13",1.9558,24.521999999999998,7.4471999999999996,0.86014999999999997,282.55,3.4527999999999999,0.70909999999999995,4.3231999999999999,4.2823000000000002,8.9905000000000008,1.3655999999999999,null,null,null,null,null,null,null,null,null,null,313,"2011-03-14","2011-03-01","2011-01-01","2011-03-14",1.9558,24.335000000000001,7.4581999999999997,0.86119999999999997,272.8,3.4527999999999999,0.70669999999999999,4.0411999999999999,4.1882999999999999,8.8130000000000006,1.3773]
["2011-09-17",1.9558,24.457000000000001,7.4478999999999997,0.87170000000000003,287.25,3.4527999999999999,0.70930000000000004,4.3445,4.2679999999999998,9.1609999999999996,1.3759999999999999,null,null,null,null,null,null,null,null,null,null,317,"2011-03-14","2011-03-01","2011-01-01","2011-03-18",1.9558,24.396000000000001,7.4585999999999997,0.86745000000000005,273.74,3.4527999999999999,0.70699999999999996,4.0789999999999997,4.18,8.9905000000000008,1.4004000000000001]
["2011-09-22",1.9558,24.93,7.4471999999999996,0.87309999999999999,293.05,3.4527999999999999,0.70930000000000004,4.4333,4.3029999999999999,9.1170000000000009,1.3635999999999999,null,null,null,null,null,null,null,null,null,null,318,"2011-03-21","2011-03-01","2011-01-01","2011-03-21",1.9558,24.388000000000002,7.4568000000000003,0.87380000000000002,273.35000000000002,3.4527999999999999,0.70699999999999996,4.0587999999999997,4.1704999999999997,8.9064999999999994,1.413]
["2011-09-30",1.9558,24.562999999999999,7.4421999999999997,0.87065000000000003,291.85000000000002,3.4527999999999999,0.70930000000000004,4.4377000000000004,4.3310000000000004,9.2116000000000007,1.3614999999999999,null,null,null,null,null,null,null,null,null,null,323,"2011-03-21","2011-03-01","2011-01-01",{"$f":"1+AA454","v":"2011-03-27"},{"$f":"IF($W455=\"\",\"\",INDEX($A:$Z,$W455,AB$3))","v":1.9558},24.529,7.4580000000000002,0.87780000000000002,266.33,3.4527999999999999,0.70899999999999996,4.0095000000000001,4.0819999999999999,8.9922000000000004,1.4115]
["2011-10-08",1.9558,24.783999999999999,7.4439000000000002,0.86480000000000001,296.63,3.4527999999999999,0.7087,4.3761999999999999,4.3114999999999997,9.1329999999999991,1.3433999999999999,null,null,null,null,null,null,null,null,null,null,328,"2011-03-28","2011-04-01","2011-01-01","2011-04-02",1.9558,24.512,7.4564000000000004,0.88149999999999995,266.26,3.4527999999999999,0.70920000000000005,4.0397999999999996,4.1420000000000003,8.9382000000000001,1.4140999999999999]
["2011-10-15",1.9558,24.74,7.4455999999999998,0.87480000000000002,292.7,3.4527999999999999,0.70540000000000003,4.3099999999999996,4.3288000000000002,9.1395,1.3807,null,null,null,null,null,null,null,null,null,null,331,"2011-04-04","2011-04-01","2011-01-01","2011-04-07",1.9558,24.425999999999998,7.4569000000000001,0.87749999999999995,263.24,3.4527999999999999,0.70899999999999996,3.9857999999999998,4.1005000000000003,9.0123999999999995,1.43]
["2011-10-21",1.9558,24.902999999999999,7.4450000000000003,0.875,296.24,3.4527999999999999,0.70530000000000004,4.3514999999999997,4.3331,9.0977999999999994,1.3807,null,null,null,null,null,null,null,null,null,null,333,"2011-04-11","2011-04-01","2011-01-01","2011-04-11",1.9558,24.43,7.4572000000000003,0.88095000000000001,264.08999999999997,3.4527999999999999,0.70899999999999996,3.956,4.1117999999999997,8.9894999999999996,1.4400999999999999]
["2011-10-26",1.9558,24.905999999999999,7.4451999999999998,0.87009999999999998,297.07,3.4527999999999999,0.70399999999999996,4.3815,4.3235999999999999,9.1110000000000007,1.3917999999999999,null,null,null,null,null,null,null,null,null,null,336,"2011-04-11","2011-04-01","2011-01-01","2011-04-14",1.9558,24.39,7.4584000000000001,0.88980000000000004,266.17,3.4527999999999999,0.70909999999999995,3.9584000000000001,4.1109999999999998,9.0299999999999994,1.4493,null,null,null,null,null,null,null,null,null,null,null,null,null,null,null,null,null,null,null,null,null,null,null,null,null,null,null,null,null,null,null,null,null,null,null,null,null,null,null,null,"","","","","","","","","","","","",null,null,null,null,null,null,null,null,null,null,null,null,null,null,{"$error":"#VALUE!"},"","","","","","","","","","",""]
["2011-11-04",1.9558,24.911000000000001,7.4410999999999996,0.85929999999999995,302.89999999999998,3.4527999999999999,0.70289999999999997,4.3463000000000003,4.3522999999999996,9.0272000000000006,1.3773,null,null,null,null,null,null,null,null,null,null,341,"2011-04-18","2011-04-01","2011-01-01","2011-04-21",1.9558,24.173999999999999,7.4576000000000002,0.88670000000000004,264.05,3.4527999999999999,0.70930000000000004,3.9723000000000002,4.0872999999999999,8.9010999999999996,1.4515,null,null,null,null,null,null,null,null,null,null,null,null,null,null,null,null,null,null,null,null,null,null,null,null,null,null,null,null,null,null,null,null,null,null,null,null,null,null,null,null,"","","","","","","","","","","","",null,null,null,null,null,null,null,null,null,null,null,null,null,null,{"$error":"#VALUE!"},"","","","","","","","","","",""]
["2011-11-05",1.9558,24.992000000000001,7.4427000000000003,0.86124999999999996,304.05,3.4527999999999999,0.70299999999999996,4.3611000000000004,4.3566000000000003,9.1113,1.3773,null,null,null,null,null,null,null,null,null,null,342,"2011-04-18","2011-04-01","2011-01-01","2011-04-22",1.9558,24.18,7.4573,0.88129999999999997,263.8,3.4527999999999999,0.70930000000000004,3.9493,4.0868000000000002,8.8885000000000005,1.4583999999999999,null,null,null,null,null,null,null,null,null,null,null,null,null,null,null,null,null,null,null,null,null,null,null,null,null,null,null,null,null,null,null,null,null,null,null,null,null,null,null,null,"","","","","","","","","","","","",null,null,null,null,null,null,null,null,null,null,null,null,null,null,{"$error":"#VALUE!"},"","","","","","","","","","",""]
["2011-11-12",1.9558,25.701000000000001,7.4421999999999997,0.85680000000000001,310.52,3.4527999999999999,0.70150000000000001,4.4234999999999998,4.3472,9.0935000000000006,1.365,null,null,null,null,null,null,null,null,null,null,343,"2011-04-25","2011-04-01","2011-01-01","2011-04-27",1.9558,24.1,7.4565999999999999,0.88714999999999999,264.48,3.4527999999999999,0.70930000000000004,3.9340000000000002,4.0724999999999998,8.9257000000000009,1.4617,null,null,null,null,null,null,null,null,null,null,null,null,null,null,null,null,null,null,null,null,null,null,null,null,null,null,null,null,null,null,null,null,null,null,null,null,null,null,null,null,"","","","","","","","","","","","",null,null,null,null,null,null,null,null,null,null,null,null,null,null,{"$error":"#VALUE!"},"","","","","","","","","","",""]
["2011-11-18",1.9558,25.646000000000001,7.4427000000000003,0.85399999999999998,312.17,3.4527999999999999,0.70309999999999995,4.4387999999999996,4.3638000000000003,9.1746999999999996,1.3480000000000001,null,null,null,null,null,null,null,null,null,null,346,"2011-04-25","2011-05-01","2011-01-01","2011-05-01",1.9558,24.222999999999999,7.4576000000000002,0.89170000000000005,264.5,3.4527999999999999,0.70930000000000004,3.9356,4.0780000000000003,8.9139999999999997,1.486,null,null,null,null,null,null,null,null,null,null,null,null,null,null,null,null,null,null,null,null,null,null,null,null,null,null,null,null,null,null,null,null,null,null,null,null,null,null,null,null,"","","","","","","","","","","","",null,null,null,null,null,null,null,null,null,null,null,null,null,null,{"$error":"#VALUE!"},"","","","","","","","","","",""]
["2011-11-26",1.9558,26.030999999999999,7.4371999999999998,0.85585,314.32,3.4527999999999999,0.69779999999999998,4.5143000000000004,4.3653000000000004,9.2505000000000006,1.3229,null,null,null,null,null,null,null,null,null,null,351,"2011-05-02","2011-05-01","2011-01-01","2011-05-07",1.9558,24.093,7.4569999999999999,0.88390000000000002,264.95,3.4527999999999999,0.70960000000000001,3.9514999999999998,4.1188000000000002,9.0214999999999996,1.4500999999999999,null,null,null,null,null,null,null,null,null,null,null,null,null,null,null,null,null,null,null,null,null,null,null,null,null,null,null,null,null,null,null,null,null,null,null,null,null,null,null,null,"","","","","","","","","","","","",null,null,null,null,null,null,null,null,null,null,null,null,null,null,{"$error":"#VALUE!"},"","","","","","","","","","",""]
["2011-12-07",1.9558,25.23,7.4348000000000001,0.85655000000000003,300.2,3.4527999999999999,0.69779999999999998,4.4547999999999996,4.3540000000000001,9.0551999999999992,1.3393999999999999,null,null,null,null,null,null,null,null,null,null,356,"2011-05-09","2011-05-01","2011-01-01","2011-05-14",1.9558,24.388000000000002,7.4558,0.87795000000000001,267.05,3.4527999999999999,0.70930000000000004,3.9173,4.1150000000000002,8.9951000000000008,1.4279999999999999,null,null,null,null,null,null,null,null,null,null,null,null,null,null,null,null,null,null,null,null,null,null,null,null,null,null,null,null,null,null,null,null,null,null,null,null,null,null,null,null,"",{"$f":"IF($BA503=\"\",\"\",SUM(BB503:BB509)/7)","v":""},"","","","","","","","","","",null,null,null,null,null,null,null,null,null,null,null,null,null,null,{"$error":"#VALUE!"},{"$f":"IF($BA503=\"\",\"\",SUM(CB503:CB509)/7)","v":""},"","","","","","","","","",""]
["2011-12-10",1.9558,25.475000000000001,7.4348999999999998,0.85314999999999996,305.08,3.4527999999999999,0.69810000000000005,4.5148999999999999,4.3428000000000004,9.0184999999999995,1.3384,null,null,null,null,null,null,null,null,null,null,357,"2011-05-16","2011-05-01","2011-01-01","2011-05-17",1.9558,24.373000000000001,7.4564000000000004,0.87250000000000005,267.93,3.4527999999999999,0.70930000000000004,3.9302999999999999,4.1059999999999999,9.0090000000000003,1.4142999999999999,null,null,null,null,null,null,null,null,null,null,null,null,null,null,null,null,null,null,null,null,null,null,null,null,null,null,null,null,null,null,null,null,null,null,null,null,null,null,null,null,"","","","","","","","","","","","",null,null,null,null,null,null,null,null,null,null,null,null,null,null,{"$error":"#VALUE!"},"","","","","","","","","","",""]
["2011-12-16",1.9558,25.533999999999999,7.4321999999999999,0.83935000000000004,302.25,3.4527999999999999,0.69730000000000003,4.5350000000000001,4.3407999999999998,9.0708000000000002,1.3019000000000001,null,null,null,null,null,null,null,null,null,null,361,"2011-05-16","2011-05-01","2011-01-01","2011-05-21",1.9558,24.475999999999999,7.4565000000000001,0.87705,268.8,3.4527999999999999,0.70930000000000004,3.9266000000000001,4.1124999999999998,8.9323999999999995,1.4237,null,null,null,null,null,null,null,null,null,null,null,null,null,null,null,null,null,null,null,null,null,null,null,null,null,null,null,null,null,null,null,null,null,null,null,null,null,null,null,null,"","","","","","","","","","","","",null,null,null,null,null,null,null,null,null,null,null,null,null,null,{"$error":"#VALUE!"},"","","","","","","","","","",""]
["2011-12-23",1.9558,25.625,7.4336000000000002,0.83250000000000002,306.45,3.4527999999999999,0.69650000000000001,4.4352,4.3,8.9952000000000005,1.3047,null,null,null,null,null,null,null,null,null,null,364,"2011-05-23","2011-05-01","2011-01-01","2011-05-26",{"$f":"IF($W515=\"\",\"\",INDEX($A:$Z,$W515,AB$3))","v":1.9558},24.577000000000002,7.4569000000000001,0.86719999999999997,270.06,3.4527999999999999,0.70930000000000004,3.9678,4.1345000000000001,8.9149999999999991,1.4069,null,null,null,null,null,null,null,null,null,null,null,null,null,null,null,null,null,null,null,null,null,null,null,null,null,null,null,null,null,null,null,null,null,null,null,null,null,null,null,null,"","","","","","","","","","","","",null,null,null,null,null,null,null,null,null,null,null,null,null,null,{"$error":"#VALUE!"},"","","","","","","","","","",""]
["2012-01-03",1.9558,25.504999999999999,7.4335000000000004,0.83513999999999999,314.38,3.4527999999999999,0.69979999999999998,4.4733000000000001,4.3324999999999996,8.9275000000000002,1.2935000000000001,null,null,null,null,null,null,null,null,null,null,368,"2011-05-30","2011-06-01","2011-01-01","2011-06-01",1.9558,24.547000000000001,7.4561000000000002,0.87204999999999999,266.85000000000002,3.4527999999999999,0.70950000000000002,3.9558,4.1280000000000001,8.8932000000000002,1.4384999999999999,null,null,null,null,null,null,null,null,null,null,null,null,null,null,null,null,null,null,null,null,null,null,null,null,null,null,null,null,null,null,null,null,null,null,null,null,null,null,null,null,"","","","","","","","","","","","",null,null,null,null,null,null,null,null,null,null,null,null,null,null,{"$error":"#VALUE!"},"","","","","","","","","","",""]
["2012-01-05",1.9558,25.760999999999999,7.4360999999999997,0.83109999999999995,320.01,3.4527999999999999,0.69869999999999999,4.4894999999999996,4.3215000000000003,8.8985000000000003,1.2948,null,null,null,null,null,null,null,null,null,null,370,"2011-05-30","2011-06-01","2011-01-01","2011-06-03",1.9558,24.533000000000001,7.4553000000000003,0.88295000000000001,265.95,3.4527999999999999,0.70950000000000002,3.9662999999999999,4.1355000000000004,8.9606999999999992,1.446,null,null,null,null,null,null,null,null,null,null,null,null,null,null,null,null,null,null,null,null,null,null,null,null,null,null,null,null,null,null,null,null,null,null,null,null,null,null,null,null,"","","","","","","","","","","","",null,null,null,null,null,null,null,null,null,null,null,null,null,null,{"$error":"#VALUE!"},"","","","","","","","","","",""]
["2012-01-14",1.9558,25.45,7.4364999999999997,0.83320000000000005,309.70999999999998,3.4527999999999999,0.70020000000000004,4.4059999999999997,4.3345000000000002,8.8892000000000007,1.2770999999999999,null,null,null,null,null,null,null,null,null,null,375,"2011-06-06","2011-06-01","2011-01-01","2011-06-10",1.9558,24.138000000000002,7.4579000000000004,0.88939999999999997,264.68,3.4527999999999999,0.70909999999999995,3.9558,4.1630000000000003,9.0604999999999993,1.4614,null,null,null,null,null,null,null,null,null,null,null,null,null,null,null,null,null,null,null,null,null,null,null,null,null,null,null,null,null,null,null,null,null,null,null,null,null,null,null,null,"","","","","","","","","","","","",null,null,null,null,null,null,null,null,null,null,null,null,null,null,{"$error":"#VALUE!"},"","","","","","","","","","",""]
["2012-01-20",1.9558,25.297999999999998,7.4358000000000004,0.83560000000000001,302.11,3.4527999999999999,0.70020000000000004,4.3250000000000002,4.3437999999999999,8.7605000000000004,1.2910999999999999,null,null,null,null,null,null,null,null,null,null,377,"2011-06-13","2011-06-01","2011-01-01","2011-06-14",1.9558,24.132000000000001,7.4587000000000003,0.88060000000000005,265.3,3.4527999999999999,0.70860000000000001,3.9331999999999998,4.1867999999999999,9.1243999999999996,1.4354,null,null,null,null,null,null,null,null,null,null,null,null,null,null,null,null,null,null,null,null,null,null,null,null,null,null,null,null,null,null,null,null,null,null,null,null,null,null,null,null,"","","","","","","","","","","","",null,null,null,null,null,null,null,null,null,null,null,null,null,null,{"$error":"#VALUE!"},"","","","","","","","","","",""]
["2012-01-28",1.9558,25.155999999999999,7.4335000000000004,0.83684999999999998,293.95,3.4527999999999999,0.69910000000000005,4.2206999999999999,4.3456999999999999,8.8965999999999994,1.3145,null,null,null,null,null,null,null,null,null,null,381,"2011-06-20","2011-06-01","2011-01-01","2011-06-20",1.9558,24.13,7.4592000000000001,0.88260000000000005,267.66000000000003,3.4527999999999999,0.70930000000000004,3.9729000000000001,4.2270000000000003,9.1887000000000008,1.427,null,null,null,null,null,null,null,null,null,null,null,null,null,null,null,null,null,null,null,null,null,null,null,null,null,null,null,null,null,null,null,null,null,null,null,null,null,null,null,null,"","","","","","","","","","","","",null,null,null,null,null,null,null,null,null,null,null,null,null,null,{"$error":"#VALUE!"},"","","","","","","","","","",""]
["2012-01-31",1.9558,25.27,7.4340999999999999,0.83579999999999999,296.04000000000002,3.4527999999999999,0.69910000000000005,4.2545000000000002,4.3380000000000001,8.8995999999999995,1.3109999999999999,null,null,null,null,null,null,null,null,null,null,382,"2011-06-20","2011-06-01","2011-01-01","2011-06-21",1.9558,24.125,7.4593999999999996,0.87949999999999995,269,3.4527999999999999,0.70899999999999996,3.9897999999999998,4.2709999999999999,9.1707999999999998,1.4235,null,null,null,null,null,null,null,null,null,null,null,null,null,null,null,null,null,null,null,null,null,null,null,null,null,null,null,null,null,null,null,null,null,null,null,null,null,null,null,null,"","","","","","","","","","","","",null,null,null,null,null,null,null,null,null,null,null,null,null,null,{"$error":"#VALUE!"},"","","","","","","","","","",""]
["2012-02-08",1.9558,25,7.4336000000000002,0.83020000000000005,291.66000000000003,3.4527999999999999,0.69899999999999995,4.1783000000000001,4.3522999999999996,8.8215000000000003,1.3112999999999999,null,null,null,null,null,null,null,null,null,null,386,"2011-06-27","2011-06-01","2011-01-01","2011-06-27",1.9558,24.378,7.4587000000000003,0.88854999999999995,269.5,3.4527999999999999,0.70930000000000004,3.9918999999999998,4.2240000000000002,9.1801999999999992,1.4219999999999999,null,null,null,null,null,null,null,null,null,null,null,null,null,null,null,null,null,null,null,null,null,null,null,null,null,null,null,null,null,null,null,null,null,null,null,null,null,null,null,null,"","","","","","","","","","","","",null,null,null,null,null,null,null,null,null,null,null,null,null,null,{"$error":"#VALUE!"},"","","","","","","","","","",""]
["2012-02-11",1.9558,25.245000000000001,7.4321999999999999,0.83630000000000004,293.58,3.4527999999999999,0.69899999999999995,4.2187999999999999,4.3540000000000001,8.8064999999999998,1.3189,null,null,null,null,null,null,null,null,null,null,389,"2011-06-27","2011-06-01","2011-01-01","2011-06-30",1.9558,24.341999999999999,7.4592000000000001,0.89980000000000004,267.05,3.4527999999999999,0.70930000000000004,3.9986999999999999,4.2104999999999997,9.2047000000000008,1.4424999999999999,null,null,null,null,null,null,null,null,null,null,null,null,null,null,null,null,null,null,null,null,null,null,null,null,null,null,null,null,null,null,null,null,null,null,null,null,null,null,null,null,"","","","","","","","","","","","",null,null,null,null,null,null,null,null,null,null,null,null,null,null,{"$error":"#VALUE!"},"","","","","","","","","","",""]
["2012-02-21",1.9558,24.907,7.4339000000000004,0.83640000000000003,287.39999999999998,3.4527999999999999,0.69820000000000004,4.1680000000000001,4.3525,8.8109999999999999,1.3266,null,null,null,null,null,null,null,null,null,null,393,"2011-07-04","2011-07-01","2011-01-01","2011-07-06",1.9558,24.32,7.4591000000000003,0.89839999999999998,264.64,3.4527999999999999,0.70909999999999995,3.95,4.1805000000000003,9.0806000000000004,1.4460999999999999,null,null,null,null,null,null,null,null,null,null,null,null,null,null,null,null,null,null,null,null,null,null,null,null,null,null,null,null,null,null,null,null,null,null,null,null,null,null,null,null,"","","","","","","","","","","","",null,null,null,null,null,null,null,null,null,null,null,null,null,null,{"$error":"#VALUE!"},"","","","","","","","","","",""]
["2012-02-25",1.9558,25.033000000000001,7.4362000000000004,0.84814999999999996,288.70999999999998,3.4527999999999999,0.6986,4.1665000000000001,4.3525,8.8224999999999998,1.3411999999999999,null,null,null,null,null,null,null,null,null,null,396,"2011-07-04","2011-07-01","2011-01-01","2011-07-10",1.9558,24.224,7.4587000000000003,0.89319999999999999,263.08,3.4527999999999999,0.70909999999999995,3.9401000000000002,4.2009999999999996,9.0838000000000001,1.4241999999999999,null,null,null,null,null,null,null,null,null,null,null,null,null,null,null,null,null,null,null,null,null,null,null,null,null,null,null,null,null,null,null,null,null,null,null,null,null,null,null,null,"","","","","","","","","","","","",null,null,null,null,null,null,null,null,null,null,null,null,null,null,{"$error":"#VALUE!"},"","","","","","","","","","",""]
["2012-03-03",1.9558,24.715,7.4345999999999997,0.8327,289.3,3.4527999999999999,0.69830000000000003,4.1074000000000002,4.3507999999999996,8.8315999999999999,1.3217000000000001,null,null,null,null,null,null,null,null,null,null,400,"2011-07-11","2011-07-01","2011-01-01","2011-07-15",{"$f":"IF($W565=\"\",\"\",INDEX($A:$Z,$W565,AB$3))","v":1.9558},24.434999999999999,7.4570999999999996,0.88095000000000001,269.60000000000002,3.4527999999999999,0.70920000000000005,4.0309999999999997,4.2743000000000002,9.1974999999999998,1.4201999999999999,null,null,null,null,null,null,null,null,null,null,null,null,null,null,null,null,null,null,null,null,null,null,null,null,null,null,null,null,null,null,null,null,null,null,null,null,null,null,null,null,"","","","","","","","","","","","",null,null,null,null,null,null,null,null,null,null,null,null,null,null,{"$error":"#VALUE!"},"","","","","","","","","","",""]
["2012-03-13",1.9558,24.562999999999999,7.4348000000000001,0.83919999999999995,293.48,3.4527999999999999,0.6966,4.1094999999999997,4.3552999999999997,8.9312000000000005,1.3119000000000001,null,null,null,null,null,null,null,null,null,null,404,"2011-07-18","2011-07-01","2011-01-01","2011-07-21",1.9558,24.498000000000001,7.4553000000000003,0.88065000000000004,269.18,3.4527999999999999,0.70930000000000004,3.9916999999999998,4.2474999999999996,9.1713000000000005,1.4207000000000001,null,null,null,null,null,null,null,null,null,null,null,null,null,null,null,null,null,null,null,null,null,null,null,null,null,null,null,null,null,null,null,null,null,null,null,null,null,null,null,null,"","","","","","","","","","","","",null,null,null,null,null,null,null,null,null,null,null,null,null,null,{"$error":"#VALUE!"},"","","","","","","","","","",""]
["2012-03-17",1.9558,24.510999999999999,7.4356,0.82950000000000002,290.64,3.4527999999999999,0.69699999999999995,4.13,4.3822999999999999,8.8559999999999999,1.3116000000000001,null,null,null,null,null,null,null,null,null,null,406,"2011-07-25","2011-07-01","2011-01-01","2011-07-25",{"$f":"IF($W575=\"\",\"\",INDEX($A:$Z,$W575,AB$3))","v":1.9558},24.408000000000001,7.4535999999999998,0.88270000000000004,266.64999999999998,3.4527999999999999,0.70930000000000004,3.9815,4.2305000000000001,9.0786999999999995,1.4391,null,null,null,null,null,null,null,null,null,null,null,null,null,null,null,null,null,null,null,null,null,null,null,null,null,null,null,null,null,null,null,null,null,null,null,null,null,null,null,null,"","","","","","","","","","","","",null,null,null,null,null,null,null,null,null,null,null,null,null,null,{"$error":"#VALUE!"},"","","","","","","","","","",""]
["2012-03-27",1.9558,24.63,7.4356,0.83520000000000005,292.63,3.4527999999999999,0.69679999999999997,4.1375999999999999,4.3639999999999999,8.9276999999999997,1.3275999999999999,null,null,null,null,null,null,null,null,null,null,{"$f":"IF(AA581>MaxDate,\"\",MATCH(AA581,$A:$A,1))","v":411},"2011-07-25","2011-07-01","2011-01-01","2011-07-31",1.9558,24.187999999999999,7.4493999999999998,0.87485000000000002,269.97000000000003,3.4527999999999999,0.70940000000000003,4.0086000000000004,4.2417999999999996,9.0688999999999993,1.4259999999999999,null,null,null,null,null,null,null,null,null,null,null,null,null,null,null,null,null,null,null,null,null,null,null,null,null,null,null,null,null,null,null,null,null,null,null,null,null,null,null,null,{"$f":"IF(AND(WEEKDAY(BA581,2)=1,BA581<=MaxDate-6),BA581,\"\")","v":""},"","","","","","","","","","","",null,null,null,null,null,null,null,null,null,null,null,null,null,null,{"$error":"#VALUE!"},"","","","","","","","","","",""]
["2012-03-30",1.9558,24.777999999999999,7.4371999999999998,0.83579999999999999,294.36,3.4527999999999999,0.70069999999999999,4.1612,4.3807,8.8450000000000006,1.3271999999999999,null,null,null,null,null,null,null,null,null,null,413,"2011-08-01","2011-08-01","2011-01-01","2011-08-03",1.9558,24.231000000000002,7.4489999999999998,0.87180000000000002,270.12,3.4527999999999999,0.70920000000000005,4.0294999999999996,4.2388000000000003,9.0129999999999999,1.417,null,null,null,null,null,null,null,null,null,null,null,null,null,null,null,null,null,null,null,null,null,null,null,null,null,null,null,null,null,null,null,null,null,null,null,null,null,null,null,null,"","","","","","","","","","","","",null,null,null,null,null,null,null,null,null,null,null,null,null,null,{"$error":"#VALUE!"},"","","","","","","","","","",""]
["2012-04-11",1.9558,24.795000000000002,7.4394999999999998,0.82689999999999997,295.75,3.4527999999999999,0.69930000000000003,4.1706000000000003,4.3707000000000003,8.8729999999999993,1.3113999999999999,null,null,null,null,null,null,null,null,null,null,417,"2011-08-08","2011-08-01","2011-01-01","2011-08-09",1.9558,24.196000000000002,7.4493999999999998,0.86909999999999998,273.95,3.4527999999999999,0.70950000000000002,4.0514000000000001,4.2430000000000003,9.2258999999999993,1.4225000000000001,null,null,null,null,null,null,null,null,null,null,null,null,null,null,null,null,null,null,null,null,null,null,null,null,null,null,null,null,null,null,null,null,null,null,null,null,null,null,null,null,"","","","","","","","","","","","",null,null,null,null,null,null,null,null,null,null,null,null,null,null,{"$error":"#VALUE!"},"","","","","","","","","","",""]
["2012-04-18",1.9558,24.798999999999999,7.4397000000000002,0.82340000000000002,297.35000000000002,3.4527999999999999,0.69889999999999997,4.1905000000000001,4.3753000000000002,8.8821999999999992,1.3131999999999999,null,null,null,null,null,null,null,null,null,null,421,"2011-08-08","2011-08-01","2011-01-01","2011-08-14",{"$f":"IF($W595=\"\",\"\",INDEX($A:$Z,$W595,AB$3))","v":1.9558},24.186,7.4490999999999996,0.87634999999999996,273.68,3.4527999999999999,0.70930000000000004,4.1517999999999997,4.2835000000000001,9.2376000000000005,1.425,null,null,null,null,null,null,null,null,null,null,null,null,null,null,null,null,null,null,null,null,null,null,null,null,null,null,null,null,null,null,null,null,null,null,null,null,null,null,null,null,"","","","","","","","","","","","",null,null,null,null,null,null,null,null,null,null,null,null,null,null,{"$error":"#VALUE!"},"","","","","","","","","","",""]
["2012-04-25",1.9558,24.997,7.4401999999999999,0.81540000000000001,297.69,3.4527999999999999,0.69930000000000003,4.2003000000000004,4.3818000000000001,8.8879999999999999,1.3161,null,null,null,null,null,null,null,null,null,null,425,"2011-08-15","2011-08-01","2011-01-01","2011-08-19",1.9558,24.422999999999998,7.4505999999999997,0.87060000000000004,272.13,3.4527999999999999,0.70950000000000002,4.1525999999999996,4.26,9.1590000000000007,1.4369000000000001,null,null,null,null,null,null,null,null,null,null,null,null,null,null,null,null,null,null,null,null,null,null,null,null,null,null,null,null,null,null,null,null,null,null,null,null,null,null,null,null,"","","","","","","","","","","","",null,null,null,null,null,null,null,null,null,null,null,null,null,null,{"$error":"#VALUE!"},"","","","","","","","","","",""]
["2012-04-26",1.9558,24.803999999999998,7.4398999999999997,0.81940000000000002,287.83,3.4527999999999999,0.69930000000000003,4.1738,4.3765000000000001,8.8957999999999995,1.3206,null,null,null,null,null,null,null,null,null,null,426,"2011-08-15","2011-08-01","2011-01-01","2011-08-20",1.9558,24.475000000000001,7.4486999999999997,0.86965000000000003,272.14999999999998,3.4527999999999999,0.70920000000000005,4.1723999999999997,4.2678000000000003,9.2203999999999997,1.4384999999999999,null,null,null,null,null,null,null,null,null,null,null,null,null,null,null,null,null,null,null,null,null,null,null,null,null,null,null,null,null,null,null,null,null,null,null,null,null,null,null,null,"","","","","","","","","","","","",null,null,null,null,null,null,null,null,null,null,null,null,null,null,{"$error":"#VALUE!"},"","","","","","","","","","",""]
["2012-05-08",1.9558,25.024999999999999,7.4366000000000003,0.80647000000000002,286.48,3.4527999999999999,0.69950000000000001,4.1958000000000002,4.4059999999999997,8.9105000000000008,1.3032999999999999,null,null,null,null,null,null,null,null,null,null,431,"2011-08-22","2011-08-01","2011-01-01","2011-08-27",1.9558,24.166,7.4508999999999999,0.88565000000000005,272.66000000000003,3.4527999999999999,0.70960000000000001,4.1750999999999996,4.2445000000000004,9.1082000000000001,1.4401999999999999,null,null,null,null,null,null,null,null,null,null,null,null,null,null,null,null,null,null,null,null,null,null,null,null,null,null,null,null,null,null,null,null,null,null,null,null,null,null,null,null,"","","","","","","","","","","","",null,null,null,null,null,null,null,null,null,null,null,null,null,null,{"$error":"#VALUE!"},"","","","","","","","","","",""]
["2012-05-10",1.9558,25.242999999999999,7.4349999999999996,0.80495000000000005,290.7,3.4527999999999999,0.69830000000000003,4.2153999999999998,4.4210000000000003,8.9097000000000008,1.2949999999999999,null,null,null,null,null,null,null,null,null,null,431,"2011-08-29","2011-08-01","2011-01-01","2011-08-29",1.9558,24.166,7.4508999999999999,0.88565000000000005,272.66000000000003,3.4527999999999999,0.70960000000000001,4.1750999999999996,4.2445000000000004,9.1082000000000001,1.4401999999999999,null,null,null,null,null,null,null,null,null,null,null,null,null,null,null,null,null,null,null,null,null,null,null,null,null,null,null,null,null,null,null,null,null,null,null,null,null,null,null,null,"","","","","","","","","","","","",null,null,null,null,null,null,null,null,null,null,null,null,null,null,{"$error":"#VALUE!"},"","","","","","","","","","",""]
["2012-05-17",1.9558,25.46,7.4330999999999996,0.79925000000000002,294.32,3.4527999999999999,0.6976,4.3499999999999996,4.4400000000000004,9.0969999999999995,1.2738,null,null,null,null,null,null,null,null,null,null,436,"2011-08-29","2011-09-01","2011-01-01","2011-09-03",{"$f":"IF($W615=\"\",\"\",INDEX($A:$Z,$W615,AB$3))","v":1.9558},24.303999999999998,7.4496000000000002,0.87890000000000001,275.43,3.4527999999999999,0.70930000000000004,4.1821000000000002,4.2404999999999999,9.1236999999999995,1.4255,null,null,null,null,null,null,null,null,null,null,null,null,null,null,null,null,null,null,null,null,null,null,null,null,null,null,null,null,null,null,null,null,null,null,null,null,null,null,null,null,"",{"$f":"IF($BA615=\"\",\"\",SUM(BB615:BB621)/7)","v":""},"","","","","","","","","","",null,null,null,null,null,null,null,null,null,null,null,null,null,null,{"$error":"#VALUE!"},{"$f":"IF($BA615=\"\",\"\",SUM(CB615:CB621)/7)","v":""},"","","","","","","","","",""]
["2012-05-24",1.9558,25.495000000000001,7.4316000000000004,0.8044,302,3.4527999999999999,0.69789999999999996,4.367,4.46,9.0604999999999993,1.2659,null,null,null,null,null,null,null,null,null,null,439,"2011-09-05","2011-09-01","2011-01-01","2011-09-08",1.9558,24.456,7.4477000000000002,0.878,276.35000000000002,3.4527999999999999,0.70909999999999995,4.2186000000000003,4.2358000000000002,8.9728999999999992,1.4036,null,null,null,null,null,null,null,null,null,null,null,null,null,null,null,null,null,null,null,null,null,null,null,null,null,null,null,null,null,null,null,null,null,null,null,null,null,null,null,null,"","","","","","","","","","","","",null,null,null,null,null,null,null,null,null,null,null,null,null,null,{"$error":"#VALUE!"},"","","","","","","","","","",""]
["2012-05-31",1.9558,25.658000000000001,7.4311999999999996,0.79774999999999996,298.95,3.4527999999999999,0.69820000000000004,4.3872999999999998,4.4675000000000002,8.9555000000000007,1.2438,null,null,null,null,null,null,null,null,null,null,442,"2011-09-12","2011-09-01","2011-01-01","2011-09-13",{"$f":"IF($W625=\"\",\"\",INDEX($A:$Z,$W625,AB$3))","v":1.9558},24.521999999999998,7.4471999999999996,0.86014999999999997,282.55,3.4527999999999999,0.70909999999999995,4.3231999999999999,4.2823000000000002,8.9905000000000008,1.3655999999999999,null,null,null,null,null,null,null,null,null,null,null,null,null,null,null,null,null,null,null,null,null,null,null,null,null,null,null,null,null,null,null,null,null,null,null,null,null,null,null,null,"","","","","","","","","","","","",null,null,null,null,null,null,null,null,null,null,null,null,null,null,{"$error":"#VALUE!"},"","","","","","","","","","",""]
["2012-06-09",1.9558,25.481000000000002,7.4318999999999997,0.80794999999999995,296.60000000000002,3.4527999999999999,0.69730000000000003,4.2960000000000003,4.4648000000000003,8.9780999999999995,1.2467999999999999,null,null,null,null,null,null,null,null,null,null,447,"2011-09-19","2011-09-01","2011-01-01","2011-09-20",1.9558,24.63,7.4473000000000003,0.86809999999999998,290.41000000000003,3.4527999999999999,0.70930000000000004,4.3644999999999996,4.2874999999999996,9.1684000000000001,1.3641000000000001,null,null,null,null,null,null,null,null,null,null,null,null,null,null,null,null,null,null,null,null,null,null,null,null,null,null,null,null,null,null,null,null,null,null,null,null,null,null,null,null,"","","","","","","","","","","","",null,null,null,null,null,null,null,null,null,null,null,null,null,null,{"$error":"#VALUE!"},"","","","","","","","","","",""]
["2012-06-14",1.9558,25.577999999999999,7.4318,0.80630000000000002,296.43,3.4527999999999999,0.69679999999999997,4.3239999999999998,4.4615999999999998,8.8320000000000007,1.2534000000000001,null,null,null,null,null,null,null,null,null,null,450,"2011-09-19","2011-09-01","2011-01-01","2011-09-23",{"$f":"IF($W635=\"\",\"\",INDEX($A:$Z,$W635,AB$3))","v":1.9558},24.878,7.4458000000000002,0.87324999999999997,293.06,3.4527999999999999,0.70930000000000004,4.4863,4.3055000000000003,9.2761999999999993,1.3448,null,null,null,null,null,null,null,null,null,null,null,null,null,null,null,null,null,null,null,null,null,null,null,null,null,null,null,null,null,null,null,null,null,null,null,null,null,null,null,null,"","","","","","","","","","","","",null,null,null,null,null,null,null,null,null,null,null,null,null,null,{"$error":"#VALUE!"},"","","","","","","","","","",""]
["2012-06-22",1.9558,25.683,7.4329999999999998,0.80694999999999995,285.83,3.4527999999999999,0.69699999999999995,4.2537000000000003,4.4660000000000002,8.8360000000000003,1.2669999999999999,null,null,null,null,null,null,null,null,null,null,454,"2011-09-26","2011-09-01","2011-01-01","2011-09-29",1.9558,24.523,7.4409999999999998,0.87175000000000002,290.38,3.4527999999999999,0.70930000000000004,4.4313000000000002,4.3259999999999996,9.1929999999999996,1.3631,null,null,null,null,null,null,null,null,null,null,null,null,null,null,null,null,null,null,null,null,null,null,null,null,null,null,null,null,null,null,null,null,null,null,null,null,null,null,null,null,"","","","","","","","","","","","",null,null,null,null,null,null,null,null,null,null,null,null,null,null,{"$error":"#VALUE!"},"","","","","","","","","","",""]
["2012-06-28",1.9558,25.916,7.4337,0.79990000000000006,287.27999999999997,3.4527999999999999,0.69650000000000001,4.2515000000000001,4.4470000000000001,8.8241999999999994,1.2478,null,null,null,null,null,null,null,null,null,null,{"$f":"IF(AA645>MaxDate,\"\",MATCH(AA645,$A:$A,1))","v":456},"2011-10-03","2011-10-01","2011-01-01","2011-10-03",{"$f":"IF($W645=\"\",\"\",INDEX($A:$Z,$W645,AB$3))","v":1.9558},24.754000000000001,7.4417,0.86665000000000003,292.55,3.4527999999999999,0.70930000000000004,4.4050000000000002,4.3574999999999999,9.2579999999999991,1.3503000000000001,null,null,null,null,null,null,null,null,null,null,null,null,null,null,null,null,null,null,null,null,null,null,null,null,null,null,null,null,null,null,null,null,null,null,null,null,null,null,null,null,{"$f":"IF(AND(WEEKDAY(BA645,2)=1,BA645<=MaxDate-6),BA645,\"\")","v":""},"","","","","","","","","","","",null,null,null,null,null,null,null,null,null,null,null,null,null,null,{"$error":"#VALUE!"},"","","","","","","","","","",""]
["2012-07-05",1.9558,25.5,7.4366000000000003,0.80320000000000003,285.36,3.4527999999999999,0.69640000000000002,4.2065999999999999,4.4763999999999999,8.6875999999999998,1.256,null,null,null,null,null,null,null,null,null,null,461,"2011-10-03","2011-10-01","2011-01-01","2011-10-08",1.9558,24.783999999999999,7.4439000000000002,0.86480000000000001,296.63,3.4527999999999999,0.7087,4.3761999999999999,4.3114999999999997,9.1329999999999991,1.3433999999999999,null,null,null,null,null,null,null,null,null,null,null,null,null,null,null,null,null,null,null,null,null,null,null,null,null,null,null,null,null,null,null,null,null,null,null,null,null,null,null,null,"","","","","","","","","","","","",null,null,null,null,null,null,null,null,null,null,null,null,null,null,{"$error":"#VALUE!"},"","","","","","","","","","",""]
["2012-07-07",1.9558,25.7,7.4413,0.79649999999999999,287.60000000000002,3.4527999999999999,0.69630000000000003,4.2138999999999998,4.5359999999999996,8.6576000000000004,1.2377,null,null,null,null,null,null,null,null,null,null,461,"2011-10-10","2011-10-01","2011-01-01","2011-10-10",1.9558,24.783999999999999,7.4439000000000002,0.86480000000000001,296.63,3.4527999999999999,0.7087,4.3761999999999999,4.3114999999999997,9.1329999999999991,1.3433999999999999,null,null,null,null,null,null,null,null,null,null,null,null,null,null,null,null,null,null,null,null,null,null,null,null,null,null,null,null,null,null,null,null,null,null,null,null,null,null,null,null,"","","","","","","","","","","","",null,null,null,null,null,null,null,null,null,null,null,null,null,null,{"$error":"#VALUE!"},"","","","","","","","","","",""]
["2012-07-19",1.9558,25.277999999999999,7.4387999999999996,0.78400000000000003,285.89999999999998,3.4527999999999999,0.69589999999999996,4.1795,4.5652999999999997,8.4926999999999992,1.2234,null,null,null,null,null,null,null,null,null,null,467,"2011-10-17","2011-10-01","2011-01-01","2011-10-18",1.9558,24.762,7.4452999999999996,0.874,293.94,3.4527999999999999,0.70489999999999997,4.2927,4.3319999999999999,9.1582000000000008,1.3775999999999999,null,null,null,null,null,null,null,null,null,null,null,null,null,null,null,null,null,null,null,null,null,null,null,null,null,null,null,null,null,null,null,null,null,null,null,null,null,null,null,null,"","","","","","","","","","","","",null,null,null,null,null,null,null,null,null,null,null,null,null,null,{"$error":"#VALUE!"},"","","","","","","","","","",""]
["2012-07-26",1.9558,25.56,7.4386000000000001,0.78320000000000001,288.61,3.4527999999999999,0.69630000000000003,4.1936,4.6093000000000002,8.4591999999999992,1.2134,null,null,null,null,null,null,null,null,null,null,471,"2011-10-17","2011-10-01","2011-01-01","2011-10-23",{"$f":"IF($W665=\"\",\"\",INDEX($A:$Z,$W665,AB$3))","v":1.9558},24.992999999999999,7.4455999999999998,0.86775000000000002,298.45999999999998,3.4527999999999999,0.70530000000000004,4.3935000000000004,4.3304,9.1030999999999995,1.3797999999999999,null,null,null,null,null,null,null,null,null,null,null,null,null,null,null,null,null,null,null,null,null,null,null,null,null,null,null,null,null,null,null,null,null,null,null,null,null,null,null,null,"","","","","","","","","","","","",null,null,null,null,null,null,null,null,null,null,null,null,null,null,{"$error":"#VALUE!"},"","","","","","","","","","",""]
["2012-08-01",1.9558,25.254999999999999,7.4406999999999996,0.78395000000000004,278.94,3.4527999999999999,0.69610000000000005,4.1050000000000004,4.58,8.359,1.2283999999999999,null,null,null,null,null,null,null,null,null,null,474,"2011-10-24","2011-10-01","2011-01-01","2011-10-27",1.9558,24.927,7.4444999999999997,0.87190000000000001,297.86,3.4527999999999999,0.70430000000000004,4.3718000000000004,4.3288000000000002,9.0967000000000002,1.3927,null,null,null,null,null,null,null,null,null,null,null,null,null,null,null,null,null,null,null,null,null,null,null,null,null,null,null,null,null,null,null,null,null,null,null,null,null,null,null,null,"","","","","","","","","","","","",null,null,null,null,null,null,null,null,null,null,null,null,null,null,{"$error":"#VALUE!"},"","","","","","","","","","",""]
["2012-08-02",1.9558,25.358000000000001,7.4417999999999997,0.78749999999999998,280.38,3.4527999999999999,0.69669999999999999,4.1058000000000003,4.5937999999999999,8.3188999999999993,1.2298,null,null,null,null,null,null,null,null,null,null,475,"2011-10-24","2011-10-01","2011-01-01","2011-10-28",1.9558,24.832999999999998,7.4440999999999997,0.87629999999999997,302.2,3.4527999999999999,0.70430000000000004,4.3419999999999996,4.3323,9.0280000000000005,1.4037999999999999,null,null,null,null,null,null,null,null,null,null,null,null,null,null,null,null,null,null,null,null,null,null,null,null,null,null,null,null,null,null,null,null,null,null,null,null,null,null,null,null,"","","","","","","","","","","","",null,null,null,null,null,null,null,null,null,null,null,null,null,null,{"$error":"#VALUE!"},"","","","","","","","","","",""]
["2012-08-10",1.9558,25.135000000000002,7.4424000000000001,0.78710000000000002,276.79000000000002,3.4527999999999999,0.69599999999999995,4.0678000000000001,4.5442999999999998,8.2668999999999997,1.2301,null,null,null,null,null,null,null,null,null,null,479,"2011-10-31","2011-11-01","2011-01-01","2011-11-03",1.9558,25.145,7.4409999999999998,0.8619,305.36,3.4527999999999999,0.70299999999999996,4.3724999999999996,4.3479999999999999,9.0730000000000004,1.3809,null,null,null,null,null,null,null,null,null,null,null,null,null,null,null,null,null,null,null,null,null,null,null,null,null,null,null,null,null,null,null,null,null,null,null,null,null,null,null,null,"","","","","","","","","","","","",null,null,null,null,null,null,null,null,null,null,null,null,null,null,{"$error":"#VALUE!"},"","","","","","","","","","",""]
["2012-08-16",1.9558,24.962,7.4435000000000002,0.78259999999999996,279.39,3.4527999999999999,0.69620000000000004,4.0875000000000004,4.4808000000000003,8.2249999999999996,1.2276,null,null,null,null,null,null,null,null,null,null,481,"2011-11-07","2011-11-01","2011-01-01","2011-11-07",1.9558,24.992000000000001,7.4427000000000003,0.86124999999999996,304.05,3.4527999999999999,0.70299999999999996,4.3611000000000004,4.3566000000000003,9.1113,1.3773,null,null,null,null,null,null,null,null,null,null,null,null,null,null,null,null,null,null,null,null,null,null,null,null,null,null,null,null,null,null,null,null,null,null,null,null,null,null,null,null,"","","","","","","","","","","","",null,null,null,null,null,null,null,null,null,null,null,null,null,null,{"$error":"#VALUE!"},"","","","","","","","","","",""]
["2012-08-23",1.9558,24.968,7.4484000000000004,0.78785000000000005,277.2,3.4527999999999999,0.69630000000000003,4.0761000000000003,4.4930000000000003,8.3412000000000006,1.2447999999999999,null,null,null,null,null,null,null,null,null,null,486,"2011-11-07","2011-11-01","2011-01-01","2011-11-12",{"$f":"IF($W685=\"\",\"\",INDEX($A:$Z,$W685,AB$3))","v":1.9558},25.701000000000001,7.4421999999999997,0.85680000000000001,310.52,3.4527999999999999,0.70150000000000001,4.4234999999999998,4.3472,9.0935000000000006,1.365,null,null,null,null,null,null,null,null,null,null,null,null,null,null,null,null,null,null,null,null,null,null,null,null,null,null,null,null,null,null,null,null,null,null,null,null,null,null,null,null,"","","","","","","","","","","","",null,null,null,null,null,null,null,null,null,null,null,null,null,null,{"$error":"#VALUE!"},"","","","","","","","","","",""]
["2012-08-29",1.9558,24.827999999999999,7.4489999999999998,0.79469999999999996,280.98,3.4527999999999999,0.69630000000000003,4.1012000000000004,4.4562999999999997,8.2405000000000008,1.2547999999999999,null,null,null,null,null,null,null,null,null,null,488,"2011-11-14","2011-11-01","2011-01-01","2011-11-16",1.9558,25.768000000000001,7.4427000000000003,0.85345000000000004,314.77,3.4527999999999999,0.70020000000000004,4.4145000000000003,4.3494999999999999,9.1237999999999992,1.3532,null,null,null,null,null,null,null,null,null,null,null,null,null,null,null,null,null,null,null,null,null,null,null,null,null,null,null,null,null,null,null,null,null,null,null,null,null,null,null,null,"","","","","","","","","","","","",null,null,null,null,null,null,null,null,null,null,null,null,null,null,{"$error":"#VALUE!"},"","","","","","","","","","",""]
["2012-09-06",1.9558,24.794,7.4508999999999999,0.79035,284.60000000000002,3.4527999999999999,0.69620000000000004,4.2008999999999999,4.4882999999999997,8.4414999999999996,1.2578,null,null,null,null,null,null,null,null,null,null,492,"2011-11-21","2011-11-01","2011-01-01","2011-11-22",{"$f":"IF($W695=\"\",\"\",INDEX($A:$Z,$W695,AB$3))","v":1.9558},25.597999999999999,7.4425999999999997,0.86,307.07,3.4527999999999999,0.70379999999999998,4.4469000000000003,4.3628,9.1795000000000009,1.3458000000000001,null,null,null,null,null,null,null,null,null,null,null,null,null,null,null,null,null,null,null,null,null,null,null,null,null,null,null,null,null,null,null,null,null,null,null,null,null,null,null,null,"",{"$f":"IF($BA695=\"\",\"\",SUM(BB695:BB701)/7)","v":""},"","","","","","","","","","",null,null,null,null,null,null,null,null,null,null,null,null,null,null,{"$error":"#VALUE!"},{"$f":"IF($BA695=\"\",\"\",SUM(CB695:CB701)/7)","v":""},"","","","","","","","","",""]
["2012-09-13",1.9558,24.44,7.4541000000000004,0.80169999999999997,283.33,3.4527999999999999,0.69610000000000005,4.0926999999999998,4.5010000000000003,8.4734999999999996,1.2896000000000001,null,null,null,null,null,null,null,null,null,null,496,"2011-11-21","2011-11-01","2011-01-01","2011-11-27",1.9558,26.030999999999999,7.4371999999999998,0.85585,314.32,3.4527999999999999,0.69779999999999998,4.5143000000000004,4.3653000000000004,9.2505000000000006,1.3229,null,null,null,null,null,null,null,null,null,null,null,null,null,null,null,null,null,null,null,null,null,null,null,null,null,null,null,null,null,null,null,null,null,null,null,null,null,null,null,null,"","","","","","","","","","","","",null,null,null,null,null,null,null,null,null,null,null,null,null,null,{"$error":"#VALUE!"},"","","","","","","","","","",""]
["2012-09-20",1.9558,24.87,7.4545000000000003,0.80269999999999997,283.10000000000002,3.4527999999999999,0.69620000000000004,4.1353,4.5042999999999997,8.5213999999999999,1.3002,null,null,null,null,null,null,null,null,null,null,500,"2011-11-28","2011-12-01","2011-01-01","2011-12-02",{"$f":"IF($W705=\"\",\"\",INDEX($A:$Z,$W705,AB$3))","v":1.9558},25.279,7.4329999999999998,0.85909999999999997,302.5,3.4527999999999999,0.69750000000000001,4.5049999999999999,4.3550000000000004,9.1257999999999999,1.3492,null,null,null,null,null,null,null,null,null,null,null,null,null,null,null,null,null,null,null,null,null,null,null,null,null,null,null,null,null,null,null,null,null,null,null,null,null,null,null,null,"","","","","","","","","","","","",null,null,null,null,null,null,null,null,null,null,null,null,null,null,{"$error":"#VALUE!"},"","","","","","","","","","",""]
["2012-09-27",1.9558,24.983000000000001,7.4561000000000002,0.79490000000000005,285.77999999999997,3.4527999999999999,0.69620000000000004,4.1510999999999996,4.5178000000000003,8.4998000000000005,1.2845,null,null,null,null,null,null,null,null,null,null,503,{"$f":"IF(W710=\"\",\"\",IF(WEEKDAY(AA710,2)=1,AA710,X709))","v":"2011-12-05"},{"$f":"IF(W710=\"\",\"\",DATE(YEAR(AA710),MONTH(AA710),1))","v":"2011-12-01"},{"$f":"IF(W710=\"\",\"\",DATE(YEAR(AA710),1,1))","v":"2011-01-01"},"2011-12-07",1.9558,25.23,7.4348000000000001,0.85655000000000003,300.2,3.4527999999999999,0.69779999999999998,4.4547999999999996,4.3540000000000001,9.0551999999999992,1.3393999999999999,null,null,null,null,null,null,null,null,null,null,null,null,null,null,null,null,null,null,null,null,null,null,null,null,null,null,null,null,null,null,null,null,null,null,null,null,null,null,null,null,"","","","","","","","","","","","",null,null,null,null,null,null,null,null,null,null,null,null,null,null,{"$error":"#VALUE!"},"","","","","","","","","","",""]
["2012-10-02",1.9558,25.08,7.4554,0.79830000000000001,285.13,3.4527999999999999,0.69620000000000004,4.1056999999999997,4.5223000000000004,8.4731000000000005,1.2877000000000001,null,null,null,null,null,null,null,null,null,null,506,"2011-12-05","2011-12-01","2011-01-01","2011-12-10",1.9558,25.475000000000001,7.4348999999999998,0.85314999999999996,305.08,3.4527999999999999,0.69810000000000005,4.5148999999999999,4.3428000000000004,9.0184999999999995,1.3384,null,null,null,null,null,null,null,null,null,null,null,null,null,null,null,null,null,null,null,null,null,null,null,null,null,null,null,null,null,null,null,null,null,null,null,null,null,null,null,null,"","","","","","","","","","","","",null,null,null,null,null,null,null,null,null,null,null,null,null,null,{"$error":"#VALUE!"},"","","","","","","","","","",""]
["2012-10-11",1.9558,24.95,7.4581999999999997,0.80495000000000005,282.14999999999998,3.4527999999999999,0.69610000000000005,4.0824999999999996,4.5709999999999997,8.6067999999999998,1.2888999999999999,null,null,null,null,null,null,null,null,null,null,511,"2011-12-12","2011-12-01","2011-01-01","2011-12-17",1.9558,25.343,7.4336000000000002,0.84055000000000002,303.38,3.4527999999999999,0.69750000000000001,4.4890999999999996,4.3345000000000002,9.0336999999999996,1.3064,null,null,null,null,null,null,null,null,null,null,null,null,null,null,null,null,null,null,null,null,null,null,null,null,null,null,null,null,null,null,null,null,null,null,null,null,null,null,null,null,"","","","","","","","","","","","",null,null,null,null,null,null,null,null,null,null,null,null,null,null,{"$error":"#VALUE!"},"","","","","","","","","","",""]
["2012-10-18",1.9558,24.794,7.4592000000000001,0.8115,279,3.4527999999999999,0.69620000000000004,4.1029,4.5777000000000001,8.6586999999999996,1.3120000000000001,null,null,null,null,null,null,null,null,null,null,514,"2011-12-19","2011-12-01","2011-01-01","2011-12-22",{"$f":"IF($W725=\"\",\"\",INDEX($A:$Z,$W725,AB$3))","v":1.9558},25.617999999999999,7.4339000000000004,0.83230000000000004,302.38,3.4527999999999999,0.69650000000000001,4.4568000000000003,4.3063000000000002,9.0021000000000004,1.3053999999999999,null,null,null,null,null,null,null,null,null,null,null,null,null,null,null,null,null,null,null,null,null,null,null,null,null,null,null,null,null,null,null,null,null,null,null,null,null,null,null,null,"","","","","","","","","","","","",null,null,null,null,null,null,null,null,null,null,null,null,null,null,{"$error":"#VALUE!"},"","","","","","","","","","",""]
["2012-10-19",1.9558,24.756,7.4592999999999998,0.81189999999999996,277.19,3.4527999999999999,0.69610000000000005,4.1026999999999996,4.5803000000000003,8.5843000000000007,1.3118000000000001,null,null,null,null,null,null,null,null,null,null,515,"2011-12-19","2011-12-01","2011-01-01","2011-12-23",1.9558,25.625,7.4336000000000002,0.83250000000000002,306.45,3.4527999999999999,0.69650000000000001,4.4352,4.3,8.9952000000000005,1.3047,null,null,null,null,null,null,null,null,null,null,null,null,null,null,null,null,null,null,null,null,null,null,null,null,null,null,null,null,null,null,null,null,null,null,null,null,null,null,null,null,"","","","","","","","","","","","",null,null,null,null,null,null,null,null,null,null,null,null,null,null,{"$error":"#VALUE!"},"","","","","","","","","","",""]
["2012-10-25",1.9558,24.972999999999999,7.4592000000000001,0.80830000000000002,280.89,3.4527999999999999,0.69630000000000003,4.1356999999999999,4.5765000000000002,8.6557999999999993,1.2942,null,null,null,null,null,null,null,null,null,null,516,"2011-12-26","2011-12-01","2011-01-01","2011-12-27",1.9558,25.838999999999999,7.4339000000000004,0.83309999999999995,306.89,3.4527999999999999,0.69650000000000001,4.4397000000000002,4.2960000000000003,8.9648000000000003,1.3057000000000001,null,null,null,null,null,null,null,null,null,null,null,null,null,null,null,null,null,null,null,null,null,null,null,null,null,null,null,null,null,null,null,null,null,null,null,null,null,null,null,null,"","","","","","","","","","","","",null,null,null,null,null,null,null,null,null,null,null,null,null,null,{"$error":"#VALUE!"},"","","","","","","","","","",""]
["2012-11-03",1.9558,25.231999999999999,7.4596,0.80159999999999998,281.42,3.4527999999999999,0.69620000000000004,4.1087999999999996,4.5274999999999999,8.5954999999999995,1.2849999999999999,null,null,null,null,null,null,null,null,null,null,521,"2012-01-02","2012-01-01","2012-01-01","2012-01-03",1.9558,25.504999999999999,7.4335000000000004,0.83513999999999999,314.38,3.4527999999999999,0.69979999999999998,4.4733000000000001,4.3324999999999996,8.9275000000000002,1.2935000000000001,null,null,null,null,null,null,null,null,null,null,null,null,null,null,null,null,null,null,null,null,null,null,null,null,null,null,null,null,null,null,null,null,null,null,null,null,null,null,null,null,"","","","","","","","","","","","",null,null,null,null,null,null,null,null,null,null,null,null,null,null,{"$error":"#VALUE!"},"","","","","","","","","","",""]
["2012-11-08",1.9558,25.395,7.4593999999999996,0.7984,282.10000000000002,3.4527999999999999,0.69630000000000003,4.1131000000000002,4.5163000000000002,8.5547000000000004,1.2746,null,null,null,null,null,null,null,null,null,null,524,"2012-01-02","2012-01-01","2012-01-01","2012-01-06",1.9558,25.914000000000001,7.4359999999999999,0.82674999999999998,320.77999999999997,3.4527999999999999,0.69830000000000003,4.5053999999999998,4.3390000000000004,8.8460999999999999,1.2831999999999999,null,null,null,null,null,null,null,null,null,null,null,null,null,null,null,null,null,null,null,null,null,null,null,null,null,null,null,null,null,null,null,null,null,null,null,null,null,null,null,null,"","","","","","","","","","","","",null,null,null,null,null,null,null,null,null,null,null,null,null,null,{"$error":"#VALUE!"},"","","","","","","","","","",""]
["2012-11-15",1.9558,25.5,7.4581,0.80259999999999998,285.06,3.4527999999999999,0.69610000000000005,4.1775000000000002,4.5430000000000001,8.6259999999999994,1.2726,null,null,null,null,null,null,null,null,null,null,527,"2012-01-09","2012-01-01","2012-01-01","2012-01-11",{"$f":"IF($W745=\"\",\"\",INDEX($A:$Z,$W745,AB$3))","v":1.9558},25.785,7.4355000000000002,0.82820000000000005,312.31,3.4527999999999999,0.69810000000000005,4.4626000000000001,4.3620000000000001,8.8119999999999994,1.2807999999999999,null,null,null,null,null,null,null,null,null,null,null,null,null,null,null,null,null,null,null,null,null,null,null,null,null,null,null,null,null,null,null,null,null,null,null,null,null,null,null,null,"","","","","","","","","","","","",null,null,null,null,null,null,null,null,null,null,null,null,null,null,{"$error":"#VALUE!"},"","","","","","","","","","",""]
["2012-11-22",1.9558,25.484000000000002,7.4573999999999998,0.80369999999999997,281.27,3.4527999999999999,0.69610000000000005,4.1249000000000002,4.5345000000000004,8.6219999999999999,1.2805,null,null,null,null,null,null,null,null,null,null,530,"2012-01-16","2012-01-01","2012-01-01","2012-01-16",1.9558,25.45,7.4364999999999997,0.83320000000000005,309.70999999999998,3.4527999999999999,0.70020000000000004,4.4059999999999997,4.3345000000000002,8.8892000000000007,1.2770999999999999,null,null,null,null,null,null,null,null,null,null,null,null,null,null,null,null,null,null,null,null,null,null,null,null,null,null,null,null,null,null,null,null,null,null,null,null,null,null,null,null,"","","","","","","","","","","","",null,null,null,null,null,null,null,null,null,null,null,null,null,null,{"$error":"#VALUE!"},"","","","","","","","","","",""]
["2012-11-29",1.9558,25.265000000000001,7.4592000000000001,0.80686999999999998,281.10000000000002,3.4527999999999999,0.69650000000000001,4.1075999999999997,4.5156000000000001,8.6173999999999999,1.2890999999999999,null,null,null,null,null,null,null,null,null,null,535,"2012-01-16","2012-01-01","2012-01-01","2012-01-21",{"$f":"IF($W755=\"\",\"\",INDEX($A:$Z,$W755,AB$3))","v":1.9558},25.466000000000001,7.4362000000000004,0.83389999999999997,304.68,3.4527999999999999,0.69899999999999995,4.3196000000000003,4.3440000000000003,8.7804000000000002,1.2902,null,null,null,null,null,null,null,null,null,null,null,null,null,null,null,null,null,null,null,null,null,null,null,null,null,null,null,null,null,null,null,null,null,null,null,null,null,null,null,null,"","","","","","","","","","","","",null,null,null,null,null,null,null,null,null,null,null,null,null,null,{"$error":"#VALUE!"},"","","","","","","","","","",""]
["2012-12-07",1.9558,25.195,7.4592000000000001,0.81135000000000002,283.48,3.4527999999999999,0.69630000000000003,4.1340000000000003,4.5418000000000003,8.6294000000000004,1.3071999999999999,null,null,null,null,null,null,null,null,null,null,539,"2012-01-23","2012-01-01","2012-01-01","2012-01-27",1.9558,25.193000000000001,7.4343000000000004,0.83799999999999997,294.8,3.4527999999999999,0.6986,4.2469999999999999,4.3407999999999998,8.8774999999999995,1.3145,null,null,null,null,null,null,null,null,null,null,null,null,null,null,null,null,null,null,null,null,null,null,null,null,null,null,null,null,null,null,null,null,null,null,null,null,null,null,null,null,"","","","","","","","","","","","",null,null,null,null,null,null,null,null,null,null,null,null,null,null,{"$error":"#VALUE!"},"","","","","","","","","","",""]
["2012-12-13",1.9558,25.265000000000001,7.4603999999999999,0.80774999999999997,282.33,3.4527999999999999,0.69610000000000005,4.0968999999999998,4.5267999999999997,8.6274999999999995,1.304,null,null,null,null,null,null,null,null,null,null,541,"2012-01-30","2012-01-01","2012-01-01","2012-01-31",{"$f":"IF($W765=\"\",\"\",INDEX($A:$Z,$W765,AB$3))","v":1.9558},25.27,7.4340999999999999,0.83579999999999999,296.04000000000002,3.4527999999999999,0.69910000000000005,4.2545000000000002,4.3380000000000001,8.8995999999999995,1.3109999999999999,null,null,null,null,null,null,null,null,null,null,null,null,null,null,null,null,null,null,null,null,null,null,null,null,null,null,null,null,null,null,null,null,null,null,null,null,null,null,null,null,"","","","","","","","","","","","",null,null,null,null,null,null,null,null,null,null,null,null,null,null,{"$error":"#VALUE!"},"","","","","","","","","","",""]
["2012-12-20",1.9558,25.254000000000001,7.4607999999999999,0.81610000000000005,286.81,3.4527999999999999,0.69630000000000003,4.0735999999999999,4.4755000000000003,8.6661999999999999,1.3302,null,null,null,null,null,null,null,null,null,null,545,"2012-01-30","2012-02-01","2012-01-01","2012-02-05",1.9558,25.064,7.4333,0.83220000000000005,291.8,3.4527999999999999,0.69989999999999997,4.1932,4.3484999999999996,8.8480000000000008,1.3160000000000001,null,null,null,null,null,null,null,null,null,null,null,null,null,null,null,null,null,null,null,null,null,null,null,null,null,null,null,null,null,null,null,null,null,null,null,null,null,null,null,null,"","","","","","","","","","","","",null,null,null,null,null,null,null,null,null,null,null,null,null,null,{"$error":"#VALUE!"},"","","","","","","","","","",""]
["2012-12-28",1.9558,25.114999999999998,7.4602000000000004,0.81989999999999996,291.43,3.4527999999999999,0.69710000000000005,4.0688000000000004,4.4215,8.6273,1.3266,null,null,null,null,null,null,null,null,null,null,548,{"$f":"IF(W774=\"\",\"\",IF(WEEKDAY(AA774,2)=1,AA774,X773))","v":"2012-02-06"},{"$f":"IF(W774=\"\",\"\",DATE(YEAR(AA774),MONTH(AA774),1))","v":"2012-02-01"},{"$f":"IF(W774=\"\",\"\",DATE(YEAR(AA774),1,1))","v":"2012-01-01"},"2012-02-09",1.9558,24.812000000000001,7.4328000000000003,0.83494999999999997,289.64999999999998,3.4527999999999999,0.69899999999999995,4.1772999999999998,4.3505000000000003,8.8285,1.3273999999999999,null,null,null,null,null,null,null,null,null,null,null,null,null,null,null,null,null,null,null,null,null,null,null,null,null,null,null,null,null,null,null,null,null,null,null,null,null,null,null,null,"","","","","","","","","","","","",null,null,null,null,null,null,null,null,null,null,null,null,null,null,{"$error":"#VALUE!"},"","","","","","","","","","",""]
["2013-01-08",1.9558,25.539000000000001,7.4596999999999998,0.81169999999999998,291.57,3.4527999999999999,0.69750000000000001,4.1193,4.4222999999999999,8.5144000000000002,1.3039000000000001,null,null,null,null,null,null,null,null,null,null,552,"2012-02-13","2012-02-01","2012-01-01","2012-02-15",1.9558,25.097000000000001,7.4333,0.83765000000000001,291.58,3.4527999999999999,0.69879999999999998,4.1909999999999998,4.3487999999999998,8.7813999999999997,1.3169,null,null,null,null,null,null,null,null,null,null,null,null,null,null,null,null,null,null,null,null,null,null,null,null,null,null,null,null,null,null,null,null,null,null,null,null,null,null,null,null,"","","","","","","","","","","","",null,null,null,null,null,null,null,null,null,null,null,null,null,null,{"$error":"#VALUE!"},"","","","","","","","","","",""]
["2013-01-09",1.9558,25.587,7.4603000000000002,0.8145,292.7,3.4527999999999999,0.69689999999999996,4.1245000000000003,4.4109999999999996,8.5765999999999991,1.3086,null,null,null,null,null,null,null,null,null,null,553,"2012-02-13","2012-02-01","2012-01-01","2012-02-16",1.9558,25.17,7.4324000000000003,0.83479999999999999,289.63,3.4527999999999999,0.69869999999999999,4.1875,4.3470000000000004,8.7860999999999994,1.3091999999999999,null,null,null,null,null,null,null,null,null,null,null,null,null,null,null,null,null,null,null,null,null,null,null,null,null,null,null,null,null,null,null,null,null,null,null,null,null,null,null,null,"","","","","","","","","","","","",null,null,null,null,null,null,null,null,null,null,null,null,null,null,{"$error":"#VALUE!"},"","","","","","","","","","",""]
["2013-01-15",1.9558,25.613,7.4626000000000001,0.83120000000000005,297.08,3.4527999999999999,0.69730000000000003,4.12,4.3848000000000003,8.6178000000000008,1.3341000000000001,null,null,null,null,null,null,null,null,null,null,555,"2012-02-20","2012-02-01","2012-01-01","2012-02-20",{"$f":"IF($W785=\"\",\"\",INDEX($A:$Z,$W785,AB$3))","v":1.9558},25.001000000000001,7.4333999999999998,0.83109999999999995,290.14,3.4527999999999999,0.69879999999999998,4.1816000000000004,4.3544999999999998,8.8315999999999999,1.3159000000000001,null,null,null,null,null,null,null,null,null,null,null,null,null,null,null,null,null,null,null,null,null,null,null,null,null,null,null,null,null,null,null,null,null,null,null,null,null,null,null,null,"","","","","","","","","","","","",null,null,null,null,null,null,null,null,null,null,null,null,null,null,{"$error":"#VALUE!"},"","","","","","","","","","",""]
["2013-01-22",1.9558,25.626000000000001,7.4633000000000003,0.83899999999999997,292.55,3.4527999999999999,0.6976,4.1699000000000002,4.3602999999999996,8.6936,1.3323,null,null,null,null,null,null,null,null,null,null,560,"2012-02-20","2012-02-01","2012-01-01","2012-02-25",1.9558,25.033000000000001,7.4362000000000004,0.84814999999999996,288.70999999999998,3.4527999999999999,0.6986,4.1665000000000001,4.3525,8.8224999999999998,1.3411999999999999,null,null,null,null,null,null,null,null,null,null,null,null,null,null,null,null,null,null,null,null,null,null,null,null,null,null,null,null,null,null,null,null,null,null,null,null,null,null,null,null,"","","","","","","","","","","","",null,null,null,null,null,null,null,null,null,null,null,null,null,null,{"$error":"#VALUE!"},"","","","","","","","","","",""]
["2013-02-01",1.9558,25.619,7.4612999999999996,0.85699999999999998,292.27,3.4527999999999999,0.69950000000000001,4.1944999999999997,4.3842999999999996,8.6325000000000003,1.355,null,null,null,null,null,null,null,null,null,null,565,"2012-02-27","2012-03-01","2012-01-01","2012-03-04",1.9558,24.715,7.4345999999999997,0.8327,289.3,3.4527999999999999,0.69830000000000003,4.1074000000000002,4.3507999999999996,8.8315999999999999,1.3217000000000001,null,null,null,null,null,null,null,null,null,null,null,null,null,null,null,null,null,null,null,null,null,null,null,null,null,null,null,null,null,null,null,null,null,null,null,null,null,null,null,null,"","","","","","","","","","","","",null,null,null,null,null,null,null,null,null,null,null,null,null,null,{"$error":"#VALUE!"},"","","","","","","","","","",""]
["2013-02-05",1.9558,25.669,7.4599000000000002,0.8619,293.23,3.4527999999999999,0.70030000000000003,4.1639999999999997,4.3719999999999999,8.5823,1.3552,null,null,null,null,null,null,null,null,null,null,566,"2012-03-05","2012-03-01","2012-01-01","2012-03-06",1.9558,24.78,7.4340999999999999,0.83465,291.26,3.4527999999999999,0.69799999999999995,4.1260000000000003,4.3502999999999998,8.8382000000000005,1.3220000000000001,null,null,null,null,null,null,null,null,null,null,null,null,null,null,null,null,null,null,null,null,null,null,null,null,null,null,null,null,null,null,null,null,null,null,null,null,null,null,null,null,"","","","","","","","","","","","",null,null,null,null,null,null,null,null,null,null,null,null,null,null,{"$error":"#VALUE!"},"","","","","","","","","","",""]
["2013-02-12",1.9558,25.24,7.4617000000000004,0.85350000000000004,291.72000000000003,3.4527999999999999,0.69950000000000001,4.1536999999999997,4.4002999999999997,8.5754000000000001,1.3391,null,null,null,null,null,null,null,null,null,null,570,"2012-03-05","2012-03-01","2012-01-01","2012-03-11",{"$f":"IF($W805=\"\",\"\",INDEX($A:$Z,$W805,AB$3))","v":1.9558},24.715,7.4352,0.83594999999999997,291.89999999999998,3.4527999999999999,0.69689999999999996,4.0991999999999997,4.3555000000000001,8.9075000000000006,1.3190999999999999,null,null,null,null,null,null,null,null,null,null,null,null,null,null,null,null,null,null,null,null,null,null,null,null,null,null,null,null,null,null,null,null,null,null,null,null,null,null,null,null,"","","","","","","","","","","","",null,null,null,null,null,null,null,null,null,null,null,null,null,null,{"$error":"#VALUE!"},"","","","","","","","","","",""]
["2013-02-20",1.9558,25.434000000000001,7.4599000000000002,0.86309999999999998,290.79000000000002,3.4527999999999999,0.69969999999999999,4.1679000000000004,4.3785999999999996,8.4482999999999997,1.3349,null,null,null,null,null,null,null,null,null,null,575,"2012-03-12","2012-03-01","2012-01-01","2012-03-17",1.9558,24.510999999999999,7.4356,0.82950000000000002,290.64,3.4527999999999999,0.69699999999999995,4.13,4.3822999999999999,8.8559999999999999,1.3116000000000001,null,null,null,null,null,null,null,null,null,null,null,null,null,null,null,null,null,null,null,null,null,null,null,null,null,null,null,null,null,null,null,null,null,null,null,null,null,null,null,null,"","","","","","","","","","","","",null,null,null,null,null,null,null,null,null,null,null,null,null,null,{"$error":"#VALUE!"},"","","","","","","","","","",""]
["2013-02-26",1.9558,25.52,7.4614000000000003,0.87890000000000001,293.54000000000002,3.4527999999999999,0.69989999999999997,4.1470000000000002,4.3773,8.4740000000000002,1.3304,null,null,null,null,null,null,null,null,null,null,577,"2012-03-19","2012-03-01","2012-01-01","2012-03-21",{"$f":"IF($W815=\"\",\"\",INDEX($A:$Z,$W815,AB$3))","v":1.9558},24.463999999999999,7.4352999999999998,0.83220000000000005,289.38,3.4527999999999999,0.6966,4.1269999999999998,4.3788,8.9120000000000008,1.3198000000000001,null,null,null,null,null,null,null,null,null,null,null,null,null,null,null,null,null,null,null,null,null,null,null,null,null,null,null,null,null,null,null,null,null,null,null,null,null,null,null,null,"","","","","","","","","","","","",null,null,null,null,null,null,null,null,null,null,null,null,null,null,{"$error":"#VALUE!"},"","","","","","","","","","",""]
["2013-03-01",1.9558,25.637,7.4560000000000004,0.86299999999999999,295.8,3.4527999999999999,0.70069999999999999,4.1515000000000004,4.3587999999999996,8.4474999999999998,1.3129,null,null,null,null,null,null,null,null,null,null,580,"2012-03-19","2012-03-01","2012-01-01","2012-03-24",1.9558,24.725000000000001,7.4355000000000002,0.83630000000000004,294.48,3.4527999999999999,0.69689999999999996,4.1681999999999997,4.3723000000000001,8.9239999999999995,1.3242,null,null,null,null,null,null,null,null,null,null,null,null,null,null,null,null,null,null,null,null,null,null,null,null,null,null,null,null,null,null,null,null,null,null,null,null,null,null,null,null,"","","","","","","","","","","","",null,null,null,null,null,null,null,null,null,null,null,null,null,null,{"$error":"#VALUE!"},"","","","","","","","","","",""]
["2013-03-12",1.9558,25.542000000000002,7.4569000000000001,0.87334999999999996,303.39999999999998,3.4527999999999999,0.70079999999999998,4.1471999999999998,4.3718000000000004,8.3260000000000005,1.2994000000000001,null,null,null,null,null,null,null,null,null,null,585,"2012-03-26","2012-03-01","2012-01-01","2012-03-31",{"$f":"IF($W825=\"\",\"\",INDEX($A:$Z,$W825,AB$3))","v":1.9558},24.73,7.4398999999999997,0.83389999999999997,294.92,3.4527999999999999,0.70030000000000003,4.1521999999999997,4.3819999999999997,8.8454999999999995,1.3355999999999999,null,null,null,null,null,null,null,null,null,null,null,null,null,null,null,null,null,null,null,null,null,null,null,null,null,null,null,null,null,null,null,null,null,null,null,null,null,null,null,null,"","","","","","","","","","","","",null,null,null,null,null,null,null,null,null,null,null,null,null,null,{"$error":"#VALUE!"},"","","","","","","","","","",""]
["2013-03-19",1.9558,25.62,7.4546999999999999,0.85619999999999996,307.17,3.4527999999999999,0.70120000000000005,4.1565000000000003,4.4153000000000002,8.3369999999999997,1.2928999999999999,null,null,null,null,null,null,null,null,null,null,588,"2012-04-02","2012-04-01","2012-01-01","2012-04-05",1.9558,24.594999999999999,7.4397000000000002,0.82850000000000001,295.63,3.4527999999999999,0.70020000000000004,4.1547999999999998,4.375,8.8185000000000002,1.3142,null,null,null,null,null,null,null,null,null,null,null,null,null,null,null,null,null,null,null,null,null,null,null,null,null,null,null,null,null,null,null,null,null,null,null,null,null,null,null,null,"","","","","","","","","","","","",null,null,null,null,null,null,null,null,null,null,null,null,null,null,{"$error":"#VALUE!"},"","","","","","","","","","",""]
["2013-03-26",1.9558,25.738,7.4542000000000002,0.85160000000000002,306.45,3.4527999999999999,0.70209999999999995,4.1607000000000003,4.415,8.4360999999999997,1.2935000000000001,null,null,null,null,null,null,null,null,null,null,589,"2012-04-09","2012-04-01","2012-01-01","2012-04-10",{"$f":"IF($W835=\"\",\"\",INDEX($A:$Z,$W835,AB$3))","v":1.9558},24.704000000000001,7.4397000000000002,0.82420000000000004,295.95,3.4527999999999999,0.69950000000000001,4.1707000000000001,4.3727999999999998,8.8133999999999997,1.3068,null,null,null,null,null,null,null,null,null,null,null,null,null,null,null,null,null,null,null,null,null,null,null,null,null,null,null,null,null,null,null,null,null,null,null,null,null,null,null,null,"","","","","","","","","","","","",null,null,null,null,null,null,null,null,null,null,null,null,null,null,{"$error":"#VALUE!"},"","","","","","","","","","",""]
["2013-04-04",1.9558,25.827999999999999,7.4535,0.84840000000000004,302.10000000000002,3.4527999999999999,0.70130000000000003,4.1908000000000003,4.4207999999999998,8.3257999999999992,1.2827999999999999,null,null,null,null,null,null,null,null,null,null,593,"2012-04-09","2012-04-01","2012-01-01","2012-04-15",1.9558,24.75,7.4386000000000001,0.82479999999999998,297.05,3.4527999999999999,0.69850000000000001,4.1807999999999996,4.3760000000000003,8.8945000000000007,1.3148,null,null,null,null,null,null,null,null,null,null,null,null,null,null,null,null,null,null,null,null,null,null,null,null,null,null,null,null,null,null,null,null,null,null,null,null,null,null,null,null,"","","","","","","","","","","","",null,null,null,null,null,null,null,null,null,null,null,null,null,null,{"$error":"#VALUE!"},"","","","","","","","","","",""]
["2013-04-06",1.9558,25.763000000000002,7.4546999999999999,0.84909999999999997,301.13,3.4527999999999999,0.70120000000000005,4.1738,4.4215,8.3984000000000005,1.2944,null,null,null,null,null,null,null,null,null,null,594,"2012-04-16","2012-04-01","2012-01-01","2012-04-17",1.9558,24.789000000000001,7.4389000000000003,0.82269999999999999,298.88,3.4527999999999999,0.69879999999999998,4.194,4.3730000000000002,8.8821999999999992,1.3024,null,null,null,null,null,null,null,null,null,null,null,null,null,null,null,null,null,null,null,null,null,null,null,null,null,null,null,null,null,null,null,null,null,null,null,null,null,null,null,null,"","","","","","","","","","","","",null,null,null,null,null,null,null,null,null,null,null,null,null,null,{"$error":"#VALUE!"},"","","","","","","","","","",""]
["2013-04-11",1.9558,25.864999999999998,7.4562999999999997,0.8548,298.11,3.4527999999999999,0.70069999999999999,4.1159999999999997,4.3890000000000002,8.3353000000000002,1.3086,null,null,null,null,null,null,null,null,null,null,597,"2012-04-16","2012-04-01","2012-01-01","2012-04-20",{"$f":"IF($W845=\"\",\"\",INDEX($A:$Z,$W845,AB$3))","v":1.9558},24.841999999999999,7.4389000000000003,0.81710000000000005,297.23,3.4527999999999999,0.69850000000000001,4.1870000000000003,4.375,8.8415999999999997,1.3086,null,null,null,null,null,null,null,null,null,null,null,null,null,null,null,null,null,null,null,null,null,null,null,null,null,null,null,null,null,null,null,null,null,null,null,null,null,null,null,null,"","","","","","","","","","","","",null,null,null,null,null,null,null,null,null,null,null,null,null,null,{"$error":"#VALUE!"},"","","","","","","","","","",""]
["2013-04-18",1.9558,25.853999999999999,7.4561999999999999,0.86129999999999995,294.54000000000002,3.4527999999999999,0.70050000000000001,4.1144999999999996,4.3697999999999997,8.4726999999999997,1.3129,null,null,null,null,null,null,null,null,null,null,600,"2012-04-23","2012-04-01","2012-01-01","2012-04-25",1.9558,24.997,7.4401999999999999,0.81540000000000001,297.69,3.4527999999999999,0.69930000000000003,4.2003000000000004,4.3818000000000001,8.8879999999999999,1.3161,null,null,null,null,null,null,null,null,null,null,null,null,null,null,null,null,null,null,null,null,null,null,null,null,null,null,null,null,null,null,null,null,null,null,null,null,null,null,null,null,"","","","","","","","","","","","",null,null,null,null,null,null,null,null,null,null,null,null,null,null,{"$error":"#VALUE!"},"","","","","","","","","","",""]
["2013-04-25",1.9558,25.908999999999999,7.4553000000000003,0.85250000000000004,299.55,3.4527999999999999,0.70009999999999994,4.1367000000000003,4.3494999999999999,8.5884999999999998,1.3006,null,null,null,null,null,null,null,null,null,null,603,"2012-04-30","2012-04-01","2012-01-01","2012-04-30",{"$f":"IF($W855=\"\",\"\",INDEX($A:$Z,$W855,AB$3))","v":1.9558},24.87,7.4385000000000003,0.81530000000000002,287.25,3.4527999999999999,0.69950000000000001,4.1787999999999998,4.3878000000000004,8.9024000000000001,1.3229,null,null,null,null,null,null,null,null,null,null,null,null,null,null,null,null,null,null,null,null,null,null,null,null,null,null,null,null,null,null,null,null,null,null,null,null,null,null,null,null,"",{"$f":"IF($BA855=\"\",\"\",SUM(BB855:BB861)/7)","v":""},"","","","","","","","","","",null,null,null,null,null,null,null,null,null,null,null,null,null,null,{"$f":"IF(AND(WEEKDAY(CA855,2)=1,CA855<=MaxDate-6),CA855,\"\")","v":{"$error":"#VALUE!"}},{"$f":"IF($BA855=\"\",\"\",SUM(CB855:CB861)/7)","v":""},"","","","","","","","","",""]
["2013-05-03",1.9558,25.65,7.4558999999999997,0.84660000000000002,297.08,3.4527999999999999,0.70009999999999994,4.1464999999999996,4.3215000000000003,8.5503,1.3190999999999999,null,null,null,null,null,null,null,null,null,null,607,"2012-04-30","2012-05-01","2012-01-01","2012-05-05",1.9558,25.023,7.4378000000000002,0.81194999999999995,284.85000000000002,3.4527999999999999,0.69899999999999995,4.1848000000000001,4.4047999999999998,8.9040999999999997,1.3131999999999999,null,null,null,null,null,null,null,null,null,null,null,null,null,null,null,null,null,null,null,null,null,null,null,null,null,null,null,null,null,null,null,null,null,null,null,null,null,null,null,null,"","","","","","","","","","","","",null,null,null,null,null,null,null,null,null,null,null,null,null,null,{"$error":"#VALUE!"},"","","","","","","","","","",""]
["2013-05-10",1.9558,25.792000000000002,7.4535,0.84435000000000004,293.13,3.4527999999999999,0.70009999999999994,4.1261999999999999,4.3253000000000004,8.5395000000000003,1.3142,null,null,null,null,null,null,null,null,null,null,610,"2012-05-07","2012-05-01","2012-01-01","2012-05-10",{"$f":"IF($W865=\"\",\"\",INDEX($A:$Z,$W865,AB$3))","v":1.9558},25.242999999999999,7.4349999999999996,0.80495000000000005,290.7,3.4527999999999999,0.69830000000000003,4.2153999999999998,4.4210000000000003,8.9097000000000008,1.2949999999999999,null,null,null,null,null,null,null,null,null,null,null,null,null,null,null,null,null,null,null,null,null,null,null,null,null,null,null,null,null,null,null,null,null,null,null,null,null,null,null,null,"","","","","","","","","","","","",null,null,null,null,null,null,null,null,null,null,null,null,null,null,{"$error":"#VALUE!"},"","","","","","","","","","",""]
["2013-05-21",1.9558,26.120999999999999,7.4527999999999999,0.84560000000000002,289.99,3.4527999999999999,0.69969999999999999,4.1821000000000002,4.3472999999999997,8.5754000000000001,1.2853000000000001,null,null,null,null,null,null,null,null,null,null,615,"2012-05-14","2012-05-01","2012-01-01","2012-05-17",1.9558,25.46,7.4330999999999996,0.79925000000000002,294.32,3.4527999999999999,0.6976,4.3499999999999996,4.4400000000000004,9.0969999999999995,1.2738,null,null,null,null,null,null,null,null,null,null,null,null,null,null,null,null,null,null,null,null,null,null,null,null,null,null,null,null,null,null,null,null,null,null,null,null,null,null,null,null,"","","","","","","","","","","","",null,null,null,null,null,null,null,null,null,null,null,null,null,null,{"$error":"#VALUE!"},"","","","","","","","","","",""]
["2013-05-24",1.9558,26.094000000000001,7.4541000000000004,0.85514999999999997,292.18,3.4527999999999999,0.70050000000000001,4.2092000000000001,4.3654999999999999,8.5943000000000005,1.2887999999999999,null,null,null,null,null,null,null,null,null,null,617,"2012-05-14","2012-05-01","2012-01-01","2012-05-20",{"$f":"IF($W875=\"\",\"\",INDEX($A:$Z,$W875,AB$3))","v":1.9558},25.332999999999998,7.4329000000000001,0.80420000000000003,297.25,3.4527999999999999,0.69730000000000003,4.3360000000000003,4.4435000000000002,9.0996000000000006,1.2721,null,null,null,null,null,null,null,null,null,null,null,null,null,null,null,null,null,null,null,null,null,null,null,null,null,null,null,null,null,null,null,null,null,null,null,null,null,null,null,null,"","","","","","","","","","","","",null,null,null,null,null,null,null,null,null,null,null,null,null,null,{"$error":"#VALUE!"},"","","","","","","","","","",""]
["2013-05-30",1.9558,25.899000000000001,7.4539,0.85694999999999999,288.02999999999997,3.4527999999999999,0.70130000000000003,4.2249999999999996,4.3460000000000001,8.6082000000000001,1.2951999999999999,null,null,null,null,null,null,null,null,null,null,620,"2012-05-21","2012-05-01","2012-01-01","2012-05-24",1.9558,25.495000000000001,7.4316000000000004,0.8044,302,3.4527999999999999,0.69789999999999996,4.367,4.46,9.0604999999999993,1.2659,null,null,null,null,null,null,null,null,null,null,null,null,null,null,null,null,null,null,null,null,null,null,null,null,null,null,null,null,null,null,null,null,null,null,null,null,null,null,null,null,"","","","","","","","","","","","",null,null,null,null,null,null,null,null,null,null,null,null,null,null,{"$error":"#VALUE!"},"","","","","","","","","","",""]
[null,null,null,null,null,null,null,null,null,null,null,null,null,null,null,null,null,null,null,null,null,null,624,"2012-05-28","2012-05-01","2012-01-01","2012-05-30",{"$f":"IF($W885=\"\",\"\",INDEX($A:$Z,$W885,AB$3))","v":1.9558},25.512,7.4306999999999999,0.7994,297.89999999999998,3.4527999999999999,0.69830000000000003,4.3609999999999998,4.4653,8.9864999999999995,1.2523,null,null,null,null,null,null,null,null,null,null,null,null,null,null,null,null,null,null,null,null,null,null,null,null,null,null,null,null,null,null,null,null,null,null,null,null,null,null,null,null,"","","","","","","","","","","","",null,null,null,null,null,null,null,null,null,null,null,null,null,null,{"$error":"#VALUE!"},"","","","","","","","","","",""]
[null,null,null,null,null,null,null,null,null,null,null,null,null,null,null,null,null,null,null,null,null,null,627,"2012-06-04","2012-06-01","2012-01-01","2012-06-04",1.9558,25.786999999999999,7.4306999999999999,0.80500000000000005,306,3.4527999999999999,0.69799999999999995,4.4124999999999996,4.4722,8.9946999999999999,1.2322,null,null,null,null,null,null,null,null,null,null,null,null,null,null,null,null,null,null,null,null,null,null,null,null,null,null,null,null,null,null,null,null,null,null,null,null,null,null,null,null,"","","","","","","","","","","","",null,null,null,null,null,null,null,null,null,null,null,null,null,null,{"$error":"#VALUE!"},"","","","","","","","","","",""]
[null,null,null,null,null,null,null,null,null,null,null,null,null,null,null,null,null,null,null,null,null,null,629,"2012-06-04","2012-06-01","2012-01-01","2012-06-06",1.9558,25.72,7.4314,0.81005000000000005,302.19,3.4527999999999999,0.69679999999999997,4.3815999999999997,4.4660000000000002,8.9689999999999994,1.2428999999999999,null,null,null,null,null,null,null,null,null,null,null,null,null,null,null,null,null,null,null,null,null,null,null,null,null,null,null,null,null,null,null,null,null,null,null,null,null,null,null,null,"","","","","","","","","","","","",null,null,null,null,null,null,null,null,null,null,null,null,null,null,{"$error":"#VALUE!"},"","","","","","","","","","",""]
[null,null,null,null,null,null,null,null,null,null,null,null,null,null,null,null,null,null,null,null,null,null,635,"2012-06-11","2012-06-01","2012-01-01","2012-06-14",1.9558,25.577999999999999,7.4318,0.80630000000000002,296.43,3.4527999999999999,0.69679999999999997,4.3239999999999998,4.4615999999999998,8.8320000000000007,1.2534000000000001,null,null,null,null,null,null,null,null,null,null,null,null,null,null,null,null,null,null,null,null,null,null,null,null,null,null,null,null,null,null,null,null,null,null,null,null,null,null,null,null,"","","","","","","","","","","","",null,null,null,null,null,null,null,null,null,null,null,null,null,null,{"$error":"#VALUE!"},"","","","","","","","","","",""]
[null,null,null,null,null,null,null,null,null,null,null,null,null,null,null,null,null,null,null,null,null,null,637,"2012-06-11","2012-06-01","2012-01-01",{"$f":"1+AA902","v":"2012-06-17"},1.9558,25.591999999999999,7.4313000000000002,0.81189999999999996,296.64,3.4527999999999999,0.69689999999999996,4.2984,4.4631999999999996,8.8353000000000002,1.2596000000000001,null,null,null,null,null,null,null,null,null,null,null,null,null,null,null,null,null,null,null,null,null,null,null,null,null,null,null,null,null,null,null,null,null,null,null,null,null,null,null,null,"",{"$f":"IF($BA903=\"\",\"\",SUM(BB903:BB909)/7)","v":""},"","","","","","","","","","",null,null,null,null,null,null,null,null,null,null,null,null,null,null,{"$error":"#VALUE!"},{"$f":"IF($BA903=\"\",\"\",SUM(CB903:CB909)/7)","v":""},"","","","","","","","","",""]
[null,null,null,null,null,null,null,null,null,null,null,null,null,null,null,null,null,null,null,null,null,null,638,"2012-06-18","2012-06-01","2012-01-01","2012-06-19",{"$f":"IF($W905=\"\",\"\",INDEX($A:$Z,$W905,AB$3))","v":1.9558},25.492999999999999,7.4324000000000003,0.80600000000000005,292.60000000000002,3.4527999999999999,0.69669999999999999,4.2807000000000004,4.4669999999999996,8.8412000000000006,1.2618,null,null,null,null,null,null,null,null,null,null,null,null,null,null,null,null,null,null,null,null,null,null,null,null,null,null,null,null,null,null,null,null,null,null,null,null,null,null,null,null,"","","","","","","","","","","","",null,null,null,null,null,null,null,null,null,null,null,null,null,null,{"$error":"#VALUE!"},"","","","","","","","","","",""]
[null,null,null,null,null,null,null,null,null,null,null,null,null,null,null,null,null,null,null,null,null,null,642,"2012-06-18","2012-06-01","2012-01-01","2012-06-24",1.9558,25.774999999999999,7.4343000000000004,0.80420000000000003,287.66000000000003,3.4527999999999999,0.69689999999999996,4.2563000000000004,4.4733000000000001,8.8008000000000006,1.2539,null,null,null,null,null,null,null,null,null,null,null,null,null,null,null,null,null,null,null,null,null,null,null,null,null,null,null,null,null,null,null,null,null,null,null,null,null,null,null,null,"","","","","","","","","","","","",null,null,null,null,null,null,null,null,null,null,null,null,null,null,{"$error":"#VALUE!"},"","","","","","","","","","",""]
[null,null,null,null,null,null,null,null,null,null,null,null,null,null,null,null,null,null,null,null,null,null,647,"2012-06-25","2012-06-01","2012-01-01","2012-06-30",1.9558,25.64,7.4333999999999998,0.80679999999999996,287.77,3.4527999999999999,0.69669999999999999,4.2488000000000001,4.4512999999999998,8.7728000000000002,1.2589999999999999,null,null,null,null,null,null,null,null,null,null,null,null,null,null,null,null,null,null,null,null,null,null,null,null,null,null,null,null,null,null,null,null,null,null,null,null,null,null,null,null,"","","","","","","","","","","","",null,null,null,null,null,null,null,null,null,null,null,null,null,null,{"$error":"#VALUE!"},"","","","","","","","","","",""]
[null,null,null,null,null,null,null,null,null,null,null,null,null,null,null,null,null,null,null,null,null,null,649,"2012-07-02","2012-07-01","2012-01-01","2012-07-04",1.9558,25.555,7.4341999999999997,0.80274999999999996,286.23,3.4527999999999999,0.69679999999999997,4.21,4.4530000000000003,8.7304999999999993,1.2575000000000001,null,null,null,null,null,null,null,null,null,null,null,null,null,null,null,null,null,null,null,null,null,null,null,null,null,null,null,null,null,null,null,null,null,null,null,null,null,null,null,null,"","","","","","","","","","","","",null,null,null,null,null,null,null,null,null,null,null,null,null,null,{"$error":"#VALUE!"},"","","","","","","","","","",""]
[null,null,null,null,null,null,null,null,null,null,null,null,null,null,null,null,null,null,null,null,null,null,654,"2012-07-09","2012-07-01","2012-01-01","2012-07-11",1.9558,25.431000000000001,7.4379999999999997,0.79210000000000003,288.12,3.4527999999999999,0.69620000000000004,4.1981999999999999,4.5252999999999997,8.5733999999999995,1.2284999999999999,null,null,null,null,null,null,null,null,null,null,null,null,null,null,null,null,null,null,null,null,null,null,null,null,null,null,null,null,null,null,null,null,null,null,null,null,null,null,null,null,"","","","","","","","","","","","",null,null,null,null,null,null,null,null,null,null,null,null,null,null,{"$error":"#VALUE!"},"","","","","","","","","","",""]
[null,null,null,null,null,null,null,null,null,null,null,null,null,null,null,null,null,null,null,null,null,null,657,"2012-07-09","2012-07-01","2012-01-01","2012-07-14",1.9558,25.395,7.4385000000000003,0.78749999999999998,288.95,3.4527999999999999,0.69610000000000005,4.2112999999999996,4.5614999999999997,8.5746000000000002,1.2184999999999999,null,null,null,null,null,null,null,null,null,null,null,null,null,null,null,null,null,null,null,null,null,null,null,null,null,null,null,null,null,null,null,null,null,null,null,null,null,null,null,null,"","","","","","","","","","","","",null,null,null,null,null,null,null,null,null,null,null,null,null,null,{"$error":"#VALUE!"},"","","","","","","","","","",""]
[null,null,null,null,null,null,null,null,null,null,null,null,null,null,null,null,null,null,null,null,null,null,660,"2012-07-16","2012-07-01","2012-01-01","2012-07-19",{"$f":"IF($W935=\"\",\"\",INDEX($A:$Z,$W935,AB$3))","v":1.9558},25.277999999999999,7.4387999999999996,0.78400000000000003,285.89999999999998,3.4527999999999999,0.69589999999999996,4.1795,4.5652999999999997,8.4926999999999992,1.2234,null,null,null,null,null,null,null,null,null,null,null,null,null,null,null,null,null,null,null,null,null,null,null,null,null,null,null,null,null,null,null,null,null,null,null,null,null,null,null,null,"",{"$f":"IF($BA935=\"\",\"\",SUM(BB935:BB941)/7)","v":""},"","","","","","","","","","",null,null,null,null,null,null,null,null,null,null,null,null,null,null,{"$error":"#VALUE!"},{"$f":"IF($BA935=\"\",\"\",SUM(CB935:CB941)/7)","v":""},"","","","","","","","","",""]
[null,null,null,null,null,null,null,null,null,null,null,null,null,null,null,null,null,null,null,null,null,null,663,"2012-07-23","2012-07-01","2012-01-01","2012-07-24",1.9558,25.579000000000001,7.4396000000000004,0.77980000000000005,288.33999999999997,3.4527999999999999,0.69620000000000004,4.1967999999999996,4.6239999999999997,8.4507999999999992,1.2104999999999999,null,null,null,null,null,null,null,null,null,null,null,null,null,null,null,null,null,null,null,null,null,null,null,null,null,null,null,null,null,null,null,null,null,null,null,null,null,null,null,null,"","","","","","","","","","","","",null,null,null,null,null,null,null,null,null,null,null,null,null,null,{"$error":"#VALUE!"},"","","","","","","","","","",""]
[null,null,null,null,null,null,null,null,null,null,null,null,null,null,null,null,null,null,null,null,null,null,667,"2012-07-23","2012-07-01","2012-01-01","2012-07-29",{"$f":"IF($W945=\"\",\"\",INDEX($A:$Z,$W945,AB$3))","v":1.9558},25.31,7.4390000000000001,0.78295000000000003,282.64999999999998,3.4527999999999999,0.6966,4.1275000000000004,4.6109999999999998,8.5007999999999999,1.2317,null,null,null,null,null,null,null,null,null,null,null,null,null,null,null,null,null,null,null,null,null,null,null,null,null,null,null,null,null,null,null,null,null,null,null,null,null,null,null,null,"","","","","","","","","","","","",null,null,null,null,null,null,null,null,null,null,null,null,null,null,{"$error":"#VALUE!"},"","","","","","","","","","",""]
[null,null,null,null,null,null,null,null,null,null,null,null,null,null,null,null,null,null,null,null,null,null,671,"2012-07-30","2012-08-01","2012-01-01","2012-08-03",1.9558,25.26,7.4417,0.79039999999999999,279.93,3.4527999999999999,0.69689999999999996,4.1031000000000004,4.6188000000000002,8.3339999999999996,1.2345999999999999,null,null,null,null,null,null,null,null,null,null,null,null,null,null,null,null,null,null,null,null,null,null,null,null,null,null,null,null,null,null,null,null,null,null,null,null,null,null,null,null,"","","","","","","","","","","","",null,null,null,null,null,null,null,null,null,null,null,null,null,null,{"$error":"#VALUE!"},"","","","","","","","","","",""]
[null,null,null,null,null,null,null,null,null,null,null,null,null,null,null,null,null,null,null,null,null,null,672,"2012-08-06","2012-08-01","2012-01-01","2012-08-06",1.9558,25.285,7.4414999999999996,0.78744999999999998,278.95,3.4527999999999999,0.69650000000000001,4.0891999999999999,4.6470000000000002,8.2797000000000001,1.2244999999999999,null,null,null,null,null,null,null,null,null,null,null,null,null,null,null,null,null,null,null,null,null,null,null,null,null,null,null,null,null,null,null,null,null,null,null,null,null,null,null,null,"","","","","","","","","","","","",null,null,null,null,null,null,null,null,null,null,null,null,null,null,{"$error":"#VALUE!"},"","","","","","","","","","",""]
[null,null,null,null,null,null,null,null,null,null,null,null,null,null,null,null,null,null,null,null,null,null,677,"2012-08-13","2012-08-01","2012-01-01","2012-08-13",1.9558,25.204999999999998,7.4427000000000003,0.78610000000000002,278.89999999999998,3.4527999999999999,0.69620000000000004,4.0960999999999999,4.5345000000000004,8.2077000000000009,1.2262,null,null,null,null,null,null,null,null,null,null,null,null,null,null,null,null,null,null,null,null,null,null,null,null,null,null,null,null,null,null,null,null,null,null,null,null,null,null,null,null,"","","","","","","","","","","","",null,null,null,null,null,null,null,null,null,null,null,null,null,null,{"$error":"#VALUE!"},"","","","","","","","","","",""]
[null,null,null,null,null,null,null,null,null,null,null,null,null,null,null,null,null,null,null,null,null,null,681,"2012-08-13","2012-08-01","2012-01-01","2012-08-17",1.9558,24.911999999999999,7.4443999999999999,0.78195000000000003,278.39,3.4527999999999999,0.69620000000000004,4.0770999999999997,4.4894999999999996,8.2347000000000001,1.2279,null,null,null,null,null,null,null,null,null,null,null,null,null,null,null,null,null,null,null,null,null,null,null,null,null,null,null,null,null,null,null,null,null,null,null,null,null,null,null,null,"","","","","","","","","","","","",null,null,null,null,null,null,null,null,null,null,null,null,null,null,{"$error":"#VALUE!"},"","","","","","","","","","",""]
[null,null,null,null,null,null,null,null,null,null,null,null,null,null,null,null,null,null,null,null,null,null,{"$f":"IF(AA965>MaxDate,\"\",MATCH(AA965,$A:$A,1))","v":682},"2012-08-13","2012-08-01","2012-01-01","2012-08-18",{"$f":"IF($W965=\"\",\"\",INDEX($A:$Z,$W965,AB$3))","v":1.9558},25.02,7.4459,0.78515000000000001,278.77999999999997,3.4527999999999999,0.69630000000000003,4.0805999999999996,4.4913999999999996,8.2766000000000002,1.2337,null,null,null,null,null,null,null,null,null,null,null,null,null,null,null,null,null,null,null,null,null,null,null,null,null,null,null,null,null,null,null,null,null,null,null,null,null,null,null,null,{"$f":"IF(AND(WEEKDAY(BA965,2)=1,BA965<=MaxDate-6),BA965,\"\")","v":""},"","","","","","","","","","","",null,null,null,null,null,null,null,null,null,null,null,null,null,null,{"$error":"#VALUE!"},"","","","","","","","","","",""]
[null,null,null,null,null,null,null,null,null,null,null,null,null,null,null,null,null,null,null,null,null,null,685,"2012-08-20","2012-08-01","2012-01-01","2012-08-23",1.9558,24.968,7.4484000000000004,0.78785000000000005,277.2,3.4527999999999999,0.69630000000000003,4.0761000000000003,4.4930000000000003,8.3412000000000006,1.2447999999999999,null,null,null,null,null,null,null,null,null,null,null,null,null,null,null,null,null,null,null,null,null,null,null,null,null,null,null,null,null,null,null,null,null,null,null,null,null,null,null,null,"","","","","","","","","","","","",null,null,null,null,null,null,null,null,null,null,null,null,null,null,{"$error":"#VALUE!"},"","","","","","","","","","",""]
[null,null,null,null,null,null,null,null,null,null,null,null,null,null,null,null,null,null,null,null,null,null,690,"2012-08-27","2012-08-01","2012-01-01","2012-08-30",1.9558,24.81,7.4501999999999997,0.79179999999999995,283.41000000000003,3.4527999999999999,0.69630000000000003,4.1555,4.4775,8.3375000000000004,1.2544999999999999,null,null,null,null,null,null,null,null,null,null,null,null,null,null,null,null,null,null,null,null,null,null,null,null,null,null,null,null,null,null,null,null,null,null,null,null,null,null,null,null,"","","","","","","","","","","","",null,null,null,null,null,null,null,null,null,null,null,null,null,null,{"$error":"#VALUE!"},"","","","","","","","","","",""]
[null,null,null,null,null,null,null,null,null,null,null,null,null,null,null,null,null,null,null,null,null,null,692,"2012-08-27","2012-09-01","2012-01-01","2012-09-02",1.9558,24.84,7.4512999999999998,0.79525000000000001,283.64999999999998,3.4527999999999999,0.69599999999999995,4.1764999999999999,4.4633000000000003,8.3361999999999998,1.2611000000000001,null,null,null,null,null,null,null,null,null,null,null,null,null,null,null,null,null,null,null,null,null,null,null,null,null,null,null,null,null,null,null,null,null,null,null,null,null,null,null,null,"","","","","","","","","","","","",null,null,null,null,null,null,null,null,null,null,null,null,null,null,{"$error":"#VALUE!"},"","","","","","","","","","",""]
[null,null,null,null,null,null,null,null,null,null,null,null,null,null,null,null,null,null,null,null,null,null,695,"2012-09-03","2012-09-01","2012-01-01","2012-09-06",1.9558,24.794,7.4508999999999999,0.79035,284.60000000000002,3.4527999999999999,0.69620000000000004,4.2008999999999999,4.4882999999999997,8.4414999999999996,1.2578,null,null,null,null,null,null,null,null,null,null,null,null,null,null,null,null,null,null,null,null,null,null,null,null,null,null,null,null,null,null,null,null,null,null,null,null,null,null,null,null,"","","","","","","","","","","","",null,null,null,null,null,null,null,null,null,null,null,null,null,null,{"$error":"#VALUE!"},"","","","","","","","","","",""]
[null,null,null,null,null,null,null,null,null,null,null,null,null,null,null,null,null,null,null,null,null,null,699,"2012-09-10","2012-09-01","2012-01-01","2012-09-12",1.9558,24.547999999999998,7.4522000000000004,0.79779999999999995,284.88,3.4527999999999999,0.69630000000000003,4.1082000000000001,4.4847999999999999,8.4772999999999996,1.2786999999999999,null,null,null,null,null,null,null,null,null,null,null,null,null,null,null,null,null,null,null,null,null,null,null,null,null,null,null,null,null,null,null,null,null,null,null,null,null,null,null,null,"","","","","","","","","","","","",null,null,null,null,null,null,null,null,null,null,null,null,null,null,{"$error":"#VALUE!"},"","","","","","","","","","",""]
[null,null,null,null,null,null,null,null,null,null,null,null,null,null,null,null,null,null,null,null,null,null,702,"2012-09-17","2012-09-01","2012-01-01","2012-09-17",{"$f":"IF($W995=\"\",\"\",INDEX($A:$Z,$W995,AB$3))","v":1.9558},24.433,7.4554999999999998,0.80745,281.75,3.4527999999999999,0.69610000000000005,4.0602,4.5030000000000001,8.5884,1.3095000000000001,null,null,null,null,null,null,null,null,null,null,null,null,null,null,null,null,null,null,null,null,null,null,null,null,null,null,null,null,null,null,null,null,null,null,null,null,null,null,null,null,"","","","","","","","","","","","",null,null,null,null,null,null,null,null,null,null,null,null,null,null,{"$error":"#VALUE!"},"","","","","","","","","","",""]
[null,null,null,null,null,null,null,null,null,null,null,null,null,null,null,null,null,null,null,null,null,null,707,"2012-09-17","2012-09-01","2012-01-01","2012-09-23",1.9558,24.803000000000001,7.4549000000000003,0.79869999999999997,282.24,3.4527999999999999,0.69620000000000004,4.1296999999999997,4.5172999999999996,8.4955999999999996,1.2988,null,null,null,null,null,null,null,null,null,null,null,null,null,null,null,null,null,null,null,null,null,null,null,null,null,null,null,null,null,null,null,null,null,null,null,null,null,null,null,null,"","","","","","","","","","","","",null,null,null,null,null,null,null,null,null,null,null,null,null,null,{"$error":"#VALUE!"},"","","","","","","","","","",""]
[null,null,null,null,null,null,null,null,null,null,null,null,null,null,null,null,null,null,null,null,null,null,710,"2012-09-24","2012-09-01","2012-01-01","2012-09-27",{"$f":"IF($W1005=\"\",\"\",INDEX($A:$Z,$W1005,AB$3))","v":1.9558},24.983000000000001,7.4561000000000002,0.79490000000000005,285.77999999999997,3.4527999999999999,0.69620000000000004,4.1510999999999996,4.5178000000000003,8.4998000000000005,1.2845,null,null,null,null,null,null,null,null,null,null,null,null,null,null,null,null,null,null,null,null,null,null,null,null,null,null,null,null,null,null,null,null,null,null,null,null,null,null,null,null,"","","","","","","","","","","","",null,null,null,null,null,null,null,null,null,null,null,null,null,null,{"$error":"#VALUE!"},"","","","","","","","","","",""]
[null,null,null,null,null,null,null,null,null,null,null,null,null,null,null,null,null,null,null,null,null,null,712,"2012-09-24","2012-09-01","2012-01-01","2012-09-30",1.9558,25.140999999999998,7.4554999999999998,0.79805000000000004,284.89,3.4527999999999999,0.69620000000000004,4.1037999999999997,4.5382999999999996,8.4497999999999998,1.2929999999999999,null,null,null,null,null,null,null,null,null,null,null,null,null,null,null,null,null,null,null,null,null,null,null,null,null,null,null,null,null,null,null,null,null,null,null,null,null,null,null,null,"","","","","","","","","","","","",null,null,null,null,null,null,null,null,null,null,null,null,null,null,{"$error":"#VALUE!"},"","","","","","","","","","",""]
[null,null,null,null,null,null,null,null,null,null,null,null,null,null,null,null,null,null,null,null,null,null,717,"2012-10-01","2012-10-01","2012-01-01","2012-10-07",{"$f":"IF($W1015=\"\",\"\",INDEX($A:$Z,$W1015,AB$3))","v":1.9558},24.914999999999999,7.4555999999999996,0.80325000000000002,282.75,3.4527999999999999,0.69610000000000005,4.0735000000000001,4.5781999999999998,8.5728000000000009,1.3002,null,null,null,null,null,null,null,null,null,null,null,null,null,null,null,null,null,null,null,null,null,null,null,null,null,null,null,null,null,null,null,null,null,null,null,null,null,null,null,null,"",{"$f":"IF($BA1015=\"\",\"\",SUM(BB1015:BB1021)/7)","v":""},"","","","","","","","","","",null,null,null,null,null,null,null,null,null,null,null,null,null,null,{"$error":"#VALUE!"},{"$f":"IF($BA1015=\"\",\"\",SUM(CB1015:CB1021)/7)","v":""},"","","","","","","","","",""]
[null,null,null,null,null,null,null,null,null,null,null,null,null,null,null,null,null,null,null,null,null,null,721,"2012-10-08","2012-10-01","2012-01-01","2012-10-12",1.9558,24.94,7.4588000000000001,0.80525000000000002,281.85000000000002,3.4527999999999999,0.69610000000000005,4.0910000000000002,4.5702999999999996,8.6626999999999992,1.2918000000000001,null,null,null,null,null,null,null,null,null,null,null,null,null,null,null,null,null,null,null,null,null,null,null,null,null,null,null,null,null,null,null,null,null,null,null,null,null,null,null,null,"","","","","","","","","","","","",null,null,null,null,null,null,null,null,null,null,null,null,null,null,{"$error":"#VALUE!"},"","","","","","","","","","",""]
[null,null,null,null,null,null,null,null,null,null,null,null,null,null,null,null,null,null,null,null,null,null,722,"2012-10-08","2012-10-01","2012-01-01","2012-10-13",1.9558,24.95,7.4588999999999999,0.80649999999999999,281.39999999999998,3.4527999999999999,0.69610000000000005,4.0978000000000003,4.5648,8.6829999999999998,1.2969999999999999,null,null,null,null,null,null,null,null,null,null,null,null,null,null,null,null,null,null,null,null,null,null,null,null,null,null,null,null,null,null,null,null,null,null,null,null,null,null,null,null,"","","","","","","","","","","","",null,null,null,null,null,null,null,null,null,null,null,null,null,null,{"$error":"#VALUE!"},"","","","","","","","","","",""]
[null,null,null,null,null,null,null,null,null,null,null,null,null,null,null,null,null,null,null,null,null,null,724,"2012-10-15","2012-10-01","2012-01-01","2012-10-17",{"$f":"IF($W1025=\"\",\"\",INDEX($A:$Z,$W1025,AB$3))","v":1.9558},24.875,7.4593999999999996,0.80969999999999998,278.51,3.4527999999999999,0.69620000000000004,4.0919999999999996,4.5782999999999996,8.6273999999999997,1.3046,null,null,null,null,null,null,null,null,null,null,null,null,null,null,null,null,null,null,null,null,null,null,null,null,null,null,null,null,null,null,null,null,null,null,null,null,null,null,null,null,"","","","","","","","","","","","",null,null,null,null,null,null,null,null,null,null,null,null,null,null,{"$error":"#VALUE!"},"","","","","","","","","","",""]
[null,null,null,null,null,null,null,null,null,null,null,null,null,null,null,null,null,null,null,null,null,null,727,{"$f":"IF(W1030=\"\",\"\",IF(WEEKDAY(AA1030,2)=1,AA1030,X1029))","v":"2012-10-22"},{"$f":"IF(W1030=\"\",\"\",DATE(YEAR(AA1030),MONTH(AA1030),1))","v":"2012-10-01"},{"$f":"IF(W1030=\"\",\"\",DATE(YEAR(AA1030),1,1))","v":"2012-01-01"},"2012-10-22",1.9558,24.823,7.4589999999999996,0.81274999999999997,279.3,3.4527999999999999,0.69630000000000003,4.1070000000000002,4.5833000000000004,8.5716999999999999,1.3035000000000001,null,null,null,null,null,null,null,null,null,null,null,null,null,null,null,null,null,null,null,null,null,null,null,null,null,null,null,null,null,null,null,null,null,null,null,null,null,null,null,null,"","","","","","","","","","","","",null,null,null,null,null,null,null,null,null,null,null,null,null,null,{"$error":"#VALUE!"},"","","","","","","","","","",""]
[null,null,null,null,null,null,null,null,null,null,null,null,null,null,null,null,null,null,null,null,null,null,733,"2012-10-29","2012-10-01","2012-01-01","2012-10-30",1.9558,25.021000000000001,7.4596999999999998,0.80454999999999999,285.13,3.4527999999999999,0.69610000000000005,4.1489000000000003,4.5486000000000004,8.6219000000000001,1.2898000000000001,null,null,null,null,null,null,null,null,null,null,null,null,null,null,null,null,null,null,null,null,null,null,null,null,null,null,null,null,null,null,null,null,null,null,null,null,null,null,null,null,"","","","","","","","","","","","",null,null,null,null,null,null,null,null,null,null,null,null,null,null,{"$error":"#VALUE!"},"","","","","","","","","","",""]
[null,null,null,null,null,null,null,null,null,null,null,null,null,null,null,null,null,null,null,null,null,null,735,"2012-10-29","2012-11-01","2012-01-01","2012-11-01",1.9558,25.064,7.4598000000000004,0.80645,284.05,3.4527999999999999,0.69620000000000004,4.1390000000000002,4.5419999999999998,8.6,1.2992999999999999,null,null,null,null,null,null,null,null,null,null,null,null,null,null,null,null,null,null,null,null,null,null,null,null,null,null,null,null,null,null,null,null,null,null,null,null,null,null,null,null,"","","","","","","","","","","","",null,null,null,null,null,null,null,null,null,null,null,null,null,null,{"$error":"#VALUE!"},"","","","","","","","","","",""]
[null,null,null,null,null,null,null,null,null,null,null,null,null,null,null,null,null,null,null,null,null,null,738,"2012-11-05","2012-11-01","2012-01-01","2012-11-06",{"$f":"IF($W1045=\"\",\"\",INDEX($A:$Z,$W1045,AB$3))","v":1.9558},25.234000000000002,7.4588999999999999,0.79990000000000006,282.58,3.4527999999999999,0.69620000000000004,4.1226000000000003,4.524,8.5690000000000008,1.2777000000000001,null,null,null,null,null,null,null,null,null,null,null,null,null,null,null,null,null,null,null,null,null,null,null,null,null,null,null,null,null,null,null,null,null,null,null,null,null,null,null,null,"","","","","","","","","","","","",null,null,null,null,null,null,null,null,null,null,null,null,null,null,{"$error":"#VALUE!"},"","","","","","","","","","",""]
[null,null,null,null,null,null,null,null,null,null,null,null,null,null,null,null,null,null,null,null,null,null,742,"2012-11-05","2012-11-01","2012-01-01","2012-11-11",1.9558,25.396000000000001,7.4579000000000004,0.79725000000000001,284.39999999999998,3.4527999999999999,0.69620000000000004,4.1714000000000002,4.5286999999999997,8.5745000000000005,1.2694000000000001,null,null,null,null,null,null,null,null,null,null,null,null,null,null,null,null,null,null,null,null,null,null,null,null,null,null,null,null,null,null,null,null,null,null,null,null,null,null,null,null,"","","","","","","","","","","","",null,null,null,null,null,null,null,null,null,null,null,null,null,null,{"$error":"#VALUE!"},"","","","","","","","","","",""]
[null,null,null,null,null,null,null,null,null,null,null,null,null,null,null,null,null,null,null,null,null,null,746,"2012-11-12","2012-11-01","2012-01-01","2012-11-16",{"$f":"IF($W1055=\"\",\"\",INDEX($A:$Z,$W1055,AB$3))","v":1.9558},25.565999999999999,7.4587000000000003,0.80545,284.27999999999997,3.4527999999999999,0.69610000000000005,4.16,4.5382999999999996,8.6479999999999997,1.2756000000000001,null,null,null,null,null,null,null,null,null,null,null,null,null,null,null,null,null,null,null,null,null,null,null,null,null,null,null,null,null,null,null,null,null,null,null,null,null,null,null,null,"","","","","","","","","","","","",null,null,null,null,null,null,null,null,null,null,null,null,null,null,{"$error":"#VALUE!"},"","","","","","","","","","",""]
[null,null,null,null,null,null,null,null,null,null,null,null,null,null,null,null,null,null,null,null,null,null,747,"2012-11-19","2012-11-01","2012-01-01","2012-11-19",1.9558,25.533999999999999,7.4584999999999999,0.80245,284.18,3.4527999999999999,0.69630000000000003,4.1615000000000002,4.5332999999999997,8.6493000000000002,1.2745,null,null,null,null,null,null,null,null,null,null,null,null,null,null,null,null,null,null,null,null,null,null,null,null,null,null,null,null,null,null,null,null,null,null,null,null,null,null,null,null,"","","","","","","","","","","","",null,null,null,null,null,null,null,null,null,null,null,null,null,null,{"$error":"#VALUE!"},"","","","","","","","","","",""]
[null,null,null,null,null,null,null,null,null,null,null,null,null,null,null,null,null,null,null,null,null,null,752,"2012-11-26","2012-11-01","2012-01-01","2012-11-26",{"$f":"IF($W1065=\"\",\"\",INDEX($A:$Z,$W1065,AB$3))","v":1.9558},25.338999999999999,7.4579000000000004,0.81010000000000004,280.49,3.4527999999999999,0.69610000000000005,4.1192000000000002,4.5373000000000001,8.5878999999999994,1.2908999999999999,null,null,null,null,null,null,null,null,null,null,null,null,null,null,null,null,null,null,null,null,null,null,null,null,null,null,null,null,null,null,null,null,null,null,null,null,null,null,null,null,"","","","","","","","","","","","",null,null,null,null,null,null,null,null,null,null,null,null,null,null,{"$error":"#VALUE!"},"","","","","","","","","","",""]
[null,null,null,null,null,null,null,null,null,null,null,null,null,null,null,null,null,null,null,null,null,null,756,"2012-11-26","2012-11-01","2012-01-01","2012-11-30",1.9558,25.225999999999999,7.4603999999999999,0.81052999999999997,279.3,3.4527999999999999,0.69620000000000004,4.0968,4.51,8.6371000000000002,1.2994000000000001,null,null,null,null,null,null,null,null,null,null,null,null,null,null,null,null,null,null,null,null,null,null,null,null,null,null,null,null,null,null,null,null,null,null,null,null,null,null,null,null,"","","","","","","","","","","","",null,null,null,null,null,null,null,null,null,null,null,null,null,null,{"$error":"#VALUE!"},"","","","","","","","","","",""]
[null,null,null,null,null,null,null,null,null,null,null,null,null,null,null,null,null,null,null,null,null,null,759,"2012-12-03","2012-12-01","2012-01-01","2012-12-05",1.9558,25.242999999999999,7.4603999999999999,0.81230000000000002,282.39,3.4527999999999999,0.69640000000000002,4.1291000000000002,4.5343,8.6265000000000001,1.3091999999999999,null,null,null,null,null,null,null,null,null,null,null,null,null,null,null,null,null,null,null,null,null,null,null,null,null,null,null,null,null,null,null,null,null,null,null,null,null,null,null,null,"","","","","","","","","","","","",null,null,null,null,null,null,null,null,null,null,null,null,null,null,{"$error":"#VALUE!"},"","","","","","","","","","",""]
[null,null,null,null,null,null,null,null,null,null,null,null,null,null,null,null,null,null,null,null,null,null,763,"2012-12-10","2012-12-01","2012-01-01","2012-12-11",1.9558,25.245000000000001,7.4591000000000003,0.8044,283.51,3.4527999999999999,0.69630000000000003,4.1234999999999999,4.5374999999999996,8.6335999999999995,1.2929999999999999,null,null,null,null,null,null,null,null,null,null,null,null,null,null,null,null,null,null,null,null,null,null,null,null,null,null,null,null,null,null,null,null,null,null,null,null,null,null,null,null,"","","","","","","","","","","","",null,null,null,null,null,null,null,null,null,null,null,null,null,null,{"$error":"#VALUE!"},"","","","","","","","","","",""]
[null,null,null,null,null,null,null,null,null,null,null,null,null,null,null,null,null,null,null,null,null,null,765,"2012-12-10","2012-12-01","2012-01-01","2012-12-13",1.9558,25.265000000000001,7.4603999999999999,0.80774999999999997,282.33,3.4527999999999999,0.69610000000000005,4.0968999999999998,4.5267999999999997,8.6274999999999995,1.304,null,null,null,null,null,null,null,null,null,null,null,null,null,null,null,null,null,null,null,null,null,null,null,null,null,null,null,null,null,null,null,null,null,null,null,null,null,null,null,null,"","","","","","","","","","","","",null,null,null,null,null,null,null,null,null,null,null,null,null,null,{"$error":"#VALUE!"},"","","","","","","","","","",""]
[null,null,null,null,null,null,null,null,null,null,null,null,null,null,null,null,null,null,null,null,null,null,767,"2012-12-10","2012-12-01","2012-01-01","2012-12-16",{"$f":"IF($W1085=\"\",\"\",INDEX($A:$Z,$W1085,AB$3))","v":1.9558},25.231000000000002,7.4612999999999996,0.8115,283.76,3.4527999999999999,0.69630000000000003,4.0861000000000001,4.4720000000000004,8.7743000000000002,1.3081,null,null,null,null,null,null,null,null,null,null,null,null,null,null,null,null,null,null,null,null,null,null,null,null,null,null,null,null,null,null,null,null,null,null,null,null,null,null,null,null,"","","","","","","","","","","","",null,null,null,null,null,null,null,null,null,null,null,null,null,null,{"$error":"#VALUE!"},"","","","","","","","","","",""]
[null,null,null,null,null,null,null,null,null,null,null,null,null,null,null,null,null,null,null,null,null,null,{"$f":"IF(AA1093>MaxDate,\"\",MATCH(AA1093,$A:$A,1))","v":772},"2012-12-24","2012-12-01","2012-01-01","2012-12-24",1.9558,25.189,7.4611999999999998,0.81420000000000003,287.2,3.4527999999999999,0.69640000000000002,4.0644999999999998,4.4473000000000003,8.5945,1.3209,null,null,null,null,null,null,null,null,null,null,null,null,null,null,null,null,null,null,null,null,null,null,null,null,null,null,null,null,null,null,null,null,null,null,null,null,null,null,null,null,{"$f":"IF(AND(WEEKDAY(BA1093,2)=1,BA1093<=MaxDate-6),BA1093,\"\")","v":""},"","","","","","","","","","","",null,null,null,null,null,null,null,null,null,null,null,null,null,null,{"$error":"#VALUE!"},"","","","","","","","","","",""]
[null,null,null,null,null,null,null,null,null,null,null,null,null,null,null,null,null,null,null,null,null,null,773,{"$f":"IF(W1094=\"\",\"\",IF(WEEKDAY(AA1094,2)=1,AA1094,X1093))","v":"2012-12-24"},{"$f":"IF(W1094=\"\",\"\",DATE(YEAR(AA1094),MONTH(AA1094),1))","v":"2012-12-01"},{"$f":"IF(W1094=\"\",\"\",DATE(YEAR(AA1094),1,1))","v":"2012-01-01"},"2012-12-25",1.9558,25.126999999999999,7.4615999999999998,0.8175,290.19,3.4527999999999999,0.69650000000000001,4.0815999999999999,4.4180999999999999,8.6323000000000008,1.3218000000000001,null,null,null,null,null,null,null,null,null,null,null,null,null,null,null,null,null,null,null,null,null,null,null,null,null,null,null,null,null,null,null,null,null,null,null,null,null,null,null,null,"","","","","","","","","","","","",null,null,null,null,null,null,null,null,null,null,null,null,null,null,{"$error":"#VALUE!"},"","","","","","","","","","",""]
[null,null,null,null,null,null,null,null,null,null,null,null,null,null,null,null,null,null,null,null,null,null,775,"2012-12-31","2012-12-01","2012-01-01","2012-12-31",1.9558,25.14,7.4603999999999999,0.81694999999999995,290.79000000000002,3.4527999999999999,0.69779999999999998,4.0808999999999997,4.4385000000000003,8.5615000000000006,1.3183,null,null,null,null,null,null,null,null,null,null,null,null,null,null,null,null,null,null,null,null,null,null,null,null,null,null,null,null,null,null,null,null,null,null,null,null,null,null,null,null,"","","","","","","","","","","","",null,null,null,null,null,null,null,null,null,null,null,null,null,null,{"$error":"#VALUE!"},"","","","","","","","","","",""]
[null,null,null,null,null,null,null,null,null,null,null,null,null,null,null,null,null,null,null,null,null,null,779,"2012-12-31","2013-01-01","2013-01-01","2013-01-06",1.9558,25.355,7.4591000000000003,0.81230000000000002,290.95,3.4527999999999999,0.69730000000000003,4.1165000000000003,4.4276,8.5310000000000006,1.3011999999999999,null,null,null,null,null,null,null,null,null,null,null,null,null,null,null,null,null,null,null,null,null,null,null,null,null,null,null,null,null,null,null,null,null,null,null,null,null,null,null,null,"","","","","","","","","","","","",null,null,null,null,null,null,null,null,null,null,null,null,null,null,{"$error":"#VALUE!"},"","","","","","","","","","",""]
[null,null,null,null,null,null,null,null,null,null,null,null,null,null,null,null,null,null,null,null,null,null,782,"2013-01-07","2013-01-01","2013-01-01","2013-01-10",1.9558,25.529,7.4606000000000003,0.81505000000000005,290.66000000000003,3.4527999999999999,0.69679999999999997,4.109,4.4088000000000003,8.5953999999999997,1.3056000000000001,null,null,null,null,null,null,null,null,null,null,null,null,null,null,null,null,null,null,null,null,null,null,null,null,null,null,null,null,null,null,null,null,null,null,null,null,null,null,null,null,"","","","","","","","","","","","",null,null,null,null,null,null,null,null,null,null,null,null,null,null,{"$error":"#VALUE!"},"","","","","","","","","","",""]
[null,null,null,null,null,null,null,null,null,null,null,null,null,null,null,null,null,null,null,null,null,null,785,"2013-01-14","2013-01-01","2013-01-01","2013-01-15",{"$f":"IF($W1115=\"\",\"\",INDEX($A:$Z,$W1115,AB$3))","v":1.9558},25.613,7.4626000000000001,0.83120000000000005,297.08,3.4527999999999999,0.69730000000000003,4.12,4.3848000000000003,8.6178000000000008,1.3341000000000001,null,null,null,null,null,null,null,null,null,null,null,null,null,null,null,null,null,null,null,null,null,null,null,null,null,null,null,null,null,null,null,null,null,null,null,null,null,null,null,null,"","","","","","","","","","","","",null,null,null,null,null,null,null,null,null,null,null,null,null,null,{"$error":"#VALUE!"},"","","","","","","","","","",""]
[null,null,null,null,null,null,null,null,null,null,null,null,null,null,null,null,null,null,null,null,null,null,789,"2013-01-14","2013-01-01","2013-01-01","2013-01-19",1.9558,25.635000000000002,7.4630999999999998,0.83720000000000006,292.74,3.4527999999999999,0.69750000000000001,4.1455000000000002,4.3398000000000003,8.6641999999999992,1.3324,null,null,null,null,null,null,null,null,null,null,null,null,null,null,null,null,null,null,null,null,null,null,null,null,null,null,null,null,null,null,null,null,null,null,null,null,null,null,null,null,"","","","","","","","","","","","",null,null,null,null,null,null,null,null,null,null,null,null,null,null,{"$error":"#VALUE!"},"","","","","","","","","","",""]
[null,null,null,null,null,null,null,null,null,null,null,null,null,null,null,null,null,null,null,null,null,null,793,"2013-01-21","2013-01-01","2013-01-01","2013-01-25",{"$f":"IF($W1125=\"\",\"\",INDEX($A:$Z,$W1125,AB$3))","v":1.9558},25.597000000000001,7.4619999999999997,0.84389999999999998,294.89999999999998,3.4527999999999999,0.69850000000000001,4.1909000000000001,4.3685,8.6879000000000008,1.3349,null,null,null,null,null,null,null,null,null,null,null,null,null,null,null,null,null,null,null,null,null,null,null,null,null,null,null,null,null,null,null,null,null,null,null,null,null,null,null,null,"","","","","","","","","","","","",null,null,null,null,null,null,null,null,null,null,null,null,null,null,{"$error":"#VALUE!"},"","","","","","","","","","",""]
[null,null,null,null,null,null,null,null,null,null,null,null,null,null,null,null,null,null,null,null,null,null,796,"2013-01-28","2013-01-01","2013-01-01","2013-01-30",1.9558,25.658999999999999,7.4595000000000002,0.85360000000000003,297.39999999999998,3.4527999999999999,0.69910000000000005,4.2089999999999996,4.3834999999999997,8.6110000000000007,1.3432999999999999,null,null,null,null,null,null,null,null,null,null,null,null,null,null,null,null,null,null,null,null,null,null,null,null,null,null,null,null,null,null,null,null,null,null,null,null,null,null,null,null,"","","","","","","","","","","","",null,null,null,null,null,null,null,null,null,null,null,null,null,null,{"$error":"#VALUE!"},"","","","","","","","","","",""]
[null,null,null,null,null,null,null,null,null,null,null,null,null,null,null,null,null,null,null,null,null,null,799,"2013-01-28","2013-02-01","2013-01-01","2013-02-03",1.9558,25.638000000000002,7.4602000000000004,0.86170000000000002,292.37,3.4527999999999999,0.70030000000000003,4.1791999999999998,4.375,8.6021999999999998,1.3644000000000001,null,null,null,null,null,null,null,null,null,null,null,null,null,null,null,null,null,null,null,null,null,null,null,null,null,null,null,null,null,null,null,null,null,null,null,null,null,null,null,null,"","","","","","","","","","","","",null,null,null,null,null,null,null,null,null,null,null,null,null,null,{"$error":"#VALUE!"},"","","","","","","","","","",""]
[null,null,null,null,null,null,null,null,null,null,null,null,null,null,null,null,null,null,null,null,null,null,804,"2013-02-04","2013-02-01","2013-01-01","2013-02-09",1.9558,25.242999999999999,7.4603000000000002,0.84635000000000005,292.22000000000003,3.4527999999999999,0.6996,4.1592000000000002,4.3970000000000002,8.5950000000000006,1.3373999999999999,null,null,null,null,null,null,null,null,null,null,null,null,null,null,null,null,null,null,null,null,null,null,null,null,null,null,null,null,null,null,null,null,null,null,null,null,null,null,null,null,"","","","","","","","","","","","",null,null,null,null,null,null,null,null,null,null,null,null,null,null,{"$error":"#VALUE!"},"","","","","","","","","","",""]
[null,null,null,null,null,null,null,null,null,null,null,null,null,null,null,null,null,null,null,null,null,null,805,"2013-02-11","2013-02-01","2013-01-01","2013-02-12",1.9558,25.24,7.4617000000000004,0.85350000000000004,291.72000000000003,3.4527999999999999,0.69950000000000001,4.1536999999999997,4.4002999999999997,8.5754000000000001,1.3391,null,null,null,null,null,null,null,null,null,null,null,null,null,null,null,null,null,null,null,null,null,null,null,null,null,null,null,null,null,null,null,null,null,null,null,null,null,null,null,null,"",{"$f":"IF($BA1143=\"\",\"\",SUM(BB1143:BB1149)/7)","v":""},"","","","","","","","","","",null,null,null,null,null,null,null,null,null,null,null,null,null,null,{"$error":"#VALUE!"},{"$f":"IF($BA1143=\"\",\"\",SUM(CB1143:CB1149)/7)","v":""},"","","","","","","","","",""]
[null,null,null,null,null,null,null,null,null,null,null,null,null,null,null,null,null,null,null,null,null,null,807,"2013-02-11","2013-02-01","2013-01-01","2013-02-14",{"$f":"IF($W1145=\"\",\"\",INDEX($A:$Z,$W1145,AB$3))","v":1.9558},25.422999999999998,7.4615999999999998,0.86599999999999999,289.10000000000002,3.4527999999999999,0.69969999999999999,4.1718000000000002,4.3868,8.4768000000000008,1.3480000000000001,null,null,null,null,null,null,null,null,null,null,null,null,null,null,null,null,null,null,null,null,null,null,null,null,null,null,null,null,null,null,null,null,null,null,null,null,null,null,null,null,"","","","","","","","","","","","",null,null,null,null,null,null,null,null,null,null,null,null,null,null,{"$error":"#VALUE!"},"","","","","","","","","","",""]
[null,null,null,null,null,null,null,null,null,null,null,null,null,null,null,null,null,null,null,null,null,null,810,"2013-02-18","2013-02-01","2013-01-01","2013-02-19",1.9558,25.388000000000002,7.4596,0.8619,291.97000000000003,3.4527999999999999,0.69950000000000001,4.1890999999999998,4.3860999999999999,8.4597999999999995,1.3351999999999999,null,null,null,null,null,null,null,null,null,null,null,null,null,null,null,null,null,null,null,null,null,null,null,null,null,null,null,null,null,null,null,null,null,null,null,null,null,null,null,null,"","","","","","","","","","","","",null,null,null,null,null,null,null,null,null,null,null,null,null,null,{"$error":"#VALUE!"},"","","","","","","","","","",""]
[null,null,null,null,null,null,null,null,null,null,null,null,null,null,null,null,null,null,null,null,null,null,814,"2013-02-18","2013-02-01","2013-01-01","2013-02-23",1.9558,25.492000000000001,7.4596,0.86204999999999998,292.55,3.4527999999999999,0.69969999999999999,4.1539000000000001,4.3784000000000001,8.4572000000000003,1.3186,null,null,null,null,null,null,null,null,null,null,null,null,null,null,null,null,null,null,null,null,null,null,null,null,null,null,null,null,null,null,null,null,null,null,null,null,null,null,null,null,"","","","","","","","","","","","",null,null,null,null,null,null,null,null,null,null,null,null,null,null,{"$error":"#VALUE!"},"","","","","","","","","","",""]
[null,null,null,null,null,null,null,null,null,null,null,null,null,null,null,null,null,null,null,null,null,null,818,"2013-02-25","2013-03-01","2013-01-01","2013-03-01",1.9558,25.637,7.4560000000000004,0.86299999999999999,295.8,3.4527999999999999,0.70069999999999999,4.1515000000000004,4.3587999999999996,8.4474999999999998,1.3129,null,null,null,null,null,null,null,null,null,null,null,null,null,null,null,null,null,null,null,null,null,null,null,null,null,null,null,null,null,null,null,null,null,null,null,null,null,null,null,null,"","","","","","","","","","","","",null,null,null,null,null,null,null,null,null,null,null,null,null,null,{"$error":"#VALUE!"},"","","","","","","","","","",""]
[null,null,null,null,null,null,null,null,null,null,null,null,null,null,null,null,null,null,null,null,null,null,823,"2013-03-04","2013-03-01","2013-01-01","2013-03-08",1.9558,25.51,7.4546000000000001,0.86499999999999999,299.5,3.4527999999999999,0.70050000000000001,4.1512000000000002,4.3550000000000004,8.2940000000000005,1.3009999999999999,null,null,null,null,null,null,null,null,null,null,null,null,null,null,null,null,null,null,null,null,null,null,null,null,null,null,null,null,null,null,null,null,null,null,null,null,null,null,null,null,"","","","","","","","","","","","",null,null,null,null,null,null,null,null,null,null,null,null,null,null,{"$error":"#VALUE!"},"","","","","","","","","","",""]
[null,null,null,null,null,null,null,null,null,null,null,null,null,null,null,null,null,null,null,null,null,null,824,"2013-03-11","2013-03-01","2013-01-01","2013-03-11",1.9558,25.443000000000001,7.4573,0.871,297.64,3.4527999999999999,0.70099999999999996,4.1379999999999999,4.3586999999999998,8.3239000000000001,1.3089999999999999,null,null,null,null,null,null,null,null,null,null,null,null,null,null,null,null,null,null,null,null,null,null,null,null,null,null,null,null,null,null,null,null,null,null,null,null,null,null,null,null,"","","","","","","","","","","","",null,null,null,null,null,null,null,null,null,null,null,null,null,null,{"$error":"#VALUE!"},"","","","","","","","","","",""]
[null,null,null,null,null,null,null,null,null,null,null,null,null,null,null,null,null,null,null,null,null,null,829,"2013-03-11","2013-03-01","2013-01-01","2013-03-16",{"$f":"IF($W1175=\"\",\"\",INDEX($A:$Z,$W1175,AB$3))","v":1.9558},25.574999999999999,7.4581,0.86399999999999999,305.11,3.4527999999999999,0.70140000000000002,4.1505000000000001,4.3930999999999996,8.3514999999999997,1.3086,null,null,null,null,null,null,null,null,null,null,null,null,null,null,null,null,null,null,null,null,null,null,null,null,null,null,null,null,null,null,null,null,null,null,null,null,null,null,null,null,"",{"$f":"IF($BA1175=\"\",\"\",SUM(BB1175:BB1181)/7)","v":""},"","","","","","","","","","",null,null,null,null,null,null,null,null,null,null,null,null,null,null,{"$f":"IF(AND(WEEKDAY(CA1175,2)=1,CA1175<=MaxDate-6),CA1175,\"\")","v":{"$error":"#VALUE!"}},{"$f":"IF($BA1175=\"\",\"\",SUM(CB1175:CB1181)/7)","v":""},"","","","","","","","","",""]
[null,null,null,null,null,null,null,null,null,null,null,null,null,null,null,null,null,null,null,null,null,null,832,"2013-03-18","2013-03-01","2013-01-01","2013-03-21",1.9558,25.67,7.4531999999999998,0.85519999999999996,304.97000000000003,3.4527999999999999,0.70169999999999999,4.1608999999999998,4.4238,8.3374000000000006,1.2945,null,null,null,null,null,null,null,null,null,null,null,null,null,null,null,null,null,null,null,null,null,null,null,null,null,null,null,null,null,null,null,null,null,null,null,null,null,null,null,null,"","","","","","","","","","","","",null,null,null,null,null,null,null,null,null,null,null,null,null,null,{"$error":"#VALUE!"},"","","","","","","","","","",""]
[null,null,null,null,null,null,null,null,null,null,null,null,null,null,null,null,null,null,null,null,null,null,835,"2013-03-25","2013-03-01","2013-01-01","2013-03-26",{"$f":"IF($W1185=\"\",\"\",INDEX($A:$Z,$W1185,AB$3))","v":1.9558},25.738,7.4542000000000002,0.85160000000000002,306.45,3.4527999999999999,0.70209999999999995,4.1607000000000003,4.415,8.4360999999999997,1.2935000000000001,null,null,null,null,null,null,null,null,null,null,null,null,null,null,null,null,null,null,null,null,null,null,null,null,null,null,null,null,null,null,null,null,null,null,null,null,null,null,null,null,"","","","","","","","","","","","",null,null,null,null,null,null,null,null,null,null,null,null,null,null,{"$error":"#VALUE!"},"","","","","","","","","","",""]
[null,null,null,null,null,null,null,null,null,null,null,null,null,null,null,null,null,null,null,null,null,null,837,"2013-03-25","2013-03-01","2013-01-01","2013-03-28",1.9558,25.8,7.4527999999999999,0.84514999999999996,304.12,3.4527999999999999,0.70140000000000002,4.1818,4.4135,8.3019999999999996,1.2767999999999999,null,null,null,null,null,null,null,null,null,null,null,null,null,null,null,null,null,null,null,null,null,null,null,null,null,null,null,null,null,null,null,null,null,null,null,null,null,null,null,null,"","","","","","","","","","","","",null,null,null,null,null,null,null,null,null,null,null,null,null,null,{"$error":"#VALUE!"},"","","","","","","","","","",""]
[null,null,null,null,null,null,null,null,null,null,null,null,null,null,null,null,null,null,null,null,null,null,840,"2013-04-01","2013-04-01","2013-01-01","2013-04-04",1.9558,25.827999999999999,7.4535,0.84840000000000004,302.10000000000002,3.4527999999999999,0.70130000000000003,4.1908000000000003,4.4207999999999998,8.3257999999999992,1.2827999999999999,null,null,null,null,null,null,null,null,null,null,null,null,null,null,null,null,null,null,null,null,null,null,null,null,null,null,null,null,null,null,null,null,null,null,null,null,null,null,null,null,"","","","","","","","","","","","",null,null,null,null,null,null,null,null,null,null,null,null,null,null,{"$error":"#VALUE!"},"","","","","","","","","","",""]
[null,null,null,null,null,null,null,null,null,null,null,null,null,null,null,null,null,null,null,null,null,null,844,"2013-04-08","2013-04-01","2013-01-01","2013-04-10",1.9558,25.762,7.4558,0.85175000000000001,297.64999999999998,3.4527999999999999,0.70089999999999997,4.1303999999999998,4.4086999999999996,8.3765000000000001,1.304,null,null,null,null,null,null,null,null,null,null,null,null,null,null,null,null,null,null,null,null,null,null,null,null,null,null,null,null,null,null,null,null,null,null,null,null,null,null,null,null,"","","","","","","","","","","","",null,null,null,null,null,null,null,null,null,null,null,null,null,null,{"$error":"#VALUE!"},"","","","","","","","","","",""]
[null,null,null,null,null,null,null,null,null,null,null,null,null,null,null,null,null,null,null,null,null,null,847,"2013-04-08","2013-04-01","2013-01-01","2013-04-14",1.9558,25.870999999999999,7.4551999999999996,0.84970000000000001,294.55,3.4527999999999999,0.7006,4.1040000000000001,4.3890000000000002,8.3373000000000008,1.3051999999999999,null,null,null,null,null,null,null,null,null,null,null,null,null,null,null,null,null,null,null,null,null,null,null,null,null,null,null,null,null,null,null,null,null,null,null,null,null,null,null,null,"","","","","","","","","","","","",null,null,null,null,null,null,null,null,null,null,null,null,null,null,{"$error":"#VALUE!"},"","","","","","","","","","",""]
[null,null,null,null,null,null,null,null,null,null,null,null,null,null,null,null,null,null,null,null,null,null,847,"2013-04-15","2013-04-01","2013-01-01","2013-04-15",{"$f":"IF($W1205=\"\",\"\",INDEX($A:$Z,$W1205,AB$3))","v":1.9558},25.870999999999999,7.4551999999999996,0.84970000000000001,294.55,3.4527999999999999,0.7006,4.1040000000000001,4.3890000000000002,8.3373000000000008,1.3051999999999999,null,null,null,null,null,null,null,null,null,null,null,null,null,null,null,null,null,null,null,null,null,null,null,null,null,null,null,null,null,null,null,null,null,null,null,null,null,null,null,null,"","","","","","","","","","","","",null,null,null,null,null,null,null,null,null,null,null,null,null,null,{"$error":"#VALUE!"},"","","","","","","","","","",""]
[null,null,null,null,null,null,null,null,null,null,null,null,null,null,null,null,null,null,null,null,null,null,852,"2013-04-15","2013-04-01","2013-01-01","2013-04-21",1.9558,25.856999999999999,7.4558999999999997,0.85440000000000005,298.24,3.4527999999999999,0.70020000000000004,4.1002999999999998,4.3682999999999996,8.5109999999999992,1.3115000000000001,null,null,null,null,null,null,null,null,null,null,null,null,null,null,null,null,null,null,null,null,null,null,null,null,null,null,null,null,null,null,null,null,null,null,null,null,null,null,null,null,"","","","","","","","","","","","",null,null,null,null,null,null,null,null,null,null,null,null,null,null,{"$error":"#VALUE!"},"","","","","","","","","","",""]
[null,null,null,null,null,null,null,null,null,null,null,null,null,null,null,null,null,null,null,null,null,null,854,"2013-04-22","2013-04-01","2013-01-01","2013-04-24",1.9558,25.908999999999999,7.4541000000000004,0.85165000000000002,299.45,3.4527999999999999,0.70050000000000001,4.1341999999999999,4.3498000000000001,8.5925999999999991,1.2989999999999999,null,null,null,null,null,null,null,null,null,null,null,null,null,null,null,null,null,null,null,null,null,null,null,null,null,null,null,null,null,null,null,null,null,null,null,null,null,null,null,null,"","","","","","","","","","","","",null,null,null,null,null,null,null,null,null,null,null,null,null,null,{"$error":"#VALUE!"},"","","","","","","","","","",""]
[null,null,null,null,null,null,null,null,null,null,null,null,null,null,null,null,null,null,null,null,null,null,858,"2013-04-29","2013-04-01","2013-01-01","2013-04-30",1.9558,25.696999999999999,7.4564000000000004,0.84399999999999997,298.14999999999998,3.4527999999999999,0.7,4.1308999999999996,4.3224999999999998,8.5503,1.3112999999999999,null,null,null,null,null,null,null,null,null,null,null,null,null,null,null,null,null,null,null,null,null,null,null,null,null,null,null,null,null,null,null,null,null,null,null,null,null,null,null,null,"","","","","","","","","","","","",null,null,null,null,null,null,null,null,null,null,null,null,null,null,{"$error":"#VALUE!"},"","","","","","","","","","",""]
[null,null,null,null,null,null,null,null,null,null,null,null,null,null,null,null,null,null,null,null,null,null,861,"2013-04-29","2013-05-01","2013-01-01","2013-05-04",1.9558,25.64,7.4532999999999996,0.84309999999999996,296.12,3.4527999999999999,0.69989999999999997,4.1406999999999998,4.3030999999999997,8.5306999999999995,1.3113999999999999,null,null,null,null,null,null,null,null,null,null,null,null,null,null,null,null,null,null,null,null,null,null,null,null,null,null,null,null,null,null,null,null,null,null,null,null,null,null,null,null,"","","","","","","","","","","","",null,null,null,null,null,null,null,null,null,null,null,null,null,null,{"$error":"#VALUE!"},"","","","","","","","","","",""]
[null,null,null,null,null,null,null,null,null,null,null,null,null,null,null,null,null,null,null,null,null,null,864,"2013-05-06","2013-05-01","2013-01-01","2013-05-09",1.9558,25.861999999999998,7.4535,0.84689999999999999,293.31,3.4527999999999999,0.7,4.1360999999999999,4.3122999999999996,8.5402000000000005,1.3134999999999999,null,null,null,null,null,null,null,null,null,null,null,null,null,null,null,null,null,null,null,null,null,null,null,null,null,null,null,null,null,null,null,null,null,null,null,null,null,null,null,null,"","","","","","","","","","","","",null,null,null,null,null,null,null,null,null,null,null,null,null,null,{"$error":"#VALUE!"},"","","","","","","","","","",""]
[null,null,null,null,null,null,null,null,null,null,null,null,null,null,null,null,null,null,null,null,null,null,868,"2013-05-13","2013-05-01","2013-01-01","2013-05-15",{"$f":"IF($W1235=\"\",\"\",INDEX($A:$Z,$W1235,AB$3))","v":1.9558},25.887,7.4531000000000001,0.84814999999999996,295.52999999999997,3.4527999999999999,0.69930000000000003,4.1665000000000001,4.3315000000000001,8.6333000000000002,1.2977000000000001,null,null,null,null,null,null,null,null,null,null,null,null,null,null,null,null,null,null,null,null,null,null,null,null,null,null,null,null,null,null,null,null,null,null,null,null,null,null,null,null,"","","","","","","","","","","","",null,null,null,null,null,null,null,null,null,null,null,null,null,null,{"$error":"#VALUE!"},"","","","","","","","","","",""]
[null,null,null,null,null,null,null,null,null,null,null,null,null,null,null,null,null,null,null,null,null,null,871,"2013-05-13","2013-05-01","2013-01-01","2013-05-19",1.9558,25.989000000000001,7.4523999999999999,0.84475,290.56,3.4527999999999999,0.69930000000000003,4.1703999999999999,4.3369999999999997,8.5922000000000001,1.2868999999999999,null,null,null,null,null,null,null,null,null,null,null,null,null,null,null,null,null,null,null,null,null,null,null,null,null,null,null,null,null,null,null,null,null,null,null,null,null,null,null,null,"",{"$f":"IF($BA1239=\"\",\"\",SUM(BB1239:BB1245)/7)","v":""},"","","","","","","","","","",null,null,null,null,null,null,null,null,null,null,null,null,null,null,{"$f":"IF(AND(WEEKDAY(CA1239,2)=1,CA1239<=MaxDate-6),CA1239,\"\")","v":{"$error":"#VALUE!"}},{"$f":"IF($BA1239=\"\",\"\",SUM(CB1239:CB1245)/7)","v":""},"","","","","","","","","",""]
[null,null,null,null,null,null,null,null,null,null,null,null,null,null,null,null,null,null,null,null,null,null,876,"2013-05-20","2013-05-01","2013-01-01","2013-05-25",{"$f":"IF($W1245=\"\",\"\",INDEX($A:$Z,$W1245,AB$3))","v":1.9558},25.992999999999999,7.4539,0.85694999999999999,290.39999999999998,3.4527999999999999,0.70030000000000003,4.1981999999999999,4.3550000000000004,8.5980000000000008,1.2939000000000001,null,null,null,null,null,null,null,null,null,null,null,null,null,null,null,null,null,null,null,null,null,null,null,null,null,null,null,null,null,null,null,null,null,null,null,null,null,null,null,null,"","","","","","","","","","","","",null,null,null,null,null,null,null,null,null,null,null,null,null,null,{"$error":"#VALUE!"},"","","","","","","","","","",""]
[null,null,null,null,null,null,null,null,null,null,null,null,null,null,null,null,null,null,null,null,null,null,877,"2013-05-27","2013-05-01","2013-01-01","2013-05-28",1.9558,25.968,7.4531000000000001,0.85560000000000003,289.23,3.4527999999999999,0.70130000000000003,4.1935000000000002,4.3442999999999996,8.5963999999999992,1.2939000000000001,null,null,null,null,null,null,null,null,null,null,null,null,null,null,null,null,null,null,null,null,null,null,null,null,null,null,null,null,null,null,null,null,null,null,null,null,null,null,null,null,"","","","","","","","","","","","",null,null,null,null,null,null,null,null,null,null,null,null,null,null,{"$error":"#VALUE!"},"","","","","","","","","","",""]
[null,null,null,null,null,null,null,null,null,null,null,null,null,null,null,null,null,null,null,null,null,null,"","","","","2013-06-03","","","","","","","","","","","",null,null,null,null,null,null,null,null,null,null,null,null,null,null,null,null,null,null,null,null,null,null,null,null,null,null,null,null,null,null,null,null,null,null,null,null,null,null,null,null,"","","","","","","","","","","","",null,null,null,null,null,null,null,null,null,null,null,null,null,null,{"$error":"#VALUE!"},"","","","","","","","","","",""]
[null,null,null,null,null,null,null,null,null,null,null,null,null,null,null,null,null,null,null,null,null,null,"","","","","2013-06-09","","","","","","","","","","","",null,null,null,null,null,null,null,null,null,null,null,null,null,null,null,null,null,null,null,null,null,null,null,null,null,null,null,null,null,null,null,null,null,null,null,null,null,null,null,null,"","","","","","","","","","","","",null,null,null,null,null,null,null,null,null,null,null,null,null,null,{"$error":"#VALUE!"},"","","","","","","","","","",""]
[null,null,null,null,null,null,null,null,null,null,null,null,null,null,null,null,null,null,null,null,null,null,"","","","","2013-06-10","","","","","","","","","","","",null,null,null,null,null,null,null,null,null,null,null,null,null,null,null,null,null,null,null,null,null,null,null,null,null,null,null,null,null,null,null,null,null,null,null,null,null,null,null,null,"","","","","","","","","","","","",null,null,null,null,null,null,null,null,null,null,null,null,null,null,{"$error":"#VALUE!"},"","","","","","","","","","",""]
[null,null,null,null,null,null,null,null,null,null,null,null,null,null,null,null,null,null,null,null,null,null,"","","","","2013-06-14",{"$f":"IF($W1265=\"\",\"\",INDEX($A:$Z,$W1265,AB$3))","v":""},"","","","","","","","","","",null,null,null,null,null,null,null,null,null,null,null,null,null,null,null,null,null,null,null,null,null,null,null,null,null,null,null,null,null,null,null,null,null,null,null,null,null,null,null,null,"","","","","","","","","","","","",null,null,null,null,null,null,null,null,null,null,null,null,null,null,{"$error":"#VALUE!"},"","","","","","","","","","",""]
[null,null,null,null,null,null,null,null,null,null,null,null,null,null,null,null,null,null,null,null,null,null,"","","","","2013-06-21","","","","","","","","","","","",null,null,null,null,null,null,null,null,null,null,null,null,null,null,null,null,null,null,null,null,null,null,null,null,null,null,null,null,null,null,null,null,null,null,null,null,null,null,null,null,"","","","","","","","","","","","",null,null,null,null,null,null,null,null,null,null,null,null,null,null,{"$error":"#VALUE!"},"","","","","","","","","","",""]
[null,null,null,null,null,null,null,null,null,null,null,null,null,null,null,null,null,null,null,null,null,null,"","","","","2013-06-23","","","","","","","","","","","",null,null,null,null,null,null,null,null,null,null,null,null,null,null,null,null,null,null,null,null,null,null,null,null,null,null,null,null,null,null,null,null,null,null,null,null,null,null,null,null,"","","","","","","","","","","","",null,null,null,null,null,null,null,null,null,null,null,null,null,null,{"$error":"#VALUE!"},"","","","","","","","","","",""]
[null,null,null,null,null,null,null,null,null,null,null,null,null,null,null,null,null,null,null,null,null,null,"","","","","2013-06-29","","","","","","","","","","","",null,null,null,null,null,null,null,null,null,null,null,null,null,null,null,null,null,null,null,null,null,null,null,null,null,null,null,null,null,null,null,null,null,null,null,null,null,null,null,null,"","","","","","","","","","","","",null,null,null,null,null,null,null,null,null,null,null,null,null,null,{"$error":"#VALUE!"},"","","","","","","","","","",""]
[null,null,null,null,null,null,null,null,null,null,null,null,null,null,null,null,null,null,null,null,null,null,{"$f":"IF(AA1285>MaxDate,\"\",MATCH(AA1285,$A:$A,1))","v":""},"","","","2013-07-04",{"$f":"IF($W1285=\"\",\"\",INDEX($A:$Z,$W1285,AB$3))","v":""},"","","","","","","","","","",null,null,null,null,null,null,null,null,null,null,null,null,null,null,null,null,null,null,null,null,null,null,null,null,null,null,null,null,null,null,null,null,null,null,null,null,null,null,null,null,"","","","","","","","","","","","",null,null,null,null,null,null,null,null,null,null,null,null,null,null,{"$error":"#VALUE!"},"","","","","","","","","","",""]
[null,null,null,null,null,null,null,null,null,null,null,null,null,null,null,null,null,null,null,null,null,null,"","","","","2013-07-08","","","","","","","","","","","",null,null,null,null,null,null,null,null,null,null,null,null,null,null,null,null,null,null,null,null,null,null,null,null,null,null,null,null,null,null,null,null,null,null,null,null,null,null,null,null,"","","","","","","","","","","","",null,null,null,null,null,null,null,null,null,null,null,null,null,null,{"$error":"#VALUE!"},"","","","","","","","","","",""]
[null,null,null,null,null,null,null,null,null,null,null,null,null,null,null,null,null,null,null,null,null,null,"","","","","2013-07-15","","","","","","","","","","","",null,null,null,null,null,null,null,null,null,null,null,null,null,null,null,null,null,null,null,null,null,null,null,null,null,null,null,null,null,null,null,null,null,null,null,null,null,null,null,null,"","","","","","","","","","","","",null,null,null,null,null,null,null,null,null,null,null,null,null,null,{"$error":"#VALUE!"},"","","","","","","","","","",""]
[null,null,null,null,null,null,null,null,null,null,null,null,null,null,null,null,null,null,null,null,null,null,"","","","","2013-07-18","","","","","","","","","","","",null,null,null,null,null,null,null,null,null,null,null,null,null,null,null,null,null,null,null,null,null,null,null,null,null,null,null,null,null,null,null,null,null,null,null,null,null,null,null,null,"","","","","","","","","","","","",null,null,null,null,null,null,null,null,null,null,null,null,null,null,{"$error":"#VALUE!"},"","","","","","","","","","",""]
[null,null,null,null,null,null,null,null,null,null,null,null,null,null,null,null,null,null,null,null,null,null,"","","","","2013-07-24",{"$f":"IF($W1305=\"\",\"\",INDEX($A:$Z,$W1305,AB$3))","v":""},"","","","","","","","","","",null,null,null,null,null,null,null,null,null,null,null,null,null,null,null,null,null,null,null,null,null,null,null,null,null,null,null,null,null,null,null,null,null,null,null,null,null,null,null,null,"","","","","","","","","","","","",null,null,null,null,null,null,null,null,null,null,null,null,null,null,{"$error":"#VALUE!"},"","","","","","","","","","",""]
[null,null,null,null,null,null,null,null,null,null,null,null,null,null,null,null,null,null,null,null,null,null,"","","","","2013-07-28","","","","","","","","","","","",null,null,null,null,null,null,null,null,null,null,null,null,null,null,null,null,null,null,null,null,null,null,null,null,null,null,null,null,null,null,null,null,null,null,null,null,null,null,null,null,"","","","","","","","","","","","",null,null,null,null,null,null,null,null,null,null,null,null,null,null,{"$error":"#VALUE!"},"","","","","","","","","","",""]
[null,null,null,null,null,null,null,null,null,null,null,null,null,null,null,null,null,null,null,null,null,null,"","","","","2013-08-02","","","","","","","","","","","",null,null,null,null,null,null,null,null,null,null,null,null,null,null,null,null,null,null,null,null,null,null,null,null,null,null,null,null,null,null,null,null,null,null,null,null,null,null,null,null,"","","","","","","","","","","","",null,null,null,null,null,null,null,null,null,null,null,null,null,null,{"$error":"#VALUE!"},"","","","","","","","","","",""]
[null,null,null,null,null,null,null,null,null,null,null,null,null,null,null,null,null,null,null,null,null,null,"","","","","2013-08-04","","","","","","","","","","","",null,null,null,null,null,null,null,null,null,null,null,null,null,null,null,null,null,null,null,null,null,null,null,null,null,null,null,null,null,null,null,null,null,null,null,null,null,null,null,null,"","","","","","","","","","","","",null,null,null,null,null,null,null,null,null,null,null,null,null,null,{"$error":"#VALUE!"},"","","","","","","","","","",""]
[null,null,null,null,null,null,null,null,null,null,null,null,null,null,null,null,null,null,null,null,null,null,"","","","","2013-08-12","","","","","","","","","","","",null,null,null,null,null,null,null,null,null,null,null,null,null,null,null,null,null,null,null,null,null,null,null,null,null,null,null,null,null,null,null,null,null,null,null,null,null,null,null,null,"","","","","","","","","","","","",null,null,null,null,null,null,null,null,null,null,null,null,null,null,{"$error":"#VALUE!"},"","","","","","","","","","",""]
[null,null,null,null,null,null,null,null,null,null,null,null,null,null,null,null,null,null,null,null,null,null,"","","","","2013-08-17","","","","","","","","","","","",null,null,null,null,null,null,null,null,null,null,null,null,null,null,null,null,null,null,null,null,null,null,null,null,null,null,null,null,null,null,null,null,null,null,null,null,null,null,null,null,"","","","","","","","","","","","",null,null,null,null,null,null,null,null,null,null,null,null,null,null,{"$error":"#VALUE!"},"","","","","","","","","","",""]
[null,null,null,null,null,null,null,null,null,null,null,null,null,null,null,null,null,null,null,null,null,null,"","","","","2013-08-21","","","","","","","","","","","",null,null,null,null,null,null,null,null,null,null,null,null,null,null,null,null,null,null,null,null,null,null,null,null,null,null,null,null,null,null,null,null,null,null,null,null,null,null,null,null,"","","","","","","","","","","","",null,null,null,null,null,null,null,null,null,null,null,null,null,null,{"$error":"#VALUE!"},"","","","","","","","","","",""]
[null,null,null,null,null,null,null,null,null,null,null,null,null,null,null,null,null,null,null,null,null,null,"","","","","2013-08-22","","","","","","","","","","","",null,null,null,null,null,null,null,null,null,null,null,null,null,null,null,null,null,null,null,null,null,null,null,null,null,null,null,null,null,null,null,null,null,null,null,null,null,null,null,null,"","","","","","","","","","","","",null,null,null,null,null,null,null,null,null,null,null,null,null,null,{"$error":"#VALUE!"},"","","","","","","","","","",""]
[null,null,null,null,null,null,null,null,null,null,null,null,null,null,null,null,null,null,null,null,null,null,"","","","","2013-08-28","","","","","","","","","","","",null,null,null,null,null,null,null,null,null,null,null,null,null,null,null,null,null,null,null,null,null,null,null,null,null,null,null,null,null,null,null,null,null,null,null,null,null,null,null,null,"","","","","","","","","","","","",null,null,null,null,null,null,null,null,null,null,null,null,null,null,{"$error":"#VALUE!"},"","","","","","","","","","",""]
[null,null,null,null,null,null,null,null,null,null,null,null,null,null,null,null,null,null,null,null,null,null,"","","","","2013-09-03","","","","","","","","","","","",null,null,null,null,null,null,null,null,null,null,null,null,null,null,null,null,null,null,null,null,null,null,null,null,null,null,null,null,null,null,null,null,null,null,null,null,null,null,null,null,{"$f":"IF(AND(WEEKDAY(BA1346,2)=1,BA1346<=MaxDate-6),BA1346,\"\")","v":""},"","","","","","","","","","","",null,null,null,null,null,null,null,null,null,null,null,null,null,null,{"$error":"#VALUE!"},"","","","","","","","","","",""]
[null,null,null,null,null,null,null,null,null,null,null,null,null,null,null,null,null,null,null,null,null,null,{"$f":"IF(AA1349>MaxDate,\"\",MATCH(AA1349,$A:$A,1))","v":""},"","","","2013-09-06","","","","","","","","","","","",null,null,null,null,null,null,null,null,null,null,null,null,null,null,null,null,null,null,null,null,null,null,null,null,null,null,null,null,null,null,null,null,null,null,null,null,null,null,null,null,"","","","","","","","","","","","",null,null,null,null,null,null,null,null,null,null,null,null,null,null,{"$error":"#VALUE!"},"","","","","","","","","","",""]
[null,null,null,null,null,null,null,null,null,null,null,null,null,null,null,null,null,null,null,null,null,null,"","","","","2013-09-10","","","","","","","","","","","",null,null,null,null,null,null,null,null,null,null,null,null,null,null,null,null,null,null,null,null,null,null,null,null,null,null,null,null,null,null,null,null,null,null,null,null,null,null,null,null,"","","","","","","","","","","","",null,null,null,null,null,null,null,null,null,null,null,null,null,null,{"$error":"#VALUE!"},"","","","","","","","","","",""]
[null,null,null,null,null,null,null,null,null,null,null,null,null,null,null,null,null,null,null,null,null,null,"","","","","2013-09-16","","","","","","","","","","","",null,null,null,null,null,null,null,null,null,null,null,null,null,null,null,null,null,null,null,null,null,null,null,null,null,null,null,null,null,null,null,null,null,null,null,null,null,null,null,null,"","","","","","","","","","","","",null,null,null,null,null,null,null,null,null,null,null,null,null,null,{"$error":"#VALUE!"},"","","","","","","","","","",""]
[null,null,null,null,null,null,null,null,null,null,null,null,null,null,null,null,null,null,null,null,null,null,"","","","","2013-09-22",{"$f":"IF($W1365=\"\",\"\",INDEX($A:$Z,$W1365,AB$3))","v":""},"","","","","","","","","","",null,null,null,null,null,null,null,null,null,null,null,null,null,null,null,null,null,null,null,null,null,null,null,null,null,null,null,null,null,null,null,null,null,null,null,null,null,null,null,null,"","","","","","","","","","","","",null,null,null,null,null,null,null,null,null,null,null,null,null,null,{"$error":"#VALUE!"},"","","","","","","","","","",""]
[null,null,null,null,null,null,null,null,null,null,null,null,null,null,null,null,null,null,null,null,null,null,"","","","","2013-09-27","","","","","","","","","","","",null,null,null,null,null,null,null,null,null,null,null,null,null,null,null,null,null,null,null,null,null,null,null,null,null,null,null,null,null,null,null,null,null,null,null,null,null,null,null,null,"","","","","","","","","","","","",null,null,null,null,null,null,null,null,null,null,null,null,null,null,{"$error":"#VALUE!"},"","","","","","","","","","",""]
[null,null,null,null,null,null,null,null,null,null,null,null,null,null,null,null,null,null,null,null,null,null,"","","","","2013-10-01","","","","","","","","","","","",null,null,null,null,null,null,null,null,null,null,null,null,null,null,null,null,null,null,null,null,null,null,null,null,null,null,null,null,null,null,null,null,null,null,null,null,null,null,null,null,"","","","","","","","","","","","",null,null,null,null,null,null,null,null,null,null,null,null,null,null,{"$error":"#VALUE!"},"","","","","","","","","","",""]
[null,null,null,null,null,null,null,null,null,null,null,null,null,null,null,null,null,null,null,null,null,null,"","","","","2013-10-04","","","","","","","","","","","",null,null,null,null,null,null,null,null,null,null,null,null,null,null,null,null,null,null,null,null,null,null,null,null,null,null,null,null,null,null,null,null,null,null,null,null,null,null,null,null,"","","","","","","","","","","","",null,null,null,null,null,null,null,null,null,null,null,null,null,null,{"$error":"#VALUE!"},"","","","","","","","","","",""]
[null,null,null,null,null,null,null,null,null,null,null,null,null,null,null,null,null,null,null,null,null,null,"","","","","2013-10-11","","","","","","","","","","","",null,null,null,null,null,null,null,null,null,null,null,null,null,null,null,null,null,null,null,null,null,null,null,null,null,null,null,null,null,null,null,null,null,null,null,null,null,null,null,null,"","","","","","","","","","","","",null,null,null,null,null,null,null,null,null,null,null,null,null,null,{"$error":"#VALUE!"},"","","","","","","","","","",""]
[null,null,null,null,null,null,null,null,null,null,null,null,null,null,null,null,null,null,null,null,null,null,"","","","","2013-10-16","","","","","","","","","","","",null,null,null,null,null,null,null,null,null,null,null,null,null,null,null,null,null,null,null,null,null,null,null,null,null,null,null,null,null,null,null,null,null,null,null,null,null,null,null,null,"","","","","","","","","","","","",null,null,null,null,null,null,null,null,null,null,null,null,null,null,{"$error":"#VALUE!"},"","","","","","","","","","",""]
[null,null,null,null,null,null,null,null,null,null,null,null,null,null,null,null,null,null,null,null,null,null,"","","","","2013-10-17","","","","","","","","","","","",null,null,null,null,null,null,null,null,null,null,null,null,null,null,null,null,null,null,null,null,null,null,null,null,null,null,null,null,null,null,null,null,null,null,null,null,null,null,null,null,"","","","","","","","","","","","",null,null,null,null,null,null,null,null,null,null,null,null,null,null,{"$error":"#VALUE!"},"","","","","","","","","","",""]
[null,null,null,null,null,null,null,null,null,null,null,null,null,null,null,null,null,null,null,null,null,null,"","","","","2013-10-21","","","","","","","","","","","",null,null,null,null,null,null,null,null,null,null,null,null,null,null,null,null,null,null,null,null,null,null,null,null,null,null,null,null,null,null,null,null,null,null,null,null,null,null,null,null,"","","","","","","","","","","","",null,null,null,null,null,null,null,null,null,null,null,null,null,null,{"$error":"#VALUE!"},"","","","","","","","","","",""]
[null,null,null,null,null,null,null,null,null,null,null,null,null,null,null,null,null,null,null,null,null,null,"","","","","2013-10-27","","","","","","","","","","","",null,null,null,null,null,null,null,null,null,null,null,null,null,null,null,null,null,null,null,null,null,null,null,null,null,null,null,null,null,null,null,null,null,null,null,null,null,null,null,null,"","","","","","","","","","","","",null,null,null,null,null,null,null,null,null,null,null,null,null,null,{"$error":"#VALUE!"},"","","","","","","","","","",""]
[null,null,null,null,null,null,null,null,null,null,null,null,null,null,null,null,null,null,null,null,null,null,"","","","","2013-10-31","","","","","","","","","","","",null,null,null,null,null,null,null,null,null,null,null,null,null,null,null,null,null,null,null,null,null,null,null,null,null,null,null,null,null,null,null,null,null,null,null,null,null,null,null,null,"","","","","","","","","","","","",null,null,null,null,null,null,null,null,null,null,null,null,null,null,{"$error":"#VALUE!"},"","","","","","","","","","",""]
[null,null,null,null,null,null,null,null,null,null,null,null,null,null,null,null,null,null,null,null,null,null,"","","","","2013-11-01",{"$f":"IF($W1405=\"\",\"\",INDEX($A:$Z,$W1405,AB$3))","v":""},"","","","","","","","","","",null,null,null,null,null,null,null,null,null,null,null,null,null,null,null,null,null,null,null,null,null,null,null,null,null,null,null,null,null,null,null,null,null,null,null,null,null,null,null,null,"","","","","","","","","","","","",null,null,null,null,null,null,null,null,null,null,null,null,null,null,{"$error":"#VALUE!"},"","","","","","","","","","",""]
[null,null,null,null,null,null,null,null,null,null,null,null,null,null,null,null,null,null,null,null,null,null,"","","","","2013-11-02","","","","","","","","","","","",null,null,null,null,null,null,null,null,null,null,null,null,null,null,null,null,null,null,null,null,null,null,null,null,null,null,null,null,null,null,null,null,null,null,null,null,null,null,null,null,"","","","","","","","","","","","",null,null,null,null,null,null,null,null,null,null,null,null,null,null,{"$error":"#VALUE!"},"","","","","","","","","","",""]
[null,null,null,null,null,null,null,null,null,null,null,null,null,null,null,null,null,null,null,null,null,null,"","","","","2013-11-03","","","","","","","","","","","",null,null,null,null,null,null,null,null,null,null,null,null,null,null,null,null,null,null,null,null,null,null,null,null,null,null,null,null,null,null,null,null,null,null,null,null,null,null,null,null,"","","","","","","","","","","","",null,null,null,null,null,null,null,null,null,null,null,null,null,null,{"$error":"#VALUE!"},"","","","","","","","","","",""]
[null,null,null,null,null,null,null,null,null,null,null,null,null,null,null,null,null,null,null,null,null,null,"","","","","2013-11-04","","","","","","","","","","","",null,null,null,null,null,null,null,null,null,null,null,null,null,null,null,null,null,null,null,null,null,null,null,null,null,null,null,null,null,null,null,null,null,null,null,null,null,null,null,null,"","","","","","","","","","","","",null,null,null,null,null,null,null,null,null,null,null,null,null,null,{"$error":"#VALUE!"},"","","","","","","","","","",""]
[null,null,null,null,null,null,null,null,null,null,null,null,null,null,null,null,null,null,null,null,null,null,"","","","","2013-11-05","","","","","","","","","","","",null,null,null,null,null,null,null,null,null,null,null,null,null,null,null,null,null,null,null,null,null,null,null,null,null,null,null,null,null,null,null,null,null,null,null,null,null,null,null,null,"","","","","","","","","","","","",null,null,null,null,null,null,null,null,null,null,null,null,null,null,{"$error":"#VALUE!"},"","","","","","","","","","",""]
[null,null,null,null,null,null,null,null,null,null,null,null,null,null,null,null,null,null,null,null,null,null,"","","","","2013-11-06","","","","","","","","","","","",null,null,null,null,null,null,null,null,null,null,null,null,null,null,null,null,null,null,null,null,null,null,null,null,null,null,null,null,null,null,null,null,null,null,null,null,null,null,null,null,"","","","","","","","","","","","",null,null,null,null,null,null,null,null,null,null,null,null,null,null,{"$error":"#VALUE!"},"","","","","","","","","","",""]
[null,null,null,null,null,null,null,null,null,null,null,null,null,null,null,null,null,null,null,null,null,null,"","","","","2013-11-07","","","","","","","","","","","",null,null,null,null,null,null,null,null,null,null,null,null,null,null,null,null,null,null,null,null,null,null,null,null,null,null,null,null,null,null,null,null,null,null,null,null,null,null,null,null,"","","","","","","","","","","","",null,null,null,null,null,null,null,null,null,null,null,null,null,null,{"$error":"#VALUE!"},"","","","","","","","","","",""]
[null,null,null,null,null,null,null,null,null,null,null,null,null,null,null,null,null,null,null,null,null,null,"","","","","2013-11-08","","","","","","","","","","","",null,null,null,null,null,null,null,null,null,null,null,null,null,null,null,null,null,null,null,null,null,null,null,null,null,null,null,null,null,null,null,null,null,null,null,null,null,null,null,null,"","","","","","","","","","","","",null,null,null,null,null,null,null,null,null,null,null,null,null,null,{"$error":"#VALUE!"},"","","","","","","","","","",""]
[null,null,null,null,null,null,null,null,null,null,null,null,null,null,null,null,null,null,null,null,null,null,{"$f":"IF(AA1413>MaxDate,\"\",MATCH(AA1413,$A:$A,1))","v":""},"","","","2013-11-09","","","","","","","","","","","",null,null,null,null,null,null,null,null,null,null,null,null,null,null,null,null,null,null,null,null,null,null,null,null,null,null,null,null,null,null,null,null,null,null,null,null,null,null,null,null,"","","","","","","","","","","","",null,null,null,null,null,null,null,null,null,null,null,null,null,null,{"$error":"#VALUE!"},"","","","","","","","","","",""]
[null,null,null,null,null,null,null,null,null,null,null,null,null,null,null,null,null,null,null,null,null,null,"",{"$f":"IF(W1414=\"\",\"\",IF(WEEKDAY(AA1414,2)=1,AA1414,X1413))","v":""},{"$f":"IF(W1414=\"\",\"\",DATE(YEAR(AA1414),MONTH(AA1414),1))","v":""},{"$f":"IF(W1414=\"\",\"\",DATE(YEAR(AA1414),1,1))","v":""},"2013-11-10","","","","","","","","","","","",null,null,null,null,null,null,null,null,null,null,null,null,null,null,null,null,null,null,null,null,null,null,null,null,null,null,null,null,null,null,null,null,null,null,null,null,null,null,null,null,"","","","","","","","","","","","",null,null,null,null,null,null,null,null,null,null,null,null,null,null,{"$error":"#VALUE!"},"","","","","","","","","","",""]
[null,null,null,null,null,null,null,null,null,null,null,null,null,null,null,null,null,null,null,null,null,null,"","","","",{"$f":"1+AA1414","v":"2013-11-11"},{"$f":"IF($W1415=\"\",\"\",INDEX($A:$Z,$W1415,AB$3))","v":""},"","","","","","","","","","",null,null,null,null,null,null,null,null,null,null,null,null,null,null,null,null,null,null,null,null,null,null,null,null,null,null,null,null,null,null,null,null,null,null,null,null,null,null,null,null,"",{"$f":"IF($BA1415=\"\",\"\",SUM(BB1415:BB1421)/7)","v":""},"","","","","","","","","","",null,null,null,null,null,null,null,null,null,null,null,null,null,null,{"$error":"#VALUE!"},{"$f":"IF($BA1415=\"\",\"\",SUM(CB1415:CB1421)/7)","v":""},"","","","","","","","","",""]
[null,null,null,null,null,null,null,null,null,null,null,null,null,null,null,null,null,null,null,null,null,null,"","","","","2013-11-12","","","","","","","","","","","",null,null,null,null,null,null,null,null,null,null,null,null,null,null,null,null,null,null,null,null,null,null,null,null,null,null,null,null,null,null,null,null,null,null,null,null,null,null,null,null,"","","","","","","","","","","","",null,null,null,null,null,null,null,null,null,null,null,null,null,null,{"$error":"#VALUE!"},"","","","","","","","","","",""]
[null,null,null,null,null,null,null,null,null,null,null,null,null,null,null,null,null,null,null,null,null,null,"","","","","2013-11-13","","","","","","","","","","","",null,null,null,null,null,null,null,null,null,null,null,null,null,null,null,null,null,null,null,null,null,null,null,null,null,null,null,null,null,null,null,null,null,null,null,null,null,null,null,null,"","","","","","","","","","","","",null,null,null,null,null,null,null,null,null,null,null,null,null,null,{"$error":"#VALUE!"},"","","","","","","","","","",""]
[null,null,null,null,null,null,null,null,null,null,null,null,null,null,null,null,null,null,null,null,null,null,"","","","","2013-11-14","","","","","","","","","","","",null,null,null,null,null,null,null,null,null,null,null,null,null,null,null,null,null,null,null,null,null,null,null,null,null,null,null,null,null,null,null,null,null,null,null,null,null,null,null,null,"","","","","","","","","","","","",null,null,null,null,null,null,null,null,null,null,null,null,null,null,{"$error":"#VALUE!"},"","","","","","","","","","",""]
[null,null,null,null,null,null,null,null,null,null,null,null,null,null,null,null,null,null,null,null,null,null,"","","","","2013-11-15","","","","","","","","","","","",null,null,null,null,null,null,null,null,null,null,null,null,null,null,null,null,null,null,null,null,null,null,null,null,null,null,null,null,null,null,null,null,null,null,null,null,null,null,null,null,"","","","","","","","","","","","",null,null,null,null,null,null,null,null,null,null,null,null,null,null,{"$error":"#VALUE!"},"","","","","","","","","","",""]
[null,null,null,null,null,null,null,null,null,null,null,null,null,null,null,null,null,null,null,null,null,null,"","","","","2013-11-16","","","","","","","","","","","",null,null,null,null,null,null,null,null,null,null,null,null,null,null,null,null,null,null,null,null,null,null,null,null,null,null,null,null,null,null,null,null,null,null,null,null,null,null,null,null,"","","","","","","","","","","","",null,null,null,null,null,null,null,null,null,null,null,null,null,null,{"$error":"#VALUE!"},"","","","","","","","","","",""]
[null,null,null,null,null,null,null,null,null,null,null,null,null,null,null,null,null,null,null,null,null,null,"","","","","2013-11-17","","","","","","","","","","","",null,null,null,null,null,null,null,null,null,null,null,null,null,null,null,null,null,null,null,null,null,null,null,null,null,null,null,null,null,null,null,null,null,null,null,null,null,null,null,null,"","","","","","","","","","","","",null,null,null,null,null,null,null,null,null,null,null,null,null,null,{"$error":"#VALUE!"},"","","","","","","","","","",""]
[null,null,null,null,null,null,null,null,null,null,null,null,null,null,null,null,null,null,null,null,null,null,"","","","","2013-11-18","","","","","","","","","","","",null,null,null,null,null,null,null,null,null,null,null,null,null,null,null,null,null,null,null,null,null,null,null,null,null,null,null,null,null,null,null,null,null,null,null,null,null,null,null,null,"","","","","","","","","","","","",null,null,null,null,null,null,null,null,null,null,null,null,null,null,{"$error":"#VALUE!"},"","","","","","","","","","",""]
[null,null,null,null,null,null,null,null,null,null,null,null,null,null,null,null,null,null,null,null,null,null,"","","","","2013-11-19","","","","","","","","","","","",null,null,null,null,null,null,null,null,null,null,null,null,null,null,null,null,null,null,null,null,null,null,null,null,null,null,null,null,null,null,null,null,null,null,null,null,null,null,null,null,"","","","","","","","","","","","",null,null,null,null,null,null,null,null,null,null,null,null,null,null,{"$error":"#VALUE!"},"","","","","","","","","","",""]
[null,null,null,null,null,null,null,null,null,null,null,null,null,null,null,null,null,null,null,null,null,null,"","","","","2013-11-20","","","","","","","","","","","",null,null,null,null,null,null,null,null,null,null,null,null,null,null,null,null,null,null,null,null,null,null,null,null,null,null,null,null,null,null,null,null,null,null,null,null,null,null,null,null,"","","","","","","","","","","","",null,null,null,null,null,null,null,null,null,null,null,null,null,null,{"$error":"#VALUE!"},"","","","","","","","","","",""]
[null,null,null,null,null,null,null,null,null,null,null,null,null,null,null,null,null,null,null,null,null,null,"","","","","2013-11-21",{"$f":"IF($W1425=\"\",\"\",INDEX($A:$Z,$W1425,AB$3))","v":""},"","","","","","","","","","",null,null,null,null,null,null,null,null,null,null,null,null,null,null,null,null,null,null,null,null,null,null,null,null,null,null,null,null,null,null,null,null,null,null,null,null,null,null,null,null,"","","","","","","","","","","","",null,null,null,null,null,null,null,null,null,null,null,null,null,null,{"$error":"#VALUE!"},"","","","","","","","","","",""]
[null,null,null,null,null,null,null,null,null,null,null,null,null,null,null,null,null,null,null,null,null,null,"","","","","2013-11-22","","","","","","","","","","","",null,null,null,null,null,null,null,null,null,null,null,null,null,null,null,null,null,null,null,null,null,null,null,null,null,null,null,null,null,null,null,null,null,null,null,null,null,null,null,null,"","","","","","","","","","","","",null,null,null,null,null,null,null,null,null,null,null,null,null,null,{"$error":"#VALUE!"},"","","","","","","","","","",""]
[null,null,null,null,null,null,null,null,null,null,null,null,null,null,null,null,null,null,null,null,null,null,"","","","","2013-11-23","","","","","","","","","","","",null,null,null,null,null,null,null,null,null,null,null,null,null,null,null,null,null,null,null,null,null,null,null,null,null,null,null,null,null,null,null,null,null,null,null,null,null,null,null,null,"","","","","","","","","","","","",null,null,null,null,null,null,null,null,null,null,null,null,null,null,{"$error":"#VALUE!"},"","","","","","","","","","",""]
[null,null,null,null,null,null,null,null,null,null,null,null,null,null,null,null,null,null,null,null,null,null,"","","","","2013-11-24","","","","","","","","","","","",null,null,null,null,null,null,null,null,null,null,null,null,null,null,null,null,null,null,null,null,null,null,null,null,null,null,null,null,null,null,null,null,null,null,null,null,null,null,null,null,"","","","","","","","","","","","",null,null,null,null,null,null,null,null,null,null,null,null,null,null,{"$error":"#VALUE!"},"","","","","","","","","","",""]
[null,null,null,null,null,null,null,null,null,null,null,null,null,null,null,null,null,null,null,null,null,null,"","","","","2013-11-25","","","","","","","","","","","",null,null,null,null,null,null,null,null,null,null,null,null,null,null,null,null,null,null,null,null,null,null,null,null,null,null,null,null,null,null,null,null,null,null,null,null,null,null,null,null,"","","","","","","","","","","","",null,null,null,null,null,null,null,null,null,null,null,null,null,null,{"$error":"#VALUE!"},"","","","","","","","","","",""]
[null,null,null,null,null,null,null,null,null,null,null,null,null,null,null,null,null,null,null,null,null,null,"","","","","2013-11-26","","","","","","","","","","","",null,null,null,null,null,null,null,null,null,null,null,null,null,null,null,null,null,null,null,null,null,null,null,null,null,null,null,null,null,null,null,null,null,null,null,null,null,null,null,null,"","","","","","","","","","","","",null,null,null,null,null,null,null,null,null,null,null,null,null,null,{"$error":"#VALUE!"},"","","","","","","","","","",""]
[null,null,null,null,null,null,null,null,null,null,null,null,null,null,null,null,null,null,null,null,null,null,"","","","","2013-11-27","","","","","","","","","","","",null,null,null,null,null,null,null,null,null,null,null,null,null,null,null,null,null,null,null,null,null,null,null,null,null,null,null,null,null,null,null,null,null,null,null,null,null,null,null,null,"",{"$f":"IF($BA1431=\"\",\"\",SUM(BB1431:BB1437)/7)","v":""},"","","","","","","","","","",null,null,null,null,null,null,null,null,null,null,null,null,null,null,{"$f":"IF(AND(WEEKDAY(CA1431,2)=1,CA1431<=MaxDate-6),CA1431,\"\")","v":{"$error":"#VALUE!"}},{"$f":"IF($BA1431=\"\",\"\",SUM(CB1431:CB1437)/7)","v":""},"","","","","","","","","",""]
[null,null,null,null,null,null,null,null,null,null,null,null,null,null,null,null,null,null,null,null,null,null,"","","","","2013-11-28","","","","","","","","","","","",null,null,null,null,null,null,null,null,null,null,null,null,null,null,null,null,null,null,null,null,null,null,null,null,null,null,null,null,null,null,null,null,null,null,null,null,null,null,null,null,"","","","","","","","","","","","",null,null,null,null,null,null,null,null,null,null,null,null,null,null,{"$error":"#VALUE!"},"","","","","","","","","","",""]
[null,null,null,null,null,null,null,null,null,null,null,null,null,null,null,null,null,null,null,null,null,null,"","","","","2013-11-29","","","","","","","","","","","",null,null,null,null,null,null,null,null,null,null,null,null,null,null,null,null,null,null,null,null,null,null,null,null,null,null,null,null,null,null,null,null,null,null,null,null,null,null,null,null,"","","","","","","","","","","","",null,null,null,null,null,null,null,null,null,null,null,null,null,null,{"$error":"#VALUE!"},"","","","","","","","","","",""]
[null,null,null,null,null,null,null,null,null,null,null,null,null,null,null,null,null,null,null,null,null,null,"","","","","2013-11-30","","","","","","","","","","","",null,null,null,null,null,null,null,null,null,null,null,null,null,null,null,null,null,null,null,null,null,null,null,null,null,null,null,null,null,null,null,null,null,null,null,null,null,null,null,null,"","","","","","","","","","","","",null,null,null,null,null,null,null,null,null,null,null,null,null,null,{"$error":"#VALUE!"},"","","","","","","","","","",""]
[null,null,null,null,null,null,null,null,null,null,null,null,null,null,null,null,null,null,null,null,null,null,"","","","","2013-12-01",{"$f":"IF($W1435=\"\",\"\",INDEX($A:$Z,$W1435,AB$3))","v":""},"","","","","","","","","","",null,null,null,null,null,null,null,null,null,null,null,null,null,null,null,null,null,null,null,null,null,null,null,null,null,null,null,null,null,null,null,null,null,null,null,null,null,null,null,null,"","","","","","","","","","","","",null,null,null,null,null,null,null,null,null,null,null,null,null,null,{"$error":"#VALUE!"},"","","","","","","","","","",""]
[null,null,null,null,null,null,null,null,null,null,null,null,null,null,null,null,null,null,null,null,null,null,"","","","","2013-12-02","","","","","","","","","","","",null,null,null,null,null,null,null,null,null,null,null,null,null,null,null,null,null,null,null,null,null,null,null,null,null,null,null,null,null,null,null,null,null,null,null,null,null,null,null,null,"","","","","","","","","","","","",null,null,null,null,null,null,null,null,null,null,null,null,null,null,{"$error":"#VALUE!"},"","","","","","","","","","",""]
[null,null,null,null,null,null,null,null,null,null,null,null,null,null,null,null,null,null,null,null,null,null,"","","","","2013-12-03","","","","","","","","","","","",null,null,null,null,null,null,null,null,null,null,null,null,null,null,null,null,null,null,null,null,null,null,null,null,null,null,null,null,null,null,null,null,null,null,null,null,null,null,null,null,"","","","","","","","","","","","",null,null,null,null,null,null,null,null,null,null,null,null,null,null,{"$error":"#VALUE!"},"","","","","","","","","","",""]
[null,null,null,null,null,null,null,null,null,null,null,null,null,null,null,null,null,null,null,null,null,null,"","","","","2013-12-04","","","","","","","","","","","",null,null,null,null,null,null,null,null,null,null,null,null,null,null,null,null,null,null,null,null,null,null,null,null,null,null,null,null,null,null,null,null,null,null,null,null,null,null,null,null,"","","","","","","","","","","","",null,null,null,null,null,null,null,null,null,null,null,null,null,null,{"$error":"#VALUE!"},"","","","","","","","","","",""]
[null,null,null,null,null,null,null,null,null,null,null,null,null,null,null,null,null,null,null,null,null,null,"","","","","2013-12-05","","","","","","","","","","","",null,null,null,null,null,null,null,null,null,null,null,null,null,null,null,null,null,null,null,null,null,null,null,null,null,null,null,null,null,null,null,null,null,null,null,null,null,null,null,null,"","","","","","","","","","","","",null,null,null,null,null,null,null,null,null,null,null,null,null,null,{"$error":"#VALUE!"},"","","","","","","","","","",""]
[null,null,null,null,null,null,null,null,null,null,null,null,null,null,null,null,null,null,null,null,null,null,"","","","","2013-12-06","","","","","","","","","","","",null,null,null,null,null,null,null,null,null,null,null,null,null,null,null,null,null,null,null,null,null,null,null,null,null,null,null,null,null,null,null,null,null,null,null,null,null,null,null,null,"","","","","","","","","","","","",null,null,null,null,null,null,null,null,null,null,null,null,null,null,{"$error":"#VALUE!"},"","","","","","","","","","",""]
[null,null,null,null,null,null,null,null,null,null,null,null,null,null,null,null,null,null,null,null,null,null,"","","","","2013-12-07","","","","","","","","","","","",null,null,null,null,null,null,null,null,null,null,null,null,null,null,null,null,null,null,null,null,null,null,null,null,null,null,null,null,null,null,null,null,null,null,null,null,null,null,null,null,"","","","","","","","","","","","",null,null,null,null,null,null,null,null,null,null,null,null,null,null,{"$error":"#VALUE!"},"","","","","","","","","","",""]
[null,null,null,null,null,null,null,null,null,null,null,null,null,null,null,null,null,null,null,null,null,null,"","","","","2013-12-08","","","","","","","","","","","",null,null,null,null,null,null,null,null,null,null,null,null,null,null,null,null,null,null,null,null,null,null,null,null,null,null,null,null,null,null,null,null,null,null,null,null,null,null,null,null,"","","","","","","","","","","","",null,null,null,null,null,null,null,null,null,null,null,null,null,null,{"$error":"#VALUE!"},"","","","","","","","","","",""]
[null,null,null,null,null,null,null,null,null,null,null,null,null,null,null,null,null,null,null,null,null,null,"","","","","2013-12-09","","","","","","","","","","","",null,null,null,null,null,null,null,null,null,null,null,null,null,null,null,null,null,null,null,null,null,null,null,null,null,null,null,null,null,null,null,null,null,null,null,null,null,null,null,null,"","","","","","","","","","","","",null,null,null,null,null,null,null,null,null,null,null,null,null,null,{"$error":"#VALUE!"},"","","","","","","","","","",""]
[null,null,null,null,null,null,null,null,null,null,null,null,null,null,null,null,null,null,null,null,null,null,"","","","","2013-12-10","","","","","","","","","","","",null,null,null,null,null,null,null,null,null,null,null,null,null,null,null,null,null,null,null,null,null,null,null,null,null,null,null,null,null,null,null,null,null,null,null,null,null,null,null,null,"","","","","","","","","","","","",null,null,null,null,null,null,null,null,null,null,null,null,null,null,{"$error":"#VALUE!"},"","","","","","","","","","",""]
[null,null,null,null,null,null,null,null,null,null,null,null,null,null,null,null,null,null,null,null,null,null,"","","","","2013-12-11",{"$f":"IF($W1445=\"\",\"\",INDEX($A:$Z,$W1445,AB$3))","v":""},"","","","","","","","","","",null,null,null,null,null,null,null,null,null,null,null,null,null,null,null,null,null,null,null,null,null,null,null,null,null,null,null,null,null,null,null,null,null,null,null,null,null,null,null,null,"","","","","","","","","","","","",null,null,null,null,null,null,null,null,null,null,null,null,null,null,{"$error":"#VALUE!"},"","","","","","","","","","",""]
[null,null,null,null,null,null,null,null,null,null,null,null,null,null,null,null,null,null,null,null,null,null,"","","","","2013-12-12","","","","","","","","","","","",null,null,null,null,null,null,null,null,null,null,null,null,null,null,null,null,null,null,null,null,null,null,null,null,null,null,null,null,null,null,null,null,null,null,null,null,null,null,null,null,"","","","","","","","","","","","",null,null,null,null,null,null,null,null,null,null,null,null,null,null,{"$error":"#VALUE!"},"","","","","","","","","","",""]
[null,null,null,null,null,null,null,null,null,null,null,null,null,null,null,null,null,null,null,null,null,null,"","","","","2013-12-13","","","","","","","","","","","",null,null,null,null,null,null,null,null,null,null,null,null,null,null,null,null,null,null,null,null,null,null,null,null,null,null,null,null,null,null,null,null,null,null,null,null,null,null,null,null,"",{"$f":"IF($BA1447=\"\",\"\",SUM(BB1447:BB1453)/7)","v":""},"","","","","","","","","","",null,null,null,null,null,null,null,null,null,null,null,null,null,null,{"$error":"#VALUE!"},{"$f":"IF($BA1447=\"\",\"\",SUM(CB1447:CB1453)/7)","v":""},"","","","","","","","","",""]
[null,null,null,null,null,null,null,null,null,null,null,null,null,null,null,null,null,null,null,null,null,null,"","","","","2013-12-14","","","","","","","","","","","",null,null,null,null,null,null,null,null,null,null,null,null,null,null,null,null,null,null,null,null,null,null,null,null,null,null,null,null,null,null,null,null,null,null,null,null,null,null,null,null,"","","","","","","","","","","","",null,null,null,null,null,null,null,null,null,null,null,null,null,null,{"$error":"#VALUE!"},"","","","","","","","","","",""]
[null,null,null,null,null,null,null,null,null,null,null,null,null,null,null,null,null,null,null,null,null,null,"","","","","2013-12-15","","","","","","","","","","","",null,null,null,null,null,null,null,null,null,null,null,null,null,null,null,null,null,null,null,null,null,null,null,null,null,null,null,null,null,null,null,null,null,null,null,null,null,null,null,null,"","","","","","","","","","","","",null,null,null,null,null,null,null,null,null,null,null,null,null,null,{"$error":"#VALUE!"},"","","","","","","","","","",""]
[null,null,null,null,null,null,null,null,null,null,null,null,null,null,null,null,null,null,null,null,null,null,"","","","","2013-12-16","","","","","","","","","","","",null,null,null,null,null,null,null,null,null,null,null,null,null,null,null,null,null,null,null,null,null,null,null,null,null,null,null,null,null,null,null,null,null,null,null,null,null,null,null,null,"","","","","","","","","","","","",null,null,null,null,null,null,null,null,null,null,null,null,null,null,{"$error":"#VALUE!"},"","","","","","","","","","",""]
[null,null,null,null,null,null,null,null,null,null,null,null,null,null,null,null,null,null,null,null,null,null,"","","","","2013-12-17","","","","","","","","","","","",null,null,null,null,null,null,null,null,null,null,null,null,null,null,null,null,null,null,null,null,null,null,null,null,null,null,null,null,null,null,null,null,null,null,null,null,null,null,null,null,"","","","","","","","","","","","",null,null,null,null,null,null,null,null,null,null,null,null,null,null,{"$error":"#VALUE!"},"","","","","","","","","","",""]
[null,null,null,null,null,null,null,null,null,null,null,null,null,null,null,null,null,null,null,null,null,null,"","","","","2013-12-18","","","","","","","","","","","",null,null,null,null,null,null,null,null,null,null,null,null,null,null,null,null,null,null,null,null,null,null,null,null,null,null,null,null,null,null,null,null,null,null,null,null,null,null,null,null,"","","","","","","","","","","","",null,null,null,null,null,null,null,null,null,null,null,null,null,null,{"$error":"#VALUE!"},"","","","","","","","","","",""]
[null,null,null,null,null,null,null,null,null,null,null,null,null,null,null,null,null,null,null,null,null,null,"","","","","2013-12-19","","","","","","","","","","","",null,null,null,null,null,null,null,null,null,null,null,null,null,null,null,null,null,null,null,null,null,null,null,null,null,null,null,null,null,null,null,null,null,null,null,null,null,null,null,null,"","","","","","","","","","","","",null,null,null,null,null,null,null,null,null,null,null,null,null,null,{"$error":"#VALUE!"},"","","","","","","","","","",""]
[null,null,null,null,null,null,null,null,null,null,null,null,null,null,null,null,null,null,null,null,null,null,"","","","","2013-12-20","","","","","","","","","","","",null,null,null,null,null,null,null,null,null,null,null,null,null,null,null,null,null,null,null,null,null,null,null,null,null,null,null,null,null,null,null,null,null,null,null,null,null,null,null,null,"","","","","","","","","","","","",null,null,null,null,null,null,null,null,null,null,null,null,null,null,{"$error":"#VALUE!"},"","","","","","","","","","",""]
[null,null,null,null,null,null,null,null,null,null,null,null,null,null,null,null,null,null,null,null,null,null,"","","","","2013-12-21",{"$f":"IF($W1455=\"\",\"\",INDEX($A:$Z,$W1455,AB$3))","v":""},"","","","","","","","","","",null,null,null,null,null,null,null,null,null,null,null,null,null,null,null,null,null,null,null,null,null,null,null,null,null,null,null,null,null,null,null,null,null,null,null,null,null,null,null,null,"","","","","","","","","","","","",null,null,null,null,null,null,null,null,null,null,null,null,null,null,{"$error":"#VALUE!"},"","","","","","","","","","",""]
[null,null,null,null,null,null,null,null,null,null,null,null,null,null,null,null,null,null,null,null,null,null,"","","","","2013-12-22","","","","","","","","","","","",null,null,null,null,null,null,null,null,null,null,null,null,null,null,null,null,null,null,null,null,null,null,null,null,null,null,null,null,null,null,null,null,null,null,null,null,null,null,null,null,{"$f":"IF(AND(WEEKDAY(BA1456,2)=1,BA1456<=MaxDate-6),BA1456,\"\")","v":""},"","","","","","","","","","","",null,null,null,null,null,null,null,null,null,null,null,null,null,null,{"$error":"#VALUE!"},"","","","","","","","","","",""]
[null,null,null,null,null,null,null,null,null,null,null,null,null,null,null,null,null,null,null,null,null,null,"","","","","2013-12-23","","","","","","","","","","","",null,null,null,null,null,null,null,null,null,null,null,null,null,null,null,null,null,null,null,null,null,null,null,null,null,null,null,null,null,null,null,null,null,null,null,null,null,null,null,null,"","","","","","","","","","","","",null,null,null,null,null,null,null,null,null,null,null,null,null,null,{"$error":"#VALUE!"},"","","","","","","","","","",""]
[null,null,null,null,null,null,null,null,null,null,null,null,null,null,null,null,null,null,null,null,null,null,"","","","","2013-12-24","","","","","","","","","","","",null,null,null,null,null,null,null,null,null,null,null,null,null,null,null,null,null,null,null,null,null,null,null,null,null,null,null,null,null,null,null,null,null,null,null,null,null,null,null,null,"","","","","","","","","","","","",null,null,null,null,null,null,null,null,null,null,null,null,null,null,{"$error":"#VALUE!"},"","","","","","","","","","",""]
[null,null,null,null,null,null,null,null,null,null,null,null,null,null,null,null,null,null,null,null,null,null,"","","","","2013-12-25","","","","","","","","","","","",null,null,null,null,null,null,null,null,null,null,null,null,null,null,null,null,null,null,null,null,null,null,null,null,null,null,null,null,null,null,null,null,null,null,null,null,null,null,null,null,"","","","","","","","","","","","",null,null,null,null,null,null,null,null,null,null,null,null,null,null,{"$error":"#VALUE!"},"","","","","","","","","","",""]
[null,null,null,null,null,null,null,null,null,null,null,null,null,null,null,null,null,null,null,null,null,null,"","","","","2013-12-26","","","","","","","","","","","",null,null,null,null,null,null,null,null,null,null,null,null,null,null,null,null,null,null,null,null,null,null,null,null,null,null,null,null,null,null,null,null,null,null,null,null,null,null,null,null,"",{"$f":"IF($BA1460=\"\",\"\",SUM(BB1460:BB1465)/7)","v":""},"","","","","","","","","","",null,null,null,null,null,null,null,null,null,null,null,null,null,null,{"$error":"#VALUE!"},{"$f":"IF($BA1460=\"\",\"\",SUM(CB1460:CB1465)/7)","v":""},"","","","","","","","","",""]
[null,null,null,null,null,null,null,null,null,null,null,null,null,null,null,null,null,null,null,null,null,null,"","","","","2013-12-27","","","","","","","","","","","",null,null,null,null,null,null,null,null,null,null,null,null,null,null,null,null,null,null,null,null,null,null,null,null,null,null,null,null,null,null,null,null,null,null,null,null,null,null,null,null,"",{"$f":"IF($BA1461=\"\",\"\",SUM(BB1461:BB1465)/7)","v":""},"","","","","","","","","","",null,null,null,null,null,null,null,null,null,null,null,null,null,null,{"$error":"#VALUE!"},{"$f":"IF($BA1461=\"\",\"\",SUM(CB1461:CB1465)/7)","v":""},"","","","","","","","","",""]
[null,null,null,null,null,null,null,null,null,null,null,null,null,null,null,null,null,null,null,null,null,null,"","","","","2013-12-28","","","","","","","","","","","",null,null,null,null,null,null,null,null,null,null,null,null,null,null,null,null,null,null,null,null,null,null,null,null,null,null,null,null,null,null,null,null,null,null,null,null,null,null,null,null,"",{"$f":"IF($BA1462=\"\",\"\",SUM(BB1462:BB1465)/7)","v":""},"","","","","","","","","","",null,null,null,null,null,null,null,null,null,null,null,null,null,null,{"$error":"#VALUE!"},{"$f":"IF($BA1462=\"\",\"\",SUM(CB1462:CB1465)/7)","v":""},"","","","","","","","","",""]
[null,null,null,null,null,null,null,null,null,null,null,null,null,null,null,null,null,null,null,null,null,null,"","","","","2013-12-29","","","","","","","","","","","",null,null,null,null,null,null,null,null,null,null,null,null,null,null,null,null,null,null,null,null,null,null,null,null,null,null,null,null,null,null,null,null,null,null,null,null,null,null,null,null,"",{"$f":"IF($BA1463=\"\",\"\",SUM(BB1463:BB1465)/7)","v":""},"","","","","","","","","","",null,null,null,null,null,null,null,null,null,null,null,null,null,null,{"$error":"#VALUE!"},{"$f":"IF($BA1463=\"\",\"\",SUM(CB1463:CB1465)/7)","v":""},"","","","","","","","","",""]
[null,null,null,null,null,null,null,null,null,null,null,null,null,null,null,null,null,null,null,null,null,null,"","","","","2013-12-30","","","","","","","","","","","",null,null,null,null,null,null,null,null,null,null,null,null,null,null,null,null,null,null,null,null,null,null,null,null,null,null,null,null,null,null,null,null,null,null,null,null,null,null,null,null,"",{"$f":"IF($BA1464=\"\",\"\",SUM(BB1464:BB1465)/7)","v":""},"","","","","","","","","","",null,null,null,null,null,null,null,null,null,null,null,null,null,null,{"$error":"#VALUE!"},{"$f":"IF($BA1464=\"\",\"\",SUM(CB1464:CB1465)/7)","v":""},"","","","","","","","","",""]
[null,null,null,null,null,null,null,null,null,null,null,null,null,null,null,null,null,null,null,null,null,null,"","","","","2013-12-31","","","","","","","","","","","",null,null,null,null,null,null,null,null,null,null,null,null,null,null,null,null,null,null,null,null,null,null,null,null,null,null,null,null,null,null,null,null,null,null,null,null,null,null,null,null,"",{"$f":"IF($BA1465=\"\",\"\",SUM(BB1465:BB1465)/7)","v":""},"","","","","","","","","","",null,null,null,null,null,null,null,null,null,null,null,null,null,null,{"$error":"#VALUE!"},{"$f":"IF($BA1465=\"\",\"\",SUM(CB1465:CB1465)/7)","v":""},"","","","","","","","","",""]

{"sheet":"COVER","index":1,"n_rows":44,"n_cols":44,"rows_kept":44,"cut":false,"hidden":false,"merged":[[38,5,38,6],[38,7,38,8],[35,5,35,6],[35,7,35,8],[36,5,36,6],[36,7,36,8],[37,5,37,6],[37,7,37,8]]}
["EUROPEAN COMMISSION",null,null,null,null,null,null,null,null,null,null,null,null,null,null,null,null,null,null,null,null,null,null,null,null,null,null,null,null,null,null,null,null,null,null,null,null,null,null,null,null,null,null,"Week"]
["Directorate-General for Agriculture and Rural Development"]
["C3. Animal Products"]
["Weekly price report on"]
["Pig carcass (Class S, E and R) and Piglet prices"]
["in the EU"]
[]
[]
[]
[]
[]
[]
[]
[]
[]
[]
[]
[]
["Period:"]
[null,"2012 - 2014"]
["Week :"]
[null,2014,{"$f":"H36","v":19}]
[]
[null,null,null,null,null,null,null,null,null,null,null,null,null,null,null,null,null,null,null,null,null,null,null,null,null,null,null,null,null,"²"]
[]
[]
[]
[]
[]
[]
[]
[]
[]
[]
[]
[null,null,null,null,null,"Week 2014",null,{"$f":"WEEKNUM(NOW()-3)-1","v":19},null,"Varition\n1 week","Varition\n1 year"," Variation \navg 2009 - 13"]
[null,null,null,null,null,"Carcass Class S",null,{"$f":"[1]COVER!$G$39","v":166.67566885053193},null,{"$f":"[1]COVER!$I$39","v":-5.223598039239441E-3}]
[null,null,null,null,null,"Carcass Class E",null,{"$f":"[1]COVER!$G$40","v":165.2204053036084},null,{"$f":"[1]COVER!$I$40","v":2.1869591152472445E-3}]
[null,null,null,null,null,"Piglet",null,{"$f":"[1]COVER!$G$41","v":52.551566189457176},null,{"$f":"[1]COVER!$I$41","v":-7.7905619511077218E-3},{"$f":"[1]COVER!$J$41","v":9.8011318713977724E-2},{"$f":"[1]COVER!$K$41","v":0.13385499546763202}]
[]
[]
[]
[null,null,null,null,null,"Find more monthly, annual and further information on pig on the following Circa site:"]
[null,null,null,null,null,"https://circabc.europa.eu/faces/jsp/extension/wai/navigation/container.jsp"]

{"sheet":"Weekly Pig prices","index":2,"n_rows":505,"n_cols":45,"rows_kept":505,"cut":false,"hidden":false,"merged":[[7,38,8,41],[66,1,66,41],[8,3,8,8],[14,1,14,41],[7,1,7,2],[10,1,10,2],[11,1,11,2],[12,1,12,2],[9,1,9,2],[3,18,4,25],[5,18,5,25],[505,3,505,5],[505,6,505,8],[505,0,505,2]]}
[null,"EUROPEAN COMMISSION",null,null,null,null,null,null,null,null,null,null,null,null,null,null,null,null,null,null,null,null,null,null,null,null,null,null,null,null,null,null,null,null,null,null,null,null,null,null,null,null,null,"Week",52]
[null,"Directorate-General for Agriculture and Rural Development",null,null,null,null,null,null,null,null,null,null,null,null,null,null,null,null,null,null,null,null,null,null,null,null,null,null,null,null,null,null,null,null,null,null,null,null,null,null,null,"du / from :"]
[null,"C3. Animal Products"]
[null,null,null,null,null,null,null,null,null,null,null,null,null,null,null,null,null,null,"PIG PRICE"]
[]
[null,null,null,null,null,null,null,null,null,null,null,null,null,null,null,null,null,null,"DG-Agri-C3,  Meat sector"]
[null,null,null,null,null,null,null,null,null,null,null," "]
[null,"PIG",null,null,null,null,null,null,null,null,null,null,null,null,null,null,null,null,null,null,null,null,null,null,null,null,null,null,null,null,null,null,null,null,null,null,null,null,"€ur per 100 kg carcass"]
[null,null,null,"Country Code/Currency"]
[null,2013,null,"BE","BG","BG","CZ","CZ","DK","DK","DE","EE","GR","ES","FR","HR","HR","IE","IT","CY","LV","LV","LT","LT","LU","HU","HU","MT","NL","AT","PL","PL","PT","RO","RO","SI","SK","FI","SE","SE","UK","UK",null,"EU_28"]
[null,"Weightings from 04/07/2011 until 01/07/2012",null,4.0999999999999996,0.4,null,1.2,null,8.1,null,17.7,0.3,0.7,17,9.6,null,null,1,6.1,0.3,0.3,null,0.6,null,0.06,2.1,null,0.04,8,2.1,9.6999999999999993,null,1.4,3.6,null,0.3,0.5,0.9,1,null,2.9,null,null,100]
[null,"Weightings from 02/07/2012 until 30/06/2013",null,4.3,0.4,null,1,null,8.3000000000000007,null,18.600000000000001,0.2,0.7,17.3,9.4,null,null,1,6.3,0.3,0.3,null,0.5,null,7.0000000000000007E-2,2,null,0.03,8.1,2,8.8000000000000007,null,1.3,3.6,null,0.2,0.4,0.9,1.1000000000000001,null,2.9,null,null,100]
[null,"Weightings from 01/07/2013\nuntil --/--/----",null,4.4000000000000004,0.4,null,1,null,8.3000000000000007,null,19.3,0.2,0.8,17.2,9.4,0.8,null,1,5.9,0.3,0.2,null,0.5,null,7.0000000000000007E-2,2,null,0.03,8.1999999999999993,2,7.6,null,1.4,3.6,null,0.2,0.4,0.9,1,null,2.9,null,null,100.00000000000001]
[null,"Week beginning","Week N°","EUR","EUR","BGN","EUR","CZK","EUR","DKK","EUR","EUR","EUR","EUR","EUR","EUR","HRK","EUR","EUR","EUR","EUR","LVL","EUR","LTL","EUR","EUR","HUF","EUR","EUR","EUR","EUR","PLN","EUR","EUR","RON","EUR","EUR","EUR","EUR","SEK","EUR","GBP",null,"EURO","Compare to previous week"]
[null,"2012"]
["201201","2012-01-02",1,145.5,175.59570000000002,343.43,168.09440000000001,4331,144.57859999999999,1075,154.02000000000001,162.92000000000002,200.01,147.47,144,"","",145.84,183.95000000000002,171,176.71030000000002,123.47,162.7722,562.02,165,158.184,50216.65,189,143.14000000000001,152.19,156.43600000000001,701.62,151,164.07760000000002,710.85,151.4,167.31,153.59,154.8802,1376,170.64950000000002,141.79,null,153.64870339999999]
["201202","2012-01-09",2,138.70000000000002,176.51600000000002,345.23,165.3853,4247,139.8596,1040,148.92000000000002,164.05,193.51,146.26,143,"","",145.76,175.41,169,171.29040000000001,119.71000000000001,159.19830000000002,549.68000000000006,165,157.8886,49289.66,189,134.64000000000001,145.21,151.589,674.66,150,161.1968,701.19,146.45000000000002,165.31,154.15,152.268,1347,170.45570000000001,141.27000000000001,null,149.6746799,{"$error":"#DIV/0!"}]
["201203","2012-01-16",3,138.80000000000001,176.51600000000002,345.23,161.87030000000001,4127,137.44320000000002,1022,153,163.95000000000002,189.06,144.08000000000001,139,"","",145.70000000000002,171.68,169,167.33690000000001,117.10000000000001,154.93800000000002,534.97,165,155.85429999999999,47825.24,189,134.82,146.02000000000001,151.12270000000001,658.04,147,161.95959999999999,702.62,149.38,165.24,152.66,152.5916,1346,167.02670000000001,139.07,null,148.9391736,-3.0651282411017E-2]
["201204","2012-01-23",4,145.70000000000002,176.51600000000002,345.23,161.76680000000002,4093,137.45959999999999,1022,159.12,164.37,185.71,144.33000000000001,140,"","",146.04,168.19,165,166.7723,116.5,157.62569999999999,544.25,160.30000000000001,160.57560000000001,47943.98,189,143.35,154.43,157.3954,672.04,146,160.15380000000002,695.77,153.1,165.03,152.35,152.8409,1351,166.12810000000002,138.80000000000001,null,151.68318639999995,1.3419146787832625E-2]
["201205","2012-01-30",5,150.20000000000002,176.89950000000002,345.98,162.7038,4092,137.48170000000002,1022,162.18,161.56,184.23,147.6,146,"","",145.92000000000002,168.84,159,169.51420000000002,118.58,160.28149999999999,553.41999999999996,164.20000000000002,163.81130000000002,48040.23,189,149.20000000000002,158.65,164.4802,692.84,149,159.7379,694.18000000000006,158.38,166.24,155.59,152.8768,1357,164.09360000000001,136.69,null,154.91516640000006,4.012371396694836E-2]
["201206","2012-02-06",6,150.70000000000002,176.93530000000001,346.05,163.45080000000002,4094,140.1875,1042,161.16,157.97999999999999,183.3,151.92000000000002,151,"","",145.96,169.69,162,170.77710000000002,119.4,163.71640000000002,565.28,164.4,165.5317,48339.51,189,145.4,159.43,166.941,700.21,153,158.98410000000001,691.69,156.72,165.18,156.05000000000001,154.25,1360,163.2218,136.05000000000001,null,156.2647005,3.0204495361260797E-2]
["201207","2012-02-13",7,150.70000000000002,176.93530000000001,346.05,163.18880000000001,4099,143.01170000000002,1063,162.18,157.67000000000002,180.51,156.77000000000001,156,"","",145.95000000000002,172.81,162,174.2165,121.74000000000001,166.1405,573.65,164.8,165.44310000000002,48201.14,189,145.42000000000002,159.72,166.6241,699.6,157,158.27620000000002,688.73,158.22999999999999,164.96,155.80000000000001,154.97900000000001,1365,162.6909,135.69,null,158.1688991,2.1003319272166143E-2]
["201208","2012-02-20",8,151.30000000000001,177.29320000000001,346.75,164.1952,4108,142.96090000000001,1063,163.20000000000002,159.61000000000001,174.94,161.71,161,"","",146.17000000000002,175.34,160,174.37710000000001,121.78,165.98990000000001,573.13,162.80000000000001,166.3877,48045.88,189,148.52000000000001,159.06,166.45150000000001,695.13,161,158.92019999999999,692.12,156.83000000000001,166.99,156.07,154.0087,1358,160.17830000000001,134.79,null,160.06120090000002,2.4295316778852438E-2]
["201209","2012-02-27",9,153.4,177.80450000000002,347.75,165.1489,4109,142.9667,1063,163.20000000000002,159.27000000000001,172.16,167.43,167,"","",147.94,175.46,161,174.80670000000001,122.11,166.40990000000002,574.58000000000004,163.70000000000002,166.31280000000001,48117.63,189,148.64000000000001,162.18,166.5532,688.4,161,159.74020000000002,694.92,162.25,168.53,157.64000000000001,154.9161,1367,161.58190000000002,135.85,null,161.9223495,2.3730647563190876E-2]
["201210","2012-03-05",10,153.6,178.91400000000002,349.92,168.10910000000001,4165,142.9796,1063,163.20000000000002,165.38,170.3,168.56,164,"","",147.97999999999999,175.49,161,175.85640000000001,122.69,164.88070000000002,569.30000000000007,163.6,164.61969999999999,48138.79,189,148.5,162.14000000000001,164.00730000000001,676.16,167,160.21610000000001,697.62,158.12,169.73,155.55000000000001,153.98269999999999,1368,163.5591,136.58000000000001,null,161.70649849999998,1.0279178156534563E-2]
["201211","2012-03-12",11,152.5,179.0316,350.15000000000003,171.03530000000001,4204,142.97050000000002,1063,163.20000000000002,166.07,169,166.28,159,"","",147.95000000000002,175.49,166,176.01180000000002,122.64,166.8038,575.94000000000005,164,163.54400000000001,47767.69,189,148.55000000000001,162.22,163.8167,676.02,167,160.7013,702.09,161.37,171.26,157.79,154.42189999999999,1373,165.6318,138.06,null,160.9326906,-6.1119351532136212E-3]
["201212","2012-03-19",12,151.6,179.5531,351.17,172.11280000000002,4237,142.96200000000002,1063,165.24,165.06,166.21,168.69,155,"","",147.96,175.58,174,174.40090000000001,121.53,166.74870000000001,575.75,165.70000000000002,162.81130000000002,47528.1,188,146.58000000000001,162.02000000000001,164.91380000000001,684.06000000000006,167,161.04140000000001,704.74,160.52000000000001,170.19,156.5,153.95099999999999,1371,166.30250000000001,138.53,null,161.2360917,-2.9090160529323672E-3]
["201213","2012-03-26",13,153.5,178.92930000000001,349.95,172.32740000000001,4254,144.41060000000002,1074,169.32,165.1,164.91,168.71,150,"","",148.09,175.70000000000002,181,167.6087,117.18,166.40990000000002,574.58000000000004,165.3,163.54470000000001,48030.03,188,150.46,166.29,167.5598,695.73,167,162.13679999999999,709.39,164.45000000000002,171.45000000000002,159.29,155.4024,1380,166.86320000000001,139.45000000000002,null,162.46050099999999,9.4934745346262339E-3]
["201214","2012-04-02",14,158.6,179.5224,351.11,176.30520000000001,4353,147.178,1095,170.34,163.87,164.36,168.43,150,"","",151.94,175.20000000000002,181,172.6789,120.89,169.3263,584.65,171.4,164.86850000000001,48688.01,188,153.78,168.09,165.21360000000001,686.80000000000007,167,163.15710000000001,714.05000000000007,166.31,171.65,157.61000000000001,156.55590000000001,1380,169.9358,140.77000000000001,null,163.34608499999996,1.3086358505426166E-2]
["201215","2012-04-09",15,156.6,179.46110000000002,350.99,176.364,4367,147.19890000000001,1095,171.36,164.13,164.36,168.17000000000002,150,"","",151,172.85,181,173.63390000000001,121.38,168.10130000000001,580.41999999999996,171.4,164.14940000000001,48700.770000000004,188,154.81,168.1,166.42520000000002,695.36,167,162.48990000000001,710.71,166.03,173.84,157.28,155.2499,1377,171.5231,141.52000000000001,null,163.44724989999997,6.0737772807926138E-3]
["201216","2012-04-16",16,157.20000000000002,179.46110000000002,350.99,175.77110000000002,4365,147.19890000000001,1095,171.36,164.33,162.87,168.42000000000002,150,"","",151.76,170.96,181,169.01340000000002,118.08,168.64570000000001,582.30000000000007,172.1,165.51050000000001,49195.17,188,154.63,168.13,168.7424,706.71,167,163.5505,715.62,164.82,173.06,158.66,156.40890000000002,1386,173.79820000000001,142.63,null,163.73976099999999,2.4100730666427594E-3]
["201217","2012-04-23",17,155.5,179.11340000000001,350.31,175.38060000000002,4366,147.19210000000001,1095,171.36,163.77000000000001,167.14000000000001,168.47,149,"","",151.68,170.93,181,174.92850000000001,122.32000000000001,166.0189,573.23,170.9,169.0205,49336.83,188,154.4,167.77,168.13740000000001,704.02,167,163.53540000000001,716.57,160.47,172.52,160.45000000000002,155.95340000000002,1385,175.1362,143.04,null,163.6259063,1.0930523463033026E-3]
["201218","2012-04-30",18,154.80000000000001,178.8271,349.75,174.79340000000002,4357,150.97560000000001,1123,168.3,165.16,164.36,168.32,147,"","",152.06,164.49,181,174.62100000000001,122.10000000000001,167.8261,579.47,170.70000000000002,170.78630000000001,48726.05,188,154.82,167.65,167.6293,699.79,167,165.27460000000002,728.37,164.09,173.28,156.08000000000001,156.8356,1396,177.58420000000001,144.31,null,162.87846019999995,-5.2601811236309137E-3]
["201219","2012-05-07",19,152.30000000000001,178.8271,349.75,173.43770000000001,4363,151.03830000000002,1123,166.26,165.4,174.57,168.29,145,"","",152.12,162.68,181,174.04430000000002,121.56,166.80950000000001,575.96,167.3,167.13560000000001,48149.38,188,148.72999999999999,163.32,165.12909999999999,695.96,167,165.92090000000002,733.15,159.43,169.5,161.85,157.4075,1406,179.6737,144.72,null,161.37041799999997,-1.3784420517523044E-2]
["201220","2012-05-14",20,151.70000000000002,178.8066,349.71,170.941,4342,151.0804,1123,168.3,165.42000000000002,172.71,169.06,145,"","",155.80000000000001,160.71,186,172.34030000000001,120.2,163.45860000000002,564.39,169.8,164.27710000000002,48358.26,188,150.31,163.17000000000002,161.685,698.44,170,166.9008,741.34,159.18,171.66,161.65,154.8655,1404,181.4785,145.49,null,161.54770769999999,-8.1702178321548802E-3]
["201221","2012-05-21",21,155.1,178.8015,349.7,171.3903,4348,151.11060000000001,1123,171.36,165.73,175.5,171.71,147,"","",155.75,160.05000000000001,187,175.77379999999999,122.66,166.21870000000001,573.91999999999996,171.3,165.3235,49481.56,188,154.91,166.28,165.98250000000002,721.31000000000006,172,167.84450000000001,748.27,160.47,170.21,163.46,155.96030000000002,1411,181.19740000000002,145.64000000000001,null,163.83932740000003,1.5299640606991849E-2]
["201222","2012-05-28",22,157.20000000000002,179.0214,350.13,171.59220000000002,4392,154.35490000000001,1147,171.36,165.71,179.77,175.21,152,"","",155.93,161.11000000000001,192,169.9683,118.65,169.45090000000002,585.08000000000004,171.70000000000002,166.07859999999999,50052.54,188,154.91,165.84,169.93790000000001,744.26,175,169.9693,759.68000000000006,160.92000000000002,171.99,163.46,158.1454,1421,181.8081,145.64000000000001,null,165.93861979999997,2.7180281060713352E-2]
["201223","2012-06-04",23,157.20000000000002,179.0214,350.13,172.36950000000002,4410,156.7603,1165,172.38,165.77,180.70000000000002,178.36,157,"","",155.82,160.87,198,177.77190000000002,123.94,170.5427,588.85,171.70000000000002,168.1619,50437.53,188,154.91,166.01,173.5513,753.83,177,172.3758,770.02,161.1,174.03,163.42000000000002,159.33920000000001,1432,180.64840000000001,145.92000000000002,null,167.87887619999998,2.4655550435322082E-2]
["201224","2012-06-11",24,158.5,179.06740000000002,350.22,174.23680000000002,4452,156.75820000000002,1165,169.32,166.27,181.26,179.29,158,"","",155.92000000000002,165.79,198,180.00040000000001,125.45,168.17080000000001,580.66,175.3,171.649,50925.31,188,155.20000000000002,168.02,177.73570000000001,765.67000000000007,180,174.26609999999999,777.61,163.45000000000002,173.49,165.49,160.2037,1420,180.43049999999999,145.86000000000001,null,168.64811440000003,1.6328294180496972E-2]
["201225","2012-06-18",25,153.6,179.08270000000002,350.25,173.45170000000002,4442,158.88300000000001,1181,166.26,166.09,184.23,179.27,159,"","",155.83000000000001,171.88,200,182.27180000000001,127.02,175.5966,606.30000000000007,166.70000000000002,172.6241,49961.120000000003,187,148.77000000000001,162.22999999999999,174.31200000000001,743.01,180,176.93520000000001,790.4,160.41,175.92000000000002,166.76,161.9812,1430,181.68290000000002,146.5,null,167.82062259999995,-3.4699779578362122E-4]
["201226","2012-06-25",26,153.6,179.05719999999999,350.2,171.31990000000002,4419,158.87480000000002,1181,166.26,166.24,188.04,179.18,160,"","",155.94,174.39000000000001,210,174.50470000000001,121.56,175.19980000000001,604.93000000000006,167.9,169.8861,48835.950000000004,187,150.42000000000002,162.51,172.86330000000001,735.79,180,177.71370000000002,791.91,158.20000000000002,175.26,164.66,163.2732,1437,182.54320000000001,146.53,null,168.03826549999997,-3.6161026891390335E-3]
["201227","2012-07-02",27,154.4,179.14920000000001,350.38,171.02540000000002,4375,158.80430000000001,1181,165.24,168.03,188.04,179.12,163,"","",156.06,179.27,210,177.91840000000002,123.91,172.376,595.18000000000006,165.8,173.7063,49796.89,187,150.71,162.70000000000002,175.88150000000002,741.71,180,177.06560000000002,794,160.08000000000001,174.73,166.33,164.7998,1433,183.0428,146.65,null,168.88035970000001,6.3147012779587453E-3]
["201228","2012-07-09",28,152.1,179.14920000000001,350.38,171.3723,4365,158.7722,1181,163.20000000000002,168.27,189.06,179.24,160,"","",156.07,183.05,210,176.9212,123.17,173.01320000000001,597.38,162.80000000000001,171.95570000000001,49635.75,187,145.79,162.22999999999999,174.77770000000001,735.21,180,174.6746,793.08,159.75,173.62,166.43,180.9324,1554,185.804,146.89000000000001,null,167.99889759999999,-2.3427937608633265E-4]
["201229","2012-07-16",29,152.4,179.15940000000001,350.40000000000003,170.16730000000001,4324,158.74690000000001,1181,163.20000000000002,167.91,189.06,178.81,162,"","",156.04,189.43,210,176.09900000000002,122.58,172.01690000000002,593.94000000000005,166.20000000000002,171.79420000000002,49226.400000000001,187,146.17000000000002,162.52000000000001,173.68700000000001,725.25,180,173.51680000000002,794.04,160.16,173.73,163.72999999999999,182.31950000000001,1555,187.70100000000002,146.99,null,168.4270085,-2.6844518853782473E-3]
["201230","2012-07-23",30,152.4,179.2003,350.48,169.80710000000002,4327,158.75730000000001,1181,167.28,168.57,189.06,179.01,163,"","",156.09,193.12,210,175.33030000000002,122.09,170.85550000000001,589.93000000000006,166.5,172.90860000000001,49450.87,188,147.9,162.77000000000001,173.61600000000001,723.53,180,171.5224,791.86,159.57,173.66,165.52,183.63339999999999,1554,187.8981,146.79,null,169.6159395,9.6253125651462046E-3]
["201231","2012-07-30",31,162.5,179.2157,350.51,171.82550000000001,4345,161.8134,1204,173.4,168.92000000000002,189.06,177.85,163,"","",156.16,198.59,212,174.27500000000001,121.39,173.15220000000002,597.86,166.5,179.01760000000002,50112.130000000005,188,157.15,170.46,180.28220000000002,740.2,180,172.4554,794.80000000000007,165.6,174.48,167.20000000000002,186.20050000000001,1554,186.76260000000002,146.72999999999999,null,173.27998020000004,2.881350053783116E-2]
["201232","2012-08-06",32,162.70000000000002,179.24630000000002,350.57,174.84610000000001,4403,161.7689,1204,177.48,169.09,202.48000000000002,181.09,165,"","",160.22999999999999,204.49,210,178.71640000000002,124.43,172.98420000000002,597.28,175.5,180.46610000000001,50124.21,207,157.05000000000001,170.79,181.83190000000002,740.96,183,174.61690000000002,796.59,167.95000000000002,177.1,166.6,187.0258,1547,186.11500000000001,146.87,null,175.60397749999996,3.5303509903914287E-2]
["201233","2012-08-13",33,169.6,179.24630000000002,350.57,177.292,4440,164.42490000000001,1224,183.6,168.4,203.41,182.58,169,"","",160.06,205.82,214,181.80440000000002,126.58,177.1866,611.79,183.4,182.56270000000001,50907.86,207,164.69,179.8,183.88120000000001,750.95,184,179.41460000000001,808.56000000000006,175.67000000000002,181.53,167.02,188.28390000000002,1552,187.173,146.88,null,179.30928360000001,3.4795152867866941E-2]
["201234","2012-08-20",34,174.1,181.5676,355.11,182.3947,4544,164.35900000000001,1224,189.72,168.74,204.34,186.07,174,"","",160.06,207.37,221,182.4682,127.05,182.1884,629.06000000000006,189.1,188.50550000000001,52278.78,207,169.49,184.96,187.39830000000001,764.96,187,183.95000000000002,825.77,176.36,182.73,169.6,188.09110000000001,1556,186.37560000000002,146.84,null,183.04383480000004,4.2367248201995222E-2]
["201235","2012-08-27",35,181.6,182.24260000000001,356.43,186.68170000000001,4640,168.86620000000002,1258,193.8,168.05,208.43,189.27,180,"","",165.95000000000002,210.68,221,186.1534,129.6,187.24800000000002,646.53,192.6,189.166,53307.24,207,176.26,192.04,189.56970000000001,785,191,188.26840000000001,840.96,185.62,189.86,172.25,189.4563,1572,185.38810000000001,146.99,null,187.14213840000008,4.3683487227986761E-2]
["201236","2012-09-03",36,181,189.38030000000001,370.39,193.779,4797,171.51070000000001,1278,193.8,176.66,208.06,191.73000000000002,185,"","",166.02,211.64000000000001,222,194.1747,135.19,190.81900000000002,658.86,194.3,186.32640000000001,53165.3,207,176.04,192.35,188.7962,786.80000000000007,195,193.887,869.14,189.72,193.39000000000001,172.97,184.7253,1559,186.06530000000001,147.68,null,188.5969485,3.033761670294699E-2]
["201237","2012-09-10",37,181.20000000000002,189.38030000000001,370.39,196.25790000000001,4807,171.4736,1278,193.8,175.58,210.84,192.82,188,"","",166.44,217.32,234,194.2114,135.21,186.25460000000001,643.1,193.9,190.10210000000001,53979.5,207,176.26,192.36,191.5454,784.31000000000006,197,194.88630000000001,875.83,190.67000000000002,197.38,173.66,183.2885,1561,184.53380000000001,147.95000000000002,null,189.8785493,1.4622099134889099E-2]
["201238","2012-09-17",38,181.9,189.91210000000001,371.43,194.87910000000002,4820,173.5788,1294,195.84,176.03,211.77,193.22,189,"","",166.12,216.98000000000002,234,199.26750000000001,138.72999999999999,188.9307,652.34,192.20000000000002,189.1824,53525.919999999998,207,176.22,192.75,192.3691,792.47,197,196.9734,887.79,190.44,194.94,171.58,182.42860000000002,1558,186.5198,149.70000000000002,null,190.7606528,1.1472636843856465E-2]
["201239","2012-09-24",39,183.5,193.84910000000002,379.13,193.39430000000002,4829,173.55549999999999,1294,196.86,174.95000000000002,212.70000000000002,194.84,189,"","",169.83,218.36,234,198.58420000000001,138.26,187.44210000000001,647.20000000000005,195.1,189.7646,53929.200000000004,207,179,194.32,194.30780000000001,802.88,197,196.1831,887.28,191.38,195.70000000000002,176.38,183.64430000000002,1556,189.5318,151,null,191.97006870000004,1.1015037810803596E-2]
["201240","2012-10-01",40,183.4,196.60500000000002,384.52,195.2073,4883,175.9734,1312,197.88,184.41,211.77,193.53,188,"","",169.69,218.83,234,200.4391,139.54,192.32220000000001,664.05000000000007,196.4,191.12310000000002,54411.11,207,178.9,194.65,197.4743,807.87,197,197.11340000000001,896.1,190.51,198.04,174.52,184.06890000000001,1573,189.63310000000001,151.93,null,192.50883699999994,9.1642808636893669E-3]
["201241","2012-10-08",41,183.5,198.95180000000002,389.11,196.39510000000001,4897,175.92320000000001,1312,195.84,183.16,211.77,192.76,184,"","",170.08,218.70000000000002,234,198.89600000000002,138.46,192.5394,664.80000000000007,195.5,192.631,54396.24,207,179.01,194.32,196.8047,804.04,197,195.51440000000002,893.47,191.4,200.56,175.52,182.57130000000001,1576,190.12360000000001,153.26,null,191.57942469999995,-2.0349213950148215E-3]
["201242","2012-10-15",42,181.4,201.19130000000001,393.49,196.0943,4873,175.89190000000002,1312,192.78,182.48,211.4,190.33,178,"","",169.95000000000002,217.85,234,200.2585,139.42000000000002,192.5915,664.98,192.6,191.79490000000001,53517.08,216,175.87,191.41,194.60380000000001,797.77,197,194.5368,890.47,189.14000000000001,198.3,175.82,182.66650000000001,1575,190.33420000000001,154.24,null,189.32702829999999,-1.6528117615712046E-2]
["201243","2012-10-22",43,175.6,203.8501,398.69,195.25660000000002,4862,175.89830000000001,1312,188.70000000000002,182.47,210.41,186.05,173,"","",170.17000000000002,214.39000000000001,234,193.40560000000002,134.66,194.3698,671.12,188.8,187.73420000000002,52705.83,212,171.13,186.5,188.19910000000002,777.62,194,194.9358,891.16,184.68,196.77,174.77,182.54850000000002,1577,191.7157,154.92000000000002,null,185.72290749999996,-3.0569656471047923E-2]
["201244","2012-10-29",44,171.4,205.16920000000002,401.27,191.15860000000001,4798,172.7971,1289,187.68,183.49,208.93,182.49,168,"","",170.09,208.59,222,195.51220000000001,136.11000000000001,191.73420000000002,662.02,185.6,183.39950000000002,51897.090000000004,212,169.01,181.8,183.9693,759.88,188,195.37630000000001,887,183.47,193.93,176.89000000000001,183.9871,1586,193.79350000000002,155.72,null,182.81868780000002,-3.4376182621358886E-2]
["201245","2012-11-05",45,169.4,205.91570000000002,402.73,189.4228,4800,168.91570000000002,1260,186.66,181.33,208.93,178.46,166,"","",170.20000000000002,206.14000000000001,221,194.80030000000002,135.62,189.61420000000001,654.70000000000005,186,182.98140000000001,51790.78,216.33,168.87,181.69,184.70530000000002,764.49,183,195.71130000000002,885.30000000000007,178.88,192.59,176.93,184.60140000000001,1581,195.69560000000001,156.33000000000001,null,181.20845290000005,-2.4307473217863085E-2]
["201246","2012-11-12",46,169.5,206.29410000000001,403.47,186.63680000000002,4755,168.9442,1260,186.66,181.37,209.49,176.36,166,"","",170.56,203.07,221,198.38720000000001,138.12,189.26090000000002,653.48,185.9,181.85300000000001,51699.770000000004,216.33,168.98,181.85,183.8768,766.53,180,193.79150000000001,878.80000000000007,185.21,192.84,176.77,183.1917,1579,195.1994,156.49,null,180.44219339999995,-1.2999187493348052E-2]
["201247","2012-11-19",47,169,206.64180000000002,404.15000000000003,187.1807,4758,168.94740000000002,1260,183.6,181.1,206.14000000000001,176.56,168,"","",170.89000000000001,199.58,221,196.22410000000002,136.6,185.90130000000002,641.88,185.3,182.6636,51419.020000000004,216.33,166.26,181.37,184.18960000000001,760.64,180,194.42260000000002,881.79,182.38,189.51,179.6,182.70920000000001,1575,194.4948,156.76,null,179.67086869999994,-8.4851681883109098E-3]
["201248","2012-11-26",48,165.1,207.04060000000001,404.93,187.5095,4740,171.3347,1278,178.5,181.83,206.14000000000001,179.17000000000002,165,"","",171.15,195.72,221,199.48090000000002,138.89000000000001,185.88390000000001,641.82000000000005,178.5,180.10130000000001,50552.9,216.33,161.47999999999999,176.49,180.74260000000001,741.76,177,194.05600000000001,876.72,174.6,187.14000000000001,179.4,182.11270000000002,1571,193.3194,156.51,null,177.7325103,-1.5016904023069544E-2]
["201249","2012-12-03",49,161.30000000000001,207.16330000000002,405.17,184.7217,4660,171.31990000000002,1278,177.48,178.47,206.70000000000002,175.9,161,"","",171.42000000000002,191.62,205,192.37260000000001,133.96,182.99930000000001,631.86,175.1,175.2055,49541.37,216.33,159.65,171.53,174.9145,721.2,175,194.23930000000001,880.62,170.77,187.4,180.39000000000001,184.08500000000001,1590,193.24950000000001,156.55000000000001,null,175.15619339999998,-2.5127475214349881E-2]
["201250","2012-12-10",50,161,207.34740000000002,405.53000000000003,182.1293,4599,168.62820000000002,1258,174.42000000000002,178.79,207.07,176.35,157,"","",171.51,188.6,197,189.04320000000001,131.62,181.27030000000002,625.89,174.8,175.30670000000001,49660.89,216.33,159.71,171.31,174.61960000000002,716.17,175,194.7449,878.65,172.15,185.55,181.11,182.96180000000001,1589,194.20180000000002,156.99,null,173.83171730000001,-2.1947549119830323E-2]
["201251","2012-12-17",51,156.1,207.24510000000001,405.33,182.3039,4597,167.13480000000001,1247,171.36,177.73,206.14000000000001,169.70000000000002,156,"","",171.56,186.05,197,186.816,130.08000000000001,180.58100000000002,623.51,173,171.2304,49086.62,237,155.12,166.53,173.17850000000001,706.16,175,196.71210000000002,878.21,169.89000000000001,183.97,183.34,185.61070000000001,1611,192.95050000000001,156.99,null,170.94848999999999,-2.4022578467385092E-2]
[null,"2013"]
["201252",{"$f":"'[1]Weekly Pig prices'!$B$68","v":"2012-12-24"},52,{"$f":"'[1]Weekly Pig prices'!D68","v":154.9},{"$f":"'[1]Weekly Pig prices'!E68","v":207.24510000000001},{"$f":"'[1]Weekly Pig prices'!F68","v":405.33},{"$f":"'[1]Weekly Pig prices'!G68","v":181.7577},{"$f":"'[1]Weekly Pig prices'!H68","v":4569},{"$f":"'[1]Weekly Pig prices'!I68","v":161.64180000000002},{"$f":"'[1]Weekly Pig prices'!J68","v":1206},{"$f":"'[1]Weekly Pig prices'!K68","v":171.36},{"$f":"'[1]Weekly Pig prices'!L68","v":178.75},{"$f":"'[1]Weekly Pig prices'!M68","v":209.86},{"$f":"'[1]Weekly Pig prices'!N68","v":173.06},{"$f":"'[1]Weekly Pig prices'!O68","v":156},{"$f":"'[1]Weekly Pig prices'!P68","v":""},{"$f":"'[1]Weekly Pig prices'!Q68","v":""},{"$f":"'[1]Weekly Pig prices'!R68","v":171.56},{"$f":"'[1]Weekly Pig prices'!S68","v":186.11},{"$f":"'[1]Weekly Pig prices'!T68","v":189},{"$f":"'[1]Weekly Pig prices'!U68","v":190.2021},{"$f":"'[1]Weekly Pig prices'!V68","v":132.56},{"$f":"'[1]Weekly Pig prices'!W68","v":176.68560000000002},{"$f":"'[1]Weekly Pig prices'!X68","v":610.06000000000006},{"$f":"'[1]Weekly Pig prices'!Y68","v":169.1},{"$f":"'[1]Weekly Pig prices'!Z68","v":170.31140000000002},{"$f":"'[1]Weekly Pig prices'!AA68","v":49409.270000000004},{"$f":"'[1]Weekly Pig prices'!AB68","v":237},{"$f":"'[1]Weekly Pig prices'!AC68","v":154.76},{"$f":"'[1]Weekly Pig prices'!AD68","v":166.20000000000002},{"$f":"'[1]Weekly Pig prices'!AE68","v":171.56440000000001},{"$f":"'[1]Weekly Pig prices'!AF68","v":699.49},{"$f":"'[1]Weekly Pig prices'!AG68","v":173},{"$f":"'[1]Weekly Pig prices'!AH68","v":198.47650000000002},{"$f":"'[1]Weekly Pig prices'!AI68","v":878.97},{"$f":"'[1]Weekly Pig prices'!AJ68","v":169.59},{"$f":"'[1]Weekly Pig prices'!AK68","v":182.17000000000002},{"$f":"'[1]Weekly Pig prices'!AL68","v":179.77},{"$f":"'[1]Weekly Pig prices'!AM68","v":188.8227},{"$f":"'[1]Weekly Pig prices'!AN68","v":1625},{"$f":"'[1]Weekly Pig prices'!AO68","v":192.0059},{"$f":"'[1]Weekly Pig prices'!AQ68","v":0},null,{"$f":"'[1]Weekly Pig prices'!$AR68","v":170.7660411},{"$f":"'[1]Weekly Pig prices'!AS68","v":-1.0672741245038031E-3}]
["201301","2012-12-31",1,{"$f":"'[1]Weekly Pig prices'!D69","v":155.1},{"$f":"'[1]Weekly Pig prices'!E69","v":207.38830000000002},{"$f":"'[1]Weekly Pig prices'!F69","v":405.61},{"$f":"'[1]Weekly Pig prices'!G69","v":175.8818},{"$f":"'[1]Weekly Pig prices'!H69","v":4438},{"$f":"'[1]Weekly Pig prices'!I69","v":161.6523},{"$f":"'[1]Weekly Pig prices'!J69","v":1206},{"$f":"'[1]Weekly Pig prices'!K69","v":171.36},{"$f":"'[1]Weekly Pig prices'!L69","v":172.44},{"$f":"'[1]Weekly Pig prices'!M69","v":209.86},{"$f":"'[1]Weekly Pig prices'!N69","v":179.07},{"$f":"'[1]Weekly Pig prices'!O69","v":156},{"$f":"'[1]Weekly Pig prices'!P69","v":""},{"$f":"'[1]Weekly Pig prices'!Q69","v":""},{"$f":"'[1]Weekly Pig prices'!R69","v":171.75},{"$f":"'[1]Weekly Pig prices'!S69","v":187.71},{"$f":"'[1]Weekly Pig prices'!T69","v":183},{"$f":"'[1]Weekly Pig prices'!U69","v":184.05890000000002},{"$f":"'[1]Weekly Pig prices'!V69","v":128.41},{"$f":"'[1]Weekly Pig prices'!W69","v":176.60740000000001},{"$f":"'[1]Weekly Pig prices'!X69","v":609.79},{"$f":"'[1]Weekly Pig prices'!Y69","v":171.20000000000002},{"$f":"'[1]Weekly Pig prices'!Z69","v":169.13640000000001},{"$f":"'[1]Weekly Pig prices'!AA69","v":49293.340000000004},{"$f":"'[1]Weekly Pig prices'!AB69","v":237},{"$f":"'[1]Weekly Pig prices'!AC69","v":154.55000000000001},{"$f":"'[1]Weekly Pig prices'!AD69","v":166.06},{"$f":"'[1]Weekly Pig prices'!AE69","v":171.0565},{"$f":"'[1]Weekly Pig prices'!AF69","v":699.45},{"$f":"'[1]Weekly Pig prices'!AG69","v":173},{"$f":"'[1]Weekly Pig prices'!AH69","v":196.1352},{"$f":"'[1]Weekly Pig prices'!AI69","v":869.7},{"$f":"'[1]Weekly Pig prices'!AJ69","v":166.74},{"$f":"'[1]Weekly Pig prices'!AK69","v":178.39000000000001},{"$f":"'[1]Weekly Pig prices'!AL69","v":181.37},{"$f":"'[1]Weekly Pig prices'!AM69","v":183.36260000000001},{"$f":"'[1]Weekly Pig prices'!AN69","v":1569},{"$f":"'[1]Weekly Pig prices'!AO69","v":191.82590000000002},{"$f":"'[1]Weekly Pig prices'!AQ69","v":0},null,{"$f":"'[1]Weekly Pig prices'!$AR69","v":171.56779269999998},{"$f":"'[1]Weekly Pig prices'!AS69","v":4.6950294967047501E-3}]
["201302",{"$f":"B69+7","v":"2013-01-07"},{"$f":"1+C69","v":2},{"$f":"'[1]Weekly Pig prices'!D70","v":154.1},{"$f":"'[1]Weekly Pig prices'!E70","v":207.55190000000002},{"$f":"'[1]Weekly Pig prices'!F70","v":405.93},{"$f":"'[1]Weekly Pig prices'!G70","v":171.68810000000002},{"$f":"'[1]Weekly Pig prices'!H70","v":4387},{"$f":"'[1]Weekly Pig prices'!I70","v":161.6566},{"$f":"'[1]Weekly Pig prices'!J70","v":1206},{"$f":"'[1]Weekly Pig prices'!K70","v":170.34},{"$f":"'[1]Weekly Pig prices'!L70","v":170.84},{"$f":"'[1]Weekly Pig prices'!M70","v":208.56},{"$f":"'[1]Weekly Pig prices'!N70","v":168.25},{"$f":"'[1]Weekly Pig prices'!O70","v":156},{"$f":"'[1]Weekly Pig prices'!P70","v":""},{"$f":"'[1]Weekly Pig prices'!Q70","v":""},{"$f":"'[1]Weekly Pig prices'!R70","v":171.5},{"$f":"'[1]Weekly Pig prices'!S70","v":189.75},{"$f":"'[1]Weekly Pig prices'!T70","v":181},{"$f":"'[1]Weekly Pig prices'!U70","v":177.23410000000001},{"$f":"'[1]Weekly Pig prices'!V70","v":123.56},{"$f":"'[1]Weekly Pig prices'!W70","v":173.17830000000001},{"$f":"'[1]Weekly Pig prices'!X70","v":597.95000000000005},{"$f":"'[1]Weekly Pig prices'!Y70","v":171.20000000000002},{"$f":"'[1]Weekly Pig prices'!Z70","v":170.1336},{"$f":"'[1]Weekly Pig prices'!AA70","v":49839.19},{"$f":"'[1]Weekly Pig prices'!AB70","v":237},{"$f":"'[1]Weekly Pig prices'!AC70","v":154.14000000000001},{"$f":"'[1]Weekly Pig prices'!AD70","v":166.03},{"$f":"'[1]Weekly Pig prices'!AE70","v":168.8947},{"$f":"'[1]Weekly Pig prices'!AF70","v":693.87},{"$f":"'[1]Weekly Pig prices'!AG70","v":173},{"$f":"'[1]Weekly Pig prices'!AH70","v":195.1986},{"$f":"'[1]Weekly Pig prices'!AI70","v":858.98},{"$f":"'[1]Weekly Pig prices'!AJ70","v":166.02},{"$f":"'[1]Weekly Pig prices'!AK70","v":172.91},{"$f":"'[1]Weekly Pig prices'!AL70","v":180.13},{"$f":"'[1]Weekly Pig prices'!AM70","v":185.39620000000002},{"$f":"'[1]Weekly Pig prices'!AN70","v":1590},{"$f":"'[1]Weekly Pig prices'!AO70","v":190.73490000000001},{"$f":"'[1]Weekly Pig prices'!AQ70","v":0},null,{"$f":"'[1]Weekly Pig prices'!$AR70","v":169.2107757},{"$f":"'[1]Weekly Pig prices'!AS70","v":-1.3738108784330016E-2}]
["201303",{"$f":"B70+7","v":"2013-01-14"},{"$f":"1+C70","v":3},{"$f":"'[1]Weekly Pig prices'!D71","v":153},{"$f":"'[1]Weekly Pig prices'!E71","v":208.11430000000001},{"$f":"'[1]Weekly Pig prices'!F71","v":407.03000000000003},{"$f":"'[1]Weekly Pig prices'!G71","v":168.52180000000001},{"$f":"'[1]Weekly Pig prices'!H71","v":4315},{"$f":"'[1]Weekly Pig prices'!I71","v":159.06230000000002},{"$f":"'[1]Weekly Pig prices'!J71","v":1187},{"$f":"'[1]Weekly Pig prices'!K71","v":168.3},{"$f":"'[1]Weekly Pig prices'!L71","v":171.72},{"$f":"'[1]Weekly Pig prices'!M71","v":208},{"$f":"'[1]Weekly Pig prices'!N71","v":182.92000000000002},{"$f":"'[1]Weekly Pig prices'!O71","v":156},{"$f":"'[1]Weekly Pig prices'!P71","v":""},{"$f":"'[1]Weekly Pig prices'!Q71","v":""},{"$f":"'[1]Weekly Pig prices'!R71","v":168.03},{"$f":"'[1]Weekly Pig prices'!S71","v":190.81},{"$f":"'[1]Weekly Pig prices'!T71","v":181},{"$f":"'[1]Weekly Pig prices'!U71","v":179.6919},{"$f":"'[1]Weekly Pig prices'!V71","v":125.33},{"$f":"'[1]Weekly Pig prices'!W71","v":173.1551},{"$f":"'[1]Weekly Pig prices'!X71","v":597.87},{"$f":"'[1]Weekly Pig prices'!Y71","v":171.20000000000002},{"$f":"'[1]Weekly Pig prices'!Z71","v":170.5712},{"$f":"'[1]Weekly Pig prices'!AA71","v":50255.39},{"$f":"'[1]Weekly Pig prices'!AB71","v":237},{"$f":"'[1]Weekly Pig prices'!AC71","v":150.89000000000001},{"$f":"'[1]Weekly Pig prices'!AD71","v":164.37},{"$f":"'[1]Weekly Pig prices'!AE71","v":164.31130000000002},{"$f":"'[1]Weekly Pig prices'!AF71","v":677.96},{"$f":"'[1]Weekly Pig prices'!AG71","v":173},{"$f":"'[1]Weekly Pig prices'!AH71","v":196.58010000000002},{"$f":"'[1]Weekly Pig prices'!AI71","v":856.55000000000007},{"$f":"'[1]Weekly Pig prices'!AJ71","v":164.92000000000002},{"$f":"'[1]Weekly Pig prices'!AK71","v":175.99},{"$f":"'[1]Weekly Pig prices'!AL71","v":181.43},{"$f":"'[1]Weekly Pig prices'!AM71","v":183.6748},{"$f":"'[1]Weekly Pig prices'!AN71","v":1587},{"$f":"'[1]Weekly Pig prices'!AO71","v":186.37020000000001},{"$f":"'[1]Weekly Pig prices'!AQ71","v":0},null,{"$f":"'[1]Weekly Pig prices'!$AR71","v":170.34938790000004},{"$f":"'[1]Weekly Pig prices'!AS71","v":6.7289579832594537E-3}]
["201304","2013-01-21",4,{"$f":"'[1]Weekly Pig prices'!D72","v":152.5},{"$f":"'[1]Weekly Pig prices'!E72","v":208.47220000000002},{"$f":"'[1]Weekly Pig prices'!F72","v":407.73},{"$f":"'[1]Weekly Pig prices'!G72","v":167.15380000000002},{"$f":"'[1]Weekly Pig prices'!H72","v":4281},{"$f":"'[1]Weekly Pig prices'!I72","v":159.05410000000001},{"$f":"'[1]Weekly Pig prices'!J72","v":1187},{"$f":"'[1]Weekly Pig prices'!K72","v":168.3},{"$f":"'[1]Weekly Pig prices'!L72","v":175.70000000000002},{"$f":"'[1]Weekly Pig prices'!M72","v":208},{"$f":"'[1]Weekly Pig prices'!N72","v":181.46},{"$f":"'[1]Weekly Pig prices'!O72","v":154},{"$f":"'[1]Weekly Pig prices'!P72","v":""},{"$f":"'[1]Weekly Pig prices'!Q72","v":""},{"$f":"'[1]Weekly Pig prices'!R72","v":168.09},{"$f":"'[1]Weekly Pig prices'!S72","v":192.02},{"$f":"'[1]Weekly Pig prices'!T72","v":179},{"$f":"'[1]Weekly Pig prices'!U72","v":180.8194},{"$f":"'[1]Weekly Pig prices'!V72","v":126.23},{"$f":"'[1]Weekly Pig prices'!W72","v":172.22830000000002},{"$f":"'[1]Weekly Pig prices'!X72","v":594.66999999999996},{"$f":"'[1]Weekly Pig prices'!Y72","v":166},{"$f":"'[1]Weekly Pig prices'!Z72","v":169.59229999999999},{"$f":"'[1]Weekly Pig prices'!AA72","v":50026.33},{"$f":"'[1]Weekly Pig prices'!AB72","v":237},{"$f":"'[1]Weekly Pig prices'!AC72","v":149.27000000000001},{"$f":"'[1]Weekly Pig prices'!AD72","v":164.24},{"$f":"'[1]Weekly Pig prices'!AE72","v":161.75400000000002},{"$f":"'[1]Weekly Pig prices'!AF72","v":674.69},{"$f":"'[1]Weekly Pig prices'!AG72","v":173},{"$f":"'[1]Weekly Pig prices'!AH72","v":192.6772},{"$f":"'[1]Weekly Pig prices'!AI72","v":840.29},{"$f":"'[1]Weekly Pig prices'!AJ72","v":159.51},{"$f":"'[1]Weekly Pig prices'!AK72","v":175.02},{"$f":"'[1]Weekly Pig prices'!AL72","v":181.18},{"$f":"'[1]Weekly Pig prices'!AM72","v":182.35250000000002},{"$f":"'[1]Weekly Pig prices'!AN72","v":1584},{"$f":"'[1]Weekly Pig prices'!AO72","v":181.4255},{"$f":"'[1]Weekly Pig prices'!AQ72","v":0},null,{"$f":"'[1]Weekly Pig prices'!$AR72","v":169.25444100000001},{"$f":"'[1]Weekly Pig prices'!AS72","v":-6.4276538559844276E-3}]
["201305","2013-01-28",5,{"$f":"'[1]Weekly Pig prices'!D73","v":152.4},{"$f":"'[1]Weekly Pig prices'!E73","v":208.5847},{"$f":"'[1]Weekly Pig prices'!F73","v":407.95},{"$f":"'[1]Weekly Pig prices'!G73","v":164.64530000000002},{"$f":"'[1]Weekly Pig prices'!H73","v":4222},{"$f":"'[1]Weekly Pig prices'!I73","v":156.68020000000001},{"$f":"'[1]Weekly Pig prices'!J73","v":1169},{"$f":"'[1]Weekly Pig prices'!K73","v":168.3},{"$f":"'[1]Weekly Pig prices'!L73","v":171.59},{"$f":"'[1]Weekly Pig prices'!M73","v":208.93},{"$f":"'[1]Weekly Pig prices'!N73","v":182.64000000000001},{"$f":"'[1]Weekly Pig prices'!O73","v":153},{"$f":"'[1]Weekly Pig prices'!P73","v":""},{"$f":"'[1]Weekly Pig prices'!Q73","v":""},{"$f":"'[1]Weekly Pig prices'!R73","v":168.26},{"$f":"'[1]Weekly Pig prices'!S73","v":192.79},{"$f":"'[1]Weekly Pig prices'!T73","v":181},{"$f":"'[1]Weekly Pig prices'!U73","v":176.1832},{"$f":"'[1]Weekly Pig prices'!V73","v":123.22},{"$f":"'[1]Weekly Pig prices'!W73","v":169.2105},{"$f":"'[1]Weekly Pig prices'!X73","v":584.25},{"$f":"'[1]Weekly Pig prices'!Y73","v":167.4},{"$f":"'[1]Weekly Pig prices'!Z73","v":170.3338},{"$f":"'[1]Weekly Pig prices'!AA73","v":50291.770000000004},{"$f":"'[1]Weekly Pig prices'!AB73","v":237},{"$f":"'[1]Weekly Pig prices'!AC73","v":150.39000000000001},{"$f":"'[1]Weekly Pig prices'!AD73","v":164.11},{"$f":"'[1]Weekly Pig prices'!AE73","v":162.291},{"$f":"'[1]Weekly Pig prices'!AF73","v":680.15},{"$f":"'[1]Weekly Pig prices'!AG73","v":173},{"$f":"'[1]Weekly Pig prices'!AH73","v":190.44070000000002},{"$f":"'[1]Weekly Pig prices'!AI73","v":834.19},{"$f":"'[1]Weekly Pig prices'!AJ73","v":161.42000000000002},{"$f":"'[1]Weekly Pig prices'!AK73","v":173.64000000000001},{"$f":"'[1]Weekly Pig prices'!AL73","v":182.55},{"$f":"'[1]Weekly Pig prices'!AM73","v":184.01900000000001},{"$f":"'[1]Weekly Pig prices'!AN73","v":1588},{"$f":"'[1]Weekly Pig prices'!AO73","v":178.07510000000002},{"$f":"'[1]Weekly Pig prices'!AQ73","v":0},null,{"$f":"'[1]Weekly Pig prices'!$AR73","v":169.16658660000002},{"$f":"'[1]Weekly Pig prices'!AS73","v":-5.190670299752842E-4}]
["201306","2013-02-04",6,{"$f":"'[1]Weekly Pig prices'!D74","v":152.20000000000002},{"$f":"'[1]Weekly Pig prices'!E74","v":208.61540000000002},{"$f":"'[1]Weekly Pig prices'!F74","v":408.01},{"$f":"'[1]Weekly Pig prices'!G74","v":163.8526},{"$f":"'[1]Weekly Pig prices'!H74","v":4177},{"$f":"'[1]Weekly Pig prices'!I74","v":156.70000000000002},{"$f":"'[1]Weekly Pig prices'!J74","v":1169},{"$f":"'[1]Weekly Pig prices'!K74","v":169.32},{"$f":"'[1]Weekly Pig prices'!L74","v":169.93},{"$f":"'[1]Weekly Pig prices'!M74","v":206.14000000000001},{"$f":"'[1]Weekly Pig prices'!N74","v":184.59},{"$f":"'[1]Weekly Pig prices'!O74","v":153},{"$f":"'[1]Weekly Pig prices'!P74","v":""},{"$f":"'[1]Weekly Pig prices'!Q74","v":""},{"$f":"'[1]Weekly Pig prices'!R74","v":168.18},{"$f":"'[1]Weekly Pig prices'!S74","v":194.77},{"$f":"'[1]Weekly Pig prices'!T74","v":183},{"$f":"'[1]Weekly Pig prices'!U74","v":172.5497},{"$f":"'[1]Weekly Pig prices'!V74","v":120.77},{"$f":"'[1]Weekly Pig prices'!W74","v":167.07310000000001},{"$f":"'[1]Weekly Pig prices'!X74","v":576.87},{"$f":"'[1]Weekly Pig prices'!Y74","v":167.4},{"$f":"'[1]Weekly Pig prices'!Z74","v":170.5994},{"$f":"'[1]Weekly Pig prices'!AA74","v":49984.42},{"$f":"'[1]Weekly Pig prices'!AB74","v":237},{"$f":"'[1]Weekly Pig prices'!AC74","v":150.37},{"$f":"'[1]Weekly Pig prices'!AD74","v":164.12},{"$f":"'[1]Weekly Pig prices'!AE74","v":165.3571},{"$f":"'[1]Weekly Pig prices'!AF74","v":690.21},{"$f":"'[1]Weekly Pig prices'!AG74","v":175},{"$f":"'[1]Weekly Pig prices'!AH74","v":184.90440000000001},{"$f":"'[1]Weekly Pig prices'!AI74","v":811.4},{"$f":"'[1]Weekly Pig prices'!AJ74","v":154.81},{"$f":"'[1]Weekly Pig prices'!AK74","v":171.83},{"$f":"'[1]Weekly Pig prices'!AL74","v":183.05},{"$f":"'[1]Weekly Pig prices'!AM74","v":183.607},{"$f":"'[1]Weekly Pig prices'!AN74","v":1578},{"$f":"'[1]Weekly Pig prices'!AO74","v":178.2278},{"$f":"'[1]Weekly Pig prices'!AQ74","v":0},null,{"$f":"'[1]Weekly Pig prices'!$AR74","v":169.84873660000002},{"$f":"'[1]Weekly Pig prices'!AS74","v":4.0324157016478068E-3}]
["201307","2013-02-11",7,{"$f":"'[1]Weekly Pig prices'!D75","v":154.30000000000001},{"$f":"'[1]Weekly Pig prices'!E75","v":208.554},{"$f":"'[1]Weekly Pig prices'!F75","v":407.89},{"$f":"'[1]Weekly Pig prices'!G75","v":164.7235},{"$f":"'[1]Weekly Pig prices'!H75","v":4174},{"$f":"'[1]Weekly Pig prices'!I75","v":156.67270000000002},{"$f":"'[1]Weekly Pig prices'!J75","v":1169},{"$f":"'[1]Weekly Pig prices'!K75","v":172.38},{"$f":"'[1]Weekly Pig prices'!L75","v":170.69},{"$f":"'[1]Weekly Pig prices'!M75","v":205.77},{"$f":"'[1]Weekly Pig prices'!N75","v":187.43},{"$f":"'[1]Weekly Pig prices'!O75","v":154},{"$f":"'[1]Weekly Pig prices'!P75","v":""},{"$f":"'[1]Weekly Pig prices'!Q75","v":""},{"$f":"'[1]Weekly Pig prices'!R75","v":168.51},{"$f":"'[1]Weekly Pig prices'!S75","v":196.62},{"$f":"'[1]Weekly Pig prices'!T75","v":194},{"$f":"'[1]Weekly Pig prices'!U75","v":171.75910000000002},{"$f":"'[1]Weekly Pig prices'!V75","v":120.17},{"$f":"'[1]Weekly Pig prices'!W75","v":161.73830000000001},{"$f":"'[1]Weekly Pig prices'!X75","v":558.45000000000005},{"$f":"'[1]Weekly Pig prices'!Y75","v":170.5},{"$f":"'[1]Weekly Pig prices'!Z75","v":172.6797},{"$f":"'[1]Weekly Pig prices'!AA75","v":50363.270000000004},{"$f":"'[1]Weekly Pig prices'!AB75","v":237},{"$f":"'[1]Weekly Pig prices'!AC75","v":153.32},{"$f":"'[1]Weekly Pig prices'!AD75","v":167.03},{"$f":"'[1]Weekly Pig prices'!AE75","v":166.03030000000001},{"$f":"'[1]Weekly Pig prices'!AF75","v":693.02},{"$f":"'[1]Weekly Pig prices'!AG75","v":178},{"$f":"'[1]Weekly Pig prices'!AH75","v":181.0581},{"$f":"'[1]Weekly Pig prices'!AI75","v":795.51},{"$f":"'[1]Weekly Pig prices'!AJ75","v":159.29},{"$f":"'[1]Weekly Pig prices'!AK75","v":169.17000000000002},{"$f":"'[1]Weekly Pig prices'!AL75","v":181.36},{"$f":"'[1]Weekly Pig prices'!AM75","v":186.57930000000002},{"$f":"'[1]Weekly Pig prices'!AN75","v":1588},{"$f":"'[1]Weekly Pig prices'!AO75","v":176.77260000000001},{"$f":"'[1]Weekly Pig prices'!AQ75","v":0},null,{"$f":"'[1]Weekly Pig prices'!$AR75","v":171.49675360000001},{"$f":"'[1]Weekly Pig prices'!AS75","v":9.7028510955670111E-3}]
["201308","2013-02-18",8,{"$f":"'[1]Weekly Pig prices'!D76","v":155.70000000000002},{"$f":"'[1]Weekly Pig prices'!E76","v":208.554},{"$f":"'[1]Weekly Pig prices'!F76","v":407.89},{"$f":"'[1]Weekly Pig prices'!G76","v":164.11070000000001},{"$f":"'[1]Weekly Pig prices'!H76","v":4175},{"$f":"'[1]Weekly Pig prices'!I76","v":156.70959999999999},{"$f":"'[1]Weekly Pig prices'!J76","v":1169},{"$f":"'[1]Weekly Pig prices'!K76","v":172.38},{"$f":"'[1]Weekly Pig prices'!L76","v":170.41},{"$f":"'[1]Weekly Pig prices'!M76","v":202.43},{"$f":"'[1]Weekly Pig prices'!N76","v":189.06},{"$f":"'[1]Weekly Pig prices'!O76","v":158},{"$f":"'[1]Weekly Pig prices'!P76","v":""},{"$f":"'[1]Weekly Pig prices'!Q76","v":""},{"$f":"'[1]Weekly Pig prices'!R76","v":168.25},{"$f":"'[1]Weekly Pig prices'!S76","v":194.66},{"$f":"'[1]Weekly Pig prices'!T76","v":197},{"$f":"'[1]Weekly Pig prices'!U76","v":179.65940000000001},{"$f":"'[1]Weekly Pig prices'!V76","v":125.7},{"$f":"'[1]Weekly Pig prices'!W76","v":167.1832},{"$f":"'[1]Weekly Pig prices'!X76","v":577.25},{"$f":"'[1]Weekly Pig prices'!Y76","v":171.20000000000002},{"$f":"'[1]Weekly Pig prices'!Z76","v":173.56980000000001},{"$f":"'[1]Weekly Pig prices'!AA76","v":50682.87},{"$f":"'[1]Weekly Pig prices'!AB76","v":237},{"$f":"'[1]Weekly Pig prices'!AC76","v":154.11000000000001},{"$f":"'[1]Weekly Pig prices'!AD76","v":170.48},{"$f":"'[1]Weekly Pig prices'!AE76","v":168.00020000000001},{"$f":"'[1]Weekly Pig prices'!AF76","v":700.46},{"$f":"'[1]Weekly Pig prices'!AG76","v":179},{"$f":"'[1]Weekly Pig prices'!AH76","v":176.4836},{"$f":"'[1]Weekly Pig prices'!AI76","v":773.2},{"$f":"'[1]Weekly Pig prices'!AJ76","v":163.67000000000002},{"$f":"'[1]Weekly Pig prices'!AK76","v":170.28},{"$f":"'[1]Weekly Pig prices'!AL76","v":183.95000000000002},{"$f":"'[1]Weekly Pig prices'!AM76","v":187.51250000000002},{"$f":"'[1]Weekly Pig prices'!AN76","v":1585},{"$f":"'[1]Weekly Pig prices'!AO76","v":175.20260000000002},{"$f":"'[1]Weekly Pig prices'!AQ76","v":0},null,{"$f":"'[1]Weekly Pig prices'!$AR76","v":172.29598010000001},{"$f":"'[1]Weekly Pig prices'!AS76","v":4.6603010449055571E-3}]
["201309","2013-02-25",9,{"$f":"'[1]Weekly Pig prices'!D77","v":155.30000000000001},{"$f":"'[1]Weekly Pig prices'!E77","v":209.1369},{"$f":"'[1]Weekly Pig prices'!F77","v":409.03000000000003},{"$f":"'[1]Weekly Pig prices'!G77","v":163.71},{"$f":"'[1]Weekly Pig prices'!H77","v":4191},{"$f":"'[1]Weekly Pig prices'!I77","v":156.74770000000001},{"$f":"'[1]Weekly Pig prices'!J77","v":1169},{"$f":"'[1]Weekly Pig prices'!K77","v":171.36},{"$f":"'[1]Weekly Pig prices'!L77","v":169.42000000000002},{"$f":"'[1]Weekly Pig prices'!M77","v":201.87},{"$f":"'[1]Weekly Pig prices'!N77","v":191.06},{"$f":"'[1]Weekly Pig prices'!O77","v":159},{"$f":"'[1]Weekly Pig prices'!P77","v":""},{"$f":"'[1]Weekly Pig prices'!Q77","v":""},{"$f":"'[1]Weekly Pig prices'!R77","v":168.38},{"$f":"'[1]Weekly Pig prices'!S77","v":190.66},{"$f":"'[1]Weekly Pig prices'!T77","v":198},{"$f":"'[1]Weekly Pig prices'!U77","v":173.49700000000001},{"$f":"'[1]Weekly Pig prices'!V77","v":121.49000000000001},{"$f":"'[1]Weekly Pig prices'!W77","v":166.68790000000001},{"$f":"'[1]Weekly Pig prices'!X77","v":575.54},{"$f":"'[1]Weekly Pig prices'!Y77","v":170.6},{"$f":"'[1]Weekly Pig prices'!Z77","v":167.5051},{"$f":"'[1]Weekly Pig prices'!AA77","v":49362.07},{"$f":"'[1]Weekly Pig prices'!AB77","v":237},{"$f":"'[1]Weekly Pig prices'!AC77","v":154.11000000000001},{"$f":"'[1]Weekly Pig prices'!AD77","v":169.91},{"$f":"'[1]Weekly Pig prices'!AE77","v":168.47190000000001},{"$f":"'[1]Weekly Pig prices'!AF77","v":699.89},{"$f":"'[1]Weekly Pig prices'!AG77","v":181},{"$f":"'[1]Weekly Pig prices'!AH77","v":175.45250000000001},{"$f":"'[1]Weekly Pig prices'!AI77","v":766.77},{"$f":"'[1]Weekly Pig prices'!AJ77","v":164.06},{"$f":"'[1]Weekly Pig prices'!AK77","v":170.09},{"$f":"'[1]Weekly Pig prices'!AL77","v":182.63},{"$f":"'[1]Weekly Pig prices'!AM77","v":186.8476},{"$f":"'[1]Weekly Pig prices'!AN77","v":1575},{"$f":"'[1]Weekly Pig prices'!AO77","v":174.3099},{"$f":"'[1]Weekly Pig prices'!AQ77","v":0},null,{"$f":"'[1]Weekly Pig prices'!$AR77","v":172.10819709999998},{"$f":"'[1]Weekly Pig prices'!AS77","v":-1.0898861360029155E-3}]
["201310","2013-03-04",10,{"$f":"'[1]Weekly Pig prices'!D78","v":154.6},{"$f":"'[1]Weekly Pig prices'!E78","v":209.5153},{"$f":"'[1]Weekly Pig prices'!F78","v":409.77},{"$f":"'[1]Weekly Pig prices'!G78","v":164.66490000000002},{"$f":"'[1]Weekly Pig prices'!H78","v":4209},{"$f":"'[1]Weekly Pig prices'!I78","v":156.8021},{"$f":"'[1]Weekly Pig prices'!J78","v":1169},{"$f":"'[1]Weekly Pig prices'!K78","v":171.36},{"$f":"'[1]Weekly Pig prices'!L78","v":170.57},{"$f":"'[1]Weekly Pig prices'!M78","v":201.87},{"$f":"'[1]Weekly Pig prices'!N78","v":192.79},{"$f":"'[1]Weekly Pig prices'!O78","v":160},{"$f":"'[1]Weekly Pig prices'!P78","v":""},{"$f":"'[1]Weekly Pig prices'!Q78","v":""},{"$f":"'[1]Weekly Pig prices'!R78","v":168.36},{"$f":"'[1]Weekly Pig prices'!S78","v":186.86},{"$f":"'[1]Weekly Pig prices'!T78","v":206},{"$f":"'[1]Weekly Pig prices'!U78","v":173.06990000000002},{"$f":"'[1]Weekly Pig prices'!V78","v":121.28},{"$f":"'[1]Weekly Pig prices'!W78","v":167.24690000000001},{"$f":"'[1]Weekly Pig prices'!X78","v":577.47},{"$f":"'[1]Weekly Pig prices'!Y78","v":170.3},{"$f":"'[1]Weekly Pig prices'!Z78","v":167.91240000000002},{"$f":"'[1]Weekly Pig prices'!AA78","v":49993.29},{"$f":"'[1]Weekly Pig prices'!AB78","v":237},{"$f":"'[1]Weekly Pig prices'!AC78","v":154.25},{"$f":"'[1]Weekly Pig prices'!AD78","v":170.36},{"$f":"'[1]Weekly Pig prices'!AE78","v":169.85050000000001},{"$f":"'[1]Weekly Pig prices'!AF78","v":703.55000000000007},{"$f":"'[1]Weekly Pig prices'!AG78","v":181},{"$f":"'[1]Weekly Pig prices'!AH78","v":171.13160000000002},{"$f":"'[1]Weekly Pig prices'!AI78","v":746.2},{"$f":"'[1]Weekly Pig prices'!AJ78","v":162.9},{"$f":"'[1]Weekly Pig prices'!AK78","v":168.29},{"$f":"'[1]Weekly Pig prices'!AL78","v":183.9},{"$f":"'[1]Weekly Pig prices'!AM78","v":189.5712},{"$f":"'[1]Weekly Pig prices'!AN78","v":1580},{"$f":"'[1]Weekly Pig prices'!AO78","v":174.1019},{"$f":"'[1]Weekly Pig prices'!AQ78","v":0},null,{"$f":"'[1]Weekly Pig prices'!$AR78","v":172.29505659999995},{"$f":"'[1]Weekly Pig prices'!AS78","v":1.0857094731600014E-3}]
["201311","2013-03-11",11,{"$f":"'[1]Weekly Pig prices'!D79","v":154.80000000000001},{"$f":"'[1]Weekly Pig prices'!E79","v":209.06530000000001},{"$f":"'[1]Weekly Pig prices'!F79","v":408.89},{"$f":"'[1]Weekly Pig prices'!G79","v":164.40090000000001},{"$f":"'[1]Weekly Pig prices'!H79","v":4205},{"$f":"'[1]Weekly Pig prices'!I79","v":154.34450000000001},{"$f":"'[1]Weekly Pig prices'!J79","v":1151},{"$f":"'[1]Weekly Pig prices'!K79","v":171.36},{"$f":"'[1]Weekly Pig prices'!L79","v":174.22},{"$f":"'[1]Weekly Pig prices'!M79","v":200.01},{"$f":"'[1]Weekly Pig prices'!N79","v":192.61},{"$f":"'[1]Weekly Pig prices'!O79","v":161},{"$f":"'[1]Weekly Pig prices'!P79","v":""},{"$f":"'[1]Weekly Pig prices'!Q79","v":""},{"$f":"'[1]Weekly Pig prices'!R79","v":168.26},{"$f":"'[1]Weekly Pig prices'!S79","v":186.68},{"$f":"'[1]Weekly Pig prices'!T79","v":210},{"$f":"'[1]Weekly Pig prices'!U79","v":171.75890000000001},{"$f":"'[1]Weekly Pig prices'!V79","v":120.43},{"$f":"'[1]Weekly Pig prices'!W79","v":168.33580000000001},{"$f":"'[1]Weekly Pig prices'!X79","v":581.23},{"$f":"'[1]Weekly Pig prices'!Y79","v":171.20000000000002},{"$f":"'[1]Weekly Pig prices'!Z79","v":167.76250000000002},{"$f":"'[1]Weekly Pig prices'!AA79","v":50972.480000000003},{"$f":"'[1]Weekly Pig prices'!AB79","v":237},{"$f":"'[1]Weekly Pig prices'!AC79","v":154.31},{"$f":"'[1]Weekly Pig prices'!AD79","v":170.32},{"$f":"'[1]Weekly Pig prices'!AE79","v":170.59010000000001},{"$f":"'[1]Weekly Pig prices'!AF79","v":707.33},{"$f":"'[1]Weekly Pig prices'!AG79","v":181},{"$f":"'[1]Weekly Pig prices'!AH79","v":167.51230000000001},{"$f":"'[1]Weekly Pig prices'!AI79","v":734.13},{"$f":"'[1]Weekly Pig prices'!AJ79","v":162.01},{"$f":"'[1]Weekly Pig prices'!AK79","v":166.52},{"$f":"'[1]Weekly Pig prices'!AL79","v":184.13},{"$f":"'[1]Weekly Pig prices'!AM79","v":190.40980000000002},{"$f":"'[1]Weekly Pig prices'!AN79","v":1587},{"$f":"'[1]Weekly Pig prices'!AO79","v":174.30510000000001},{"$f":"'[1]Weekly Pig prices'!AQ79","v":0},null,{"$f":"'[1]Weekly Pig prices'!$AR79","v":172.09835669999995},{"$f":"'[1]Weekly Pig prices'!AS79","v":-1.1416456390658247E-3}]
["201312","2013-03-18",12,{"$f":"'[1]Weekly Pig prices'!D80","v":154.80000000000001},{"$f":"'[1]Weekly Pig prices'!E80","v":205.251},{"$f":"'[1]Weekly Pig prices'!F80","v":401.43},{"$f":"'[1]Weekly Pig prices'!G80","v":164.00450000000001},{"$f":"'[1]Weekly Pig prices'!H80","v":4217},{"$f":"'[1]Weekly Pig prices'!I80","v":154.40550000000002},{"$f":"'[1]Weekly Pig prices'!J80","v":1151},{"$f":"'[1]Weekly Pig prices'!K80","v":171.36},{"$f":"'[1]Weekly Pig prices'!L80","v":169.70000000000002},{"$f":"'[1]Weekly Pig prices'!M80","v":200.01},{"$f":"'[1]Weekly Pig prices'!N80","v":194.85},{"$f":"'[1]Weekly Pig prices'!O80","v":165},{"$f":"'[1]Weekly Pig prices'!P80","v":""},{"$f":"'[1]Weekly Pig prices'!Q80","v":""},{"$f":"'[1]Weekly Pig prices'!R80","v":168.29},{"$f":"'[1]Weekly Pig prices'!S80","v":179.11},{"$f":"'[1]Weekly Pig prices'!T80","v":210},{"$f":"'[1]Weekly Pig prices'!U80","v":178.7586},{"$f":"'[1]Weekly Pig prices'!V80","v":125.44},{"$f":"'[1]Weekly Pig prices'!W80","v":172.91470000000001},{"$f":"'[1]Weekly Pig prices'!X80","v":597.04},{"$f":"'[1]Weekly Pig prices'!Y80","v":170.20000000000002},{"$f":"'[1]Weekly Pig prices'!Z80","v":167.3792},{"$f":"'[1]Weekly Pig prices'!AA80","v":51226.87},{"$f":"'[1]Weekly Pig prices'!AB80","v":237},{"$f":"'[1]Weekly Pig prices'!AC80","v":154.46},{"$f":"'[1]Weekly Pig prices'!AD80","v":168.59},{"$f":"'[1]Weekly Pig prices'!AE80","v":170.25450000000001},{"$f":"'[1]Weekly Pig prices'!AF80","v":709.38},{"$f":"'[1]Weekly Pig prices'!AG80","v":181},{"$f":"'[1]Weekly Pig prices'!AH80","v":163.98580000000001},{"$f":"'[1]Weekly Pig prices'!AI80","v":724.18000000000006},{"$f":"'[1]Weekly Pig prices'!AJ80","v":163.99},{"$f":"'[1]Weekly Pig prices'!AK80","v":168.93},{"$f":"'[1]Weekly Pig prices'!AL80","v":183.70000000000002},{"$f":"'[1]Weekly Pig prices'!AM80","v":186.77090000000001},{"$f":"'[1]Weekly Pig prices'!AN80","v":1563},{"$f":"'[1]Weekly Pig prices'!AO80","v":178.50380000000001},{"$f":"'[1]Weekly Pig prices'!AQ80","v":0},null,{"$f":"'[1]Weekly Pig prices'!$AR80","v":172.31012370000005},{"$f":"'[1]Weekly Pig prices'!AS80","v":1.2304998377714593E-3}]
["201313","2013-03-25",13,{"$f":"'[1]Weekly Pig prices'!D81","v":154.70000000000002},{"$f":"'[1]Weekly Pig prices'!E81","v":198.96210000000002},{"$f":"'[1]Weekly Pig prices'!F81","v":389.13},{"$f":"'[1]Weekly Pig prices'!G81","v":163.44040000000001},{"$f":"'[1]Weekly Pig prices'!H81","v":4212},{"$f":"'[1]Weekly Pig prices'!I81","v":154.4128},{"$f":"'[1]Weekly Pig prices'!J81","v":1151},{"$f":"'[1]Weekly Pig prices'!K81","v":171.36},{"$f":"'[1]Weekly Pig prices'!L81","v":169.4},{"$f":"'[1]Weekly Pig prices'!M81","v":198.16},{"$f":"'[1]Weekly Pig prices'!N81","v":189.34},{"$f":"'[1]Weekly Pig prices'!O81","v":164},{"$f":"'[1]Weekly Pig prices'!P81","v":""},{"$f":"'[1]Weekly Pig prices'!Q81","v":""},{"$f":"'[1]Weekly Pig prices'!R81","v":168.29},{"$f":"'[1]Weekly Pig prices'!S81","v":176.24},{"$f":"'[1]Weekly Pig prices'!T81","v":210},{"$f":"'[1]Weekly Pig prices'!U81","v":179.04330000000002},{"$f":"'[1]Weekly Pig prices'!V81","v":125.65},{"$f":"'[1]Weekly Pig prices'!W81","v":173.02190000000002},{"$f":"'[1]Weekly Pig prices'!X81","v":597.41},{"$f":"'[1]Weekly Pig prices'!Y81","v":170.3},{"$f":"'[1]Weekly Pig prices'!Z81","v":167.3152},{"$f":"'[1]Weekly Pig prices'!AA81","v":51044.99},{"$f":"'[1]Weekly Pig prices'!AB81","v":237},{"$f":"'[1]Weekly Pig prices'!AC81","v":154.54},{"$f":"'[1]Weekly Pig prices'!AD81","v":168.48},{"$f":"'[1]Weekly Pig prices'!AE81","v":170.15540000000001},{"$f":"'[1]Weekly Pig prices'!AF81","v":710.80000000000007},{"$f":"'[1]Weekly Pig prices'!AG81","v":181},{"$f":"'[1]Weekly Pig prices'!AH81","v":162.45529999999999},{"$f":"'[1]Weekly Pig prices'!AI81","v":717.86},{"$f":"'[1]Weekly Pig prices'!AJ81","v":160.95000000000002},{"$f":"'[1]Weekly Pig prices'!AK81","v":167.85},{"$f":"'[1]Weekly Pig prices'!AL81","v":183.73},{"$f":"'[1]Weekly Pig prices'!AM81","v":186.52070000000001},{"$f":"'[1]Weekly Pig prices'!AN81","v":1561},{"$f":"'[1]Weekly Pig prices'!AO81","v":180.88070000000002},{"$f":"'[1]Weekly Pig prices'!AQ81","v":0},null,{"$f":"'[1]Weekly Pig prices'!$AR81","v":171.03073219999999},{"$f":"'[1]Weekly Pig prices'!AS81","v":-7.4249351838870936E-3}]
["201314","2013-04-01",14,{"$f":"'[1]Weekly Pig prices'!D82","v":155.9},{"$f":"'[1]Weekly Pig prices'!E82","v":195.83290000000002},{"$f":"'[1]Weekly Pig prices'!F82","v":383.01},{"$f":"'[1]Weekly Pig prices'!G82","v":164.01520000000002},{"$f":"'[1]Weekly Pig prices'!H82","v":4230},{"$f":"'[1]Weekly Pig prices'!I82","v":154.40280000000001},{"$f":"'[1]Weekly Pig prices'!J82","v":1151},{"$f":"'[1]Weekly Pig prices'!K82","v":171.36},{"$f":"'[1]Weekly Pig prices'!L82","v":168.94},{"$f":"'[1]Weekly Pig prices'!M82","v":196.3},{"$f":"'[1]Weekly Pig prices'!N82","v":194.42000000000002},{"$f":"'[1]Weekly Pig prices'!O82","v":163},{"$f":"'[1]Weekly Pig prices'!P82","v":""},{"$f":"'[1]Weekly Pig prices'!Q82","v":""},{"$f":"'[1]Weekly Pig prices'!R82","v":168.39000000000001},{"$f":"'[1]Weekly Pig prices'!S82","v":172.31},{"$f":"'[1]Weekly Pig prices'!T82","v":209},{"$f":"'[1]Weekly Pig prices'!U82","v":178.8854},{"$f":"'[1]Weekly Pig prices'!V82","v":125.46000000000001},{"$f":"'[1]Weekly Pig prices'!W82","v":175.80510000000001},{"$f":"'[1]Weekly Pig prices'!X82","v":607.02},{"$f":"'[1]Weekly Pig prices'!Y82","v":168.5},{"$f":"'[1]Weekly Pig prices'!Z82","v":168.95340000000002},{"$f":"'[1]Weekly Pig prices'!AA82","v":51084.03},{"$f":"'[1]Weekly Pig prices'!AB82","v":237},{"$f":"'[1]Weekly Pig prices'!AC82","v":155.29},{"$f":"'[1]Weekly Pig prices'!AD82","v":168.21},{"$f":"'[1]Weekly Pig prices'!AE82","v":170.5061},{"$f":"'[1]Weekly Pig prices'!AF82","v":713.02},{"$f":"'[1]Weekly Pig prices'!AG82","v":181},{"$f":"'[1]Weekly Pig prices'!AH82","v":160.04140000000001},{"$f":"'[1]Weekly Pig prices'!AI82","v":707.52},{"$f":"'[1]Weekly Pig prices'!AJ82","v":162.01},{"$f":"'[1]Weekly Pig prices'!AK82","v":172.76},{"$f":"'[1]Weekly Pig prices'!AL82","v":184.36},{"$f":"'[1]Weekly Pig prices'!AM82","v":191.76580000000001},{"$f":"'[1]Weekly Pig prices'!AN82","v":1604},{"$f":"'[1]Weekly Pig prices'!AO82","v":181.34400000000002},{"$f":"'[1]Weekly Pig prices'!AQ82","v":0},null,{"$f":"'[1]Weekly Pig prices'!$AR82","v":171.73886270000003},{"$f":"'[1]Weekly Pig prices'!AS82","v":4.1403699258677484E-3}]
["201315","2013-04-08",15,{"$f":"'[1]Weekly Pig prices'!D83","v":155.6},{"$f":"'[1]Weekly Pig prices'!E83","v":194.96370000000002},{"$f":"'[1]Weekly Pig prices'!F83","v":381.31},{"$f":"'[1]Weekly Pig prices'!G83","v":163.92610000000002},{"$f":"'[1]Weekly Pig prices'!H83","v":4234},{"$f":"'[1]Weekly Pig prices'!I83","v":154.38470000000001},{"$f":"'[1]Weekly Pig prices'!J83","v":1151},{"$f":"'[1]Weekly Pig prices'!K83","v":172.38},{"$f":"'[1]Weekly Pig prices'!L83","v":167.94},{"$f":"'[1]Weekly Pig prices'!M83","v":194.44},{"$f":"'[1]Weekly Pig prices'!N83","v":192.8},{"$f":"'[1]Weekly Pig prices'!O83","v":161},{"$f":"'[1]Weekly Pig prices'!P83","v":""},{"$f":"'[1]Weekly Pig prices'!Q83","v":""},{"$f":"'[1]Weekly Pig prices'!R83","v":168.41},{"$f":"'[1]Weekly Pig prices'!S83","v":166.48},{"$f":"'[1]Weekly Pig prices'!T83","v":200},{"$f":"'[1]Weekly Pig prices'!U83","v":172.76340000000002},{"$f":"'[1]Weekly Pig prices'!V83","v":121.08},{"$f":"'[1]Weekly Pig prices'!W83","v":174.90730000000002},{"$f":"'[1]Weekly Pig prices'!X83","v":603.91999999999996},{"$f":"'[1]Weekly Pig prices'!Y83","v":170.70000000000002},{"$f":"'[1]Weekly Pig prices'!Z83","v":170.56380000000001},{"$f":"'[1]Weekly Pig prices'!AA83","v":50719.090000000004},{"$f":"'[1]Weekly Pig prices'!AB83","v":237},{"$f":"'[1]Weekly Pig prices'!AC83","v":155.52000000000001},{"$f":"'[1]Weekly Pig prices'!AD83","v":167.99},{"$f":"'[1]Weekly Pig prices'!AE83","v":173.5615},{"$f":"'[1]Weekly Pig prices'!AF83","v":715.79},{"$f":"'[1]Weekly Pig prices'!AG83","v":181},{"$f":"'[1]Weekly Pig prices'!AH83","v":159.92490000000001},{"$f":"'[1]Weekly Pig prices'!AI83","v":703.64},{"$f":"'[1]Weekly Pig prices'!AJ83","v":166.6},{"$f":"'[1]Weekly Pig prices'!AK83","v":169.9},{"$f":"'[1]Weekly Pig prices'!AL83","v":184.45000000000002},{"$f":"'[1]Weekly Pig prices'!AM83","v":187.40050000000002},{"$f":"'[1]Weekly Pig prices'!AN83","v":1565},{"$f":"'[1]Weekly Pig prices'!AO83","v":181.12120000000002},{"$f":"'[1]Weekly Pig prices'!AQ83","v":0},null,{"$f":"'[1]Weekly Pig prices'!$AR83","v":171.26631729999997},{"$f":"'[1]Weekly Pig prices'!AS83","v":-2.7515344667532471E-3}]
["201316","2013-04-15",16,{"$f":"'[1]Weekly Pig prices'!D84","v":156.80000000000001},{"$f":"'[1]Weekly Pig prices'!E84","v":194.96370000000002},{"$f":"'[1]Weekly Pig prices'!F84","v":381.31},{"$f":"'[1]Weekly Pig prices'!G84","v":163.3176},{"$f":"'[1]Weekly Pig prices'!H84","v":4224},{"$f":"'[1]Weekly Pig prices'!I84","v":154.3776},{"$f":"'[1]Weekly Pig prices'!J84","v":1151},{"$f":"'[1]Weekly Pig prices'!K84","v":173.4},{"$f":"'[1]Weekly Pig prices'!L84","v":168.57},{"$f":"'[1]Weekly Pig prices'!M84","v":192.21},{"$f":"'[1]Weekly Pig prices'!N84","v":192.11},{"$f":"'[1]Weekly Pig prices'!O84","v":159},{"$f":"'[1]Weekly Pig prices'!P84","v":""},{"$f":"'[1]Weekly Pig prices'!Q84","v":""},{"$f":"'[1]Weekly Pig prices'!R84","v":164.46},{"$f":"'[1]Weekly Pig prices'!S84","v":163.84},{"$f":"'[1]Weekly Pig prices'!T84","v":209},{"$f":"'[1]Weekly Pig prices'!U84","v":183.50570000000002},{"$f":"'[1]Weekly Pig prices'!V84","v":128.53},{"$f":"'[1]Weekly Pig prices'!W84","v":174.39760000000001},{"$f":"'[1]Weekly Pig prices'!X84","v":602.16},{"$f":"'[1]Weekly Pig prices'!Y84","v":172.6},{"$f":"'[1]Weekly Pig prices'!Z84","v":170.78300000000002},{"$f":"'[1]Weekly Pig prices'!AA84","v":50566.41},{"$f":"'[1]Weekly Pig prices'!AB84","v":237},{"$f":"'[1]Weekly Pig prices'!AC84","v":157.25},{"$f":"'[1]Weekly Pig prices'!AD84","v":168.02},{"$f":"'[1]Weekly Pig prices'!AE84","v":173.14860000000002},{"$f":"'[1]Weekly Pig prices'!AF84","v":711.47},{"$f":"'[1]Weekly Pig prices'!AG84","v":181},{"$f":"'[1]Weekly Pig prices'!AH84","v":159.79260000000002},{"$f":"'[1]Weekly Pig prices'!AI84","v":699.12},{"$f":"'[1]Weekly Pig prices'!AJ84","v":167.64000000000001},{"$f":"'[1]Weekly Pig prices'!AK84","v":169.18},{"$f":"'[1]Weekly Pig prices'!AL84","v":184.78},{"$f":"'[1]Weekly Pig prices'!AM84","v":185.64620000000002},{"$f":"'[1]Weekly Pig prices'!AN84","v":1567},{"$f":"'[1]Weekly Pig prices'!AO84","v":182.7552},{"$f":"'[1]Weekly Pig prices'!AQ84","v":0},null,{"$f":"'[1]Weekly Pig prices'!$AR84","v":171.16570609999999},{"$f":"'[1]Weekly Pig prices'!AS84","v":-5.8745468219378871E-4}]
["201317","2013-04-22",17,{"$f":"'[1]Weekly Pig prices'!D85","v":157},{"$f":"'[1]Weekly Pig prices'!E85","v":189.9632},{"$f":"'[1]Weekly Pig prices'!F85","v":371.53000000000003},{"$f":"'[1]Weekly Pig prices'!G85","v":165.1454},{"$f":"'[1]Weekly Pig prices'!H85","v":4270},{"$f":"'[1]Weekly Pig prices'!I85","v":154.3844},{"$f":"'[1]Weekly Pig prices'!J85","v":1151},{"$f":"'[1]Weekly Pig prices'!K85","v":170.34},{"$f":"'[1]Weekly Pig prices'!L85","v":172.41},{"$f":"'[1]Weekly Pig prices'!M85","v":192.21},{"$f":"'[1]Weekly Pig prices'!N85","v":192.08},{"$f":"'[1]Weekly Pig prices'!O85","v":156},{"$f":"'[1]Weekly Pig prices'!P85","v":""},{"$f":"'[1]Weekly Pig prices'!Q85","v":""},{"$f":"'[1]Weekly Pig prices'!R85","v":164.46},{"$f":"'[1]Weekly Pig prices'!S85","v":163.84},{"$f":"'[1]Weekly Pig prices'!T85","v":204},{"$f":"'[1]Weekly Pig prices'!U85","v":173.22890000000001},{"$f":"'[1]Weekly Pig prices'!V85","v":121.28},{"$f":"'[1]Weekly Pig prices'!W85","v":176.10060000000001},{"$f":"'[1]Weekly Pig prices'!X85","v":608.04},{"$f":"'[1]Weekly Pig prices'!Y85","v":172.6},{"$f":"'[1]Weekly Pig prices'!Z85","v":169.25580000000002},{"$f":"'[1]Weekly Pig prices'!AA85","v":50810.840000000004},{"$f":"'[1]Weekly Pig prices'!AB85","v":237},{"$f":"'[1]Weekly Pig prices'!AC85","v":157.24},{"$f":"'[1]Weekly Pig prices'!AD85","v":168},{"$f":"'[1]Weekly Pig prices'!AE85","v":171.5428},{"$f":"'[1]Weekly Pig prices'!AF85","v":709.30000000000007},{"$f":"'[1]Weekly Pig prices'!AG85","v":181},{"$f":"'[1]Weekly Pig prices'!AH85","v":162.25210000000001},{"$f":"'[1]Weekly Pig prices'!AI85","v":705.88},{"$f":"'[1]Weekly Pig prices'!AJ85","v":168.11},{"$f":"'[1]Weekly Pig prices'!AK85","v":168.81},{"$f":"'[1]Weekly Pig prices'!AL85","v":183.93},{"$f":"'[1]Weekly Pig prices'!AM85","v":182.1326},{"$f":"'[1]Weekly Pig prices'!AN85","v":1559},{"$f":"'[1]Weekly Pig prices'!AO85","v":184.5017},{"$f":"'[1]Weekly Pig prices'!AQ85","v":0},null,{"$f":"'[1]Weekly Pig prices'!$AR85","v":170.20644759999999},{"$f":"'[1]Weekly Pig prices'!AS85","v":-5.6042680619654561E-3}]
["201318","2013-04-29",18,{"$f":"'[1]Weekly Pig prices'!D86","v":152.5},{"$f":"'[1]Weekly Pig prices'!E86","v":188.53150000000002},{"$f":"'[1]Weekly Pig prices'!F86","v":368.73},{"$f":"'[1]Weekly Pig prices'!G86","v":168.30119999999999},{"$f":"'[1]Weekly Pig prices'!H86","v":4327},{"$f":"'[1]Weekly Pig prices'!I86","v":154.3877},{"$f":"'[1]Weekly Pig prices'!J86","v":1151},{"$f":"'[1]Weekly Pig prices'!K86","v":165.24},{"$f":"'[1]Weekly Pig prices'!L86","v":172.51},{"$f":"'[1]Weekly Pig prices'!M86","v":191.29},{"$f":"'[1]Weekly Pig prices'!N86","v":189.77},{"$f":"'[1]Weekly Pig prices'!O86","v":153},{"$f":"'[1]Weekly Pig prices'!P86","v":""},{"$f":"'[1]Weekly Pig prices'!Q86","v":""},{"$f":"'[1]Weekly Pig prices'!R86","v":164.43},{"$f":"'[1]Weekly Pig prices'!S86","v":163.84},{"$f":"'[1]Weekly Pig prices'!T86","v":210},{"$f":"'[1]Weekly Pig prices'!U86","v":178.5359},{"$f":"'[1]Weekly Pig prices'!V86","v":124.97},{"$f":"'[1]Weekly Pig prices'!W86","v":174.35990000000001},{"$f":"'[1]Weekly Pig prices'!X86","v":602.03},{"$f":"'[1]Weekly Pig prices'!Y86","v":170.70000000000002},{"$f":"'[1]Weekly Pig prices'!Z86","v":166.59790000000001},{"$f":"'[1]Weekly Pig prices'!AA86","v":49724.23},{"$f":"'[1]Weekly Pig prices'!AB86","v":237},{"$f":"'[1]Weekly Pig prices'!AC86","v":151.67000000000002},{"$f":"'[1]Weekly Pig prices'!AD86","v":161.85},{"$f":"'[1]Weekly Pig prices'!AE86","v":167.74520000000001},{"$f":"'[1]Weekly Pig prices'!AF86","v":695.39},{"$f":"'[1]Weekly Pig prices'!AG86","v":181},{"$f":"'[1]Weekly Pig prices'!AH86","v":165.06400000000002},{"$f":"'[1]Weekly Pig prices'!AI86","v":713.14},{"$f":"'[1]Weekly Pig prices'!AJ86","v":164.98},{"$f":"'[1]Weekly Pig prices'!AK86","v":170.54},{"$f":"'[1]Weekly Pig prices'!AL86","v":184.14000000000001},{"$f":"'[1]Weekly Pig prices'!AM86","v":182.12860000000001},{"$f":"'[1]Weekly Pig prices'!AN86","v":1556},{"$f":"'[1]Weekly Pig prices'!AO86","v":186.95430000000002},{"$f":"'[1]Weekly Pig prices'!AQ86","v":0},null,{"$f":"'[1]Weekly Pig prices'!$AR86","v":167.63951320000001},{"$f":"'[1]Weekly Pig prices'!AS86","v":-1.5081299423112871E-2}]
["201319","2013-05-06",19,{"$f":"'[1]Weekly Pig prices'!D87","v":147},{"$f":"'[1]Weekly Pig prices'!E87","v":186.73690000000002},{"$f":"'[1]Weekly Pig prices'!F87","v":365.22},{"$f":"'[1]Weekly Pig prices'!G87","v":167.36350000000002},{"$f":"'[1]Weekly Pig prices'!H87","v":4312},{"$f":"'[1]Weekly Pig prices'!I87","v":150.26150000000001},{"$f":"'[1]Weekly Pig prices'!J87","v":1120},{"$f":"'[1]Weekly Pig prices'!K87","v":163.20000000000002},{"$f":"'[1]Weekly Pig prices'!L87","v":173.23},{"$f":"'[1]Weekly Pig prices'!M87","v":191.29},{"$f":"'[1]Weekly Pig prices'!N87","v":186.64000000000001},{"$f":"'[1]Weekly Pig prices'!O87","v":153},{"$f":"'[1]Weekly Pig prices'!P87","v":""},{"$f":"'[1]Weekly Pig prices'!Q87","v":""},{"$f":"'[1]Weekly Pig prices'!R87","v":160.6},{"$f":"'[1]Weekly Pig prices'!S87","v":163.84},{"$f":"'[1]Weekly Pig prices'!T87","v":210},{"$f":"'[1]Weekly Pig prices'!U87","v":175.5607},{"$f":"'[1]Weekly Pig prices'!V87","v":122.89},{"$f":"'[1]Weekly Pig prices'!W87","v":172.21680000000001},{"$f":"'[1]Weekly Pig prices'!X87","v":594.63},{"$f":"'[1]Weekly Pig prices'!Y87","v":161.9},{"$f":"'[1]Weekly Pig prices'!Z87","v":165.67230000000001},{"$f":"'[1]Weekly Pig prices'!AA87","v":48792.15},{"$f":"'[1]Weekly Pig prices'!AB87","v":237},{"$f":"'[1]Weekly Pig prices'!AC87","v":147.75},{"$f":"'[1]Weekly Pig prices'!AD87","v":157.68},{"$f":"'[1]Weekly Pig prices'!AE87","v":164.99080000000001},{"$f":"'[1]Weekly Pig prices'!AF87","v":683.38},{"$f":"'[1]Weekly Pig prices'!AG87","v":177},{"$f":"'[1]Weekly Pig prices'!AH87","v":165.91240000000002},{"$f":"'[1]Weekly Pig prices'!AI87","v":716.5},{"$f":"'[1]Weekly Pig prices'!AJ87","v":158.09},{"$f":"'[1]Weekly Pig prices'!AK87","v":169.08},{"$f":"'[1]Weekly Pig prices'!AL87","v":181.35},{"$f":"'[1]Weekly Pig prices'!AM87","v":182.0368},{"$f":"'[1]Weekly Pig prices'!AN87","v":1555},{"$f":"'[1]Weekly Pig prices'!AO87","v":187.476},{"$f":"'[1]Weekly Pig prices'!AQ87","v":0},null,{"$f":"'[1]Weekly Pig prices'!$AR87","v":165.34650480000005},{"$f":"'[1]Weekly Pig prices'!AS87","v":-1.3678209607208336E-2}]
["201320","2013-05-13",20,{"$f":"'[1]Weekly Pig prices'!D88","v":146.6},{"$f":"'[1]Weekly Pig prices'!E88","v":186.73690000000002},{"$f":"'[1]Weekly Pig prices'!F88","v":365.22},{"$f":"'[1]Weekly Pig prices'!G88","v":165.30030000000002},{"$f":"'[1]Weekly Pig prices'!H88","v":4286},{"$f":"'[1]Weekly Pig prices'!I88","v":150.26609999999999},{"$f":"'[1]Weekly Pig prices'!J88","v":1120},{"$f":"'[1]Weekly Pig prices'!K88","v":163.20000000000002},{"$f":"'[1]Weekly Pig prices'!L88","v":172.84},{"$f":"'[1]Weekly Pig prices'!M88","v":191.29},{"$f":"'[1]Weekly Pig prices'!N88","v":182.86},{"$f":"'[1]Weekly Pig prices'!O88","v":154},{"$f":"'[1]Weekly Pig prices'!P88","v":""},{"$f":"'[1]Weekly Pig prices'!Q88","v":""},{"$f":"'[1]Weekly Pig prices'!R88","v":160.54},{"$f":"'[1]Weekly Pig prices'!S88","v":163.75},{"$f":"'[1]Weekly Pig prices'!T88","v":210},{"$f":"'[1]Weekly Pig prices'!U88","v":178.29910000000001},{"$f":"'[1]Weekly Pig prices'!V88","v":124.71000000000001},{"$f":"'[1]Weekly Pig prices'!W88","v":169.05119999999999},{"$f":"'[1]Weekly Pig prices'!X88","v":583.70000000000005},{"$f":"'[1]Weekly Pig prices'!Y88","v":162.80000000000001},{"$f":"'[1]Weekly Pig prices'!Z88","v":165.8109},{"$f":"'[1]Weekly Pig prices'!AA88","v":48462.74},{"$f":"'[1]Weekly Pig prices'!AB88","v":237},{"$f":"'[1]Weekly Pig prices'!AC88","v":147.72999999999999},{"$f":"'[1]Weekly Pig prices'!AD88","v":158.15},{"$f":"'[1]Weekly Pig prices'!AE88","v":163.06390000000002},{"$f":"'[1]Weekly Pig prices'!AF88","v":679.55000000000007},{"$f":"'[1]Weekly Pig prices'!AG88","v":175},{"$f":"'[1]Weekly Pig prices'!AH88","v":166.59820000000002},{"$f":"'[1]Weekly Pig prices'!AI88","v":721.82},{"$f":"'[1]Weekly Pig prices'!AJ88","v":157.26},{"$f":"'[1]Weekly Pig prices'!AK88","v":167.06},{"$f":"'[1]Weekly Pig prices'!AL88","v":179.94},{"$f":"'[1]Weekly Pig prices'!AM88","v":180.34310000000002},{"$f":"'[1]Weekly Pig prices'!AN88","v":1549},{"$f":"'[1]Weekly Pig prices'!AO88","v":188.68700000000001},{"$f":"'[1]Weekly Pig prices'!AQ88","v":0},null,{"$f":"'[1]Weekly Pig prices'!$AR88","v":164.56881370000002},{"$f":"'[1]Weekly Pig prices'!AS88","v":-4.7034021126767245E-3}]
["201321","2013-05-20",21,{"$f":"'[1]Weekly Pig prices'!D89","v":147.5},{"$f":"'[1]Weekly Pig prices'!E89","v":186.4812},{"$f":"'[1]Weekly Pig prices'!F89","v":364.72},{"$f":"'[1]Weekly Pig prices'!G89","v":164.67700000000002},{"$f":"'[1]Weekly Pig prices'!H89","v":4290},{"$f":"'[1]Weekly Pig prices'!I89","v":150.26730000000001},{"$f":"'[1]Weekly Pig prices'!J89","v":1120},{"$f":"'[1]Weekly Pig prices'!K89","v":163.20000000000002},{"$f":"'[1]Weekly Pig prices'!L89","v":171.5},{"$f":"'[1]Weekly Pig prices'!M89","v":191.21},{"$f":"'[1]Weekly Pig prices'!N89","v":184.84},{"$f":"'[1]Weekly Pig prices'!O89","v":154},{"$f":"'[1]Weekly Pig prices'!P89","v":""},{"$f":"'[1]Weekly Pig prices'!Q89","v":""},{"$f":"'[1]Weekly Pig prices'!R89","v":160.72999999999999},{"$f":"'[1]Weekly Pig prices'!S89","v":163.64000000000001},{"$f":"'[1]Weekly Pig prices'!T89","v":210},{"$f":"'[1]Weekly Pig prices'!U89","v":178.1499},{"$f":"'[1]Weekly Pig prices'!V89","v":124.71000000000001},{"$f":"'[1]Weekly Pig prices'!W89","v":173.45050000000001},{"$f":"'[1]Weekly Pig prices'!X89","v":598.89},{"$f":"'[1]Weekly Pig prices'!Y89","v":161.20000000000002},{"$f":"'[1]Weekly Pig prices'!Z89","v":166.8802},{"$f":"'[1]Weekly Pig prices'!AA89","v":48467.03},{"$f":"'[1]Weekly Pig prices'!AB89","v":237},{"$f":"'[1]Weekly Pig prices'!AC89","v":147.85},{"$f":"'[1]Weekly Pig prices'!AD89","v":157.81},{"$f":"'[1]Weekly Pig prices'!AE89","v":164.19490000000002},{"$f":"'[1]Weekly Pig prices'!AF89","v":687.89},{"$f":"'[1]Weekly Pig prices'!AG89","v":175},{"$f":"'[1]Weekly Pig prices'!AH89","v":166.6559},{"$f":"'[1]Weekly Pig prices'!AI89","v":725.12},{"$f":"'[1]Weekly Pig prices'!AJ89","v":158.01},{"$f":"'[1]Weekly Pig prices'!AK89","v":167.62},{"$f":"'[1]Weekly Pig prices'!AL89","v":177.96},{"$f":"'[1]Weekly Pig prices'!AM89","v":180.17750000000001},{"$f":"'[1]Weekly Pig prices'!AN89","v":1546},{"$f":"'[1]Weekly Pig prices'!AO89","v":188.2801},{"$f":"'[1]Weekly Pig prices'!AQ89","v":0},null,{"$f":"'[1]Weekly Pig prices'!$AR89","v":165.05326590000004},{"$f":"'[1]Weekly Pig prices'!AS89","v":2.9437667387159916E-3}]
["201322","2013-05-27",22,{"$f":"'[1]Weekly Pig prices'!D90","v":146.6},{"$f":"'[1]Weekly Pig prices'!E90","v":186.4812},{"$f":"'[1]Weekly Pig prices'!F90","v":364.72},{"$f":"'[1]Weekly Pig prices'!G90","v":166.67770000000002},{"$f":"'[1]Weekly Pig prices'!H90","v":4309},{"$f":"'[1]Weekly Pig prices'!I90","v":150.25030000000001},{"$f":"'[1]Weekly Pig prices'!J90","v":1120},{"$f":"'[1]Weekly Pig prices'!K90","v":163.20000000000002},{"$f":"'[1]Weekly Pig prices'!L90","v":172.93},{"$f":"'[1]Weekly Pig prices'!M90","v":189.8},{"$f":"'[1]Weekly Pig prices'!N90","v":184.78},{"$f":"'[1]Weekly Pig prices'!O90","v":155},{"$f":"'[1]Weekly Pig prices'!P90","v":""},{"$f":"'[1]Weekly Pig prices'!Q90","v":""},{"$f":"'[1]Weekly Pig prices'!R90","v":160.99},{"$f":"'[1]Weekly Pig prices'!S90","v":163.55000000000001},{"$f":"'[1]Weekly Pig prices'!T90","v":209},{"$f":"'[1]Weekly Pig prices'!U90","v":179.1387},{"$f":"'[1]Weekly Pig prices'!V90","v":125.63000000000001},{"$f":"'[1]Weekly Pig prices'!W90","v":171.9503},{"$f":"'[1]Weekly Pig prices'!X90","v":593.71},{"$f":"'[1]Weekly Pig prices'!Y90","v":161.4},{"$f":"'[1]Weekly Pig prices'!Z90","v":166.56450000000001},{"$f":"'[1]Weekly Pig prices'!AA90","v":48519.3},{"$f":"'[1]Weekly Pig prices'!AB90","v":237},{"$f":"'[1]Weekly Pig prices'!AC90","v":147.78},{"$f":"'[1]Weekly Pig prices'!AD90","v":157.81},{"$f":"'[1]Weekly Pig prices'!AE90","v":164.4872},{"$f":"'[1]Weekly Pig prices'!AF90","v":696.07},{"$f":"'[1]Weekly Pig prices'!AG90","v":173},{"$f":"'[1]Weekly Pig prices'!AH90","v":169.2276},{"$f":"'[1]Weekly Pig prices'!AI90","v":736.95},{"$f":"'[1]Weekly Pig prices'!AJ90","v":157.29},{"$f":"'[1]Weekly Pig prices'!AK90","v":169.70000000000002},{"$f":"'[1]Weekly Pig prices'!AL90","v":179.85},{"$f":"'[1]Weekly Pig prices'!AM90","v":179.40180000000001},{"$f":"'[1]Weekly Pig prices'!AN90","v":1541},{"$f":"'[1]Weekly Pig prices'!AO90","v":188.05240000000001},{"$f":"'[1]Weekly Pig prices'!AQ90","v":0},null,{"$f":"'[1]Weekly Pig prices'!$AR90","v":165.1883809},{"$f":"'[1]Weekly Pig prices'!AS90","v":8.1861451976239508E-4}]
["201323","2013-06-03",23,{"$f":"'[1]Weekly Pig prices'!D91","v":147},{"$f":"'[1]Weekly Pig prices'!E91","v":186.108},{"$f":"'[1]Weekly Pig prices'!F91","v":363.99},{"$f":"'[1]Weekly Pig prices'!G91","v":168.50460000000001},{"$f":"'[1]Weekly Pig prices'!H91","v":4333},{"$f":"'[1]Weekly Pig prices'!I91","v":150.23390000000001},{"$f":"'[1]Weekly Pig prices'!J91","v":1120},{"$f":"'[1]Weekly Pig prices'!K91","v":167.28},{"$f":"'[1]Weekly Pig prices'!L91","v":170.23},{"$f":"'[1]Weekly Pig prices'!M91","v":189.8},{"$f":"'[1]Weekly Pig prices'!N91","v":186.55},{"$f":"'[1]Weekly Pig prices'!O91","v":157},{"$f":"'[1]Weekly Pig prices'!P91","v":""},{"$f":"'[1]Weekly Pig prices'!Q91","v":""},{"$f":"'[1]Weekly Pig prices'!R91","v":160.77000000000001},{"$f":"'[1]Weekly Pig prices'!S91","v":164.66},{"$f":"'[1]Weekly Pig prices'!T91","v":209},{"$f":"'[1]Weekly Pig prices'!U91","v":176.68100000000001},{"$f":"'[1]Weekly Pig prices'!V91","v":124.02},{"$f":"'[1]Weekly Pig prices'!W91","v":172.93790000000001},{"$f":"'[1]Weekly Pig prices'!X91","v":597.12},{"$f":"'[1]Weekly Pig prices'!Y91","v":166.3},{"$f":"'[1]Weekly Pig prices'!Z91","v":166.83360000000002},{"$f":"'[1]Weekly Pig prices'!AA91","v":49252.15},{"$f":"'[1]Weekly Pig prices'!AB91","v":237},{"$f":"'[1]Weekly Pig prices'!AC91","v":148.92000000000002},{"$f":"'[1]Weekly Pig prices'!AD91","v":160.14000000000001},{"$f":"'[1]Weekly Pig prices'!AE91","v":168.5171},{"$f":"'[1]Weekly Pig prices'!AF91","v":720.17},{"$f":"'[1]Weekly Pig prices'!AG91","v":174},{"$f":"'[1]Weekly Pig prices'!AH91","v":167.7704},{"$f":"'[1]Weekly Pig prices'!AI91","v":747.82},{"$f":"'[1]Weekly Pig prices'!AJ91","v":159.41},{"$f":"'[1]Weekly Pig prices'!AK91","v":168.34},{"$f":"'[1]Weekly Pig prices'!AL91","v":177.19},{"$f":"'[1]Weekly Pig prices'!AM91","v":196.74980000000002},{"$f":"'[1]Weekly Pig prices'!AN91","v":1696},{"$f":"'[1]Weekly Pig prices'!AO91","v":188.96710000000002},{"$f":"'[1]Weekly Pig prices'!AQ91","v":0},null,{"$f":"'[1]Weekly Pig prices'!$AR91","v":167.18911910000003},{"$f":"'[1]Weekly Pig prices'!AS91","v":1.2111857923053471E-2}]
["201324","2013-06-10",24,{"$f":"'[1]Weekly Pig prices'!D92","v":155.4},{"$f":"'[1]Weekly Pig prices'!E92","v":185.68870000000001},{"$f":"'[1]Weekly Pig prices'!F92","v":363.17},{"$f":"'[1]Weekly Pig prices'!G92","v":170.17680000000001},{"$f":"'[1]Weekly Pig prices'!H92","v":4368},{"$f":"'[1]Weekly Pig prices'!I92","v":153.1309},{"$f":"'[1]Weekly Pig prices'!J92","v":1142},{"$f":"'[1]Weekly Pig prices'!K92","v":171.36},{"$f":"'[1]Weekly Pig prices'!L92","v":169.19},{"$f":"'[1]Weekly Pig prices'!M92","v":189.24},{"$f":"'[1]Weekly Pig prices'!N92","v":189.48},{"$f":"'[1]Weekly Pig prices'!O92","v":162},{"$f":"'[1]Weekly Pig prices'!P92","v":""},{"$f":"'[1]Weekly Pig prices'!Q92","v":""},{"$f":"'[1]Weekly Pig prices'!R92","v":160.96},{"$f":"'[1]Weekly Pig prices'!S92","v":169.68},{"$f":"'[1]Weekly Pig prices'!T92","v":209},{"$f":"'[1]Weekly Pig prices'!U92","v":175.68040000000002},{"$f":"'[1]Weekly Pig prices'!V92","v":123.3},{"$f":"'[1]Weekly Pig prices'!W92","v":176.72030000000001},{"$f":"'[1]Weekly Pig prices'!X92","v":610.18000000000006},{"$f":"'[1]Weekly Pig prices'!Y92","v":163.9},{"$f":"'[1]Weekly Pig prices'!Z92","v":173.5181},{"$f":"'[1]Weekly Pig prices'!AA92","v":51229.97},{"$f":"'[1]Weekly Pig prices'!AB92","v":237},{"$f":"'[1]Weekly Pig prices'!AC92","v":156.26},{"$f":"'[1]Weekly Pig prices'!AD92","v":167.94},{"$f":"'[1]Weekly Pig prices'!AE92","v":173.2433},{"$f":"'[1]Weekly Pig prices'!AF92","v":738.14},{"$f":"'[1]Weekly Pig prices'!AG92","v":179},{"$f":"'[1]Weekly Pig prices'!AH92","v":169.8921},{"$f":"'[1]Weekly Pig prices'!AI92","v":763.67},{"$f":"'[1]Weekly Pig prices'!AJ92","v":165.99},{"$f":"'[1]Weekly Pig prices'!AK92","v":172.4},{"$f":"'[1]Weekly Pig prices'!AL92","v":178.66},{"$f":"'[1]Weekly Pig prices'!AM92","v":195.49630000000002},{"$f":"'[1]Weekly Pig prices'!AN92","v":1696},{"$f":"'[1]Weekly Pig prices'!AO92","v":190.60830000000001},{"$f":"'[1]Weekly Pig prices'!AQ92","v":0},null,{"$f":"'[1]Weekly Pig prices'!$AR92","v":171.38592820000002},{"$f":"'[1]Weekly Pig prices'!AS92","v":2.5102166472267706E-2}]
["201325","2013-06-17",25,{"$f":"'[1]Weekly Pig prices'!D93","v":155.4},{"$f":"'[1]Weekly Pig prices'!E93","v":185.68870000000001},{"$f":"'[1]Weekly Pig prices'!F93","v":363.17},{"$f":"'[1]Weekly Pig prices'!G93","v":172.8409},{"$f":"'[1]Weekly Pig prices'!H93","v":4451},{"$f":"'[1]Weekly Pig prices'!I93","v":155.79060000000001},{"$f":"'[1]Weekly Pig prices'!J93","v":1162},{"$f":"'[1]Weekly Pig prices'!K93","v":173.4},{"$f":"'[1]Weekly Pig prices'!L93","v":170.41},{"$f":"'[1]Weekly Pig prices'!M93","v":190.17000000000002},{"$f":"'[1]Weekly Pig prices'!N93","v":195.64000000000001},{"$f":"'[1]Weekly Pig prices'!O93","v":168},{"$f":"'[1]Weekly Pig prices'!P93","v":""},{"$f":"'[1]Weekly Pig prices'!Q93","v":""},{"$f":"'[1]Weekly Pig prices'!R93","v":160.95000000000002},{"$f":"'[1]Weekly Pig prices'!S93","v":179.01},{"$f":"'[1]Weekly Pig prices'!T93","v":209},{"$f":"'[1]Weekly Pig prices'!U93","v":180.23090000000002},{"$f":"'[1]Weekly Pig prices'!V93","v":126.45},{"$f":"'[1]Weekly Pig prices'!W93","v":178.82300000000001},{"$f":"'[1]Weekly Pig prices'!X93","v":617.44000000000005},{"$f":"'[1]Weekly Pig prices'!Y93","v":168.1},{"$f":"'[1]Weekly Pig prices'!Z93","v":173.78110000000001},{"$f":"'[1]Weekly Pig prices'!AA93","v":51294.21},{"$f":"'[1]Weekly Pig prices'!AB93","v":237},{"$f":"'[1]Weekly Pig prices'!AC93","v":156.49},{"$f":"'[1]Weekly Pig prices'!AD93","v":171.46},{"$f":"'[1]Weekly Pig prices'!AE93","v":175.7945},{"$f":"'[1]Weekly Pig prices'!AF93","v":752.29},{"$f":"'[1]Weekly Pig prices'!AG93","v":184},{"$f":"'[1]Weekly Pig prices'!AH93","v":175.7022},{"$f":"'[1]Weekly Pig prices'!AI93","v":790.74},{"$f":"'[1]Weekly Pig prices'!AJ93","v":169.15},{"$f":"'[1]Weekly Pig prices'!AK93","v":174.53},{"$f":"'[1]Weekly Pig prices'!AL93","v":176.56},{"$f":"'[1]Weekly Pig prices'!AM93","v":196.2501},{"$f":"'[1]Weekly Pig prices'!AN93","v":1697},{"$f":"'[1]Weekly Pig prices'!AO93","v":191.04179999999999},{"$f":"'[1]Weekly Pig prices'!AQ93","v":0},null,{"$f":"'[1]Weekly Pig prices'!$AR93","v":174.87595180000005},{"$f":"'[1]Weekly Pig prices'!AS93","v":2.0363536473819055E-2}]
["201326","2013-06-24",26,{"$f":"'[1]Weekly Pig prices'!D94","v":159.80000000000001},{"$f":"'[1]Weekly Pig prices'!E94","v":185.68870000000001},{"$f":"'[1]Weekly Pig prices'!F94","v":363.17},{"$f":"'[1]Weekly Pig prices'!G94","v":172.6386},{"$f":"'[1]Weekly Pig prices'!H94","v":4467},{"$f":"'[1]Weekly Pig prices'!I94","v":158.5994},{"$f":"'[1]Weekly Pig prices'!J94","v":1183},{"$f":"'[1]Weekly Pig prices'!K94","v":173.4},{"$f":"'[1]Weekly Pig prices'!L94","v":169.99},{"$f":"'[1]Weekly Pig prices'!M94","v":190.73},{"$f":"'[1]Weekly Pig prices'!N94","v":196.4},{"$f":"'[1]Weekly Pig prices'!O94","v":170},{"$f":"'[1]Weekly Pig prices'!P94","v":""},{"$f":"'[1]Weekly Pig prices'!Q94","v":""},{"$f":"'[1]Weekly Pig prices'!R94","v":160.92000000000002},{"$f":"'[1]Weekly Pig prices'!S94","v":184.88},{"$f":"'[1]Weekly Pig prices'!T94","v":209},{"$f":"'[1]Weekly Pig prices'!U94","v":185.416},{"$f":"'[1]Weekly Pig prices'!V94","v":130.17000000000002},{"$f":"'[1]Weekly Pig prices'!W94","v":178.58840000000001},{"$f":"'[1]Weekly Pig prices'!X94","v":616.63},{"$f":"'[1]Weekly Pig prices'!Y94","v":170.9},{"$f":"'[1]Weekly Pig prices'!Z94","v":177.97620000000001},{"$f":"'[1]Weekly Pig prices'!AA94","v":52824.61},{"$f":"'[1]Weekly Pig prices'!AB94","v":237},{"$f":"'[1]Weekly Pig prices'!AC94","v":160.46},{"$f":"'[1]Weekly Pig prices'!AD94","v":173.73},{"$f":"'[1]Weekly Pig prices'!AE94","v":176.40810000000002},{"$f":"'[1]Weekly Pig prices'!AF94","v":764.55000000000007},{"$f":"'[1]Weekly Pig prices'!AG94","v":187},{"$f":"'[1]Weekly Pig prices'!AH94","v":182.74350000000001},{"$f":"'[1]Weekly Pig prices'!AI94","v":818.91},{"$f":"'[1]Weekly Pig prices'!AJ94","v":170.16},{"$f":"'[1]Weekly Pig prices'!AK94","v":180.92000000000002},{"$f":"'[1]Weekly Pig prices'!AL94","v":176.89000000000001},{"$f":"'[1]Weekly Pig prices'!AM94","v":193.40130000000002},{"$f":"'[1]Weekly Pig prices'!AN94","v":1697},{"$f":"'[1]Weekly Pig prices'!AO94","v":192.44060000000002},{"$f":"'[1]Weekly Pig prices'!AQ94","v":0},null,{"$f":"'[1]Weekly Pig prices'!$AR94","v":176.84180550000005},{"$f":"'[1]Weekly Pig prices'!AS94","v":1.1241418158216998E-2}]
["201327","2013-07-01",27,{"$f":"'[1]Weekly Pig prices'!D95","v":159.6},{"$f":"'[1]Weekly Pig prices'!E95","v":186.08750000000001},{"$f":"'[1]Weekly Pig prices'!F95","v":363.95},{"$f":"'[1]Weekly Pig prices'!G95","v":174.48770000000002},{"$f":"'[1]Weekly Pig prices'!H95","v":4530},{"$f":"'[1]Weekly Pig prices'!I95","v":158.58700000000002},{"$f":"'[1]Weekly Pig prices'!J95","v":1183},{"$f":"'[1]Weekly Pig prices'!K95","v":171.36},{"$f":"'[1]Weekly Pig prices'!L95","v":173.54},{"$f":"'[1]Weekly Pig prices'!M95","v":193.14000000000001},{"$f":"'[1]Weekly Pig prices'!N95","v":196.16},{"$f":"'[1]Weekly Pig prices'!O95","v":170},{"$f":"'[1]Weekly Pig prices'!P95","v":180.13510000000002},{"$f":"'[1]Weekly Pig prices'!Q95","v":1346},{"$f":"'[1]Weekly Pig prices'!R95","v":160.95000000000002},{"$f":"'[1]Weekly Pig prices'!S95","v":186.17000000000002},{"$f":"'[1]Weekly Pig prices'!T95","v":209},{"$f":"'[1]Weekly Pig prices'!U95","v":188.2336},{"$f":"'[1]Weekly Pig prices'!V95","v":132.14000000000001},{"$f":"'[1]Weekly Pig prices'!W95","v":181.5599},{"$f":"'[1]Weekly Pig prices'!X95","v":626.89},{"$f":"'[1]Weekly Pig prices'!Y95","v":168},{"$f":"'[1]Weekly Pig prices'!Z95","v":176.72380000000001},{"$f":"'[1]Weekly Pig prices'!AA95","v":52071.15},{"$f":"'[1]Weekly Pig prices'!AB95","v":237},{"$f":"'[1]Weekly Pig prices'!AC95","v":154.91},{"$f":"'[1]Weekly Pig prices'!AD95","v":173.47},{"$f":"'[1]Weekly Pig prices'!AE95","v":175.6764},{"$f":"'[1]Weekly Pig prices'!AF95","v":758.36},{"$f":"'[1]Weekly Pig prices'!AG95","v":187},{"$f":"'[1]Weekly Pig prices'!AH95","v":188.92490000000001},{"$f":"'[1]Weekly Pig prices'!AI95","v":839.79},{"$f":"'[1]Weekly Pig prices'!AJ95","v":168.1},{"$f":"'[1]Weekly Pig prices'!AK95","v":181.35},{"$f":"'[1]Weekly Pig prices'!AL95","v":176.67000000000002},{"$f":"'[1]Weekly Pig prices'!AM95","v":194.58940000000001},{"$f":"'[1]Weekly Pig prices'!AN95","v":1693},{"$f":"'[1]Weekly Pig prices'!AO95","v":192.20850000000002},{"$f":"'[1]Weekly Pig prices'!AQ95","v":0},null,{"$f":"'[1]Weekly Pig prices'!$AR95","v":176.14189480000002},{"$f":"'[1]Weekly Pig prices'!AS95","v":-3.957835071979221E-3}]
["201327","2013-07-08",28,{"$f":"'[1]Weekly Pig prices'!D96","v":157.80000000000001},{"$f":"'[1]Weekly Pig prices'!E96","v":186.08750000000001},{"$f":"'[1]Weekly Pig prices'!F96","v":363.95},{"$f":"'[1]Weekly Pig prices'!G96","v":174.67490000000001},{"$f":"'[1]Weekly Pig prices'!H96","v":4527},{"$f":"'[1]Weekly Pig prices'!I96","v":158.60820000000001},{"$f":"'[1]Weekly Pig prices'!J96","v":1183},{"$f":"'[1]Weekly Pig prices'!K96","v":174.42000000000002},{"$f":"'[1]Weekly Pig prices'!L96","v":173.76},{"$f":"'[1]Weekly Pig prices'!M96","v":193.14000000000001},{"$f":"'[1]Weekly Pig prices'!N96","v":202.52},{"$f":"'[1]Weekly Pig prices'!O96","v":168},{"$f":"'[1]Weekly Pig prices'!P96","v":179.89330000000001},{"$f":"'[1]Weekly Pig prices'!Q96","v":1354},{"$f":"'[1]Weekly Pig prices'!R96","v":161.56},{"$f":"'[1]Weekly Pig prices'!S96","v":191.44},{"$f":"'[1]Weekly Pig prices'!T96","v":210},{"$f":"'[1]Weekly Pig prices'!U96","v":186.6353},{"$f":"'[1]Weekly Pig prices'!V96","v":131.09},{"$f":"'[1]Weekly Pig prices'!W96","v":180.93720000000002},{"$f":"'[1]Weekly Pig prices'!X96","v":624.74},{"$f":"'[1]Weekly Pig prices'!Y96","v":169.1},{"$f":"'[1]Weekly Pig prices'!Z96","v":176.74200000000002},{"$f":"'[1]Weekly Pig prices'!AA96","v":51870.74},{"$f":"'[1]Weekly Pig prices'!AB96","v":237},{"$f":"'[1]Weekly Pig prices'!AC96","v":156.85},{"$f":"'[1]Weekly Pig prices'!AD96","v":173.48},{"$f":"'[1]Weekly Pig prices'!AE96","v":174.55460000000002},{"$f":"'[1]Weekly Pig prices'!AF96","v":753.4},{"$f":"'[1]Weekly Pig prices'!AG96","v":187},{"$f":"'[1]Weekly Pig prices'!AH96","v":193.4639},{"$f":"'[1]Weekly Pig prices'!AI96","v":857.96},{"$f":"'[1]Weekly Pig prices'!AJ96","v":170.04},{"$f":"'[1]Weekly Pig prices'!AK96","v":183.72},{"$f":"'[1]Weekly Pig prices'!AL96","v":176.37},{"$f":"'[1]Weekly Pig prices'!AM96","v":195.33250000000001},{"$f":"'[1]Weekly Pig prices'!AN96","v":1701},{"$f":"'[1]Weekly Pig prices'!AO96","v":191.39780000000002},{"$f":"'[1]Weekly Pig prices'!AQ96","v":0},null,{"$f":"'[1]Weekly Pig prices'!$AR96","v":178.10819380000001},{"$f":"'[1]Weekly Pig prices'!AS96","v":1.116315344644514E-2}]
["201327","2013-07-15",29,{"$f":"'[1]Weekly Pig prices'!D97","v":163.80000000000001},{"$f":"'[1]Weekly Pig prices'!E97","v":185.9444},{"$f":"'[1]Weekly Pig prices'!F97","v":363.67},{"$f":"'[1]Weekly Pig prices'!G97","v":174.81120000000001},{"$f":"'[1]Weekly Pig prices'!H97","v":4537},{"$f":"'[1]Weekly Pig prices'!I97","v":158.63380000000001},{"$f":"'[1]Weekly Pig prices'!J97","v":1183},{"$f":"'[1]Weekly Pig prices'!K97","v":179.52},{"$f":"'[1]Weekly Pig prices'!L97","v":173.61},{"$f":"'[1]Weekly Pig prices'!M97","v":197.41},{"$f":"'[1]Weekly Pig prices'!N97","v":206.21},{"$f":"'[1]Weekly Pig prices'!O97","v":173},{"$f":"'[1]Weekly Pig prices'!P97","v":183.21510000000001},{"$f":"'[1]Weekly Pig prices'!Q97","v":1378},{"$f":"'[1]Weekly Pig prices'!R97","v":161.59},{"$f":"'[1]Weekly Pig prices'!S97","v":197.27},{"$f":"'[1]Weekly Pig prices'!T97","v":210},{"$f":"'[1]Weekly Pig prices'!U97","v":188.7895},{"$f":"'[1]Weekly Pig prices'!V97","v":132.63},{"$f":"'[1]Weekly Pig prices'!W97","v":183.79},{"$f":"'[1]Weekly Pig prices'!X97","v":634.59},{"$f":"'[1]Weekly Pig prices'!Y97","v":175.4},{"$f":"'[1]Weekly Pig prices'!Z97","v":178.8596},{"$f":"'[1]Weekly Pig prices'!AA97","v":52569.64},{"$f":"'[1]Weekly Pig prices'!AB97","v":237},{"$f":"'[1]Weekly Pig prices'!AC97","v":162.47999999999999},{"$f":"'[1]Weekly Pig prices'!AD97","v":178.68},{"$f":"'[1]Weekly Pig prices'!AE97","v":181.2114},{"$f":"'[1]Weekly Pig prices'!AF97","v":773.11},{"$f":"'[1]Weekly Pig prices'!AG97","v":187},{"$f":"'[1]Weekly Pig prices'!AH97","v":195.9469},{"$f":"'[1]Weekly Pig prices'!AI97","v":868.14},{"$f":"'[1]Weekly Pig prices'!AJ97","v":172.59},{"$f":"'[1]Weekly Pig prices'!AK97","v":184.20000000000002},{"$f":"'[1]Weekly Pig prices'!AL97","v":174.79},{"$f":"'[1]Weekly Pig prices'!AM97","v":195.98650000000001},{"$f":"'[1]Weekly Pig prices'!AN97","v":1696},{"$f":"'[1]Weekly Pig prices'!AO97","v":191.2741},{"$f":"'[1]Weekly Pig prices'!AQ97","v":0},null,{"$f":"'[1]Weekly Pig prices'!$AR97","v":182.0908455},{"$f":"'[1]Weekly Pig prices'!AS97","v":2.2360856146080188E-2}]
["201327","2013-07-22",30,{"$f":"'[1]Weekly Pig prices'!D98","v":169.5},{"$f":"'[1]Weekly Pig prices'!E98","v":186.108},{"$f":"'[1]Weekly Pig prices'!F98","v":363.99},{"$f":"'[1]Weekly Pig prices'!G98","v":177.93900000000002},{"$f":"'[1]Weekly Pig prices'!H98","v":4618},{"$f":"'[1]Weekly Pig prices'!I98","v":161.3169},{"$f":"'[1]Weekly Pig prices'!J98","v":1203},{"$f":"'[1]Weekly Pig prices'!K98","v":183.6},{"$f":"'[1]Weekly Pig prices'!L98","v":173.61},{"$f":"'[1]Weekly Pig prices'!M98","v":198.16},{"$f":"'[1]Weekly Pig prices'!N98","v":207.39000000000001},{"$f":"'[1]Weekly Pig prices'!O98","v":177},{"$f":"'[1]Weekly Pig prices'!P98","v":187.2028},{"$f":"'[1]Weekly Pig prices'!Q98","v":1405},{"$f":"'[1]Weekly Pig prices'!R98","v":161.83000000000001},{"$f":"'[1]Weekly Pig prices'!S98","v":202.83},{"$f":"'[1]Weekly Pig prices'!T98","v":209},{"$f":"'[1]Weekly Pig prices'!U98","v":191.67010000000002},{"$f":"'[1]Weekly Pig prices'!V98","v":134.64000000000001},{"$f":"'[1]Weekly Pig prices'!W98","v":184.64150000000001},{"$f":"'[1]Weekly Pig prices'!X98","v":637.53},{"$f":"'[1]Weekly Pig prices'!Y98","v":179.8},{"$f":"'[1]Weekly Pig prices'!Z98","v":182.22560000000001},{"$f":"'[1]Weekly Pig prices'!AA98","v":53873.97},{"$f":"'[1]Weekly Pig prices'!AB98","v":237},{"$f":"'[1]Weekly Pig prices'!AC98","v":168.13},{"$f":"'[1]Weekly Pig prices'!AD98","v":183.93},{"$f":"'[1]Weekly Pig prices'!AE98","v":185.39660000000001},{"$f":"'[1]Weekly Pig prices'!AF98","v":784.09},{"$f":"'[1]Weekly Pig prices'!AG98","v":193},{"$f":"'[1]Weekly Pig prices'!AH98","v":199.63730000000001},{"$f":"'[1]Weekly Pig prices'!AI98","v":878.98},{"$f":"'[1]Weekly Pig prices'!AJ98","v":175.92000000000002},{"$f":"'[1]Weekly Pig prices'!AK98","v":189.21},{"$f":"'[1]Weekly Pig prices'!AL98","v":176.87},{"$f":"'[1]Weekly Pig prices'!AM98","v":198.16040000000001},{"$f":"'[1]Weekly Pig prices'!AN98","v":1701},{"$f":"'[1]Weekly Pig prices'!AO98","v":190.5839},{"$f":"'[1]Weekly Pig prices'!AQ98","v":0},null,{"$f":"'[1]Weekly Pig prices'!$AR98","v":185.55880829999998},{"$f":"'[1]Weekly Pig prices'!AS98","v":1.9045234209756012E-2}]
["201327","2013-07-29",31,{"$f":"'[1]Weekly Pig prices'!D99","v":169.6},{"$f":"'[1]Weekly Pig prices'!E99","v":186.108},{"$f":"'[1]Weekly Pig prices'!F99","v":363.99},{"$f":"'[1]Weekly Pig prices'!G99","v":181.01050000000001},{"$f":"'[1]Weekly Pig prices'!H99","v":4692},{"$f":"'[1]Weekly Pig prices'!I99","v":164.0472},{"$f":"'[1]Weekly Pig prices'!J99","v":1223},{"$f":"'[1]Weekly Pig prices'!K99","v":183.6},{"$f":"'[1]Weekly Pig prices'!L99","v":174.87},{"$f":"'[1]Weekly Pig prices'!M99","v":198.71},{"$f":"'[1]Weekly Pig prices'!N99","v":210.20000000000002},{"$f":"'[1]Weekly Pig prices'!O99","v":178},{"$f":"'[1]Weekly Pig prices'!P99","v":187.1636},{"$f":"'[1]Weekly Pig prices'!Q99","v":1406},{"$f":"'[1]Weekly Pig prices'!R99","v":161.93},{"$f":"'[1]Weekly Pig prices'!S99","v":206.48000000000002},{"$f":"'[1]Weekly Pig prices'!T99","v":209},{"$f":"'[1]Weekly Pig prices'!U99","v":202.59},{"$f":"'[1]Weekly Pig prices'!V99","v":142.36000000000001},{"$f":"'[1]Weekly Pig prices'!W99","v":192.13680000000002},{"$f":"'[1]Weekly Pig prices'!X99","v":663.41},{"$f":"'[1]Weekly Pig prices'!Y99","v":180.20000000000002},{"$f":"'[1]Weekly Pig prices'!Z99","v":182.76660000000001},{"$f":"'[1]Weekly Pig prices'!AA99","v":54635.200000000004},{"$f":"'[1]Weekly Pig prices'!AB99","v":237},{"$f":"'[1]Weekly Pig prices'!AC99","v":168.12},{"$f":"'[1]Weekly Pig prices'!AD99","v":183.84},{"$f":"'[1]Weekly Pig prices'!AE99","v":185.41910000000001},{"$f":"'[1]Weekly Pig prices'!AF99","v":786.01},{"$f":"'[1]Weekly Pig prices'!AG99","v":195},{"$f":"'[1]Weekly Pig prices'!AH99","v":201.62730000000002},{"$f":"'[1]Weekly Pig prices'!AI99","v":889.62},{"$f":"'[1]Weekly Pig prices'!AJ99","v":177.1},{"$f":"'[1]Weekly Pig prices'!AK99","v":191.17000000000002},{"$f":"'[1]Weekly Pig prices'!AL99","v":176.77},{"$f":"'[1]Weekly Pig prices'!AM99","v":195.19320000000002},{"$f":"'[1]Weekly Pig prices'!AN99","v":1696},{"$f":"'[1]Weekly Pig prices'!AO99","v":189.041},{"$f":"'[1]Weekly Pig prices'!AQ99","v":0},null,{"$f":"'[1]Weekly Pig prices'!$AR99","v":186.7248448},{"$f":"'[1]Weekly Pig prices'!AS99","v":6.283918886323292E-3}]
["201300","2013-08-05",32,{"$f":"'[1]Weekly Pig prices'!D100","v":169.4},{"$f":"'[1]Weekly Pig prices'!E100","v":201.96340000000001},{"$f":"'[1]Weekly Pig prices'!F100","v":395},{"$f":"'[1]Weekly Pig prices'!G100","v":180.96},{"$f":"'[1]Weekly Pig prices'!H100","v":4691},{"$f":"'[1]Weekly Pig prices'!I100","v":164.01609999999999},{"$f":"'[1]Weekly Pig prices'!J100","v":1223},{"$f":"'[1]Weekly Pig prices'!K100","v":184.62},{"$f":"'[1]Weekly Pig prices'!L100","v":175.52},{"$f":"'[1]Weekly Pig prices'!M100","v":198.71},{"$f":"'[1]Weekly Pig prices'!N100","v":211},{"$f":"'[1]Weekly Pig prices'!O100","v":179},{"$f":"'[1]Weekly Pig prices'!P100","v":186.48350000000002},{"$f":"'[1]Weekly Pig prices'!Q100","v":1401},{"$f":"'[1]Weekly Pig prices'!R100","v":161.95000000000002},{"$f":"'[1]Weekly Pig prices'!S100","v":206.6},{"$f":"'[1]Weekly Pig prices'!T100","v":209},{"$f":"'[1]Weekly Pig prices'!U100","v":199.14840000000001},{"$f":"'[1]Weekly Pig prices'!V100","v":139.97},{"$f":"'[1]Weekly Pig prices'!W100","v":190.85670000000002},{"$f":"'[1]Weekly Pig prices'!X100","v":658.99},{"$f":"'[1]Weekly Pig prices'!Y100","v":179.9},{"$f":"'[1]Weekly Pig prices'!Z100","v":182.58960000000002},{"$f":"'[1]Weekly Pig prices'!AA100","v":54613.86},{"$f":"'[1]Weekly Pig prices'!AB100","v":237},{"$f":"'[1]Weekly Pig prices'!AC100","v":168.34},{"$f":"'[1]Weekly Pig prices'!AD100","v":184.08},{"$f":"'[1]Weekly Pig prices'!AE100","v":185.7252},{"$f":"'[1]Weekly Pig prices'!AF100","v":782.37},{"$f":"'[1]Weekly Pig prices'!AG100","v":195},{"$f":"'[1]Weekly Pig prices'!AH100","v":201.72390000000001},{"$f":"'[1]Weekly Pig prices'!AI100","v":894.19},{"$f":"'[1]Weekly Pig prices'!AJ100","v":178.77},{"$f":"'[1]Weekly Pig prices'!AK100","v":190.67000000000002},{"$f":"'[1]Weekly Pig prices'!AL100","v":175.74},{"$f":"'[1]Weekly Pig prices'!AM100","v":193.81110000000001},{"$f":"'[1]Weekly Pig prices'!AN100","v":1689},{"$f":"'[1]Weekly Pig prices'!AO100","v":189.8091},{"$f":"'[1]Weekly Pig prices'!AQ100","v":0},null,{"$f":"'[1]Weekly Pig prices'!$AR100","v":187.24105070000007},{"$f":"'[1]Weekly Pig prices'!AS100","v":2.7645271337779498E-3}]
["201300","2013-08-12",33,{"$f":"'[1]Weekly Pig prices'!D101","v":172.6},{"$f":"'[1]Weekly Pig prices'!E101","v":203.94210000000001},{"$f":"'[1]Weekly Pig prices'!F101","v":398.87},{"$f":"'[1]Weekly Pig prices'!G101","v":182.5488},{"$f":"'[1]Weekly Pig prices'!H101","v":4718},{"$f":"'[1]Weekly Pig prices'!I101","v":163.9768},{"$f":"'[1]Weekly Pig prices'!J101","v":1223},{"$f":"'[1]Weekly Pig prices'!K101","v":188.70000000000002},{"$f":"'[1]Weekly Pig prices'!L101","v":175.59},{"$f":"'[1]Weekly Pig prices'!M101","v":199.09},{"$f":"'[1]Weekly Pig prices'!N101","v":212.84},{"$f":"'[1]Weekly Pig prices'!O101","v":178},{"$f":"'[1]Weekly Pig prices'!P101","v":185.36770000000001},{"$f":"'[1]Weekly Pig prices'!Q101","v":1397},{"$f":"'[1]Weekly Pig prices'!R101","v":161.95000000000002},{"$f":"'[1]Weekly Pig prices'!S101","v":206.34},{"$f":"'[1]Weekly Pig prices'!T101","v":210},{"$f":"'[1]Weekly Pig prices'!U101","v":196.83850000000001},{"$f":"'[1]Weekly Pig prices'!V101","v":138.31},{"$f":"'[1]Weekly Pig prices'!W101","v":192.11360000000002},{"$f":"'[1]Weekly Pig prices'!X101","v":663.33},{"$f":"'[1]Weekly Pig prices'!Y101","v":184},{"$f":"'[1]Weekly Pig prices'!Z101","v":185.62730000000002},{"$f":"'[1]Weekly Pig prices'!AA101","v":55493.279999999999},{"$f":"'[1]Weekly Pig prices'!AB101","v":237},{"$f":"'[1]Weekly Pig prices'!AC101","v":171.13},{"$f":"'[1]Weekly Pig prices'!AD101","v":186.96},{"$f":"'[1]Weekly Pig prices'!AE101","v":186.53970000000001},{"$f":"'[1]Weekly Pig prices'!AF101","v":784.37},{"$f":"'[1]Weekly Pig prices'!AG101","v":195},{"$f":"'[1]Weekly Pig prices'!AH101","v":203.88070000000002},{"$f":"'[1]Weekly Pig prices'!AI101","v":904.47},{"$f":"'[1]Weekly Pig prices'!AJ101","v":176},{"$f":"'[1]Weekly Pig prices'!AK101","v":192.64000000000001},{"$f":"'[1]Weekly Pig prices'!AL101","v":176.55},{"$f":"'[1]Weekly Pig prices'!AM101","v":193.69150000000002},{"$f":"'[1]Weekly Pig prices'!AN101","v":1680},{"$f":"'[1]Weekly Pig prices'!AO101","v":191.32420000000002},{"$f":"'[1]Weekly Pig prices'!AQ101","v":0},null,{"$f":"'[1]Weekly Pig prices'!$AR101","v":188.9378126},{"$f":"'[1]Weekly Pig prices'!AS101","v":9.0619118705892454E-3}]
["201300","2013-08-19",34,{"$f":"'[1]Weekly Pig prices'!D102","v":177.5},{"$f":"'[1]Weekly Pig prices'!E102","v":203.94210000000001},{"$f":"'[1]Weekly Pig prices'!F102","v":398.87},{"$f":"'[1]Weekly Pig prices'!G102","v":184.13390000000001},{"$f":"'[1]Weekly Pig prices'!H102","v":4742},{"$f":"'[1]Weekly Pig prices'!I102","v":166.81190000000001},{"$f":"'[1]Weekly Pig prices'!J102","v":1244},{"$f":"'[1]Weekly Pig prices'!K102","v":193.8},{"$f":"'[1]Weekly Pig prices'!L102","v":176.27},{"$f":"'[1]Weekly Pig prices'!M102","v":201.5},{"$f":"'[1]Weekly Pig prices'!N102","v":214.38},{"$f":"'[1]Weekly Pig prices'!O102","v":180},{"$f":"'[1]Weekly Pig prices'!P102","v":183.2749},{"$f":"'[1]Weekly Pig prices'!Q102","v":1383},{"$f":"'[1]Weekly Pig prices'!R102","v":162.28},{"$f":"'[1]Weekly Pig prices'!S102","v":210.94},{"$f":"'[1]Weekly Pig prices'!T102","v":209},{"$f":"'[1]Weekly Pig prices'!U102","v":198.05840000000001},{"$f":"'[1]Weekly Pig prices'!V102","v":139.17000000000002},{"$f":"'[1]Weekly Pig prices'!W102","v":191.78060000000002},{"$f":"'[1]Weekly Pig prices'!X102","v":662.18000000000006},{"$f":"'[1]Weekly Pig prices'!Y102","v":191},{"$f":"'[1]Weekly Pig prices'!Z102","v":190.09030000000001},{"$f":"'[1]Weekly Pig prices'!AA102","v":56954.590000000004},{"$f":"'[1]Weekly Pig prices'!AB102","v":237},{"$f":"'[1]Weekly Pig prices'!AC102","v":173.86},{"$f":"'[1]Weekly Pig prices'!AD102","v":191.39000000000001},{"$f":"'[1]Weekly Pig prices'!AE102","v":188.94970000000001},{"$f":"'[1]Weekly Pig prices'!AF102","v":800.38},{"$f":"'[1]Weekly Pig prices'!AG102","v":195},{"$f":"'[1]Weekly Pig prices'!AH102","v":204.68010000000001},{"$f":"'[1]Weekly Pig prices'!AI102","v":910.04},{"$f":"'[1]Weekly Pig prices'!AJ102","v":185.67000000000002},{"$f":"'[1]Weekly Pig prices'!AK102","v":196.20000000000002},{"$f":"'[1]Weekly Pig prices'!AL102","v":176.99},{"$f":"'[1]Weekly Pig prices'!AM102","v":195.29340000000002},{"$f":"'[1]Weekly Pig prices'!AN102","v":1701},{"$f":"'[1]Weekly Pig prices'!AO102","v":191.6122},{"$f":"'[1]Weekly Pig prices'!AQ102","v":0},null,{"$f":"'[1]Weekly Pig prices'!$AR102","v":191.79859869999999},{"$f":"'[1]Weekly Pig prices'!AS102","v":1.5141416430265009E-2}]
["201300","2013-08-26",35,{"$f":"'[1]Weekly Pig prices'!D103","v":182.5},{"$f":"'[1]Weekly Pig prices'!E103","v":212.215},{"$f":"'[1]Weekly Pig prices'!F103","v":415.05},{"$f":"'[1]Weekly Pig prices'!G103","v":186.68220000000002},{"$f":"'[1]Weekly Pig prices'!H103","v":4798},{"$f":"'[1]Weekly Pig prices'!I103","v":169.45160000000001},{"$f":"'[1]Weekly Pig prices'!J103","v":1264},{"$f":"'[1]Weekly Pig prices'!K103","v":196.70000000000002},{"$f":"'[1]Weekly Pig prices'!L103","v":176.07},{"$f":"'[1]Weekly Pig prices'!M103","v":201.5},{"$f":"'[1]Weekly Pig prices'!N103","v":217.1},{"$f":"'[1]Weekly Pig prices'!O103","v":185},{"$f":"'[1]Weekly Pig prices'!P103","v":184.38980000000001},{"$f":"'[1]Weekly Pig prices'!Q103","v":1394},{"$f":"'[1]Weekly Pig prices'!R103","v":162.69},{"$f":"'[1]Weekly Pig prices'!S103","v":214.23000000000002},{"$f":"'[1]Weekly Pig prices'!T103","v":210},{"$f":"'[1]Weekly Pig prices'!U103","v":199.7886},{"$f":"'[1]Weekly Pig prices'!V103","v":140.38},{"$f":"'[1]Weekly Pig prices'!W103","v":194.03960000000001},{"$f":"'[1]Weekly Pig prices'!X103","v":669.98},{"$f":"'[1]Weekly Pig prices'!Y103","v":194},{"$f":"'[1]Weekly Pig prices'!Z103","v":193.09390000000002},{"$f":"'[1]Weekly Pig prices'!AA103","v":57981.69},{"$f":"'[1]Weekly Pig prices'!AB103","v":237},{"$f":"'[1]Weekly Pig prices'!AC103","v":178.58},{"$f":"'[1]Weekly Pig prices'!AD103","v":195.26},{"$f":"'[1]Weekly Pig prices'!AE103","v":192.80890000000002},{"$f":"'[1]Weekly Pig prices'!AF103","v":821.06000000000006},{"$f":"'[1]Weekly Pig prices'!AG103","v":199},{"$f":"'[1]Weekly Pig prices'!AH103","v":204.5891},{"$f":"'[1]Weekly Pig prices'!AI103","v":908.13},{"$f":"'[1]Weekly Pig prices'!AJ103","v":185.27},{"$f":"'[1]Weekly Pig prices'!AK103","v":195.83},{"$f":"'[1]Weekly Pig prices'!AL103","v":177.51},{"$f":"'[1]Weekly Pig prices'!AM103","v":194.9624},{"$f":"'[1]Weekly Pig prices'!AN103","v":1700},{"$f":"'[1]Weekly Pig prices'!AO103","v":191.14330000000001},{"$f":"'[1]Weekly Pig prices'!AQ103","v":0},null,{"$f":"'[1]Weekly Pig prices'!$AR103","v":194.87642009999993},{"$f":"'[1]Weekly Pig prices'!AS103","v":1.6047152694864453E-2}]
["201300","2013-09-02",36,{"$f":"'[1]Weekly Pig prices'!D104","v":183.4},{"$f":"'[1]Weekly Pig prices'!E104","v":212.215},{"$f":"'[1]Weekly Pig prices'!F104","v":415.05},{"$f":"'[1]Weekly Pig prices'!G104","v":192.09530000000001},{"$f":"'[1]Weekly Pig prices'!H104","v":4945},{"$f":"'[1]Weekly Pig prices'!I104","v":169.46300000000002},{"$f":"'[1]Weekly Pig prices'!J104","v":1264},{"$f":"'[1]Weekly Pig prices'!K104","v":194.1},{"$f":"'[1]Weekly Pig prices'!L104","v":180.99},{"$f":"'[1]Weekly Pig prices'!M104","v":201.5},{"$f":"'[1]Weekly Pig prices'!N104","v":217.03},{"$f":"'[1]Weekly Pig prices'!O104","v":190},{"$f":"'[1]Weekly Pig prices'!P104","v":179.67250000000001},{"$f":"'[1]Weekly Pig prices'!Q104","v":1362},{"$f":"'[1]Weekly Pig prices'!R104","v":163.89000000000001},{"$f":"'[1]Weekly Pig prices'!S104","v":220.08},{"$f":"'[1]Weekly Pig prices'!T104","v":210},{"$f":"'[1]Weekly Pig prices'!U104","v":200.58960000000002},{"$f":"'[1]Weekly Pig prices'!V104","v":140.94},{"$f":"'[1]Weekly Pig prices'!W104","v":194.98670000000001},{"$f":"'[1]Weekly Pig prices'!X104","v":673.25},{"$f":"'[1]Weekly Pig prices'!Y104","v":189.4},{"$f":"'[1]Weekly Pig prices'!Z104","v":192.99110000000002},{"$f":"'[1]Weekly Pig prices'!AA104","v":58094.19},{"$f":"'[1]Weekly Pig prices'!AB104","v":237},{"$f":"'[1]Weekly Pig prices'!AC104","v":178.43},{"$f":"'[1]Weekly Pig prices'!AD104","v":195.15},{"$f":"'[1]Weekly Pig prices'!AE104","v":193.04150000000001},{"$f":"'[1]Weekly Pig prices'!AF104","v":825.44},{"$f":"'[1]Weekly Pig prices'!AG104","v":201},{"$f":"'[1]Weekly Pig prices'!AH104","v":205.6301},{"$f":"'[1]Weekly Pig prices'!AI104","v":915.38},{"$f":"'[1]Weekly Pig prices'!AJ104","v":188.36},{"$f":"'[1]Weekly Pig prices'!AK104","v":201.79},{"$f":"'[1]Weekly Pig prices'!AL104","v":177.76},{"$f":"'[1]Weekly Pig prices'!AM104","v":193.67830000000001},{"$f":"'[1]Weekly Pig prices'!AN104","v":1691},{"$f":"'[1]Weekly Pig prices'!AO104","v":195.6722},{"$f":"'[1]Weekly Pig prices'!AQ104","v":0},null,{"$f":"'[1]Weekly Pig prices'!$AR104","v":195.47699109999999},{"$f":"'[1]Weekly Pig prices'!AS104","v":3.0818043542255591E-3}]
["201300","2013-09-09",37,{"$f":"'[1]Weekly Pig prices'!D105","v":175.70000000000002},{"$f":"'[1]Weekly Pig prices'!E105","v":212.2354},{"$f":"'[1]Weekly Pig prices'!F105","v":415.09000000000003},{"$f":"'[1]Weekly Pig prices'!G105","v":194.51660000000001},{"$f":"'[1]Weekly Pig prices'!H105","v":5018},{"$f":"'[1]Weekly Pig prices'!I105","v":169.47790000000001},{"$f":"'[1]Weekly Pig prices'!J105","v":1264},{"$f":"'[1]Weekly Pig prices'!K105","v":187.45000000000002},{"$f":"'[1]Weekly Pig prices'!L105","v":182.07},{"$f":"'[1]Weekly Pig prices'!M105","v":201.87},{"$f":"'[1]Weekly Pig prices'!N105","v":216.39000000000001},{"$f":"'[1]Weekly Pig prices'!O105","v":189},{"$f":"'[1]Weekly Pig prices'!P105","v":180.71370000000002},{"$f":"'[1]Weekly Pig prices'!Q105","v":1371},{"$f":"'[1]Weekly Pig prices'!R105","v":165.07},{"$f":"'[1]Weekly Pig prices'!S105","v":226.71},{"$f":"'[1]Weekly Pig prices'!T105","v":210},{"$f":"'[1]Weekly Pig prices'!U105","v":203.41640000000001},{"$f":"'[1]Weekly Pig prices'!V105","v":142.9},{"$f":"'[1]Weekly Pig prices'!W105","v":191.56630000000001},{"$f":"'[1]Weekly Pig prices'!X105","v":661.44},{"$f":"'[1]Weekly Pig prices'!Y105","v":183.6},{"$f":"'[1]Weekly Pig prices'!Z105","v":189.48400000000001},{"$f":"'[1]Weekly Pig prices'!AA105","v":56903.94},{"$f":"'[1]Weekly Pig prices'!AB105","v":237},{"$f":"'[1]Weekly Pig prices'!AC105","v":170.98},{"$f":"'[1]Weekly Pig prices'!AD105","v":189.78},{"$f":"'[1]Weekly Pig prices'!AE105","v":188.88840000000002},{"$f":"'[1]Weekly Pig prices'!AF105","v":801.37},{"$f":"'[1]Weekly Pig prices'!AG105","v":201},{"$f":"'[1]Weekly Pig prices'!AH105","v":203.52880000000002},{"$f":"'[1]Weekly Pig prices'!AI105","v":909.73},{"$f":"'[1]Weekly Pig prices'!AJ105","v":182.55},{"$f":"'[1]Weekly Pig prices'!AK105","v":200.56},{"$f":"'[1]Weekly Pig prices'!AL105","v":177.21},{"$f":"'[1]Weekly Pig prices'!AM105","v":194.2517},{"$f":"'[1]Weekly Pig prices'!AN105","v":1691},{"$f":"'[1]Weekly Pig prices'!AO105","v":196.99790000000002},{"$f":"'[1]Weekly Pig prices'!AQ105","v":0},null,{"$f":"'[1]Weekly Pig prices'!$AR105","v":192.92006849999996},{"$f":"'[1]Weekly Pig prices'!AS105","v":-1.3080427448834642E-2}]
["201300","2013-09-16",38,{"$f":"'[1]Weekly Pig prices'!D106","v":171.70000000000002},{"$f":"'[1]Weekly Pig prices'!E106","v":213.72330000000002},{"$f":"'[1]Weekly Pig prices'!F106","v":418},{"$f":"'[1]Weekly Pig prices'!G106","v":193.089},{"$f":"'[1]Weekly Pig prices'!H106","v":4978},{"$f":"'[1]Weekly Pig prices'!I106","v":169.5009},{"$f":"'[1]Weekly Pig prices'!J106","v":1264},{"$f":"'[1]Weekly Pig prices'!K106","v":182.34},{"$f":"'[1]Weekly Pig prices'!L106","v":181.51},{"$f":"'[1]Weekly Pig prices'!M106","v":203.36},{"$f":"'[1]Weekly Pig prices'!N106","v":213.70000000000002},{"$f":"'[1]Weekly Pig prices'!O106","v":185},{"$f":"'[1]Weekly Pig prices'!P106","v":180.8323},{"$f":"'[1]Weekly Pig prices'!Q106","v":1375},{"$f":"'[1]Weekly Pig prices'!R106","v":166.54},{"$f":"'[1]Weekly Pig prices'!S106","v":225.59},{"$f":"'[1]Weekly Pig prices'!T106","v":210},{"$f":"'[1]Weekly Pig prices'!U106","v":197.92790000000002},{"$f":"'[1]Weekly Pig prices'!V106","v":139.05000000000001},{"$f":"'[1]Weekly Pig prices'!W106","v":189.6808},{"$f":"'[1]Weekly Pig prices'!X106","v":654.93000000000006},{"$f":"'[1]Weekly Pig prices'!Y106","v":180.3},{"$f":"'[1]Weekly Pig prices'!Z106","v":185.74190000000002},{"$f":"'[1]Weekly Pig prices'!AA106","v":55489.06},{"$f":"'[1]Weekly Pig prices'!AB106","v":237},{"$f":"'[1]Weekly Pig prices'!AC106","v":166.25},{"$f":"'[1]Weekly Pig prices'!AD106","v":184.73},{"$f":"'[1]Weekly Pig prices'!AE106","v":186.44110000000001},{"$f":"'[1]Weekly Pig prices'!AF106","v":785.78},{"$f":"'[1]Weekly Pig prices'!AG106","v":197},{"$f":"'[1]Weekly Pig prices'!AH106","v":202.6302},{"$f":"'[1]Weekly Pig prices'!AI106","v":904.66},{"$f":"'[1]Weekly Pig prices'!AJ106","v":181.49},{"$f":"'[1]Weekly Pig prices'!AK106","v":199.99},{"$f":"'[1]Weekly Pig prices'!AL106","v":176.03},{"$f":"'[1]Weekly Pig prices'!AM106","v":196.59210000000002},{"$f":"'[1]Weekly Pig prices'!AN106","v":1697},{"$f":"'[1]Weekly Pig prices'!AO106","v":198.6096},{"$f":"'[1]Weekly Pig prices'!AQ106","v":0},null,{"$f":"'[1]Weekly Pig prices'!$AR106","v":190.06747429999996},{"$f":"'[1]Weekly Pig prices'!AS106","v":-1.4786404660643182E-2}]
["201300","2013-09-23",39,{"$f":"'[1]Weekly Pig prices'!D107","v":165},{"$f":"'[1]Weekly Pig prices'!E107","v":221.30070000000001},{"$f":"'[1]Weekly Pig prices'!F107","v":432.82},{"$f":"'[1]Weekly Pig prices'!G107","v":188.5204},{"$f":"'[1]Weekly Pig prices'!H107","v":4868},{"$f":"'[1]Weekly Pig prices'!I107","v":169.49700000000001},{"$f":"'[1]Weekly Pig prices'!J107","v":1264},{"$f":"'[1]Weekly Pig prices'!K107","v":179.03},{"$f":"'[1]Weekly Pig prices'!L107","v":181.15},{"$f":"'[1]Weekly Pig prices'!M107","v":202.43},{"$f":"'[1]Weekly Pig prices'!N107","v":210.24},{"$f":"'[1]Weekly Pig prices'!O107","v":179},{"$f":"'[1]Weekly Pig prices'!P107","v":183.45160000000001},{"$f":"'[1]Weekly Pig prices'!Q107","v":1397},{"$f":"'[1]Weekly Pig prices'!R107","v":167.81},{"$f":"'[1]Weekly Pig prices'!S107","v":214.34},{"$f":"'[1]Weekly Pig prices'!T107","v":210},{"$f":"'[1]Weekly Pig prices'!U107","v":195.67150000000001},{"$f":"'[1]Weekly Pig prices'!V107","v":137.49},{"$f":"'[1]Weekly Pig prices'!W107","v":184.0941},{"$f":"'[1]Weekly Pig prices'!X107","v":635.64},{"$f":"'[1]Weekly Pig prices'!Y107","v":175.4},{"$f":"'[1]Weekly Pig prices'!Z107","v":180.12360000000001},{"$f":"'[1]Weekly Pig prices'!AA107","v":53971.99},{"$f":"'[1]Weekly Pig prices'!AB107","v":237},{"$f":"'[1]Weekly Pig prices'!AC107","v":161.29},{"$f":"'[1]Weekly Pig prices'!AD107","v":179.96},{"$f":"'[1]Weekly Pig prices'!AE107","v":181.72640000000001},{"$f":"'[1]Weekly Pig prices'!AF107","v":768.02},{"$f":"'[1]Weekly Pig prices'!AG107","v":193},{"$f":"'[1]Weekly Pig prices'!AH107","v":200.87300000000002},{"$f":"'[1]Weekly Pig prices'!AI107","v":897.4},{"$f":"'[1]Weekly Pig prices'!AJ107","v":185.07},{"$f":"'[1]Weekly Pig prices'!AK107","v":197.35},{"$f":"'[1]Weekly Pig prices'!AL107","v":175.52},{"$f":"'[1]Weekly Pig prices'!AM107","v":196.43180000000001},{"$f":"'[1]Weekly Pig prices'!AN107","v":1699},{"$f":"'[1]Weekly Pig prices'!AO107","v":198.18550000000002},{"$f":"'[1]Weekly Pig prices'!AQ107","v":0},null,{"$f":"'[1]Weekly Pig prices'!$AR107","v":186.17093799999995},{"$f":"'[1]Weekly Pig prices'!AS107","v":-2.0500805381618137E-2}]
["201300","2013-09-30",40,{"$f":"'[1]Weekly Pig prices'!D108","v":164.5},{"$f":"'[1]Weekly Pig prices'!E108","v":230.69840000000002},{"$f":"'[1]Weekly Pig prices'!F108","v":451.2},{"$f":"'[1]Weekly Pig prices'!G108","v":187.82310000000001},{"$f":"'[1]Weekly Pig prices'!H108","v":4812},{"$f":"'[1]Weekly Pig prices'!I108","v":166.7835},{"$f":"'[1]Weekly Pig prices'!J108","v":1244},{"$f":"'[1]Weekly Pig prices'!K108","v":178.77},{"$f":"'[1]Weekly Pig prices'!L108","v":180.6},{"$f":"'[1]Weekly Pig prices'!M108","v":202.06},{"$f":"'[1]Weekly Pig prices'!N108","v":202.28},{"$f":"'[1]Weekly Pig prices'!O108","v":173},{"$f":"'[1]Weekly Pig prices'!P108","v":177.56110000000001},{"$f":"'[1]Weekly Pig prices'!Q108","v":1353},{"$f":"'[1]Weekly Pig prices'!R108","v":169.43},{"$f":"'[1]Weekly Pig prices'!S108","v":206.63},{"$f":"'[1]Weekly Pig prices'!T108","v":210},{"$f":"'[1]Weekly Pig prices'!U108","v":191.9091},{"$f":"'[1]Weekly Pig prices'!V108","v":134.86000000000001},{"$f":"'[1]Weekly Pig prices'!W108","v":181.0531},{"$f":"'[1]Weekly Pig prices'!X108","v":625.14},{"$f":"'[1]Weekly Pig prices'!Y108","v":174.6},{"$f":"'[1]Weekly Pig prices'!Z108","v":180.8092},{"$f":"'[1]Weekly Pig prices'!AA108","v":53734.18},{"$f":"'[1]Weekly Pig prices'!AB108","v":237},{"$f":"'[1]Weekly Pig prices'!AC108","v":161.36000000000001},{"$f":"'[1]Weekly Pig prices'!AD108","v":180.19},{"$f":"'[1]Weekly Pig prices'!AE108","v":181.35660000000001},{"$f":"'[1]Weekly Pig prices'!AF108","v":764.83},{"$f":"'[1]Weekly Pig prices'!AG108","v":188},{"$f":"'[1]Weekly Pig prices'!AH108","v":201.8777},{"$f":"'[1]Weekly Pig prices'!AI108","v":897.6},{"$f":"'[1]Weekly Pig prices'!AJ108","v":178.36},{"$f":"'[1]Weekly Pig prices'!AK108","v":193.11},{"$f":"'[1]Weekly Pig prices'!AL108","v":175.44},{"$f":"'[1]Weekly Pig prices'!AM108","v":196.14020000000002},{"$f":"'[1]Weekly Pig prices'!AN108","v":1698},{"$f":"'[1]Weekly Pig prices'!AO108","v":199.76350000000002},{"$f":"'[1]Weekly Pig prices'!AQ108","v":0},null,{"$f":"'[1]Weekly Pig prices'!$AR108","v":183.43173390000001},{"$f":"'[1]Weekly Pig prices'!AS108","v":-1.4713381849104423E-2}]
["201300","2013-10-07",41,{"$f":"'[1]Weekly Pig prices'!D109","v":164.9},{"$f":"'[1]Weekly Pig prices'!E109","v":226.0609},{"$f":"'[1]Weekly Pig prices'!F109","v":442.13},{"$f":"'[1]Weekly Pig prices'!G109","v":187.94050000000001},{"$f":"'[1]Weekly Pig prices'!H109","v":4800},{"$f":"'[1]Weekly Pig prices'!I109","v":166.76590000000002},{"$f":"'[1]Weekly Pig prices'!J109","v":1244},{"$f":"'[1]Weekly Pig prices'!K109","v":178.93},{"$f":"'[1]Weekly Pig prices'!L109","v":181.47},{"$f":"'[1]Weekly Pig prices'!M109","v":201.5},{"$f":"'[1]Weekly Pig prices'!N109","v":203.83},{"$f":"'[1]Weekly Pig prices'!O109","v":169},{"$f":"'[1]Weekly Pig prices'!P109","v":181.61860000000001},{"$f":"'[1]Weekly Pig prices'!Q109","v":1383},{"$f":"'[1]Weekly Pig prices'!R109","v":171.35},{"$f":"'[1]Weekly Pig prices'!S109","v":196.34},{"$f":"'[1]Weekly Pig prices'!T109","v":210},{"$f":"'[1]Weekly Pig prices'!U109","v":190.93110000000001},{"$f":"'[1]Weekly Pig prices'!V109","v":134.17000000000002},{"$f":"'[1]Weekly Pig prices'!W109","v":180.8938},{"$f":"'[1]Weekly Pig prices'!X109","v":624.59},{"$f":"'[1]Weekly Pig prices'!Y109","v":174.8},{"$f":"'[1]Weekly Pig prices'!Z109","v":181.01250000000002},{"$f":"'[1]Weekly Pig prices'!AA109","v":53513.25},{"$f":"'[1]Weekly Pig prices'!AB109","v":237},{"$f":"'[1]Weekly Pig prices'!AC109","v":161.29},{"$f":"'[1]Weekly Pig prices'!AD109","v":179.93},{"$f":"'[1]Weekly Pig prices'!AE109","v":182.45650000000001},{"$f":"'[1]Weekly Pig prices'!AF109","v":765.65},{"$f":"'[1]Weekly Pig prices'!AG109","v":184},{"$f":"'[1]Weekly Pig prices'!AH109","v":200.0701},{"$f":"'[1]Weekly Pig prices'!AI109","v":889.22},{"$f":"'[1]Weekly Pig prices'!AJ109","v":179.47},{"$f":"'[1]Weekly Pig prices'!AK109","v":190.54},{"$f":"'[1]Weekly Pig prices'!AL109","v":172.79},{"$f":"'[1]Weekly Pig prices'!AM109","v":192.90710000000001},{"$f":"'[1]Weekly Pig prices'!AN109","v":1687},{"$f":"'[1]Weekly Pig prices'!AO109","v":198.63310000000001},{"$f":"'[1]Weekly Pig prices'!AQ109","v":0},null,{"$f":"'[1]Weekly Pig prices'!$AR109","v":182.64979679999999},{"$f":"'[1]Weekly Pig prices'!AS109","v":-4.2628234677556387E-3}]
["201300","2013-10-14",42,{"$f":"'[1]Weekly Pig prices'!D110","v":164.8},{"$f":"'[1]Weekly Pig prices'!E110","v":221.62290000000002},{"$f":"'[1]Weekly Pig prices'!F110","v":433.45},{"$f":"'[1]Weekly Pig prices'!G110","v":185.38660000000002},{"$f":"'[1]Weekly Pig prices'!H110","v":4758},{"$f":"'[1]Weekly Pig prices'!I110","v":166.7816},{"$f":"'[1]Weekly Pig prices'!J110","v":1244},{"$f":"'[1]Weekly Pig prices'!K110","v":178.8},{"$f":"'[1]Weekly Pig prices'!L110","v":180.62},{"$f":"'[1]Weekly Pig prices'!M110","v":200.20000000000002},{"$f":"'[1]Weekly Pig prices'!N110","v":194.29},{"$f":"'[1]Weekly Pig prices'!O110","v":164},{"$f":"'[1]Weekly Pig prices'!P110","v":176.72620000000001},{"$f":"'[1]Weekly Pig prices'!Q110","v":1346},{"$f":"'[1]Weekly Pig prices'!R110","v":172.77},{"$f":"'[1]Weekly Pig prices'!S110","v":186.78},{"$f":"'[1]Weekly Pig prices'!T110","v":201},{"$f":"'[1]Weekly Pig prices'!U110","v":188.94380000000001},{"$f":"'[1]Weekly Pig prices'!V110","v":132.76},{"$f":"'[1]Weekly Pig prices'!W110","v":182.22020000000001},{"$f":"'[1]Weekly Pig prices'!X110","v":629.16999999999996},{"$f":"'[1]Weekly Pig prices'!Y110","v":174.6},{"$f":"'[1]Weekly Pig prices'!Z110","v":181.11170000000001},{"$f":"'[1]Weekly Pig prices'!AA110","v":53435.46},{"$f":"'[1]Weekly Pig prices'!AB110","v":237},{"$f":"'[1]Weekly Pig prices'!AC110","v":161.17000000000002},{"$f":"'[1]Weekly Pig prices'!AD110","v":180.09},{"$f":"'[1]Weekly Pig prices'!AE110","v":182.8228},{"$f":"'[1]Weekly Pig prices'!AF110","v":764.45},{"$f":"'[1]Weekly Pig prices'!AG110","v":182},{"$f":"'[1]Weekly Pig prices'!AH110","v":199.97240000000002},{"$f":"'[1]Weekly Pig prices'!AI110","v":890.30000000000007},{"$f":"'[1]Weekly Pig prices'!AJ110","v":176.96},{"$f":"'[1]Weekly Pig prices'!AK110","v":188.83},{"$f":"'[1]Weekly Pig prices'!AL110","v":173.79},{"$f":"'[1]Weekly Pig prices'!AM110","v":192.50390000000002},{"$f":"'[1]Weekly Pig prices'!AN110","v":1690},{"$f":"'[1]Weekly Pig prices'!AO110","v":198.8005},{"$f":"'[1]Weekly Pig prices'!AQ110","v":0},null,{"$f":"'[1]Weekly Pig prices'!$AR110","v":179.83150529999998},{"$f":"'[1]Weekly Pig prices'!AS110","v":-1.5430028115968941E-2}]
["201300","2013-10-21",43,{"$f":"'[1]Weekly Pig prices'!D111","v":165.1},{"$f":"'[1]Weekly Pig prices'!E111","v":222.8193},{"$f":"'[1]Weekly Pig prices'!F111","v":435.79},{"$f":"'[1]Weekly Pig prices'!G111","v":184.233},{"$f":"'[1]Weekly Pig prices'!H111","v":4748},{"$f":"'[1]Weekly Pig prices'!I111","v":166.773},{"$f":"'[1]Weekly Pig prices'!J111","v":1244},{"$f":"'[1]Weekly Pig prices'!K111","v":176.51},{"$f":"'[1]Weekly Pig prices'!L111","v":179.8},{"$f":"'[1]Weekly Pig prices'!M111","v":201.13},{"$f":"'[1]Weekly Pig prices'!N111","v":192.95000000000002},{"$f":"'[1]Weekly Pig prices'!O111","v":163},{"$f":"'[1]Weekly Pig prices'!P111","v":175.7099},{"$f":"'[1]Weekly Pig prices'!Q111","v":1339},{"$f":"'[1]Weekly Pig prices'!R111","v":173.86},{"$f":"'[1]Weekly Pig prices'!S111","v":185.98},{"$f":"'[1]Weekly Pig prices'!T111","v":198},{"$f":"'[1]Weekly Pig prices'!U111","v":188.48510000000002},{"$f":"'[1]Weekly Pig prices'!V111","v":132.47},{"$f":"'[1]Weekly Pig prices'!W111","v":179.9091},{"$f":"'[1]Weekly Pig prices'!X111","v":621.19000000000005},{"$f":"'[1]Weekly Pig prices'!Y111","v":172.4},{"$f":"'[1]Weekly Pig prices'!Z111","v":180.75300000000001},{"$f":"'[1]Weekly Pig prices'!AA111","v":53015.62},{"$f":"'[1]Weekly Pig prices'!AB111","v":237},{"$f":"'[1]Weekly Pig prices'!AC111","v":161.20000000000002},{"$f":"'[1]Weekly Pig prices'!AD111","v":179.87},{"$f":"'[1]Weekly Pig prices'!AE111","v":180.8235},{"$f":"'[1]Weekly Pig prices'!AF111","v":756.39},{"$f":"'[1]Weekly Pig prices'!AG111","v":180},{"$f":"'[1]Weekly Pig prices'!AH111","v":198.41670000000002},{"$f":"'[1]Weekly Pig prices'!AI111","v":881.9},{"$f":"'[1]Weekly Pig prices'!AJ111","v":180.25},{"$f":"'[1]Weekly Pig prices'!AK111","v":188.64000000000001},{"$f":"'[1]Weekly Pig prices'!AL111","v":173.91},{"$f":"'[1]Weekly Pig prices'!AM111","v":192.3372},{"$f":"'[1]Weekly Pig prices'!AN111","v":1685},{"$f":"'[1]Weekly Pig prices'!AO111","v":198.37270000000001},{"$f":"'[1]Weekly Pig prices'!AQ111","v":0},null,{"$f":"'[1]Weekly Pig prices'!$AR111","v":178.75690859999997},{"$f":"'[1]Weekly Pig prices'!AS111","v":-5.9755752931464068E-3}]
["201300","2013-10-28",44,{"$f":"'[1]Weekly Pig prices'!D112","v":160.5},{"$f":"'[1]Weekly Pig prices'!E112","v":213.93800000000002},{"$f":"'[1]Weekly Pig prices'!F112","v":418.42},{"$f":"'[1]Weekly Pig prices'!G112","v":180.9913},{"$f":"'[1]Weekly Pig prices'!H112","v":4665},{"$f":"'[1]Weekly Pig prices'!I112","v":166.78290000000001},{"$f":"'[1]Weekly Pig prices'!J112","v":1244},{"$f":"'[1]Weekly Pig prices'!K112","v":170.79},{"$f":"'[1]Weekly Pig prices'!L112","v":179.39000000000001},{"$f":"'[1]Weekly Pig prices'!M112","v":201.13},{"$f":"'[1]Weekly Pig prices'!N112","v":193.67000000000002},{"$f":"'[1]Weekly Pig prices'!O112","v":161},{"$f":"'[1]Weekly Pig prices'!P112","v":173.44040000000001},{"$f":"'[1]Weekly Pig prices'!Q112","v":1322},{"$f":"'[1]Weekly Pig prices'!R112","v":174.1},{"$f":"'[1]Weekly Pig prices'!S112","v":182.19},{"$f":"'[1]Weekly Pig prices'!T112","v":198},{"$f":"'[1]Weekly Pig prices'!U112","v":187.5744},{"$f":"'[1]Weekly Pig prices'!V112","v":131.83000000000001},{"$f":"'[1]Weekly Pig prices'!W112","v":178.4204},{"$f":"'[1]Weekly Pig prices'!X112","v":616.05000000000007},{"$f":"'[1]Weekly Pig prices'!Y112","v":165.5},{"$f":"'[1]Weekly Pig prices'!Z112","v":174.37380000000002},{"$f":"'[1]Weekly Pig prices'!AA112","v":51321.440000000002},{"$f":"'[1]Weekly Pig prices'!AB112","v":237},{"$f":"'[1]Weekly Pig prices'!AC112","v":155.74},{"$f":"'[1]Weekly Pig prices'!AD112","v":174.58},{"$f":"'[1]Weekly Pig prices'!AE112","v":176.50750000000002},{"$f":"'[1]Weekly Pig prices'!AF112","v":738.52},{"$f":"'[1]Weekly Pig prices'!AG112","v":180},{"$f":"'[1]Weekly Pig prices'!AH112","v":198.70760000000001},{"$f":"'[1]Weekly Pig prices'!AI112","v":882.12},{"$f":"'[1]Weekly Pig prices'!AJ112","v":175.01},{"$f":"'[1]Weekly Pig prices'!AK112","v":187.59},{"$f":"'[1]Weekly Pig prices'!AL112","v":173.15},{"$f":"'[1]Weekly Pig prices'!AM112","v":191.94720000000001},{"$f":"'[1]Weekly Pig prices'!AN112","v":1685},{"$f":"'[1]Weekly Pig prices'!AO112","v":197.27720000000002},{"$f":"'[1]Weekly Pig prices'!AQ112","v":0},null,{"$f":"'[1]Weekly Pig prices'!$AR112","v":176.00915009999994},{"$f":"'[1]Weekly Pig prices'!AS112","v":-1.5371481424243161E-2}]
["201300","2013-11-04",45,{"$f":"'[1]Weekly Pig prices'!D113","v":154.5},{"$f":"'[1]Weekly Pig prices'!E113","v":214.72030000000001},{"$f":"'[1]Weekly Pig prices'!F113","v":419.95},{"$f":"'[1]Weekly Pig prices'!G113","v":176.28530000000001},{"$f":"'[1]Weekly Pig prices'!H113","v":4636},{"$f":"'[1]Weekly Pig prices'!I113","v":166.78700000000001},{"$f":"'[1]Weekly Pig prices'!J113","v":1244},{"$f":"'[1]Weekly Pig prices'!K113","v":167.87},{"$f":"'[1]Weekly Pig prices'!L113","v":175.3},{"$f":"'[1]Weekly Pig prices'!M113","v":199.64000000000001},{"$f":"'[1]Weekly Pig prices'!N113","v":186.98},{"$f":"'[1]Weekly Pig prices'!O113","v":158},{"$f":"'[1]Weekly Pig prices'!P113","v":172.2697},{"$f":"'[1]Weekly Pig prices'!Q113","v":1313},{"$f":"'[1]Weekly Pig prices'!R113","v":174.19},{"$f":"'[1]Weekly Pig prices'!S113","v":180.26},{"$f":"'[1]Weekly Pig prices'!T113","v":198},{"$f":"'[1]Weekly Pig prices'!U113","v":184.90650000000002},{"$f":"'[1]Weekly Pig prices'!V113","v":129.91},{"$f":"'[1]Weekly Pig prices'!W113","v":175.99340000000001},{"$f":"'[1]Weekly Pig prices'!X113","v":607.66999999999996},{"$f":"'[1]Weekly Pig prices'!Y113","v":162.30000000000001},{"$f":"'[1]Weekly Pig prices'!Z113","v":168.45050000000001},{"$f":"'[1]Weekly Pig prices'!AA113","v":49914.28},{"$f":"'[1]Weekly Pig prices'!AB113","v":237},{"$f":"'[1]Weekly Pig prices'!AC113","v":149.89000000000001},{"$f":"'[1]Weekly Pig prices'!AD113","v":167.17000000000002},{"$f":"'[1]Weekly Pig prices'!AE113","v":169.9402},{"$f":"'[1]Weekly Pig prices'!AF113","v":709.76},{"$f":"'[1]Weekly Pig prices'!AG113","v":174},{"$f":"'[1]Weekly Pig prices'!AH113","v":196.33250000000001},{"$f":"'[1]Weekly Pig prices'!AI113","v":871.36},{"$f":"'[1]Weekly Pig prices'!AJ113","v":169.09},{"$f":"'[1]Weekly Pig prices'!AK113","v":182.94},{"$f":"'[1]Weekly Pig prices'!AL113","v":169.79},{"$f":"'[1]Weekly Pig prices'!AM113","v":191.87560000000002},{"$f":"'[1]Weekly Pig prices'!AN113","v":1687},{"$f":"'[1]Weekly Pig prices'!AO113","v":199.93870000000001},{"$f":"'[1]Weekly Pig prices'!AQ113","v":0},null,{"$f":"'[1]Weekly Pig prices'!$AR113","v":172.14397629999996},{"$f":"'[1]Weekly Pig prices'!AS113","v":-2.1960073085995679E-2}]
["201300","2013-11-11",46,{"$f":"'[1]Weekly Pig prices'!D114","v":154.70000000000002},{"$f":"'[1]Weekly Pig prices'!E114","v":208.5898},{"$f":"'[1]Weekly Pig prices'!F114","v":407.96000000000004},{"$f":"'[1]Weekly Pig prices'!G114","v":169.57680000000002},{"$f":"'[1]Weekly Pig prices'!H114","v":4591},{"$f":"'[1]Weekly Pig prices'!I114","v":161.02090000000001},{"$f":"'[1]Weekly Pig prices'!J114","v":1201},{"$f":"'[1]Weekly Pig prices'!K114","v":167.97},{"$f":"'[1]Weekly Pig prices'!L114","v":174.74},{"$f":"'[1]Weekly Pig prices'!M114","v":198.71},{"$f":"'[1]Weekly Pig prices'!N114","v":183.98},{"$f":"'[1]Weekly Pig prices'!O114","v":155},{"$f":"'[1]Weekly Pig prices'!P114","v":169.41560000000001},{"$f":"'[1]Weekly Pig prices'!Q114","v":1292},{"$f":"'[1]Weekly Pig prices'!R114","v":174.09},{"$f":"'[1]Weekly Pig prices'!S114","v":181.85},{"$f":"'[1]Weekly Pig prices'!T114","v":194},{"$f":"'[1]Weekly Pig prices'!U114","v":183.0189},{"$f":"'[1]Weekly Pig prices'!V114","v":128.61000000000001},{"$f":"'[1]Weekly Pig prices'!W114","v":175.7791},{"$f":"'[1]Weekly Pig prices'!X114","v":606.93000000000006},{"$f":"'[1]Weekly Pig prices'!Y114","v":165.8},{"$f":"'[1]Weekly Pig prices'!Z114","v":168.84050000000002},{"$f":"'[1]Weekly Pig prices'!AA114","v":50293.23},{"$f":"'[1]Weekly Pig prices'!AB114","v":237},{"$f":"'[1]Weekly Pig prices'!AC114","v":150.11000000000001},{"$f":"'[1]Weekly Pig prices'!AD114","v":169.59},{"$f":"'[1]Weekly Pig prices'!AE114","v":168.49780000000001},{"$f":"'[1]Weekly Pig prices'!AF114","v":706.28},{"$f":"'[1]Weekly Pig prices'!AG114","v":169},{"$f":"'[1]Weekly Pig prices'!AH114","v":192.7302},{"$f":"'[1]Weekly Pig prices'!AI114","v":858.2},{"$f":"'[1]Weekly Pig prices'!AJ114","v":172.61},{"$f":"'[1]Weekly Pig prices'!AK114","v":177.1},{"$f":"'[1]Weekly Pig prices'!AL114","v":171},{"$f":"'[1]Weekly Pig prices'!AM114","v":188.01610000000002},{"$f":"'[1]Weekly Pig prices'!AN114","v":1676},{"$f":"'[1]Weekly Pig prices'!AO114","v":199.64400000000001},{"$f":"'[1]Weekly Pig prices'!AQ114","v":0},null,{"$f":"'[1]Weekly Pig prices'!$AR114","v":170.563267},{"$f":"'[1]Weekly Pig prices'!AS114","v":-9.1824839531139402E-3}]
["201300","2013-11-18",47,{"$f":"'[1]Weekly Pig prices'!D115","v":153.1},{"$f":"'[1]Weekly Pig prices'!E115","v":211.55030000000002},{"$f":"'[1]Weekly Pig prices'!F115","v":413.75},{"$f":"'[1]Weekly Pig prices'!G115","v":168.79410000000001},{"$f":"'[1]Weekly Pig prices'!H115","v":4598},{"$f":"'[1]Weekly Pig prices'!I115","v":161.01910000000001},{"$f":"'[1]Weekly Pig prices'!J115","v":1201},{"$f":"'[1]Weekly Pig prices'!K115","v":168.41},{"$f":"'[1]Weekly Pig prices'!L115","v":175.59},{"$f":"'[1]Weekly Pig prices'!M115","v":198.71},{"$f":"'[1]Weekly Pig prices'!N115","v":180.37},{"$f":"'[1]Weekly Pig prices'!O115","v":155},{"$f":"'[1]Weekly Pig prices'!P115","v":168.6558},{"$f":"'[1]Weekly Pig prices'!Q115","v":1289},{"$f":"'[1]Weekly Pig prices'!R115","v":169.53},{"$f":"'[1]Weekly Pig prices'!S115","v":187.35},{"$f":"'[1]Weekly Pig prices'!T115","v":194},{"$f":"'[1]Weekly Pig prices'!U115","v":181.06200000000001},{"$f":"'[1]Weekly Pig prices'!V115","v":127.24000000000001},{"$f":"'[1]Weekly Pig prices'!W115","v":173.79519999999999},{"$f":"'[1]Weekly Pig prices'!X115","v":600.08000000000004},{"$f":"'[1]Weekly Pig prices'!Y115","v":163.70000000000002},{"$f":"'[1]Weekly Pig prices'!Z115","v":167.8475},{"$f":"'[1]Weekly Pig prices'!AA115","v":49937.75},{"$f":"'[1]Weekly Pig prices'!AB115","v":237},{"$f":"'[1]Weekly Pig prices'!AC115","v":150.71},{"$f":"'[1]Weekly Pig prices'!AD115","v":169.74},{"$f":"'[1]Weekly Pig prices'!AE115","v":167.87970000000001},{"$f":"'[1]Weekly Pig prices'!AF115","v":703.08},{"$f":"'[1]Weekly Pig prices'!AG115","v":169},{"$f":"'[1]Weekly Pig prices'!AH115","v":190.98},{"$f":"'[1]Weekly Pig prices'!AI115","v":849.67000000000007},{"$f":"'[1]Weekly Pig prices'!AJ115","v":174.1},{"$f":"'[1]Weekly Pig prices'!AK115","v":177.59},{"$f":"'[1]Weekly Pig prices'!AL115","v":170.43},{"$f":"'[1]Weekly Pig prices'!AM115","v":187.59280000000001},{"$f":"'[1]Weekly Pig prices'!AN115","v":1674},{"$f":"'[1]Weekly Pig prices'!AO115","v":200.14680000000001},{"$f":"'[1]Weekly Pig prices'!AQ115","v":0},null,{"$f":"'[1]Weekly Pig prices'!$AR115","v":170.15246629999999},{"$f":"'[1]Weekly Pig prices'!AS115","v":-2.4084945558647819E-3}]
["201301","2013-11-25",48,{"$f":"'[1]Weekly Pig prices'!D116","v":153.6},{"$f":"'[1]Weekly Pig prices'!E116","v":211.55030000000002},{"$f":"'[1]Weekly Pig prices'!F116","v":413.75},{"$f":"'[1]Weekly Pig prices'!G116","v":168.44280000000001},{"$f":"'[1]Weekly Pig prices'!H116","v":4604},{"$f":"'[1]Weekly Pig prices'!I116","v":161.02090000000001},{"$f":"'[1]Weekly Pig prices'!J116","v":1201},{"$f":"'[1]Weekly Pig prices'!K116","v":172.23},{"$f":"'[1]Weekly Pig prices'!L116","v":174.88},{"$f":"'[1]Weekly Pig prices'!M116","v":199.64000000000001},{"$f":"'[1]Weekly Pig prices'!N116","v":179.96},{"$f":"'[1]Weekly Pig prices'!O116","v":154},{"$f":"'[1]Weekly Pig prices'!P116","v":169.22499999999999},{"$f":"'[1]Weekly Pig prices'!Q116","v":1293},{"$f":"'[1]Weekly Pig prices'!R116","v":165.97},{"$f":"'[1]Weekly Pig prices'!S116","v":195.75},{"$f":"'[1]Weekly Pig prices'!T116","v":191},{"$f":"'[1]Weekly Pig prices'!U116","v":181.15270000000001},{"$f":"'[1]Weekly Pig prices'!V116","v":127.34},{"$f":"'[1]Weekly Pig prices'!W116","v":173.82990000000001},{"$f":"'[1]Weekly Pig prices'!X116","v":600.20000000000005},{"$f":"'[1]Weekly Pig prices'!Y116","v":167.5},{"$f":"'[1]Weekly Pig prices'!Z116","v":168.38590000000002},{"$f":"'[1]Weekly Pig prices'!AA116","v":50411.12},{"$f":"'[1]Weekly Pig prices'!AB116","v":237},{"$f":"'[1]Weekly Pig prices'!AC116","v":152.58000000000001},{"$f":"'[1]Weekly Pig prices'!AD116","v":169.72},{"$f":"'[1]Weekly Pig prices'!AE116","v":168.24540000000002},{"$f":"'[1]Weekly Pig prices'!AF116","v":706.58},{"$f":"'[1]Weekly Pig prices'!AG116","v":169},{"$f":"'[1]Weekly Pig prices'!AH116","v":189.2525},{"$f":"'[1]Weekly Pig prices'!AI116","v":840.6},{"$f":"'[1]Weekly Pig prices'!AJ116","v":173.70000000000002},{"$f":"'[1]Weekly Pig prices'!AK116","v":174.14000000000001},{"$f":"'[1]Weekly Pig prices'!AL116","v":172.71},{"$f":"'[1]Weekly Pig prices'!AM116","v":187.08410000000001},{"$f":"'[1]Weekly Pig prices'!AN116","v":1666},{"$f":"'[1]Weekly Pig prices'!AO116","v":200.7621},{"$f":"'[1]Weekly Pig prices'!AQ116","v":0},null,{"$f":"'[1]Weekly Pig prices'!$AR116","v":171.35641910000001},{"$f":"'[1]Weekly Pig prices'!AS116","v":7.0757293513294961E-3}]
["201302","2013-12-02",49,{"$f":"'[1]Weekly Pig prices'!D117","v":158.1},{"$f":"'[1]Weekly Pig prices'!E117","v":198.88030000000001},{"$f":"'[1]Weekly Pig prices'!F117","v":388.97},{"$f":"'[1]Weekly Pig prices'!G117","v":170.506},{"$f":"'[1]Weekly Pig prices'!H117","v":4680},{"$f":"'[1]Weekly Pig prices'!I117","v":162.8777},{"$f":"'[1]Weekly Pig prices'!J117","v":1215},{"$f":"'[1]Weekly Pig prices'!K117","v":172.89000000000001},{"$f":"'[1]Weekly Pig prices'!L117","v":170.70000000000002},{"$f":"'[1]Weekly Pig prices'!M117","v":200.57},{"$f":"'[1]Weekly Pig prices'!N117","v":180.48},{"$f":"'[1]Weekly Pig prices'!O117","v":154},{"$f":"'[1]Weekly Pig prices'!P117","v":169.90770000000001},{"$f":"'[1]Weekly Pig prices'!Q117","v":1298},{"$f":"'[1]Weekly Pig prices'!R117","v":165.79},{"$f":"'[1]Weekly Pig prices'!S117","v":195.75},{"$f":"'[1]Weekly Pig prices'!T117","v":191},{"$f":"'[1]Weekly Pig prices'!U117","v":180.61260000000001},{"$f":"'[1]Weekly Pig prices'!V117","v":126.95},{"$f":"'[1]Weekly Pig prices'!W117","v":177.38939999999999},{"$f":"'[1]Weekly Pig prices'!X117","v":612.49},{"$f":"'[1]Weekly Pig prices'!Y117","v":170.5},{"$f":"'[1]Weekly Pig prices'!Z117","v":173.46690000000001},{"$f":"'[1]Weekly Pig prices'!AA117","v":52412.29},{"$f":"'[1]Weekly Pig prices'!AB117","v":237},{"$f":"'[1]Weekly Pig prices'!AC117","v":154.68},{"$f":"'[1]Weekly Pig prices'!AD117","v":175.06},{"$f":"'[1]Weekly Pig prices'!AE117","v":172.3116},{"$f":"'[1]Weekly Pig prices'!AF117","v":723.15},{"$f":"'[1]Weekly Pig prices'!AG117","v":169},{"$f":"'[1]Weekly Pig prices'!AH117","v":187.82420000000002},{"$f":"'[1]Weekly Pig prices'!AI117","v":837.06000000000006},{"$f":"'[1]Weekly Pig prices'!AJ117","v":176.67000000000002},{"$f":"'[1]Weekly Pig prices'!AK117","v":174.31},{"$f":"'[1]Weekly Pig prices'!AL117","v":173.13},{"$f":"'[1]Weekly Pig prices'!AM117","v":186.64690000000002},{"$f":"'[1]Weekly Pig prices'!AN117","v":1659},{"$f":"'[1]Weekly Pig prices'!AO117","v":201.49},{"$f":"'[1]Weekly Pig prices'!AQ117","v":0},null,{"$f":"'[1]Weekly Pig prices'!$AR117","v":172.58223390000003},{"$f":"'[1]Weekly Pig prices'!AS117","v":7.1535972007250592E-3}]
["201303","2013-12-09",50,{"$f":"'[1]Weekly Pig prices'!D118","v":153.20000000000002},{"$f":"'[1]Weekly Pig prices'!E118","v":199.73920000000001},{"$f":"'[1]Weekly Pig prices'!F118","v":390.65000000000003},{"$f":"'[1]Weekly Pig prices'!G118","v":173.50110000000001},{"$f":"'[1]Weekly Pig prices'!H118","v":4769},{"$f":"'[1]Weekly Pig prices'!I118","v":160.17510000000001},{"$f":"'[1]Weekly Pig prices'!J118","v":1195},{"$f":"'[1]Weekly Pig prices'!K118","v":167.17000000000002},{"$f":"'[1]Weekly Pig prices'!L118","v":171.03},{"$f":"'[1]Weekly Pig prices'!M118","v":200.11},{"$f":"'[1]Weekly Pig prices'!N118","v":183.29},{"$f":"'[1]Weekly Pig prices'!O118","v":154},{"$f":"'[1]Weekly Pig prices'!P118","v":173.4744},{"$f":"'[1]Weekly Pig prices'!Q118","v":1325},{"$f":"'[1]Weekly Pig prices'!R118","v":165.75},{"$f":"'[1]Weekly Pig prices'!S118","v":194.06},{"$f":"'[1]Weekly Pig prices'!T118","v":191},{"$f":"'[1]Weekly Pig prices'!U118","v":184.42690000000002},{"$f":"'[1]Weekly Pig prices'!V118","v":129.66},{"$f":"'[1]Weekly Pig prices'!W118","v":176.6045},{"$f":"'[1]Weekly Pig prices'!X118","v":609.78},{"$f":"'[1]Weekly Pig prices'!Y118","v":162.9},{"$f":"'[1]Weekly Pig prices'!Z118","v":168.94730000000001},{"$f":"'[1]Weekly Pig prices'!AA118","v":51050.81},{"$f":"'[1]Weekly Pig prices'!AB118","v":237},{"$f":"'[1]Weekly Pig prices'!AC118","v":154.32},{"$f":"'[1]Weekly Pig prices'!AD118","v":171.54},{"$f":"'[1]Weekly Pig prices'!AE118","v":169.31640000000002},{"$f":"'[1]Weekly Pig prices'!AF118","v":708.41},{"$f":"'[1]Weekly Pig prices'!AG118","v":172},{"$f":"'[1]Weekly Pig prices'!AH118","v":187.06110000000001},{"$f":"'[1]Weekly Pig prices'!AI118","v":833.32},{"$f":"'[1]Weekly Pig prices'!AJ118","v":171.81},{"$f":"'[1]Weekly Pig prices'!AK118","v":173.62},{"$f":"'[1]Weekly Pig prices'!AL118","v":171.92000000000002},{"$f":"'[1]Weekly Pig prices'!AM118","v":183.95850000000002},{"$f":"'[1]Weekly Pig prices'!AN118","v":1656},{"$f":"'[1]Weekly Pig prices'!AO118","v":199.3194},{"$f":"'[1]Weekly Pig prices'!AQ118","v":0},null,{"$f":"'[1]Weekly Pig prices'!$AR118","v":170.96223219999993},{"$f":"'[1]Weekly Pig prices'!AS118","v":-9.3868393251810289E-3}]
["201303","2013-12-16",51,{"$f":"'[1]Weekly Pig prices'!D119","v":147.5},{"$f":"'[1]Weekly Pig prices'!E119","v":199.73920000000001},{"$f":"'[1]Weekly Pig prices'!F119","v":390.65000000000003},{"$f":"'[1]Weekly Pig prices'!G119","v":173.50110000000001},{"$f":"'[1]Weekly Pig prices'!H119","v":4769},{"$f":"'[1]Weekly Pig prices'!I119","v":157.7724},{"$f":"'[1]Weekly Pig prices'!J119","v":1177},{"$f":"'[1]Weekly Pig prices'!K119","v":167.17000000000002},{"$f":"'[1]Weekly Pig prices'!L119","v":171.03},{"$f":"'[1]Weekly Pig prices'!M119","v":200.48000000000002},{"$f":"'[1]Weekly Pig prices'!N119","v":178.44},{"$f":"'[1]Weekly Pig prices'!O119","v":154},{"$f":"'[1]Weekly Pig prices'!P119","v":171.78720000000001},{"$f":"'[1]Weekly Pig prices'!Q119","v":1308},{"$f":"'[1]Weekly Pig prices'!R119","v":165.89000000000001},{"$f":"'[1]Weekly Pig prices'!S119","v":192.21},{"$f":"'[1]Weekly Pig prices'!T119","v":190},{"$f":"'[1]Weekly Pig prices'!U119","v":184.42690000000002},{"$f":"'[1]Weekly Pig prices'!V119","v":129.66},{"$f":"'[1]Weekly Pig prices'!W119","v":176.0745},{"$f":"'[1]Weekly Pig prices'!X119","v":607.95000000000005},{"$f":"'[1]Weekly Pig prices'!Y119","v":157.4},{"$f":"'[1]Weekly Pig prices'!Z119","v":168.94730000000001},{"$f":"'[1]Weekly Pig prices'!AA119","v":51050.81},{"$f":"'[1]Weekly Pig prices'!AB119","v":237},{"$f":"'[1]Weekly Pig prices'!AC119","v":148.97999999999999},{"$f":"'[1]Weekly Pig prices'!AD119","v":164.70000000000002},{"$f":"'[1]Weekly Pig prices'!AE119","v":163.61620000000002},{"$f":"'[1]Weekly Pig prices'!AF119","v":683.82},{"$f":"'[1]Weekly Pig prices'!AG119","v":172},{"$f":"'[1]Weekly Pig prices'!AH119","v":185.50550000000001},{"$f":"'[1]Weekly Pig prices'!AI119","v":828.2},{"$f":"'[1]Weekly Pig prices'!AJ119","v":168.26},{"$f":"'[1]Weekly Pig prices'!AK119","v":170.39000000000001},{"$f":"'[1]Weekly Pig prices'!AL119","v":173.66},{"$f":"'[1]Weekly Pig prices'!AM119","v":184.80370000000002},{"$f":"'[1]Weekly Pig prices'!AN119","v":1657},{"$f":"'[1]Weekly Pig prices'!AO119","v":198.58580000000001},{"$f":"'[1]Weekly Pig prices'!AQ119","v":0},null,{"$f":"'[1]Weekly Pig prices'!$AR119","v":168.46894129999998},{"$f":"'[1]Weekly Pig prices'!AS119","v":-1.4583869594561483E-2}]
["201303","2013-12-23",52,{"$f":"'[1]Weekly Pig prices'!D120","v":142.70000000000002},{"$f":"'[1]Weekly Pig prices'!E120","v":204.3818},{"$f":"'[1]Weekly Pig prices'!F120","v":399.73},{"$f":"'[1]Weekly Pig prices'!G120","v":167.0351},{"$f":"'[1]Weekly Pig prices'!H120","v":4599},{"$f":"'[1]Weekly Pig prices'!I120","v":152.40350000000001},{"$f":"'[1]Weekly Pig prices'!J120","v":1137},{"$f":"'[1]Weekly Pig prices'!K120","v":167.17000000000002},{"$f":"'[1]Weekly Pig prices'!L120","v":169.78},{"$f":"'[1]Weekly Pig prices'!M120","v":200.48000000000002},{"$f":"'[1]Weekly Pig prices'!N120","v":173.93},{"$f":"'[1]Weekly Pig prices'!O120","v":150},{"$f":"'[1]Weekly Pig prices'!P120","v":172.25200000000001},{"$f":"'[1]Weekly Pig prices'!Q120","v":1316},{"$f":"'[1]Weekly Pig prices'!R120","v":166.12},{"$f":"'[1]Weekly Pig prices'!S120","v":191.61},{"$f":"'[1]Weekly Pig prices'!T120","v":189},{"$f":"'[1]Weekly Pig prices'!U120","v":184.42690000000002},{"$f":"'[1]Weekly Pig prices'!V120","v":129.66},{"$f":"'[1]Weekly Pig prices'!W120","v":172.70330000000001},{"$f":"'[1]Weekly Pig prices'!X120","v":596.31000000000006},{"$f":"'[1]Weekly Pig prices'!Y120","v":152.20000000000002},{"$f":"'[1]Weekly Pig prices'!Z120","v":168.94730000000001},{"$f":"'[1]Weekly Pig prices'!AA120","v":51050.81},{"$f":"'[1]Weekly Pig prices'!AB120","v":237},{"$f":"'[1]Weekly Pig prices'!AC120","v":148.97999999999999},{"$f":"'[1]Weekly Pig prices'!AD120","v":159.58000000000001},{"$f":"'[1]Weekly Pig prices'!AE120","v":163.61620000000002},{"$f":"'[1]Weekly Pig prices'!AF120","v":681.1},{"$f":"'[1]Weekly Pig prices'!AG120","v":168},{"$f":"'[1]Weekly Pig prices'!AH120","v":184.93770000000001},{"$f":"'[1]Weekly Pig prices'!AI120","v":826.46},{"$f":"'[1]Weekly Pig prices'!AJ120","v":164.11},{"$f":"'[1]Weekly Pig prices'!AK120","v":175.05},{"$f":"'[1]Weekly Pig prices'!AL120","v":170.54},{"$f":"'[1]Weekly Pig prices'!AM120","v":175.06},{"$f":"'[1]Weekly Pig prices'!AN120","v":1649},{"$f":"'[1]Weekly Pig prices'!AO120","v":199.33750000000001},{"$f":"'[1]Weekly Pig prices'!AQ120","v":0},null,{"$f":"'[1]Weekly Pig prices'!$AR120","v":166.28671690000004},{"$f":"'[1]Weekly Pig prices'!AS120","v":-1.2953274254356217E-2}]
[]
[]
[]
[]
[]
[]
[]
[]
[]
[]
[]
[]
[]
[]
[]
[]
[]
[]
[]
[]
[]
[]
[]
[]
[]
[]
[]
[]
[]
[]
[]
[]
[]
[]
[]
[]
[]
[]
[]
[]
[]
[]
[]
[]
[]
[]
[]
[]
[]
[]
[]
[]
[]
[]
[]
[]
[]
[]
[]
[]
[]
[]
[]
[]
[]
[]
[]
[]
[]
[]
[]
[]
[]
[]
[]
[]
[]
[]
[]
[]
[]
[]
[]
[]
[]
[]
[]
[]
[]
[]
[]
[]
[]
[]
[]
[]
[]
[]
[]
[]
[]
[]
[]
[]
[]
[]
[]
[]
[]
[]
[]
[]
[]
[]
[]
[]
[]
[]
[]
[]
[]
[]
[]
[]
[]
[]
[]
[]
[]
[]
[]
[]
[]
[]
[]
[]
[]
[]
[]
[]
[]
[]
[]
[]
[]
[]
[]
[]
[]
[]
[]
[]
[]
[]
[]
[]
[]
[]
[]
[]
[]
[]
[]
[]
[]
[]
[]
[]
[]
[]
[]
[]
[]
[]
[]
[]
[]
[]
[]
[]
[]
[]
[]
[]
[]
[]
[]
[]
[]
[]
[]
[]
[]
[]
[]
[]
[]
[]
[]
[]
[]
[]
[]
[]
[]
[]
[]
[]
[]
[]
[]
[]
[]
[]
[]
[]
[]
[]
[]
[]
[]
[]
[]
[]
[]
[]
[]
[]
[]
[]
[]
[]
[]
[]
[]
[]
[]
[]
[]
[]
[]
[]
[]
[]
[]
[]
[]
[]
[]
[]
[]
[]
[]
[]
[]
[]
[]
[]
[]
[]
[]
[]
[]
[]
[]
[]
[]
[]
[]
[]
[]
[]
[]
[]
[]
[]
[]
[]
[]
[]
[]
[]
[]
[]
[]
[]
[]
[]
[]
[]
[]
[]
[]
[]
[]
[]
[]
[]
[]
[]
[]
[]
[]
[]
[]
[]
[]
[]
[]
[]
[]
[]
[]
[]
[]
[]
[]
[]
[]
[]
[]
[]
[]
[]
[]
[]
[]
[]
[]
[]
[]
[]
[]
[]
[]
[]
[]
[]
[]
[]
[]
[]
[]
[]
[]
[]
[]
[]
[]
[]
[]
[]
[]
[]
[]
[]
[]
[]
[]
[]
[]
[]
[]
[]
[]
[]
[]
[]
[]
[]
[]
[]
[]
[]
[]
[]
[]
[null,null,null,"BE","BG","BG","CZ","CZ","DK","DK","DE","EE","GR","ES","FR","HR","HR","IE","IT","CY","LV","LV","LT","LT","LU","HU","HU","MT","NL","AT","PL","PL","PT","RO","RO","SI","SK","FI","SE","SE","UK","UK",null,{"$f":"AR10","v":"EU_28"}]
[null,"Change 1 week",null,{"$f":"'[1]Weekly Pig prices'!D500","v":-3.2542372881355863E-2},{"$f":"'[1]Weekly Pig prices'!E500","v":2.3243309275294832E-2},{"$f":"'[1]Weekly Pig prices'!F500","v":2.3243312428004481E-2},{"$f":"'[1]Weekly Pig prices'!G500","v":-3.7267775247534551E-2},{"$f":"'[1]Weekly Pig prices'!H500","v":-3.5646886139651945E-2},{"$f":"'[1]Weekly Pig prices'!I500","v":-3.4029399311920172E-2},{"$f":"'[1]Weekly Pig prices'!J500","v":-3.3984706881903137E-2},{"$f":"'[1]Weekly Pig prices'!K500","v":0},{"$f":"'[1]Weekly Pig prices'!L500","v":-7.3086592995380562E-3},{"$f":"'[1]Weekly Pig prices'!M500","v":0},{"$f":"'[1]Weekly Pig prices'!N500","v":0},{"$f":"'[1]Weekly Pig prices'!O500","v":0},{"$f":"'[1]Weekly Pig prices'!P500","v":2.7056730652808003E-3},{"$f":"'[1]Weekly Pig prices'!Q500","v":6.1162079510703737E-3},{"$f":"'[1]Weekly Pig prices'!R500","v":0},{"$f":"'[1]Weekly Pig prices'!S500","v":0},{"$f":"'[1]Weekly Pig prices'!T500","v":0},{"$f":"'[1]Weekly Pig prices'!U500","v":0},{"$f":"'[1]Weekly Pig prices'!V500","v":0},{"$f":"'[1]Weekly Pig prices'!W500","v":-1.9146440853161528E-2},{"$f":"'[1]Weekly Pig prices'!X500","v":-1.914631137429057E-2},{"$f":"'[1]Weekly Pig prices'!Y500","v":-3.3036848792884266E-2},{"$f":"'[1]Weekly Pig prices'!Z500","v":0},{"$f":"'[1]Weekly Pig prices'!AA500","v":0},{"$f":"'[1]Weekly Pig prices'!AB500","v":0},{"$f":"'[1]Weekly Pig prices'!AC500","v":0},{"$f":"'[1]Weekly Pig prices'!AD500","v":-3.1086824529447554E-2},{"$f":"'[1]Weekly Pig prices'!AE500","v":0},{"$f":"'[1]Weekly Pig prices'!AF500","v":0},{"$f":"'[1]Weekly Pig prices'!AG500","v":-2.3255813953488413E-2},{"$f":"'[1]Weekly Pig prices'!AH500","v":-3.0608256898043695E-3},{"$f":"'[1]Weekly Pig prices'!AI500","v":0},{"$f":"'[1]Weekly Pig prices'!AJ500","v":-2.4664210150956767E-2},{"$f":"'[1]Weekly Pig prices'!AK500","v":2.7349022829978198E-2},{"$f":"'[1]Weekly Pig prices'!AL500","v":-1.7966140734769098E-2},{"$f":"'[1]Weekly Pig prices'!AM500","v":-5.2724593717550117E-2},{"$f":"'[1]Weekly Pig prices'!AN500","v":-4.8280024140011646E-3},{"$f":"'[1]Weekly Pig prices'!AO500","v":3.7852656131505125E-3},{"$f":"'[1]Weekly Pig prices'!AP500","v":-3.5863717872085532E-3},null,{"$f":"'[1]Weekly Pig prices'!AR500","v":-1.2953274254356217E-2}]
[null,"Change 4 weeks",null,{"$f":"'[1]Weekly Pig prices'!D501","v":-7.0963541666666519E-2},{"$f":"'[1]Weekly Pig prices'!E501","v":-3.3885558186398379E-2},{"$f":"'[1]Weekly Pig prices'!F501","v":-3.3885196374622284E-2},{"$f":"'[1]Weekly Pig prices'!G501","v":-8.3571396343447013E-3},{"$f":"'[1]Weekly Pig prices'!H501","v":-1.0860121633362585E-3},{"$f":"'[1]Weekly Pig prices'!I501","v":-5.351727632872505E-2},{"$f":"'[1]Weekly Pig prices'!J501","v":-5.328892589508738E-2},{"$f":"'[1]Weekly Pig prices'!K501","v":-2.9379318353364492E-2},{"$f":"'[1]Weekly Pig prices'!L501","v":-2.9162854528819726E-2},{"$f":"'[1]Weekly Pig prices'!M501","v":4.2075736325386526E-3},{"$f":"'[1]Weekly Pig prices'!N501","v":-3.3507446099133142E-2},{"$f":"'[1]Weekly Pig prices'!O501","v":-2.5974025974025983E-2},{"$f":"'[1]Weekly Pig prices'!P501","v":1.7887427980499471E-2},{"$f":"'[1]Weekly Pig prices'!Q501","v":1.7788089713843824E-2},{"$f":"'[1]Weekly Pig prices'!R501","v":9.0377779116712631E-4},{"$f":"'[1]Weekly Pig prices'!S501","v":-2.1149425287356305E-2},{"$f":"'[1]Weekly Pig prices'!T501","v":-1.0471204188481686E-2},{"$f":"'[1]Weekly Pig prices'!U501","v":1.8074254482544294E-2},{"$f":"'[1]Weekly Pig prices'!V501","v":1.821894141667979E-2},{"$f":"'[1]Weekly Pig prices'!W501","v":-6.4810484272268543E-3},{"$f":"'[1]Weekly Pig prices'!X501","v":-6.4811729423525088E-3},{"$f":"'[1]Weekly Pig prices'!Y501","v":-9.134328358208943E-2},{"$f":"'[1]Weekly Pig prices'!Z501","v":3.3340083700594825E-3},{"$f":"'[1]Weekly Pig prices'!AA501","v":1.268946216628386E-2},{"$f":"'[1]Weekly Pig prices'!AB501","v":0},{"$f":"'[1]Weekly Pig prices'!AC501","v":-2.3594180102241569E-2},{"$f":"'[1]Weekly Pig prices'!AD501","v":-5.9745463115719932E-2},{"$f":"'[1]Weekly Pig prices'!AE501","v":-2.7514570977869246E-2},{"$f":"'[1]Weekly Pig prices'!AF501","v":-3.6061026352288472E-2},{"$f":"'[1]Weekly Pig prices'!AG501","v":-5.9171597633136397E-3},{"$f":"'[1]Weekly Pig prices'!AH501","v":-2.2799170420469972E-2},{"$f":"'[1]Weekly Pig prices'!AI501","v":-1.6821318106114647E-2},{"$f":"'[1]Weekly Pig prices'!AJ501","v":-5.521013241220496E-2},{"$f":"'[1]Weekly Pig prices'!AK501","v":5.2256804869645901E-3},{"$f":"'[1]Weekly Pig prices'!AL501","v":-1.2564414336170504E-2},{"$f":"'[1]Weekly Pig prices'!AM501","v":-6.4271095191948402E-2},{"$f":"'[1]Weekly Pig prices'!AN501","v":-1.0204081632653073E-2},{"$f":"'[1]Weekly Pig prices'!AO501","v":-7.0959608412145547E-3},{"$f":"'[1]Weekly Pig prices'!AP501","v":-4.5978384188212207E-3},null,{"$f":"'[1]Weekly Pig prices'!AR501","v":-2.9585715123058187E-2}]
[null,"Change 1 Year",null,{"$f":"'[1]Weekly Pig prices'!D502","v":-7.8760490639121938E-2},{"$f":"'[1]Weekly Pig prices'!E502","v":-1.3816008195127405E-2},{"$f":"'[1]Weekly Pig prices'!F502","v":-1.3815903091308201E-2},{"$f":"'[1]Weekly Pig prices'!G502","v":-8.1001245064170613E-2},{"$f":"'[1]Weekly Pig prices'!H502","v":6.5659881812212273E-3},{"$f":"'[1]Weekly Pig prices'!I502","v":-5.7152914654501563E-2},{"$f":"'[1]Weekly Pig prices'!J502","v":-5.7213930348258724E-2},{"$f":"'[1]Weekly Pig prices'!K502","v":-2.4451447245564917E-2},{"$f":"'[1]Weekly Pig prices'!L502","v":-5.0181818181818216E-2},{"$f":"'[1]Weekly Pig prices'!M502","v":-4.4696464309539663E-2},{"$f":"'[1]Weekly Pig prices'!N502","v":5.0271582110250623E-3},{"$f":"'[1]Weekly Pig prices'!O502","v":-3.8461538461538436E-2},{"$f":"'[1]Weekly Pig prices'!P502","v":0},{"$f":"'[1]Weekly Pig prices'!Q502","v":{"$error":"#VALUE!"}},{"$f":"'[1]Weekly Pig prices'!R502","v":-3.17090230823035E-2},{"$f":"'[1]Weekly Pig prices'!S502","v":2.9552415238299989E-2},{"$f":"'[1]Weekly Pig prices'!T502","v":0},{"$f":"'[1]Weekly Pig prices'!U502","v":-3.0363492306341389E-2},{"$f":"'[1]Weekly Pig prices'!V502","v":-2.1876885938443058E-2},{"$f":"'[1]Weekly Pig prices'!W502","v":-2.2538905264492426E-2},{"$f":"'[1]Weekly Pig prices'!X502","v":-2.2538766678687372E-2},{"$f":"'[1]Weekly Pig prices'!Y502","v":-9.9940863394441082E-2},{"$f":"'[1]Weekly Pig prices'!Z502","v":-8.0094462261481869E-3},{"$f":"'[1]Weekly Pig prices'!AA502","v":3.3223320239299081E-2},{"$f":"'[1]Weekly Pig prices'!AB502","v":0},{"$f":"'[1]Weekly Pig prices'!AC502","v":-3.7348151977255162E-2},{"$f":"'[1]Weekly Pig prices'!AD502","v":-3.9831528279181683E-2},{"$f":"'[1]Weekly Pig prices'!AE502","v":-4.6327792945389468E-2},{"$f":"'[1]Weekly Pig prices'!AF502","v":-2.629058313914423E-2},{"$f":"'[1]Weekly Pig prices'!AG502","v":-2.8901734104046284E-2},{"$f":"'[1]Weekly Pig prices'!AH502","v":-6.8213617229243795E-2},{"$f":"'[1]Weekly Pig prices'!AI502","v":-5.9740377942364309E-2},{"$f":"'[1]Weekly Pig prices'!AJ502","v":-3.2313226015684871E-2},{"$f":"'[1]Weekly Pig prices'!AK502","v":-3.90843717406818E-2},{"$f":"'[1]Weekly Pig prices'!AL502","v":-5.1343383211881921E-2},{"$f":"'[1]Weekly Pig prices'!AM502","v":-7.2886893366104766E-2},{"$f":"'[1]Weekly Pig prices'!AN502","v":1.4769230769230868E-2},{"$f":"'[1]Weekly Pig prices'!AO502","v":3.8184243296690346E-2},{"$f":"'[1]Weekly Pig prices'!AP502","v":6.2392454273150433E-2},null,{"$f":"'[1]Weekly Pig prices'!AR502","v":-2.6230766791489168E-2}]
[null,"Change in average - last 4 weeks 2013 with same weeks 2014",null,{"$f":"'[1]Weekly Pig prices'!D503","v":-5.7012959866220791E-2},{"$f":"'[1]Weekly Pig prices'!E503","v":-3.1685148735243085E-2},{"$f":"'[1]Weekly Pig prices'!F503","v":-3.1685073559040267E-2},{"$f":"'[1]Weekly Pig prices'!G503","v":-6.5095340130808199E-2},{"$f":"'[1]Weekly Pig prices'!H503","v":1.8529878752886697E-2},{"$f":"'[1]Weekly Pig prices'!I503","v":-6.3424294134154402E-2},{"$f":"'[1]Weekly Pig prices'!J503","v":-6.3441712926249005E-2},{"$f":"'[1]Weekly Pig prices'!K503","v":-3.336773305813534E-2},{"$f":"'[1]Weekly Pig prices'!L503","v":-4.3150339258677839E-2},{"$f":"'[1]Weekly Pig prices'!M503","v":-3.0133406462228174E-2},{"$f":"'[1]Weekly Pig prices'!N503","v":2.9035348213430456E-2},{"$f":"'[1]Weekly Pig prices'!O503","v":-3.1645569620253111E-2},{"$f":"'[1]Weekly Pig prices'!P503","v":0},{"$f":"'[1]Weekly Pig prices'!Q503","v":{"$error":"#DIV/0!"}},{"$f":"'[1]Weekly Pig prices'!R503","v":-3.2707146883321436E-2},{"$f":"'[1]Weekly Pig prices'!S503","v":2.463930633796596E-2},{"$f":"'[1]Weekly Pig prices'!T503","v":-4.7161936560934814E-2},{"$f":"'[1]Weekly Pig prices'!U503","v":-3.1346054550273283E-2},{"$f":"'[1]Weekly Pig prices'!V503","v":-2.202016883182556E-2},{"$f":"'[1]Weekly Pig prices'!W503","v":-3.2617794676191858E-2},{"$f":"'[1]Weekly Pig prices'!X503","v":-3.2617766815857485E-2},{"$f":"'[1]Weekly Pig prices'!Y503","v":-7.7739529546758335E-2},{"$f":"'[1]Weekly Pig prices'!Z503","v":-2.2062603283688142E-2},{"$f":"'[1]Weekly Pig prices'!AA503","v":3.9683757811104892E-2},{"$f":"'[1]Weekly Pig prices'!AB503","v":6.1732819639817027E-2},{"$f":"'[1]Weekly Pig prices'!AC503","v":-4.0591805766312494E-2},{"$f":"'[1]Weekly Pig prices'!AD503","v":-1.2191530714411702E-2},{"$f":"'[1]Weekly Pig prices'!AE503","v":-4.0303792179488207E-2},{"$f":"'[1]Weekly Pig prices'!AF503","v":-2.1539236679682383E-2},{"$f":"'[1]Weekly Pig prices'!AG503","v":-2.7142857142857135E-2},{"$f":"'[1]Weekly Pig prices'!AH503","v":-4.558663764821469E-2},{"$f":"'[1]Weekly Pig prices'!AI503","v":-5.44838254697666E-2},{"$f":"'[1]Weekly Pig prices'!AJ503","v":-4.2364618474680649E-3},{"$f":"'[1]Weekly Pig prices'!AK503","v":-6.6243805214393325E-2},{"$f":"'[1]Weekly Pig prices'!AL503","v":-5.1212282504955686E-2},{"$f":"'[1]Weekly Pig prices'!AM503","v":-8.6955754694362231E-3},{"$f":"'[1]Weekly Pig prices'!AN503","v":3.6691022964509434E-2},{"$f":"'[1]Weekly Pig prices'!AO503","v":3.2128992363565922E-2},{"$f":"'[1]Weekly Pig prices'!AP503","v":"UK"},null,{"$f":"'[1]Weekly Pig prices'!AR503","v":3.8400212940616685E-2}]
[null,"% of Reference Price",null,{"$f":"'[1]Weekly Pig prices'!D504","v":94.541503521290068},{"$f":"'[1]Weekly Pig prices'!E504","v":135.40688622556132},{"$f":"'[1]Weekly Pig prices'!F504","v":264.82883813991083},{"$f":"'[1]Weekly Pig prices'!G504","v":110.66397683832541},{"$f":"'[1]Weekly Pig prices'!H504","v":3046.9262417267905},{"$f":"'[1]Weekly Pig prices'!I504","v":100.9702595088082},{"$f":"'[1]Weekly Pig prices'!J504","v":753.28443940929787},{"$f":"'[1]Weekly Pig prices'!K504","v":110.75335069133889},{"$f":"'[1]Weekly Pig prices'!L504","v":112.48252605357132},{"$f":"'[1]Weekly Pig prices'!M504","v":132.82186843691824},{"$f":"'[1]Weekly Pig prices'!N504","v":115.23198113145045},{"$f":"'[1]Weekly Pig prices'!O504","v":99.37789438117386},{"$f":"'[1]Weekly Pig prices'!P504","v":114.12027375297306},{"$f":"'[1]Weekly Pig prices'!Q504","v":0},{"$f":"'[1]Weekly Pig prices'!R504","v":110.05770543067068},{"$f":"'[1]Weekly Pig prices'!S504","v":126.94532228251148},{"$f":"'[1]Weekly Pig prices'!T504","v":125.21614692027906},{"$f":"'[1]Weekly Pig prices'!U504","v":122.18637992831543},{"$f":"'[1]Weekly Pig prices'!V504","v":85.902251903086679},{"$f":"'[1]Weekly Pig prices'!W504","v":114.41926871120123},{"$f":"'[1]Weekly Pig prices'!X504","v":0},{"$f":"'[1]Weekly Pig prices'!Y504","v":100.83543683209776},{"$f":"'[1]Weekly Pig prices'!Z504","v":111.93084623589662},{"$f":"'[1]Weekly Pig prices'!AA504","v":33822.146695022493},{"$f":"'[1]Weekly Pig prices'!AB504","v":157.01707312225469},{"$f":"'[1]Weekly Pig prices'!AC504","v":98.702124699381855},{"$f":"'[1]Weekly Pig prices'!AD504","v":105.72482923565151},{"$f":"'[1]Weekly Pig prices'!AE504","v":108.39888961766013},{"$f":"'[1]Weekly Pig prices'!AF504","v":451.24189242011676},{"$f":"'[1]Weekly Pig prices'!AG504","v":111.30324170691472},{"$f":"'[1]Weekly Pig prices'!AH504","v":122.52479478464811},{"$f":"'[1]Weekly Pig prices'!AI504","v":547.54569726843295},{"$f":"'[1]Weekly Pig prices'!AJ504","v":108.72604164596294},{"$f":"'[1]Weekly Pig prices'!AK504","v":115.9740027428299},{"$f":"'[1]Weekly Pig prices'!AL504","v":112.98604071843593},{"$f":"'[1]Weekly Pig prices'!AM504","v":115.98062793578863},{"$f":"'[1]Weekly Pig prices'!AN504","v":1092.4943188970378},{"$f":"'[1]Weekly Pig prices'!AO504","v":132.06494014138161},{"$f":"'[1]Weekly Pig prices'!AQ505","v":0},null,{"$f":"'[1]Weekly Pig prices'!AR504","v":110.16815859386907}]
[]
[null,"???","Price not communicated"]

{"sheet":"Prices","index":3,"n_rows":49,"n_cols":29,"rows_kept":49,"cut":false,"hidden":true,"merged":[[1,0,2,1],[48,0,48,3]]}
[]
["€ur per 100 kg carcasses"]
[]
[null,null,null,null,null,null,null,null,null,null,null," "]
["PIGS"]
["Week beginning"]
["Country Code","Weights (%)","2012-12-24",{"$f":"+C7+7","v":"2012-12-31"},{"$f":"+D7+7","v":"2013-01-07"},"2013-01-14","2013-01-21","2013-01-28","2013-02-04","2013-02-11","2013-02-18","2013-02-25","2013-03-04","2013-03-11","2013-03-18","2013-03-25","2013-04-01","2013-04-08","2013-04-15","2013-04-22","2013-04-29","2013-05-06","2013-05-13","2013-05-20",null,"% over prev ","% over prev "]
[null,null,"52","01","02","03","04","05","06","07","08","09","10","11","12","13","14","15","16","17","18","19","20","21",null,"week","year"]
["BE",null,{"$f":"VLOOKUP($A9&C$7,#REF!,11,0)","v":{"$error":"#REF!"}},{"$f":"VLOOKUP($A9&D$7,#REF!,11,0)","v":{"$error":"#REF!"}},{"$f":"VLOOKUP($A9&E$7,#REF!,11,0)","v":{"$error":"#REF!"}},{"$f":"VLOOKUP($A9&F$7,#REF!,11,0)","v":{"$error":"#REF!"}},{"$f":"VLOOKUP($A9&G$7,#REF!,11,0)","v":{"$error":"#REF!"}},{"$f":"VLOOKUP($A9&H$7,#REF!,11,0)","v":{"$error":"#REF!"}},{"$f":"VLOOKUP($A9&I$7,#REF!,11,0)","v":{"$error":"#REF!"}},{"$f":"VLOOKUP($A9&J$7,#REF!,11,0)","v":{"$error":"#REF!"}},{"$f":"VLOOKUP($A9&K$7,#REF!,11,0)","v":{"$error":"#REF!"}},{"$f":"VLOOKUP($A9&L$7,#REF!,11,0)","v":{"$error":"#REF!"}},{"$f":"VLOOKUP($A9&M$7,#REF!,11,0)","v":{"$error":"#REF!"}},{"$f":"VLOOKUP($A9&N$7,#REF!,11,0)","v":{"$error":"#REF!"}},{"$f":"VLOOKUP($A9&O$7,#REF!,11,0)","v":{"$error":"#REF!"}},{"$f":"VLOOKUP($A9&P$7,#REF!,11,0)","v":{"$error":"#REF!"}},{"$f":"VLOOKUP($A9&Q$7,#REF!,11,0)","v":{"$error":"#REF!"}},{"$f":"VLOOKUP($A9&R$7,#REF!,11,0)","v":{"$error":"#REF!"}},{"$f":"VLOOKUP($A9&S$7,#REF!,11,0)","v":{"$error":"#REF!"}},{"$f":"VLOOKUP($A9&T$7,#REF!,11,0)","v":{"$error":"#REF!"}},{"$f":"VLOOKUP($A9&U$7,#REF!,11,0)","v":{"$error":"#REF!"}},{"$f":"VLOOKUP($A9&V$7,#REF!,11,0)","v":{"$error":"#REF!"}},{"$f":"VLOOKUP($A9&W$7,#REF!,11,0)","v":{"$error":"#REF!"}},{"$f":"VLOOKUP($A9&X$7,#REF!,11,0)","v":{"$error":"#REF!"}},null,{"$f":"+(X9/W9)-1","v":{"$error":"#REF!"}},-0.73518850987432671,null,"BE"]
["DK",null,{"$f":"VLOOKUP($A10&C$7,#REF!,11,0)","v":{"$error":"#REF!"}},{"$f":"VLOOKUP($A10&D$7,#REF!,11,0)","v":{"$error":"#REF!"}},{"$f":"VLOOKUP($A10&E$7,#REF!,11,0)","v":{"$error":"#REF!"}},{"$f":"VLOOKUP($A10&F$7,#REF!,11,0)","v":{"$error":"#REF!"}},{"$f":"VLOOKUP($A10&G$7,#REF!,11,0)","v":{"$error":"#REF!"}},{"$f":"VLOOKUP($A10&H$7,#REF!,11,0)","v":{"$error":"#REF!"}},{"$f":"VLOOKUP($A10&I$7,#REF!,11,0)","v":{"$error":"#REF!"}},{"$f":"VLOOKUP($A10&J$7,#REF!,11,0)","v":{"$error":"#REF!"}},{"$f":"VLOOKUP($A10&K$7,#REF!,11,0)","v":{"$error":"#REF!"}},{"$f":"VLOOKUP($A10&L$7,#REF!,11,0)","v":{"$error":"#REF!"}},{"$f":"VLOOKUP($A10&M$7,#REF!,11,0)","v":{"$error":"#REF!"}},{"$f":"VLOOKUP($A10&N$7,#REF!,11,0)","v":{"$error":"#REF!"}},{"$f":"VLOOKUP($A10&O$7,#REF!,11,0)","v":{"$error":"#REF!"}},{"$f":"VLOOKUP($A10&P$7,#REF!,11,0)","v":{"$error":"#REF!"}},{"$f":"VLOOKUP($A10&Q$7,#REF!,11,0)","v":{"$error":"#REF!"}},{"$f":"VLOOKUP($A10&R$7,#REF!,11,0)","v":{"$error":"#REF!"}},{"$f":"VLOOKUP($A10&S$7,#REF!,11,0)","v":{"$error":"#REF!"}},{"$f":"VLOOKUP($A10&T$7,#REF!,11,0)","v":{"$error":"#REF!"}},{"$f":"VLOOKUP($A10&U$7,#REF!,11,0)","v":{"$error":"#REF!"}},{"$f":"VLOOKUP($A10&V$7,#REF!,11,0)","v":{"$error":"#REF!"}},{"$f":"VLOOKUP($A10&W$7,#REF!,11,0)","v":{"$error":"#REF!"}},{"$f":"VLOOKUP($A10&X$7,#REF!,11,0)","v":{"$error":"#REF!"}},null,{"$error":"#REF!"},null,null,"DK"]
["DE",null,{"$f":"VLOOKUP($A11&C$7,#REF!,11,0)","v":{"$error":"#REF!"}},{"$f":"VLOOKUP($A11&D$7,#REF!,11,0)","v":{"$error":"#REF!"}},{"$f":"VLOOKUP($A11&E$7,#REF!,11,0)","v":{"$error":"#REF!"}},{"$f":"VLOOKUP($A11&F$7,#REF!,11,0)","v":{"$error":"#REF!"}},{"$f":"VLOOKUP($A11&G$7,#REF!,11,0)","v":{"$error":"#REF!"}},{"$f":"VLOOKUP($A11&H$7,#REF!,11,0)","v":{"$error":"#REF!"}},{"$f":"VLOOKUP($A11&I$7,#REF!,11,0)","v":{"$error":"#REF!"}},{"$f":"VLOOKUP($A11&J$7,#REF!,11,0)","v":{"$error":"#REF!"}},{"$f":"VLOOKUP($A11&K$7,#REF!,11,0)","v":{"$error":"#REF!"}},{"$f":"VLOOKUP($A11&L$7,#REF!,11,0)","v":{"$error":"#REF!"}},{"$f":"VLOOKUP($A11&M$7,#REF!,11,0)","v":{"$error":"#REF!"}},{"$f":"VLOOKUP($A11&N$7,#REF!,11,0)","v":{"$error":"#REF!"}},{"$f":"VLOOKUP($A11&O$7,#REF!,11,0)","v":{"$error":"#REF!"}},{"$f":"VLOOKUP($A11&P$7,#REF!,11,0)","v":{"$error":"#REF!"}},{"$f":"VLOOKUP($A11&Q$7,#REF!,11,0)","v":{"$error":"#REF!"}},{"$f":"VLOOKUP($A11&R$7,#REF!,11,0)","v":{"$error":"#REF!"}},{"$f":"VLOOKUP($A11&S$7,#REF!,11,0)","v":{"$error":"#REF!"}},{"$f":"VLOOKUP($A11&T$7,#REF!,11,0)","v":{"$error":"#REF!"}},{"$f":"VLOOKUP($A11&U$7,#REF!,11,0)","v":{"$error":"#REF!"}},{"$f":"VLOOKUP($A11&V$7,#REF!,11,0)","v":{"$error":"#REF!"}},{"$f":"VLOOKUP($A11&W$7,#REF!,11,0)","v":{"$error":"#REF!"}},{"$f":"VLOOKUP($A11&X$7,#REF!,11,0)","v":{"$error":"#REF!"}},null,{"$error":"#REF!"},-0.69171483622350671,null,"DE"]
["EE",null,{"$f":"VLOOKUP($A12&C$7,#REF!,11,0)","v":{"$error":"#REF!"}},{"$f":"VLOOKUP($A12&D$7,#REF!,11,0)","v":{"$error":"#REF!"}},{"$f":"VLOOKUP($A12&E$7,#REF!,11,0)","v":{"$error":"#REF!"}},{"$f":"VLOOKUP($A12&F$7,#REF!,11,0)","v":{"$error":"#REF!"}},{"$f":"VLOOKUP($A12&G$7,#REF!,11,0)","v":{"$error":"#REF!"}},{"$f":"VLOOKUP($A12&H$7,#REF!,11,0)","v":{"$error":"#REF!"}},{"$f":"VLOOKUP($A12&I$7,#REF!,11,0)","v":{"$error":"#REF!"}},{"$f":"VLOOKUP($A12&J$7,#REF!,11,0)","v":{"$error":"#REF!"}},{"$f":"VLOOKUP($A12&K$7,#REF!,11,0)","v":{"$error":"#REF!"}},{"$f":"VLOOKUP($A12&L$7,#REF!,11,0)","v":{"$error":"#REF!"}},{"$f":"VLOOKUP($A12&M$7,#REF!,11,0)","v":{"$error":"#REF!"}},{"$f":"VLOOKUP($A12&N$7,#REF!,11,0)","v":{"$error":"#REF!"}},{"$f":"VLOOKUP($A12&O$7,#REF!,11,0)","v":{"$error":"#REF!"}},{"$f":"VLOOKUP($A12&P$7,#REF!,11,0)","v":{"$error":"#REF!"}},{"$f":"VLOOKUP($A12&Q$7,#REF!,11,0)","v":{"$error":"#REF!"}},{"$f":"VLOOKUP($A12&R$7,#REF!,11,0)","v":{"$error":"#REF!"}},{"$f":"VLOOKUP($A12&S$7,#REF!,11,0)","v":{"$error":"#REF!"}},{"$f":"VLOOKUP($A12&T$7,#REF!,11,0)","v":{"$error":"#REF!"}},{"$f":"VLOOKUP($A12&U$7,#REF!,11,0)","v":{"$error":"#REF!"}},{"$f":"VLOOKUP($A12&V$7,#REF!,11,0)","v":{"$error":"#REF!"}},{"$f":"VLOOKUP($A12&W$7,#REF!,11,0)","v":{"$error":"#REF!"}},{"$f":"VLOOKUP($A12&X$7,#REF!,11,0)","v":{"$error":"#REF!"}},null,{"$error":"#REF!"},-0.35217013560986665,null,"EE"]
["IE",null,{"$f":"VLOOKUP($A13&C$7,#REF!,11,0)","v":{"$error":"#REF!"}},{"$f":"VLOOKUP($A13&D$7,#REF!,11,0)","v":{"$error":"#REF!"}},{"$f":"VLOOKUP($A13&E$7,#REF!,11,0)","v":{"$error":"#REF!"}},{"$f":"VLOOKUP($A13&F$7,#REF!,11,0)","v":{"$error":"#REF!"}},{"$f":"VLOOKUP($A13&G$7,#REF!,11,0)","v":{"$error":"#REF!"}},{"$f":"VLOOKUP($A13&H$7,#REF!,11,0)","v":{"$error":"#REF!"}},{"$f":"VLOOKUP($A13&I$7,#REF!,11,0)","v":{"$error":"#REF!"}},{"$f":"VLOOKUP($A13&J$7,#REF!,11,0)","v":{"$error":"#REF!"}},{"$f":"VLOOKUP($A13&K$7,#REF!,11,0)","v":{"$error":"#REF!"}},{"$f":"VLOOKUP($A13&L$7,#REF!,11,0)","v":{"$error":"#REF!"}},{"$f":"VLOOKUP($A13&M$7,#REF!,11,0)","v":{"$error":"#REF!"}},{"$f":"VLOOKUP($A13&N$7,#REF!,11,0)","v":{"$error":"#REF!"}},{"$f":"VLOOKUP($A13&O$7,#REF!,11,0)","v":{"$error":"#REF!"}},{"$f":"VLOOKUP($A13&P$7,#REF!,11,0)","v":{"$error":"#REF!"}},{"$f":"VLOOKUP($A13&Q$7,#REF!,11,0)","v":{"$error":"#REF!"}},{"$f":"VLOOKUP($A13&R$7,#REF!,11,0)","v":{"$error":"#REF!"}},{"$f":"VLOOKUP($A13&S$7,#REF!,11,0)","v":{"$error":"#REF!"}},{"$f":"VLOOKUP($A13&T$7,#REF!,11,0)","v":{"$error":"#REF!"}},{"$f":"VLOOKUP($A13&U$7,#REF!,11,0)","v":{"$error":"#REF!"}},{"$f":"VLOOKUP($A13&V$7,#REF!,11,0)","v":{"$error":"#REF!"}},{"$f":"VLOOKUP($A13&W$7,#REF!,11,0)","v":{"$error":"#REF!"}},{"$f":"VLOOKUP($A13&X$7,#REF!,11,0)","v":{"$error":"#REF!"}},null,{"$error":"#REF!"},-0.63424735464785531,null,"IE"]
["ES",null,{"$f":"VLOOKUP($A14&C$7,#REF!,11,0)","v":{"$error":"#REF!"}},{"$f":"VLOOKUP($A14&D$7,#REF!,11,0)","v":{"$error":"#REF!"}},{"$f":"VLOOKUP($A14&E$7,#REF!,11,0)","v":{"$error":"#REF!"}},{"$f":"VLOOKUP($A14&F$7,#REF!,11,0)","v":{"$error":"#REF!"}},{"$f":"VLOOKUP($A14&G$7,#REF!,11,0)","v":{"$error":"#REF!"}},{"$f":"VLOOKUP($A14&H$7,#REF!,11,0)","v":{"$error":"#REF!"}},{"$f":"VLOOKUP($A14&I$7,#REF!,11,0)","v":{"$error":"#REF!"}},{"$f":"VLOOKUP($A14&J$7,#REF!,11,0)","v":{"$error":"#REF!"}},{"$f":"VLOOKUP($A14&K$7,#REF!,11,0)","v":{"$error":"#REF!"}},{"$f":"VLOOKUP($A14&L$7,#REF!,11,0)","v":{"$error":"#REF!"}},{"$f":"VLOOKUP($A14&M$7,#REF!,11,0)","v":{"$error":"#REF!"}},{"$f":"VLOOKUP($A14&N$7,#REF!,11,0)","v":{"$error":"#REF!"}},{"$f":"VLOOKUP($A14&O$7,#REF!,11,0)","v":{"$error":"#REF!"}},{"$f":"VLOOKUP($A14&P$7,#REF!,11,0)","v":{"$error":"#REF!"}},{"$f":"VLOOKUP($A14&Q$7,#REF!,11,0)","v":{"$error":"#REF!"}},{"$f":"VLOOKUP($A14&R$7,#REF!,11,0)","v":{"$error":"#REF!"}},{"$f":"VLOOKUP($A14&S$7,#REF!,11,0)","v":{"$error":"#REF!"}},{"$f":"VLOOKUP($A14&T$7,#REF!,11,0)","v":{"$error":"#REF!"}},{"$f":"VLOOKUP($A14&U$7,#REF!,11,0)","v":{"$error":"#REF!"}},{"$f":"VLOOKUP($A14&V$7,#REF!,11,0)","v":{"$error":"#REF!"}},{"$f":"VLOOKUP($A14&W$7,#REF!,11,0)","v":{"$error":"#REF!"}},{"$f":"VLOOKUP($A14&X$7,#REF!,11,0)","v":{"$error":"#REF!"}},null,{"$error":"#REF!"},-0.60699934088831242,null,"ES"]
["FR",null,{"$f":"VLOOKUP($A15&C$7,#REF!,11,0)","v":{"$error":"#REF!"}},{"$f":"VLOOKUP($A15&D$7,#REF!,11,0)","v":{"$error":"#REF!"}},{"$f":"VLOOKUP($A15&E$7,#REF!,11,0)","v":{"$error":"#REF!"}},{"$f":"VLOOKUP($A15&F$7,#REF!,11,0)","v":{"$error":"#REF!"}},{"$f":"VLOOKUP($A15&G$7,#REF!,11,0)","v":{"$error":"#REF!"}},{"$f":"VLOOKUP($A15&H$7,#REF!,11,0)","v":{"$error":"#REF!"}},{"$f":"VLOOKUP($A15&I$7,#REF!,11,0)","v":{"$error":"#REF!"}},{"$f":"VLOOKUP($A15&J$7,#REF!,11,0)","v":{"$error":"#REF!"}},{"$f":"VLOOKUP($A15&K$7,#REF!,11,0)","v":{"$error":"#REF!"}},{"$f":"VLOOKUP($A15&L$7,#REF!,11,0)","v":{"$error":"#REF!"}},{"$f":"VLOOKUP($A15&M$7,#REF!,11,0)","v":{"$error":"#REF!"}},{"$f":"VLOOKUP($A15&N$7,#REF!,11,0)","v":{"$error":"#REF!"}},{"$f":"VLOOKUP($A15&O$7,#REF!,11,0)","v":{"$error":"#REF!"}},{"$f":"VLOOKUP($A15&P$7,#REF!,11,0)","v":{"$error":"#REF!"}},{"$f":"VLOOKUP($A15&Q$7,#REF!,11,0)","v":{"$error":"#REF!"}},{"$f":"VLOOKUP($A15&R$7,#REF!,11,0)","v":{"$error":"#REF!"}},{"$f":"VLOOKUP($A15&S$7,#REF!,11,0)","v":{"$error":"#REF!"}},{"$f":"VLOOKUP($A15&T$7,#REF!,11,0)","v":{"$error":"#REF!"}},{"$f":"VLOOKUP($A15&U$7,#REF!,11,0)","v":{"$error":"#REF!"}},{"$f":"VLOOKUP($A15&V$7,#REF!,11,0)","v":{"$error":"#REF!"}},{"$f":"VLOOKUP($A15&W$7,#REF!,11,0)","v":{"$error":"#REF!"}},{"$f":"VLOOKUP($A15&X$7,#REF!,11,0)","v":{"$error":"#REF!"}},null,{"$error":"#REF!"},-0.74671052631578949,null,"FR"]
["CY",null,{"$f":"VLOOKUP($A16&C$7,#REF!,11,0)","v":{"$error":"#REF!"}},{"$f":"VLOOKUP($A16&D$7,#REF!,11,0)","v":{"$error":"#REF!"}},{"$f":"VLOOKUP($A16&E$7,#REF!,11,0)","v":{"$error":"#REF!"}},{"$f":"VLOOKUP($A16&F$7,#REF!,11,0)","v":{"$error":"#REF!"}},{"$f":"VLOOKUP($A16&G$7,#REF!,11,0)","v":{"$error":"#REF!"}},{"$f":"VLOOKUP($A16&H$7,#REF!,11,0)","v":{"$error":"#REF!"}},{"$f":"VLOOKUP($A16&I$7,#REF!,11,0)","v":{"$error":"#REF!"}},{"$f":"VLOOKUP($A16&J$7,#REF!,11,0)","v":{"$error":"#REF!"}},{"$f":"VLOOKUP($A16&K$7,#REF!,11,0)","v":{"$error":"#REF!"}},{"$f":"VLOOKUP($A16&L$7,#REF!,11,0)","v":{"$error":"#REF!"}},{"$f":"VLOOKUP($A16&M$7,#REF!,11,0)","v":{"$error":"#REF!"}},{"$f":"VLOOKUP($A16&N$7,#REF!,11,0)","v":{"$error":"#REF!"}},{"$f":"VLOOKUP($A16&O$7,#REF!,11,0)","v":{"$error":"#REF!"}},{"$f":"VLOOKUP($A16&P$7,#REF!,11,0)","v":{"$error":"#REF!"}},{"$f":"VLOOKUP($A16&Q$7,#REF!,11,0)","v":{"$error":"#REF!"}},{"$f":"VLOOKUP($A16&R$7,#REF!,11,0)","v":{"$error":"#REF!"}},{"$f":"VLOOKUP($A16&S$7,#REF!,11,0)","v":{"$error":"#REF!"}},{"$f":"VLOOKUP($A16&T$7,#REF!,11,0)","v":{"$error":"#REF!"}},{"$f":"VLOOKUP($A16&U$7,#REF!,11,0)","v":{"$error":"#REF!"}},{"$f":"VLOOKUP($A16&V$7,#REF!,11,0)","v":{"$error":"#REF!"}},{"$f":"VLOOKUP($A16&W$7,#REF!,11,0)","v":{"$error":"#REF!"}},{"$f":"VLOOKUP($A16&X$7,#REF!,11,0)","v":{"$error":"#REF!"}},null,{"$error":"#REF!"},null,null,"CY"]
["NL",null,{"$f":"VLOOKUP($A17&C$7,#REF!,11,0)","v":{"$error":"#REF!"}},{"$f":"VLOOKUP($A17&D$7,#REF!,11,0)","v":{"$error":"#REF!"}},{"$f":"VLOOKUP($A17&E$7,#REF!,11,0)","v":{"$error":"#REF!"}},{"$f":"VLOOKUP($A17&F$7,#REF!,11,0)","v":{"$error":"#REF!"}},{"$f":"VLOOKUP($A17&G$7,#REF!,11,0)","v":{"$error":"#REF!"}},{"$f":"VLOOKUP($A17&H$7,#REF!,11,0)","v":{"$error":"#REF!"}},{"$f":"VLOOKUP($A17&I$7,#REF!,11,0)","v":{"$error":"#REF!"}},{"$f":"VLOOKUP($A17&J$7,#REF!,11,0)","v":{"$error":"#REF!"}},{"$f":"VLOOKUP($A17&K$7,#REF!,11,0)","v":{"$error":"#REF!"}},{"$f":"VLOOKUP($A17&L$7,#REF!,11,0)","v":{"$error":"#REF!"}},{"$f":"VLOOKUP($A17&M$7,#REF!,11,0)","v":{"$error":"#REF!"}},{"$f":"VLOOKUP($A17&N$7,#REF!,11,0)","v":{"$error":"#REF!"}},{"$f":"VLOOKUP($A17&O$7,#REF!,11,0)","v":{"$error":"#REF!"}},{"$f":"VLOOKUP($A17&P$7,#REF!,11,0)","v":{"$error":"#REF!"}},{"$f":"VLOOKUP($A17&Q$7,#REF!,11,0)","v":{"$error":"#REF!"}},{"$f":"VLOOKUP($A17&R$7,#REF!,11,0)","v":{"$error":"#REF!"}},{"$f":"VLOOKUP($A17&S$7,#REF!,11,0)","v":{"$error":"#REF!"}},{"$f":"VLOOKUP($A17&T$7,#REF!,11,0)","v":{"$error":"#REF!"}},{"$f":"VLOOKUP($A17&U$7,#REF!,11,0)","v":{"$error":"#REF!"}},{"$f":"VLOOKUP($A17&V$7,#REF!,11,0)","v":{"$error":"#REF!"}},{"$f":"VLOOKUP($A17&W$7,#REF!,11,0)","v":{"$error":"#REF!"}},{"$f":"VLOOKUP($A17&X$7,#REF!,11,0)","v":{"$error":"#REF!"}},null,{"$error":"#REF!"},-0.73462684424022684,null,"NL"]
["AT",null,{"$f":"VLOOKUP($A18&C$7,#REF!,11,0)","v":{"$error":"#REF!"}},{"$f":"VLOOKUP($A18&D$7,#REF!,11,0)","v":{"$error":"#REF!"}},{"$f":"VLOOKUP($A18&E$7,#REF!,11,0)","v":{"$error":"#REF!"}},{"$f":"VLOOKUP($A18&F$7,#REF!,11,0)","v":{"$error":"#REF!"}},{"$f":"VLOOKUP($A18&G$7,#REF!,11,0)","v":{"$error":"#REF!"}},{"$f":"VLOOKUP($A18&H$7,#REF!,11,0)","v":{"$error":"#REF!"}},{"$f":"VLOOKUP($A18&I$7,#REF!,11,0)","v":{"$error":"#REF!"}},{"$f":"VLOOKUP($A18&J$7,#REF!,11,0)","v":{"$error":"#REF!"}},{"$f":"VLOOKUP($A18&K$7,#REF!,11,0)","v":{"$error":"#REF!"}},{"$f":"VLOOKUP($A18&L$7,#REF!,11,0)","v":{"$error":"#REF!"}},{"$f":"VLOOKUP($A18&M$7,#REF!,11,0)","v":{"$error":"#REF!"}},{"$f":"VLOOKUP($A18&N$7,#REF!,11,0)","v":{"$error":"#REF!"}},{"$f":"VLOOKUP($A18&O$7,#REF!,11,0)","v":{"$error":"#REF!"}},{"$f":"VLOOKUP($A18&P$7,#REF!,11,0)","v":{"$error":"#REF!"}},{"$f":"VLOOKUP($A18&Q$7,#REF!,11,0)","v":{"$error":"#REF!"}},{"$f":"VLOOKUP($A18&R$7,#REF!,11,0)","v":{"$error":"#REF!"}},{"$f":"VLOOKUP($A18&S$7,#REF!,11,0)","v":{"$error":"#REF!"}},{"$f":"VLOOKUP($A18&T$7,#REF!,11,0)","v":{"$error":"#REF!"}},{"$f":"VLOOKUP($A18&U$7,#REF!,11,0)","v":{"$error":"#REF!"}},{"$f":"VLOOKUP($A18&V$7,#REF!,11,0)","v":{"$error":"#REF!"}},{"$f":"VLOOKUP($A18&W$7,#REF!,11,0)","v":{"$error":"#REF!"}},{"$f":"VLOOKUP($A18&X$7,#REF!,11,0)","v":{"$error":"#REF!"}},null,{"$error":"#REF!"},-0.69940952380952381,null,"AT"]
["PL",null,{"$f":"VLOOKUP($A19&C$7,#REF!,11,0)","v":{"$error":"#REF!"}},{"$f":"VLOOKUP($A19&D$7,#REF!,11,0)","v":{"$error":"#REF!"}},{"$f":"VLOOKUP($A19&E$7,#REF!,11,0)","v":{"$error":"#REF!"}},{"$f":"VLOOKUP($A19&F$7,#REF!,11,0)","v":{"$error":"#REF!"}},{"$f":"VLOOKUP($A19&G$7,#REF!,11,0)","v":{"$error":"#REF!"}},{"$f":"VLOOKUP($A19&H$7,#REF!,11,0)","v":{"$error":"#REF!"}},{"$f":"VLOOKUP($A19&I$7,#REF!,11,0)","v":{"$error":"#REF!"}},{"$f":"VLOOKUP($A19&J$7,#REF!,11,0)","v":{"$error":"#REF!"}},{"$f":"VLOOKUP($A19&K$7,#REF!,11,0)","v":{"$error":"#REF!"}},{"$f":"VLOOKUP($A19&L$7,#REF!,11,0)","v":{"$error":"#REF!"}},{"$f":"VLOOKUP($A19&M$7,#REF!,11,0)","v":{"$error":"#REF!"}},{"$f":"VLOOKUP($A19&N$7,#REF!,11,0)","v":{"$error":"#REF!"}},{"$f":"VLOOKUP($A19&O$7,#REF!,11,0)","v":{"$error":"#REF!"}},{"$f":"VLOOKUP($A19&P$7,#REF!,11,0)","v":{"$error":"#REF!"}},{"$f":"VLOOKUP($A19&Q$7,#REF!,11,0)","v":{"$error":"#REF!"}},{"$f":"VLOOKUP($A19&R$7,#REF!,11,0)","v":{"$error":"#REF!"}},{"$f":"VLOOKUP($A19&S$7,#REF!,11,0)","v":{"$error":"#REF!"}},{"$f":"VLOOKUP($A19&T$7,#REF!,11,0)","v":{"$error":"#REF!"}},{"$f":"VLOOKUP($A19&U$7,#REF!,11,0)","v":{"$error":"#REF!"}},{"$f":"VLOOKUP($A19&V$7,#REF!,11,0)","v":{"$error":"#REF!"}},{"$f":"VLOOKUP($A19&W$7,#REF!,11,0)","v":{"$error":"#REF!"}},{"$f":"VLOOKUP($A19&X$7,#REF!,11,0)","v":{"$error":"#REF!"}},null,{"$error":"#REF!"},-0.55520673506185036,null,"PL"]
["RO",null,{"$f":"VLOOKUP($A20&C$7,#REF!,11,0)","v":{"$error":"#REF!"}},{"$f":"VLOOKUP($A20&D$7,#REF!,11,0)","v":{"$error":"#REF!"}},{"$f":"VLOOKUP($A20&E$7,#REF!,11,0)","v":{"$error":"#REF!"}},{"$f":"VLOOKUP($A20&F$7,#REF!,11,0)","v":{"$error":"#REF!"}},{"$f":"VLOOKUP($A20&G$7,#REF!,11,0)","v":{"$error":"#REF!"}},{"$f":"VLOOKUP($A20&H$7,#REF!,11,0)","v":{"$error":"#REF!"}},{"$f":"VLOOKUP($A20&I$7,#REF!,11,0)","v":{"$error":"#REF!"}},{"$f":"VLOOKUP($A20&J$7,#REF!,11,0)","v":{"$error":"#REF!"}},{"$f":"VLOOKUP($A20&K$7,#REF!,11,0)","v":{"$error":"#REF!"}},{"$f":"VLOOKUP($A20&L$7,#REF!,11,0)","v":{"$error":"#REF!"}},{"$f":"VLOOKUP($A20&M$7,#REF!,11,0)","v":{"$error":"#REF!"}},{"$f":"VLOOKUP($A20&N$7,#REF!,11,0)","v":{"$error":"#REF!"}},{"$f":"VLOOKUP($A20&O$7,#REF!,11,0)","v":{"$error":"#REF!"}},{"$f":"VLOOKUP($A20&P$7,#REF!,11,0)","v":{"$error":"#REF!"}},{"$f":"VLOOKUP($A20&Q$7,#REF!,11,0)","v":{"$error":"#REF!"}},{"$f":"VLOOKUP($A20&R$7,#REF!,11,0)","v":{"$error":"#REF!"}},{"$f":"VLOOKUP($A20&S$7,#REF!,11,0)","v":{"$error":"#REF!"}},{"$f":"VLOOKUP($A20&T$7,#REF!,11,0)","v":{"$error":"#REF!"}},{"$f":"VLOOKUP($A20&U$7,#REF!,11,0)","v":{"$error":"#REF!"}},{"$f":"VLOOKUP($A20&V$7,#REF!,11,0)","v":{"$error":"#REF!"}},{"$f":"VLOOKUP($A20&W$7,#REF!,11,0)","v":{"$error":"#REF!"}},{"$f":"VLOOKUP($A20&X$7,#REF!,11,0)","v":{"$error":"#REF!"}},null,{"$error":"#REF!"},-0.31837520143314058,null,"RO"]
["SE",null,{"$f":"VLOOKUP($A21&C$7,#REF!,11,0)","v":{"$error":"#REF!"}},{"$f":"VLOOKUP($A21&D$7,#REF!,11,0)","v":{"$error":"#REF!"}},{"$f":"VLOOKUP($A21&E$7,#REF!,11,0)","v":{"$error":"#REF!"}},{"$f":"VLOOKUP($A21&F$7,#REF!,11,0)","v":{"$error":"#REF!"}},{"$f":"VLOOKUP($A21&G$7,#REF!,11,0)","v":{"$error":"#REF!"}},{"$f":"VLOOKUP($A21&H$7,#REF!,11,0)","v":{"$error":"#REF!"}},{"$f":"VLOOKUP($A21&I$7,#REF!,11,0)","v":{"$error":"#REF!"}},{"$f":"VLOOKUP($A21&J$7,#REF!,11,0)","v":{"$error":"#REF!"}},{"$f":"VLOOKUP($A21&K$7,#REF!,11,0)","v":{"$error":"#REF!"}},{"$f":"VLOOKUP($A21&L$7,#REF!,11,0)","v":{"$error":"#REF!"}},{"$f":"VLOOKUP($A21&M$7,#REF!,11,0)","v":{"$error":"#REF!"}},{"$f":"VLOOKUP($A21&N$7,#REF!,11,0)","v":{"$error":"#REF!"}},{"$f":"VLOOKUP($A21&O$7,#REF!,11,0)","v":{"$error":"#REF!"}},{"$f":"VLOOKUP($A21&P$7,#REF!,11,0)","v":{"$error":"#REF!"}},{"$f":"VLOOKUP($A21&Q$7,#REF!,11,0)","v":{"$error":"#REF!"}},{"$f":"VLOOKUP($A21&R$7,#REF!,11,0)","v":{"$error":"#REF!"}},{"$f":"VLOOKUP($A21&S$7,#REF!,11,0)","v":{"$error":"#REF!"}},{"$f":"VLOOKUP($A21&T$7,#REF!,11,0)","v":{"$error":"#REF!"}},{"$f":"VLOOKUP($A21&U$7,#REF!,11,0)","v":{"$error":"#REF!"}},{"$f":"VLOOKUP($A21&V$7,#REF!,11,0)","v":{"$error":"#REF!"}},{"$f":"VLOOKUP($A21&W$7,#REF!,11,0)","v":{"$error":"#REF!"}},{"$f":"VLOOKUP($A21&X$7,#REF!,11,0)","v":{"$error":"#REF!"}},null,{"$error":"#REF!"},-0.65918946192687922,null,"SE"]
["GB",null,null,null,null,null,null,null,null,null,null,null,null,null,null,null,null,null,null,null,null,null,null,null,null,null,null,null,"GB"]
["NI",null,null,null,null,null,null,null,null,null,null,null,null,null,null,null,null,null,null,null,null,null,null,null,null,null,null,null,"NI"]
["UK",null,{"$f":"VLOOKUP($A24&C$7,#REF!,11,0)","v":{"$error":"#REF!"}},{"$f":"VLOOKUP($A24&D$7,#REF!,11,0)","v":{"$error":"#REF!"}},{"$f":"VLOOKUP($A24&E$7,#REF!,11,0)","v":{"$error":"#REF!"}},{"$f":"VLOOKUP($A24&F$7,#REF!,11,0)","v":{"$error":"#REF!"}},{"$f":"VLOOKUP($A24&G$7,#REF!,11,0)","v":{"$error":"#REF!"}},{"$f":"VLOOKUP($A24&H$7,#REF!,11,0)","v":{"$error":"#REF!"}},{"$f":"VLOOKUP($A24&I$7,#REF!,11,0)","v":{"$error":"#REF!"}},{"$f":"VLOOKUP($A24&J$7,#REF!,11,0)","v":{"$error":"#REF!"}},{"$f":"VLOOKUP($A24&K$7,#REF!,11,0)","v":{"$error":"#REF!"}},{"$f":"VLOOKUP($A24&L$7,#REF!,11,0)","v":{"$error":"#REF!"}},{"$f":"VLOOKUP($A24&M$7,#REF!,11,0)","v":{"$error":"#REF!"}},{"$f":"VLOOKUP($A24&N$7,#REF!,11,0)","v":{"$error":"#REF!"}},{"$f":"VLOOKUP($A24&O$7,#REF!,11,0)","v":{"$error":"#REF!"}},{"$f":"VLOOKUP($A24&P$7,#REF!,11,0)","v":{"$error":"#REF!"}},{"$f":"VLOOKUP($A24&Q$7,#REF!,11,0)","v":{"$error":"#REF!"}},{"$f":"VLOOKUP($A24&R$7,#REF!,11,0)","v":{"$error":"#REF!"}},{"$f":"VLOOKUP($A24&S$7,#REF!,11,0)","v":{"$error":"#REF!"}},{"$f":"VLOOKUP($A24&T$7,#REF!,11,0)","v":{"$error":"#REF!"}},{"$f":"VLOOKUP($A24&U$7,#REF!,11,0)","v":{"$error":"#REF!"}},{"$f":"VLOOKUP($A24&V$7,#REF!,11,0)","v":{"$error":"#REF!"}},{"$f":"VLOOKUP($A24&W$7,#REF!,11,0)","v":{"$error":"#REF!"}},{"$f":"VLOOKUP($A24&X$7,#REF!,11,0)","v":{"$error":"#REF!"}},null,{"$error":"#REF!"},-0.65033355538787463,null,"UK"]
["EU"]
[]
["PIGLETS"]
["Week beginning"]
["Country Code","Weights (%)","2012-12-24",{"$f":"+C29+7","v":"2012-12-31"},{"$f":"+D29+7","v":"2013-01-07"},{"$f":"+E29+7","v":"2013-01-14"},{"$f":"+F29+7","v":"2013-01-21"},{"$f":"+G29+7","v":"2013-01-28"},{"$f":"+H29+7","v":"2013-02-04"},{"$f":"+I29+7","v":"2013-02-11"},{"$f":"+J29+7","v":"2013-02-18"},{"$f":"+K29+7","v":"2013-02-25"},{"$f":"+L29+7","v":"2013-03-04"},"2013-03-11","2013-03-18","2013-03-25","2013-04-01","2013-04-08","2013-04-15","2013-04-22","2013-04-29","2013-05-06","2013-05-13","2013-05-20",null,"% over prev ","% over prev "]
[null,null,"52","01","02","03","04","05","06","07","08","09","10","11","12","13","14","15","16","17","18","19","20","21",null,"week","year"]
["BE",null,{"$f":"IF(ISNA(VLOOKUP($A31&C$7,#REF!,19,0)),\"-\",VLOOKUP($A31&C$7,#REF!,19,0))","v":{"$error":"#REF!"}},{"$f":"IF(ISNA(VLOOKUP($A31&D$7,#REF!,19,0)),\"-\",VLOOKUP($A31&D$7,#REF!,19,0))","v":{"$error":"#REF!"}},{"$f":"IF(ISNA(VLOOKUP($A31&E$7,#REF!,19,0)),\"-\",VLOOKUP($A31&E$7,#REF!,19,0))","v":{"$error":"#REF!"}},{"$f":"IF(ISNA(VLOOKUP($A31&F$7,#REF!,19,0)),\"-\",VLOOKUP($A31&F$7,#REF!,19,0))","v":{"$error":"#REF!"}},{"$f":"IF(ISNA(VLOOKUP($A31&G$7,#REF!,19,0)),\"-\",VLOOKUP($A31&G$7,#REF!,19,0))","v":{"$error":"#REF!"}},{"$f":"IF(ISNA(VLOOKUP($A31&H$7,#REF!,19,0)),\"-\",VLOOKUP($A31&H$7,#REF!,19,0))","v":{"$error":"#REF!"}},{"$f":"IF(ISNA(VLOOKUP($A31&I$7,#REF!,19,0)),\"-\",VLOOKUP($A31&I$7,#REF!,19,0))","v":{"$error":"#REF!"}},{"$f":"IF(ISNA(VLOOKUP($A31&J$7,#REF!,19,0)),\"-\",VLOOKUP($A31&J$7,#REF!,19,0))","v":{"$error":"#REF!"}},{"$f":"IF(ISNA(VLOOKUP($A31&K$7,#REF!,19,0)),\"-\",VLOOKUP($A31&K$7,#REF!,19,0))","v":{"$error":"#REF!"}},{"$f":"IF(ISNA(VLOOKUP($A31&L$7,#REF!,19,0)),\"-\",VLOOKUP($A31&L$7,#REF!,19,0))","v":{"$error":"#REF!"}},{"$f":"IF(ISNA(VLOOKUP($A31&M$7,#REF!,19,0)),\"-\",VLOOKUP($A31&M$7,#REF!,19,0))","v":{"$error":"#REF!"}},{"$f":"IF(ISNA(VLOOKUP($A31&N$7,#REF!,19,0)),\"-\",VLOOKUP($A31&N$7,#REF!,19,0))","v":{"$error":"#REF!"}},{"$f":"IF(ISNA(VLOOKUP($A31&O$7,#REF!,19,0)),\"-\",VLOOKUP($A31&O$7,#REF!,19,0))","v":{"$error":"#REF!"}},{"$f":"IF(ISNA(VLOOKUP($A31&P$7,#REF!,19,0)),\"-\",VLOOKUP($A31&P$7,#REF!,19,0))","v":{"$error":"#REF!"}},{"$f":"IF(ISNA(VLOOKUP($A31&Q$7,#REF!,19,0)),\"-\",VLOOKUP($A31&Q$7,#REF!,19,0))","v":{"$error":"#REF!"}},{"$f":"IF(ISNA(VLOOKUP($A31&R$7,#REF!,19,0)),\"-\",VLOOKUP($A31&R$7,#REF!,19,0))","v":{"$error":"#REF!"}},{"$f":"IF(ISNA(VLOOKUP($A31&S$7,#REF!,19,0)),\"-\",VLOOKUP($A31&S$7,#REF!,19,0))","v":{"$error":"#REF!"}},{"$f":"IF(ISNA(VLOOKUP($A31&T$7,#REF!,19,0)),\"-\",VLOOKUP($A31&T$7,#REF!,19,0))","v":{"$error":"#REF!"}},{"$f":"IF(ISNA(VLOOKUP($A31&U$7,#REF!,19,0)),\"-\",VLOOKUP($A31&U$7,#REF!,19,0))","v":{"$error":"#REF!"}},{"$f":"IF(ISNA(VLOOKUP($A31&V$7,#REF!,19,0)),\"-\",VLOOKUP($A31&V$7,#REF!,19,0))","v":{"$error":"#REF!"}},{"$f":"IF(ISNA(VLOOKUP($A31&W$7,#REF!,19,0)),\"-\",VLOOKUP($A31&W$7,#REF!,19,0))","v":{"$error":"#REF!"}},{"$f":"IF(ISNA(VLOOKUP($A31&X$7,#REF!,19,0)),\"-\",VLOOKUP($A31&X$7,#REF!,19,0))","v":{"$error":"#REF!"}},null,{"$f":"+(X31/W31)-1","v":{"$error":"#REF!"}},1.0238095238095237,null,"BE"]
["DK",null,{"$f":"IF(ISNA(VLOOKUP($A32&C$7,#REF!,19,0)),\"-\",VLOOKUP($A32&C$7,#REF!,19,0))","v":{"$error":"#REF!"}},{"$f":"IF(ISNA(VLOOKUP($A32&D$7,#REF!,19,0)),\"-\",VLOOKUP($A32&D$7,#REF!,19,0))","v":{"$error":"#REF!"}},{"$f":"IF(ISNA(VLOOKUP($A32&E$7,#REF!,19,0)),\"-\",VLOOKUP($A32&E$7,#REF!,19,0))","v":{"$error":"#REF!"}},{"$f":"IF(ISNA(VLOOKUP($A32&F$7,#REF!,19,0)),\"-\",VLOOKUP($A32&F$7,#REF!,19,0))","v":{"$error":"#REF!"}},{"$f":"IF(ISNA(VLOOKUP($A32&G$7,#REF!,19,0)),\"-\",VLOOKUP($A32&G$7,#REF!,19,0))","v":{"$error":"#REF!"}},{"$f":"IF(ISNA(VLOOKUP($A32&H$7,#REF!,19,0)),\"-\",VLOOKUP($A32&H$7,#REF!,19,0))","v":{"$error":"#REF!"}},{"$f":"IF(ISNA(VLOOKUP($A32&I$7,#REF!,19,0)),\"-\",VLOOKUP($A32&I$7,#REF!,19,0))","v":{"$error":"#REF!"}},{"$f":"IF(ISNA(VLOOKUP($A32&J$7,#REF!,19,0)),\"-\",VLOOKUP($A32&J$7,#REF!,19,0))","v":{"$error":"#REF!"}},{"$f":"IF(ISNA(VLOOKUP($A32&K$7,#REF!,19,0)),\"-\",VLOOKUP($A32&K$7,#REF!,19,0))","v":{"$error":"#REF!"}},{"$f":"IF(ISNA(VLOOKUP($A32&L$7,#REF!,19,0)),\"-\",VLOOKUP($A32&L$7,#REF!,19,0))","v":{"$error":"#REF!"}},{"$f":"IF(ISNA(VLOOKUP($A32&M$7,#REF!,19,0)),\"-\",VLOOKUP($A32&M$7,#REF!,19,0))","v":{"$error":"#REF!"}},{"$f":"IF(ISNA(VLOOKUP($A32&N$7,#REF!,19,0)),\"-\",VLOOKUP($A32&N$7,#REF!,19,0))","v":{"$error":"#REF!"}},{"$f":"IF(ISNA(VLOOKUP($A32&O$7,#REF!,19,0)),\"-\",VLOOKUP($A32&O$7,#REF!,19,0))","v":{"$error":"#REF!"}},{"$f":"IF(ISNA(VLOOKUP($A32&P$7,#REF!,19,0)),\"-\",VLOOKUP($A32&P$7,#REF!,19,0))","v":{"$error":"#REF!"}},{"$f":"IF(ISNA(VLOOKUP($A32&Q$7,#REF!,19,0)),\"-\",VLOOKUP($A32&Q$7,#REF!,19,0))","v":{"$error":"#REF!"}},{"$f":"IF(ISNA(VLOOKUP($A32&R$7,#REF!,19,0)),\"-\",VLOOKUP($A32&R$7,#REF!,19,0))","v":{"$error":"#REF!"}},{"$f":"IF(ISNA(VLOOKUP($A32&S$7,#REF!,19,0)),\"-\",VLOOKUP($A32&S$7,#REF!,19,0))","v":{"$error":"#REF!"}},{"$f":"IF(ISNA(VLOOKUP($A32&T$7,#REF!,19,0)),\"-\",VLOOKUP($A32&T$7,#REF!,19,0))","v":{"$error":"#REF!"}},{"$f":"IF(ISNA(VLOOKUP($A32&U$7,#REF!,19,0)),\"-\",VLOOKUP($A32&U$7,#REF!,19,0))","v":{"$error":"#REF!"}},{"$f":"IF(ISNA(VLOOKUP($A32&V$7,#REF!,19,0)),\"-\",VLOOKUP($A32&V$7,#REF!,19,0))","v":{"$error":"#REF!"}},{"$f":"IF(ISNA(VLOOKUP($A32&W$7,#REF!,19,0)),\"-\",VLOOKUP($A32&W$7,#REF!,19,0))","v":{"$error":"#REF!"}},{"$f":"IF(ISNA(VLOOKUP($A32&X$7,#REF!,19,0)),\"-\",VLOOKUP($A32&X$7,#REF!,19,0))","v":{"$error":"#REF!"}},null,{"$error":"#REF!"},null,null,"DK"]
["DE",null,{"$f":"IF(ISNA(VLOOKUP($A33&C$7,#REF!,19,0)),\"-\",VLOOKUP($A33&C$7,#REF!,19,0))","v":{"$error":"#REF!"}},{"$f":"IF(ISNA(VLOOKUP($A33&D$7,#REF!,19,0)),\"-\",VLOOKUP($A33&D$7,#REF!,19,0))","v":{"$error":"#REF!"}},{"$f":"IF(ISNA(VLOOKUP($A33&E$7,#REF!,19,0)),\"-\",VLOOKUP($A33&E$7,#REF!,19,0))","v":{"$error":"#REF!"}},{"$f":"IF(ISNA(VLOOKUP($A33&F$7,#REF!,19,0)),\"-\",VLOOKUP($A33&F$7,#REF!,19,0))","v":{"$error":"#REF!"}},{"$f":"IF(ISNA(VLOOKUP($A33&G$7,#REF!,19,0)),\"-\",VLOOKUP($A33&G$7,#REF!,19,0))","v":{"$error":"#REF!"}},{"$f":"IF(ISNA(VLOOKUP($A33&H$7,#REF!,19,0)),\"-\",VLOOKUP($A33&H$7,#REF!,19,0))","v":{"$error":"#REF!"}},{"$f":"IF(ISNA(VLOOKUP($A33&I$7,#REF!,19,0)),\"-\",VLOOKUP($A33&I$7,#REF!,19,0))","v":{"$error":"#REF!"}},{"$f":"IF(ISNA(VLOOKUP($A33&J$7,#REF!,19,0)),\"-\",VLOOKUP($A33&J$7,#REF!,19,0))","v":{"$error":"#REF!"}},{"$f":"IF(ISNA(VLOOKUP($A33&K$7,#REF!,19,0)),\"-\",VLOOKUP($A33&K$7,#REF!,19,0))","v":{"$error":"#REF!"}},{"$f":"IF(ISNA(VLOOKUP($A33&L$7,#REF!,19,0)),\"-\",VLOOKUP($A33&L$7,#REF!,19,0))","v":{"$error":"#REF!"}},{"$f":"IF(ISNA(VLOOKUP($A33&M$7,#REF!,19,0)),\"-\",VLOOKUP($A33&M$7,#REF!,19,0))","v":{"$error":"#REF!"}},{"$f":"IF(ISNA(VLOOKUP($A33&N$7,#REF!,19,0)),\"-\",VLOOKUP($A33&N$7,#REF!,19,0))","v":{"$error":"#REF!"}},{"$f":"IF(ISNA(VLOOKUP($A33&O$7,#REF!,19,0)),\"-\",VLOOKUP($A33&O$7,#REF!,19,0))","v":{"$error":"#REF!"}},{"$f":"IF(ISNA(VLOOKUP($A33&P$7,#REF!,19,0)),\"-\",VLOOKUP($A33&P$7,#REF!,19,0))","v":{"$error":"#REF!"}},{"$f":"IF(ISNA(VLOOKUP($A33&Q$7,#REF!,19,0)),\"-\",VLOOKUP($A33&Q$7,#REF!,19,0))","v":{"$error":"#REF!"}},{"$f":"IF(ISNA(VLOOKUP($A33&R$7,#REF!,19,0)),\"-\",VLOOKUP($A33&R$7,#REF!,19,0))","v":{"$error":"#REF!"}},{"$f":"IF(ISNA(VLOOKUP($A33&S$7,#REF!,19,0)),\"-\",VLOOKUP($A33&S$7,#REF!,19,0))","v":{"$error":"#REF!"}},{"$f":"IF(ISNA(VLOOKUP($A33&T$7,#REF!,19,0)),\"-\",VLOOKUP($A33&T$7,#REF!,19,0))","v":{"$error":"#REF!"}},{"$f":"IF(ISNA(VLOOKUP($A33&U$7,#REF!,19,0)),\"-\",VLOOKUP($A33&U$7,#REF!,19,0))","v":{"$error":"#REF!"}},{"$f":"IF(ISNA(VLOOKUP($A33&V$7,#REF!,19,0)),\"-\",VLOOKUP($A33&V$7,#REF!,19,0))","v":{"$error":"#REF!"}},{"$f":"IF(ISNA(VLOOKUP($A33&W$7,#REF!,19,0)),\"-\",VLOOKUP($A33&W$7,#REF!,19,0))","v":{"$error":"#REF!"}},{"$f":"IF(ISNA(VLOOKUP($A33&X$7,#REF!,19,0)),\"-\",VLOOKUP($A33&X$7,#REF!,19,0))","v":{"$error":"#REF!"}},null,{"$error":"#REF!"},-0.89468766578774417,null,"DE"]
["EE",null,{"$f":"IF(ISNA(VLOOKUP($A34&C$7,#REF!,19,0)),\"-\",VLOOKUP($A34&C$7,#REF!,19,0))","v":{"$error":"#REF!"}},{"$f":"IF(ISNA(VLOOKUP($A34&D$7,#REF!,19,0)),\"-\",VLOOKUP($A34&D$7,#REF!,19,0))","v":{"$error":"#REF!"}},{"$f":"IF(ISNA(VLOOKUP($A34&E$7,#REF!,19,0)),\"-\",VLOOKUP($A34&E$7,#REF!,19,0))","v":{"$error":"#REF!"}},{"$f":"IF(ISNA(VLOOKUP($A34&F$7,#REF!,19,0)),\"-\",VLOOKUP($A34&F$7,#REF!,19,0))","v":{"$error":"#REF!"}},{"$f":"IF(ISNA(VLOOKUP($A34&G$7,#REF!,19,0)),\"-\",VLOOKUP($A34&G$7,#REF!,19,0))","v":{"$error":"#REF!"}},{"$f":"IF(ISNA(VLOOKUP($A34&H$7,#REF!,19,0)),\"-\",VLOOKUP($A34&H$7,#REF!,19,0))","v":{"$error":"#REF!"}},{"$f":"IF(ISNA(VLOOKUP($A34&I$7,#REF!,19,0)),\"-\",VLOOKUP($A34&I$7,#REF!,19,0))","v":{"$error":"#REF!"}},{"$f":"IF(ISNA(VLOOKUP($A34&J$7,#REF!,19,0)),\"-\",VLOOKUP($A34&J$7,#REF!,19,0))","v":{"$error":"#REF!"}},{"$f":"IF(ISNA(VLOOKUP($A34&K$7,#REF!,19,0)),\"-\",VLOOKUP($A34&K$7,#REF!,19,0))","v":{"$error":"#REF!"}},{"$f":"IF(ISNA(VLOOKUP($A34&L$7,#REF!,19,0)),\"-\",VLOOKUP($A34&L$7,#REF!,19,0))","v":{"$error":"#REF!"}},{"$f":"IF(ISNA(VLOOKUP($A34&M$7,#REF!,19,0)),\"-\",VLOOKUP($A34&M$7,#REF!,19,0))","v":{"$error":"#REF!"}},{"$f":"IF(ISNA(VLOOKUP($A34&N$7,#REF!,19,0)),\"-\",VLOOKUP($A34&N$7,#REF!,19,0))","v":{"$error":"#REF!"}},{"$f":"IF(ISNA(VLOOKUP($A34&O$7,#REF!,19,0)),\"-\",VLOOKUP($A34&O$7,#REF!,19,0))","v":{"$error":"#REF!"}},{"$f":"IF(ISNA(VLOOKUP($A34&P$7,#REF!,19,0)),\"-\",VLOOKUP($A34&P$7,#REF!,19,0))","v":{"$error":"#REF!"}},{"$f":"IF(ISNA(VLOOKUP($A34&Q$7,#REF!,19,0)),\"-\",VLOOKUP($A34&Q$7,#REF!,19,0))","v":{"$error":"#REF!"}},{"$f":"IF(ISNA(VLOOKUP($A34&R$7,#REF!,19,0)),\"-\",VLOOKUP($A34&R$7,#REF!,19,0))","v":{"$error":"#REF!"}},{"$f":"IF(ISNA(VLOOKUP($A34&S$7,#REF!,19,0)),\"-\",VLOOKUP($A34&S$7,#REF!,19,0))","v":{"$error":"#REF!"}},{"$f":"IF(ISNA(VLOOKUP($A34&T$7,#REF!,19,0)),\"-\",VLOOKUP($A34&T$7,#REF!,19,0))","v":{"$error":"#REF!"}},{"$f":"IF(ISNA(VLOOKUP($A34&U$7,#REF!,19,0)),\"-\",VLOOKUP($A34&U$7,#REF!,19,0))","v":{"$error":"#REF!"}},{"$f":"IF(ISNA(VLOOKUP($A34&V$7,#REF!,19,0)),\"-\",VLOOKUP($A34&V$7,#REF!,19,0))","v":{"$error":"#REF!"}},{"$f":"IF(ISNA(VLOOKUP($A34&W$7,#REF!,19,0)),\"-\",VLOOKUP($A34&W$7,#REF!,19,0))","v":{"$error":"#REF!"}},{"$f":"IF(ISNA(VLOOKUP($A34&X$7,#REF!,19,0)),\"-\",VLOOKUP($A34&X$7,#REF!,19,0))","v":{"$error":"#REF!"}},null,{"$error":"#REF!"},-0.93640802497840958,null,"EE"]
["IE",null,{"$f":"IF(ISNA(VLOOKUP($A35&C$7,#REF!,19,0)),\"-\",VLOOKUP($A35&C$7,#REF!,19,0))","v":{"$error":"#REF!"}},{"$f":"IF(ISNA(VLOOKUP($A35&D$7,#REF!,19,0)),\"-\",VLOOKUP($A35&D$7,#REF!,19,0))","v":{"$error":"#REF!"}},{"$f":"IF(ISNA(VLOOKUP($A35&E$7,#REF!,19,0)),\"-\",VLOOKUP($A35&E$7,#REF!,19,0))","v":{"$error":"#REF!"}},{"$f":"IF(ISNA(VLOOKUP($A35&F$7,#REF!,19,0)),\"-\",VLOOKUP($A35&F$7,#REF!,19,0))","v":{"$error":"#REF!"}},{"$f":"IF(ISNA(VLOOKUP($A35&G$7,#REF!,19,0)),\"-\",VLOOKUP($A35&G$7,#REF!,19,0))","v":{"$error":"#REF!"}},{"$f":"IF(ISNA(VLOOKUP($A35&H$7,#REF!,19,0)),\"-\",VLOOKUP($A35&H$7,#REF!,19,0))","v":{"$error":"#REF!"}},{"$f":"IF(ISNA(VLOOKUP($A35&I$7,#REF!,19,0)),\"-\",VLOOKUP($A35&I$7,#REF!,19,0))","v":{"$error":"#REF!"}},{"$f":"IF(ISNA(VLOOKUP($A35&J$7,#REF!,19,0)),\"-\",VLOOKUP($A35&J$7,#REF!,19,0))","v":{"$error":"#REF!"}},{"$f":"IF(ISNA(VLOOKUP($A35&K$7,#REF!,19,0)),\"-\",VLOOKUP($A35&K$7,#REF!,19,0))","v":{"$error":"#REF!"}},{"$f":"IF(ISNA(VLOOKUP($A35&L$7,#REF!,19,0)),\"-\",VLOOKUP($A35&L$7,#REF!,19,0))","v":{"$error":"#REF!"}},{"$f":"IF(ISNA(VLOOKUP($A35&M$7,#REF!,19,0)),\"-\",VLOOKUP($A35&M$7,#REF!,19,0))","v":{"$error":"#REF!"}},{"$f":"IF(ISNA(VLOOKUP($A35&N$7,#REF!,19,0)),\"-\",VLOOKUP($A35&N$7,#REF!,19,0))","v":{"$error":"#REF!"}},{"$f":"IF(ISNA(VLOOKUP($A35&O$7,#REF!,19,0)),\"-\",VLOOKUP($A35&O$7,#REF!,19,0))","v":{"$error":"#REF!"}},{"$f":"IF(ISNA(VLOOKUP($A35&P$7,#REF!,19,0)),\"-\",VLOOKUP($A35&P$7,#REF!,19,0))","v":{"$error":"#REF!"}},{"$f":"IF(ISNA(VLOOKUP($A35&Q$7,#REF!,19,0)),\"-\",VLOOKUP($A35&Q$7,#REF!,19,0))","v":{"$error":"#REF!"}},{"$f":"IF(ISNA(VLOOKUP($A35&R$7,#REF!,19,0)),\"-\",VLOOKUP($A35&R$7,#REF!,19,0))","v":{"$error":"#REF!"}},{"$f":"IF(ISNA(VLOOKUP($A35&S$7,#REF!,19,0)),\"-\",VLOOKUP($A35&S$7,#REF!,19,0))","v":{"$error":"#REF!"}},{"$f":"IF(ISNA(VLOOKUP($A35&T$7,#REF!,19,0)),\"-\",VLOOKUP($A35&T$7,#REF!,19,0))","v":{"$error":"#REF!"}},{"$f":"IF(ISNA(VLOOKUP($A35&U$7,#REF!,19,0)),\"-\",VLOOKUP($A35&U$7,#REF!,19,0))","v":{"$error":"#REF!"}},{"$f":"IF(ISNA(VLOOKUP($A35&V$7,#REF!,19,0)),\"-\",VLOOKUP($A35&V$7,#REF!,19,0))","v":{"$error":"#REF!"}},{"$f":"IF(ISNA(VLOOKUP($A35&W$7,#REF!,19,0)),\"-\",VLOOKUP($A35&W$7,#REF!,19,0))","v":{"$error":"#REF!"}},{"$f":"IF(ISNA(VLOOKUP($A35&X$7,#REF!,19,0)),\"-\",VLOOKUP($A35&X$7,#REF!,19,0))","v":{"$error":"#REF!"}},null,null,null,null,"IE"]
["ES",null,{"$f":"IF(ISNA(VLOOKUP($A36&C$7,#REF!,19,0)),\"-\",VLOOKUP($A36&C$7,#REF!,19,0))","v":{"$error":"#REF!"}},{"$f":"IF(ISNA(VLOOKUP($A36&D$7,#REF!,19,0)),\"-\",VLOOKUP($A36&D$7,#REF!,19,0))","v":{"$error":"#REF!"}},{"$f":"IF(ISNA(VLOOKUP($A36&E$7,#REF!,19,0)),\"-\",VLOOKUP($A36&E$7,#REF!,19,0))","v":{"$error":"#REF!"}},{"$f":"IF(ISNA(VLOOKUP($A36&F$7,#REF!,19,0)),\"-\",VLOOKUP($A36&F$7,#REF!,19,0))","v":{"$error":"#REF!"}},{"$f":"IF(ISNA(VLOOKUP($A36&G$7,#REF!,19,0)),\"-\",VLOOKUP($A36&G$7,#REF!,19,0))","v":{"$error":"#REF!"}},{"$f":"IF(ISNA(VLOOKUP($A36&H$7,#REF!,19,0)),\"-\",VLOOKUP($A36&H$7,#REF!,19,0))","v":{"$error":"#REF!"}},{"$f":"IF(ISNA(VLOOKUP($A36&I$7,#REF!,19,0)),\"-\",VLOOKUP($A36&I$7,#REF!,19,0))","v":{"$error":"#REF!"}},{"$f":"IF(ISNA(VLOOKUP($A36&J$7,#REF!,19,0)),\"-\",VLOOKUP($A36&J$7,#REF!,19,0))","v":{"$error":"#REF!"}},{"$f":"IF(ISNA(VLOOKUP($A36&K$7,#REF!,19,0)),\"-\",VLOOKUP($A36&K$7,#REF!,19,0))","v":{"$error":"#REF!"}},{"$f":"IF(ISNA(VLOOKUP($A36&L$7,#REF!,19,0)),\"-\",VLOOKUP($A36&L$7,#REF!,19,0))","v":{"$error":"#REF!"}},{"$f":"IF(ISNA(VLOOKUP($A36&M$7,#REF!,19,0)),\"-\",VLOOKUP($A36&M$7,#REF!,19,0))","v":{"$error":"#REF!"}},{"$f":"IF(ISNA(VLOOKUP($A36&N$7,#REF!,19,0)),\"-\",VLOOKUP($A36&N$7,#REF!,19,0))","v":{"$error":"#REF!"}},{"$f":"IF(ISNA(VLOOKUP($A36&O$7,#REF!,19,0)),\"-\",VLOOKUP($A36&O$7,#REF!,19,0))","v":{"$error":"#REF!"}},{"$f":"IF(ISNA(VLOOKUP($A36&P$7,#REF!,19,0)),\"-\",VLOOKUP($A36&P$7,#REF!,19,0))","v":{"$error":"#REF!"}},{"$f":"IF(ISNA(VLOOKUP($A36&Q$7,#REF!,19,0)),\"-\",VLOOKUP($A36&Q$7,#REF!,19,0))","v":{"$error":"#REF!"}},{"$f":"IF(ISNA(VLOOKUP($A36&R$7,#REF!,19,0)),\"-\",VLOOKUP($A36&R$7,#REF!,19,0))","v":{"$error":"#REF!"}},{"$f":"IF(ISNA(VLOOKUP($A36&S$7,#REF!,19,0)),\"-\",VLOOKUP($A36&S$7,#REF!,19,0))","v":{"$error":"#REF!"}},{"$f":"IF(ISNA(VLOOKUP($A36&T$7,#REF!,19,0)),\"-\",VLOOKUP($A36&T$7,#REF!,19,0))","v":{"$error":"#REF!"}},{"$f":"IF(ISNA(VLOOKUP($A36&U$7,#REF!,19,0)),\"-\",VLOOKUP($A36&U$7,#REF!,19,0))","v":{"$error":"#REF!"}},{"$f":"IF(ISNA(VLOOKUP($A36&V$7,#REF!,19,0)),\"-\",VLOOKUP($A36&V$7,#REF!,19,0))","v":{"$error":"#REF!"}},{"$f":"IF(ISNA(VLOOKUP($A36&W$7,#REF!,19,0)),\"-\",VLOOKUP($A36&W$7,#REF!,19,0))","v":{"$error":"#REF!"}},{"$f":"IF(ISNA(VLOOKUP($A36&X$7,#REF!,19,0)),\"-\",VLOOKUP($A36&X$7,#REF!,19,0))","v":{"$error":"#REF!"}},null,{"$error":"#REF!"},-0.92991273996509594,null,"ES"]
["FR",null,{"$f":"IF(ISNA(VLOOKUP($A37&C$7,#REF!,19,0)),\"-\",VLOOKUP($A37&C$7,#REF!,19,0))","v":{"$error":"#REF!"}},{"$f":"IF(ISNA(VLOOKUP($A37&D$7,#REF!,19,0)),\"-\",VLOOKUP($A37&D$7,#REF!,19,0))","v":{"$error":"#REF!"}},{"$f":"IF(ISNA(VLOOKUP($A37&E$7,#REF!,19,0)),\"-\",VLOOKUP($A37&E$7,#REF!,19,0))","v":{"$error":"#REF!"}},{"$f":"IF(ISNA(VLOOKUP($A37&F$7,#REF!,19,0)),\"-\",VLOOKUP($A37&F$7,#REF!,19,0))","v":{"$error":"#REF!"}},{"$f":"IF(ISNA(VLOOKUP($A37&G$7,#REF!,19,0)),\"-\",VLOOKUP($A37&G$7,#REF!,19,0))","v":{"$error":"#REF!"}},{"$f":"IF(ISNA(VLOOKUP($A37&H$7,#REF!,19,0)),\"-\",VLOOKUP($A37&H$7,#REF!,19,0))","v":{"$error":"#REF!"}},{"$f":"IF(ISNA(VLOOKUP($A37&I$7,#REF!,19,0)),\"-\",VLOOKUP($A37&I$7,#REF!,19,0))","v":{"$error":"#REF!"}},{"$f":"IF(ISNA(VLOOKUP($A37&J$7,#REF!,19,0)),\"-\",VLOOKUP($A37&J$7,#REF!,19,0))","v":{"$error":"#REF!"}},{"$f":"IF(ISNA(VLOOKUP($A37&K$7,#REF!,19,0)),\"-\",VLOOKUP($A37&K$7,#REF!,19,0))","v":{"$error":"#REF!"}},{"$f":"IF(ISNA(VLOOKUP($A37&L$7,#REF!,19,0)),\"-\",VLOOKUP($A37&L$7,#REF!,19,0))","v":{"$error":"#REF!"}},{"$f":"IF(ISNA(VLOOKUP($A37&M$7,#REF!,19,0)),\"-\",VLOOKUP($A37&M$7,#REF!,19,0))","v":{"$error":"#REF!"}},{"$f":"IF(ISNA(VLOOKUP($A37&N$7,#REF!,19,0)),\"-\",VLOOKUP($A37&N$7,#REF!,19,0))","v":{"$error":"#REF!"}},{"$f":"IF(ISNA(VLOOKUP($A37&O$7,#REF!,19,0)),\"-\",VLOOKUP($A37&O$7,#REF!,19,0))","v":{"$error":"#REF!"}},{"$f":"IF(ISNA(VLOOKUP($A37&P$7,#REF!,19,0)),\"-\",VLOOKUP($A37&P$7,#REF!,19,0))","v":{"$error":"#REF!"}},{"$f":"IF(ISNA(VLOOKUP($A37&Q$7,#REF!,19,0)),\"-\",VLOOKUP($A37&Q$7,#REF!,19,0))","v":{"$error":"#REF!"}},{"$f":"IF(ISNA(VLOOKUP($A37&R$7,#REF!,19,0)),\"-\",VLOOKUP($A37&R$7,#REF!,19,0))","v":{"$error":"#REF!"}},{"$f":"IF(ISNA(VLOOKUP($A37&S$7,#REF!,19,0)),\"-\",VLOOKUP($A37&S$7,#REF!,19,0))","v":{"$error":"#REF!"}},{"$f":"IF(ISNA(VLOOKUP($A37&T$7,#REF!,19,0)),\"-\",VLOOKUP($A37&T$7,#REF!,19,0))","v":{"$error":"#REF!"}},{"$f":"IF(ISNA(VLOOKUP($A37&U$7,#REF!,19,0)),\"-\",VLOOKUP($A37&U$7,#REF!,19,0))","v":{"$error":"#REF!"}},{"$f":"IF(ISNA(VLOOKUP($A37&V$7,#REF!,19,0)),\"-\",VLOOKUP($A37&V$7,#REF!,19,0))","v":{"$error":"#REF!"}},{"$f":"IF(ISNA(VLOOKUP($A37&W$7,#REF!,19,0)),\"-\",VLOOKUP($A37&W$7,#REF!,19,0))","v":{"$error":"#REF!"}},{"$f":"IF(ISNA(VLOOKUP($A37&X$7,#REF!,19,0)),\"-\",VLOOKUP($A37&X$7,#REF!,19,0))","v":{"$error":"#REF!"}},null,{"$error":"#REF!"},-0.93956673352551845,null,"FR"]
["CY",null,{"$f":"IF(ISNA(VLOOKUP($A38&C$7,#REF!,19,0)),\"-\",VLOOKUP($A38&C$7,#REF!,19,0))","v":{"$error":"#REF!"}},{"$f":"IF(ISNA(VLOOKUP($A38&D$7,#REF!,19,0)),\"-\",VLOOKUP($A38&D$7,#REF!,19,0))","v":{"$error":"#REF!"}},{"$f":"IF(ISNA(VLOOKUP($A38&E$7,#REF!,19,0)),\"-\",VLOOKUP($A38&E$7,#REF!,19,0))","v":{"$error":"#REF!"}},{"$f":"IF(ISNA(VLOOKUP($A38&F$7,#REF!,19,0)),\"-\",VLOOKUP($A38&F$7,#REF!,19,0))","v":{"$error":"#REF!"}},{"$f":"IF(ISNA(VLOOKUP($A38&G$7,#REF!,19,0)),\"-\",VLOOKUP($A38&G$7,#REF!,19,0))","v":{"$error":"#REF!"}},{"$f":"IF(ISNA(VLOOKUP($A38&H$7,#REF!,19,0)),\"-\",VLOOKUP($A38&H$7,#REF!,19,0))","v":{"$error":"#REF!"}},{"$f":"IF(ISNA(VLOOKUP($A38&I$7,#REF!,19,0)),\"-\",VLOOKUP($A38&I$7,#REF!,19,0))","v":{"$error":"#REF!"}},{"$f":"IF(ISNA(VLOOKUP($A38&J$7,#REF!,19,0)),\"-\",VLOOKUP($A38&J$7,#REF!,19,0))","v":{"$error":"#REF!"}},{"$f":"IF(ISNA(VLOOKUP($A38&K$7,#REF!,19,0)),\"-\",VLOOKUP($A38&K$7,#REF!,19,0))","v":{"$error":"#REF!"}},{"$f":"IF(ISNA(VLOOKUP($A38&L$7,#REF!,19,0)),\"-\",VLOOKUP($A38&L$7,#REF!,19,0))","v":{"$error":"#REF!"}},{"$f":"IF(ISNA(VLOOKUP($A38&M$7,#REF!,19,0)),\"-\",VLOOKUP($A38&M$7,#REF!,19,0))","v":{"$error":"#REF!"}},{"$f":"IF(ISNA(VLOOKUP($A38&N$7,#REF!,19,0)),\"-\",VLOOKUP($A38&N$7,#REF!,19,0))","v":{"$error":"#REF!"}},{"$f":"IF(ISNA(VLOOKUP($A38&O$7,#REF!,19,0)),\"-\",VLOOKUP($A38&O$7,#REF!,19,0))","v":{"$error":"#REF!"}},{"$f":"IF(ISNA(VLOOKUP($A38&P$7,#REF!,19,0)),\"-\",VLOOKUP($A38&P$7,#REF!,19,0))","v":{"$error":"#REF!"}},{"$f":"IF(ISNA(VLOOKUP($A38&Q$7,#REF!,19,0)),\"-\",VLOOKUP($A38&Q$7,#REF!,19,0))","v":{"$error":"#REF!"}},{"$f":"IF(ISNA(VLOOKUP($A38&R$7,#REF!,19,0)),\"-\",VLOOKUP($A38&R$7,#REF!,19,0))","v":{"$error":"#REF!"}},{"$f":"IF(ISNA(VLOOKUP($A38&S$7,#REF!,19,0)),\"-\",VLOOKUP($A38&S$7,#REF!,19,0))","v":{"$error":"#REF!"}},{"$f":"IF(ISNA(VLOOKUP($A38&T$7,#REF!,19,0)),\"-\",VLOOKUP($A38&T$7,#REF!,19,0))","v":{"$error":"#REF!"}},{"$f":"IF(ISNA(VLOOKUP($A38&U$7,#REF!,19,0)),\"-\",VLOOKUP($A38&U$7,#REF!,19,0))","v":{"$error":"#REF!"}},{"$f":"IF(ISNA(VLOOKUP($A38&V$7,#REF!,19,0)),\"-\",VLOOKUP($A38&V$7,#REF!,19,0))","v":{"$error":"#REF!"}},{"$f":"IF(ISNA(VLOOKUP($A38&W$7,#REF!,19,0)),\"-\",VLOOKUP($A38&W$7,#REF!,19,0))","v":{"$error":"#REF!"}},{"$f":"IF(ISNA(VLOOKUP($A38&X$7,#REF!,19,0)),\"-\",VLOOKUP($A38&X$7,#REF!,19,0))","v":{"$error":"#REF!"}},null,null,null,null,"CY"]
["NL",null,{"$f":"IF(ISNA(VLOOKUP($A39&C$7,#REF!,19,0)),\"-\",VLOOKUP($A39&C$7,#REF!,19,0))","v":{"$error":"#REF!"}},{"$f":"IF(ISNA(VLOOKUP($A39&D$7,#REF!,19,0)),\"-\",VLOOKUP($A39&D$7,#REF!,19,0))","v":{"$error":"#REF!"}},{"$f":"IF(ISNA(VLOOKUP($A39&E$7,#REF!,19,0)),\"-\",VLOOKUP($A39&E$7,#REF!,19,0))","v":{"$error":"#REF!"}},{"$f":"IF(ISNA(VLOOKUP($A39&F$7,#REF!,19,0)),\"-\",VLOOKUP($A39&F$7,#REF!,19,0))","v":{"$error":"#REF!"}},{"$f":"IF(ISNA(VLOOKUP($A39&G$7,#REF!,19,0)),\"-\",VLOOKUP($A39&G$7,#REF!,19,0))","v":{"$error":"#REF!"}},{"$f":"IF(ISNA(VLOOKUP($A39&H$7,#REF!,19,0)),\"-\",VLOOKUP($A39&H$7,#REF!,19,0))","v":{"$error":"#REF!"}},{"$f":"IF(ISNA(VLOOKUP($A39&I$7,#REF!,19,0)),\"-\",VLOOKUP($A39&I$7,#REF!,19,0))","v":{"$error":"#REF!"}},{"$f":"IF(ISNA(VLOOKUP($A39&J$7,#REF!,19,0)),\"-\",VLOOKUP($A39&J$7,#REF!,19,0))","v":{"$error":"#REF!"}},{"$f":"IF(ISNA(VLOOKUP($A39&K$7,#REF!,19,0)),\"-\",VLOOKUP($A39&K$7,#REF!,19,0))","v":{"$error":"#REF!"}},{"$f":"IF(ISNA(VLOOKUP($A39&L$7,#REF!,19,0)),\"-\",VLOOKUP($A39&L$7,#REF!,19,0))","v":{"$error":"#REF!"}},{"$f":"IF(ISNA(VLOOKUP($A39&M$7,#REF!,19,0)),\"-\",VLOOKUP($A39&M$7,#REF!,19,0))","v":{"$error":"#REF!"}},{"$f":"IF(ISNA(VLOOKUP($A39&N$7,#REF!,19,0)),\"-\",VLOOKUP($A39&N$7,#REF!,19,0))","v":{"$error":"#REF!"}},{"$f":"IF(ISNA(VLOOKUP($A39&O$7,#REF!,19,0)),\"-\",VLOOKUP($A39&O$7,#REF!,19,0))","v":{"$error":"#REF!"}},{"$f":"IF(ISNA(VLOOKUP($A39&P$7,#REF!,19,0)),\"-\",VLOOKUP($A39&P$7,#REF!,19,0))","v":{"$error":"#REF!"}},{"$f":"IF(ISNA(VLOOKUP($A39&Q$7,#REF!,19,0)),\"-\",VLOOKUP($A39&Q$7,#REF!,19,0))","v":{"$error":"#REF!"}},{"$f":"IF(ISNA(VLOOKUP($A39&R$7,#REF!,19,0)),\"-\",VLOOKUP($A39&R$7,#REF!,19,0))","v":{"$error":"#REF!"}},{"$f":"IF(ISNA(VLOOKUP($A39&S$7,#REF!,19,0)),\"-\",VLOOKUP($A39&S$7,#REF!,19,0))","v":{"$error":"#REF!"}},{"$f":"IF(ISNA(VLOOKUP($A39&T$7,#REF!,19,0)),\"-\",VLOOKUP($A39&T$7,#REF!,19,0))","v":{"$error":"#REF!"}},{"$f":"IF(ISNA(VLOOKUP($A39&U$7,#REF!,19,0)),\"-\",VLOOKUP($A39&U$7,#REF!,19,0))","v":{"$error":"#REF!"}},{"$f":"IF(ISNA(VLOOKUP($A39&V$7,#REF!,19,0)),\"-\",VLOOKUP($A39&V$7,#REF!,19,0))","v":{"$error":"#REF!"}},{"$f":"IF(ISNA(VLOOKUP($A39&W$7,#REF!,19,0)),\"-\",VLOOKUP($A39&W$7,#REF!,19,0))","v":{"$error":"#REF!"}},{"$f":"IF(ISNA(VLOOKUP($A39&X$7,#REF!,19,0)),\"-\",VLOOKUP($A39&X$7,#REF!,19,0))","v":{"$error":"#REF!"}},null,null,null,null,"NL"]
["AT",null,{"$f":"IF(ISNA(VLOOKUP($A40&C$7,#REF!,19,0)),\"-\",VLOOKUP($A40&C$7,#REF!,19,0))","v":{"$error":"#REF!"}},{"$f":"IF(ISNA(VLOOKUP($A40&D$7,#REF!,19,0)),\"-\",VLOOKUP($A40&D$7,#REF!,19,0))","v":{"$error":"#REF!"}},{"$f":"IF(ISNA(VLOOKUP($A40&E$7,#REF!,19,0)),\"-\",VLOOKUP($A40&E$7,#REF!,19,0))","v":{"$error":"#REF!"}},{"$f":"IF(ISNA(VLOOKUP($A40&F$7,#REF!,19,0)),\"-\",VLOOKUP($A40&F$7,#REF!,19,0))","v":{"$error":"#REF!"}},{"$f":"IF(ISNA(VLOOKUP($A40&G$7,#REF!,19,0)),\"-\",VLOOKUP($A40&G$7,#REF!,19,0))","v":{"$error":"#REF!"}},{"$f":"IF(ISNA(VLOOKUP($A40&H$7,#REF!,19,0)),\"-\",VLOOKUP($A40&H$7,#REF!,19,0))","v":{"$error":"#REF!"}},{"$f":"IF(ISNA(VLOOKUP($A40&I$7,#REF!,19,0)),\"-\",VLOOKUP($A40&I$7,#REF!,19,0))","v":{"$error":"#REF!"}},{"$f":"IF(ISNA(VLOOKUP($A40&J$7,#REF!,19,0)),\"-\",VLOOKUP($A40&J$7,#REF!,19,0))","v":{"$error":"#REF!"}},{"$f":"IF(ISNA(VLOOKUP($A40&K$7,#REF!,19,0)),\"-\",VLOOKUP($A40&K$7,#REF!,19,0))","v":{"$error":"#REF!"}},{"$f":"IF(ISNA(VLOOKUP($A40&L$7,#REF!,19,0)),\"-\",VLOOKUP($A40&L$7,#REF!,19,0))","v":{"$error":"#REF!"}},{"$f":"IF(ISNA(VLOOKUP($A40&M$7,#REF!,19,0)),\"-\",VLOOKUP($A40&M$7,#REF!,19,0))","v":{"$error":"#REF!"}},{"$f":"IF(ISNA(VLOOKUP($A40&N$7,#REF!,19,0)),\"-\",VLOOKUP($A40&N$7,#REF!,19,0))","v":{"$error":"#REF!"}},{"$f":"IF(ISNA(VLOOKUP($A40&O$7,#REF!,19,0)),\"-\",VLOOKUP($A40&O$7,#REF!,19,0))","v":{"$error":"#REF!"}},{"$f":"IF(ISNA(VLOOKUP($A40&P$7,#REF!,19,0)),\"-\",VLOOKUP($A40&P$7,#REF!,19,0))","v":{"$error":"#REF!"}},{"$f":"IF(ISNA(VLOOKUP($A40&Q$7,#REF!,19,0)),\"-\",VLOOKUP($A40&Q$7,#REF!,19,0))","v":{"$error":"#REF!"}},{"$f":"IF(ISNA(VLOOKUP($A40&R$7,#REF!,19,0)),\"-\",VLOOKUP($A40&R$7,#REF!,19,0))","v":{"$error":"#REF!"}},{"$f":"IF(ISNA(VLOOKUP($A40&S$7,#REF!,19,0)),\"-\",VLOOKUP($A40&S$7,#REF!,19,0))","v":{"$error":"#REF!"}},{"$f":"IF(ISNA(VLOOKUP($A40&T$7,#REF!,19,0)),\"-\",VLOOKUP($A40&T$7,#REF!,19,0))","v":{"$error":"#REF!"}},{"$f":"IF(ISNA(VLOOKUP($A40&U$7,#REF!,19,0)),\"-\",VLOOKUP($A40&U$7,#REF!,19,0))","v":{"$error":"#REF!"}},{"$f":"IF(ISNA(VLOOKUP($A40&V$7,#REF!,19,0)),\"-\",VLOOKUP($A40&V$7,#REF!,19,0))","v":{"$error":"#REF!"}},{"$f":"IF(ISNA(VLOOKUP($A40&W$7,#REF!,19,0)),\"-\",VLOOKUP($A40&W$7,#REF!,19,0))","v":{"$error":"#REF!"}},{"$f":"IF(ISNA(VLOOKUP($A40&X$7,#REF!,19,0)),\"-\",VLOOKUP($A40&X$7,#REF!,19,0))","v":{"$error":"#REF!"}},null,null,null,null,"AT"]
["PL",null,{"$f":"IF(ISNA(VLOOKUP($A41&C$7,#REF!,19,0)),\"-\",VLOOKUP($A41&C$7,#REF!,19,0))","v":{"$error":"#REF!"}},{"$f":"IF(ISNA(VLOOKUP($A41&D$7,#REF!,19,0)),\"-\",VLOOKUP($A41&D$7,#REF!,19,0))","v":{"$error":"#REF!"}},{"$f":"IF(ISNA(VLOOKUP($A41&E$7,#REF!,19,0)),\"-\",VLOOKUP($A41&E$7,#REF!,19,0))","v":{"$error":"#REF!"}},{"$f":"IF(ISNA(VLOOKUP($A41&F$7,#REF!,19,0)),\"-\",VLOOKUP($A41&F$7,#REF!,19,0))","v":{"$error":"#REF!"}},{"$f":"IF(ISNA(VLOOKUP($A41&G$7,#REF!,19,0)),\"-\",VLOOKUP($A41&G$7,#REF!,19,0))","v":{"$error":"#REF!"}},{"$f":"IF(ISNA(VLOOKUP($A41&H$7,#REF!,19,0)),\"-\",VLOOKUP($A41&H$7,#REF!,19,0))","v":{"$error":"#REF!"}},{"$f":"IF(ISNA(VLOOKUP($A41&I$7,#REF!,19,0)),\"-\",VLOOKUP($A41&I$7,#REF!,19,0))","v":{"$error":"#REF!"}},{"$f":"IF(ISNA(VLOOKUP($A41&J$7,#REF!,19,0)),\"-\",VLOOKUP($A41&J$7,#REF!,19,0))","v":{"$error":"#REF!"}},{"$f":"IF(ISNA(VLOOKUP($A41&K$7,#REF!,19,0)),\"-\",VLOOKUP($A41&K$7,#REF!,19,0))","v":{"$error":"#REF!"}},{"$f":"IF(ISNA(VLOOKUP($A41&L$7,#REF!,19,0)),\"-\",VLOOKUP($A41&L$7,#REF!,19,0))","v":{"$error":"#REF!"}},{"$f":"IF(ISNA(VLOOKUP($A41&M$7,#REF!,19,0)),\"-\",VLOOKUP($A41&M$7,#REF!,19,0))","v":{"$error":"#REF!"}},{"$f":"IF(ISNA(VLOOKUP($A41&N$7,#REF!,19,0)),\"-\",VLOOKUP($A41&N$7,#REF!,19,0))","v":{"$error":"#REF!"}},{"$f":"IF(ISNA(VLOOKUP($A41&O$7,#REF!,19,0)),\"-\",VLOOKUP($A41&O$7,#REF!,19,0))","v":{"$error":"#REF!"}},{"$f":"IF(ISNA(VLOOKUP($A41&P$7,#REF!,19,0)),\"-\",VLOOKUP($A41&P$7,#REF!,19,0))","v":{"$error":"#REF!"}},{"$f":"IF(ISNA(VLOOKUP($A41&Q$7,#REF!,19,0)),\"-\",VLOOKUP($A41&Q$7,#REF!,19,0))","v":{"$error":"#REF!"}},{"$f":"IF(ISNA(VLOOKUP($A41&R$7,#REF!,19,0)),\"-\",VLOOKUP($A41&R$7,#REF!,19,0))","v":{"$error":"#REF!"}},{"$f":"IF(ISNA(VLOOKUP($A41&S$7,#REF!,19,0)),\"-\",VLOOKUP($A41&S$7,#REF!,19,0))","v":{"$error":"#REF!"}},{"$f":"IF(ISNA(VLOOKUP($A41&T$7,#REF!,19,0)),\"-\",VLOOKUP($A41&T$7,#REF!,19,0))","v":{"$error":"#REF!"}},{"$f":"IF(ISNA(VLOOKUP($A41&U$7,#REF!,19,0)),\"-\",VLOOKUP($A41&U$7,#REF!,19,0))","v":{"$error":"#REF!"}},{"$f":"IF(ISNA(VLOOKUP($A41&V$7,#REF!,19,0)),\"-\",VLOOKUP($A41&V$7,#REF!,19,0))","v":{"$error":"#REF!"}},{"$f":"IF(ISNA(VLOOKUP($A41&W$7,#REF!,19,0)),\"-\",VLOOKUP($A41&W$7,#REF!,19,0))","v":{"$error":"#REF!"}},{"$f":"IF(ISNA(VLOOKUP($A41&X$7,#REF!,19,0)),\"-\",VLOOKUP($A41&X$7,#REF!,19,0))","v":{"$error":"#REF!"}},null,{"$error":"#REF!"},-0.92627931863803969,null,"PL"]
["RO",null,{"$f":"IF(ISNA(VLOOKUP($A42&C$7,#REF!,19,0)),\"-\",VLOOKUP($A42&C$7,#REF!,19,0))","v":{"$error":"#REF!"}},{"$f":"IF(ISNA(VLOOKUP($A42&D$7,#REF!,19,0)),\"-\",VLOOKUP($A42&D$7,#REF!,19,0))","v":{"$error":"#REF!"}},{"$f":"IF(ISNA(VLOOKUP($A42&E$7,#REF!,19,0)),\"-\",VLOOKUP($A42&E$7,#REF!,19,0))","v":{"$error":"#REF!"}},{"$f":"IF(ISNA(VLOOKUP($A42&F$7,#REF!,19,0)),\"-\",VLOOKUP($A42&F$7,#REF!,19,0))","v":{"$error":"#REF!"}},{"$f":"IF(ISNA(VLOOKUP($A42&G$7,#REF!,19,0)),\"-\",VLOOKUP($A42&G$7,#REF!,19,0))","v":{"$error":"#REF!"}},{"$f":"IF(ISNA(VLOOKUP($A42&H$7,#REF!,19,0)),\"-\",VLOOKUP($A42&H$7,#REF!,19,0))","v":{"$error":"#REF!"}},{"$f":"IF(ISNA(VLOOKUP($A42&I$7,#REF!,19,0)),\"-\",VLOOKUP($A42&I$7,#REF!,19,0))","v":{"$error":"#REF!"}},{"$f":"IF(ISNA(VLOOKUP($A42&J$7,#REF!,19,0)),\"-\",VLOOKUP($A42&J$7,#REF!,19,0))","v":{"$error":"#REF!"}},{"$f":"IF(ISNA(VLOOKUP($A42&K$7,#REF!,19,0)),\"-\",VLOOKUP($A42&K$7,#REF!,19,0))","v":{"$error":"#REF!"}},{"$f":"IF(ISNA(VLOOKUP($A42&L$7,#REF!,19,0)),\"-\",VLOOKUP($A42&L$7,#REF!,19,0))","v":{"$error":"#REF!"}},{"$f":"IF(ISNA(VLOOKUP($A42&M$7,#REF!,19,0)),\"-\",VLOOKUP($A42&M$7,#REF!,19,0))","v":{"$error":"#REF!"}},{"$f":"IF(ISNA(VLOOKUP($A42&N$7,#REF!,19,0)),\"-\",VLOOKUP($A42&N$7,#REF!,19,0))","v":{"$error":"#REF!"}},{"$f":"IF(ISNA(VLOOKUP($A42&O$7,#REF!,19,0)),\"-\",VLOOKUP($A42&O$7,#REF!,19,0))","v":{"$error":"#REF!"}},{"$f":"IF(ISNA(VLOOKUP($A42&P$7,#REF!,19,0)),\"-\",VLOOKUP($A42&P$7,#REF!,19,0))","v":{"$error":"#REF!"}},{"$f":"IF(ISNA(VLOOKUP($A42&Q$7,#REF!,19,0)),\"-\",VLOOKUP($A42&Q$7,#REF!,19,0))","v":{"$error":"#REF!"}},{"$f":"IF(ISNA(VLOOKUP($A42&R$7,#REF!,19,0)),\"-\",VLOOKUP($A42&R$7,#REF!,19,0))","v":{"$error":"#REF!"}},{"$f":"IF(ISNA(VLOOKUP($A42&S$7,#REF!,19,0)),\"-\",VLOOKUP($A42&S$7,#REF!,19,0))","v":{"$error":"#REF!"}},{"$f":"IF(ISNA(VLOOKUP($A42&T$7,#REF!,19,0)),\"-\",VLOOKUP($A42&T$7,#REF!,19,0))","v":{"$error":"#REF!"}},{"$f":"IF(ISNA(VLOOKUP($A42&U$7,#REF!,19,0)),\"-\",VLOOKUP($A42&U$7,#REF!,19,0))","v":{"$error":"#REF!"}},{"$f":"IF(ISNA(VLOOKUP($A42&V$7,#REF!,19,0)),\"-\",VLOOKUP($A42&V$7,#REF!,19,0))","v":{"$error":"#REF!"}},{"$f":"IF(ISNA(VLOOKUP($A42&W$7,#REF!,19,0)),\"-\",VLOOKUP($A42&W$7,#REF!,19,0))","v":{"$error":"#REF!"}},{"$f":"IF(ISNA(VLOOKUP($A42&X$7,#REF!,19,0)),\"-\",VLOOKUP($A42&X$7,#REF!,19,0))","v":{"$error":"#REF!"}},null,null,null,null,"RO"]
["SE",null,{"$f":"IF(ISNA(VLOOKUP($A43&C$7,#REF!,19,0)),\"-\",VLOOKUP($A43&C$7,#REF!,19,0))","v":{"$error":"#REF!"}},{"$f":"IF(ISNA(VLOOKUP($A43&D$7,#REF!,19,0)),\"-\",VLOOKUP($A43&D$7,#REF!,19,0))","v":{"$error":"#REF!"}},{"$f":"IF(ISNA(VLOOKUP($A43&E$7,#REF!,19,0)),\"-\",VLOOKUP($A43&E$7,#REF!,19,0))","v":{"$error":"#REF!"}},{"$f":"IF(ISNA(VLOOKUP($A43&F$7,#REF!,19,0)),\"-\",VLOOKUP($A43&F$7,#REF!,19,0))","v":{"$error":"#REF!"}},{"$f":"IF(ISNA(VLOOKUP($A43&G$7,#REF!,19,0)),\"-\",VLOOKUP($A43&G$7,#REF!,19,0))","v":{"$error":"#REF!"}},{"$f":"IF(ISNA(VLOOKUP($A43&H$7,#REF!,19,0)),\"-\",VLOOKUP($A43&H$7,#REF!,19,0))","v":{"$error":"#REF!"}},{"$f":"IF(ISNA(VLOOKUP($A43&I$7,#REF!,19,0)),\"-\",VLOOKUP($A43&I$7,#REF!,19,0))","v":{"$error":"#REF!"}},{"$f":"IF(ISNA(VLOOKUP($A43&J$7,#REF!,19,0)),\"-\",VLOOKUP($A43&J$7,#REF!,19,0))","v":{"$error":"#REF!"}},{"$f":"IF(ISNA(VLOOKUP($A43&K$7,#REF!,19,0)),\"-\",VLOOKUP($A43&K$7,#REF!,19,0))","v":{"$error":"#REF!"}},{"$f":"IF(ISNA(VLOOKUP($A43&L$7,#REF!,19,0)),\"-\",VLOOKUP($A43&L$7,#REF!,19,0))","v":{"$error":"#REF!"}},{"$f":"IF(ISNA(VLOOKUP($A43&M$7,#REF!,19,0)),\"-\",VLOOKUP($A43&M$7,#REF!,19,0))","v":{"$error":"#REF!"}},{"$f":"IF(ISNA(VLOOKUP($A43&N$7,#REF!,19,0)),\"-\",VLOOKUP($A43&N$7,#REF!,19,0))","v":{"$error":"#REF!"}},{"$f":"IF(ISNA(VLOOKUP($A43&O$7,#REF!,19,0)),\"-\",VLOOKUP($A43&O$7,#REF!,19,0))","v":{"$error":"#REF!"}},{"$f":"IF(ISNA(VLOOKUP($A43&P$7,#REF!,19,0)),\"-\",VLOOKUP($A43&P$7,#REF!,19,0))","v":{"$error":"#REF!"}},{"$f":"IF(ISNA(VLOOKUP($A43&Q$7,#REF!,19,0)),\"-\",VLOOKUP($A43&Q$7,#REF!,19,0))","v":{"$error":"#REF!"}},{"$f":"IF(ISNA(VLOOKUP($A43&R$7,#REF!,19,0)),\"-\",VLOOKUP($A43&R$7,#REF!,19,0))","v":{"$error":"#REF!"}},{"$f":"IF(ISNA(VLOOKUP($A43&S$7,#REF!,19,0)),\"-\",VLOOKUP($A43&S$7,#REF!,19,0))","v":{"$error":"#REF!"}},{"$f":"IF(ISNA(VLOOKUP($A43&T$7,#REF!,19,0)),\"-\",VLOOKUP($A43&T$7,#REF!,19,0))","v":{"$error":"#REF!"}},{"$f":"IF(ISNA(VLOOKUP($A43&U$7,#REF!,19,0)),\"-\",VLOOKUP($A43&U$7,#REF!,19,0))","v":{"$error":"#REF!"}},{"$f":"IF(ISNA(VLOOKUP($A43&V$7,#REF!,19,0)),\"-\",VLOOKUP($A43&V$7,#REF!,19,0))","v":{"$error":"#REF!"}},{"$f":"IF(ISNA(VLOOKUP($A43&W$7,#REF!,19,0)),\"-\",VLOOKUP($A43&W$7,#REF!,19,0))","v":{"$error":"#REF!"}},{"$f":"IF(ISNA(VLOOKUP($A43&X$7,#REF!,19,0)),\"-\",VLOOKUP($A43&X$7,#REF!,19,0))","v":{"$error":"#REF!"}},null,{"$error":"#REF!"},{"$error":"#DIV/0!"},null,"SE"]
["GB",null,{"$f":"IF(ISNA(VLOOKUP($A44&C$7,#REF!,19,0)),\"-\",VLOOKUP($A44&C$7,#REF!,19,0))","v":{"$error":"#REF!"}},{"$f":"IF(ISNA(VLOOKUP($A44&D$7,#REF!,19,0)),\"-\",VLOOKUP($A44&D$7,#REF!,19,0))","v":{"$error":"#REF!"}},{"$f":"IF(ISNA(VLOOKUP($A44&E$7,#REF!,19,0)),\"-\",VLOOKUP($A44&E$7,#REF!,19,0))","v":{"$error":"#REF!"}},{"$f":"IF(ISNA(VLOOKUP($A44&F$7,#REF!,19,0)),\"-\",VLOOKUP($A44&F$7,#REF!,19,0))","v":{"$error":"#REF!"}},{"$f":"IF(ISNA(VLOOKUP($A44&G$7,#REF!,19,0)),\"-\",VLOOKUP($A44&G$7,#REF!,19,0))","v":{"$error":"#REF!"}},{"$f":"IF(ISNA(VLOOKUP($A44&H$7,#REF!,19,0)),\"-\",VLOOKUP($A44&H$7,#REF!,19,0))","v":{"$error":"#REF!"}},{"$f":"IF(ISNA(VLOOKUP($A44&I$7,#REF!,19,0)),\"-\",VLOOKUP($A44&I$7,#REF!,19,0))","v":{"$error":"#REF!"}},{"$f":"IF(ISNA(VLOOKUP($A44&J$7,#REF!,19,0)),\"-\",VLOOKUP($A44&J$7,#REF!,19,0))","v":{"$error":"#REF!"}},{"$f":"IF(ISNA(VLOOKUP($A44&K$7,#REF!,19,0)),\"-\",VLOOKUP($A44&K$7,#REF!,19,0))","v":{"$error":"#REF!"}},{"$f":"IF(ISNA(VLOOKUP($A44&L$7,#REF!,19,0)),\"-\",VLOOKUP($A44&L$7,#REF!,19,0))","v":{"$error":"#REF!"}},{"$f":"IF(ISNA(VLOOKUP($A44&M$7,#REF!,19,0)),\"-\",VLOOKUP($A44&M$7,#REF!,19,0))","v":{"$error":"#REF!"}},{"$f":"IF(ISNA(VLOOKUP($A44&N$7,#REF!,19,0)),\"-\",VLOOKUP($A44&N$7,#REF!,19,0))","v":{"$error":"#REF!"}},{"$f":"IF(ISNA(VLOOKUP($A44&O$7,#REF!,19,0)),\"-\",VLOOKUP($A44&O$7,#REF!,19,0))","v":{"$error":"#REF!"}},{"$f":"IF(ISNA(VLOOKUP($A44&P$7,#REF!,19,0)),\"-\",VLOOKUP($A44&P$7,#REF!,19,0))","v":{"$error":"#REF!"}},{"$f":"IF(ISNA(VLOOKUP($A44&Q$7,#REF!,19,0)),\"-\",VLOOKUP($A44&Q$7,#REF!,19,0))","v":{"$error":"#REF!"}},{"$f":"IF(ISNA(VLOOKUP($A44&R$7,#REF!,19,0)),\"-\",VLOOKUP($A44&R$7,#REF!,19,0))","v":{"$error":"#REF!"}},{"$f":"IF(ISNA(VLOOKUP($A44&S$7,#REF!,19,0)),\"-\",VLOOKUP($A44&S$7,#REF!,19,0))","v":{"$error":"#REF!"}},{"$f":"IF(ISNA(VLOOKUP($A44&T$7,#REF!,19,0)),\"-\",VLOOKUP($A44&T$7,#REF!,19,0))","v":{"$error":"#REF!"}},{"$f":"IF(ISNA(VLOOKUP($A44&U$7,#REF!,19,0)),\"-\",VLOOKUP($A44&U$7,#REF!,19,0))","v":{"$error":"#REF!"}},{"$f":"IF(ISNA(VLOOKUP($A44&V$7,#REF!,19,0)),\"-\",VLOOKUP($A44&V$7,#REF!,19,0))","v":{"$error":"#REF!"}},{"$f":"IF(ISNA(VLOOKUP($A44&W$7,#REF!,19,0)),\"-\",VLOOKUP($A44&W$7,#REF!,19,0))","v":{"$error":"#REF!"}},{"$f":"IF(ISNA(VLOOKUP($A44&X$7,#REF!,19,0)),\"-\",VLOOKUP($A44&X$7,#REF!,19,0))","v":{"$error":"#REF!"}},null,null,null,null,"GB"]
["NI",null,{"$f":"IF(ISNA(VLOOKUP($A45&C$7,#REF!,19,0)),\"-\",VLOOKUP($A45&C$7,#REF!,19,0))","v":{"$error":"#REF!"}},{"$f":"IF(ISNA(VLOOKUP($A45&D$7,#REF!,19,0)),\"-\",VLOOKUP($A45&D$7,#REF!,19,0))","v":{"$error":"#REF!"}},{"$f":"IF(ISNA(VLOOKUP($A45&E$7,#REF!,19,0)),\"-\",VLOOKUP($A45&E$7,#REF!,19,0))","v":{"$error":"#REF!"}},{"$f":"IF(ISNA(VLOOKUP($A45&F$7,#REF!,19,0)),\"-\",VLOOKUP($A45&F$7,#REF!,19,0))","v":{"$error":"#REF!"}},{"$f":"IF(ISNA(VLOOKUP($A45&G$7,#REF!,19,0)),\"-\",VLOOKUP($A45&G$7,#REF!,19,0))","v":{"$error":"#REF!"}},{"$f":"IF(ISNA(VLOOKUP($A45&H$7,#REF!,19,0)),\"-\",VLOOKUP($A45&H$7,#REF!,19,0))","v":{"$error":"#REF!"}},{"$f":"IF(ISNA(VLOOKUP($A45&I$7,#REF!,19,0)),\"-\",VLOOKUP($A45&I$7,#REF!,19,0))","v":{"$error":"#REF!"}},{"$f":"IF(ISNA(VLOOKUP($A45&J$7,#REF!,19,0)),\"-\",VLOOKUP($A45&J$7,#REF!,19,0))","v":{"$error":"#REF!"}},{"$f":"IF(ISNA(VLOOKUP($A45&K$7,#REF!,19,0)),\"-\",VLOOKUP($A45&K$7,#REF!,19,0))","v":{"$error":"#REF!"}},{"$f":"IF(ISNA(VLOOKUP($A45&L$7,#REF!,19,0)),\"-\",VLOOKUP($A45&L$7,#REF!,19,0))","v":{"$error":"#REF!"}},{"$f":"IF(ISNA(VLOOKUP($A45&M$7,#REF!,19,0)),\"-\",VLOOKUP($A45&M$7,#REF!,19,0))","v":{"$error":"#REF!"}},{"$f":"IF(ISNA(VLOOKUP($A45&N$7,#REF!,19,0)),\"-\",VLOOKUP($A45&N$7,#REF!,19,0))","v":{"$error":"#REF!"}},{"$f":"IF(ISNA(VLOOKUP($A45&O$7,#REF!,19,0)),\"-\",VLOOKUP($A45&O$7,#REF!,19,0))","v":{"$error":"#REF!"}},{"$f":"IF(ISNA(VLOOKUP($A45&P$7,#REF!,19,0)),\"-\",VLOOKUP($A45&P$7,#REF!,19,0))","v":{"$error":"#REF!"}},{"$f":"IF(ISNA(VLOOKUP($A45&Q$7,#REF!,19,0)),\"-\",VLOOKUP($A45&Q$7,#REF!,19,0))","v":{"$error":"#REF!"}},{"$f":"IF(ISNA(VLOOKUP($A45&R$7,#REF!,19,0)),\"-\",VLOOKUP($A45&R$7,#REF!,19,0))","v":{"$error":"#REF!"}},{"$f":"IF(ISNA(VLOOKUP($A45&S$7,#REF!,19,0)),\"-\",VLOOKUP($A45&S$7,#REF!,19,0))","v":{"$error":"#REF!"}},{"$f":"IF(ISNA(VLOOKUP($A45&T$7,#REF!,19,0)),\"-\",VLOOKUP($A45&T$7,#REF!,19,0))","v":{"$error":"#REF!"}},{"$f":"IF(ISNA(VLOOKUP($A45&U$7,#REF!,19,0)),\"-\",VLOOKUP($A45&U$7,#REF!,19,0))","v":{"$error":"#REF!"}},{"$f":"IF(ISNA(VLOOKUP($A45&V$7,#REF!,19,0)),\"-\",VLOOKUP($A45&V$7,#REF!,19,0))","v":{"$error":"#REF!"}},{"$f":"IF(ISNA(VLOOKUP($A45&W$7,#REF!,19,0)),\"-\",VLOOKUP($A45&W$7,#REF!,19,0))","v":{"$error":"#REF!"}},{"$f":"IF(ISNA(VLOOKUP($A45&X$7,#REF!,19,0)),\"-\",VLOOKUP($A45&X$7,#REF!,19,0))","v":{"$error":"#REF!"}},null,null,null,null,"NI"]
["UK",null,{"$f":"IF(ISNA(VLOOKUP($A46&C$7,#REF!,19,0)),\"-\",VLOOKUP($A46&C$7,#REF!,19,0))","v":{"$error":"#REF!"}},{"$f":"IF(ISNA(VLOOKUP($A46&D$7,#REF!,19,0)),\"-\",VLOOKUP($A46&D$7,#REF!,19,0))","v":{"$error":"#REF!"}},{"$f":"IF(ISNA(VLOOKUP($A46&E$7,#REF!,19,0)),\"-\",VLOOKUP($A46&E$7,#REF!,19,0))","v":{"$error":"#REF!"}},{"$f":"IF(ISNA(VLOOKUP($A46&F$7,#REF!,19,0)),\"-\",VLOOKUP($A46&F$7,#REF!,19,0))","v":{"$error":"#REF!"}},{"$f":"IF(ISNA(VLOOKUP($A46&G$7,#REF!,19,0)),\"-\",VLOOKUP($A46&G$7,#REF!,19,0))","v":{"$error":"#REF!"}},{"$f":"IF(ISNA(VLOOKUP($A46&H$7,#REF!,19,0)),\"-\",VLOOKUP($A46&H$7,#REF!,19,0))","v":{"$error":"#REF!"}},{"$f":"IF(ISNA(VLOOKUP($A46&I$7,#REF!,19,0)),\"-\",VLOOKUP($A46&I$7,#REF!,19,0))","v":{"$error":"#REF!"}},{"$f":"IF(ISNA(VLOOKUP($A46&J$7,#REF!,19,0)),\"-\",VLOOKUP($A46&J$7,#REF!,19,0))","v":{"$error":"#REF!"}},{"$f":"IF(ISNA(VLOOKUP($A46&K$7,#REF!,19,0)),\"-\",VLOOKUP($A46&K$7,#REF!,19,0))","v":{"$error":"#REF!"}},{"$f":"IF(ISNA(VLOOKUP($A46&L$7,#REF!,19,0)),\"-\",VLOOKUP($A46&L$7,#REF!,19,0))","v":{"$error":"#REF!"}},{"$f":"IF(ISNA(VLOOKUP($A46&M$7,#REF!,19,0)),\"-\",VLOOKUP($A46&M$7,#REF!,19,0))","v":{"$error":"#REF!"}},{"$f":"IF(ISNA(VLOOKUP($A46&N$7,#REF!,19,0)),\"-\",VLOOKUP($A46&N$7,#REF!,19,0))","v":{"$error":"#REF!"}},{"$f":"IF(ISNA(VLOOKUP($A46&O$7,#REF!,19,0)),\"-\",VLOOKUP($A46&O$7,#REF!,19,0))","v":{"$error":"#REF!"}},{"$f":"IF(ISNA(VLOOKUP($A46&P$7,#REF!,19,0)),\"-\",VLOOKUP($A46&P$7,#REF!,19,0))","v":{"$error":"#REF!"}},{"$f":"IF(ISNA(VLOOKUP($A46&Q$7,#REF!,19,0)),\"-\",VLOOKUP($A46&Q$7,#REF!,19,0))","v":{"$error":"#REF!"}},{"$f":"IF(ISNA(VLOOKUP($A46&R$7,#REF!,19,0)),\"-\",VLOOKUP($A46&R$7,#REF!,19,0))","v":{"$error":"#REF!"}},{"$f":"IF(ISNA(VLOOKUP($A46&S$7,#REF!,19,0)),\"-\",VLOOKUP($A46&S$7,#REF!,19,0))","v":{"$error":"#REF!"}},{"$f":"IF(ISNA(VLOOKUP($A46&T$7,#REF!,19,0)),\"-\",VLOOKUP($A46&T$7,#REF!,19,0))","v":{"$error":"#REF!"}},{"$f":"IF(ISNA(VLOOKUP($A46&U$7,#REF!,19,0)),\"-\",VLOOKUP($A46&U$7,#REF!,19,0))","v":{"$error":"#REF!"}},{"$f":"IF(ISNA(VLOOKUP($A46&V$7,#REF!,19,0)),\"-\",VLOOKUP($A46&V$7,#REF!,19,0))","v":{"$error":"#REF!"}},{"$f":"IF(ISNA(VLOOKUP($A46&W$7,#REF!,19,0)),\"-\",VLOOKUP($A46&W$7,#REF!,19,0))","v":{"$error":"#REF!"}},{"$f":"IF(ISNA(VLOOKUP($A46&X$7,#REF!,19,0)),\"-\",VLOOKUP($A46&X$7,#REF!,19,0))","v":{"$error":"#REF!"}},null,{"$f":"+(X46/W46)-1","v":{"$error":"#REF!"}},-0.88660376989441092,null,"UK"]
["EU"]
[]
["DG-AGRI,  Pig sector"]

{"sheet":"Weekly Piglet prices","index":4,"n_rows":506,"n_cols":43,"rows_kept":506,"cut":false,"hidden":false,"merged":[[7,40,8,41],[3,16,4,25],[5,17,5,25],[507,0,507,2],[8,2,8,8],[66,0,66,39],[14,0,14,39],[7,0,7,1],[9,0,9,1],[10,0,10,1],[11,0,11,1],[12,0,12,1]]}
["EUROPEAN COMMISSION",null,null,null,null,null,null,null,null,null,null,null,null,null,null,null,null,null,null,null,null,null,null,null,null,null,null,null,null,null,null,null,null,null,null,null,null,null,null,null,null,"Week",{"$f":"'[1]Weekly Piglet prices'!AS$1","v":0}]
["Directorate-General for Agriculture and Rural Development"]
["C3. Animal Products"]
[null,null,null,null,null,null,null,null,null,null,null,null,null,null,null,null,"PIGLET PRICE"]
[]
[null,null,null,null,null,null,null,null,null,null,null,null,null,null,null,null,null,"DG-Agri-C3,  Meat sector"]
[null,null,null,null,null,null,null,null,null,null,null," "]
["PIGLET",null,null,null,null,null,null,null,null,null,null,null,null,null,null,null,null,null,null,null,null,null,null,null,null,null,null,null,null,null,null,null,null,null,null,null,null,null,null,null,"€ur / piece"]
[null,null,"Country Code/Currency"]
[2014,null,"BE","BG","BG","CZ","CZ","DK","DK","DE","EE","GR","ES","FR","HR","HR","IE","IT","CY","LV","LT","LT","LU","HU","HU","MT","NL","AT","PL","PL","PT","RO","RO","SI","SK","FI","SE","SE","UK","UK",null,"EU_27"]
["Weightings from 04/07/2011 until 01/07/2012",null,4.0999999999999996,null,null,1.2,null,8.1,null,17.7,0.3,null,17,9.6,0,0,null,6.1,null,null,null,null,0.06,2.1,null,0.04,8,null,9.6999999999999993,null,1.4,null,null,null,0.5,0.9,1,null,2.9,null,null,90.700000000000017]
["Weightings from 02/07/2012 until 30/06/2013",null,4.3,null,null,1,null,8.3000000000000007,null,18.600000000000001,0.2,null,17.3,9.4,0,0,null,6.3,null,null,null,null,7.0000000000000007E-2,2,null,0.03,8.1,null,8.8000000000000007,null,1.3,null,null,null,0.4,0.9,1.1000000000000001,null,2.9,null,null,91]
["Weightings from 01/07/2013\nuntil --/--/----",null,4.4000000000000004,null,null,1,null,8.3000000000000007,null,19.3,0.2,null,17.2,9.4,0.8,null,null,5.9,null,null,null,null,7.0000000000000007E-2,2,null,0.03,8.1999999999999993,null,7.6,null,1.4,null,null,null,0.4,0.9,1,null,2.9,null,null,91.000000000000014]
["Week beginning","Week N°","EUR","EUR","BGN","EUR","CZK","EUR","DKK","EUR","EUR","EUR","EUR","EUR","EUR","HRK","EUR","EUR","EUR","EUR","EUR","LTL","EUR","EUR","HUF","EUR","EUR","EUR","EUR","PLN","EUR","EUR","RON","EUR","EUR","EUR","EUR","SEK","EUR","GBP",null,"EURO","Compare to previous week"]
["2012"]
["2012-01-02",1,44.5,"","",48.126800000000003,1240,43.037400000000005,320,53.2,40.9,"",42.21,35.200000000000003,"","","",65.41,"","","","",45.2,31.500300000000003,10000,80,39,"",36.719900000000003,164.69,28,"","","",66.06,50.31,71.64670000000001,636.53,53.665700000000001,44.59,null,45.00813660418963]
["2012-01-09",2,44,"","",58.373600000000003,1499,41.823399999999999,311,53.7,49.86,"",38.590000000000003,35.800000000000004,"","","",67.14,"","","","",45.2,37.638500000000001,11750,80,39,"",36.709800000000001,163.38,28,"","","",64.06,49.730000000000004,69.238399999999999,612.5,54.501899999999999,45.17,null,44.765696582138915,{"$error":"#DIV/0!"}]
["2012-01-16",3,44.5,"","",58.794200000000004,1499,40.883299999999998,304,54.4,53,"",38.590000000000003,35.6,"","","",68.13,"","","","",45.2,57.091700000000003,17519.080000000002,80,40,"",37.601500000000001,163.72999999999999,28,"","","",65.75,51.2,69.362300000000005,611.84,53.853999999999999,44.84,null,45.540835611907376,1.18356156888344E-2]
["2012-01-23",4,46.5,"","",59.244700000000002,1499,40.888200000000005,304,57.1,39.4,"",38.81,35.800000000000004,"","","",68.91,"","","","",47.7,41.865400000000001,12500,80,43,"",39.027999999999999,166.64000000000001,27,"","","",65.790000000000006,52.43,69.149500000000003,611.23,53.3932,44.61,null,46.280614994487301,3.3841055272505693E-2]
["2012-01-30",5,47.5,"","",59.602400000000003,1499,40.894800000000004,304,58.800000000000004,39.08,"",40.11,36.6,"","","",69.790000000000006,"","","","",40,42.6235,12500,80,45.5,"",40.070700000000002,168.79,27,"","","",62.02,53.88,68.610900000000001,609.02,53.529400000000003,44.59,null,47.385855126791625,4.0513519132745923E-2]
["2012-02-06",6,48.5,"","",59.846800000000002,1499,41.571899999999999,309,59.7,53.57,"",41.37,37.200000000000003,"","","",70.31,"","","","",41.7,49.653200000000005,14500,80,47,"",40.2684,168.9,27,"","","",58.4,51.95,68.636700000000005,605.16,53.435500000000005,44.54,null,48.328471885336263,4.4248696589120451E-2]
["2012-02-13",7,49,"","",59.678000000000004,1499,42.513400000000004,316,60.7,41.04,"",46.81,38,"","","",71.03,"","","","",46.5,53.544600000000003,15600,80,47.5,"",39.922200000000004,167.62,30,"","","",68.710000000000008,50.51,73.967600000000004,651.48,53.403000000000006,44.54,null,49.986289305402408,5.487785693964442E-2]
["2012-02-20",8,49.5,"","",67.069000000000003,1678,42.4983,316,61.5,35.6,"",44.02,38.800000000000004,"","","",71.81,"","","","",45.5,46.751899999999999,13500,80,47.5,"",41.133400000000002,171.78,30,"","","",63.01,54.43,69.030600000000007,608.69000000000005,53.06,44.65,null,49.771329658213887,2.985523267321466E-2]
["2012-02-27",9,49.5,"","",67.4422,1678,42.5,316,62.1,39.46,"",45.410000000000004,39.6,"","","",72.260000000000005,"","","","",41.1,58.781800000000004,17006.760000000002,80,47.5,"",41.640700000000002,172.11,30,"","","",66.69,55.25,71.705700000000007,632.74,53.131100000000004,44.67,null,50.671809261300986,1.3714159731086362E-2]
["2012-03-05",10,49.5,"","",67.728000000000009,1678,41.293300000000002,307,62.2,44.84,"",46.84,40.200000000000003,"","","",72.56,"","","","",43.9,61.554400000000001,18000,80,47.5,"",41.477200000000003,171,31,"","","",67.59,54.81,70.261400000000009,624.21,53.9129,45.02,null,51.030509592061726,2.5299302680775959E-2]
["2012-03-12",11,49.5,"","",68.267700000000005,1678,41.290600000000005,307,62.4,38.340000000000003,"",46.84,40.4,"","","",72.8,"","","","",48.4,52.426000000000002,15312.5,80,47.5,"",43.184800000000003,178.21,31,"","","",68.040000000000006,53.94,72.255499999999998,642.44000000000005,54.670700000000004,45.57,null,51.106557772877615,8.5796919019556217E-3]
["2012-03-19",12,49.5,"","",67.18780000000001,1654,41.288200000000003,307,62.300000000000004,42.4,"",48.28,40.6,"","","",72.97,"","","","",47.2,63.476000000000006,18530,80,47.5,"",42.509800000000006,176.33,31,"","","",73.75,53.31,70.545699999999997,628.24,55.126100000000001,45.92,null,51.592269349503837,1.1008311732193521E-2]
["2012-03-26",13,49.5,"","",54.566300000000005,1347,42.220600000000005,314,62.2,38.800000000000004,"",47.32,41,"","","",73.010000000000005,"","","","",44.9,66.800899999999999,19618.18,80,47.5,"",43.575200000000002,180.93,31,"","","",66.38,55.86,71.611199999999997,635.91999999999996,54.982900000000001,45.95,null,51.523465931642768,8.1576254972588469E-3]
["2012-04-02",14,50,"","",48.804900000000004,1205,42.8765,319,62.5,39.950000000000003,"",46.97,41,"","","",73.010000000000005,"","","","",46.6,47.672699999999999,14078.43,80,47.5,"",42.932000000000002,178.47,31,"","","",70.75,55.02,73.956800000000001,651.91,55.446100000000001,45.93,null,51.071048401323033,-1.0102694739978824E-2]
["2012-04-09",15,50,"","",60.578400000000002,1500,42.882600000000004,319,62.4,44.39,"",46.97,40.800000000000004,"","","",73.010000000000005,"","","","",46.6,48.8733,14500,80,47.5,"",43.8249,183.11,31,"","","",64.03,52.46,76.189700000000002,675.77,55.655300000000004,45.92,null,51.293513450937141,-4.4630631217765782E-3]
["2012-04-16",16,50,"","",57.865500000000004,1437,42.882600000000004,319,62.4,37.78,"",46.9,40.200000000000003,"","","",73.010000000000005,"","","","",46.5,68.947400000000002,20493.420000000002,80,47.5,"",44.02,184.36,32,"","","",67.94,55.67,74.3857,659.16,56.003399999999999,45.96,null,51.704793384784992,1.2409085055037572E-2]
["2012-04-23",17,49.5,"","",57.723800000000004,1437,42.880600000000001,319,62.300000000000004,38.200000000000003,"",46.9,39.800000000000004,"","","",73.06,"","","","",45.300000000000004,51.387700000000002,15000,80,47.5,"",44.395099999999999,185.89000000000001,32,"","","",64.56,51.79,73.668599999999998,654.24,55.5259,45.35,null,51.175488092612987,-2.3009801899619431E-3]
["2012-04-30",18,49.5,"","",52.795100000000005,1316,43.9617,327,62.300000000000004,38.6,"",46.31,38.200000000000003,"","","",72.989999999999995,"","","","",49.6,54.965200000000003,15681.82,80,47.5,"",44.736900000000006,186.76,32,"","","",46.08,55.96,74.866500000000002,666.39,55.843500000000006,45.38,null,51.008604079382565,-1.3464695627374734E-2]
["2012-05-07",19,47.5,"","",63.165800000000004,1589,43.980000000000004,327,59.5,44.14,"",45.42,36.6,"","","",72.67,"","","","",39.5,52.067800000000005,15000,80,44.5,"",43.920700000000004,185.11,30,"","","",69.14,56.31,72.607900000000001,648.55000000000007,56.166700000000006,45.24,null,49.830754796030845,-2.6276902218276055E-2]
["2012-05-14",20,47,"","",56.612900000000003,1438,43.319600000000001,322,59,37.57,"",43.2,35.4,"","","",72.040000000000006,"","","","",41.7,57.962800000000001,17062.5,80,41.5,"",42.6066,184.05,30,"","","",65.42,53.63,73.507100000000008,666.41,55.245600000000003,44.29,null,48.623853142227112,-4.6751934897966696E-2]
["2012-05-21",21,47,"","",59.876200000000004,1519,43.328200000000002,322,59,37.200000000000003,"",42.480000000000004,34.4,"","","",70.960000000000008,"","","","",43.6,51.787300000000002,15500,80,40.5,"",41.588200000000001,180.73,30,"","","",65,57.1,73.948000000000008,669.02,55.003700000000002,44.21,null,48.043544211686871,-3.5865613347810021E-2]
["2012-05-28",22,46.5,"","",61.5732,1576,44.408999999999999,330,58.7,42.53,"",42.12,34.800000000000004,"","","",69.69,"","","","",44.7,50.2164,15134.15,80,40.5,"",41.373600000000003,181.20000000000002,30,"","","",68.44,55.31,74.821399999999997,672.30000000000007,55.014300000000006,44.07,null,47.941025027563377,-1.4043068793137992E-2]
["2012-06-04",23,46.5,"","",62.303200000000004,1594,45.3461,337,57.1,38.200000000000003,"",42.32,35,"","","",68.84,"","","","",44.7,45.043900000000001,13510.2,80,40.5,"",41.210500000000003,179,30,"","","",61.97,55.71,77.116,693.05000000000007,53.617600000000003,43.31,null,47.521040022050698,-1.0875637886621048E-2]
["2012-06-11",24,45.5,"","",70.602699999999999,1804,45.210900000000002,336,56.5,49.57,"",42.660000000000004,34.200000000000003,"","","",67.5,"","","","",41.2,51.5702,15300,80,39.5,"",40.889900000000004,176.15,30,"","","",68.59,58.45,77.923299999999998,690.69,53.377000000000002,43.15,null,47.474207056229325,-9.7373381371311796E-3]
["2012-06-18",25,43.5,"","",73.21520000000001,1875,45.203000000000003,336,53.4,36.51,"",42.660000000000004,33.4,"","","",66.41,"","","","",45.2,53.555100000000003,15500,80,38,"",41.562200000000004,177.16,30,"","","",66.98,57.120000000000005,76.686199999999999,677,53.413499999999999,43.07,null,46.565170231532505,-2.0114664790051973E-2]
["2012-06-25",26,42.5,"","",58.230900000000005,1502,45.604199999999999,339,52.2,38.47,"",42.47,32.799999999999997,"","","",64.91,"","","","",42.2,54.943200000000004,15794.12,80,34.5,"",40.744900000000001,173.43,30,"","","",48.94,57.81,77.9666,686.2,52.6464,42.26,null,45.460876626240349,-4.2408932235652674E-2]
["2012-07-02",27,41.5,"","",60.474600000000002,1547,45.5839,339,51.1,39,"",42.07,32.200000000000003,"","","",63.61,"","","","",46.9,47.605000000000004,13647.06,80,32.5,"",41.260600000000004,174,30,"","","",66.180000000000007,55.69,80.410300000000007,699.2,52.822200000000002,42.32,null,44.823242668136707,-3.740837958359311E-2]
["2012-07-09",28,40,"","",61.403500000000001,1564,45.574800000000003,339,48.6,48.4,"",41.730000000000004,31.400000000000002,"","","",63.06,"","","","",43.6,45.0366,13000,80,30,"",41.675600000000003,175.31,30,"","","",46.67,57.230000000000004,80.215699999999998,688.96,52.329700000000003,41.37,null,43.77680363836825,-3.704444596873524E-2]
["2012-07-16",29,37.5,"","",61.549900000000001,1564,45.567500000000003,339,46.2,42.65,"",40.450000000000003,30.8,"","","",62.230000000000004,"","","","",45.300000000000004,45.446800000000003,13022.470000000001,80,28,"",42.360199999999999,176.88,30,"","","",72.489999999999995,58.050000000000004,83.834100000000007,715.02,52.138500000000001,40.83,null,42.91014994487319,-4.2680819355880084E-2]
["2012-07-23",30,37.5,"","",61.377000000000002,1564,45.570500000000003,339,45.800000000000004,37.200000000000003,"",40.450000000000003,30.8,"","","",61.86,"","","","",43.4,48.952000000000005,14000,80,28,"",42.330800000000004,176.41,30,"","","",59.1,57.03,84.290599999999998,713.31000000000006,51.406700000000001,40.160000000000004,null,42.761614553472981,-2.3190114410397533E-2]
["2012-07-30",31,37.5,"","",61.849299999999999,1564,46.635600000000004,347,46.1,39.4,"",38.44,29.400000000000002,"","","",60.800000000000004,"","","","",43.4,35.9467,10062.5,80,28,"",43.1464,177.15,30,"","","",65.44,59.1,85.468900000000005,713.31000000000006,50.887800000000006,39.980000000000004,null,42.170597464167557,-1.7234907863424853E-2]
["2012-08-06",32,38,"","",64.688699999999997,1629,44.876100000000001,334,47.1,38.94,"",36.07,27,"","","",60.370000000000005,"","","","",41.300000000000004,45.625500000000002,12672.41,80,28,"",43.688600000000001,178.03,30,"","","",73.710000000000008,59.65,83.390300000000011,689.77,50.2575,39.660000000000004,null,41.828774751929423,-2.1814887283478246E-2]
["2012-08-13",33,39.5,"","",53.307400000000001,1335,46.076599999999999,343,49,47.06,"",35.31,26.400000000000002,"","","",60.370000000000005,"","","","",43.7,45.973100000000002,12819.67,85.4,29.5,"",42.924800000000005,175.3,30,"","","",60.71,58.61,84.608900000000006,697.42,50.0428,39.270000000000003,null,42.032121609702301,-3.2837062501407388E-3]
["2012-08-20",34,41.5,"","",53.586500000000001,1335,46.058100000000003,343,51.2,37.03,"",35.160000000000004,25.8,"","","",59.96,"","","","",43.7,45.693899999999999,12672.41,85.4,31.5,"",44.007800000000003,179.64000000000001,32,"","","",68.36,59.14,85.438800000000001,706.80000000000007,49.728900000000003,39.18,null,42.764706394707822,2.2375306193620492E-2]
["2012-08-27",35,43.5,"","",71.896600000000007,1787,47.653000000000006,355,53.6,41.300000000000004,"",37.03,25.6,"","","",59.96,"","","","",43.9,38.844500000000004,10946.43,85.4,34.5,"",43.772500000000001,181.26,33,"","","",55.5,58.4,86.520800000000008,717.9,49.339300000000001,39.119999999999997,null,44.069268908489512,4.8466439969496511E-2]
["2012-09-03",36,44,"","",72.187399999999997,1787,47.5077,354,54.2,38.6,"",38.25,26.6,"","","",59.96,"","","","",45.4,36.463900000000002,10404.41,85.4,35.5,"",44.305199999999999,184.64000000000001,34,"","","",82.79,59.88,83.193899999999999,702.12,49.111800000000002,38.980000000000004,null,44.753065049614101,4.6495318746122338E-2]
["2012-09-10",37,44,"","",61.2821,1501,47.497399999999999,354,54.6,44.85,"",38.660000000000004,28.400000000000002,"","","",59.99,"","","","",43,35.217500000000001,10000,85.4,36,"",45.373899999999999,185.79,34,"","","",65.63,58.85,78.714200000000005,670.38,48.618600000000001,38.980000000000004,null,44.933949062844526,1.9620932585710404E-2]
["2012-09-17",38,44,"","",75.808800000000005,1875,48.559100000000001,362,54.7,37.300000000000004,"",39.06,29.400000000000002,"","","",60.160000000000004,"","","","",40.4,51.476900000000001,14564.52,85.4,36,"",45.194500000000005,186.18,34,"","","",67.19,58.11,79.671400000000006,680.42,48.592300000000002,39,null,45.774272105843437,2.2818706497470309E-2]
["2012-09-24",39,44,"","",67.401700000000005,1683,48.552600000000005,362,56.1,37.910000000000004,"",40.61,30.6,"","","",60.370000000000005,"","","","",44,32.887,9346.15,85.4,36,"",44.8645,185.38,34,"","","",48.52,59.54,86.039000000000001,729,49.09,39.11,null,45.903400771775082,2.157503912186054E-2]
["2012-10-01",40,44,"","",67.641000000000005,1692,49.224299999999999,367,55.9,37.6,"",41.72,32.200000000000003,"","","",60.99,"","","","",44.2,35.456600000000002,10094.200000000001,85.4,36,"",45.213700000000003,184.97,34,"","","",71.040000000000006,59.81,80.96220000000001,691.88,49.801600000000001,39.9,null,46.536170011025348,1.6644675494133176E-2]
["2012-10-08",41,45,"","",70.986199999999997,1770,49.2102,367,56.300000000000004,42.21,"",42.53,32.6,"","","",61.56,"","","","",46.5,36.217400000000005,10227.27,85.4,36,"",45.282400000000003,185,34,"","","",79.81,58.550000000000004,81.487499999999997,703.42,50.427500000000002,40.65,null,47.038303528114653,2.4723718444786602E-2]
["2012-10-15",42,44.5,"","",71.226500000000001,1770,49.201500000000003,367,56,36.6,"",43.53,32.6,"","","",62.71,"","","","",43.7,46.26,12908.050000000001,87.24,34.5,"",45.593800000000002,186.91,34,"","","",77.55,57.38,79.415300000000002,684.74,50.668600000000005,41.06,null,47.299047960308691,1.6393225938073686E-2]
["2012-10-22",43,43.5,"","",64.938299999999998,1617,49.203200000000002,367,56,37.92,"",44.33,31.8,"","","",63.440000000000005,"","","","",47.5,35.619199999999999,10000,85.4,34.5,"",45.361699999999999,187.43,34,"","","",69.37,58.49,82.17580000000001,709.9,52.334500000000006,42.29,null,47.069664167585437,6.6670430518489532E-4]
["2012-10-29",44,43,"","",65.698300000000003,1649,48.259900000000002,360,56,39.369999999999997,"",44.11,31,"","","",64.16,"","","","",46,34.497700000000002,9761.9,85.4,34,"",44.7746,184.94,36,"","","",76.42,58.410000000000004,83.268600000000006,717.79,52.816600000000001,42.44,null,46.862741786108039,-9.2244176789093579E-3]
["2012-11-05",45,43,"","",65.074600000000004,1649,46.518799999999999,347,56,44.480000000000004,"",43.87,30.6,"","","",64.89,"","","","",37.1,33.122700000000002,9375,87.14,34,"",45.470200000000006,188.20000000000002,37,"","","",67.91,57.300000000000004,80.176100000000005,686.66,55.3551,44.22,null,46.719690187431084,-7.4352342712349362E-3]
["2012-11-12",46,43.5,"","",61.584300000000006,1569,46.526700000000005,347,56.5,37.6,"",43.97,30.6,"","","",65.180000000000007,"","","","",41.300000000000004,48.162500000000001,13692.31,87.14,35,"",44.0184,183.5,37,"","","",75.64,58.97,83.649799999999999,721.01,56.081300000000006,44.96,null,47.214524035281144,7.5066510358852145E-3]
["2012-11-19",47,43.5,"","",65.462100000000007,1664,46.5276,347,56.9,35.300000000000004,"",44.26,31,"","","",65.44,"","","","",45.2,37.084099999999999,10439.02,87.14,35.5,"",44.754300000000001,184.82,37,"","","",72.73,58.71,86.705100000000002,747.42,55.981100000000005,45.12,null,47.331282138919498,1.3090667961084934E-2]
["2012-11-26",48,43.5,"","",65.826099999999997,1664,47.593000000000004,355,56.9,36.6,"",44.7,29.8,"","","",65.06,"","","","",44.4,41.234100000000005,11574.07,87.14,35.5,"",43.969799999999999,180.45000000000002,37,"","","",67.960000000000008,60.82,82.310100000000006,710.05000000000007,56.398700000000005,45.660000000000004,null,47.33663969128996,2.5864002339104353E-3]
["2012-12-03",49,43.5,"","",65.32650000000001,1648,47.722900000000003,356,57,43.79,"",45.17,29.6,"","","",65.540000000000006,"","","","",48,38.371600000000001,10850,87.14,35.5,"",43.726199999999999,180.29,37,"","","",68.63,55.01,83.965900000000005,725.24,56.857700000000001,46.06,null,47.373160088202852,8.8478374958111949E-4]
["2012-12-10",50,43.5,"","",65.26400000000001,1648,46.915600000000005,350,57,38.01,"",45.99,29.6,"","","",65.5,"","","","",46.2,38.830800000000004,11000,87.14,35.5,"",42.8765,175.85,37,"","","",71.41,59.02,83.836600000000004,728.11,57.014900000000004,46.09,null,47.409407938257985,1.5372499493540026E-3]
["2012-12-17",51,43.5,"","",65.355000000000004,1648,45.972100000000005,343,57,37.03,"",47.550000000000004,30,"","","",65.5,"","","","",53.6,45.272500000000001,12978.26,91.320000000000007,35.5,"",42.811500000000002,174.57,39,"","","",65.67,58.43,83.108900000000006,721.34,56.647500000000001,46.09,null,47.78037772877618,8.5959568628131144E-3]
["2013"]
["2012-12-24",52,{"$f":"'[1]Weekly Piglet prices'!C68","v":43.5},{"$f":"'[1]Weekly Piglet prices'!D68","v":""},{"$f":"'[1]Weekly Piglet prices'!E68","v":""},{"$f":"'[1]Weekly Piglet prices'!F68","v":65.558500000000009},{"$f":"'[1]Weekly Piglet prices'!G68","v":1648},{"$f":"'[1]Weekly Piglet prices'!H68","v":44.096299999999999},{"$f":"'[1]Weekly Piglet prices'!I68","v":329},{"$f":"'[1]Weekly Piglet prices'!J68","v":55.5},{"$f":"'[1]Weekly Piglet prices'!K68","v":38.200000000000003},{"$f":"'[1]Weekly Piglet prices'!L68","v":""},{"$f":"'[1]Weekly Piglet prices'!M68","v":48.44},{"$f":"'[1]Weekly Piglet prices'!N68","v":30},{"$f":"'[1]Weekly Piglet prices'!O68","v":""},{"$f":"'[1]Weekly Piglet prices'!P68","v":""},{"$f":"'[1]Weekly Piglet prices'!Q68","v":""},{"$f":"'[1]Weekly Piglet prices'!R68","v":65.5},{"$f":"'[1]Weekly Piglet prices'!S68","v":""},{"$f":"'[1]Weekly Piglet prices'!T68","v":""},{"$f":"'[1]Weekly Piglet prices'!V68","v":""},{"$f":"'[1]Weekly Piglet prices'!W68","v":48.9},{"$f":"'[1]Weekly Piglet prices'!X68","v":44.735400000000006},{"$f":"'[1]Weekly Piglet prices'!Z68","v":91.320000000000007},{"$f":"'[1]Weekly Piglet prices'!AA68","v":35.5},{"$f":"'[1]Weekly Piglet prices'!AB68","v":""},{"$f":"'[1]Weekly Piglet prices'!AC68","v":43.474200000000003},{"$f":"'[1]Weekly Piglet prices'!AD68","v":177.25},{"$f":"'[1]Weekly Piglet prices'!AE68","v":40},{"$f":"'[1]Weekly Piglet prices'!AF68","v":""},{"$f":"'[1]Weekly Piglet prices'!AG68","v":""},{"$f":"'[1]Weekly Piglet prices'!AH68","v":""},{"$f":"'[1]Weekly Piglet prices'!AI68","v":65.67},{"$f":"'[1]Weekly Piglet prices'!AJ68","v":59.68},{"$f":"'[1]Weekly Piglet prices'!AK68","v":85.458200000000005},{"$f":"'[1]Weekly Piglet prices'!AL68","v":735.45},{"$f":"'[1]Weekly Piglet prices'!AM68","v":56.5458},{"$f":"'[1]Weekly Piglet prices'!AN68","v":46.21},{"$f":"'[1]Weekly Piglet prices'!AO68","v":0},{"$f":"'[1]Weekly Piglet prices'!AP68","v":47.768494395604399},null,{"$f":"'[1]Weekly Piglet prices'!AR68","v":0},{"$f":"'[1]Weekly Piglet prices'!AS68","v":0}]
["2012-12-31",1,{"$f":"'[1]Weekly Piglet prices'!C69","v":48.5},{"$f":"'[1]Weekly Piglet prices'!D69","v":""},{"$f":"'[1]Weekly Piglet prices'!E69","v":""},{"$f":"'[1]Weekly Piglet prices'!F69","v":62.418600000000005},{"$f":"'[1]Weekly Piglet prices'!G69","v":1575},{"$f":"'[1]Weekly Piglet prices'!H69","v":44.099200000000003},{"$f":"'[1]Weekly Piglet prices'!I69","v":329},{"$f":"'[1]Weekly Piglet prices'!J69","v":56.9},{"$f":"'[1]Weekly Piglet prices'!K69","v":40.800000000000004},{"$f":"'[1]Weekly Piglet prices'!L69","v":""},{"$f":"'[1]Weekly Piglet prices'!M69","v":46.300000000000004},{"$f":"'[1]Weekly Piglet prices'!N69","v":30.400000000000002},{"$f":"'[1]Weekly Piglet prices'!O69","v":""},{"$f":"'[1]Weekly Piglet prices'!P69","v":""},{"$f":"'[1]Weekly Piglet prices'!Q69","v":""},{"$f":"'[1]Weekly Piglet prices'!R69","v":65.510000000000005},{"$f":"'[1]Weekly Piglet prices'!S69","v":""},{"$f":"'[1]Weekly Piglet prices'!T69","v":""},{"$f":"'[1]Weekly Piglet prices'!V69","v":""},{"$f":"'[1]Weekly Piglet prices'!W69","v":45.4},{"$f":"'[1]Weekly Piglet prices'!X69","v":41.250900000000001},{"$f":"'[1]Weekly Piglet prices'!Z69","v":91.320000000000007},{"$f":"'[1]Weekly Piglet prices'!AA69","v":41.5},{"$f":"'[1]Weekly Piglet prices'!AB69","v":""},{"$f":"'[1]Weekly Piglet prices'!AC69","v":43.854199999999999},{"$f":"'[1]Weekly Piglet prices'!AD69","v":179.32},{"$f":"'[1]Weekly Piglet prices'!AE69","v":40},{"$f":"'[1]Weekly Piglet prices'!AF69","v":""},{"$f":"'[1]Weekly Piglet prices'!AG69","v":""},{"$f":"'[1]Weekly Piglet prices'!AH69","v":""},{"$f":"'[1]Weekly Piglet prices'!AI69","v":65.67},{"$f":"'[1]Weekly Piglet prices'!AJ69","v":58.6},{"$f":"'[1]Weekly Piglet prices'!AK69","v":84.990700000000004},{"$f":"'[1]Weekly Piglet prices'!AL69","v":727.25},{"$f":"'[1]Weekly Piglet prices'!AM69","v":56.764100000000006},{"$f":"'[1]Weekly Piglet prices'!AN69","v":46.21},{"$f":"'[1]Weekly Piglet prices'!AO69","v":0},{"$f":"'[1]Weekly Piglet prices'!AP69","v":48.379725054945062},null,{"$f":"'[1]Weekly Piglet prices'!AR69","v":0},{"$f":"'[1]Weekly Piglet prices'!AS69","v":0}]
[{"$f":"A69+7","v":"2013-01-07"},{"$f":"B69+1","v":2},{"$f":"'[1]Weekly Piglet prices'!C70","v":48.5},{"$f":"'[1]Weekly Piglet prices'!D70","v":""},{"$f":"'[1]Weekly Piglet prices'!E70","v":""},{"$f":"'[1]Weekly Piglet prices'!F70","v":61.6387},{"$f":"'[1]Weekly Piglet prices'!G70","v":1575},{"$f":"'[1]Weekly Piglet prices'!H70","v":44.368400000000001},{"$f":"'[1]Weekly Piglet prices'!I70","v":331},{"$f":"'[1]Weekly Piglet prices'!J70","v":56.9},{"$f":"'[1]Weekly Piglet prices'!K70","v":36.71},{"$f":"'[1]Weekly Piglet prices'!L70","v":""},{"$f":"'[1]Weekly Piglet prices'!M70","v":47.39},{"$f":"'[1]Weekly Piglet prices'!N70","v":31},{"$f":"'[1]Weekly Piglet prices'!O70","v":""},{"$f":"'[1]Weekly Piglet prices'!P70","v":""},{"$f":"'[1]Weekly Piglet prices'!Q70","v":""},{"$f":"'[1]Weekly Piglet prices'!R70","v":65.540000000000006},{"$f":"'[1]Weekly Piglet prices'!S70","v":""},{"$f":"'[1]Weekly Piglet prices'!T70","v":""},{"$f":"'[1]Weekly Piglet prices'!V70","v":""},{"$f":"'[1]Weekly Piglet prices'!W70","v":45.4},{"$f":"'[1]Weekly Piglet prices'!X70","v":39.257000000000005},{"$f":"'[1]Weekly Piglet prices'!Z70","v":91.320000000000007},{"$f":"'[1]Weekly Piglet prices'!AA70","v":41.5},{"$f":"'[1]Weekly Piglet prices'!AB70","v":""},{"$f":"'[1]Weekly Piglet prices'!AC70","v":43.378},{"$f":"'[1]Weekly Piglet prices'!AD70","v":178.21},{"$f":"'[1]Weekly Piglet prices'!AE70","v":40},{"$f":"'[1]Weekly Piglet prices'!AF70","v":""},{"$f":"'[1]Weekly Piglet prices'!AG70","v":""},{"$f":"'[1]Weekly Piglet prices'!AH70","v":""},{"$f":"'[1]Weekly Piglet prices'!AI70","v":75},{"$f":"'[1]Weekly Piglet prices'!AJ70","v":58.27},{"$f":"'[1]Weekly Piglet prices'!AK70","v":84.601300000000009},{"$f":"'[1]Weekly Piglet prices'!AL70","v":725.56000000000006},{"$f":"'[1]Weekly Piglet prices'!AM70","v":56.701300000000003},{"$f":"'[1]Weekly Piglet prices'!AN70","v":46.31},{"$f":"'[1]Weekly Piglet prices'!AO70","v":0},{"$f":"'[1]Weekly Piglet prices'!AP70","v":48.599160659340662},null,{"$f":"'[1]Weekly Piglet prices'!AR70","v":0},{"$f":"'[1]Weekly Piglet prices'!AS70","v":0}]
[{"$f":"A70+7","v":"2013-01-14"},{"$f":"B70+1","v":3},{"$f":"'[1]Weekly Piglet prices'!C71","v":49},{"$f":"'[1]Weekly Piglet prices'!D71","v":""},{"$f":"'[1]Weekly Piglet prices'!E71","v":""},{"$f":"'[1]Weekly Piglet prices'!F71","v":61.511400000000002},{"$f":"'[1]Weekly Piglet prices'!G71","v":1575},{"$f":"'[1]Weekly Piglet prices'!H71","v":43.283200000000001},{"$f":"'[1]Weekly Piglet prices'!I71","v":323},{"$f":"'[1]Weekly Piglet prices'!J71","v":56.9},{"$f":"'[1]Weekly Piglet prices'!K71","v":41.65},{"$f":"'[1]Weekly Piglet prices'!L71","v":""},{"$f":"'[1]Weekly Piglet prices'!M71","v":48.52},{"$f":"'[1]Weekly Piglet prices'!N71","v":32},{"$f":"'[1]Weekly Piglet prices'!O71","v":""},{"$f":"'[1]Weekly Piglet prices'!P71","v":""},{"$f":"'[1]Weekly Piglet prices'!Q71","v":""},{"$f":"'[1]Weekly Piglet prices'!R71","v":65.710000000000008},{"$f":"'[1]Weekly Piglet prices'!S71","v":""},{"$f":"'[1]Weekly Piglet prices'!T71","v":""},{"$f":"'[1]Weekly Piglet prices'!V71","v":""},{"$f":"'[1]Weekly Piglet prices'!W71","v":45.4},{"$f":"'[1]Weekly Piglet prices'!X71","v":51.008300000000006},{"$f":"'[1]Weekly Piglet prices'!Z71","v":91.320000000000007},{"$f":"'[1]Weekly Piglet prices'!AA71","v":41.5},{"$f":"'[1]Weekly Piglet prices'!AB71","v":""},{"$f":"'[1]Weekly Piglet prices'!AC71","v":41.664300000000004},{"$f":"'[1]Weekly Piglet prices'!AD71","v":171.91},{"$f":"'[1]Weekly Piglet prices'!AE71","v":36},{"$f":"'[1]Weekly Piglet prices'!AF71","v":""},{"$f":"'[1]Weekly Piglet prices'!AG71","v":""},{"$f":"'[1]Weekly Piglet prices'!AH71","v":""},{"$f":"'[1]Weekly Piglet prices'!AI71","v":69.19},{"$f":"'[1]Weekly Piglet prices'!AJ71","v":55},{"$f":"'[1]Weekly Piglet prices'!AK71","v":85.312100000000001},{"$f":"'[1]Weekly Piglet prices'!AL71","v":737.12},{"$f":"'[1]Weekly Piglet prices'!AM71","v":55.704300000000003},{"$f":"'[1]Weekly Piglet prices'!AN71","v":46.34},{"$f":"'[1]Weekly Piglet prices'!AO71","v":0},{"$f":"'[1]Weekly Piglet prices'!AP71","v":48.817503076923089},null,{"$f":"'[1]Weekly Piglet prices'!AR71","v":0},{"$f":"'[1]Weekly Piglet prices'!AS71","v":0}]
["2013-01-21",4,{"$f":"'[1]Weekly Piglet prices'!C72","v":49},{"$f":"'[1]Weekly Piglet prices'!D72","v":""},{"$f":"'[1]Weekly Piglet prices'!E72","v":""},{"$f":"'[1]Weekly Piglet prices'!F72","v":62.472799999999999},{"$f":"'[1]Weekly Piglet prices'!G72","v":1600},{"$f":"'[1]Weekly Piglet prices'!H72","v":45.960900000000002},{"$f":"'[1]Weekly Piglet prices'!I72","v":343},{"$f":"'[1]Weekly Piglet prices'!J72","v":56.9},{"$f":"'[1]Weekly Piglet prices'!K72","v":38.340000000000003},{"$f":"'[1]Weekly Piglet prices'!L72","v":""},{"$f":"'[1]Weekly Piglet prices'!M72","v":49.230000000000004},{"$f":"'[1]Weekly Piglet prices'!N72","v":32.4},{"$f":"'[1]Weekly Piglet prices'!O72","v":""},{"$f":"'[1]Weekly Piglet prices'!P72","v":""},{"$f":"'[1]Weekly Piglet prices'!Q72","v":""},{"$f":"'[1]Weekly Piglet prices'!R72","v":66.290000000000006},{"$f":"'[1]Weekly Piglet prices'!S72","v":""},{"$f":"'[1]Weekly Piglet prices'!T72","v":""},{"$f":"'[1]Weekly Piglet prices'!V72","v":""},{"$f":"'[1]Weekly Piglet prices'!W72","v":48.4},{"$f":"'[1]Weekly Piglet prices'!X72","v":47.406200000000005},{"$f":"'[1]Weekly Piglet prices'!Z72","v":91.320000000000007},{"$f":"'[1]Weekly Piglet prices'!AA72","v":41.5},{"$f":"'[1]Weekly Piglet prices'!AB72","v":""},{"$f":"'[1]Weekly Piglet prices'!AC72","v":40.728000000000002},{"$f":"'[1]Weekly Piglet prices'!AD72","v":169.88},{"$f":"'[1]Weekly Piglet prices'!AE72","v":36},{"$f":"'[1]Weekly Piglet prices'!AF72","v":""},{"$f":"'[1]Weekly Piglet prices'!AG72","v":""},{"$f":"'[1]Weekly Piglet prices'!AH72","v":""},{"$f":"'[1]Weekly Piglet prices'!AI72","v":69.19},{"$f":"'[1]Weekly Piglet prices'!AJ72","v":59.61},{"$f":"'[1]Weekly Piglet prices'!AK72","v":83.957000000000008},{"$f":"'[1]Weekly Piglet prices'!AL72","v":729.29},{"$f":"'[1]Weekly Piglet prices'!AM72","v":54.961300000000001},{"$f":"'[1]Weekly Piglet prices'!AN72","v":46.35},{"$f":"'[1]Weekly Piglet prices'!AO72","v":0},{"$f":"'[1]Weekly Piglet prices'!AP72","v":49.119605934065945},null,{"$f":"'[1]Weekly Piglet prices'!AR72","v":0},{"$f":"'[1]Weekly Piglet prices'!AS72","v":0}]
["2013-01-28",5,{"$f":"'[1]Weekly Piglet prices'!C73","v":50},{"$f":"'[1]Weekly Piglet prices'!D73","v":""},{"$f":"'[1]Weekly Piglet prices'!E73","v":""},{"$f":"'[1]Weekly Piglet prices'!F73","v":62.395200000000003},{"$f":"'[1]Weekly Piglet prices'!G73","v":1600},{"$f":"'[1]Weekly Piglet prices'!H73","v":42.621300000000005},{"$f":"'[1]Weekly Piglet prices'!I73","v":318},{"$f":"'[1]Weekly Piglet prices'!J73","v":56.9},{"$f":"'[1]Weekly Piglet prices'!K73","v":38.800000000000004},{"$f":"'[1]Weekly Piglet prices'!L73","v":""},{"$f":"'[1]Weekly Piglet prices'!M73","v":49.870000000000005},{"$f":"'[1]Weekly Piglet prices'!N73","v":33.4},{"$f":"'[1]Weekly Piglet prices'!O73","v":""},{"$f":"'[1]Weekly Piglet prices'!P73","v":""},{"$f":"'[1]Weekly Piglet prices'!Q73","v":""},{"$f":"'[1]Weekly Piglet prices'!R73","v":67.11},{"$f":"'[1]Weekly Piglet prices'!S73","v":""},{"$f":"'[1]Weekly Piglet prices'!T73","v":""},{"$f":"'[1]Weekly Piglet prices'!V73","v":""},{"$f":"'[1]Weekly Piglet prices'!W73","v":44.800000000000004},{"$f":"'[1]Weekly Piglet prices'!X73","v":39.719200000000001},{"$f":"'[1]Weekly Piglet prices'!Z73","v":91.320000000000007},{"$f":"'[1]Weekly Piglet prices'!AA73","v":42.5},{"$f":"'[1]Weekly Piglet prices'!AB73","v":""},{"$f":"'[1]Weekly Piglet prices'!AC73","v":40.081800000000001},{"$f":"'[1]Weekly Piglet prices'!AD73","v":167.98},{"$f":"'[1]Weekly Piglet prices'!AE73","v":33},{"$f":"'[1]Weekly Piglet prices'!AF73","v":""},{"$f":"'[1]Weekly Piglet prices'!AG73","v":""},{"$f":"'[1]Weekly Piglet prices'!AH73","v":""},{"$f":"'[1]Weekly Piglet prices'!AI73","v":69.08},{"$f":"'[1]Weekly Piglet prices'!AJ73","v":58.88},{"$f":"'[1]Weekly Piglet prices'!AK73","v":86.037000000000006},{"$f":"'[1]Weekly Piglet prices'!AL73","v":742.46},{"$f":"'[1]Weekly Piglet prices'!AM73","v":54.278000000000006},{"$f":"'[1]Weekly Piglet prices'!AN73","v":46.51},{"$f":"'[1]Weekly Piglet prices'!AO73","v":0},{"$f":"'[1]Weekly Piglet prices'!AP73","v":48.951766263736268},null,{"$f":"'[1]Weekly Piglet prices'!AR73","v":0},{"$f":"'[1]Weekly Piglet prices'!AS73","v":0}]
["2013-02-04",6,{"$f":"'[1]Weekly Piglet prices'!C74","v":50.5},{"$f":"'[1]Weekly Piglet prices'!D74","v":""},{"$f":"'[1]Weekly Piglet prices'!E74","v":""},{"$f":"'[1]Weekly Piglet prices'!F74","v":62.7637},{"$f":"'[1]Weekly Piglet prices'!G74","v":1600},{"$f":"'[1]Weekly Piglet prices'!H74","v":42.6267},{"$f":"'[1]Weekly Piglet prices'!I74","v":318},{"$f":"'[1]Weekly Piglet prices'!J74","v":57},{"$f":"'[1]Weekly Piglet prices'!K74","v":39.03},{"$f":"'[1]Weekly Piglet prices'!L74","v":""},{"$f":"'[1]Weekly Piglet prices'!M74","v":50.800000000000004},{"$f":"'[1]Weekly Piglet prices'!N74","v":33.799999999999997},{"$f":"'[1]Weekly Piglet prices'!O74","v":""},{"$f":"'[1]Weekly Piglet prices'!P74","v":""},{"$f":"'[1]Weekly Piglet prices'!Q74","v":""},{"$f":"'[1]Weekly Piglet prices'!R74","v":67.83},{"$f":"'[1]Weekly Piglet prices'!S74","v":""},{"$f":"'[1]Weekly Piglet prices'!T74","v":""},{"$f":"'[1]Weekly Piglet prices'!V74","v":""},{"$f":"'[1]Weekly Piglet prices'!W74","v":44.800000000000004},{"$f":"'[1]Weekly Piglet prices'!X74","v":43.800800000000002},{"$f":"'[1]Weekly Piglet prices'!Z74","v":91.320000000000007},{"$f":"'[1]Weekly Piglet prices'!AA74","v":43.5},{"$f":"'[1]Weekly Piglet prices'!AB74","v":""},{"$f":"'[1]Weekly Piglet prices'!AC74","v":40.476199999999999},{"$f":"'[1]Weekly Piglet prices'!AD74","v":168.95000000000002},{"$f":"'[1]Weekly Piglet prices'!AE74","v":33},{"$f":"'[1]Weekly Piglet prices'!AF74","v":""},{"$f":"'[1]Weekly Piglet prices'!AG74","v":""},{"$f":"'[1]Weekly Piglet prices'!AH74","v":""},{"$f":"'[1]Weekly Piglet prices'!AI74","v":75},{"$f":"'[1]Weekly Piglet prices'!AJ74","v":57.58},{"$f":"'[1]Weekly Piglet prices'!AK74","v":84.928100000000001},{"$f":"'[1]Weekly Piglet prices'!AL74","v":729.91},{"$f":"'[1]Weekly Piglet prices'!AM74","v":54.024700000000003},{"$f":"'[1]Weekly Piglet prices'!AN74","v":46.32},{"$f":"'[1]Weekly Piglet prices'!AO74","v":0},{"$f":"'[1]Weekly Piglet prices'!AP74","v":49.477391318681306},null,{"$f":"'[1]Weekly Piglet prices'!AR74","v":0},{"$f":"'[1]Weekly Piglet prices'!AS74","v":0}]
["2013-02-11",7,{"$f":"'[1]Weekly Piglet prices'!C75","v":51.5},{"$f":"'[1]Weekly Piglet prices'!D75","v":""},{"$f":"'[1]Weekly Piglet prices'!E75","v":""},{"$f":"'[1]Weekly Piglet prices'!F75","v":64.287199999999999},{"$f":"'[1]Weekly Piglet prices'!G75","v":1629},{"$f":"'[1]Weekly Piglet prices'!H75","v":42.619300000000003},{"$f":"'[1]Weekly Piglet prices'!I75","v":318},{"$f":"'[1]Weekly Piglet prices'!J75","v":57.9},{"$f":"'[1]Weekly Piglet prices'!K75","v":39.160000000000004},{"$f":"'[1]Weekly Piglet prices'!L75","v":""},{"$f":"'[1]Weekly Piglet prices'!M75","v":51.800000000000004},{"$f":"'[1]Weekly Piglet prices'!N75","v":34.800000000000004},{"$f":"'[1]Weekly Piglet prices'!O75","v":""},{"$f":"'[1]Weekly Piglet prices'!P75","v":""},{"$f":"'[1]Weekly Piglet prices'!Q75","v":""},{"$f":"'[1]Weekly Piglet prices'!R75","v":69.69},{"$f":"'[1]Weekly Piglet prices'!S75","v":""},{"$f":"'[1]Weekly Piglet prices'!T75","v":""},{"$f":"'[1]Weekly Piglet prices'!V75","v":""},{"$f":"'[1]Weekly Piglet prices'!W75","v":46.7},{"$f":"'[1]Weekly Piglet prices'!X75","v":41.144200000000005},{"$f":"'[1]Weekly Piglet prices'!Z75","v":91.320000000000007},{"$f":"'[1]Weekly Piglet prices'!AA75","v":44.5},{"$f":"'[1]Weekly Piglet prices'!AB75","v":""},{"$f":"'[1]Weekly Piglet prices'!AC75","v":40.169600000000003},{"$f":"'[1]Weekly Piglet prices'!AD75","v":167.67000000000002},{"$f":"'[1]Weekly Piglet prices'!AE75","v":33},{"$f":"'[1]Weekly Piglet prices'!AF75","v":""},{"$f":"'[1]Weekly Piglet prices'!AG75","v":""},{"$f":"'[1]Weekly Piglet prices'!AH75","v":""},{"$f":"'[1]Weekly Piglet prices'!AI75","v":75},{"$f":"'[1]Weekly Piglet prices'!AJ75","v":60.120000000000005},{"$f":"'[1]Weekly Piglet prices'!AK75","v":86.796900000000008},{"$f":"'[1]Weekly Piglet prices'!AL75","v":738.74},{"$f":"'[1]Weekly Piglet prices'!AM75","v":54.007000000000005},{"$f":"'[1]Weekly Piglet prices'!AN75","v":46.35},{"$f":"'[1]Weekly Piglet prices'!AO75","v":0},{"$f":"'[1]Weekly Piglet prices'!AP75","v":50.196711648351645},null,{"$f":"'[1]Weekly Piglet prices'!AR75","v":0},{"$f":"'[1]Weekly Piglet prices'!AS75","v":0}]
["2013-02-18",8,{"$f":"'[1]Weekly Piglet prices'!C76","v":52.5},{"$f":"'[1]Weekly Piglet prices'!D76","v":""},{"$f":"'[1]Weekly Piglet prices'!E76","v":""},{"$f":"'[1]Weekly Piglet prices'!F76","v":64.032700000000006},{"$f":"'[1]Weekly Piglet prices'!G76","v":1629},{"$f":"'[1]Weekly Piglet prices'!H76","v":42.629300000000001},{"$f":"'[1]Weekly Piglet prices'!I76","v":318},{"$f":"'[1]Weekly Piglet prices'!J76","v":58.800000000000004},{"$f":"'[1]Weekly Piglet prices'!K76","v":38.520000000000003},{"$f":"'[1]Weekly Piglet prices'!L76","v":""},{"$f":"'[1]Weekly Piglet prices'!M76","v":52.800000000000004},{"$f":"'[1]Weekly Piglet prices'!N76","v":35.4},{"$f":"'[1]Weekly Piglet prices'!O76","v":""},{"$f":"'[1]Weekly Piglet prices'!P76","v":""},{"$f":"'[1]Weekly Piglet prices'!Q76","v":""},{"$f":"'[1]Weekly Piglet prices'!R76","v":71.47},{"$f":"'[1]Weekly Piglet prices'!S76","v":""},{"$f":"'[1]Weekly Piglet prices'!T76","v":""},{"$f":"'[1]Weekly Piglet prices'!V76","v":""},{"$f":"'[1]Weekly Piglet prices'!W76","v":44},{"$f":"'[1]Weekly Piglet prices'!X76","v":42.8078},{"$f":"'[1]Weekly Piglet prices'!Z76","v":91.320000000000007},{"$f":"'[1]Weekly Piglet prices'!AA76","v":46},{"$f":"'[1]Weekly Piglet prices'!AB76","v":""},{"$f":"'[1]Weekly Piglet prices'!AC76","v":40.399100000000004},{"$f":"'[1]Weekly Piglet prices'!AD76","v":168.44},{"$f":"'[1]Weekly Piglet prices'!AE76","v":34},{"$f":"'[1]Weekly Piglet prices'!AF76","v":""},{"$f":"'[1]Weekly Piglet prices'!AG76","v":""},{"$f":"'[1]Weekly Piglet prices'!AH76","v":""},{"$f":"'[1]Weekly Piglet prices'!AI76","v":85.320000000000007},{"$f":"'[1]Weekly Piglet prices'!AJ76","v":60.74},{"$f":"'[1]Weekly Piglet prices'!AK76","v":86.382300000000001},{"$f":"'[1]Weekly Piglet prices'!AL76","v":730.17},{"$f":"'[1]Weekly Piglet prices'!AM76","v":53.689399999999999},{"$f":"'[1]Weekly Piglet prices'!AN76","v":46.38},{"$f":"'[1]Weekly Piglet prices'!AO76","v":0},{"$f":"'[1]Weekly Piglet prices'!AP76","v":51.040790769230775},null,{"$f":"'[1]Weekly Piglet prices'!AR76","v":0},{"$f":"'[1]Weekly Piglet prices'!AS76","v":0}]
["2013-02-25",9,{"$f":"'[1]Weekly Piglet prices'!C77","v":52.5},{"$f":"'[1]Weekly Piglet prices'!D77","v":""},{"$f":"'[1]Weekly Piglet prices'!E77","v":""},{"$f":"'[1]Weekly Piglet prices'!F77","v":63.6325},{"$f":"'[1]Weekly Piglet prices'!G77","v":1629},{"$f":"'[1]Weekly Piglet prices'!H77","v":42.638100000000001},{"$f":"'[1]Weekly Piglet prices'!I77","v":318},{"$f":"'[1]Weekly Piglet prices'!J77","v":59},{"$f":"'[1]Weekly Piglet prices'!K77","v":39.950000000000003},{"$f":"'[1]Weekly Piglet prices'!L77","v":""},{"$f":"'[1]Weekly Piglet prices'!M77","v":52.94},{"$f":"'[1]Weekly Piglet prices'!N77","v":36},{"$f":"'[1]Weekly Piglet prices'!O77","v":""},{"$f":"'[1]Weekly Piglet prices'!P77","v":""},{"$f":"'[1]Weekly Piglet prices'!Q77","v":""},{"$f":"'[1]Weekly Piglet prices'!R77","v":73.66},{"$f":"'[1]Weekly Piglet prices'!S77","v":""},{"$f":"'[1]Weekly Piglet prices'!T77","v":""},{"$f":"'[1]Weekly Piglet prices'!V77","v":""},{"$f":"'[1]Weekly Piglet prices'!W77","v":45.800000000000004},{"$f":"'[1]Weekly Piglet prices'!X77","v":47.199100000000001},{"$f":"'[1]Weekly Piglet prices'!Z77","v":91.320000000000007},{"$f":"'[1]Weekly Piglet prices'!AA77","v":46.5},{"$f":"'[1]Weekly Piglet prices'!AB77","v":""},{"$f":"'[1]Weekly Piglet prices'!AC77","v":40.846400000000003},{"$f":"'[1]Weekly Piglet prices'!AD77","v":169.69},{"$f":"'[1]Weekly Piglet prices'!AE77","v":34},{"$f":"'[1]Weekly Piglet prices'!AF77","v":""},{"$f":"'[1]Weekly Piglet prices'!AG77","v":""},{"$f":"'[1]Weekly Piglet prices'!AH77","v":""},{"$f":"'[1]Weekly Piglet prices'!AI77","v":84.33},{"$f":"'[1]Weekly Piglet prices'!AJ77","v":57.77},{"$f":"'[1]Weekly Piglet prices'!AK77","v":89.205200000000005},{"$f":"'[1]Weekly Piglet prices'!AL77","v":751.94},{"$f":"'[1]Weekly Piglet prices'!AM77","v":53.648900000000005},{"$f":"'[1]Weekly Piglet prices'!AN77","v":46.45},{"$f":"'[1]Weekly Piglet prices'!AO77","v":0},{"$f":"'[1]Weekly Piglet prices'!AP77","v":51.506190989010996},null,{"$f":"'[1]Weekly Piglet prices'!AR77","v":0},{"$f":"'[1]Weekly Piglet prices'!AS77","v":0}]
["2013-03-04",10,{"$f":"'[1]Weekly Piglet prices'!C78","v":52.5},{"$f":"'[1]Weekly Piglet prices'!D78","v":""},{"$f":"'[1]Weekly Piglet prices'!E78","v":""},{"$f":"'[1]Weekly Piglet prices'!F78","v":63.729900000000001},{"$f":"'[1]Weekly Piglet prices'!G78","v":1629},{"$f":"'[1]Weekly Piglet prices'!H78","v":43.459299999999999},{"$f":"'[1]Weekly Piglet prices'!I78","v":324},{"$f":"'[1]Weekly Piglet prices'!J78","v":59},{"$f":"'[1]Weekly Piglet prices'!K78","v":38.9},{"$f":"'[1]Weekly Piglet prices'!L78","v":""},{"$f":"'[1]Weekly Piglet prices'!M78","v":53.050000000000004},{"$f":"'[1]Weekly Piglet prices'!N78","v":37.200000000000003},{"$f":"'[1]Weekly Piglet prices'!O78","v":""},{"$f":"'[1]Weekly Piglet prices'!P78","v":""},{"$f":"'[1]Weekly Piglet prices'!Q78","v":""},{"$f":"'[1]Weekly Piglet prices'!R78","v":75.11},{"$f":"'[1]Weekly Piglet prices'!S78","v":""},{"$f":"'[1]Weekly Piglet prices'!T78","v":""},{"$f":"'[1]Weekly Piglet prices'!V78","v":""},{"$f":"'[1]Weekly Piglet prices'!W78","v":48.5},{"$f":"'[1]Weekly Piglet prices'!X78","v":51.186600000000006},{"$f":"'[1]Weekly Piglet prices'!Z78","v":91.320000000000007},{"$f":"'[1]Weekly Piglet prices'!AA78","v":46.5},{"$f":"'[1]Weekly Piglet prices'!AB78","v":""},{"$f":"'[1]Weekly Piglet prices'!AC78","v":41.5869},{"$f":"'[1]Weekly Piglet prices'!AD78","v":172.26},{"$f":"'[1]Weekly Piglet prices'!AE78","v":35},{"$f":"'[1]Weekly Piglet prices'!AF78","v":""},{"$f":"'[1]Weekly Piglet prices'!AG78","v":""},{"$f":"'[1]Weekly Piglet prices'!AH78","v":""},{"$f":"'[1]Weekly Piglet prices'!AI78","v":69.64},{"$f":"'[1]Weekly Piglet prices'!AJ78","v":60.24},{"$f":"'[1]Weekly Piglet prices'!AK78","v":87.96220000000001},{"$f":"'[1]Weekly Piglet prices'!AL78","v":733.13},{"$f":"'[1]Weekly Piglet prices'!AM78","v":54.164300000000004},{"$f":"'[1]Weekly Piglet prices'!AN78","v":46.89},{"$f":"'[1]Weekly Piglet prices'!AO78","v":0},{"$f":"'[1]Weekly Piglet prices'!AP78","v":51.961972527472533},null,{"$f":"'[1]Weekly Piglet prices'!AR78","v":0},{"$f":"'[1]Weekly Piglet prices'!AS78","v":0}]
["2013-03-11",11,{"$f":"'[1]Weekly Piglet prices'!C79","v":52.5},{"$f":"'[1]Weekly Piglet prices'!D79","v":""},{"$f":"'[1]Weekly Piglet prices'!E79","v":""},{"$f":"'[1]Weekly Piglet prices'!F79","v":61.303400000000003},{"$f":"'[1]Weekly Piglet prices'!G79","v":1568},{"$f":"'[1]Weekly Piglet prices'!H79","v":42.240200000000002},{"$f":"'[1]Weekly Piglet prices'!I79","v":315},{"$f":"'[1]Weekly Piglet prices'!J79","v":59},{"$f":"'[1]Weekly Piglet prices'!K79","v":41.660000000000004},{"$f":"'[1]Weekly Piglet prices'!L79","v":""},{"$f":"'[1]Weekly Piglet prices'!M79","v":53.050000000000004},{"$f":"'[1]Weekly Piglet prices'!N79","v":37.4},{"$f":"'[1]Weekly Piglet prices'!O79","v":""},{"$f":"'[1]Weekly Piglet prices'!P79","v":""},{"$f":"'[1]Weekly Piglet prices'!Q79","v":""},{"$f":"'[1]Weekly Piglet prices'!R79","v":76.16},{"$f":"'[1]Weekly Piglet prices'!S79","v":""},{"$f":"'[1]Weekly Piglet prices'!T79","v":""},{"$f":"'[1]Weekly Piglet prices'!V79","v":""},{"$f":"'[1]Weekly Piglet prices'!W79","v":49},{"$f":"'[1]Weekly Piglet prices'!X79","v":46.077300000000001},{"$f":"'[1]Weekly Piglet prices'!Z79","v":91.320000000000007},{"$f":"'[1]Weekly Piglet prices'!AA79","v":46.5},{"$f":"'[1]Weekly Piglet prices'!AB79","v":""},{"$f":"'[1]Weekly Piglet prices'!AC79","v":41.351800000000004},{"$f":"'[1]Weekly Piglet prices'!AD79","v":171.46},{"$f":"'[1]Weekly Piglet prices'!AE79","v":35},{"$f":"'[1]Weekly Piglet prices'!AF79","v":""},{"$f":"'[1]Weekly Piglet prices'!AG79","v":""},{"$f":"'[1]Weekly Piglet prices'!AH79","v":""},{"$f":"'[1]Weekly Piglet prices'!AI79","v":78.67},{"$f":"'[1]Weekly Piglet prices'!AJ79","v":57.120000000000005},{"$f":"'[1]Weekly Piglet prices'!AK79","v":89.79010000000001},{"$f":"'[1]Weekly Piglet prices'!AL79","v":748.37},{"$f":"'[1]Weekly Piglet prices'!AM79","v":54.414999999999999},{"$f":"'[1]Weekly Piglet prices'!AN79","v":47.28},{"$f":"'[1]Weekly Piglet prices'!AO79","v":0},{"$f":"'[1]Weekly Piglet prices'!AP79","v":51.827809999999999},null,{"$f":"'[1]Weekly Piglet prices'!AR79","v":0},{"$f":"'[1]Weekly Piglet prices'!AS79","v":0}]
["2013-03-18",12,{"$f":"'[1]Weekly Piglet prices'!C80","v":52},{"$f":"'[1]Weekly Piglet prices'!D80","v":""},{"$f":"'[1]Weekly Piglet prices'!E80","v":""},{"$f":"'[1]Weekly Piglet prices'!F80","v":56.547900000000006},{"$f":"'[1]Weekly Piglet prices'!G80","v":1454},{"$f":"'[1]Weekly Piglet prices'!H80","v":42.391100000000002},{"$f":"'[1]Weekly Piglet prices'!I80","v":316},{"$f":"'[1]Weekly Piglet prices'!J80","v":59.1},{"$f":"'[1]Weekly Piglet prices'!K80","v":39.4},{"$f":"'[1]Weekly Piglet prices'!L80","v":""},{"$f":"'[1]Weekly Piglet prices'!M80","v":53.050000000000004},{"$f":"'[1]Weekly Piglet prices'!N80","v":38},{"$f":"'[1]Weekly Piglet prices'!O80","v":""},{"$f":"'[1]Weekly Piglet prices'!P80","v":""},{"$f":"'[1]Weekly Piglet prices'!Q80","v":""},{"$f":"'[1]Weekly Piglet prices'!R80","v":76.63},{"$f":"'[1]Weekly Piglet prices'!S80","v":""},{"$f":"'[1]Weekly Piglet prices'!T80","v":""},{"$f":"'[1]Weekly Piglet prices'!V80","v":""},{"$f":"'[1]Weekly Piglet prices'!W80","v":44.5},{"$f":"'[1]Weekly Piglet prices'!X80","v":52.963700000000003},{"$f":"'[1]Weekly Piglet prices'!Z80","v":91.320000000000007},{"$f":"'[1]Weekly Piglet prices'!AA80","v":46.5},{"$f":"'[1]Weekly Piglet prices'!AB80","v":""},{"$f":"'[1]Weekly Piglet prices'!AC80","v":41.734400000000001},{"$f":"'[1]Weekly Piglet prices'!AD80","v":173.89000000000001},{"$f":"'[1]Weekly Piglet prices'!AE80","v":37},{"$f":"'[1]Weekly Piglet prices'!AF80","v":""},{"$f":"'[1]Weekly Piglet prices'!AG80","v":""},{"$f":"'[1]Weekly Piglet prices'!AH80","v":""},{"$f":"'[1]Weekly Piglet prices'!AI80","v":80.210000000000008},{"$f":"'[1]Weekly Piglet prices'!AJ80","v":60.15},{"$f":"'[1]Weekly Piglet prices'!AK80","v":88.556600000000003},{"$f":"'[1]Weekly Piglet prices'!AL80","v":741.09},{"$f":"'[1]Weekly Piglet prices'!AM80","v":55.803600000000003},{"$f":"'[1]Weekly Piglet prices'!AN80","v":47.74},{"$f":"'[1]Weekly Piglet prices'!AO80","v":0},{"$f":"'[1]Weekly Piglet prices'!AP80","v":52.15521373626374},null,{"$f":"'[1]Weekly Piglet prices'!AR80","v":0},{"$f":"'[1]Weekly Piglet prices'!AS80","v":0}]
["2013-03-25",13,{"$f":"'[1]Weekly Piglet prices'!C81","v":52},{"$f":"'[1]Weekly Piglet prices'!D81","v":""},{"$f":"'[1]Weekly Piglet prices'!E81","v":""},{"$f":"'[1]Weekly Piglet prices'!F81","v":58.282900000000005},{"$f":"'[1]Weekly Piglet prices'!G81","v":1502},{"$f":"'[1]Weekly Piglet prices'!H81","v":42.393100000000004},{"$f":"'[1]Weekly Piglet prices'!I81","v":316},{"$f":"'[1]Weekly Piglet prices'!J81","v":59.1},{"$f":"'[1]Weekly Piglet prices'!K81","v":39.76},{"$f":"'[1]Weekly Piglet prices'!L81","v":""},{"$f":"'[1]Weekly Piglet prices'!M81","v":52.75},{"$f":"'[1]Weekly Piglet prices'!N81","v":38.200000000000003},{"$f":"'[1]Weekly Piglet prices'!O81","v":""},{"$f":"'[1]Weekly Piglet prices'!P81","v":""},{"$f":"'[1]Weekly Piglet prices'!Q81","v":""},{"$f":"'[1]Weekly Piglet prices'!R81","v":76.67},{"$f":"'[1]Weekly Piglet prices'!S81","v":""},{"$f":"'[1]Weekly Piglet prices'!T81","v":""},{"$f":"'[1]Weekly Piglet prices'!V81","v":""},{"$f":"'[1]Weekly Piglet prices'!W81","v":50.5},{"$f":"'[1]Weekly Piglet prices'!X81","v":44.250300000000003},{"$f":"'[1]Weekly Piglet prices'!Z81","v":91.320000000000007},{"$f":"'[1]Weekly Piglet prices'!AA81","v":46.5},{"$f":"'[1]Weekly Piglet prices'!AB81","v":""},{"$f":"'[1]Weekly Piglet prices'!AC81","v":41.227000000000004},{"$f":"'[1]Weekly Piglet prices'!AD81","v":172.22},{"$f":"'[1]Weekly Piglet prices'!AE81","v":39},{"$f":"'[1]Weekly Piglet prices'!AF81","v":""},{"$f":"'[1]Weekly Piglet prices'!AG81","v":""},{"$f":"'[1]Weekly Piglet prices'!AH81","v":""},{"$f":"'[1]Weekly Piglet prices'!AI81","v":62.6},{"$f":"'[1]Weekly Piglet prices'!AJ81","v":61.800000000000004},{"$f":"'[1]Weekly Piglet prices'!AK81","v":88.746099999999998},{"$f":"'[1]Weekly Piglet prices'!AL81","v":742.72},{"$f":"'[1]Weekly Piglet prices'!AM81","v":56.952000000000005},{"$f":"'[1]Weekly Piglet prices'!AN81","v":48.29},{"$f":"'[1]Weekly Piglet prices'!AO81","v":0},{"$f":"'[1]Weekly Piglet prices'!AP81","v":51.912065274725279},null,{"$f":"'[1]Weekly Piglet prices'!AR81","v":0},{"$f":"'[1]Weekly Piglet prices'!AS81","v":0}]
["2013-04-01",14,{"$f":"'[1]Weekly Piglet prices'!C82","v":52},{"$f":"'[1]Weekly Piglet prices'!D82","v":""},{"$f":"'[1]Weekly Piglet prices'!E82","v":""},{"$f":"'[1]Weekly Piglet prices'!F82","v":54.0901},{"$f":"'[1]Weekly Piglet prices'!G82","v":1395},{"$f":"'[1]Weekly Piglet prices'!H82","v":42.390300000000003},{"$f":"'[1]Weekly Piglet prices'!I82","v":316},{"$f":"'[1]Weekly Piglet prices'!J82","v":59.1},{"$f":"'[1]Weekly Piglet prices'!K82","v":40.47},{"$f":"'[1]Weekly Piglet prices'!L82","v":""},{"$f":"'[1]Weekly Piglet prices'!M82","v":52.58},{"$f":"'[1]Weekly Piglet prices'!N82","v":37.800000000000004},{"$f":"'[1]Weekly Piglet prices'!O82","v":""},{"$f":"'[1]Weekly Piglet prices'!P82","v":""},{"$f":"'[1]Weekly Piglet prices'!Q82","v":""},{"$f":"'[1]Weekly Piglet prices'!R82","v":76.63},{"$f":"'[1]Weekly Piglet prices'!S82","v":""},{"$f":"'[1]Weekly Piglet prices'!T82","v":""},{"$f":"'[1]Weekly Piglet prices'!V82","v":""},{"$f":"'[1]Weekly Piglet prices'!W82","v":47.2},{"$f":"'[1]Weekly Piglet prices'!X82","v":48.193000000000005},{"$f":"'[1]Weekly Piglet prices'!Z82","v":91.320000000000007},{"$f":"'[1]Weekly Piglet prices'!AA82","v":46.5},{"$f":"'[1]Weekly Piglet prices'!AB82","v":""},{"$f":"'[1]Weekly Piglet prices'!AC82","v":41.8123},{"$f":"'[1]Weekly Piglet prices'!AD82","v":174.85},{"$f":"'[1]Weekly Piglet prices'!AE82","v":44},{"$f":"'[1]Weekly Piglet prices'!AF82","v":""},{"$f":"'[1]Weekly Piglet prices'!AG82","v":""},{"$f":"'[1]Weekly Piglet prices'!AH82","v":""},{"$f":"'[1]Weekly Piglet prices'!AI82","v":67.650000000000006},{"$f":"'[1]Weekly Piglet prices'!AJ82","v":57.94},{"$f":"'[1]Weekly Piglet prices'!AK82","v":88.174000000000007},{"$f":"'[1]Weekly Piglet prices'!AL82","v":737.52},{"$f":"'[1]Weekly Piglet prices'!AM82","v":57.572700000000005},{"$f":"'[1]Weekly Piglet prices'!AN82","v":48.79},{"$f":"'[1]Weekly Piglet prices'!AO82","v":0},{"$f":"'[1]Weekly Piglet prices'!AP82","v":51.999919340659339},null,{"$f":"'[1]Weekly Piglet prices'!AR82","v":0},{"$f":"'[1]Weekly Piglet prices'!AS82","v":0}]
["2013-04-08",15,{"$f":"'[1]Weekly Piglet prices'!C83","v":52},{"$f":"'[1]Weekly Piglet prices'!D83","v":""},{"$f":"'[1]Weekly Piglet prices'!E83","v":""},{"$f":"'[1]Weekly Piglet prices'!F83","v":53.157900000000005},{"$f":"'[1]Weekly Piglet prices'!G83","v":1373},{"$f":"'[1]Weekly Piglet prices'!H83","v":42.385400000000004},{"$f":"'[1]Weekly Piglet prices'!I83","v":316},{"$f":"'[1]Weekly Piglet prices'!J83","v":59.1},{"$f":"'[1]Weekly Piglet prices'!K83","v":38.590000000000003},{"$f":"'[1]Weekly Piglet prices'!L83","v":""},{"$f":"'[1]Weekly Piglet prices'!M83","v":52.58},{"$f":"'[1]Weekly Piglet prices'!N83","v":38},{"$f":"'[1]Weekly Piglet prices'!O83","v":""},{"$f":"'[1]Weekly Piglet prices'!P83","v":""},{"$f":"'[1]Weekly Piglet prices'!Q83","v":""},{"$f":"'[1]Weekly Piglet prices'!R83","v":76.260000000000005},{"$f":"'[1]Weekly Piglet prices'!S83","v":""},{"$f":"'[1]Weekly Piglet prices'!T83","v":""},{"$f":"'[1]Weekly Piglet prices'!V83","v":""},{"$f":"'[1]Weekly Piglet prices'!W83","v":42.300000000000004},{"$f":"'[1]Weekly Piglet prices'!X83","v":40.354900000000001},{"$f":"'[1]Weekly Piglet prices'!Z83","v":91.320000000000007},{"$f":"'[1]Weekly Piglet prices'!AA83","v":46.25},{"$f":"'[1]Weekly Piglet prices'!AB83","v":""},{"$f":"'[1]Weekly Piglet prices'!AC83","v":42.8551},{"$f":"'[1]Weekly Piglet prices'!AD83","v":176.74},{"$f":"'[1]Weekly Piglet prices'!AE83","v":40},{"$f":"'[1]Weekly Piglet prices'!AF83","v":""},{"$f":"'[1]Weekly Piglet prices'!AG83","v":""},{"$f":"'[1]Weekly Piglet prices'!AH83","v":""},{"$f":"'[1]Weekly Piglet prices'!AI83","v":62.17},{"$f":"'[1]Weekly Piglet prices'!AJ83","v":56.65},{"$f":"'[1]Weekly Piglet prices'!AK83","v":89.0625},{"$f":"'[1]Weekly Piglet prices'!AL83","v":743.77},{"$f":"'[1]Weekly Piglet prices'!AM83","v":57.369900000000001},{"$f":"'[1]Weekly Piglet prices'!AN83","v":48.83},{"$f":"'[1]Weekly Piglet prices'!AO83","v":0},{"$f":"'[1]Weekly Piglet prices'!AP83","v":51.792983076923079},null,{"$f":"'[1]Weekly Piglet prices'!AR83","v":0},{"$f":"'[1]Weekly Piglet prices'!AS83","v":0}]
["2013-04-15",16,{"$f":"'[1]Weekly Piglet prices'!C84","v":52},{"$f":"'[1]Weekly Piglet prices'!D84","v":""},{"$f":"'[1]Weekly Piglet prices'!E84","v":""},{"$f":"'[1]Weekly Piglet prices'!F84","v":56.488400000000006},{"$f":"'[1]Weekly Piglet prices'!G84","v":1461},{"$f":"'[1]Weekly Piglet prices'!H84","v":42.383400000000002},{"$f":"'[1]Weekly Piglet prices'!I84","v":316},{"$f":"'[1]Weekly Piglet prices'!J84","v":59.300000000000004},{"$f":"'[1]Weekly Piglet prices'!K84","v":39.980000000000004},{"$f":"'[1]Weekly Piglet prices'!L84","v":""},{"$f":"'[1]Weekly Piglet prices'!M84","v":49.83},{"$f":"'[1]Weekly Piglet prices'!N84","v":36.800000000000004},{"$f":"'[1]Weekly Piglet prices'!O84","v":""},{"$f":"'[1]Weekly Piglet prices'!P84","v":""},{"$f":"'[1]Weekly Piglet prices'!Q84","v":""},{"$f":"'[1]Weekly Piglet prices'!R84","v":75.739999999999995},{"$f":"'[1]Weekly Piglet prices'!S84","v":""},{"$f":"'[1]Weekly Piglet prices'!T84","v":""},{"$f":"'[1]Weekly Piglet prices'!V84","v":""},{"$f":"'[1]Weekly Piglet prices'!W84","v":48.800000000000004},{"$f":"'[1]Weekly Piglet prices'!X84","v":63.022300000000001},{"$f":"'[1]Weekly Piglet prices'!Z84","v":91.320000000000007},{"$f":"'[1]Weekly Piglet prices'!AA84","v":46.25},{"$f":"'[1]Weekly Piglet prices'!AB84","v":""},{"$f":"'[1]Weekly Piglet prices'!AC84","v":42.745000000000005},{"$f":"'[1]Weekly Piglet prices'!AD84","v":175.64000000000001},{"$f":"'[1]Weekly Piglet prices'!AE84","v":40},{"$f":"'[1]Weekly Piglet prices'!AF84","v":""},{"$f":"'[1]Weekly Piglet prices'!AG84","v":""},{"$f":"'[1]Weekly Piglet prices'!AH84","v":""},{"$f":"'[1]Weekly Piglet prices'!AI84","v":90.600000000000009},{"$f":"'[1]Weekly Piglet prices'!AJ84","v":59.83},{"$f":"'[1]Weekly Piglet prices'!AK84","v":86.771500000000003},{"$f":"'[1]Weekly Piglet prices'!AL84","v":732.42},{"$f":"'[1]Weekly Piglet prices'!AM84","v":57.2806},{"$f":"'[1]Weekly Piglet prices'!AN84","v":48.97},{"$f":"'[1]Weekly Piglet prices'!AO84","v":0},{"$f":"'[1]Weekly Piglet prices'!AP84","v":51.808991318681322},null,{"$f":"'[1]Weekly Piglet prices'!AR84","v":0},{"$f":"'[1]Weekly Piglet prices'!AS84","v":0}]
["2013-04-22",17,{"$f":"'[1]Weekly Piglet prices'!C85","v":50.5},{"$f":"'[1]Weekly Piglet prices'!D85","v":""},{"$f":"'[1]Weekly Piglet prices'!E85","v":""},{"$f":"'[1]Weekly Piglet prices'!F85","v":56.505300000000005},{"$f":"'[1]Weekly Piglet prices'!G85","v":1461},{"$f":"'[1]Weekly Piglet prices'!H85","v":42.385300000000001},{"$f":"'[1]Weekly Piglet prices'!I85","v":316},{"$f":"'[1]Weekly Piglet prices'!J85","v":59.2},{"$f":"'[1]Weekly Piglet prices'!K85","v":39.44},{"$f":"'[1]Weekly Piglet prices'!L85","v":""},{"$f":"'[1]Weekly Piglet prices'!M85","v":48.34},{"$f":"'[1]Weekly Piglet prices'!N85","v":35.800000000000004},{"$f":"'[1]Weekly Piglet prices'!O85","v":""},{"$f":"'[1]Weekly Piglet prices'!P85","v":""},{"$f":"'[1]Weekly Piglet prices'!Q85","v":""},{"$f":"'[1]Weekly Piglet prices'!R85","v":74.960000000000008},{"$f":"'[1]Weekly Piglet prices'!S85","v":""},{"$f":"'[1]Weekly Piglet prices'!T85","v":""},{"$f":"'[1]Weekly Piglet prices'!V85","v":""},{"$f":"'[1]Weekly Piglet prices'!W85","v":48.800000000000004},{"$f":"'[1]Weekly Piglet prices'!X85","v":46.635400000000004},{"$f":"'[1]Weekly Piglet prices'!Z85","v":91.320000000000007},{"$f":"'[1]Weekly Piglet prices'!AA85","v":45.25},{"$f":"'[1]Weekly Piglet prices'!AB85","v":""},{"$f":"'[1]Weekly Piglet prices'!AC85","v":42.163800000000002},{"$f":"'[1]Weekly Piglet prices'!AD85","v":174.34},{"$f":"'[1]Weekly Piglet prices'!AE85","v":39},{"$f":"'[1]Weekly Piglet prices'!AF85","v":""},{"$f":"'[1]Weekly Piglet prices'!AG85","v":""},{"$f":"'[1]Weekly Piglet prices'!AH85","v":""},{"$f":"'[1]Weekly Piglet prices'!AI85","v":77.42},{"$f":"'[1]Weekly Piglet prices'!AJ85","v":60.13},{"$f":"'[1]Weekly Piglet prices'!AK85","v":85.9131},{"$f":"'[1]Weekly Piglet prices'!AL85","v":735.39},{"$f":"'[1]Weekly Piglet prices'!AM85","v":57.938100000000006},{"$f":"'[1]Weekly Piglet prices'!AN85","v":49.17},{"$f":"'[1]Weekly Piglet prices'!AO85","v":0},{"$f":"'[1]Weekly Piglet prices'!AP85","v":50.712242087912095},null,{"$f":"'[1]Weekly Piglet prices'!AR85","v":0},{"$f":"'[1]Weekly Piglet prices'!AS85","v":0}]
["2013-04-29",18,{"$f":"'[1]Weekly Piglet prices'!C86","v":48.5},{"$f":"'[1]Weekly Piglet prices'!D86","v":""},{"$f":"'[1]Weekly Piglet prices'!E86","v":""},{"$f":"'[1]Weekly Piglet prices'!F86","v":69.934300000000007},{"$f":"'[1]Weekly Piglet prices'!G86","v":1798},{"$f":"'[1]Weekly Piglet prices'!H86","v":42.520299999999999},{"$f":"'[1]Weekly Piglet prices'!I86","v":317},{"$f":"'[1]Weekly Piglet prices'!J86","v":57.1},{"$f":"'[1]Weekly Piglet prices'!K86","v":39.35},{"$f":"'[1]Weekly Piglet prices'!L86","v":""},{"$f":"'[1]Weekly Piglet prices'!M86","v":46.980000000000004},{"$f":"'[1]Weekly Piglet prices'!N86","v":34.200000000000003},{"$f":"'[1]Weekly Piglet prices'!O86","v":""},{"$f":"'[1]Weekly Piglet prices'!P86","v":""},{"$f":"'[1]Weekly Piglet prices'!Q86","v":""},{"$f":"'[1]Weekly Piglet prices'!R86","v":74.44},{"$f":"'[1]Weekly Piglet prices'!S86","v":""},{"$f":"'[1]Weekly Piglet prices'!T86","v":""},{"$f":"'[1]Weekly Piglet prices'!V86","v":""},{"$f":"'[1]Weekly Piglet prices'!W86","v":41},{"$f":"'[1]Weekly Piglet prices'!X86","v":50.368200000000002},{"$f":"'[1]Weekly Piglet prices'!Z86","v":91.320000000000007},{"$f":"'[1]Weekly Piglet prices'!AA86","v":41.75},{"$f":"'[1]Weekly Piglet prices'!AB86","v":""},{"$f":"'[1]Weekly Piglet prices'!AC86","v":41.092600000000004},{"$f":"'[1]Weekly Piglet prices'!AD86","v":170.35},{"$f":"'[1]Weekly Piglet prices'!AE86","v":38},{"$f":"'[1]Weekly Piglet prices'!AF86","v":""},{"$f":"'[1]Weekly Piglet prices'!AG86","v":""},{"$f":"'[1]Weekly Piglet prices'!AH86","v":""},{"$f":"'[1]Weekly Piglet prices'!AI86","v":61.45},{"$f":"'[1]Weekly Piglet prices'!AJ86","v":57.92},{"$f":"'[1]Weekly Piglet prices'!AK86","v":86.542700000000011},{"$f":"'[1]Weekly Piglet prices'!AL86","v":739.37},{"$f":"'[1]Weekly Piglet prices'!AM86","v":58.746200000000002},{"$f":"'[1]Weekly Piglet prices'!AN86","v":49.56},{"$f":"'[1]Weekly Piglet prices'!AO86","v":0},{"$f":"'[1]Weekly Piglet prices'!AP86","v":49.476303516483512},null,{"$f":"'[1]Weekly Piglet prices'!AR86","v":0},{"$f":"'[1]Weekly Piglet prices'!AS86","v":0}]
["2013-05-06",19,{"$f":"'[1]Weekly Piglet prices'!C87","v":46.5},{"$f":"'[1]Weekly Piglet prices'!D87","v":""},{"$f":"'[1]Weekly Piglet prices'!E87","v":""},{"$f":"'[1]Weekly Piglet prices'!F87","v":61.092300000000002},{"$f":"'[1]Weekly Piglet prices'!G87","v":1574},{"$f":"'[1]Weekly Piglet prices'!H87","v":41.053600000000003},{"$f":"'[1]Weekly Piglet prices'!I87","v":306},{"$f":"'[1]Weekly Piglet prices'!J87","v":54.800000000000004},{"$f":"'[1]Weekly Piglet prices'!K87","v":40.11},{"$f":"'[1]Weekly Piglet prices'!L87","v":""},{"$f":"'[1]Weekly Piglet prices'!M87","v":43.71},{"$f":"'[1]Weekly Piglet prices'!N87","v":34.4},{"$f":"'[1]Weekly Piglet prices'!O87","v":""},{"$f":"'[1]Weekly Piglet prices'!P87","v":""},{"$f":"'[1]Weekly Piglet prices'!Q87","v":""},{"$f":"'[1]Weekly Piglet prices'!R87","v":73.790000000000006},{"$f":"'[1]Weekly Piglet prices'!S87","v":""},{"$f":"'[1]Weekly Piglet prices'!T87","v":""},{"$f":"'[1]Weekly Piglet prices'!V87","v":""},{"$f":"'[1]Weekly Piglet prices'!W87","v":44.6},{"$f":"'[1]Weekly Piglet prices'!X87","v":42.551700000000004},{"$f":"'[1]Weekly Piglet prices'!Z87","v":91.320000000000007},{"$f":"'[1]Weekly Piglet prices'!AA87","v":38.75},{"$f":"'[1]Weekly Piglet prices'!AB87","v":""},{"$f":"'[1]Weekly Piglet prices'!AC87","v":43.436300000000003},{"$f":"'[1]Weekly Piglet prices'!AD87","v":179.91},{"$f":"'[1]Weekly Piglet prices'!AE87","v":37},{"$f":"'[1]Weekly Piglet prices'!AF87","v":""},{"$f":"'[1]Weekly Piglet prices'!AG87","v":""},{"$f":"'[1]Weekly Piglet prices'!AH87","v":""},{"$f":"'[1]Weekly Piglet prices'!AI87","v":78.28},{"$f":"'[1]Weekly Piglet prices'!AJ87","v":54.75},{"$f":"'[1]Weekly Piglet prices'!AK87","v":87.110799999999998},{"$f":"'[1]Weekly Piglet prices'!AL87","v":744.12},{"$f":"'[1]Weekly Piglet prices'!AM87","v":58.698},{"$f":"'[1]Weekly Piglet prices'!AN87","v":49.56},{"$f":"'[1]Weekly Piglet prices'!AO87","v":0},{"$f":"'[1]Weekly Piglet prices'!AP87","v":47.860678021978018},null,{"$f":"'[1]Weekly Piglet prices'!AR87","v":0},{"$f":"'[1]Weekly Piglet prices'!AS87","v":0}]
["2013-05-13",20,{"$f":"'[1]Weekly Piglet prices'!C88","v":44.5},{"$f":"'[1]Weekly Piglet prices'!D88","v":""},{"$f":"'[1]Weekly Piglet prices'!E88","v":""},{"$f":"'[1]Weekly Piglet prices'!F88","v":57.697000000000003},{"$f":"'[1]Weekly Piglet prices'!G88","v":1496},{"$f":"'[1]Weekly Piglet prices'!H88","v":41.054900000000004},{"$f":"'[1]Weekly Piglet prices'!I88","v":306},{"$f":"'[1]Weekly Piglet prices'!J88","v":53.6},{"$f":"'[1]Weekly Piglet prices'!K88","v":38.4},{"$f":"'[1]Weekly Piglet prices'!L88","v":""},{"$f":"'[1]Weekly Piglet prices'!M88","v":41.480000000000004},{"$f":"'[1]Weekly Piglet prices'!N88","v":33.799999999999997},{"$f":"'[1]Weekly Piglet prices'!O88","v":""},{"$f":"'[1]Weekly Piglet prices'!P88","v":""},{"$f":"'[1]Weekly Piglet prices'!Q88","v":""},{"$f":"'[1]Weekly Piglet prices'!R88","v":71.739999999999995},{"$f":"'[1]Weekly Piglet prices'!S88","v":""},{"$f":"'[1]Weekly Piglet prices'!T88","v":""},{"$f":"'[1]Weekly Piglet prices'!V88","v":""},{"$f":"'[1]Weekly Piglet prices'!W88","v":47.1},{"$f":"'[1]Weekly Piglet prices'!X88","v":59.051000000000002},{"$f":"'[1]Weekly Piglet prices'!Z88","v":91.320000000000007},{"$f":"'[1]Weekly Piglet prices'!AA88","v":36.25},{"$f":"'[1]Weekly Piglet prices'!AB88","v":""},{"$f":"'[1]Weekly Piglet prices'!AC88","v":41.956800000000001},{"$f":"'[1]Weekly Piglet prices'!AD88","v":174.85},{"$f":"'[1]Weekly Piglet prices'!AE88","v":37},{"$f":"'[1]Weekly Piglet prices'!AF88","v":""},{"$f":"'[1]Weekly Piglet prices'!AG88","v":""},{"$f":"'[1]Weekly Piglet prices'!AH88","v":""},{"$f":"'[1]Weekly Piglet prices'!AI88","v":70.900000000000006},{"$f":"'[1]Weekly Piglet prices'!AJ88","v":55.660000000000004},{"$f":"'[1]Weekly Piglet prices'!AK88","v":85.027900000000002},{"$f":"'[1]Weekly Piglet prices'!AL88","v":730.32},{"$f":"'[1]Weekly Piglet prices'!AM88","v":58.704500000000003},{"$f":"'[1]Weekly Piglet prices'!AN88","v":49.63},{"$f":"'[1]Weekly Piglet prices'!AO88","v":0},{"$f":"'[1]Weekly Piglet prices'!AP88","v":46.802635714285714},null,{"$f":"'[1]Weekly Piglet prices'!AR88","v":0},{"$f":"'[1]Weekly Piglet prices'!AS88","v":0}]
["2013-05-20",21,{"$f":"'[1]Weekly Piglet prices'!C89","v":42.5},{"$f":"'[1]Weekly Piglet prices'!D89","v":""},{"$f":"'[1]Weekly Piglet prices'!E89","v":""},{"$f":"'[1]Weekly Piglet prices'!F89","v":57.425800000000002},{"$f":"'[1]Weekly Piglet prices'!G89","v":1496},{"$f":"'[1]Weekly Piglet prices'!H89","v":41.055199999999999},{"$f":"'[1]Weekly Piglet prices'!I89","v":306},{"$f":"'[1]Weekly Piglet prices'!J89","v":53.2},{"$f":"'[1]Weekly Piglet prices'!K89","v":38.29},{"$f":"'[1]Weekly Piglet prices'!L89","v":""},{"$f":"'[1]Weekly Piglet prices'!M89","v":40.160000000000004},{"$f":"'[1]Weekly Piglet prices'!N89","v":33.200000000000003},{"$f":"'[1]Weekly Piglet prices'!O89","v":""},{"$f":"'[1]Weekly Piglet prices'!P89","v":""},{"$f":"'[1]Weekly Piglet prices'!Q89","v":""},{"$f":"'[1]Weekly Piglet prices'!R89","v":70.06},{"$f":"'[1]Weekly Piglet prices'!S89","v":""},{"$f":"'[1]Weekly Piglet prices'!T89","v":""},{"$f":"'[1]Weekly Piglet prices'!V89","v":""},{"$f":"'[1]Weekly Piglet prices'!W89","v":42.1},{"$f":"'[1]Weekly Piglet prices'!X89","v":46.482800000000005},{"$f":"'[1]Weekly Piglet prices'!Z89","v":91.320000000000007},{"$f":"'[1]Weekly Piglet prices'!AA89","v":34.25},{"$f":"'[1]Weekly Piglet prices'!AB89","v":""},{"$f":"'[1]Weekly Piglet prices'!AC89","v":40.933599999999998},{"$f":"'[1]Weekly Piglet prices'!AD89","v":171.49},{"$f":"'[1]Weekly Piglet prices'!AE89","v":37},{"$f":"'[1]Weekly Piglet prices'!AF89","v":""},{"$f":"'[1]Weekly Piglet prices'!AG89","v":""},{"$f":"'[1]Weekly Piglet prices'!AH89","v":""},{"$f":"'[1]Weekly Piglet prices'!AI89","v":58.84},{"$f":"'[1]Weekly Piglet prices'!AJ89","v":54.59},{"$f":"'[1]Weekly Piglet prices'!AK89","v":85.580800000000011},{"$f":"'[1]Weekly Piglet prices'!AL89","v":734.32},{"$f":"'[1]Weekly Piglet prices'!AM89","v":58.554400000000001},{"$f":"'[1]Weekly Piglet prices'!AN89","v":49.89},{"$f":"'[1]Weekly Piglet prices'!AO89","v":0},{"$f":"'[1]Weekly Piglet prices'!AP89","v":45.57521406593407},null,{"$f":"'[1]Weekly Piglet prices'!AR89","v":0},{"$f":"'[1]Weekly Piglet prices'!AS89","v":0}]
["2013-05-27",22,{"$f":"'[1]Weekly Piglet prices'!C90","v":42.5},{"$f":"'[1]Weekly Piglet prices'!D90","v":""},{"$f":"'[1]Weekly Piglet prices'!E90","v":""},{"$f":"'[1]Weekly Piglet prices'!F90","v":57.867200000000004},{"$f":"'[1]Weekly Piglet prices'!G90","v":1496},{"$f":"'[1]Weekly Piglet prices'!H90","v":41.0505},{"$f":"'[1]Weekly Piglet prices'!I90","v":306},{"$f":"'[1]Weekly Piglet prices'!J90","v":53.1},{"$f":"'[1]Weekly Piglet prices'!K90","v":39.19},{"$f":"'[1]Weekly Piglet prices'!L90","v":""},{"$f":"'[1]Weekly Piglet prices'!M90","v":39.450000000000003},{"$f":"'[1]Weekly Piglet prices'!N90","v":32.6},{"$f":"'[1]Weekly Piglet prices'!O90","v":""},{"$f":"'[1]Weekly Piglet prices'!P90","v":""},{"$f":"'[1]Weekly Piglet prices'!Q90","v":""},{"$f":"'[1]Weekly Piglet prices'!R90","v":68.44},{"$f":"'[1]Weekly Piglet prices'!S90","v":""},{"$f":"'[1]Weekly Piglet prices'!T90","v":""},{"$f":"'[1]Weekly Piglet prices'!V90","v":""},{"$f":"'[1]Weekly Piglet prices'!W90","v":43.800000000000004},{"$f":"'[1]Weekly Piglet prices'!X90","v":48.061399999999999},{"$f":"'[1]Weekly Piglet prices'!Z90","v":91.320000000000007},{"$f":"'[1]Weekly Piglet prices'!AA90","v":34.25},{"$f":"'[1]Weekly Piglet prices'!AB90","v":""},{"$f":"'[1]Weekly Piglet prices'!AC90","v":41.198},{"$f":"'[1]Weekly Piglet prices'!AD90","v":174.34},{"$f":"'[1]Weekly Piglet prices'!AE90","v":37},{"$f":"'[1]Weekly Piglet prices'!AF90","v":""},{"$f":"'[1]Weekly Piglet prices'!AG90","v":""},{"$f":"'[1]Weekly Piglet prices'!AH90","v":""},{"$f":"'[1]Weekly Piglet prices'!AI90","v":76.540000000000006},{"$f":"'[1]Weekly Piglet prices'!AJ90","v":55.910000000000004},{"$f":"'[1]Weekly Piglet prices'!AK90","v":86.237400000000008},{"$f":"'[1]Weekly Piglet prices'!AL90","v":740.75},{"$f":"'[1]Weekly Piglet prices'!AM90","v":58.791200000000003},{"$f":"'[1]Weekly Piglet prices'!AN90","v":50.29},{"$f":"'[1]Weekly Piglet prices'!AO90","v":0},{"$f":"'[1]Weekly Piglet prices'!AP90","v":45.419975494505493},null,{"$f":"'[1]Weekly Piglet prices'!AR90","v":0},{"$f":"'[1]Weekly Piglet prices'!AS90","v":0}]
["2013-06-03",23,{"$f":"'[1]Weekly Piglet prices'!C91","v":42.5},{"$f":"'[1]Weekly Piglet prices'!D91","v":""},{"$f":"'[1]Weekly Piglet prices'!E91","v":""},{"$f":"'[1]Weekly Piglet prices'!F91","v":55.455200000000005},{"$f":"'[1]Weekly Piglet prices'!G91","v":1426},{"$f":"'[1]Weekly Piglet prices'!H91","v":41.045999999999999},{"$f":"'[1]Weekly Piglet prices'!I91","v":306},{"$f":"'[1]Weekly Piglet prices'!J91","v":53},{"$f":"'[1]Weekly Piglet prices'!K91","v":38.96},{"$f":"'[1]Weekly Piglet prices'!L91","v":""},{"$f":"'[1]Weekly Piglet prices'!M91","v":39.1},{"$f":"'[1]Weekly Piglet prices'!N91","v":32.4},{"$f":"'[1]Weekly Piglet prices'!O91","v":""},{"$f":"'[1]Weekly Piglet prices'!P91","v":""},{"$f":"'[1]Weekly Piglet prices'!Q91","v":""},{"$f":"'[1]Weekly Piglet prices'!R91","v":66.47},{"$f":"'[1]Weekly Piglet prices'!S91","v":""},{"$f":"'[1]Weekly Piglet prices'!T91","v":""},{"$f":"'[1]Weekly Piglet prices'!V91","v":""},{"$f":"'[1]Weekly Piglet prices'!W91","v":43.7},{"$f":"'[1]Weekly Piglet prices'!X91","v":42.906300000000002},{"$f":"'[1]Weekly Piglet prices'!Z91","v":91.320000000000007},{"$f":"'[1]Weekly Piglet prices'!AA91","v":34.25},{"$f":"'[1]Weekly Piglet prices'!AB91","v":""},{"$f":"'[1]Weekly Piglet prices'!AC91","v":41.307400000000001},{"$f":"'[1]Weekly Piglet prices'!AD91","v":176.53},{"$f":"'[1]Weekly Piglet prices'!AE91","v":37},{"$f":"'[1]Weekly Piglet prices'!AF91","v":""},{"$f":"'[1]Weekly Piglet prices'!AG91","v":""},{"$f":"'[1]Weekly Piglet prices'!AH91","v":""},{"$f":"'[1]Weekly Piglet prices'!AI91","v":68.64},{"$f":"'[1]Weekly Piglet prices'!AJ91","v":55.95},{"$f":"'[1]Weekly Piglet prices'!AK91","v":88.105900000000005},{"$f":"'[1]Weekly Piglet prices'!AL91","v":759.48},{"$f":"'[1]Weekly Piglet prices'!AM91","v":59.929600000000001},{"$f":"'[1]Weekly Piglet prices'!AN91","v":51.06},{"$f":"'[1]Weekly Piglet prices'!AO91","v":0},{"$f":"'[1]Weekly Piglet prices'!AP91","v":45.070270879120883},null,{"$f":"'[1]Weekly Piglet prices'!AR91","v":0},{"$f":"'[1]Weekly Piglet prices'!AS91","v":0}]
["2013-06-10",24,{"$f":"'[1]Weekly Piglet prices'!C92","v":43},{"$f":"'[1]Weekly Piglet prices'!D92","v":""},{"$f":"'[1]Weekly Piglet prices'!E92","v":""},{"$f":"'[1]Weekly Piglet prices'!F92","v":54.660700000000006},{"$f":"'[1]Weekly Piglet prices'!G92","v":1403},{"$f":"'[1]Weekly Piglet prices'!H92","v":42.104300000000002},{"$f":"'[1]Weekly Piglet prices'!I92","v":314},{"$f":"'[1]Weekly Piglet prices'!J92","v":53.6},{"$f":"'[1]Weekly Piglet prices'!K92","v":39.28},{"$f":"'[1]Weekly Piglet prices'!L92","v":""},{"$f":"'[1]Weekly Piglet prices'!M92","v":39.1},{"$f":"'[1]Weekly Piglet prices'!N92","v":33.4},{"$f":"'[1]Weekly Piglet prices'!O92","v":""},{"$f":"'[1]Weekly Piglet prices'!P92","v":""},{"$f":"'[1]Weekly Piglet prices'!Q92","v":""},{"$f":"'[1]Weekly Piglet prices'!R92","v":65.3},{"$f":"'[1]Weekly Piglet prices'!S92","v":""},{"$f":"'[1]Weekly Piglet prices'!T92","v":""},{"$f":"'[1]Weekly Piglet prices'!V92","v":""},{"$f":"'[1]Weekly Piglet prices'!W92","v":44.6},{"$f":"'[1]Weekly Piglet prices'!X92","v":44.031500000000001},{"$f":"'[1]Weekly Piglet prices'!Z92","v":91.320000000000007},{"$f":"'[1]Weekly Piglet prices'!AA92","v":34.25},{"$f":"'[1]Weekly Piglet prices'!AB92","v":""},{"$f":"'[1]Weekly Piglet prices'!AC92","v":41.155100000000004},{"$f":"'[1]Weekly Piglet prices'!AD92","v":175.35},{"$f":"'[1]Weekly Piglet prices'!AE92","v":37},{"$f":"'[1]Weekly Piglet prices'!AF92","v":""},{"$f":"'[1]Weekly Piglet prices'!AG92","v":""},{"$f":"'[1]Weekly Piglet prices'!AH92","v":""},{"$f":"'[1]Weekly Piglet prices'!AI92","v":80.23},{"$f":"'[1]Weekly Piglet prices'!AJ92","v":55.83},{"$f":"'[1]Weekly Piglet prices'!AK92","v":87.528400000000005},{"$f":"'[1]Weekly Piglet prices'!AL92","v":759.34},{"$f":"'[1]Weekly Piglet prices'!AM92","v":60.594200000000001},{"$f":"'[1]Weekly Piglet prices'!AN92","v":51.56},{"$f":"'[1]Weekly Piglet prices'!AO92","v":0},{"$f":"'[1]Weekly Piglet prices'!AP92","v":45.401981208791206},null,{"$f":"'[1]Weekly Piglet prices'!AR92","v":0},{"$f":"'[1]Weekly Piglet prices'!AS92","v":0}]
["2013-06-17",25,{"$f":"'[1]Weekly Piglet prices'!C93","v":43.5},{"$f":"'[1]Weekly Piglet prices'!D93","v":""},{"$f":"'[1]Weekly Piglet prices'!E93","v":""},{"$f":"'[1]Weekly Piglet prices'!F93","v":55.141300000000001},{"$f":"'[1]Weekly Piglet prices'!G93","v":1420},{"$f":"'[1]Weekly Piglet prices'!H93","v":42.634599999999999},{"$f":"'[1]Weekly Piglet prices'!I93","v":318},{"$f":"'[1]Weekly Piglet prices'!J93","v":53.6},{"$f":"'[1]Weekly Piglet prices'!K93","v":38.800000000000004},{"$f":"'[1]Weekly Piglet prices'!L93","v":""},{"$f":"'[1]Weekly Piglet prices'!M93","v":39.79},{"$f":"'[1]Weekly Piglet prices'!N93","v":33.6},{"$f":"'[1]Weekly Piglet prices'!O93","v":""},{"$f":"'[1]Weekly Piglet prices'!P93","v":""},{"$f":"'[1]Weekly Piglet prices'!Q93","v":""},{"$f":"'[1]Weekly Piglet prices'!R93","v":64.710000000000008},{"$f":"'[1]Weekly Piglet prices'!S93","v":""},{"$f":"'[1]Weekly Piglet prices'!T93","v":""},{"$f":"'[1]Weekly Piglet prices'!V93","v":""},{"$f":"'[1]Weekly Piglet prices'!W93","v":44.1},{"$f":"'[1]Weekly Piglet prices'!X93","v":50.356900000000003},{"$f":"'[1]Weekly Piglet prices'!Z93","v":91.320000000000007},{"$f":"'[1]Weekly Piglet prices'!AA93","v":34.25},{"$f":"'[1]Weekly Piglet prices'!AB93","v":""},{"$f":"'[1]Weekly Piglet prices'!AC93","v":40.664900000000003},{"$f":"'[1]Weekly Piglet prices'!AD93","v":174.02},{"$f":"'[1]Weekly Piglet prices'!AE93","v":37},{"$f":"'[1]Weekly Piglet prices'!AF93","v":""},{"$f":"'[1]Weekly Piglet prices'!AG93","v":""},{"$f":"'[1]Weekly Piglet prices'!AH93","v":""},{"$f":"'[1]Weekly Piglet prices'!AI93","v":69.600000000000009},{"$f":"'[1]Weekly Piglet prices'!AJ93","v":55.81},{"$f":"'[1]Weekly Piglet prices'!AK93","v":86.387100000000004},{"$f":"'[1]Weekly Piglet prices'!AL93","v":747},{"$f":"'[1]Weekly Piglet prices'!AM93","v":60.879200000000004},{"$f":"'[1]Weekly Piglet prices'!AN93","v":51.94},{"$f":"'[1]Weekly Piglet prices'!AO93","v":0},{"$f":"'[1]Weekly Piglet prices'!AP93","v":45.62878560439561},null,{"$f":"'[1]Weekly Piglet prices'!AR93","v":0},{"$f":"'[1]Weekly Piglet prices'!AS93","v":0}]
["2013-06-24",26,{"$f":"'[1]Weekly Piglet prices'!C94","v":44},{"$f":"'[1]Weekly Piglet prices'!D94","v":""},{"$f":"'[1]Weekly Piglet prices'!E94","v":""},{"$f":"'[1]Weekly Piglet prices'!F94","v":71.613900000000001},{"$f":"'[1]Weekly Piglet prices'!G94","v":1853},{"$f":"'[1]Weekly Piglet prices'!H94","v":43.705300000000001},{"$f":"'[1]Weekly Piglet prices'!I94","v":326},{"$f":"'[1]Weekly Piglet prices'!J94","v":53.6},{"$f":"'[1]Weekly Piglet prices'!K94","v":39.54},{"$f":"'[1]Weekly Piglet prices'!L94","v":""},{"$f":"'[1]Weekly Piglet prices'!M94","v":40.61},{"$f":"'[1]Weekly Piglet prices'!N94","v":33.799999999999997},{"$f":"'[1]Weekly Piglet prices'!O94","v":""},{"$f":"'[1]Weekly Piglet prices'!P94","v":""},{"$f":"'[1]Weekly Piglet prices'!Q94","v":""},{"$f":"'[1]Weekly Piglet prices'!R94","v":64.41},{"$f":"'[1]Weekly Piglet prices'!S94","v":""},{"$f":"'[1]Weekly Piglet prices'!T94","v":""},{"$f":"'[1]Weekly Piglet prices'!V94","v":""},{"$f":"'[1]Weekly Piglet prices'!W94","v":43.1},{"$f":"'[1]Weekly Piglet prices'!X94","v":47.168700000000001},{"$f":"'[1]Weekly Piglet prices'!Z94","v":91.320000000000007},{"$f":"'[1]Weekly Piglet prices'!AA94","v":34.25},{"$f":"'[1]Weekly Piglet prices'!AB94","v":""},{"$f":"'[1]Weekly Piglet prices'!AC94","v":40.221600000000002},{"$f":"'[1]Weekly Piglet prices'!AD94","v":174.32},{"$f":"'[1]Weekly Piglet prices'!AE94","v":37},{"$f":"'[1]Weekly Piglet prices'!AF94","v":""},{"$f":"'[1]Weekly Piglet prices'!AG94","v":""},{"$f":"'[1]Weekly Piglet prices'!AH94","v":""},{"$f":"'[1]Weekly Piglet prices'!AI94","v":77},{"$f":"'[1]Weekly Piglet prices'!AJ94","v":56.65},{"$f":"'[1]Weekly Piglet prices'!AK94","v":85.671000000000006},{"$f":"'[1]Weekly Piglet prices'!AL94","v":751.72},{"$f":"'[1]Weekly Piglet prices'!AM94","v":61.570700000000002},{"$f":"'[1]Weekly Piglet prices'!AN94","v":52.5},{"$f":"'[1]Weekly Piglet prices'!AO94","v":0},{"$f":"'[1]Weekly Piglet prices'!AP94","v":46.029001098901105},null,{"$f":"'[1]Weekly Piglet prices'!AR94","v":0},{"$f":"'[1]Weekly Piglet prices'!AS94","v":0}]
["2013-07-01",27,{"$f":"'[1]Weekly Piglet prices'!C95","v":44},{"$f":"'[1]Weekly Piglet prices'!D95","v":""},{"$f":"'[1]Weekly Piglet prices'!E95","v":""},{"$f":"'[1]Weekly Piglet prices'!F95","v":71.374300000000005},{"$f":"'[1]Weekly Piglet prices'!G95","v":1853},{"$f":"'[1]Weekly Piglet prices'!H95","v":43.701900000000002},{"$f":"'[1]Weekly Piglet prices'!I95","v":326},{"$f":"'[1]Weekly Piglet prices'!J95","v":53.7},{"$f":"'[1]Weekly Piglet prices'!K95","v":39.47},{"$f":"'[1]Weekly Piglet prices'!L95","v":""},{"$f":"'[1]Weekly Piglet prices'!M95","v":40.630000000000003},{"$f":"'[1]Weekly Piglet prices'!N95","v":33.799999999999997},{"$f":"'[1]Weekly Piglet prices'!O95","v":46.599600000000002},{"$f":"'[1]Weekly Piglet prices'!P95","v":348.2},{"$f":"'[1]Weekly Piglet prices'!Q95","v":""},{"$f":"'[1]Weekly Piglet prices'!R95","v":64.34},{"$f":"'[1]Weekly Piglet prices'!S95","v":""},{"$f":"'[1]Weekly Piglet prices'!T95","v":""},{"$f":"'[1]Weekly Piglet prices'!U95","v":""},{"$f":"'[1]Weekly Piglet prices'!V95","v":""},{"$f":"'[1]Weekly Piglet prices'!W95","v":43.9},{"$f":"'[1]Weekly Piglet prices'!X95","v":44.311},{"$f":"'[1]Weekly Piglet prices'!Y95","v":13056.12},{"$f":"'[1]Weekly Piglet prices'!Z95","v":91.320000000000007},{"$f":"'[1]Weekly Piglet prices'!AA95","v":34.25},{"$f":"'[1]Weekly Piglet prices'!AB95","v":""},{"$f":"'[1]Weekly Piglet prices'!AC95","v":40.0852},{"$f":"'[1]Weekly Piglet prices'!AD95","v":173.04},{"$f":"'[1]Weekly Piglet prices'!AE95","v":37},{"$f":"'[1]Weekly Piglet prices'!AF95","v":""},{"$f":"'[1]Weekly Piglet prices'!AG95","v":""},{"$f":"'[1]Weekly Piglet prices'!AH95","v":""},{"$f":"'[1]Weekly Piglet prices'!AI95","v":68.350000000000009},{"$f":"'[1]Weekly Piglet prices'!AJ95","v":55.76},{"$f":"'[1]Weekly Piglet prices'!AK95","v":86.180199999999999},{"$f":"'[1]Weekly Piglet prices'!AL95","v":749.80000000000007},{"$f":"'[1]Weekly Piglet prices'!AM95","v":62.0867},{"$f":"'[1]Weekly Piglet prices'!AP95","v":45.944324175824171},null,{"$f":"'[1]Weekly Piglet prices'!AP95","v":45.944324175824171},{"$f":"'[1]Weekly Piglet prices'!AR95","v":0}]
["2013-07-08",28,{"$f":"'[1]Weekly Piglet prices'!C96","v":44},{"$f":"'[1]Weekly Piglet prices'!D96","v":""},{"$f":"'[1]Weekly Piglet prices'!E96","v":""},{"$f":"'[1]Weekly Piglet prices'!F96","v":71.4983},{"$f":"'[1]Weekly Piglet prices'!G96","v":1853},{"$f":"'[1]Weekly Piglet prices'!H96","v":44.11},{"$f":"'[1]Weekly Piglet prices'!I96","v":329},{"$f":"'[1]Weekly Piglet prices'!J96","v":53.7},{"$f":"'[1]Weekly Piglet prices'!K96","v":39.800000000000004},{"$f":"'[1]Weekly Piglet prices'!L96","v":""},{"$f":"'[1]Weekly Piglet prices'!M96","v":40.56},{"$f":"'[1]Weekly Piglet prices'!N96","v":33.799999999999997},{"$f":"'[1]Weekly Piglet prices'!O96","v":43.472000000000001},{"$f":"'[1]Weekly Piglet prices'!P96","v":327.2},{"$f":"'[1]Weekly Piglet prices'!Q96","v":""},{"$f":"'[1]Weekly Piglet prices'!R96","v":64.3},{"$f":"'[1]Weekly Piglet prices'!S96","v":""},{"$f":"'[1]Weekly Piglet prices'!T96","v":""},{"$f":"'[1]Weekly Piglet prices'!U96","v":""},{"$f":"'[1]Weekly Piglet prices'!V96","v":""},{"$f":"'[1]Weekly Piglet prices'!W96","v":39.700000000000003},{"$f":"'[1]Weekly Piglet prices'!X96","v":44.2956},{"$f":"'[1]Weekly Piglet prices'!Y96","v":13000},{"$f":"'[1]Weekly Piglet prices'!Z96","v":91.320000000000007},{"$f":"'[1]Weekly Piglet prices'!AA96","v":34.25},{"$f":"'[1]Weekly Piglet prices'!AB96","v":""},{"$f":"'[1]Weekly Piglet prices'!AC96","v":39.92},{"$f":"'[1]Weekly Piglet prices'!AD96","v":172.3},{"$f":"'[1]Weekly Piglet prices'!AE96","v":37},{"$f":"'[1]Weekly Piglet prices'!AF96","v":""},{"$f":"'[1]Weekly Piglet prices'!AG96","v":""},{"$f":"'[1]Weekly Piglet prices'!AH96","v":""},{"$f":"'[1]Weekly Piglet prices'!AI96","v":65.47},{"$f":"'[1]Weekly Piglet prices'!AJ96","v":53.13},{"$f":"'[1]Weekly Piglet prices'!AK96","v":86.696200000000005},{"$f":"'[1]Weekly Piglet prices'!AL96","v":754.97},{"$f":"'[1]Weekly Piglet prices'!AM96","v":62.488700000000001},{"$f":"'[1]Weekly Piglet prices'!AP96","v":45.902759670329658},null,{"$f":"'[1]Weekly Piglet prices'!AP96","v":45.902759670329658},{"$f":"'[1]Weekly Piglet prices'!AR96","v":0}]
["2013-07-15",29,{"$f":"'[1]Weekly Piglet prices'!C97","v":44},{"$f":"'[1]Weekly Piglet prices'!D97","v":""},{"$f":"'[1]Weekly Piglet prices'!E97","v":""},{"$f":"'[1]Weekly Piglet prices'!F97","v":59.220800000000004},{"$f":"'[1]Weekly Piglet prices'!G97","v":1537},{"$f":"'[1]Weekly Piglet prices'!H97","v":44.117100000000001},{"$f":"'[1]Weekly Piglet prices'!I97","v":329},{"$f":"'[1]Weekly Piglet prices'!J97","v":53.6},{"$f":"'[1]Weekly Piglet prices'!K97","v":39.29},{"$f":"'[1]Weekly Piglet prices'!L97","v":""},{"$f":"'[1]Weekly Piglet prices'!M97","v":40.56},{"$f":"'[1]Weekly Piglet prices'!N97","v":33.200000000000003},{"$f":"'[1]Weekly Piglet prices'!O97","v":43.503599999999999},{"$f":"'[1]Weekly Piglet prices'!P97","v":327.2},{"$f":"'[1]Weekly Piglet prices'!Q97","v":""},{"$f":"'[1]Weekly Piglet prices'!R97","v":64.290000000000006},{"$f":"'[1]Weekly Piglet prices'!S97","v":""},{"$f":"'[1]Weekly Piglet prices'!T97","v":""},{"$f":"'[1]Weekly Piglet prices'!U97","v":""},{"$f":"'[1]Weekly Piglet prices'!V97","v":""},{"$f":"'[1]Weekly Piglet prices'!W97","v":36.800000000000004},{"$f":"'[1]Weekly Piglet prices'!X97","v":46.826900000000002},{"$f":"'[1]Weekly Piglet prices'!Y97","v":13763.16},{"$f":"'[1]Weekly Piglet prices'!Z97","v":91.320000000000007},{"$f":"'[1]Weekly Piglet prices'!AA97","v":34.25},{"$f":"'[1]Weekly Piglet prices'!AB97","v":""},{"$f":"'[1]Weekly Piglet prices'!AC97","v":40.273400000000002},{"$f":"'[1]Weekly Piglet prices'!AD97","v":171.82},{"$f":"'[1]Weekly Piglet prices'!AE97","v":39},{"$f":"'[1]Weekly Piglet prices'!AF97","v":""},{"$f":"'[1]Weekly Piglet prices'!AG97","v":""},{"$f":"'[1]Weekly Piglet prices'!AH97","v":""},{"$f":"'[1]Weekly Piglet prices'!AI97","v":67.680000000000007},{"$f":"'[1]Weekly Piglet prices'!AJ97","v":56.230000000000004},{"$f":"'[1]Weekly Piglet prices'!AK97","v":85.341999999999999},{"$f":"'[1]Weekly Piglet prices'!AL97","v":738.52},{"$f":"'[1]Weekly Piglet prices'!AM97","v":62.043000000000006},null,null,{"$f":"'[1]Weekly Piglet prices'!AP97","v":45.808786263736259},{"$f":"'[1]Weekly Piglet prices'!AR97","v":0}]
["2013-07-22",30,{"$f":"'[1]Weekly Piglet prices'!C98","v":45},{"$f":"'[1]Weekly Piglet prices'!D98","v":""},{"$f":"'[1]Weekly Piglet prices'!E98","v":""},{"$f":"'[1]Weekly Piglet prices'!F98","v":59.223100000000002},{"$f":"'[1]Weekly Piglet prices'!G98","v":1537},{"$f":"'[1]Weekly Piglet prices'!H98","v":45.056100000000001},{"$f":"'[1]Weekly Piglet prices'!I98","v":336},{"$f":"'[1]Weekly Piglet prices'!J98","v":54.800000000000004},{"$f":"'[1]Weekly Piglet prices'!K98","v":39.29},{"$f":"'[1]Weekly Piglet prices'!L98","v":""},{"$f":"'[1]Weekly Piglet prices'!M98","v":40.56},{"$f":"'[1]Weekly Piglet prices'!N98","v":33.6},{"$f":"'[1]Weekly Piglet prices'!O98","v":43.036700000000003},{"$f":"'[1]Weekly Piglet prices'!P98","v":323},{"$f":"'[1]Weekly Piglet prices'!Q98","v":""},{"$f":"'[1]Weekly Piglet prices'!R98","v":64.290000000000006},{"$f":"'[1]Weekly Piglet prices'!S98","v":""},{"$f":"'[1]Weekly Piglet prices'!T98","v":""},{"$f":"'[1]Weekly Piglet prices'!U98","v":""},{"$f":"'[1]Weekly Piglet prices'!V98","v":""},{"$f":"'[1]Weekly Piglet prices'!W98","v":43.300000000000004},{"$f":"'[1]Weekly Piglet prices'!X98","v":41.646300000000004},{"$f":"'[1]Weekly Piglet prices'!Y98","v":12312.5},{"$f":"'[1]Weekly Piglet prices'!Z98","v":91.320000000000007},{"$f":"'[1]Weekly Piglet prices'!AA98","v":35.25},{"$f":"'[1]Weekly Piglet prices'!AB98","v":""},{"$f":"'[1]Weekly Piglet prices'!AC98","v":41.319300000000005},{"$f":"'[1]Weekly Piglet prices'!AD98","v":174.75},{"$f":"'[1]Weekly Piglet prices'!AE98","v":40},{"$f":"'[1]Weekly Piglet prices'!AF98","v":""},{"$f":"'[1]Weekly Piglet prices'!AG98","v":""},{"$f":"'[1]Weekly Piglet prices'!AH98","v":""},{"$f":"'[1]Weekly Piglet prices'!AI98","v":67.680000000000007},{"$f":"'[1]Weekly Piglet prices'!AJ98","v":52.42},{"$f":"'[1]Weekly Piglet prices'!AK98","v":86.836399999999998},{"$f":"'[1]Weekly Piglet prices'!AL98","v":745.4},{"$f":"'[1]Weekly Piglet prices'!AM98","v":62.231000000000002},null,null,{"$f":"'[1]Weekly Piglet prices'!AP98","v":46.303244725274723},{"$f":"'[1]Weekly Piglet prices'!AR98","v":0}]
["2013-07-29",31,{"$f":"'[1]Weekly Piglet prices'!C99","v":45},{"$f":"'[1]Weekly Piglet prices'!D99","v":""},{"$f":"'[1]Weekly Piglet prices'!E99","v":""},{"$f":"'[1]Weekly Piglet prices'!F99","v":52.428200000000004},{"$f":"'[1]Weekly Piglet prices'!G99","v":1359},{"$f":"'[1]Weekly Piglet prices'!H99","v":46.008300000000006},{"$f":"'[1]Weekly Piglet prices'!I99","v":343},{"$f":"'[1]Weekly Piglet prices'!J99","v":55.5},{"$f":"'[1]Weekly Piglet prices'!K99","v":38.81},{"$f":"'[1]Weekly Piglet prices'!L99","v":""},{"$f":"'[1]Weekly Piglet prices'!M99","v":39.840000000000003},{"$f":"'[1]Weekly Piglet prices'!N99","v":34.200000000000003},{"$f":"'[1]Weekly Piglet prices'!O99","v":42.997100000000003},{"$f":"'[1]Weekly Piglet prices'!P99","v":323},{"$f":"'[1]Weekly Piglet prices'!Q99","v":""},{"$f":"'[1]Weekly Piglet prices'!R99","v":64.290000000000006},{"$f":"'[1]Weekly Piglet prices'!S99","v":""},{"$f":"'[1]Weekly Piglet prices'!T99","v":""},{"$f":"'[1]Weekly Piglet prices'!U99","v":""},{"$f":"'[1]Weekly Piglet prices'!V99","v":""},{"$f":"'[1]Weekly Piglet prices'!W99","v":41.2},{"$f":"'[1]Weekly Piglet prices'!X99","v":39.015700000000002},{"$f":"'[1]Weekly Piglet prices'!Y99","v":11663.12},{"$f":"'[1]Weekly Piglet prices'!Z99","v":91.320000000000007},{"$f":"'[1]Weekly Piglet prices'!AA99","v":35.25},{"$f":"'[1]Weekly Piglet prices'!AB99","v":""},{"$f":"'[1]Weekly Piglet prices'!AC99","v":40.367100000000001},{"$f":"'[1]Weekly Piglet prices'!AD99","v":171.12},{"$f":"'[1]Weekly Piglet prices'!AE99","v":40},{"$f":"'[1]Weekly Piglet prices'!AF99","v":""},{"$f":"'[1]Weekly Piglet prices'!AG99","v":""},{"$f":"'[1]Weekly Piglet prices'!AH99","v":""},{"$f":"'[1]Weekly Piglet prices'!AI99","v":53.79},{"$f":"'[1]Weekly Piglet prices'!AJ99","v":52.99},{"$f":"'[1]Weekly Piglet prices'!AK99","v":85.306100000000001},{"$f":"'[1]Weekly Piglet prices'!AL99","v":741.21},{"$f":"'[1]Weekly Piglet prices'!AM99","v":61.669800000000002},null,null,{"$f":"'[1]Weekly Piglet prices'!AP99","v":46.159299450549447},{"$f":"'[1]Weekly Piglet prices'!AR99","v":0}]
["2013-08-05",32,{"$f":"'[1]Weekly Piglet prices'!C100","v":45},{"$f":"'[1]Weekly Piglet prices'!D100","v":""},{"$f":"'[1]Weekly Piglet prices'!E100","v":""},{"$f":"'[1]Weekly Piglet prices'!F100","v":57.786799999999999},{"$f":"'[1]Weekly Piglet prices'!G100","v":1498},{"$f":"'[1]Weekly Piglet prices'!H100","v":45.999600000000001},{"$f":"'[1]Weekly Piglet prices'!I100","v":343},{"$f":"'[1]Weekly Piglet prices'!J100","v":55.800000000000004},{"$f":"'[1]Weekly Piglet prices'!K100","v":39.67},{"$f":"'[1]Weekly Piglet prices'!L100","v":""},{"$f":"'[1]Weekly Piglet prices'!M100","v":38.910000000000004},{"$f":"'[1]Weekly Piglet prices'!N100","v":34.200000000000003},{"$f":"'[1]Weekly Piglet prices'!O100","v":42.967100000000002},{"$f":"'[1]Weekly Piglet prices'!P100","v":322.8},{"$f":"'[1]Weekly Piglet prices'!Q100","v":""},{"$f":"'[1]Weekly Piglet prices'!R100","v":64.290000000000006},{"$f":"'[1]Weekly Piglet prices'!S100","v":""},{"$f":"'[1]Weekly Piglet prices'!T100","v":""},{"$f":"'[1]Weekly Piglet prices'!U100","v":""},{"$f":"'[1]Weekly Piglet prices'!V100","v":""},{"$f":"'[1]Weekly Piglet prices'!W100","v":44},{"$f":"'[1]Weekly Piglet prices'!X100","v":41.791000000000004},{"$f":"'[1]Weekly Piglet prices'!Y100","v":12500},{"$f":"'[1]Weekly Piglet prices'!Z100","v":91.320000000000007},{"$f":"'[1]Weekly Piglet prices'!AA100","v":35.25},{"$f":"'[1]Weekly Piglet prices'!AB100","v":""},{"$f":"'[1]Weekly Piglet prices'!AC100","v":40.811700000000002},{"$f":"'[1]Weekly Piglet prices'!AD100","v":171.92000000000002},{"$f":"'[1]Weekly Piglet prices'!AE100","v":40},{"$f":"'[1]Weekly Piglet prices'!AF100","v":""},{"$f":"'[1]Weekly Piglet prices'!AG100","v":""},{"$f":"'[1]Weekly Piglet prices'!AH100","v":""},{"$f":"'[1]Weekly Piglet prices'!AI100","v":71.47},{"$f":"'[1]Weekly Piglet prices'!AJ100","v":56.93},{"$f":"'[1]Weekly Piglet prices'!AK100","v":85.392800000000008},{"$f":"'[1]Weekly Piglet prices'!AL100","v":744.17},{"$f":"'[1]Weekly Piglet prices'!AM100","v":62.235300000000002},null,null,{"$f":"'[1]Weekly Piglet prices'!AP100","v":46.342800549450544},{"$f":"'[1]Weekly Piglet prices'!AR100","v":0}]
["2013-08-12",33,{"$f":"'[1]Weekly Piglet prices'!C101","v":45.5},{"$f":"'[1]Weekly Piglet prices'!D101","v":""},{"$f":"'[1]Weekly Piglet prices'!E101","v":""},{"$f":"'[1]Weekly Piglet prices'!F101","v":54.942600000000006},{"$f":"'[1]Weekly Piglet prices'!G101","v":1420},{"$f":"'[1]Weekly Piglet prices'!H101","v":47.195300000000003},{"$f":"'[1]Weekly Piglet prices'!I101","v":352},{"$f":"'[1]Weekly Piglet prices'!J101","v":56.5},{"$f":"'[1]Weekly Piglet prices'!K101","v":37.6},{"$f":"'[1]Weekly Piglet prices'!L101","v":""},{"$f":"'[1]Weekly Piglet prices'!M101","v":38.910000000000004},{"$f":"'[1]Weekly Piglet prices'!N101","v":33.799999999999997},{"$f":"'[1]Weekly Piglet prices'!O101","v":42.832300000000004},{"$f":"'[1]Weekly Piglet prices'!P101","v":322.8},{"$f":"'[1]Weekly Piglet prices'!Q101","v":""},{"$f":"'[1]Weekly Piglet prices'!R101","v":64.290000000000006},{"$f":"'[1]Weekly Piglet prices'!S101","v":""},{"$f":"'[1]Weekly Piglet prices'!T101","v":""},{"$f":"'[1]Weekly Piglet prices'!U101","v":""},{"$f":"'[1]Weekly Piglet prices'!V101","v":""},{"$f":"'[1]Weekly Piglet prices'!W101","v":43},{"$f":"'[1]Weekly Piglet prices'!X101","v":39.304200000000002},{"$f":"'[1]Weekly Piglet prices'!Y101","v":11750},{"$f":"'[1]Weekly Piglet prices'!Z101","v":91.320000000000007},{"$f":"'[1]Weekly Piglet prices'!AA101","v":36.25},{"$f":"'[1]Weekly Piglet prices'!AB101","v":""},{"$f":"'[1]Weekly Piglet prices'!AC101","v":40.698300000000003},{"$f":"'[1]Weekly Piglet prices'!AD101","v":171.13},{"$f":"'[1]Weekly Piglet prices'!AE101","v":40},{"$f":"'[1]Weekly Piglet prices'!AF101","v":""},{"$f":"'[1]Weekly Piglet prices'!AG101","v":""},{"$f":"'[1]Weekly Piglet prices'!AH101","v":""},{"$f":"'[1]Weekly Piglet prices'!AI101","v":69.760000000000005},{"$f":"'[1]Weekly Piglet prices'!AJ101","v":56.800000000000004},{"$f":"'[1]Weekly Piglet prices'!AK101","v":86.682700000000011},{"$f":"'[1]Weekly Piglet prices'!AL101","v":751.85},{"$f":"'[1]Weekly Piglet prices'!AM101","v":62.575700000000005},null,null,{"$f":"'[1]Weekly Piglet prices'!AP101","v":46.587623516483511},{"$f":"'[1]Weekly Piglet prices'!$AQ101","v":5.2828694884705651E-3}]
["2013-08-19",34,{"$f":"'[1]Weekly Piglet prices'!C102","v":47},{"$f":"'[1]Weekly Piglet prices'!D102","v":""},{"$f":"'[1]Weekly Piglet prices'!E102","v":""},{"$f":"'[1]Weekly Piglet prices'!F102","v":51.2562},{"$f":"'[1]Weekly Piglet prices'!G102","v":1320},{"$f":"'[1]Weekly Piglet prices'!H102","v":48.273600000000002},{"$f":"'[1]Weekly Piglet prices'!I102","v":360},{"$f":"'[1]Weekly Piglet prices'!J102","v":57.5},{"$f":"'[1]Weekly Piglet prices'!K102","v":38.82},{"$f":"'[1]Weekly Piglet prices'!L102","v":""},{"$f":"'[1]Weekly Piglet prices'!M102","v":39.200000000000003},{"$f":"'[1]Weekly Piglet prices'!N102","v":32.4},{"$f":"'[1]Weekly Piglet prices'!O102","v":42.406300000000002},{"$f":"'[1]Weekly Piglet prices'!P102","v":320},{"$f":"'[1]Weekly Piglet prices'!Q102","v":""},{"$f":"'[1]Weekly Piglet prices'!R102","v":64.33},{"$f":"'[1]Weekly Piglet prices'!S102","v":""},{"$f":"'[1]Weekly Piglet prices'!T102","v":""},{"$f":"'[1]Weekly Piglet prices'!U102","v":""},{"$f":"'[1]Weekly Piglet prices'!V102","v":""},{"$f":"'[1]Weekly Piglet prices'!W102","v":42.5},{"$f":"'[1]Weekly Piglet prices'!X102","v":45.683100000000003},{"$f":"'[1]Weekly Piglet prices'!Y102","v":13687.5},{"$f":"'[1]Weekly Piglet prices'!Z102","v":91.320000000000007},{"$f":"'[1]Weekly Piglet prices'!AA102","v":37.5},{"$f":"'[1]Weekly Piglet prices'!AB102","v":""},{"$f":"'[1]Weekly Piglet prices'!AC102","v":41.1691},{"$f":"'[1]Weekly Piglet prices'!AD102","v":174.39000000000001},{"$f":"'[1]Weekly Piglet prices'!AE102","v":44},{"$f":"'[1]Weekly Piglet prices'!AF102","v":""},{"$f":"'[1]Weekly Piglet prices'!AG102","v":""},{"$f":"'[1]Weekly Piglet prices'!AH102","v":""},{"$f":"'[1]Weekly Piglet prices'!AI102","v":67.570000000000007},{"$f":"'[1]Weekly Piglet prices'!AJ102","v":54.51},{"$f":"'[1]Weekly Piglet prices'!AK102","v":86.2988},{"$f":"'[1]Weekly Piglet prices'!AL102","v":751.66},{"$f":"'[1]Weekly Piglet prices'!AM102","v":62.736600000000003},null,null,{"$f":"'[1]Weekly Piglet prices'!AP102","v":47.163747472527454},{"$f":"'[1]Weekly Piglet prices'!$AQ102","v":1.2366459427579635E-2}]
["2013-08-26",35,{"$f":"'[1]Weekly Piglet prices'!C103","v":48},{"$f":"'[1]Weekly Piglet prices'!D103","v":""},{"$f":"'[1]Weekly Piglet prices'!E103","v":""},{"$f":"'[1]Weekly Piglet prices'!F103","v":59.140700000000002},{"$f":"'[1]Weekly Piglet prices'!G103","v":1520},{"$f":"'[1]Weekly Piglet prices'!H103","v":49.2},{"$f":"'[1]Weekly Piglet prices'!I103","v":367},{"$f":"'[1]Weekly Piglet prices'!J103","v":58.7},{"$f":"'[1]Weekly Piglet prices'!K103","v":38.51},{"$f":"'[1]Weekly Piglet prices'!L103","v":""},{"$f":"'[1]Weekly Piglet prices'!M103","v":40.28},{"$f":"'[1]Weekly Piglet prices'!N103","v":34},{"$f":"'[1]Weekly Piglet prices'!O103","v":42.327600000000004},{"$f":"'[1]Weekly Piglet prices'!P103","v":320},{"$f":"'[1]Weekly Piglet prices'!Q103","v":""},{"$f":"'[1]Weekly Piglet prices'!R103","v":64.290000000000006},{"$f":"'[1]Weekly Piglet prices'!S103","v":""},{"$f":"'[1]Weekly Piglet prices'!T103","v":""},{"$f":"'[1]Weekly Piglet prices'!U103","v":""},{"$f":"'[1]Weekly Piglet prices'!V103","v":""},{"$f":"'[1]Weekly Piglet prices'!W103","v":41.300000000000004},{"$f":"'[1]Weekly Piglet prices'!X103","v":41.756300000000003},{"$f":"'[1]Weekly Piglet prices'!Y103","v":12538.460000000001},{"$f":"'[1]Weekly Piglet prices'!Z103","v":91.320000000000007},{"$f":"'[1]Weekly Piglet prices'!AA103","v":38.5},{"$f":"'[1]Weekly Piglet prices'!AB103","v":""},{"$f":"'[1]Weekly Piglet prices'!AC103","v":40.3977},{"$f":"'[1]Weekly Piglet prices'!AD103","v":172.03},{"$f":"'[1]Weekly Piglet prices'!AE103","v":45},{"$f":"'[1]Weekly Piglet prices'!AF103","v":""},{"$f":"'[1]Weekly Piglet prices'!AG103","v":""},{"$f":"'[1]Weekly Piglet prices'!AH103","v":""},{"$f":"'[1]Weekly Piglet prices'!AI103","v":67.570000000000007},{"$f":"'[1]Weekly Piglet prices'!AJ103","v":55.870000000000005},{"$f":"'[1]Weekly Piglet prices'!AK103","v":85.645800000000008},{"$f":"'[1]Weekly Piglet prices'!AL103","v":746.80000000000007},{"$f":"'[1]Weekly Piglet prices'!AM103","v":62.556400000000004},null,null,{"$f":"'[1]Weekly Piglet prices'!AP103","v":47.957558901098892},{"$f":"'[1]Weekly Piglet prices'!$AQ103","v":1.6830965966684985E-2}]
["2013-09-02",36,{"$f":"'[1]Weekly Piglet prices'!C104","v":48},{"$f":"'[1]Weekly Piglet prices'!D104","v":""},{"$f":"'[1]Weekly Piglet prices'!E104","v":""},{"$f":"'[1]Weekly Piglet prices'!F104","v":59.862300000000005},{"$f":"'[1]Weekly Piglet prices'!G104","v":1541},{"$f":"'[1]Weekly Piglet prices'!H104","v":50.812100000000001},{"$f":"'[1]Weekly Piglet prices'!I104","v":379},{"$f":"'[1]Weekly Piglet prices'!J104","v":59.1},{"$f":"'[1]Weekly Piglet prices'!K104","v":36.770000000000003},{"$f":"'[1]Weekly Piglet prices'!L104","v":""},{"$f":"'[1]Weekly Piglet prices'!M104","v":41.800000000000004},{"$f":"'[1]Weekly Piglet prices'!N104","v":34},{"$f":"'[1]Weekly Piglet prices'!O104","v":41.738900000000001},{"$f":"'[1]Weekly Piglet prices'!P104","v":316.40000000000003},{"$f":"'[1]Weekly Piglet prices'!Q104","v":""},{"$f":"'[1]Weekly Piglet prices'!R104","v":64.33},{"$f":"'[1]Weekly Piglet prices'!S104","v":""},{"$f":"'[1]Weekly Piglet prices'!T104","v":""},{"$f":"'[1]Weekly Piglet prices'!U104","v":""},{"$f":"'[1]Weekly Piglet prices'!V104","v":""},{"$f":"'[1]Weekly Piglet prices'!W104","v":39.200000000000003},{"$f":"'[1]Weekly Piglet prices'!X104","v":36.542400000000001},{"$f":"'[1]Weekly Piglet prices'!Y104","v":11000},{"$f":"'[1]Weekly Piglet prices'!Z104","v":91.320000000000007},{"$f":"'[1]Weekly Piglet prices'!AA104","v":38.5},{"$f":"'[1]Weekly Piglet prices'!AB104","v":""},{"$f":"'[1]Weekly Piglet prices'!AC104","v":42.266400000000004},{"$f":"'[1]Weekly Piglet prices'!AD104","v":180.73},{"$f":"'[1]Weekly Piglet prices'!AE104","v":48},{"$f":"'[1]Weekly Piglet prices'!AF104","v":""},{"$f":"'[1]Weekly Piglet prices'!AG104","v":""},{"$f":"'[1]Weekly Piglet prices'!AH104","v":""},{"$f":"'[1]Weekly Piglet prices'!AI104","v":67.570000000000007},{"$f":"'[1]Weekly Piglet prices'!AJ104","v":55.910000000000004},{"$f":"'[1]Weekly Piglet prices'!AK104","v":83.407700000000006},{"$f":"'[1]Weekly Piglet prices'!AL104","v":728.23},{"$f":"'[1]Weekly Piglet prices'!AM104","v":63.497700000000002},null,null,{"$f":"'[1]Weekly Piglet prices'!AP104","v":48.570065054945054},{"$f":"'[1]Weekly Piglet prices'!$AQ104","v":1.2771837597266078E-2}]
["2013-09-09",37,{"$f":"'[1]Weekly Piglet prices'!C105","v":46},{"$f":"'[1]Weekly Piglet prices'!D105","v":""},{"$f":"'[1]Weekly Piglet prices'!E105","v":""},{"$f":"'[1]Weekly Piglet prices'!F105","v":64.2316},{"$f":"'[1]Weekly Piglet prices'!G105","v":1657},{"$f":"'[1]Weekly Piglet prices'!H105","v":50.816600000000001},{"$f":"'[1]Weekly Piglet prices'!I105","v":379},{"$f":"'[1]Weekly Piglet prices'!J105","v":59.2},{"$f":"'[1]Weekly Piglet prices'!K105","v":38.6},{"$f":"'[1]Weekly Piglet prices'!L105","v":""},{"$f":"'[1]Weekly Piglet prices'!M105","v":42.14},{"$f":"'[1]Weekly Piglet prices'!N105","v":34.200000000000003},{"$f":"'[1]Weekly Piglet prices'!O105","v":41.705200000000005},{"$f":"'[1]Weekly Piglet prices'!P105","v":316.40000000000003},{"$f":"'[1]Weekly Piglet prices'!Q105","v":""},{"$f":"'[1]Weekly Piglet prices'!R105","v":64.56},{"$f":"'[1]Weekly Piglet prices'!S105","v":""},{"$f":"'[1]Weekly Piglet prices'!T105","v":""},{"$f":"'[1]Weekly Piglet prices'!U105","v":""},{"$f":"'[1]Weekly Piglet prices'!V105","v":""},{"$f":"'[1]Weekly Piglet prices'!W105","v":45.300000000000004},{"$f":"'[1]Weekly Piglet prices'!X105","v":36.628799999999998},{"$f":"'[1]Weekly Piglet prices'!Y105","v":11000},{"$f":"'[1]Weekly Piglet prices'!Z105","v":91.320000000000007},{"$f":"'[1]Weekly Piglet prices'!AA105","v":37.5},{"$f":"'[1]Weekly Piglet prices'!AB105","v":""},{"$f":"'[1]Weekly Piglet prices'!AC105","v":42.208000000000006},{"$f":"'[1]Weekly Piglet prices'!AD105","v":179.07},{"$f":"'[1]Weekly Piglet prices'!AE105","v":48},{"$f":"'[1]Weekly Piglet prices'!AF105","v":""},{"$f":"'[1]Weekly Piglet prices'!AG105","v":""},{"$f":"'[1]Weekly Piglet prices'!AH105","v":""},{"$f":"'[1]Weekly Piglet prices'!AI105","v":67.570000000000007},{"$f":"'[1]Weekly Piglet prices'!AJ105","v":53.82},{"$f":"'[1]Weekly Piglet prices'!AK105","v":85.150300000000001},{"$f":"'[1]Weekly Piglet prices'!AL105","v":741.25},{"$f":"'[1]Weekly Piglet prices'!AM105","v":64.279300000000006},null,null,{"$f":"'[1]Weekly Piglet prices'!AP105","v":48.581547362637352},{"$f":"'[1]Weekly Piglet prices'!$AQ105","v":2.3640708900241059E-4}]
["2013-09-16",38,{"$f":"'[1]Weekly Piglet prices'!C106","v":45},{"$f":"'[1]Weekly Piglet prices'!D106","v":""},{"$f":"'[1]Weekly Piglet prices'!E106","v":""},{"$f":"'[1]Weekly Piglet prices'!F106","v":64.233699999999999},{"$f":"'[1]Weekly Piglet prices'!G106","v":1656},{"$f":"'[1]Weekly Piglet prices'!H106","v":50.823500000000003},{"$f":"'[1]Weekly Piglet prices'!I106","v":379},{"$f":"'[1]Weekly Piglet prices'!J106","v":58.5},{"$f":"'[1]Weekly Piglet prices'!K106","v":38.46},{"$f":"'[1]Weekly Piglet prices'!L106","v":""},{"$f":"'[1]Weekly Piglet prices'!M106","v":42.14},{"$f":"'[1]Weekly Piglet prices'!N106","v":33.799999999999997},{"$f":"'[1]Weekly Piglet prices'!O106","v":41.821600000000004},{"$f":"'[1]Weekly Piglet prices'!P106","v":318},{"$f":"'[1]Weekly Piglet prices'!Q106","v":""},{"$f":"'[1]Weekly Piglet prices'!R106","v":64.760000000000005},{"$f":"'[1]Weekly Piglet prices'!S106","v":""},{"$f":"'[1]Weekly Piglet prices'!T106","v":""},{"$f":"'[1]Weekly Piglet prices'!U106","v":""},{"$f":"'[1]Weekly Piglet prices'!V106","v":""},{"$f":"'[1]Weekly Piglet prices'!W106","v":42.2},{"$f":"'[1]Weekly Piglet prices'!X106","v":43.473400000000005},{"$f":"'[1]Weekly Piglet prices'!Y106","v":12987.36},{"$f":"'[1]Weekly Piglet prices'!Z106","v":91.320000000000007},{"$f":"'[1]Weekly Piglet prices'!AA106","v":36.5},{"$f":"'[1]Weekly Piglet prices'!AB106","v":""},{"$f":"'[1]Weekly Piglet prices'!AC106","v":43.2209},{"$f":"'[1]Weekly Piglet prices'!AD106","v":182.16},{"$f":"'[1]Weekly Piglet prices'!AE106","v":48},{"$f":"'[1]Weekly Piglet prices'!AF106","v":""},{"$f":"'[1]Weekly Piglet prices'!AG106","v":""},{"$f":"'[1]Weekly Piglet prices'!AH106","v":""},{"$f":"'[1]Weekly Piglet prices'!AI106","v":78.08},{"$f":"'[1]Weekly Piglet prices'!AJ106","v":55.980000000000004},{"$f":"'[1]Weekly Piglet prices'!AK106","v":84.83},{"$f":"'[1]Weekly Piglet prices'!AL106","v":732.26},{"$f":"'[1]Weekly Piglet prices'!AM106","v":64.430300000000003},null,null,{"$f":"'[1]Weekly Piglet prices'!AP106","v":48.569133406593394},{"$f":"'[1]Weekly Piglet prices'!$AQ106","v":-2.5552821426810812E-4}]
["2013-09-23",39,{"$f":"'[1]Weekly Piglet prices'!C107","v":42.5},{"$f":"'[1]Weekly Piglet prices'!D107","v":""},{"$f":"'[1]Weekly Piglet prices'!E107","v":""},{"$f":"'[1]Weekly Piglet prices'!F107","v":64.131},{"$f":"'[1]Weekly Piglet prices'!G107","v":1656},{"$f":"'[1]Weekly Piglet prices'!H107","v":50.822300000000006},{"$f":"'[1]Weekly Piglet prices'!I107","v":379},{"$f":"'[1]Weekly Piglet prices'!J107","v":56.5},{"$f":"'[1]Weekly Piglet prices'!K107","v":39.6},{"$f":"'[1]Weekly Piglet prices'!L107","v":""},{"$f":"'[1]Weekly Piglet prices'!M107","v":40.49},{"$f":"'[1]Weekly Piglet prices'!N107","v":33.6},{"$f":"'[1]Weekly Piglet prices'!O107","v":41.7592},{"$f":"'[1]Weekly Piglet prices'!P107","v":318},{"$f":"'[1]Weekly Piglet prices'!Q107","v":""},{"$f":"'[1]Weekly Piglet prices'!R107","v":64.960000000000008},{"$f":"'[1]Weekly Piglet prices'!S107","v":""},{"$f":"'[1]Weekly Piglet prices'!T107","v":""},{"$f":"'[1]Weekly Piglet prices'!U107","v":""},{"$f":"'[1]Weekly Piglet prices'!V107","v":""},{"$f":"'[1]Weekly Piglet prices'!W107","v":45.5},{"$f":"'[1]Weekly Piglet prices'!X107","v":39.213900000000002},{"$f":"'[1]Weekly Piglet prices'!Y107","v":11750},{"$f":"'[1]Weekly Piglet prices'!Z107","v":91.320000000000007},{"$f":"'[1]Weekly Piglet prices'!AA107","v":35.5},{"$f":"'[1]Weekly Piglet prices'!AB107","v":""},{"$f":"'[1]Weekly Piglet prices'!AC107","v":42.515300000000003},{"$f":"'[1]Weekly Piglet prices'!AD107","v":179.68},{"$f":"'[1]Weekly Piglet prices'!AE107","v":48},{"$f":"'[1]Weekly Piglet prices'!AF107","v":""},{"$f":"'[1]Weekly Piglet prices'!AG107","v":""},{"$f":"'[1]Weekly Piglet prices'!AH107","v":""},{"$f":"'[1]Weekly Piglet prices'!AI107","v":79.34},{"$f":"'[1]Weekly Piglet prices'!AJ107","v":56.42},{"$f":"'[1]Weekly Piglet prices'!AK107","v":88.207000000000008},{"$f":"'[1]Weekly Piglet prices'!AL107","v":762.93000000000006},{"$f":"'[1]Weekly Piglet prices'!AM107","v":64.363100000000003},null,null,{"$f":"'[1]Weekly Piglet prices'!AP107","v":47.509979340659335},{"$f":"'[1]Weekly Piglet prices'!$AQ107","v":-2.1807143583712274E-2}]
["2013-09-30",40,{"$f":"'[1]Weekly Piglet prices'!C108","v":42.5},{"$f":"'[1]Weekly Piglet prices'!D108","v":""},{"$f":"'[1]Weekly Piglet prices'!E108","v":""},{"$f":"'[1]Weekly Piglet prices'!F108","v":64.6374},{"$f":"'[1]Weekly Piglet prices'!G108","v":1656},{"$f":"'[1]Weekly Piglet prices'!H108","v":49.874200000000002},{"$f":"'[1]Weekly Piglet prices'!I108","v":372},{"$f":"'[1]Weekly Piglet prices'!J108","v":56.5},{"$f":"'[1]Weekly Piglet prices'!K108","v":38.32},{"$f":"'[1]Weekly Piglet prices'!L108","v":""},{"$f":"'[1]Weekly Piglet prices'!M108","v":40.42},{"$f":"'[1]Weekly Piglet prices'!N108","v":33.6},{"$f":"'[1]Weekly Piglet prices'!O108","v":39.449300000000001},{"$f":"'[1]Weekly Piglet prices'!P108","v":300.60000000000002},{"$f":"'[1]Weekly Piglet prices'!Q108","v":""},{"$f":"'[1]Weekly Piglet prices'!R108","v":64.89},{"$f":"'[1]Weekly Piglet prices'!S108","v":""},{"$f":"'[1]Weekly Piglet prices'!T108","v":""},{"$f":"'[1]Weekly Piglet prices'!U108","v":""},{"$f":"'[1]Weekly Piglet prices'!V108","v":""},{"$f":"'[1]Weekly Piglet prices'!W108","v":42.6},{"$f":"'[1]Weekly Piglet prices'!X108","v":37.4985},{"$f":"'[1]Weekly Piglet prices'!Y108","v":11144.07},{"$f":"'[1]Weekly Piglet prices'!Z108","v":91.320000000000007},{"$f":"'[1]Weekly Piglet prices'!AA108","v":34.5},{"$f":"'[1]Weekly Piglet prices'!AB108","v":""},{"$f":"'[1]Weekly Piglet prices'!AC108","v":42.994600000000005},{"$f":"'[1]Weekly Piglet prices'!AD108","v":181.32},{"$f":"'[1]Weekly Piglet prices'!AE108","v":48},{"$f":"'[1]Weekly Piglet prices'!AF108","v":""},{"$f":"'[1]Weekly Piglet prices'!AG108","v":""},{"$f":"'[1]Weekly Piglet prices'!AH108","v":""},{"$f":"'[1]Weekly Piglet prices'!AI108","v":67.73},{"$f":"'[1]Weekly Piglet prices'!AJ108","v":56.38},{"$f":"'[1]Weekly Piglet prices'!AK108","v":83.974100000000007},{"$f":"'[1]Weekly Piglet prices'!AL108","v":726.97},{"$f":"'[1]Weekly Piglet prices'!AM108","v":64.809399999999997},null,null,{"$f":"'[1]Weekly Piglet prices'!AP108","v":47.214446373626373},{"$f":"'[1]Weekly Piglet prices'!$AQ108","v":-6.220439813579226E-3}]
["2013-10-07",41,{"$f":"'[1]Weekly Piglet prices'!C109","v":42.5},{"$f":"'[1]Weekly Piglet prices'!D109","v":""},{"$f":"'[1]Weekly Piglet prices'!E109","v":""},{"$f":"'[1]Weekly Piglet prices'!F109","v":56.303800000000003},{"$f":"'[1]Weekly Piglet prices'!G109","v":1438},{"$f":"'[1]Weekly Piglet prices'!H109","v":49.868900000000004},{"$f":"'[1]Weekly Piglet prices'!I109","v":372},{"$f":"'[1]Weekly Piglet prices'!J109","v":56.6},{"$f":"'[1]Weekly Piglet prices'!K109","v":40.840000000000003},{"$f":"'[1]Weekly Piglet prices'!L109","v":""},{"$f":"'[1]Weekly Piglet prices'!M109","v":40.42},{"$f":"'[1]Weekly Piglet prices'!N109","v":33},{"$f":"'[1]Weekly Piglet prices'!O109","v":39.475500000000004},{"$f":"'[1]Weekly Piglet prices'!P109","v":300.60000000000002},{"$f":"'[1]Weekly Piglet prices'!Q109","v":""},{"$f":"'[1]Weekly Piglet prices'!R109","v":64.400000000000006},{"$f":"'[1]Weekly Piglet prices'!S109","v":""},{"$f":"'[1]Weekly Piglet prices'!T109","v":""},{"$f":"'[1]Weekly Piglet prices'!U109","v":""},{"$f":"'[1]Weekly Piglet prices'!V109","v":""},{"$f":"'[1]Weekly Piglet prices'!W109","v":37.5},{"$f":"'[1]Weekly Piglet prices'!X109","v":37.208300000000001},{"$f":"'[1]Weekly Piglet prices'!Y109","v":11000},{"$f":"'[1]Weekly Piglet prices'!Z109","v":91.320000000000007},{"$f":"'[1]Weekly Piglet prices'!AA109","v":34.5},{"$f":"'[1]Weekly Piglet prices'!AB109","v":""},{"$f":"'[1]Weekly Piglet prices'!AC109","v":43.518799999999999},{"$f":"'[1]Weekly Piglet prices'!AD109","v":182.62},{"$f":"'[1]Weekly Piglet prices'!AE109","v":48},{"$f":"'[1]Weekly Piglet prices'!AF109","v":""},{"$f":"'[1]Weekly Piglet prices'!AG109","v":""},{"$f":"'[1]Weekly Piglet prices'!AH109","v":""},{"$f":"'[1]Weekly Piglet prices'!AI109","v":67.570000000000007},{"$f":"'[1]Weekly Piglet prices'!AJ109","v":54.56},{"$f":"'[1]Weekly Piglet prices'!AK109","v":84.714500000000001},{"$f":"'[1]Weekly Piglet prices'!AL109","v":740.84},{"$f":"'[1]Weekly Piglet prices'!AM109","v":64.096500000000006},null,null,{"$f":"'[1]Weekly Piglet prices'!AP109","v":47.055807692307674},{"$f":"'[1]Weekly Piglet prices'!$AQ109","v":-3.3599606371179647E-3}]
["2013-10-14",42,{"$f":"'[1]Weekly Piglet prices'!C110","v":42.5},{"$f":"'[1]Weekly Piglet prices'!D110","v":""},{"$f":"'[1]Weekly Piglet prices'!E110","v":""},{"$f":"'[1]Weekly Piglet prices'!F110","v":58.717400000000005},{"$f":"'[1]Weekly Piglet prices'!G110","v":1507},{"$f":"'[1]Weekly Piglet prices'!H110","v":49.873600000000003},{"$f":"'[1]Weekly Piglet prices'!I110","v":372},{"$f":"'[1]Weekly Piglet prices'!J110","v":56.6},{"$f":"'[1]Weekly Piglet prices'!K110","v":39.200000000000003},{"$f":"'[1]Weekly Piglet prices'!L110","v":""},{"$f":"'[1]Weekly Piglet prices'!M110","v":39.770000000000003},{"$f":"'[1]Weekly Piglet prices'!N110","v":32.799999999999997},{"$f":"'[1]Weekly Piglet prices'!O110","v":40.255800000000001},{"$f":"'[1]Weekly Piglet prices'!P110","v":306.60000000000002},{"$f":"'[1]Weekly Piglet prices'!Q110","v":""},{"$f":"'[1]Weekly Piglet prices'!R110","v":63.940000000000005},{"$f":"'[1]Weekly Piglet prices'!S110","v":""},{"$f":"'[1]Weekly Piglet prices'!T110","v":""},{"$f":"'[1]Weekly Piglet prices'!U110","v":""},{"$f":"'[1]Weekly Piglet prices'!V110","v":""},{"$f":"'[1]Weekly Piglet prices'!W110","v":45},{"$f":"'[1]Weekly Piglet prices'!X110","v":44.414700000000003},{"$f":"'[1]Weekly Piglet prices'!Y110","v":13104.17},{"$f":"'[1]Weekly Piglet prices'!Z110","v":91.320000000000007},{"$f":"'[1]Weekly Piglet prices'!AA110","v":34.5},{"$f":"'[1]Weekly Piglet prices'!AB110","v":""},{"$f":"'[1]Weekly Piglet prices'!AC110","v":43.191600000000001},{"$f":"'[1]Weekly Piglet prices'!AD110","v":180.6},{"$f":"'[1]Weekly Piglet prices'!AE110","v":47},{"$f":"'[1]Weekly Piglet prices'!AF110","v":""},{"$f":"'[1]Weekly Piglet prices'!AG110","v":""},{"$f":"'[1]Weekly Piglet prices'!AH110","v":""},{"$f":"'[1]Weekly Piglet prices'!AI110","v":70.08},{"$f":"'[1]Weekly Piglet prices'!AJ110","v":54.43},{"$f":"'[1]Weekly Piglet prices'!AK110","v":83.085400000000007},{"$f":"'[1]Weekly Piglet prices'!AL110","v":729.41},{"$f":"'[1]Weekly Piglet prices'!AM110","v":63.924600000000005},null,null,{"$f":"'[1]Weekly Piglet prices'!AP110","v":47.020481538461539},{"$f":"'[1]Weekly Piglet prices'!$AQ110","v":-7.5072888084570799E-4}]
["2013-10-21",43,{"$f":"'[1]Weekly Piglet prices'!C111","v":42.5},{"$f":"'[1]Weekly Piglet prices'!D111","v":""},{"$f":"'[1]Weekly Piglet prices'!E111","v":""},{"$f":"'[1]Weekly Piglet prices'!F111","v":58.475000000000001},{"$f":"'[1]Weekly Piglet prices'!G111","v":1507},{"$f":"'[1]Weekly Piglet prices'!H111","v":49.871000000000002},{"$f":"'[1]Weekly Piglet prices'!I111","v":372},{"$f":"'[1]Weekly Piglet prices'!J111","v":56.4},{"$f":"'[1]Weekly Piglet prices'!K111","v":39.020000000000003},{"$f":"'[1]Weekly Piglet prices'!L111","v":""},{"$f":"'[1]Weekly Piglet prices'!M111","v":39.770000000000003},{"$f":"'[1]Weekly Piglet prices'!N111","v":32.6},{"$f":"'[1]Weekly Piglet prices'!O111","v":40.233499999999999},{"$f":"'[1]Weekly Piglet prices'!P111","v":306.60000000000002},{"$f":"'[1]Weekly Piglet prices'!Q111","v":""},{"$f":"'[1]Weekly Piglet prices'!R111","v":63.61},{"$f":"'[1]Weekly Piglet prices'!S111","v":""},{"$f":"'[1]Weekly Piglet prices'!T111","v":""},{"$f":"'[1]Weekly Piglet prices'!U111","v":""},{"$f":"'[1]Weekly Piglet prices'!V111","v":""},{"$f":"'[1]Weekly Piglet prices'!W111","v":43.800000000000004},{"$f":"'[1]Weekly Piglet prices'!X111","v":40.9131},{"$f":"'[1]Weekly Piglet prices'!Y111","v":12000},{"$f":"'[1]Weekly Piglet prices'!Z111","v":91.320000000000007},{"$f":"'[1]Weekly Piglet prices'!AA111","v":34.5},{"$f":"'[1]Weekly Piglet prices'!AB111","v":""},{"$f":"'[1]Weekly Piglet prices'!AC111","v":41.300200000000004},{"$f":"'[1]Weekly Piglet prices'!AD111","v":172.76},{"$f":"'[1]Weekly Piglet prices'!AE111","v":47},{"$f":"'[1]Weekly Piglet prices'!AF111","v":""},{"$f":"'[1]Weekly Piglet prices'!AG111","v":""},{"$f":"'[1]Weekly Piglet prices'!AH111","v":""},{"$f":"'[1]Weekly Piglet prices'!AI111","v":70.08},{"$f":"'[1]Weekly Piglet prices'!AJ111","v":55.58},{"$f":"'[1]Weekly Piglet prices'!AK111","v":84.767600000000002},{"$f":"'[1]Weekly Piglet prices'!AL111","v":742.62},{"$f":"'[1]Weekly Piglet prices'!AM111","v":63.841200000000001},null,null,{"$f":"'[1]Weekly Piglet prices'!AP111","v":46.723873626373624},{"$f":"'[1]Weekly Piglet prices'!$AQ111","v":-6.3080577310824504E-3}]
["2013-10-28",44,{"$f":"'[1]Weekly Piglet prices'!C112","v":40.5},{"$f":"'[1]Weekly Piglet prices'!D112","v":""},{"$f":"'[1]Weekly Piglet prices'!E112","v":""},{"$f":"'[1]Weekly Piglet prices'!F112","v":58.5458},{"$f":"'[1]Weekly Piglet prices'!G112","v":1509},{"$f":"'[1]Weekly Piglet prices'!H112","v":49.739900000000006},{"$f":"'[1]Weekly Piglet prices'!I112","v":371},{"$f":"'[1]Weekly Piglet prices'!J112","v":55.6},{"$f":"'[1]Weekly Piglet prices'!K112","v":38.230000000000004},{"$f":"'[1]Weekly Piglet prices'!L112","v":""},{"$f":"'[1]Weekly Piglet prices'!M112","v":39.770000000000003},{"$f":"'[1]Weekly Piglet prices'!N112","v":32.799999999999997},{"$f":"'[1]Weekly Piglet prices'!O112","v":40.145800000000001},{"$f":"'[1]Weekly Piglet prices'!P112","v":306},{"$f":"'[1]Weekly Piglet prices'!Q112","v":""},{"$f":"'[1]Weekly Piglet prices'!R112","v":63.17},{"$f":"'[1]Weekly Piglet prices'!S112","v":""},{"$f":"'[1]Weekly Piglet prices'!T112","v":""},{"$f":"'[1]Weekly Piglet prices'!U112","v":""},{"$f":"'[1]Weekly Piglet prices'!V112","v":""},{"$f":"'[1]Weekly Piglet prices'!W112","v":39.5},{"$f":"'[1]Weekly Piglet prices'!X112","v":43.063600000000001},{"$f":"'[1]Weekly Piglet prices'!Y112","v":12674.42},{"$f":"'[1]Weekly Piglet prices'!Z112","v":91.320000000000007},{"$f":"'[1]Weekly Piglet prices'!AA112","v":33.75},{"$f":"'[1]Weekly Piglet prices'!AB112","v":""},{"$f":"'[1]Weekly Piglet prices'!AC112","v":42.257899999999999},{"$f":"'[1]Weekly Piglet prices'!AD112","v":176.81},{"$f":"'[1]Weekly Piglet prices'!AE112","v":47},{"$f":"'[1]Weekly Piglet prices'!AF112","v":""},{"$f":"'[1]Weekly Piglet prices'!AG112","v":""},{"$f":"'[1]Weekly Piglet prices'!AH112","v":""},{"$f":"'[1]Weekly Piglet prices'!AI112","v":70.08},{"$f":"'[1]Weekly Piglet prices'!AJ112","v":55},{"$f":"'[1]Weekly Piglet prices'!AK112","v":83.575100000000006},{"$f":"'[1]Weekly Piglet prices'!AL112","v":733.66},{"$f":"'[1]Weekly Piglet prices'!AM112","v":65.680800000000005},null,null,{"$f":"'[1]Weekly Piglet prices'!AP112","v":46.53208648351648},{"$f":"'[1]Weekly Piglet prices'!$AQ112","v":-4.1046926971587405E-3}]
["2013-11-04",45,{"$f":"'[1]Weekly Piglet prices'!C113","v":39.5},{"$f":"'[1]Weekly Piglet prices'!D113","v":""},{"$f":"'[1]Weekly Piglet prices'!E113","v":""},{"$f":"'[1]Weekly Piglet prices'!F113","v":57.380200000000002},{"$f":"'[1]Weekly Piglet prices'!G113","v":1509},{"$f":"'[1]Weekly Piglet prices'!H113","v":49.741100000000003},{"$f":"'[1]Weekly Piglet prices'!I113","v":371},{"$f":"'[1]Weekly Piglet prices'!J113","v":54.2},{"$f":"'[1]Weekly Piglet prices'!K113","v":39.22},{"$f":"'[1]Weekly Piglet prices'!L113","v":""},{"$f":"'[1]Weekly Piglet prices'!M113","v":39.770000000000003},{"$f":"'[1]Weekly Piglet prices'!N113","v":33.6},{"$f":"'[1]Weekly Piglet prices'!O113","v":40.148099999999999},{"$f":"'[1]Weekly Piglet prices'!P113","v":306},{"$f":"'[1]Weekly Piglet prices'!Q113","v":""},{"$f":"'[1]Weekly Piglet prices'!R113","v":62.01},{"$f":"'[1]Weekly Piglet prices'!S113","v":""},{"$f":"'[1]Weekly Piglet prices'!T113","v":""},{"$f":"'[1]Weekly Piglet prices'!U113","v":""},{"$f":"'[1]Weekly Piglet prices'!V113","v":""},{"$f":"'[1]Weekly Piglet prices'!W113","v":44.4},{"$f":"'[1]Weekly Piglet prices'!X113","v":38.810099999999998},{"$f":"'[1]Weekly Piglet prices'!Y113","v":11500},{"$f":"'[1]Weekly Piglet prices'!Z113","v":91.320000000000007},{"$f":"'[1]Weekly Piglet prices'!AA113","v":33},{"$f":"'[1]Weekly Piglet prices'!AB113","v":""},{"$f":"'[1]Weekly Piglet prices'!AC113","v":40.349299999999999},{"$f":"'[1]Weekly Piglet prices'!AD113","v":168.52},{"$f":"'[1]Weekly Piglet prices'!AE113","v":47},{"$f":"'[1]Weekly Piglet prices'!AF113","v":""},{"$f":"'[1]Weekly Piglet prices'!AG113","v":""},{"$f":"'[1]Weekly Piglet prices'!AH113","v":""},{"$f":"'[1]Weekly Piglet prices'!AI113","v":71.06},{"$f":"'[1]Weekly Piglet prices'!AJ113","v":53.9},{"$f":"'[1]Weekly Piglet prices'!AK113","v":83.2958},{"$f":"'[1]Weekly Piglet prices'!AL113","v":732.35},{"$f":"'[1]Weekly Piglet prices'!AM113","v":65.935299999999998},null,null,{"$f":"'[1]Weekly Piglet prices'!AP113","v":45.865510549450548},{"$f":"'[1]Weekly Piglet prices'!$AQ113","v":-1.4325081560700226E-2}]
["2013-11-11",46,{"$f":"'[1]Weekly Piglet prices'!C114","v":39.5},{"$f":"'[1]Weekly Piglet prices'!D114","v":""},{"$f":"'[1]Weekly Piglet prices'!E114","v":""},{"$f":"'[1]Weekly Piglet prices'!F114","v":55.7376},{"$f":"'[1]Weekly Piglet prices'!G114","v":1509},{"$f":"'[1]Weekly Piglet prices'!H114","v":47.863800000000005},{"$f":"'[1]Weekly Piglet prices'!I114","v":357},{"$f":"'[1]Weekly Piglet prices'!J114","v":54.1},{"$f":"'[1]Weekly Piglet prices'!K114","v":38.950000000000003},{"$f":"'[1]Weekly Piglet prices'!L114","v":""},{"$f":"'[1]Weekly Piglet prices'!M114","v":39.770000000000003},{"$f":"'[1]Weekly Piglet prices'!N114","v":33.6},{"$f":"'[1]Weekly Piglet prices'!O114","v":38.210300000000004},{"$f":"'[1]Weekly Piglet prices'!P114","v":291.40000000000003},{"$f":"'[1]Weekly Piglet prices'!Q114","v":""},{"$f":"'[1]Weekly Piglet prices'!R114","v":62.2},{"$f":"'[1]Weekly Piglet prices'!S114","v":""},{"$f":"'[1]Weekly Piglet prices'!T114","v":""},{"$f":"'[1]Weekly Piglet prices'!U114","v":""},{"$f":"'[1]Weekly Piglet prices'!V114","v":""},{"$f":"'[1]Weekly Piglet prices'!W114","v":38.1},{"$f":"'[1]Weekly Piglet prices'!X114","v":41.963999999999999},{"$f":"'[1]Weekly Piglet prices'!Y114","v":12500},{"$f":"'[1]Weekly Piglet prices'!Z114","v":91.320000000000007},{"$f":"'[1]Weekly Piglet prices'!AA114","v":33.75},{"$f":"'[1]Weekly Piglet prices'!AB114","v":""},{"$f":"'[1]Weekly Piglet prices'!AC114","v":39.8294},{"$f":"'[1]Weekly Piglet prices'!AD114","v":166.95000000000002},{"$f":"'[1]Weekly Piglet prices'!AE114","v":47},{"$f":"'[1]Weekly Piglet prices'!AF114","v":""},{"$f":"'[1]Weekly Piglet prices'!AG114","v":""},{"$f":"'[1]Weekly Piglet prices'!AH114","v":""},{"$f":"'[1]Weekly Piglet prices'!AI114","v":71.53},{"$f":"'[1]Weekly Piglet prices'!AJ114","v":54.34},{"$f":"'[1]Weekly Piglet prices'!AK114","v":80.668599999999998},{"$f":"'[1]Weekly Piglet prices'!AL114","v":719.09},{"$f":"'[1]Weekly Piglet prices'!AM114","v":68.575100000000006},null,null,{"$f":"'[1]Weekly Piglet prices'!AP114","v":45.800019890109894},{"$f":"'[1]Weekly Piglet prices'!$AQ114","v":-1.427884668808943E-3}]
["2013-11-18",47,{"$f":"'[1]Weekly Piglet prices'!C115","v":39.5},{"$f":"'[1]Weekly Piglet prices'!D115","v":""},{"$f":"'[1]Weekly Piglet prices'!E115","v":""},{"$f":"'[1]Weekly Piglet prices'!F115","v":55.395900000000005},{"$f":"'[1]Weekly Piglet prices'!G115","v":1509},{"$f":"'[1]Weekly Piglet prices'!H115","v":47.863300000000002},{"$f":"'[1]Weekly Piglet prices'!I115","v":357},{"$f":"'[1]Weekly Piglet prices'!J115","v":54.4},{"$f":"'[1]Weekly Piglet prices'!K115","v":38.68},{"$f":"'[1]Weekly Piglet prices'!L115","v":""},{"$f":"'[1]Weekly Piglet prices'!M115","v":39.770000000000003},{"$f":"'[1]Weekly Piglet prices'!N115","v":33.6},{"$f":"'[1]Weekly Piglet prices'!O115","v":38.127500000000005},{"$f":"'[1]Weekly Piglet prices'!P115","v":291.40000000000003},{"$f":"'[1]Weekly Piglet prices'!Q115","v":""},{"$f":"'[1]Weekly Piglet prices'!R115","v":62.67},{"$f":"'[1]Weekly Piglet prices'!S115","v":""},{"$f":"'[1]Weekly Piglet prices'!T115","v":""},{"$f":"'[1]Weekly Piglet prices'!U115","v":""},{"$f":"'[1]Weekly Piglet prices'!V115","v":""},{"$f":"'[1]Weekly Piglet prices'!W115","v":46.6},{"$f":"'[1]Weekly Piglet prices'!X115","v":42.377600000000001},{"$f":"'[1]Weekly Piglet prices'!Y115","v":12608.11},{"$f":"'[1]Weekly Piglet prices'!Z115","v":91.320000000000007},{"$f":"'[1]Weekly Piglet prices'!AA115","v":34},{"$f":"'[1]Weekly Piglet prices'!AB115","v":""},{"$f":"'[1]Weekly Piglet prices'!AC115","v":40.131300000000003},{"$f":"'[1]Weekly Piglet prices'!AD115","v":168.07},{"$f":"'[1]Weekly Piglet prices'!AE115","v":48.4},{"$f":"'[1]Weekly Piglet prices'!AF115","v":""},{"$f":"'[1]Weekly Piglet prices'!AG115","v":""},{"$f":"'[1]Weekly Piglet prices'!AH115","v":""},{"$f":"'[1]Weekly Piglet prices'!AI115","v":72.22},{"$f":"'[1]Weekly Piglet prices'!AJ115","v":53.730000000000004},{"$f":"'[1]Weekly Piglet prices'!AK115","v":81.902100000000004},{"$f":"'[1]Weekly Piglet prices'!AL115","v":730.86},{"$f":"'[1]Weekly Piglet prices'!AM115","v":68.345200000000006},null,null,{"$f":"'[1]Weekly Piglet prices'!AP115","v":45.977133516483519},{"$f":"'[1]Weekly Piglet prices'!$AQ115","v":3.8671080667340707E-3}]
["2013-11-25",48,{"$f":"'[1]Weekly Piglet prices'!C116","v":41.5},{"$f":"'[1]Weekly Piglet prices'!D116","v":""},{"$f":"'[1]Weekly Piglet prices'!E116","v":""},{"$f":"'[1]Weekly Piglet prices'!F116","v":48.293800000000005},{"$f":"'[1]Weekly Piglet prices'!G116","v":1320},{"$f":"'[1]Weekly Piglet prices'!H116","v":47.863800000000005},{"$f":"'[1]Weekly Piglet prices'!I116","v":357},{"$f":"'[1]Weekly Piglet prices'!J116","v":55.6},{"$f":"'[1]Weekly Piglet prices'!K116","v":37.700000000000003},{"$f":"'[1]Weekly Piglet prices'!L116","v":""},{"$f":"'[1]Weekly Piglet prices'!M116","v":41.13},{"$f":"'[1]Weekly Piglet prices'!N116","v":34.200000000000003},{"$f":"'[1]Weekly Piglet prices'!O116","v":37.771300000000004},{"$f":"'[1]Weekly Piglet prices'!P116","v":288.60000000000002},{"$f":"'[1]Weekly Piglet prices'!Q116","v":""},{"$f":"'[1]Weekly Piglet prices'!R116","v":62.13},{"$f":"'[1]Weekly Piglet prices'!S116","v":""},{"$f":"'[1]Weekly Piglet prices'!T116","v":""},{"$f":"'[1]Weekly Piglet prices'!U116","v":""},{"$f":"'[1]Weekly Piglet prices'!V116","v":""},{"$f":"'[1]Weekly Piglet prices'!W116","v":42.9},{"$f":"'[1]Weekly Piglet prices'!X116","v":37.2438},{"$f":"'[1]Weekly Piglet prices'!Y116","v":11150},{"$f":"'[1]Weekly Piglet prices'!Z116","v":91.320000000000007},{"$f":"'[1]Weekly Piglet prices'!AA116","v":35.5},{"$f":"'[1]Weekly Piglet prices'!AB116","v":""},{"$f":"'[1]Weekly Piglet prices'!AC116","v":39.488500000000002},{"$f":"'[1]Weekly Piglet prices'!AD116","v":165.84},{"$f":"'[1]Weekly Piglet prices'!AE116","v":48.4},{"$f":"'[1]Weekly Piglet prices'!AF116","v":""},{"$f":"'[1]Weekly Piglet prices'!AG116","v":""},{"$f":"'[1]Weekly Piglet prices'!AH116","v":""},{"$f":"'[1]Weekly Piglet prices'!AI116","v":70.510000000000005},{"$f":"'[1]Weekly Piglet prices'!AJ116","v":55.22},{"$f":"'[1]Weekly Piglet prices'!AK116","v":80.842600000000004},{"$f":"'[1]Weekly Piglet prices'!AL116","v":719.91},{"$f":"'[1]Weekly Piglet prices'!AM116","v":67.408200000000008},null,null,{"$f":"'[1]Weekly Piglet prices'!AP116","v":46.460599560439547},{"$f":"'[1]Weekly Piglet prices'!$AQ116","v":1.0515358548455422E-2}]
["2013-12-02",49,{"$f":"'[1]Weekly Piglet prices'!C117","v":43},{"$f":"'[1]Weekly Piglet prices'!D117","v":""},{"$f":"'[1]Weekly Piglet prices'!E117","v":""},{"$f":"'[1]Weekly Piglet prices'!F117","v":56.471000000000004},{"$f":"'[1]Weekly Piglet prices'!G117","v":1550},{"$f":"'[1]Weekly Piglet prices'!H117","v":48.930300000000003},{"$f":"'[1]Weekly Piglet prices'!I117","v":365},{"$f":"'[1]Weekly Piglet prices'!J117","v":57.1},{"$f":"'[1]Weekly Piglet prices'!K117","v":39.39},{"$f":"'[1]Weekly Piglet prices'!L117","v":""},{"$f":"'[1]Weekly Piglet prices'!M117","v":42.24},{"$f":"'[1]Weekly Piglet prices'!N117","v":34.800000000000004},{"$f":"'[1]Weekly Piglet prices'!O117","v":33.615000000000002},{"$f":"'[1]Weekly Piglet prices'!P117","v":256.8},{"$f":"'[1]Weekly Piglet prices'!Q117","v":""},{"$f":"'[1]Weekly Piglet prices'!R117","v":62.13},{"$f":"'[1]Weekly Piglet prices'!S117","v":""},{"$f":"'[1]Weekly Piglet prices'!T117","v":""},{"$f":"'[1]Weekly Piglet prices'!U117","v":""},{"$f":"'[1]Weekly Piglet prices'!V117","v":""},{"$f":"'[1]Weekly Piglet prices'!W117","v":42.300000000000004},{"$f":"'[1]Weekly Piglet prices'!X117","v":33.384399999999999},{"$f":"'[1]Weekly Piglet prices'!Y117","v":10086.960000000001},{"$f":"'[1]Weekly Piglet prices'!Z117","v":91.320000000000007},{"$f":"'[1]Weekly Piglet prices'!AA117","v":38},{"$f":"'[1]Weekly Piglet prices'!AB117","v":""},{"$f":"'[1]Weekly Piglet prices'!AC117","v":38.679900000000004},{"$f":"'[1]Weekly Piglet prices'!AD117","v":162.33000000000001},{"$f":"'[1]Weekly Piglet prices'!AE117","v":49},{"$f":"'[1]Weekly Piglet prices'!AF117","v":""},{"$f":"'[1]Weekly Piglet prices'!AG117","v":""},{"$f":"'[1]Weekly Piglet prices'!AH117","v":""},{"$f":"'[1]Weekly Piglet prices'!AI117","v":70.510000000000005},{"$f":"'[1]Weekly Piglet prices'!AJ117","v":54.18},{"$f":"'[1]Weekly Piglet prices'!AK117","v":79.00030000000001},{"$f":"'[1]Weekly Piglet prices'!AL117","v":702.19},{"$f":"'[1]Weekly Piglet prices'!AM117","v":67.151300000000006},null,null,{"$f":"'[1]Weekly Piglet prices'!AP117","v":47.320320879120857},{"$f":"'[1]Weekly Piglet prices'!$AQ117","v":1.8504309604591151E-2}]
["2013-12-09",50,{"$f":"'[1]Weekly Piglet prices'!C118","v":43.5},{"$f":"'[1]Weekly Piglet prices'!D118","v":""},{"$f":"'[1]Weekly Piglet prices'!E118","v":""},{"$f":"'[1]Weekly Piglet prices'!F118","v":58.6462},{"$f":"'[1]Weekly Piglet prices'!G118","v":1612},{"$f":"'[1]Weekly Piglet prices'!H118","v":47.717400000000005},{"$f":"'[1]Weekly Piglet prices'!I118","v":356},{"$f":"'[1]Weekly Piglet prices'!J118","v":57.4},{"$f":"'[1]Weekly Piglet prices'!K118","v":38.43},{"$f":"'[1]Weekly Piglet prices'!L118","v":""},{"$f":"'[1]Weekly Piglet prices'!M118","v":45.32},{"$f":"'[1]Weekly Piglet prices'!N118","v":36.200000000000003},{"$f":"'[1]Weekly Piglet prices'!O118","v":42.314700000000002},{"$f":"'[1]Weekly Piglet prices'!P118","v":323.2},{"$f":"'[1]Weekly Piglet prices'!Q118","v":""},{"$f":"'[1]Weekly Piglet prices'!R118","v":64.44},{"$f":"'[1]Weekly Piglet prices'!S118","v":""},{"$f":"'[1]Weekly Piglet prices'!T118","v":""},{"$f":"'[1]Weekly Piglet prices'!U118","v":""},{"$f":"'[1]Weekly Piglet prices'!V118","v":""},{"$f":"'[1]Weekly Piglet prices'!W118","v":52.300000000000004},{"$f":"'[1]Weekly Piglet prices'!X118","v":33.094000000000001},{"$f":"'[1]Weekly Piglet prices'!Y118","v":10000},{"$f":"'[1]Weekly Piglet prices'!Z118","v":91.320000000000007},{"$f":"'[1]Weekly Piglet prices'!AA118","v":39.25},{"$f":"'[1]Weekly Piglet prices'!AB118","v":""},{"$f":"'[1]Weekly Piglet prices'!AC118","v":38.905900000000003},{"$f":"'[1]Weekly Piglet prices'!AD118","v":162.78},{"$f":"'[1]Weekly Piglet prices'!AE118","v":49},{"$f":"'[1]Weekly Piglet prices'!AF118","v":""},{"$f":"'[1]Weekly Piglet prices'!AG118","v":""},{"$f":"'[1]Weekly Piglet prices'!AH118","v":""},{"$f":"'[1]Weekly Piglet prices'!AI118","v":70.510000000000005},{"$f":"'[1]Weekly Piglet prices'!AJ118","v":55.63},{"$f":"'[1]Weekly Piglet prices'!AK118","v":78.928899999999999},{"$f":"'[1]Weekly Piglet prices'!AL118","v":710.52},{"$f":"'[1]Weekly Piglet prices'!AM118","v":68.829800000000006},null,null,{"$f":"'[1]Weekly Piglet prices'!AP118","v":48.472177362637353},{"$f":"'[1]Weekly Piglet prices'!$AQ118","v":2.4341687928509659E-2}]
["2013-12-16",51,{"$f":"'[1]Weekly Piglet prices'!C119","v":44},{"$f":"'[1]Weekly Piglet prices'!D119","v":""},{"$f":"'[1]Weekly Piglet prices'!E119","v":""},{"$f":"'[1]Weekly Piglet prices'!F119","v":58.6462},{"$f":"'[1]Weekly Piglet prices'!G119","v":1612},{"$f":"'[1]Weekly Piglet prices'!H119","v":46.916200000000003},{"$f":"'[1]Weekly Piglet prices'!I119","v":350},{"$f":"'[1]Weekly Piglet prices'!J119","v":57.4},{"$f":"'[1]Weekly Piglet prices'!K119","v":38.43},{"$f":"'[1]Weekly Piglet prices'!L119","v":""},{"$f":"'[1]Weekly Piglet prices'!M119","v":47.71},{"$f":"'[1]Weekly Piglet prices'!N119","v":37.200000000000003},{"$f":"'[1]Weekly Piglet prices'!O119","v":42.447700000000005},{"$f":"'[1]Weekly Piglet prices'!P119","v":323.2},{"$f":"'[1]Weekly Piglet prices'!Q119","v":""},{"$f":"'[1]Weekly Piglet prices'!R119","v":65.510000000000005},{"$f":"'[1]Weekly Piglet prices'!S119","v":""},{"$f":"'[1]Weekly Piglet prices'!T119","v":""},{"$f":"'[1]Weekly Piglet prices'!U119","v":""},{"$f":"'[1]Weekly Piglet prices'!V119","v":""},{"$f":"'[1]Weekly Piglet prices'!W119","v":51.6},{"$f":"'[1]Weekly Piglet prices'!X119","v":33.094000000000001},{"$f":"'[1]Weekly Piglet prices'!Y119","v":10000},{"$f":"'[1]Weekly Piglet prices'!Z119","v":91.320000000000007},{"$f":"'[1]Weekly Piglet prices'!AA119","v":40.5},{"$f":"'[1]Weekly Piglet prices'!AB119","v":""},{"$f":"'[1]Weekly Piglet prices'!AC119","v":39.5366},{"$f":"'[1]Weekly Piglet prices'!AD119","v":165.24},{"$f":"'[1]Weekly Piglet prices'!AE119","v":49},{"$f":"'[1]Weekly Piglet prices'!AF119","v":""},{"$f":"'[1]Weekly Piglet prices'!AG119","v":""},{"$f":"'[1]Weekly Piglet prices'!AH119","v":""},{"$f":"'[1]Weekly Piglet prices'!AI119","v":70.510000000000005},{"$f":"'[1]Weekly Piglet prices'!AJ119","v":50.32},{"$f":"'[1]Weekly Piglet prices'!AK119","v":78.291200000000003},{"$f":"'[1]Weekly Piglet prices'!AL119","v":701.98},{"$f":"'[1]Weekly Piglet prices'!AM119","v":65.712500000000006},null,null,{"$f":"'[1]Weekly Piglet prices'!AP119","v":49.054758571428557},{"$f":"'[1]Weekly Piglet prices'!$AQ119","v":1.2018878467800365E-2}]
["2013-12-23",52,{"$f":"'[1]Weekly Piglet prices'!C120","v":44},{"$f":"'[1]Weekly Piglet prices'!D120","v":""},{"$f":"'[1]Weekly Piglet prices'!E120","v":""},{"$f":"'[1]Weekly Piglet prices'!F120","v":58.6462},{"$f":"'[1]Weekly Piglet prices'!G120","v":1612},{"$f":"'[1]Weekly Piglet prices'!H120","v":44.903400000000005},{"$f":"'[1]Weekly Piglet prices'!I120","v":335},{"$f":"'[1]Weekly Piglet prices'!J120","v":57.4},{"$f":"'[1]Weekly Piglet prices'!K120","v":39.840000000000003},{"$f":"'[1]Weekly Piglet prices'!L120","v":""},{"$f":"'[1]Weekly Piglet prices'!M120","v":49},{"$f":"'[1]Weekly Piglet prices'!N120","v":37.200000000000003},{"$f":"'[1]Weekly Piglet prices'!O120","v":44.031600000000005},{"$f":"'[1]Weekly Piglet prices'!P120","v":336.40000000000003},{"$f":"'[1]Weekly Piglet prices'!Q120","v":""},{"$f":"'[1]Weekly Piglet prices'!R120","v":66.11},{"$f":"'[1]Weekly Piglet prices'!S120","v":""},{"$f":"'[1]Weekly Piglet prices'!T120","v":""},{"$f":"'[1]Weekly Piglet prices'!U120","v":""},{"$f":"'[1]Weekly Piglet prices'!V120","v":""},{"$f":"'[1]Weekly Piglet prices'!W120","v":45.2},{"$f":"'[1]Weekly Piglet prices'!X120","v":33.094000000000001},{"$f":"'[1]Weekly Piglet prices'!Y120","v":10000},{"$f":"'[1]Weekly Piglet prices'!Z120","v":91.320000000000007},{"$f":"'[1]Weekly Piglet prices'!AA120","v":40.5},{"$f":"'[1]Weekly Piglet prices'!AB120","v":""},{"$f":"'[1]Weekly Piglet prices'!AC120","v":39.5366},{"$f":"'[1]Weekly Piglet prices'!AD120","v":165.24},{"$f":"'[1]Weekly Piglet prices'!AE120","v":49},{"$f":"'[1]Weekly Piglet prices'!AF120","v":""},{"$f":"'[1]Weekly Piglet prices'!AG120","v":""},{"$f":"'[1]Weekly Piglet prices'!AH120","v":""},{"$f":"'[1]Weekly Piglet prices'!AI120","v":57.300000000000004},{"$f":"'[1]Weekly Piglet prices'!AJ120","v":56.25},{"$f":"'[1]Weekly Piglet prices'!AK120","v":78.291200000000003},{"$f":"'[1]Weekly Piglet prices'!AL120","v":701.98},{"$f":"'[1]Weekly Piglet prices'!AM120","v":70.575299999999999},null,null,{"$f":"'[1]Weekly Piglet prices'!AP120","v":49.321549780219776},{"$f":"'[1]Weekly Piglet prices'!$AQ120","v":5.4386407468043352E-3}]
["2013-12-30",1,{"$f":"'[1]Weekly Piglet prices'!C121","v":44},{"$f":"'[1]Weekly Piglet prices'!D121","v":""},{"$f":"'[1]Weekly Piglet prices'!E121","v":""},{"$f":"'[1]Weekly Piglet prices'!F121","v":51.98},{"$f":"'[1]Weekly Piglet prices'!G121","v":1428},{"$f":"'[1]Weekly Piglet prices'!H121","v":44.91},{"$f":"'[1]Weekly Piglet prices'!I121","v":335},{"$f":"'[1]Weekly Piglet prices'!J121","v":57.4},{"$f":"'[1]Weekly Piglet prices'!K121","v":38.92},{"$f":"'[1]Weekly Piglet prices'!L121","v":""},{"$f":"'[1]Weekly Piglet prices'!M121","v":49},{"$f":"'[1]Weekly Piglet prices'!N121","v":37.6},{"$f":"'[1]Weekly Piglet prices'!O121","v":44.031600000000005},{"$f":"'[1]Weekly Piglet prices'!P121","v":336.40000000000003},{"$f":"'[1]Weekly Piglet prices'!Q121","v":""},{"$f":"'[1]Weekly Piglet prices'!R121","v":66.11},{"$f":"'[1]Weekly Piglet prices'!S121","v":""},{"$f":"'[1]Weekly Piglet prices'!T121","v":""},{"$f":"'[1]Weekly Piglet prices'!U121","v":""},{"$f":"'[1]Weekly Piglet prices'!V121","v":""},{"$f":"'[1]Weekly Piglet prices'!W121","v":52.65},{"$f":"'[1]Weekly Piglet prices'!X121","v":42.518895446475703},{"$f":"'[1]Weekly Piglet prices'!Y121","v":12659.09},{"$f":"'[1]Weekly Piglet prices'!Z121","v":91.320000000000007},{"$f":"'[1]Weekly Piglet prices'!AA121","v":41},{"$f":"'[1]Weekly Piglet prices'!AB121","v":""},{"$f":"'[1]Weekly Piglet prices'!AC121","v":39.5366},{"$f":"'[1]Weekly Piglet prices'!AD121","v":162.66999999999999},{"$f":"'[1]Weekly Piglet prices'!AE121","v":50.4},{"$f":"'[1]Weekly Piglet prices'!AF121","v":""},{"$f":"'[1]Weekly Piglet prices'!AG121","v":""},{"$f":"'[1]Weekly Piglet prices'!AH121","v":""},{"$f":"'[1]Weekly Piglet prices'!AI121","v":57.300000000000004},{"$f":"'[1]Weekly Piglet prices'!AJ121","v":55.24},{"$f":"'[1]Weekly Piglet prices'!AK121","v":77.62},{"$f":"'[1]Weekly Piglet prices'!AL121","v":689.94},{"$f":"'[1]Weekly Piglet prices'!AM121","v":70.575299999999999},{"$f":"'[1]Weekly Piglet prices'!AN121","v":59.02},null,{"$f":"'[1]Weekly Piglet prices'!AP121","v":49.550293416406063},{"$f":"'[1]Weekly Piglet prices'!$AQ121","v":4.6378030942981763E-3}]
["2014-01-06",{"$f":"B121+1","v":2},{"$f":"'[1]Weekly Piglet prices'!C122","v":45.5},{"$f":"'[1]Weekly Piglet prices'!D122","v":0},{"$f":"'[1]Weekly Piglet prices'!E122","v":0},{"$f":"'[1]Weekly Piglet prices'!F122","v":51.98},{"$f":"'[1]Weekly Piglet prices'!G122","v":1428},{"$f":"'[1]Weekly Piglet prices'!H122","v":44.91},{"$f":"'[1]Weekly Piglet prices'!I122","v":335},{"$f":"'[1]Weekly Piglet prices'!J122","v":57},{"$f":"'[1]Weekly Piglet prices'!K122","v":38.69},{"$f":"'[1]Weekly Piglet prices'!L122","v":0},{"$f":"'[1]Weekly Piglet prices'!M122","v":49},{"$f":"'[1]Weekly Piglet prices'!N122","v":37.6},{"$f":"'[1]Weekly Piglet prices'!O122","v":44.09671765217},{"$f":"'[1]Weekly Piglet prices'!P122","v":336.4},{"$f":"'[1]Weekly Piglet prices'!Q122","v":0},{"$f":"'[1]Weekly Piglet prices'!R122","v":66.11},{"$f":"'[1]Weekly Piglet prices'!S122","v":0},{"$f":"'[1]Weekly Piglet prices'!T122","v":0},{"$f":"'[1]Weekly Piglet prices'!U122","v":0},{"$f":"'[1]Weekly Piglet prices'!V122","v":0},{"$f":"'[1]Weekly Piglet prices'!W122","v":51.36},{"$f":"'[1]Weekly Piglet prices'!X122","v":43.829904599350634},{"$f":"'[1]Weekly Piglet prices'!Y122","v":13133.13},{"$f":"'[1]Weekly Piglet prices'!Z122","v":91.32},{"$f":"'[1]Weekly Piglet prices'!AA122","v":42},{"$f":"'[1]Weekly Piglet prices'!AB122","v":0},{"$f":"'[1]Weekly Piglet prices'!AC122","v":38.909999999999997},{"$f":"'[1]Weekly Piglet prices'!AD122","v":162.44999999999999},{"$f":"'[1]Weekly Piglet prices'!AE122","v":51},{"$f":"'[1]Weekly Piglet prices'!AF122","v":0},{"$f":"'[1]Weekly Piglet prices'!AG122","v":""},{"$f":"'[1]Weekly Piglet prices'!AH122","v":0},{"$f":"'[1]Weekly Piglet prices'!AI122","v":69.7},{"$f":"'[1]Weekly Piglet prices'!AJ122","v":54.17},{"$f":"'[1]Weekly Piglet prices'!AK122","v":78.87},{"$f":"'[1]Weekly Piglet prices'!AL122","v":700.43200000000002},{"$f":"'[1]Weekly Piglet prices'!AM122","v":68.608168788299253},{"$f":"'[1]Weekly Piglet prices'!AN122","v":56.86},null,{"$f":"'[1]Weekly Piglet prices'!AP122","v":49.607853547324218},{"$f":"'[1]Weekly Piglet prices'!$AQ122","v":1.1616506573317587E-3}]
["2014-01-13",{"$f":"B122+1","v":3},{"$f":"'[1]Weekly Piglet prices'!C123","v":45.5},{"$f":"'[1]Weekly Piglet prices'!D123","v":0},{"$f":"'[1]Weekly Piglet prices'!E123","v":0},{"$f":"'[1]Weekly Piglet prices'!F123","v":51.98},{"$f":"'[1]Weekly Piglet prices'!G123","v":1428},{"$f":"'[1]Weekly Piglet prices'!H123","v":44.893700523600302},{"$f":"'[1]Weekly Piglet prices'!I123","v":335},{"$f":"'[1]Weekly Piglet prices'!J123","v":57.2},{"$f":"'[1]Weekly Piglet prices'!K123","v":37.770000000000003},{"$f":"'[1]Weekly Piglet prices'!L123","v":0},{"$f":"'[1]Weekly Piglet prices'!M123","v":49},{"$f":"'[1]Weekly Piglet prices'!N123","v":38},{"$f":"'[1]Weekly Piglet prices'!O123","v":44.946093158813525},{"$f":"'[1]Weekly Piglet prices'!P123","v":342.8},{"$f":"'[1]Weekly Piglet prices'!Q123","v":0},{"$f":"'[1]Weekly Piglet prices'!R123","v":69.709999999999994},{"$f":"'[1]Weekly Piglet prices'!S123","v":0},{"$f":"'[1]Weekly Piglet prices'!T123","v":0},{"$f":"'[1]Weekly Piglet prices'!U123","v":0},{"$f":"'[1]Weekly Piglet prices'!V123","v":49.89},{"$f":"'[1]Weekly Piglet prices'!W123","v":48.89},{"$f":"'[1]Weekly Piglet prices'!X123","v":48.952971817372394},{"$f":"'[1]Weekly Piglet prices'!Y123","v":14687.5},{"$f":"'[1]Weekly Piglet prices'!Z123","v":91.32},{"$f":"'[1]Weekly Piglet prices'!AA123","v":42.5},{"$f":"'[1]Weekly Piglet prices'!AB123","v":40.262223061213987},{"$f":"'[1]Weekly Piglet prices'!AC123","v":40.262223061213987},{"$f":"'[1]Weekly Piglet prices'!AD123","v":170.23},{"$f":"'[1]Weekly Piglet prices'!AE123","v":51},{"$f":"'[1]Weekly Piglet prices'!AF123","v":0},{"$f":"'[1]Weekly Piglet prices'!AG123","v":""},{"$f":"'[1]Weekly Piglet prices'!AH123","v":0},{"$f":"'[1]Weekly Piglet prices'!AI123","v":70.790000000000006},{"$f":"'[1]Weekly Piglet prices'!AJ123","v":48.84},{"$f":"'[1]Weekly Piglet prices'!AK123","v":79.52500590869208},{"$f":"'[1]Weekly Piglet prices'!AL123","v":701.79},{"$f":"'[1]Weekly Piglet prices'!AM123","v":67.167880948690112},{"$f":"'[1]Weekly Piglet prices'!AN123","v":55.71},null,{"$f":"'[1]Weekly Piglet prices'!AP123","v":50.111013059701065},{"$f":"'[1]Weekly Piglet prices'!$AQ123","v":1.0142739030158721E-2}]
["2014-01-20",{"$f":"B123+1","v":4},{"$f":"'[1]Weekly Piglet prices'!C124","v":48},{"$f":"'[1]Weekly Piglet prices'!D124","v":0},{"$f":"'[1]Weekly Piglet prices'!E124","v":0},{"$f":"'[1]Weekly Piglet prices'!F124","v":51.98},{"$f":"'[1]Weekly Piglet prices'!G124","v":1428},{"$f":"'[1]Weekly Piglet prices'!H124","v":44.893700523600302},{"$f":"'[1]Weekly Piglet prices'!I124","v":335},{"$f":"'[1]Weekly Piglet prices'!J124","v":58},{"$f":"'[1]Weekly Piglet prices'!K124","v":37.770000000000003},{"$f":"'[1]Weekly Piglet prices'!L124","v":0},{"$f":"'[1]Weekly Piglet prices'!M124","v":49},{"$f":"'[1]Weekly Piglet prices'!N124","v":38.6},{"$f":"'[1]Weekly Piglet prices'!O124","v":48.38582986411123},{"$f":"'[1]Weekly Piglet prices'!P124","v":369.6},{"$f":"'[1]Weekly Piglet prices'!Q124","v":0},{"$f":"'[1]Weekly Piglet prices'!R124","v":69.709999999999994},{"$f":"'[1]Weekly Piglet prices'!S124","v":0},{"$f":"'[1]Weekly Piglet prices'!T124","v":0},{"$f":"'[1]Weekly Piglet prices'!U124","v":0},{"$f":"'[1]Weekly Piglet prices'!V124","v":49.89},{"$f":"'[1]Weekly Piglet prices'!W124","v":48.89},{"$f":"'[1]Weekly Piglet prices'!X124","v":48.952971817372394},{"$f":"'[1]Weekly Piglet prices'!Y124","v":14687.5},{"$f":"'[1]Weekly Piglet prices'!Z124","v":91.32},{"$f":"'[1]Weekly Piglet prices'!AA124","v":43.5},{"$f":"'[1]Weekly Piglet prices'!AB124","v":0},{"$f":"'[1]Weekly Piglet prices'!AC124","v":40.829721955240572},{"$f":"'[1]Weekly Piglet prices'!AD124","v":170.53},{"$f":"'[1]Weekly Piglet prices'!AE124","v":51},{"$f":"'[1]Weekly Piglet prices'!AF124","v":0},{"$f":"'[1]Weekly Piglet prices'!AG124","v":""},{"$f":"'[1]Weekly Piglet prices'!AH124","v":0},{"$f":"'[1]Weekly Piglet prices'!AI124","v":70.790000000000006},{"$f":"'[1]Weekly Piglet prices'!AJ124","v":48.84},{"$f":"'[1]Weekly Piglet prices'!AK124","v":77.847239023724896},{"$f":"'[1]Weekly Piglet prices'!AL124","v":684.89},{"$f":"'[1]Weekly Piglet prices'!AM124","v":68.336435652136274},{"$f":"'[1]Weekly Piglet prices'!AN124","v":56.38},null,{"$f":"'[1]Weekly Piglet prices'!AP124","v":50.650088034578722},{"$f":"'[1]Weekly Piglet prices'!$AQ124","v":1.0757614782910485E-2}]
["2014-01-27",{"$f":"B124+1","v":5},{"$f":"'[1]Weekly Piglet prices'!C125","v":49},{"$f":"'[1]Weekly Piglet prices'!D125","v":0},{"$f":"'[1]Weekly Piglet prices'!E125","v":0},{"$f":"'[1]Weekly Piglet prices'!F125","v":48.146552395388319},{"$f":"'[1]Weekly Piglet prices'!G125","v":1325},{"$f":"'[1]Weekly Piglet prices'!H125","v":44.893700523600302},{"$f":"'[1]Weekly Piglet prices'!I125","v":335},{"$f":"'[1]Weekly Piglet prices'!J125","v":59.1},{"$f":"'[1]Weekly Piglet prices'!K125","v":39.39},{"$f":"'[1]Weekly Piglet prices'!L125","v":0},{"$f":"'[1]Weekly Piglet prices'!M125","v":49.94},{"$f":"'[1]Weekly Piglet prices'!N125","v":38.4},{"$f":"'[1]Weekly Piglet prices'!O125","v":48.317244393149082},{"$f":"'[1]Weekly Piglet prices'!P125","v":369.6},{"$f":"'[1]Weekly Piglet prices'!Q125","v":0},{"$f":"'[1]Weekly Piglet prices'!R125","v":73.31},{"$f":"'[1]Weekly Piglet prices'!S125","v":0},{"$f":"'[1]Weekly Piglet prices'!T125","v":0},{"$f":"'[1]Weekly Piglet prices'!U125","v":0},{"$f":"'[1]Weekly Piglet prices'!V125","v":49.89},{"$f":"'[1]Weekly Piglet prices'!W125","v":48.89},{"$f":"'[1]Weekly Piglet prices'!X125","v":43.74453193350832},{"$f":"'[1]Weekly Piglet prices'!Y125","v":13500},{"$f":"'[1]Weekly Piglet prices'!Z125","v":91.32},{"$f":"'[1]Weekly Piglet prices'!AA125","v":43.5},{"$f":"'[1]Weekly Piglet prices'!AB125","v":0},{"$f":"'[1]Weekly Piglet prices'!AC125","v":43.018772110973813},{"$f":"'[1]Weekly Piglet prices'!AD125","v":181.53},{"$f":"'[1]Weekly Piglet prices'!AE125","v":51},{"$f":"'[1]Weekly Piglet prices'!AF125","v":0},{"$f":"'[1]Weekly Piglet prices'!AG125","v":""},{"$f":"'[1]Weekly Piglet prices'!AH125","v":0},{"$f":"'[1]Weekly Piglet prices'!AI125","v":70.790000000000006},{"$f":"'[1]Weekly Piglet prices'!AJ125","v":55.38},{"$f":"'[1]Weekly Piglet prices'!AK125","v":76.605663486472594},{"$f":"'[1]Weekly Piglet prices'!AL125","v":676.08},{"$f":"'[1]Weekly Piglet prices'!AM125","v":68.336435652136274},{"$f":"'[1]Weekly Piglet prices'!AN125","v":56.38},null,{"$f":"'[1]Weekly Piglet prices'!AP125","v":51.402373857624987},{"$f":"'[1]Weekly Piglet prices'!$AQ125","v":1.4852606426521531E-2}]
["2014-02-03",{"$f":"1+B125","v":6},{"$f":"'[1]Weekly Piglet prices'!C126","v":50},{"$f":"'[1]Weekly Piglet prices'!D126","v":0},{"$f":"'[1]Weekly Piglet prices'!E126","v":0},{"$f":"'[1]Weekly Piglet prices'!F126","v":48.146552395388319},{"$f":"'[1]Weekly Piglet prices'!G126","v":1325},{"$f":"'[1]Weekly Piglet prices'!H126","v":43.954950005073201},{"$f":"'[1]Weekly Piglet prices'!I126","v":328},{"$f":"'[1]Weekly Piglet prices'!J126","v":58.9},{"$f":"'[1]Weekly Piglet prices'!K126","v":40},{"$f":"'[1]Weekly Piglet prices'!L126","v":0},{"$f":"'[1]Weekly Piglet prices'!M126","v":51.22},{"$f":"'[1]Weekly Piglet prices'!N126","v":38.4},{"$f":"'[1]Weekly Piglet prices'!O126","v":49.670883712245008},{"$f":"'[1]Weekly Piglet prices'!P126","v":380},{"$f":"'[1]Weekly Piglet prices'!Q126","v":0},{"$f":"'[1]Weekly Piglet prices'!R126","v":74.599999999999994},{"$f":"'[1]Weekly Piglet prices'!S126","v":74.599999999999994},{"$f":"'[1]Weekly Piglet prices'!T126","v":74.599999999999994},{"$f":"'[1]Weekly Piglet prices'!U126","v":74.599999999999994},{"$f":"'[1]Weekly Piglet prices'!V126","v":49.89},{"$f":"'[1]Weekly Piglet prices'!W126","v":48.09},{"$f":"'[1]Weekly Piglet prices'!X126","v":41.99295810394873},{"$f":"'[1]Weekly Piglet prices'!Y126","v":13000},{"$f":"'[1]Weekly Piglet prices'!Z126","v":91.32},{"$f":"'[1]Weekly Piglet prices'!AA126","v":44.75},{"$f":"'[1]Weekly Piglet prices'!AB126","v":0},{"$f":"'[1]Weekly Piglet prices'!AC126","v":39.331881541979079},{"$f":"'[1]Weekly Piglet prices'!AD126","v":165.39},{"$f":"'[1]Weekly Piglet prices'!AE126","v":46},{"$f":"'[1]Weekly Piglet prices'!AF126","v":0},{"$f":"'[1]Weekly Piglet prices'!AG126","v":""},{"$f":"'[1]Weekly Piglet prices'!AH126","v":0},{"$f":"'[1]Weekly Piglet prices'!AI126","v":71.760000000000005},{"$f":"'[1]Weekly Piglet prices'!AJ126","v":54.48},{"$f":"'[1]Weekly Piglet prices'!AK126","v":75.752278787427983},{"$f":"'[1]Weekly Piglet prices'!AL126","v":669.24},{"$f":"'[1]Weekly Piglet prices'!AM126","v":68.040000000000006},{"$f":"'[1]Weekly Piglet prices'!AN126","v":56.38},null,{"$f":"(SUMPRODUCT(C126:AN126,C$13:AN$13)/$AP$13)","v":51.326722407930291},{"$f":"'[1]Weekly Piglet prices'!$AQ126","v":-1.4717501161374269E-3}]
["2014-02-10",7,{"$f":"'[1]Weekly Piglet prices'!C127","v":49.5},{"$f":"'[1]Weekly Piglet prices'!D127","v":0},{"$f":"'[1]Weekly Piglet prices'!E127","v":0},{"$f":"'[1]Weekly Piglet prices'!F127","v":52.614082019582881},{"$f":"'[1]Weekly Piglet prices'!G127","v":1447},{"$f":"'[1]Weekly Piglet prices'!H127","v":43.955370749002576},{"$f":"'[1]Weekly Piglet prices'!I127","v":328},{"$f":"'[1]Weekly Piglet prices'!J127","v":58.6},{"$f":"'[1]Weekly Piglet prices'!K127","v":39.42},{"$f":"'[1]Weekly Piglet prices'!L127","v":0},{"$f":"'[1]Weekly Piglet prices'!M127","v":52.01},{"$f":"'[1]Weekly Piglet prices'!N127","v":39},{"$f":"'[1]Weekly Piglet prices'!O127","v":49.650486705428882},{"$f":"'[1]Weekly Piglet prices'!P127","v":380},{"$f":"'[1]Weekly Piglet prices'!Q127","v":0},{"$f":"'[1]Weekly Piglet prices'!R127","v":75.400000000000006},{"$f":"'[1]Weekly Piglet prices'!S127","v":0},{"$f":"'[1]Weekly Piglet prices'!T127","v":0},{"$f":"'[1]Weekly Piglet prices'!U127","v":74.599999999999994},{"$f":"'[1]Weekly Piglet prices'!V127","v":49.89},{"$f":"'[1]Weekly Piglet prices'!W127","v":41.81},{"$f":"'[1]Weekly Piglet prices'!X127","v":45.201284085458106},{"$f":"'[1]Weekly Piglet prices'!Y127","v":14000},{"$f":"'[1]Weekly Piglet prices'!Z127","v":91.32},{"$f":"'[1]Weekly Piglet prices'!AA127","v":43.25},{"$f":"'[1]Weekly Piglet prices'!AB127","v":0},{"$f":"'[1]Weekly Piglet prices'!AC127","v":38.561334493842217},{"$f":"'[1]Weekly Piglet prices'!AD127","v":160.76},{"$f":"'[1]Weekly Piglet prices'!AE127","v":44},{"$f":"'[1]Weekly Piglet prices'!AF127","v":0},{"$f":"'[1]Weekly Piglet prices'!AG127","v":""},{"$f":"'[1]Weekly Piglet prices'!AH127","v":0},{"$f":"'[1]Weekly Piglet prices'!AI127","v":69.38},{"$f":"'[1]Weekly Piglet prices'!AJ127","v":54.92},{"$f":"'[1]Weekly Piglet prices'!AK127","v":77.819683908045974},{"$f":"'[1]Weekly Piglet prices'!AL127","v":687.09},{"$f":"'[1]Weekly Piglet prices'!AM127","v":66.7},{"$f":"'[1]Weekly Piglet prices'!AN127","v":55.05},null,{"$f":"(SUMPRODUCT(C127:AN127,C$13:AN$13)/$AP$13)","v":51.359063108052858},{"$f":"'[1]Weekly Piglet prices'!$AQ127","v":6.3009478504261196E-4}]
["2014-02-17",8,{"$f":"'[1]Weekly Piglet prices'!C128","v":47.5},{"$f":"'[1]Weekly Piglet prices'!D128","v":0},{"$f":"'[1]Weekly Piglet prices'!E128","v":0},{"$f":"'[1]Weekly Piglet prices'!F128","v":51.357862461673243},{"$f":"'[1]Weekly Piglet prices'!G128","v":1407},{"$f":"'[1]Weekly Piglet prices'!H128","v":42.212590646991707},{"$f":"'[1]Weekly Piglet prices'!I128","v":315},{"$f":"'[1]Weekly Piglet prices'!J128","v":58.7},{"$f":"'[1]Weekly Piglet prices'!K128","v":39.6},{"$f":"'[1]Weekly Piglet prices'!L128","v":0},{"$f":"'[1]Weekly Piglet prices'!M128","v":52.01},{"$f":"'[1]Weekly Piglet prices'!N128","v":39},{"$f":"'[1]Weekly Piglet prices'!O128","v":47.102111114010597},{"$f":"'[1]Weekly Piglet prices'!P128","v":361},{"$f":"'[1]Weekly Piglet prices'!Q128","v":0},{"$f":"'[1]Weekly Piglet prices'!R128","v":77.790000000000006},{"$f":"'[1]Weekly Piglet prices'!S128","v":0},{"$f":"'[1]Weekly Piglet prices'!T128","v":0},{"$f":"'[1]Weekly Piglet prices'!U128","v":0},{"$f":"'[1]Weekly Piglet prices'!V128","v":0},{"$f":"'[1]Weekly Piglet prices'!W128","v":42.75},{"$f":"'[1]Weekly Piglet prices'!X128","v":48.196089231616639},{"$f":"'[1]Weekly Piglet prices'!Y128","v":15000},{"$f":"'[1]Weekly Piglet prices'!Z128","v":91.32},{"$f":"'[1]Weekly Piglet prices'!AA128","v":40.75},{"$f":"'[1]Weekly Piglet prices'!AB128","v":0},{"$f":"'[1]Weekly Piglet prices'!AC128","v":38.329769598539265},{"$f":"'[1]Weekly Piglet prices'!AD128","v":159.54},{"$f":"'[1]Weekly Piglet prices'!AE128","v":43.4},{"$f":"'[1]Weekly Piglet prices'!AF128","v":0},{"$f":"'[1]Weekly Piglet prices'!AG128","v":""},{"$f":"'[1]Weekly Piglet prices'!AH128","v":0},{"$f":"'[1]Weekly Piglet prices'!AI128","v":75.290000000000006},{"$f":"'[1]Weekly Piglet prices'!AJ128","v":53.18},{"$f":"'[1]Weekly Piglet prices'!AK128","v":75.319178218106984},{"$f":"'[1]Weekly Piglet prices'!AL128","v":672.37},{"$f":"'[1]Weekly Piglet prices'!AM128","v":66.480569277244555},{"$f":"'[1]Weekly Piglet prices'!AN128","v":54.64},null,{"$f":"(SUMPRODUCT(C128:AN128,C$13:AN$13)/$AP$13)","v":51.030751761067691},{"$f":"'[1]Weekly Piglet prices'!$AQ128","v":-6.3924714961104412E-3}]
["2014-02-24",9,{"$f":"'[1]Weekly Piglet prices'!C129","v":46.5},{"$f":"'[1]Weekly Piglet prices'!D129","v":0},{"$f":"'[1]Weekly Piglet prices'!E129","v":0},{"$f":"'[1]Weekly Piglet prices'!F129","v":51.450153582548012},{"$f":"'[1]Weekly Piglet prices'!G129","v":1407},{"$f":"'[1]Weekly Piglet prices'!H129","v":41.273347869617574},{"$f":"'[1]Weekly Piglet prices'!I129","v":308},{"$f":"'[1]Weekly Piglet prices'!J129","v":58.7},{"$f":"'[1]Weekly Piglet prices'!K129","v":37.51},{"$f":"'[1]Weekly Piglet prices'!L129","v":0},{"$f":"'[1]Weekly Piglet prices'!M129","v":51.01},{"$f":"'[1]Weekly Piglet prices'!N129","v":39.4},{"$f":"'[1]Weekly Piglet prices'!O129","v":47.127058428600741},{"$f":"'[1]Weekly Piglet prices'!P129","v":361},{"$f":"'[1]Weekly Piglet prices'!Q129","v":0},{"$f":"'[1]Weekly Piglet prices'!R129","v":78.23},{"$f":"'[1]Weekly Piglet prices'!S129","v":0},{"$f":"'[1]Weekly Piglet prices'!T129","v":0},{"$f":"'[1]Weekly Piglet prices'!U129","v":0},{"$f":"'[1]Weekly Piglet prices'!V129","v":0},{"$f":"'[1]Weekly Piglet prices'!W129","v":41.75},{"$f":"'[1]Weekly Piglet prices'!X129","v":45.938216619122109},{"$f":"'[1]Weekly Piglet prices'!Y129","v":14263.16},{"$f":"'[1]Weekly Piglet prices'!Z129","v":91.32},{"$f":"'[1]Weekly Piglet prices'!AA129","v":40},{"$f":"'[1]Weekly Piglet prices'!AB129","v":0},{"$f":"'[1]Weekly Piglet prices'!AC129","v":38.373138117225714},{"$f":"'[1]Weekly Piglet prices'!AD129","v":159.80000000000001},{"$f":"'[1]Weekly Piglet prices'!AE129","v":43.4},{"$f":"'[1]Weekly Piglet prices'!AF129","v":0},{"$f":"'[1]Weekly Piglet prices'!AG129","v":""},{"$f":"'[1]Weekly Piglet prices'!AH129","v":0},{"$f":"'[1]Weekly Piglet prices'!AI129","v":74.92},{"$f":"'[1]Weekly Piglet prices'!AJ129","v":55.06},{"$f":"'[1]Weekly Piglet prices'!AK129","v":73.307442494620773},{"$f":"'[1]Weekly Piglet prices'!AL129","v":653.65},{"$f":"'[1]Weekly Piglet prices'!AM129","v":69.734368387826308},{"$f":"'[1]Weekly Piglet prices'!AN129","v":57.44},null,{"$f":"(SUMPRODUCT(C129:AN129,C$13:AN$13)/$AP$13)","v":50.758407487821216},{"$f":"'[1]Weekly Piglet prices'!$AQ129","v":-5.3368657887232773E-3}]
["2014-03-03",10,{"$f":"'[1]Weekly Piglet prices'!C130","v":45.5},{"$f":"'[1]Weekly Piglet prices'!D130","v":0},{"$f":"'[1]Weekly Piglet prices'!E130","v":0},{"$f":"'[1]Weekly Piglet prices'!F130","v":51.450153582548012},{"$f":"'[1]Weekly Piglet prices'!G130","v":1407},{"$f":"'[1]Weekly Piglet prices'!H130","v":40.065774486926458},{"$f":"'[1]Weekly Piglet prices'!I130","v":299},{"$f":"'[1]Weekly Piglet prices'!J130","v":56.6},{"$f":"'[1]Weekly Piglet prices'!K130","v":40.64},{"$f":"'[1]Weekly Piglet prices'!L130","v":0},{"$f":"'[1]Weekly Piglet prices'!M130","v":50.63},{"$f":"'[1]Weekly Piglet prices'!N130","v":39.200000000000003},{"$f":"'[1]Weekly Piglet prices'!O130","v":47.127058428600741},{"$f":"'[1]Weekly Piglet prices'!P130","v":361},{"$f":"'[1]Weekly Piglet prices'!Q130","v":0},{"$f":"'[1]Weekly Piglet prices'!R130","v":78.430000000000007},{"$f":"'[1]Weekly Piglet prices'!S130","v":0},{"$f":"'[1]Weekly Piglet prices'!T130","v":0},{"$f":"'[1]Weekly Piglet prices'!U130","v":0},{"$f":"'[1]Weekly Piglet prices'!V130","v":0},{"$f":"'[1]Weekly Piglet prices'!W130","v":45.3},{"$f":"'[1]Weekly Piglet prices'!X130","v":47.388145605785958},{"$f":"'[1]Weekly Piglet prices'!Y130","v":14714.29},{"$f":"'[1]Weekly Piglet prices'!Z130","v":91.32},{"$f":"'[1]Weekly Piglet prices'!AA130","v":38.5},{"$f":"'[1]Weekly Piglet prices'!AB130","v":0},{"$f":"'[1]Weekly Piglet prices'!AC130","v":40.700258406753399},{"$f":"'[1]Weekly Piglet prices'!AD130","v":170.33},{"$f":"'[1]Weekly Piglet prices'!AE130","v":43.4},{"$f":"'[1]Weekly Piglet prices'!AF130","v":0},{"$f":"'[1]Weekly Piglet prices'!AG130","v":""},{"$f":"'[1]Weekly Piglet prices'!AH130","v":0},{"$f":"'[1]Weekly Piglet prices'!AI130","v":76.2},{"$f":"'[1]Weekly Piglet prices'!AJ130","v":53.7},{"$f":"'[1]Weekly Piglet prices'!AK130","v":74.095443698479613},{"$f":"'[1]Weekly Piglet prices'!AL130","v":656.04},{"$f":"'[1]Weekly Piglet prices'!AM130","v":68.66689750692521},{"$f":"'[1]Weekly Piglet prices'!AN130","v":56.66},null,{"$f":"(SUMPRODUCT(C130:AN130,C$13:AN$13)/$AP$13)","v":50.142494836685472},{"$f":"'[1]Weekly Piglet prices'!$AQ130","v":-1.2134199665021494E-2}]
["2014-03-10",11,{"$f":"'[1]Weekly Piglet prices'!C131","v":46.5},{"$f":"'[1]Weekly Piglet prices'!D131","v":0},{"$f":"'[1]Weekly Piglet prices'!E131","v":0},{"$f":"'[1]Weekly Piglet prices'!F131","v":51.954767438823744},{"$f":"'[1]Weekly Piglet prices'!G131","v":1421},{"$f":"'[1]Weekly Piglet prices'!H131","v":40.600139353613621},{"$f":"'[1]Weekly Piglet prices'!I131","v":303},{"$f":"'[1]Weekly Piglet prices'!J131","v":56.5},{"$f":"'[1]Weekly Piglet prices'!K131","v":37.56},{"$f":"'[1]Weekly Piglet prices'!L131","v":0},{"$f":"'[1]Weekly Piglet prices'!M131","v":49.26},{"$f":"'[1]Weekly Piglet prices'!N131","v":39},{"$f":"'[1]Weekly Piglet prices'!O131","v":48.2968485588001},{"$f":"'[1]Weekly Piglet prices'!P131","v":369.8},{"$f":"'[1]Weekly Piglet prices'!Q131","v":0},{"$f":"'[1]Weekly Piglet prices'!R131","v":78.430000000000007},{"$f":"'[1]Weekly Piglet prices'!S131","v":0},{"$f":"'[1]Weekly Piglet prices'!T131","v":0},{"$f":"'[1]Weekly Piglet prices'!U131","v":0},{"$f":"'[1]Weekly Piglet prices'!V131","v":0},{"$f":"'[1]Weekly Piglet prices'!W131","v":43.21},{"$f":"'[1]Weekly Piglet prices'!X131","v":44.764393122727519},{"$f":"'[1]Weekly Piglet prices'!Y131","v":14000},{"$f":"'[1]Weekly Piglet prices'!Z131","v":91.32},{"$f":"'[1]Weekly Piglet prices'!AA131","v":38.5},{"$f":"'[1]Weekly Piglet prices'!AB131","v":0},{"$f":"'[1]Weekly Piglet prices'!AC131","v":38.486246450342016},{"$f":"'[1]Weekly Piglet prices'!AD131","v":162.44},{"$f":"'[1]Weekly Piglet prices'!AE131","v":43.4},{"$f":"'[1]Weekly Piglet prices'!AF131","v":0},{"$f":"'[1]Weekly Piglet prices'!AG131","v":""},{"$f":"'[1]Weekly Piglet prices'!AH131","v":0},{"$f":"'[1]Weekly Piglet prices'!AI131","v":79},{"$f":"'[1]Weekly Piglet prices'!AJ131","v":52.84},{"$f":"'[1]Weekly Piglet prices'!AK131","v":76.920322927115635},{"$f":"'[1]Weekly Piglet prices'!AL131","v":681.38},{"$f":"'[1]Weekly Piglet prices'!AM131","v":66.23006394945682},{"$f":"'[1]Weekly Piglet prices'!AN131","v":55.26},null,{"$f":"(SUMPRODUCT(C131:AN131,C$13:AN$13)/$AP$13)","v":49.660840335928029},{"$f":"'[1]Weekly Piglet prices'!$AQ131","v":-9.6057147201429327E-3}]
["2014-03-17",12,{"$f":"'[1]Weekly Piglet prices'!C132","v":47},{"$f":"'[1]Weekly Piglet prices'!D132","v":0},{"$f":"'[1]Weekly Piglet prices'!E132","v":0},{"$f":"'[1]Weekly Piglet prices'!F132","v":51.954767438823744},{"$f":"'[1]Weekly Piglet prices'!G132","v":1421},{"$f":"'[1]Weekly Piglet prices'!H132","v":41.666586918950166},{"$f":"'[1]Weekly Piglet prices'!I132","v":311},{"$f":"'[1]Weekly Piglet prices'!J132","v":58.3},{"$f":"'[1]Weekly Piglet prices'!K132","v":40.200000000000003},{"$f":"'[1]Weekly Piglet prices'!L132","v":0},{"$f":"'[1]Weekly Piglet prices'!M132","v":49.15},{"$f":"'[1]Weekly Piglet prices'!N132","v":39.799999999999997},{"$f":"'[1]Weekly Piglet prices'!O132","v":51.462620874868279},{"$f":"'[1]Weekly Piglet prices'!P132","v":394.2},{"$f":"'[1]Weekly Piglet prices'!Q132","v":0},{"$f":"'[1]Weekly Piglet prices'!R132","v":78.430000000000007},{"$f":"'[1]Weekly Piglet prices'!S132","v":0},{"$f":"'[1]Weekly Piglet prices'!T132","v":0},{"$f":"'[1]Weekly Piglet prices'!U132","v":0},{"$f":"'[1]Weekly Piglet prices'!V132","v":0},{"$f":"'[1]Weekly Piglet prices'!W132","v":46.02},{"$f":"'[1]Weekly Piglet prices'!X132","v":49.358199259831942},{"$f":"'[1]Weekly Piglet prices'!Y132","v":15413.79},{"$f":"'[1]Weekly Piglet prices'!Z132","v":91.32},{"$f":"'[1]Weekly Piglet prices'!AA132","v":40},{"$f":"'[1]Weekly Piglet prices'!AB132","v":0},{"$f":"'[1]Weekly Piglet prices'!AC132","v":38.492600774365194},{"$f":"'[1]Weekly Piglet prices'!AD132","v":162.05000000000001},{"$f":"'[1]Weekly Piglet prices'!AE132","v":43.4},{"$f":"'[1]Weekly Piglet prices'!AF132","v":0},{"$f":"'[1]Weekly Piglet prices'!AG132","v":""},{"$f":"'[1]Weekly Piglet prices'!AH132","v":0},{"$f":"'[1]Weekly Piglet prices'!AI132","v":82.93},{"$f":"'[1]Weekly Piglet prices'!AJ132","v":53.23},{"$f":"'[1]Weekly Piglet prices'!AK132","v":74.422238471807219},{"$f":"'[1]Weekly Piglet prices'!AL132","v":658.64},{"$f":"'[1]Weekly Piglet prices'!AM132","v":67.88},{"$f":"'[1]Weekly Piglet prices'!AN132","v":56.77},null,{"$f":"(SUMPRODUCT(C132:AN132,C$13:AN$13)/$AP$13)","v":50.544603719149997},{"$f":"'[1]Weekly Piglet prices'!$AQ132","v":1.7795981244856041E-2}]
["2014-03-24",13,{"$f":"'[1]Weekly Piglet prices'!C133","v":48},{"$f":"'[1]Weekly Piglet prices'!D133","v":0},{"$f":"'[1]Weekly Piglet prices'!E133","v":0},{"$f":"'[1]Weekly Piglet prices'!F133","v":51.954767438823744},{"$f":"'[1]Weekly Piglet prices'!G133","v":1421},{"$f":"'[1]Weekly Piglet prices'!H133","v":42.731607994427485},{"$f":"'[1]Weekly Piglet prices'!I133","v":319},{"$f":"'[1]Weekly Piglet prices'!J133","v":58.4},{"$f":"'[1]Weekly Piglet prices'!K133","v":40.799999999999997},{"$f":"'[1]Weekly Piglet prices'!L133","v":0},{"$f":"'[1]Weekly Piglet prices'!M133","v":50.12},{"$f":"'[1]Weekly Piglet prices'!N133","v":40.4},{"$f":"'[1]Weekly Piglet prices'!O133","v":51.460701397760225},{"$f":"'[1]Weekly Piglet prices'!P133","v":394.2},{"$f":"'[1]Weekly Piglet prices'!Q133","v":0},{"$f":"'[1]Weekly Piglet prices'!R133","v":78.430000000000007},{"$f":"'[1]Weekly Piglet prices'!S133","v":0},{"$f":"'[1]Weekly Piglet prices'!T133","v":0},{"$f":"'[1]Weekly Piglet prices'!U133","v":0},{"$f":"'[1]Weekly Piglet prices'!V133","v":0},{"$f":"'[1]Weekly Piglet prices'!W133","v":45.55},{"$f":"'[1]Weekly Piglet prices'!X133","v":46.580359150631253},{"$f":"'[1]Weekly Piglet prices'!Y133","v":14500},{"$f":"'[1]Weekly Piglet prices'!Z133","v":91.32},{"$f":"'[1]Weekly Piglet prices'!AA133","v":41},{"$f":"'[1]Weekly Piglet prices'!AB133","v":0},{"$f":"'[1]Weekly Piglet prices'!AC133","v":40.548336115292578},{"$f":"'[1]Weekly Piglet prices'!AD133","v":169.7},{"$f":"'[1]Weekly Piglet prices'!AE133","v":43.4},{"$f":"'[1]Weekly Piglet prices'!AF133","v":0},{"$f":"'[1]Weekly Piglet prices'!AG133","v":""},{"$f":"'[1]Weekly Piglet prices'!AH133","v":0},{"$f":"'[1]Weekly Piglet prices'!AI133","v":82.36},{"$f":"'[1]Weekly Piglet prices'!AJ133","v":53.46},{"$f":"'[1]Weekly Piglet prices'!AK133","v":72.16345319858398},{"$f":"'[1]Weekly Piglet prices'!AL133","v":641.83000000000004},{"$f":"'[1]Weekly Piglet prices'!AM133","v":66.469699051807055},{"$f":"'[1]Weekly Piglet prices'!AN133","v":55.28},null,{"$f":"(SUMPRODUCT(C133:AN133,C$13:AN$13)/$AP$13)","v":51.088312397110883},{"$f":"'[1]Weekly Piglet prices'!$AQ133","v":1.0757007434107013E-2}]
["2014-03-31",14,{"$f":"'[1]Weekly Piglet prices'!C134","v":49},{"$f":"'[1]Weekly Piglet prices'!D134","v":0},{"$f":"'[1]Weekly Piglet prices'!E134","v":0},{"$f":"'[1]Weekly Piglet prices'!F134","v":51.954767438823744},{"$f":"'[1]Weekly Piglet prices'!G134","v":1421},{"$f":"'[1]Weekly Piglet prices'!H134","v":42.462723125440128},{"$f":"'[1]Weekly Piglet prices'!I134","v":317},{"$f":"'[1]Weekly Piglet prices'!J134","v":59.3},{"$f":"'[1]Weekly Piglet prices'!K134","v":39.590000000000003},{"$f":"'[1]Weekly Piglet prices'!L134","v":0},{"$f":"'[1]Weekly Piglet prices'!M134","v":51.12},{"$f":"'[1]Weekly Piglet prices'!N134","v":40.6},{"$f":"'[1]Weekly Piglet prices'!O134","v":53.436412313429351},{"$f":"'[1]Weekly Piglet prices'!P134","v":408.6},{"$f":"'[1]Weekly Piglet prices'!Q134","v":0},{"$f":"'[1]Weekly Piglet prices'!R134","v":78.17},{"$f":"'[1]Weekly Piglet prices'!S134","v":0},{"$f":"'[1]Weekly Piglet prices'!T134","v":0},{"$f":"'[1]Weekly Piglet prices'!U134","v":0},{"$f":"'[1]Weekly Piglet prices'!V134","v":0},{"$f":"'[1]Weekly Piglet prices'!W134","v":43.85},{"$f":"'[1]Weekly Piglet prices'!X134","v":53.643373673154507},{"$f":"'[1]Weekly Piglet prices'!Y134","v":16489.36},{"$f":"'[1]Weekly Piglet prices'!Z134","v":91.32},{"$f":"'[1]Weekly Piglet prices'!AA134","v":42},{"$f":"'[1]Weekly Piglet prices'!AB134","v":0},{"$f":"'[1]Weekly Piglet prices'!AC134","v":41.952251808021046},{"$f":"'[1]Weekly Piglet prices'!AD134","v":175.02},{"$f":"'[1]Weekly Piglet prices'!AE134","v":43.4},{"$f":"'[1]Weekly Piglet prices'!AF134","v":0},{"$f":"'[1]Weekly Piglet prices'!AG134","v":""},{"$f":"'[1]Weekly Piglet prices'!AH134","v":0},{"$f":"'[1]Weekly Piglet prices'!AI134","v":77.77},{"$f":"'[1]Weekly Piglet prices'!AJ134","v":51.48},{"$f":"'[1]Weekly Piglet prices'!AK134","v":73.494875286926401},{"$f":"'[1]Weekly Piglet prices'!AL134","v":656.83},{"$f":"'[1]Weekly Piglet prices'!AM134","v":68.711285953379232},{"$f":"'[1]Weekly Piglet prices'!AN134","v":56.89},null,{"$f":"(SUMPRODUCT(C134:AN134,C$13:AN$13)/$AP$13)","v":51.918132580985876},{"$f":"'[1]Weekly Piglet prices'!$AQ134","v":1.6242857611439065E-2}]
["2014-04-07",15,{"$f":"'[1]Weekly Piglet prices'!C135","v":50},{"$f":"'[1]Weekly Piglet prices'!D135","v":0},{"$f":"'[1]Weekly Piglet prices'!E135","v":0},{"$f":"'[1]Weekly Piglet prices'!F135","v":48.228095300091141},{"$f":"'[1]Weekly Piglet prices'!G135","v":1323},{"$f":"'[1]Weekly Piglet prices'!H135","v":42.325531556630487},{"$f":"'[1]Weekly Piglet prices'!I135","v":316},{"$f":"'[1]Weekly Piglet prices'!J135","v":60.7},{"$f":"'[1]Weekly Piglet prices'!K135","v":41},{"$f":"'[1]Weekly Piglet prices'!L135","v":0},{"$f":"'[1]Weekly Piglet prices'!M135","v":51.9},{"$f":"'[1]Weekly Piglet prices'!N135","v":41},{"$f":"'[1]Weekly Piglet prices'!O135","v":53.551368272845743},{"$f":"'[1]Weekly Piglet prices'!P135","v":408.6},{"$f":"'[1]Weekly Piglet prices'!Q135","v":0},{"$f":"'[1]Weekly Piglet prices'!R135","v":77.88},{"$f":"'[1]Weekly Piglet prices'!S135","v":0},{"$f":"'[1]Weekly Piglet prices'!T135","v":0},{"$f":"'[1]Weekly Piglet prices'!U135","v":0},{"$f":"'[1]Weekly Piglet prices'!V135","v":0},{"$f":"'[1]Weekly Piglet prices'!W135","v":48.22},{"$f":"'[1]Weekly Piglet prices'!X135","v":45.737754649616129},{"$f":"'[1]Weekly Piglet prices'!Y135","v":14000},{"$f":"'[1]Weekly Piglet prices'!Z135","v":91.32},{"$f":"'[1]Weekly Piglet prices'!AA135","v":43.5},{"$f":"'[1]Weekly Piglet prices'!AB135","v":0},{"$f":"'[1]Weekly Piglet prices'!AC135","v":41.451844753234305},{"$f":"'[1]Weekly Piglet prices'!AD135","v":173.02},{"$f":"'[1]Weekly Piglet prices'!AE135","v":43.4},{"$f":"'[1]Weekly Piglet prices'!AF135","v":0},{"$f":"'[1]Weekly Piglet prices'!AG135","v":""},{"$f":"'[1]Weekly Piglet prices'!AH135","v":0},{"$f":"'[1]Weekly Piglet prices'!AI135","v":79.760000000000005},{"$f":"'[1]Weekly Piglet prices'!AJ135","v":52.88},{"$f":"'[1]Weekly Piglet prices'!AK135","v":73.696238923676972},{"$f":"'[1]Weekly Piglet prices'!AL135","v":664.28},{"$f":"'[1]Weekly Piglet prices'!AM135","v":67.373404871136913},{"$f":"'[1]Weekly Piglet prices'!AN135","v":55.7},null,{"$f":"(SUMPRODUCT(C135:AN135,C$13:AN$13)/$AP$13)","v":52.289151036397655},{"$f":"'[1]Weekly Piglet prices'!$AQ135","v":7.1462211171220424E-3}]
["2014-04-14",16,{"$f":"'[1]Weekly Piglet prices'!C136","v":50},{"$f":"'[1]Weekly Piglet prices'!D136","v":0},{"$f":"'[1]Weekly Piglet prices'!E136","v":0},{"$f":"'[1]Weekly Piglet prices'!F136","v":63.687313487153347},{"$f":"'[1]Weekly Piglet prices'!G136","v":1750},{"$f":"'[1]Weekly Piglet prices'!H136","v":43.394739057561168},{"$f":"'[1]Weekly Piglet prices'!I136","v":324},{"$f":"'[1]Weekly Piglet prices'!J136","v":60.7},{"$f":"'[1]Weekly Piglet prices'!K136","v":39.9},{"$f":"'[1]Weekly Piglet prices'!L136","v":0},{"$f":"'[1]Weekly Piglet prices'!M136","v":52.87},{"$f":"'[1]Weekly Piglet prices'!N136","v":41.8},{"$f":"'[1]Weekly Piglet prices'!O136","v":53.681665698382659},{"$f":"'[1]Weekly Piglet prices'!P136","v":409.2},{"$f":"'[1]Weekly Piglet prices'!Q136","v":0},{"$f":"'[1]Weekly Piglet prices'!R136","v":77.7},{"$f":"'[1]Weekly Piglet prices'!S136","v":0},{"$f":"'[1]Weekly Piglet prices'!T136","v":0},{"$f":"'[1]Weekly Piglet prices'!U136","v":0},{"$f":"'[1]Weekly Piglet prices'!V136","v":0},{"$f":"'[1]Weekly Piglet prices'!W136","v":45.06},{"$f":"'[1]Weekly Piglet prices'!X136","v":48.55644311104713},{"$f":"'[1]Weekly Piglet prices'!Y136","v":14936.17},{"$f":"'[1]Weekly Piglet prices'!Z136","v":91.32},{"$f":"'[1]Weekly Piglet prices'!AA136","v":44.5},{"$f":"'[1]Weekly Piglet prices'!AB136","v":0},{"$f":"'[1]Weekly Piglet prices'!AC136","v":41.229679231902239},{"$f":"'[1]Weekly Piglet prices'!AD136","v":172.75},{"$f":"'[1]Weekly Piglet prices'!AE136","v":43.4},{"$f":"'[1]Weekly Piglet prices'!AF136","v":0},{"$f":"'[1]Weekly Piglet prices'!AG136","v":""},{"$f":"'[1]Weekly Piglet prices'!AH136","v":0},{"$f":"'[1]Weekly Piglet prices'!AI136","v":94.32},{"$f":"'[1]Weekly Piglet prices'!AJ136","v":51.04},{"$f":"'[1]Weekly Piglet prices'!AK136","v":71.126423130155843},{"$f":"'[1]Weekly Piglet prices'!AL136","v":646.78},{"$f":"'[1]Weekly Piglet prices'!AM136","v":69.959999999999994},{"$f":"'[1]Weekly Piglet prices'!AN136","v":57.75},null,{"$f":"(SUMPRODUCT(C136:AN136,C$13:AN$13)/$AP$13)","v":53.040655513607952},{"$f":"'[1]Weekly Piglet prices'!$AQ136","v":1.4372091768848794E-2}]
["2014-04-21",17,{"$f":"'[1]Weekly Piglet prices'!C137","v":50},{"$f":"'[1]Weekly Piglet prices'!D137","v":0},{"$f":"'[1]Weekly Piglet prices'!E137","v":0},{"$f":"'[1]Weekly Piglet prices'!F137","v":52.052187387874596},{"$f":"'[1]Weekly Piglet prices'!G137","v":1430},{"$f":"'[1]Weekly Piglet prices'!H137","v":43.398143523860369},{"$f":"'[1]Weekly Piglet prices'!I137","v":324},{"$f":"'[1]Weekly Piglet prices'!J137","v":60.7},{"$f":"'[1]Weekly Piglet prices'!K137","v":39.86},{"$f":"'[1]Weekly Piglet prices'!L137","v":0},{"$f":"'[1]Weekly Piglet prices'!M137","v":53.3},{"$f":"'[1]Weekly Piglet prices'!N137","v":41.8},{"$f":"'[1]Weekly Piglet prices'!O137","v":53.6972639590578},{"$f":"'[1]Weekly Piglet prices'!P137","v":409.2},{"$f":"'[1]Weekly Piglet prices'!Q137","v":0},{"$f":"'[1]Weekly Piglet prices'!R137","v":77.44},{"$f":"'[1]Weekly Piglet prices'!S137","v":0},{"$f":"'[1]Weekly Piglet prices'!T137","v":0},{"$f":"'[1]Weekly Piglet prices'!U137","v":0},{"$f":"'[1]Weekly Piglet prices'!V137","v":0},{"$f":"'[1]Weekly Piglet prices'!W137","v":42.91},{"$f":"'[1]Weekly Piglet prices'!X137","v":48.673756037863548},{"$f":"'[1]Weekly Piglet prices'!Y137","v":15000},{"$f":"'[1]Weekly Piglet prices'!Z137","v":91.32},{"$f":"'[1]Weekly Piglet prices'!AA137","v":44.5},{"$f":"'[1]Weekly Piglet prices'!AB137","v":0},{"$f":"'[1]Weekly Piglet prices'!AC137","v":41.858034023890283},{"$f":"'[1]Weekly Piglet prices'!AD137","v":175.61},{"$f":"'[1]Weekly Piglet prices'!AE137","v":45},{"$f":"'[1]Weekly Piglet prices'!AF137","v":0},{"$f":"'[1]Weekly Piglet prices'!AG137","v":""},{"$f":"'[1]Weekly Piglet prices'!AH137","v":0},{"$f":"'[1]Weekly Piglet prices'!AI137","v":68.5},{"$f":"'[1]Weekly Piglet prices'!AJ137","v":52.93},{"$f":"'[1]Weekly Piglet prices'!AK137","v":72.156705630970336},{"$f":"'[1]Weekly Piglet prices'!AL137","v":656.09},{"$f":"'[1]Weekly Piglet prices'!AM137","v":67.221479771595185},{"$f":"'[1]Weekly Piglet prices'!AN137","v":55.33},null,{"$f":"(SUMPRODUCT(C137:AN137,C$13:AN$13)/$AP$13)","v":52.884840191528028},{"$f":"'[1]Weekly Piglet prices'!$AQ137","v":-2.9376583032604264E-3}]
["2014-04-28",18,{"$f":"'[1]Weekly Piglet prices'!C138","v":50},{"$f":"'[1]Weekly Piglet prices'!D138","v":0},{"$f":"'[1]Weekly Piglet prices'!E138","v":0},{"$f":"'[1]Weekly Piglet prices'!F138","v":58.470553947998411},{"$f":"'[1]Weekly Piglet prices'!G138","v":1605},{"$f":"'[1]Weekly Piglet prices'!H138","v":43.407197020444258},{"$f":"'[1]Weekly Piglet prices'!I138","v":324},{"$f":"'[1]Weekly Piglet prices'!J138","v":60.8},{"$f":"'[1]Weekly Piglet prices'!K138","v":39.83},{"$f":"'[1]Weekly Piglet prices'!L138","v":0},{"$f":"'[1]Weekly Piglet prices'!M138","v":52.22},{"$f":"'[1]Weekly Piglet prices'!N138","v":42},{"$f":"'[1]Weekly Piglet prices'!O138","v":47.793592969542196},{"$f":"'[1]Weekly Piglet prices'!P138","v":363.6},{"$f":"'[1]Weekly Piglet prices'!Q138","v":0},{"$f":"'[1]Weekly Piglet prices'!R138","v":77.14},{"$f":"'[1]Weekly Piglet prices'!S138","v":0},{"$f":"'[1]Weekly Piglet prices'!T138","v":136.74},{"$f":"'[1]Weekly Piglet prices'!U138","v":0},{"$f":"'[1]Weekly Piglet prices'!V138","v":0},{"$f":"'[1]Weekly Piglet prices'!W138","v":48.93},{"$f":"'[1]Weekly Piglet prices'!X138","v":52.716215589952732},{"$f":"'[1]Weekly Piglet prices'!Y138","v":16250.15},{"$f":"'[1]Weekly Piglet prices'!Z138","v":91.32},{"$f":"'[1]Weekly Piglet prices'!AA138","v":44.25},{"$f":"'[1]Weekly Piglet prices'!AB138","v":0},{"$f":"'[1]Weekly Piglet prices'!AC138","v":42.50073927038261},{"$f":"'[1]Weekly Piglet prices'!AD138","v":178.63},{"$f":"'[1]Weekly Piglet prices'!AE138","v":45},{"$f":"'[1]Weekly Piglet prices'!AF138","v":0},{"$f":"'[1]Weekly Piglet prices'!AG138","v":""},{"$f":"'[1]Weekly Piglet prices'!AH138","v":0},{"$f":"'[1]Weekly Piglet prices'!AI138","v":81},{"$f":"'[1]Weekly Piglet prices'!AJ138","v":51.72},{"$f":"'[1]Weekly Piglet prices'!AK138","v":71.77887497239486},{"$f":"'[1]Weekly Piglet prices'!AL138","v":650.04999999999995},{"$f":"'[1]Weekly Piglet prices'!AM138","v":69.675939999826298},{"$f":"'[1]Weekly Piglet prices'!AN138","v":57.3},null,{"$f":"(SUMPRODUCT(C138:AN138,C$13:AN$13)/$AP$13)","v":52.964186969231022},{"$f":"'[1]Weekly Piglet prices'!$AQ138","v":1.5003690550190463E-3}]
["2014-05-05",19,{"$f":"'[1]Weekly Piglet prices'!C139","v":50},{"$f":"'[1]Weekly Piglet prices'!D139","v":0},{"$f":"'[1]Weekly Piglet prices'!E139","v":0},{"$f":"'[1]Weekly Piglet prices'!F139","v":58.470553947998411},{"$f":"'[1]Weekly Piglet prices'!G139","v":0},{"$f":"'[1]Weekly Piglet prices'!H139","v":43.408360128617367},{"$f":"'[1]Weekly Piglet prices'!I139","v":324},{"$f":"'[1]Weekly Piglet prices'!J139","v":60.7},{"$f":"'[1]Weekly Piglet prices'!K139","v":39.32},{"$f":"'[1]Weekly Piglet prices'!L139","v":0},{"$f":"'[1]Weekly Piglet prices'!M139","v":52.22},{"$f":"'[1]Weekly Piglet prices'!N139","v":41.4},{"$f":"'[1]Weekly Piglet prices'!O139","v":47.901351671804591},{"$f":"'[1]Weekly Piglet prices'!P139","v":363.6},{"$f":"'[1]Weekly Piglet prices'!Q139","v":0},{"$f":"'[1]Weekly Piglet prices'!R139","v":76.2},{"$f":"'[1]Weekly Piglet prices'!S139","v":0},{"$f":"'[1]Weekly Piglet prices'!T139","v":0},{"$f":"'[1]Weekly Piglet prices'!U139","v":0},{"$f":"'[1]Weekly Piglet prices'!V139","v":0},{"$f":"'[1]Weekly Piglet prices'!W139","v":45.21},{"$f":"'[1]Weekly Piglet prices'!X139","v":47.425031071572079},{"$f":"'[1]Weekly Piglet prices'!Y139","v":14500},{"$f":"'[1]Weekly Piglet prices'!Z139","v":91.32},{"$f":"'[1]Weekly Piglet prices'!AA139","v":43.25},{"$f":"'[1]Weekly Piglet prices'!AB139","v":0},{"$f":"'[1]Weekly Piglet prices'!AC139","v":42.133414136737066},{"$f":"'[1]Weekly Piglet prices'!AD139","v":176.79},{"$f":"'[1]Weekly Piglet prices'!AE139","v":45},{"$f":"'[1]Weekly Piglet prices'!AF139","v":0},{"$f":"'[1]Weekly Piglet prices'!AG139","v":0},{"$f":"'[1]Weekly Piglet prices'!AH139","v":0},{"$f":"'[1]Weekly Piglet prices'!AI139","v":72.3},{"$f":"'[1]Weekly Piglet prices'!AJ139","v":50.14},{"$f":"'[1]Weekly Piglet prices'!AK139","v":74.088963305795559},{"$f":"'[1]Weekly Piglet prices'!AL139","v":670.05},{"$f":"'[1]Weekly Piglet prices'!AM139","v":69.675939999826298},{"$f":"'[1]Weekly Piglet prices'!AN139","v":57.3},null,{"$f":"(SUMPRODUCT(C139:AN139,C$13:AN$13)/$AP$13)","v":52.551566189457176},{"$f":"'[1]Weekly Piglet prices'!$AQ139","v":-7.7905619511077218E-3}]
[]
[]
[]
[]
[]
[]
[]
[]
[]
[]
[]
[]
[]
[]
[]
[]
[]
[]
[]
[]
[]
[]
[]
[]
[]
[]
[]
[]
[]
[]
[]
[]
[]
[]
[]
[]
[]
[]
[]
[]
[]
[]
[]
[]
[]
[]
[]
[]
[]
[]
[]
[]
[]
[]
[]
[]
[]
[]
[]
[]
[]
[]
[]
[]
[]
[]
[]
[]
[]
[]
[]
[]
[]
[]
[]
[]
[]
[]
[]
[]
[]
[]
[]
[]
[]
[]
[]
[]
[]
[]
[]
[]
[]
[]
[]
[]
[]
[]
[]
[]
[]
[]
[]
[]
[]
[]
[]
[]
[]
[]
[]
[]
[]
[]
[]
[]
[]
[]
[]
[]
[]
[]
[]
[]
[]
[]
[]
[]
[]
[]
[]
[]
[]
[]
[]
[]
[]
[]
[]
[]
[]
[]
[]
[]
[]
[]
[]
[]
[]
[]
[]
[]
[]
[]
[]
[]
[]
[]
[]
[]
[]
[]
[]
[]
[]
[]
[]
[]
[]
[]
[]
[]
[]
[]
[]
[]
[]
[]
[]
[]
[]
[]
[]
[]
[]
[]
[]
[]
[]
[]
[]
[]
[]
[]
[]
[]
[]
[]
[]
[]
[]
[]
[]
[]
[]
[]
[]
[]
[]
[]
[]
[]
[]
[]
[]
[]
[]
[]
[]
[]
[]
[]
[]
[]
[]
[]
[]
[]
[]
[]
[]
[]
[]
[]
[]
[]
[]
[]
[]
[]
[]
[]
[]
[]
[]
[]
[]
[]
[]
[]
[]
[]
[]
[]
[]
[]
[]
[]
[]
[]
[]
[]
[]
[]
[]
[]
[]
[]
[]
[]
[]
[]
[]
[]
[]
[]
[]
[]
[]
[]
[]
[]
[]
[]
[]
[]
[]
[]
[]
[]
[]
[]
[]
[]
[]
[]
[]
[]
[]
[]
[]
[]
[]
[]
[]
[]
[]
[]
[]
[]
[]
[]
[]
[]
[]
[]
[]
[]
[]
[]
[]
[]
[]
[]
[]
[]
[]
[]
[]
[]
[]
[]
[]
[]
[]
[]
[]
[]
[]
[]
[]
[]
[]
[]
[]
[]
[]
[]
[]
[]
[]
[]
[]
[]
[]
[]
[]
[]
[]
[]
[null,null,"BE","BG","BG","CZ","CZ","DK","DK","DE","EE","GR","ES","FR","HR","HR","IE","IT","CY","LV","LT","LT","LU","HU","HU","MT","NL","AT","PL","PL","PT","RO","RO","SI","SK","FI","SE","SE","UK","UK",null,"EU_27"]
["Change 1 week",null,{"$f":"'[1]Weekly Piglet prices'!C$502","v":0},{"$f":"'[1]Weekly Piglet prices'!D$502","v":0},{"$f":"'[1]Weekly Piglet prices'!E$502","v":0},{"$f":"'[1]Weekly Piglet prices'!F$502","v":0},{"$f":"'[1]Weekly Piglet prices'!G$502","v":-1},{"$f":"'[1]Weekly Piglet prices'!H$502","v":2.6795284030045607E-5},{"$f":"'[1]Weekly Piglet prices'!I$502","v":0},{"$f":"'[1]Weekly Piglet prices'!J$502","v":-1.6447368421051989E-3},{"$f":"'[1]Weekly Piglet prices'!K$502","v":-1.2804418779814197E-2},{"$f":"'[1]Weekly Piglet prices'!L$502","v":0},{"$f":"'[1]Weekly Piglet prices'!M$502","v":0},{"$f":"'[1]Weekly Piglet prices'!N$502","v":-1.4285714285714346E-2},{"$f":"'[1]Weekly Piglet prices'!O$502","v":2.2546683680189084E-3},{"$f":"'[1]Weekly Piglet prices'!P$502","v":0},{"$f":"'[1]Weekly Piglet prices'!Q$502","v":0},{"$f":"'[1]Weekly Piglet prices'!R$502","v":-1.2185636505055664E-2},{"$f":"'[1]Weekly Piglet prices'!S$502","v":0},{"$f":"'[1]Weekly Piglet prices'!T$502","v":0},{"$f":"'[1]Weekly Piglet prices'!U$502","v":0},{"$f":"'[1]Weekly Piglet prices'!V$502","v":0},{"$f":"'[1]Weekly Piglet prices'!W$502","v":-7.6026977314530897E-2},{"$f":"'[1]Weekly Piglet prices'!X$502","v":-0.10037109946467992},{"$f":"'[1]Weekly Piglet prices'!Y$502","v":-0.10770054430266796},{"$f":"'[1]Weekly Piglet prices'!Z$502","v":0},{"$f":"'[1]Weekly Piglet prices'!AA$502","v":-2.2598870056497189E-2},{"$f":"'[1]Weekly Piglet prices'!AB$502","v":0},{"$f":"'[1]Weekly Piglet prices'!AC$502","v":-8.6427939831512646E-3},{"$f":"'[1]Weekly Piglet prices'!AD$502","v":-1.0300621396182041E-2},{"$f":"'[1]Weekly Piglet prices'!AE$502","v":0},{"$f":"'[1]Weekly Piglet prices'!AF$502","v":0},{"$f":"'[1]Weekly Piglet prices'!AG$502","v":0},{"$f":"'[1]Weekly Piglet prices'!AH$502","v":0},{"$f":"'[1]Weekly Piglet prices'!AI$502","v":-0.1074074074074074},{"$f":"'[1]Weekly Piglet prices'!AJ$502","v":-3.0549110595514239E-2},{"$f":"'[1]Weekly Piglet prices'!AK$502","v":3.2183401234543219E-2},{"$f":"'[1]Weekly Piglet prices'!AL$502","v":3.0766864087377943E-2},{"$f":"'[1]Weekly Piglet prices'!AM$502","v":0},{"$f":"'[1]Weekly Piglet prices'!AP503","v":5.0185391779808963E-3},null,{"$f":"'[1]Weekly Piglet prices'!$AP$502","v":-7.7905619511077218E-3}]
["Change 4 weeks",null,{"$f":"'[1]Weekly Piglet prices'!C$503","v":0},{"$f":"'[1]Weekly Piglet prices'!D$503","v":0},{"$f":"'[1]Weekly Piglet prices'!E$503","v":0},{"$f":"'[1]Weekly Piglet prices'!F$503","v":0.21237535059544244},{"$f":"'[1]Weekly Piglet prices'!G$503","v":-1},{"$f":"'[1]Weekly Piglet prices'!H$503","v":2.5583342539669873E-2},{"$f":"'[1]Weekly Piglet prices'!I$503","v":2.5316455696202445E-2},{"$f":"'[1]Weekly Piglet prices'!J$503","v":0},{"$f":"'[1]Weekly Piglet prices'!K$503","v":-4.0975609756097597E-2},{"$f":"'[1]Weekly Piglet prices'!L$503","v":0},{"$f":"'[1]Weekly Piglet prices'!M$503","v":6.165703275529788E-3},{"$f":"'[1]Weekly Piglet prices'!N$503","v":9.7560975609756184E-3},{"$f":"'[1]Weekly Piglet prices'!O$503","v":-0.10550648439558363},{"$f":"'[1]Weekly Piglet prices'!P$503","v":-0.11013215859030834},{"$f":"'[1]Weekly Piglet prices'!Q$503","v":0},{"$f":"'[1]Weekly Piglet prices'!R$503","v":-2.1571648690292711E-2},{"$f":"'[1]Weekly Piglet prices'!S$503","v":0},{"$f":"'[1]Weekly Piglet prices'!T$503","v":0},{"$f":"'[1]Weekly Piglet prices'!U$503","v":0},{"$f":"'[1]Weekly Piglet prices'!V$503","v":0},{"$f":"'[1]Weekly Piglet prices'!W$503","v":-6.2422231439236753E-2},{"$f":"'[1]Weekly Piglet prices'!X$503","v":3.6890232913305177E-2},{"$f":"'[1]Weekly Piglet prices'!Y$503","v":3.5714285714285809E-2},{"$f":"'[1]Weekly Piglet prices'!Z$503","v":0},{"$f":"'[1]Weekly Piglet prices'!AA$503","v":-5.7471264367816577E-3},{"$f":"'[1]Weekly Piglet prices'!AB$503","v":0},{"$f":"'[1]Weekly Piglet prices'!AC$503","v":1.6442437907412621E-2},{"$f":"'[1]Weekly Piglet prices'!AD$503","v":2.1789388509998675E-2},{"$f":"'[1]Weekly Piglet prices'!AE$503","v":3.6866359447004671E-2},{"$f":"'[1]Weekly Piglet prices'!AF$503","v":0},{"$f":"'[1]Weekly Piglet prices'!AG$503","v":0},{"$f":"'[1]Weekly Piglet prices'!AH$503","v":0},{"$f":"'[1]Weekly Piglet prices'!AI$503","v":-9.3530591775326077E-2},{"$f":"'[1]Weekly Piglet prices'!AJ$503","v":-5.1815431164901726E-2},{"$f":"'[1]Weekly Piglet prices'!AK$503","v":5.3289609870770249E-3},{"$f":"'[1]Weekly Piglet prices'!AL$503","v":8.6860962244836859E-3},{"$f":"'[1]Weekly Piglet prices'!AM$503","v":3.4175727545511014E-2},{"$f":"'[1]Weekly Piglet prices'!AP504","v":9.8011318713977724E-2},null,{"$f":"'[1]Weekly Piglet prices'!$AP$503","v":5.0185391779808963E-3}]
["Change 1 year",null,{"$f":"'[1]Weekly Piglet prices'!C$504","v":7.5268817204301008E-2},{"$f":"'[1]Weekly Piglet prices'!D$504","v":0},{"$f":"'[1]Weekly Piglet prices'!E$504","v":0},{"$f":"'[1]Weekly Piglet prices'!F$504","v":-4.2914508898856174E-2},{"$f":"'[1]Weekly Piglet prices'!G$504","v":-1},{"$f":"'[1]Weekly Piglet prices'!H$504","v":5.7358188529565313E-2},{"$f":"'[1]Weekly Piglet prices'!I$504","v":5.8823529411764719E-2},{"$f":"'[1]Weekly Piglet prices'!J$504","v":0.10766423357664223},{"$f":"'[1]Weekly Piglet prices'!K$504","v":-1.9695836449763138E-2},{"$f":"'[1]Weekly Piglet prices'!L$504","v":0},{"$f":"'[1]Weekly Piglet prices'!M$504","v":0.19469229009379996},{"$f":"'[1]Weekly Piglet prices'!N$504","v":0.20348837209302317},{"$f":"'[1]Weekly Piglet prices'!O$504","v":0},{"$f":"'[1]Weekly Piglet prices'!P$504","v":0},{"$f":"'[1]Weekly Piglet prices'!Q$504","v":0},{"$f":"'[1]Weekly Piglet prices'!R$504","v":3.2660252066675666E-2},{"$f":"'[1]Weekly Piglet prices'!S$504","v":0},{"$f":"'[1]Weekly Piglet prices'!T$504","v":0},{"$f":"'[1]Weekly Piglet prices'!U$504","v":0},{"$f":"'[1]Weekly Piglet prices'!V$504","v":0},{"$f":"'[1]Weekly Piglet prices'!W$504","v":1.3677130044843056E-2},{"$f":"'[1]Weekly Piglet prices'!X$504","v":0.11452729436361109},{"$f":"'[1]Weekly Piglet prices'!Y$504","v":0.15704629222520761},{"$f":"'[1]Weekly Piglet prices'!Z$504","v":0},{"$f":"'[1]Weekly Piglet prices'!AA$504","v":0.11612903225806459},{"$f":"'[1]Weekly Piglet prices'!AB$504","v":0},{"$f":"'[1]Weekly Piglet prices'!AC$504","v":-2.9995323341604485E-2},{"$f":"'[1]Weekly Piglet prices'!AD$504","v":-1.7342004335501149E-2},{"$f":"'[1]Weekly Piglet prices'!AE$504","v":0.21621621621621623},{"$f":"'[1]Weekly Piglet prices'!AF$504","v":0},{"$f":"'[1]Weekly Piglet prices'!AG$504","v":0},{"$f":"'[1]Weekly Piglet prices'!AH$504","v":0},{"$f":"'[1]Weekly Piglet prices'!AI$504","v":-7.6392437404190106E-2},{"$f":"'[1]Weekly Piglet prices'!AJ$504","v":-8.4200913242009068E-2},{"$f":"'[1]Weekly Piglet prices'!AK$504","v":-0.14948590409231044},{"$f":"'[1]Weekly Piglet prices'!AL$504","v":-9.954039671020809E-2},{"$f":"'[1]Weekly Piglet prices'!AM$504","v":0.18702408940383486},{"$f":"'[1]Weekly Piglet prices'!AP505","v":3.7542123469846089E-2},null,{"$f":"'[1]Weekly Piglet prices'!$AP$504","v":9.8011318713977724E-2}]
["Change in average - last 4 weeks 2014 with same weeks 2013",null,{"$f":"'[1]Weekly Piglet prices'!C$505","v":-1.4778325123152691E-2},{"$f":"'[1]Weekly Piglet prices'!D$505","v":0},{"$f":"'[1]Weekly Piglet prices'!E$505","v":0},{"$f":"'[1]Weekly Piglet prices'!F$505","v":-1.442395004943231E-2},{"$f":"'[1]Weekly Piglet prices'!G$505","v":4.7103233218447338E-2},{"$f":"'[1]Weekly Piglet prices'!H$505","v":2.3185817839834311E-2},{"$f":"'[1]Weekly Piglet prices'!I$505","v":2.4505928853755021E-2},{"$f":"'[1]Weekly Piglet prices'!J$505","v":3.4938219002982329E-2},{"$f":"'[1]Weekly Piglet prices'!K$505","v":9.8500254194202608E-3},{"$f":"'[1]Weekly Piglet prices'!L$505","v":0},{"$f":"'[1]Weekly Piglet prices'!M$505","v":6.5139331411520507E-2},{"$f":"'[1]Weekly Piglet prices'!N$505","v":0.15331491712707179},{"$f":"'[1]Weekly Piglet prices'!O$505","v":0},{"$f":"'[1]Weekly Piglet prices'!P$505","v":0},{"$f":"'[1]Weekly Piglet prices'!Q$505","v":0},{"$f":"'[1]Weekly Piglet prices'!R$505","v":2.3490378234903631E-2},{"$f":"'[1]Weekly Piglet prices'!S$505","v":0},{"$f":"'[1]Weekly Piglet prices'!T$505","v":0},{"$f":"'[1]Weekly Piglet prices'!U$505","v":0},{"$f":"'[1]Weekly Piglet prices'!V$505","v":0},{"$f":"'[1]Weekly Piglet prices'!W$505","v":6.688778330569356E-3},{"$f":"'[1]Weekly Piglet prices'!X$505","v":-1.5018176340071188E-2},{"$f":"'[1]Weekly Piglet prices'!Y$505","v":1.6634856859216951E-2},{"$f":"'[1]Weekly Piglet prices'!Z$505","v":0},{"$f":"'[1]Weekly Piglet prices'!AA$505","v":-1.6713091922005541E-2},{"$f":"'[1]Weekly Piglet prices'!AB$505","v":0},{"$f":"'[1]Weekly Piglet prices'!AC$505","v":-6.7195123497634235E-3},{"$f":"'[1]Weekly Piglet prices'!AD$505","v":9.6260059965282974E-3},{"$f":"'[1]Weekly Piglet prices'!AE$505","v":0.1363057324840764},{"$f":"'[1]Weekly Piglet prices'!AF$505","v":0},{"$f":"'[1]Weekly Piglet prices'!AG$505","v":0},{"$f":"'[1]Weekly Piglet prices'!AH$505","v":0},{"$f":"'[1]Weekly Piglet prices'!AI$505","v":8.393910300370333E-2},{"$f":"'[1]Weekly Piglet prices'!AJ$505","v":-0.12237240438323449},{"$f":"'[1]Weekly Piglet prices'!AK$505","v":-0.16979777461379397},{"$f":"'[1]Weekly Piglet prices'!AL$505","v":-0.11114386892356698},{"$f":"'[1]Weekly Piglet prices'!AM$505","v":0.19538158448814369},{"$f":"'[1]Weekly Piglet prices'!AP506","v":0},null,{"$f":"'[1]Weekly Piglet prices'!$AP$505","v":3.7542123469846089E-2}]
[]
["???","Price not communicated"]

{"sheet":"Class S","index":5,"n_rows":505,"n_cols":44,"rows_kept":505,"cut":false,"hidden":false,"merged":[[505,0,505,2],[505,3,505,5],[505,6,505,8],[3,18,4,24],[5,18,5,24],[7,1,7,2],[8,1,8,2],[8,3,8,8],[8,42,9,42],[42,8,43,35],[9,1,9,2],[10,1,10,2],[13,1,13,40],[7,37,8,40]]}
[null,"EUROPEAN COMMISSION",null,null,null,null,null,null,null,null,null,null,null,null,null,null,null,null,null,null,null,null,null,null,null,null,null,null,null,null,null,null,null,null,null,null,null,null,null,null,null,null,"Week ",{"$f":"[1]COVER!G38","v":19}]
[null,"Directorate-General for Agriculture and Rural Development",null,null,null,null,null,null,null,null,null,null,null,null,null,null,null,null,null,null,null,null,null,null,null,null,null,null,null,null,null,null,null,null,null,null,null,null,null,null,"du / from :"]
[null,"C3. Animal Products"]
[null,null,null,null,null,null,null,null,null,null,null,null,null,null,null,null,null,null,"PIG PRICE\n(CLASS S)"]
["Pig carcass (Class S & E) and Piglet prices"]
[null,null,null,null,null,null,null,null,null,null,null,null,null,null,null,null,null,null,"DG-Agri-C3,  Meat sector"]
[null,null,null,null,null,null,null,null,null,null,null," "]
[null,"PIG",null,null,null,null,null,null,null,null,null,null,null,null,null,null,null,null,null,null,null,null,null,null,null,null,null,null,null,null,null,null,null,null,null,null,null,"€ur per 100 kg carcass"]
[null,"Class S",null,"Country Code/Currency",null,null,null,null,null,null,null,null,null,null,null,null,null,null,null,null,null,null,null,null,null,null,null,null,null,null,null,null,null,null,null,null,null,null,null,null,null,null,"Average price"]
[null,{"$f":"[1]COVER!B22","v":2014},null,"BE","BG","BG","CZ","CZ","DK","DK","DE","EE","GR","ES","FR","HR","HR","IE","IT","CY","LV","LT","LT","LU","HU","HU","MT","NL","AT","PL","PL","PT","RO","RO","SI","SK","FI","SE","SE","UK","UK"]
[null,"Weightings from 01/01/2014\nuntil --/--/----",null,{"$f":"VLOOKUP(D$10,'[1]New Pig Coef.'!$A$1:$M$34,12,0)","v":9.2856632765556668},{"$f":"VLOOKUP(E$10,'[1]New Pig Coef.'!$A$1:$M$34,12,0)","v":6.1026426694211509E-2},null,{"$f":"VLOOKUP(G$10,'[1]New Pig Coef.'!$A$1:$M$34,12,0)","v":0.50755289357067623},null,{"$f":"VLOOKUP(I$10,'[1]New Pig Coef.'!$A$1:$M$34,12,0)","v":15.295099714100735},null,{"$f":"VLOOKUP(K$10,'[1]New Pig Coef.'!$A$1:$M$34,12,0)","v":0},{"$f":"VLOOKUP(L$10,'[1]New Pig Coef.'!$A$1:$M$34,12,0)","v":0.34718113896178765},{"$f":"VLOOKUP(M$10,'[1]New Pig Coef.'!$A$1:$M$34,12,0)","v":1.5129714361893494},{"$f":"VLOOKUP(N$10,'[1]New Pig Coef.'!$A$1:$M$34,12,0)","v":21.822174343615071},{"$f":"VLOOKUP(O$10,'[1]New Pig Coef.'!$A$1:$M$34,12,0)","v":19.752412798668264},{"$f":"VLOOKUP(P$10,'[1]New Pig Coef.'!$A$1:$M$34,12,0)","v":1.6062848249238291},null,{"$f":"VLOOKUP(R$10,'[1]New Pig Coef.'!$A$1:$M$34,12,0)","v":2.3435160529263532},{"$f":"VLOOKUP(S$10,'[1]New Pig Coef.'!$A$1:$M$34,12,0)","v":0},{"$f":"VLOOKUP(T$10,'[1]New Pig Coef.'!$A$1:$M$34,12,0)","v":0.33796133261390915},{"$f":"VLOOKUP(U$10,'[1]New Pig Coef.'!$A$1:$M$34,12,0)","v":0.36141625314255948},{"$f":"VLOOKUP(V$10,'[1]New Pig Coef.'!$A$1:$M$34,12,0)","v":0.80277585643160065},null,{"$f":"VLOOKUP(X$10,'[1]New Pig Coef.'!$A$1:$M$34,12,0)","v":6.5201375061676697E-2},{"$f":"VLOOKUP(Y$10,'[1]New Pig Coef.'!$A$1:$M$34,12,0)","v":1.4783460681902889},null,{"$f":"VLOOKUP(AA$10,'[1]New Pig Coef.'!$A$1:$M$34,12,0)","v":0},{"$f":"VLOOKUP(AB$10,'[1]New Pig Coef.'!$A$1:$M$34,12,0)","v":4.094660025506756},{"$f":"VLOOKUP(AC$10,'[1]New Pig Coef.'!$A$1:$M$34,12,0)","v":4.0186167007392397},{"$f":"VLOOKUP(AD$10,'[1]New Pig Coef.'!$A$1:$M$34,12,0)","v":4.3431339521589072},null,{"$f":"VLOOKUP(AF$10,'[1]New Pig Coef.'!$A$1:$M$34,12,0)","v":1.5155873822942256},{"$f":"VLOOKUP(AG$10,'[1]New Pig Coef.'!$A$1:$M$34,12,0)","v":0},null,{"$f":"VLOOKUP(AI$10,'[1]New Pig Coef.'!$A$1:$M$34,12,0)","v":0.40157120623095727},{"$f":"VLOOKUP(AJ$10,'[1]New Pig Coef.'!$A$1:$M$34,12,0)","v":0.61255677807022701},{"$f":"VLOOKUP(AK$10,'[1]New Pig Coef.'!$A$1:$M$34,12,0)","v":1.6362356912196532},{"$f":"VLOOKUP(AL$10,'[1]New Pig Coef.'!$A$1:$M$34,12,0)","v":1.0018579186476453},null,{"$f":"VLOOKUP(AN$10,'[1]New Pig Coef.'!$A$1:$M$34,12,0)","v":6.7961965534864248},null,null,{"$f":"'[1]Class S'!$AQ$11","v":68.373129426854348}]
[]
[null,"Week beginning","Week N°","EUR","EUR","BGN","EUR","CZK","EUR","DKK","EUR","EUR","EUR","EUR","EUR","EUR","HRK","EUR","EUR","EUR","EUR","EUR","LTL","EUR","EUR","HUF","EUR","EUR","EUR","EUR","PLN","EUR","EUR","RON","EUR","EUR","EUR","EUR","SEK","EUR","GBP",null,"EURO","Compare to previous week"]
[null,"2014"]
[{"$f":"YEAR(B15+3)&TEXT(C15,\"00\")","v":"201401"},"2013-12-30",1,{"$f":"IF('[1]Class S'!D14=0,\"\",'[1]Class S'!D14)","v":""},{"$f":"IF('[1]Class S'!E14=0,\"\",'[1]Class S'!E14)","v":212.13314244810309},{"$f":"IF('[1]Class S'!F14=0,\"\",'[1]Class S'!F14)","v":414.89},{"$f":"IF('[1]Class S'!G14=0,\"\",'[1]Class S'!G14)","v":167.44},{"$f":"IF('[1]Class S'!H14=0,\"\",'[1]Class S'!H14)","v":4600},{"$f":"IF('[1]Class S'!I14=0,\"\",'[1]Class S'!I14)","v":157.12},{"$f":"IF('[1]Class S'!J14=0,\"\",'[1]Class S'!J14)","v":1172},{"$f":"IF('[1]Class S'!K14=0,\"\",'[1]Class S'!K14)","v":""},{"$f":"IF('[1]Class S'!L14=0,\"\",'[1]Class S'!L14)","v":173.73},{"$f":"IF('[1]Class S'!M14=0,\"\",'[1]Class S'!M14)","v":""},{"$f":"IF('[1]Class S'!N14=0,\"\",'[1]Class S'!N14)","v":""},{"$f":"IF('[1]Class S'!O14=0,\"\",'[1]Class S'!O14)","v":""},{"$f":"IF('[1]Class S'!P14=0,\"\",'[1]Class S'!P14)","v":176.57038845859987},{"$f":"IF('[1]Class S'!Q14=0,\"\",'[1]Class S'!Q14)","v":1347},{"$f":"IF('[1]Class S'!R14=0,\"\",'[1]Class S'!R14)","v":""},{"$f":"IF('[1]Class S'!S14=0,\"\",'[1]Class S'!S14)","v":""},{"$f":"IF('[1]Class S'!T14=0,\"\",'[1]Class S'!T14)","v":""},{"$f":"IF('[1]Class S'!U14=0,\"\",'[1]Class S'!U14)","v":168.34},{"$f":"IF('[1]Class S'!V14=0,\"\",'[1]Class S'!V14)","v":172.52},{"$f":"IF('[1]Class S'!W14=0,\"\",'[1]Class S'!W14)","v":595.69000000000005},{"$f":"IF('[1]Class S'!X14=0,\"\",'[1]Class S'!X14)","v":159.6},{"$f":"IF('[1]Class S'!Y14=0,\"\",'[1]Class S'!Y14)","v":161.36000000000001},{"$f":"IF('[1]Class S'!Z14=0,\"\",'[1]Class S'!Z14)","v":48042.54},{"$f":"IF('[1]Class S'!AA14=0,\"\",'[1]Class S'!AA14)","v":""},{"$f":"IF('[1]Class S'!AB14=0,\"\",'[1]Class S'!AB14)","v":""},{"$f":"IF('[1]Class S'!AC14=0,\"\",'[1]Class S'!AC14)","v":""},{"$f":"IF('[1]Class S'!AD14=0,\"\",'[1]Class S'!AD14)","v":163.78},{"$f":"IF('[1]Class S'!AE14=0,\"\",'[1]Class S'!AE14)","v":681.1},{"$f":"IF('[1]Class S'!AF14=0,\"\",'[1]Class S'!AF14)","v":""},{"$f":"IF('[1]Class S'!AG14=0,\"\",'[1]Class S'!AG14)","v":187.4},{"$f":"IF('[1]Class S'!AH14=0,\"\",'[1]Class S'!AH14)","v":839.18},{"$f":"IF('[1]Class S'!AI14=0,\"\",'[1]Class S'!AI14)","v":""},{"$f":"IF('[1]Class S'!AJ14=0,\"\",'[1]Class S'!AJ14)","v":168.61},{"$f":"IF('[1]Class S'!AK14=0,\"\",'[1]Class S'!AK14)","v":181.48},{"$f":"IF('[1]Class S'!AL14=0,\"\",'[1]Class S'!AL14)","v":188.22},{"$f":"IF('[1]Class S'!AM14=0,\"\",'[1]Class S'!AM14)","v":1673},{"$f":"IF('[1]Class S'!AN14=0,\"\",'[1]Class S'!AN14)","v":""},{"$f":"IF('[1]Class S'!AO14=0,\"\",'[1]Class S'!AO14)","v":""},{"$f":"IF('[1]Class S'!AP14=0,\"\",'[1]Class S'!AP14)","v":""},{"$f":"IF('[1]Class S'!AQ14=0,\"\",'[1]Class S'!AQ14)","v":163.35900448778588}]
["201402",{"$f":"B15+7","v":"2014-01-06"},{"$f":"C15+1","v":2},{"$f":"IF('[1]Class S'!D15=0,\"\",'[1]Class S'!D15)","v":140.69999999999999},{"$f":"IF('[1]Class S'!E15=0,\"\",'[1]Class S'!E15)","v":213.4011657633705},{"$f":"IF('[1]Class S'!F15=0,\"\",'[1]Class S'!F15)","v":417.37},{"$f":"IF('[1]Class S'!G15=0,\"\",'[1]Class S'!G15)","v":164.46241847925094},{"$f":"IF('[1]Class S'!H15=0,\"\",'[1]Class S'!H15)","v":4514},{"$f":"IF('[1]Class S'!I15=0,\"\",'[1]Class S'!I15)","v":157.09},{"$f":"IF('[1]Class S'!J15=0,\"\",'[1]Class S'!J15)","v":1172},{"$f":"IF('[1]Class S'!K15=0,\"\",'[1]Class S'!K15)","v":159.85},{"$f":"IF('[1]Class S'!L15=0,\"\",'[1]Class S'!L15)","v":171.22},{"$f":"IF('[1]Class S'!M15=0,\"\",'[1]Class S'!M15)","v":""},{"$f":"IF('[1]Class S'!N15=0,\"\",'[1]Class S'!N15)","v":""},{"$f":"IF('[1]Class S'!O15=0,\"\",'[1]Class S'!O15)","v":""},{"$f":"IF('[1]Class S'!P15=0,\"\",'[1]Class S'!P15)","v":172.89323239000134},{"$f":"IF('[1]Class S'!Q15=0,\"\",'[1]Class S'!Q15)","v":1319},{"$f":"IF('[1]Class S'!R15=0,\"\",'[1]Class S'!R15)","v":""},{"$f":"IF('[1]Class S'!S15=0,\"\",'[1]Class S'!S15)","v":""},{"$f":"IF('[1]Class S'!T15=0,\"\",'[1]Class S'!T15)","v":""},{"$f":"IF('[1]Class S'!U15=0,\"\",'[1]Class S'!U15)","v":175.03},{"$f":"IF('[1]Class S'!V15=0,\"\",'[1]Class S'!V15)","v":170.51},{"$f":"IF('[1]Class S'!W15=0,\"\",'[1]Class S'!W15)","v":588.74},{"$f":"IF('[1]Class S'!X15=0,\"\",'[1]Class S'!X15)","v":159.30000000000001},{"$f":"IF('[1]Class S'!Y15=0,\"\",'[1]Class S'!Y15)","v":161.54732606425833},{"$f":"IF('[1]Class S'!Z15=0,\"\",'[1]Class S'!Z15)","v":48405.81},{"$f":"IF('[1]Class S'!AA15=0,\"\",'[1]Class S'!AA15)","v":""},{"$f":"IF('[1]Class S'!AB15=0,\"\",'[1]Class S'!AB15)","v":""},{"$f":"IF('[1]Class S'!AC15=0,\"\",'[1]Class S'!AC15)","v":168.24},{"$f":"IF('[1]Class S'!AD15=0,\"\",'[1]Class S'!AD15)","v":160.91},{"$f":"IF('[1]Class S'!AE15=0,\"\",'[1]Class S'!AE15)","v":671.71},{"$f":"IF('[1]Class S'!AF15=0,\"\",'[1]Class S'!AF15)","v":""},{"$f":"IF('[1]Class S'!AG15=0,\"\",'[1]Class S'!AG15)","v":185.29},{"$f":"IF('[1]Class S'!AH15=0,\"\",'[1]Class S'!AH15)","v":836.29},{"$f":"IF('[1]Class S'!AI15=0,\"\",'[1]Class S'!AI15)","v":""},{"$f":"IF('[1]Class S'!AJ15=0,\"\",'[1]Class S'!AJ15)","v":166.33},{"$f":"IF('[1]Class S'!AK15=0,\"\",'[1]Class S'!AK15)","v":178.12},{"$f":"IF('[1]Class S'!AL15=0,\"\",'[1]Class S'!AL15)","v":187.92},{"$f":"IF('[1]Class S'!AM15=0,\"\",'[1]Class S'!AM15)","v":1669},{"$f":"IF('[1]Class S'!AN15=0,\"\",'[1]Class S'!AN15)","v":202.71143785498197},{"$f":"IF('[1]Class S'!AO15=0,\"\",'[1]Class S'!AO15)","v":168},{"$f":"IF('[1]Class S'!AP15=0,\"\",'[1]Class S'!AP15)","v":""},{"$f":"IF('[1]Class S'!AQ15=0,\"\",'[1]Class S'!AQ15)","v":164.38326643589369},{"$f":"(AQ16/AQ15)-1","v":6.2700060600846541E-3}]
["201403","2014-01-13",3,{"$f":"IF('[1]Class S'!D16=0,\"\",'[1]Class S'!D16)","v":141.4},{"$f":"IF('[1]Class S'!E16=0,\"\",'[1]Class S'!E16)","v":228.60721955210147},{"$f":"IF('[1]Class S'!F16=0,\"\",'[1]Class S'!F16)","v":447.11},{"$f":"IF('[1]Class S'!G16=0,\"\",'[1]Class S'!G16)","v":163.50184058023837},{"$f":"IF('[1]Class S'!H16=0,\"\",'[1]Class S'!H16)","v":4486},{"$f":"IF('[1]Class S'!I16=0,\"\",'[1]Class S'!I16)","v":157.0609463094315},{"$f":"IF('[1]Class S'!J16=0,\"\",'[1]Class S'!J16)","v":1172},{"$f":"IF('[1]Class S'!K16=0,\"\",'[1]Class S'!K16)","v":160.94999999999999},{"$f":"IF('[1]Class S'!L16=0,\"\",'[1]Class S'!L16)","v":178.83},{"$f":"IF('[1]Class S'!M16=0,\"\",'[1]Class S'!M16)","v":""},{"$f":"IF('[1]Class S'!N16=0,\"\",'[1]Class S'!N16)","v":""},{"$f":"IF('[1]Class S'!O16=0,\"\",'[1]Class S'!O16)","v":""},{"$f":"IF('[1]Class S'!P16=0,\"\",'[1]Class S'!P16)","v":178.44700346891835},{"$f":"IF('[1]Class S'!Q16=0,\"\",'[1]Class S'!Q16)","v":1361},{"$f":"IF('[1]Class S'!R16=0,\"\",'[1]Class S'!R16)","v":""},{"$f":"IF('[1]Class S'!S16=0,\"\",'[1]Class S'!S16)","v":""},{"$f":"IF('[1]Class S'!T16=0,\"\",'[1]Class S'!T16)","v":""},{"$f":"IF('[1]Class S'!U16=0,\"\",'[1]Class S'!U16)","v":171.26},{"$f":"IF('[1]Class S'!V16=0,\"\",'[1]Class S'!V16)","v":169.30317423540316},{"$f":"IF('[1]Class S'!W16=0,\"\",'[1]Class S'!W16)","v":584.57000000000005},{"$f":"IF('[1]Class S'!X16=0,\"\",'[1]Class S'!X16)","v":161},{"$f":"IF('[1]Class S'!Y16=0,\"\",'[1]Class S'!Y16)","v":160.8314184636921},{"$f":"IF('[1]Class S'!Z16=0,\"\",'[1]Class S'!Z16)","v":48254.71},{"$f":"IF('[1]Class S'!AA16=0,\"\",'[1]Class S'!AA16)","v":237},{"$f":"IF('[1]Class S'!AB16=0,\"\",'[1]Class S'!AB16)","v":""},{"$f":"IF('[1]Class S'!AC16=0,\"\",'[1]Class S'!AC16)","v":168.34},{"$f":"IF('[1]Class S'!AD16=0,\"\",'[1]Class S'!AD16)","v":160.58279418578709},{"$f":"IF('[1]Class S'!AE16=0,\"\",'[1]Class S'!AE16)","v":668.38},{"$f":"IF('[1]Class S'!AF16=0,\"\",'[1]Class S'!AF16)","v":""},{"$f":"IF('[1]Class S'!AG16=0,\"\",'[1]Class S'!AG16)","v":180.50490750929322},{"$f":"IF('[1]Class S'!AH16=0,\"\",'[1]Class S'!AH16)","v":817.86},{"$f":"IF('[1]Class S'!AI16=0,\"\",'[1]Class S'!AI16)","v":""},{"$f":"IF('[1]Class S'!AJ16=0,\"\",'[1]Class S'!AJ16)","v":167.48},{"$f":"IF('[1]Class S'!AK16=0,\"\",'[1]Class S'!AK16)","v":178.72},{"$f":"IF('[1]Class S'!AL16=0,\"\",'[1]Class S'!AL16)","v":188.90007673205619},{"$f":"IF('[1]Class S'!AM16=0,\"\",'[1]Class S'!AM16)","v":1667},{"$f":"IF('[1]Class S'!AN16=0,\"\",'[1]Class S'!AN16)","v":200.79229749048378},{"$f":"IF('[1]Class S'!AO16=0,\"\",'[1]Class S'!AO16)","v":166.54},{"$f":"IF('[1]Class S'!AP16=0,\"\",'[1]Class S'!AP16)","v":""},{"$f":"IF('[1]Class S'!AQ16=0,\"\",'[1]Class S'!AQ16)","v":164.45348998236304},4.2719400819746234E-4]
["201404","2014-01-20",4,{"$f":"IF('[1]Class S'!D17=0,\"\",'[1]Class S'!D17)","v":144.5},{"$f":"IF('[1]Class S'!E17=0,\"\",'[1]Class S'!E17)","v":213.65681562531958},{"$f":"IF('[1]Class S'!F17=0,\"\",'[1]Class S'!F17)","v":417.87},{"$f":"IF('[1]Class S'!G17=0,\"\",'[1]Class S'!G17)","v":161.32432039540632},{"$f":"IF('[1]Class S'!H17=0,\"\",'[1]Class S'!H17)","v":4439},{"$f":"IF('[1]Class S'!I17=0,\"\",'[1]Class S'!I17)","v":154.51266578858699},{"$f":"IF('[1]Class S'!J17=0,\"\",'[1]Class S'!J17)","v":1153},{"$f":"IF('[1]Class S'!K17=0,\"\",'[1]Class S'!K17)","v":164.75},{"$f":"IF('[1]Class S'!L17=0,\"\",'[1]Class S'!L17)","v":171.84},{"$f":"IF('[1]Class S'!M17=0,\"\",'[1]Class S'!M17)","v":""},{"$f":"IF('[1]Class S'!N17=0,\"\",'[1]Class S'!N17)","v":""},{"$f":"IF('[1]Class S'!O17=0,\"\",'[1]Class S'!O17)","v":""},{"$f":"IF('[1]Class S'!P17=0,\"\",'[1]Class S'!P17)","v":170.71191055952661},{"$f":"IF('[1]Class S'!Q17=0,\"\",'[1]Class S'!Q17)","v":1304},{"$f":"IF('[1]Class S'!R17=0,\"\",'[1]Class S'!R17)","v":""},{"$f":"IF('[1]Class S'!S17=0,\"\",'[1]Class S'!S17)","v":""},{"$f":"IF('[1]Class S'!T17=0,\"\",'[1]Class S'!T17)","v":""},{"$f":"IF('[1]Class S'!U17=0,\"\",'[1]Class S'!U17)","v":185.98},{"$f":"IF('[1]Class S'!V17=0,\"\",'[1]Class S'!V17)","v":169.81580166821132},{"$f":"IF('[1]Class S'!W17=0,\"\",'[1]Class S'!W17)","v":586.34},{"$f":"IF('[1]Class S'!X17=0,\"\",'[1]Class S'!X17)","v":164.6},{"$f":"IF('[1]Class S'!Y17=0,\"\",'[1]Class S'!Y17)","v":163.08555691150761},{"$f":"IF('[1]Class S'!Z17=0,\"\",'[1]Class S'!Z17)","v":49445.91},{"$f":"IF('[1]Class S'!AA17=0,\"\",'[1]Class S'!AA17)","v":237},{"$f":"IF('[1]Class S'!AB17=0,\"\",'[1]Class S'!AB17)","v":""},{"$f":"IF('[1]Class S'!AC17=0,\"\",'[1]Class S'!AC17)","v":171.3},{"$f":"IF('[1]Class S'!AD17=0,\"\",'[1]Class S'!AD17)","v":161.96372317974573},{"$f":"IF('[1]Class S'!AE17=0,\"\",'[1]Class S'!AE17)","v":676.46},{"$f":"IF('[1]Class S'!AF17=0,\"\",'[1]Class S'!AF17)","v":""},{"$f":"IF('[1]Class S'!AG17=0,\"\",'[1]Class S'!AG17)","v":174.99999999999997},{"$f":"IF('[1]Class S'!AH17=0,\"\",'[1]Class S'!AH17)","v":793.66},{"$f":"IF('[1]Class S'!AI17=0,\"\",'[1]Class S'!AI17)","v":""},{"$f":"IF('[1]Class S'!AJ17=0,\"\",'[1]Class S'!AJ17)","v":166.49},{"$f":"IF('[1]Class S'!AK17=0,\"\",'[1]Class S'!AK17)","v":176.92},{"$f":"IF('[1]Class S'!AL17=0,\"\",'[1]Class S'!AL17)","v":180.95286035096152},{"$f":"IF('[1]Class S'!AM17=0,\"\",'[1]Class S'!AM17)","v":1592},{"$f":"IF('[1]Class S'!AN17=0,\"\",'[1]Class S'!AN17)","v":201.95489372754426},{"$f":"IF('[1]Class S'!AO17=0,\"\",'[1]Class S'!AO17)","v":166.62},{"$f":"IF('[1]Class S'!AP17=0,\"\",'[1]Class S'!AP17)","v":""},{"$f":"IF('[1]Class S'!AQ17=0,\"\",'[1]Class S'!AQ17)","v":164.38130228370176},-4.3895510316638298E-4]
["201405","2014-01-27",5,{"$f":"IF('[1]Class S'!D18=0,\"\",'[1]Class S'!D18)","v":149},{"$f":"IF('[1]Class S'!E18=0,\"\",'[1]Class S'!E18)","v":214.42376521116682},{"$f":"IF('[1]Class S'!F18=0,\"\",'[1]Class S'!F18)","v":419.37},{"$f":"IF('[1]Class S'!G18=0,\"\",'[1]Class S'!G18)","v":162.20846029661394},{"$f":"IF('[1]Class S'!H18=0,\"\",'[1]Class S'!H18)","v":4464},{"$f":"IF('[1]Class S'!I18=0,\"\",'[1]Class S'!I18)","v":154.51266578858699},{"$f":"IF('[1]Class S'!J18=0,\"\",'[1]Class S'!J18)","v":1153},{"$f":"IF('[1]Class S'!K18=0,\"\",'[1]Class S'!K18)","v":166.63},{"$f":"IF('[1]Class S'!L18=0,\"\",'[1]Class S'!L18)","v":170.89},{"$f":"IF('[1]Class S'!M18=0,\"\",'[1]Class S'!M18)","v":""},{"$f":"IF('[1]Class S'!N18=0,\"\",'[1]Class S'!N18)","v":""},{"$f":"IF('[1]Class S'!O18=0,\"\",'[1]Class S'!O18)","v":""},{"$f":"IF('[1]Class S'!P18=0,\"\",'[1]Class S'!P18)","v":169.55483219132674},{"$f":"IF('[1]Class S'!Q18=0,\"\",'[1]Class S'!Q18)","v":1297},{"$f":"IF('[1]Class S'!R18=0,\"\",'[1]Class S'!R18)","v":""},{"$f":"IF('[1]Class S'!S18=0,\"\",'[1]Class S'!S18)","v":""},{"$f":"IF('[1]Class S'!T18=0,\"\",'[1]Class S'!T18)","v":""},{"$f":"IF('[1]Class S'!U18=0,\"\",'[1]Class S'!U18)","v":168.92},{"$f":"IF('[1]Class S'!V18=0,\"\",'[1]Class S'!V18)","v":170.71362372567194},{"$f":"IF('[1]Class S'!W18=0,\"\",'[1]Class S'!W18)","v":589.44000000000005},{"$f":"IF('[1]Class S'!X18=0,\"\",'[1]Class S'!X18)","v":164.6},{"$f":"IF('[1]Class S'!Y18=0,\"\",'[1]Class S'!Y18)","v":166.39820485402291},{"$f":"IF('[1]Class S'!Z18=0,\"\",'[1]Class S'!Z18)","v":51352.15},{"$f":"IF('[1]Class S'!AA18=0,\"\",'[1]Class S'!AA18)","v":237},{"$f":"IF('[1]Class S'!AB18=0,\"\",'[1]Class S'!AB18)","v":""},{"$f":"IF('[1]Class S'!AC18=0,\"\",'[1]Class S'!AC18)","v":175.61},{"$f":"IF('[1]Class S'!AD18=0,\"\",'[1]Class S'!AD18)","v":163.53910997511724},{"$f":"IF('[1]Class S'!AE18=0,\"\",'[1]Class S'!AE18)","v":690.1},{"$f":"IF('[1]Class S'!AF18=0,\"\",'[1]Class S'!AF18)","v":""},{"$f":"IF('[1]Class S'!AG18=0,\"\",'[1]Class S'!AG18)","v":173.1112839286053},{"$f":"IF('[1]Class S'!AH18=0,\"\",'[1]Class S'!AH18)","v":782.28},{"$f":"IF('[1]Class S'!AI18=0,\"\",'[1]Class S'!AI18)","v":""},{"$f":"IF('[1]Class S'!AJ18=0,\"\",'[1]Class S'!AJ18)","v":169.98},{"$f":"IF('[1]Class S'!AK18=0,\"\",'[1]Class S'!AK18)","v":177.65},{"$f":"IF('[1]Class S'!AL18=0,\"\",'[1]Class S'!AL18)","v":181.63365070526498},{"$f":"IF('[1]Class S'!AM18=0,\"\",'[1]Class S'!AM18)","v":1603},{"$f":"IF('[1]Class S'!AN18=0,\"\",'[1]Class S'!AN18)","v":201.95489372754426},{"$f":"IF('[1]Class S'!AO18=0,\"\",'[1]Class S'!AO18)","v":166.62},{"$f":"IF('[1]Class S'!AP18=0,\"\",'[1]Class S'!AP18)","v":""},{"$f":"IF('[1]Class S'!AQ18=0,\"\",'[1]Class S'!AQ18)","v":165.75552314156045},8.3599584549278738E-3]
["201406","2014-02-03",6,{"$f":"IF('[1]Class S'!D19=0,\"\",'[1]Class S'!D19)","v":145.4},{"$f":"IF('[1]Class S'!E19=0,\"\",'[1]Class S'!E19)","v":216.28489620615608},{"$f":"IF('[1]Class S'!F19=0,\"\",'[1]Class S'!F19)","v":423.01},{"$f":"IF('[1]Class S'!G19=0,\"\",'[1]Class S'!G19)","v":161.89655440939038},{"$f":"IF('[1]Class S'!H19=0,\"\",'[1]Class S'!H19)","v":4455},{"$f":"IF('[1]Class S'!I19=0,\"\",'[1]Class S'!I19)","v":154.51236998734575},{"$f":"IF('[1]Class S'!J19=0,\"\",'[1]Class S'!J19)","v":1153},{"$f":"IF('[1]Class S'!K19=0,\"\",'[1]Class S'!K19)","v":162.72},{"$f":"IF('[1]Class S'!L19=0,\"\",'[1]Class S'!L19)","v":168.13},{"$f":"IF('[1]Class S'!M19=0,\"\",'[1]Class S'!M19)","v":""},{"$f":"IF('[1]Class S'!N19=0,\"\",'[1]Class S'!N19)","v":""},{"$f":"IF('[1]Class S'!O19=0,\"\",'[1]Class S'!O19)","v":""},{"$f":"IF('[1]Class S'!P19=0,\"\",'[1]Class S'!P19)","v":169.53456888100467},{"$f":"IF('[1]Class S'!Q19=0,\"\",'[1]Class S'!Q19)","v":1297},{"$f":"IF('[1]Class S'!R19=0,\"\",'[1]Class S'!R19)","v":""},{"$f":"IF('[1]Class S'!S19=0,\"\",'[1]Class S'!S19)","v":""},{"$f":"IF('[1]Class S'!T19=0,\"\",'[1]Class S'!T19)","v":""},{"$f":"IF('[1]Class S'!U19=0,\"\",'[1]Class S'!U19)","v":166.29},{"$f":"IF('[1]Class S'!V19=0,\"\",'[1]Class S'!V19)","v":169.91427247451344},{"$f":"IF('[1]Class S'!W19=0,\"\",'[1]Class S'!W19)","v":586.67999999999995},{"$f":"IF('[1]Class S'!X19=0,\"\",'[1]Class S'!X19)","v":165},{"$f":"IF('[1]Class S'!Y19=0,\"\",'[1]Class S'!Y19)","v":167.79895063750851},{"$f":"IF('[1]Class S'!Z19=0,\"\",'[1]Class S'!Z19)","v":51946.48},{"$f":"IF('[1]Class S'!AA19=0,\"\",'[1]Class S'!AA19)","v":237},{"$f":"IF('[1]Class S'!AB19=0,\"\",'[1]Class S'!AB19)","v":""},{"$f":"IF('[1]Class S'!AC19=0,\"\",'[1]Class S'!AC19)","v":175.59},{"$f":"IF('[1]Class S'!AD19=0,\"\",'[1]Class S'!AD19)","v":161.741334266466},{"$f":"IF('[1]Class S'!AE19=0,\"\",'[1]Class S'!AE19)","v":680.12},{"$f":"IF('[1]Class S'!AF19=0,\"\",'[1]Class S'!AF19)","v":""},{"$f":"IF('[1]Class S'!AG19=0,\"\",'[1]Class S'!AG19)","v":171.38898820164462},{"$f":"IF('[1]Class S'!AH19=0,\"\",'[1]Class S'!AH19)","v":767},{"$f":"IF('[1]Class S'!AI19=0,\"\",'[1]Class S'!AI19)","v":""},{"$f":"IF('[1]Class S'!AJ19=0,\"\",'[1]Class S'!AJ19)","v":166.82},{"$f":"IF('[1]Class S'!AK19=0,\"\",'[1]Class S'!AK19)","v":177.04},{"$f":"IF('[1]Class S'!AL19=0,\"\",'[1]Class S'!AL19)","v":189.93533531364557},{"$f":"IF('[1]Class S'!AM19=0,\"\",'[1]Class S'!AM19)","v":1678},{"$f":"IF('[1]Class S'!AN19=0,\"\",'[1]Class S'!AN19)","v":198.06},{"$f":"IF('[1]Class S'!AO19=0,\"\",'[1]Class S'!AO19)","v":164.11},{"$f":"IF('[1]Class S'!AP19=0,\"\",'[1]Class S'!AP19)","v":""},{"$f":"IF('[1]Class S'!AQ19=0,\"\",'[1]Class S'!AQ19)","v":164.49523463414909},-7.6032972146276023E-3]
["201407","2014-02-10",7,{"$f":"IF('[1]Class S'!D20=0,\"\",'[1]Class S'!D20)","v":142.19999999999999},{"$f":"IF('[1]Class S'!E20=0,\"\",'[1]Class S'!E20)","v":211.50424378770839},{"$f":"IF('[1]Class S'!F20=0,\"\",'[1]Class S'!F20)","v":413.66},{"$f":"IF('[1]Class S'!G20=0,\"\",'[1]Class S'!G20)","v":160.71474950003895},{"$f":"IF('[1]Class S'!H20=0,\"\",'[1]Class S'!H20)","v":4420},{"$f":"IF('[1]Class S'!I20=0,\"\",'[1]Class S'!I20)","v":154.51384900487795},{"$f":"IF('[1]Class S'!J20=0,\"\",'[1]Class S'!J20)","v":1153},{"$f":"IF('[1]Class S'!K20=0,\"\",'[1]Class S'!K20)","v":159.12},{"$f":"IF('[1]Class S'!L20=0,\"\",'[1]Class S'!L20)","v":170.8},{"$f":"IF('[1]Class S'!M20=0,\"\",'[1]Class S'!M20)","v":""},{"$f":"IF('[1]Class S'!N20=0,\"\",'[1]Class S'!N20)","v":""},{"$f":"IF('[1]Class S'!O20=0,\"\",'[1]Class S'!O20)","v":""},{"$f":"IF('[1]Class S'!P20=0,\"\",'[1]Class S'!P20)","v":166.72110798980856},{"$f":"IF('[1]Class S'!Q20=0,\"\",'[1]Class S'!Q20)","v":1276},{"$f":"IF('[1]Class S'!R20=0,\"\",'[1]Class S'!R20)","v":""},{"$f":"IF('[1]Class S'!S20=0,\"\",'[1]Class S'!S20)","v":""},{"$f":"IF('[1]Class S'!T20=0,\"\",'[1]Class S'!T20)","v":""},{"$f":"IF('[1]Class S'!U20=0,\"\",'[1]Class S'!U20)","v":161.06},{"$f":"IF('[1]Class S'!V20=0,\"\",'[1]Class S'!V20)","v":166.2969184430028},{"$f":"IF('[1]Class S'!W20=0,\"\",'[1]Class S'!W20)","v":574.19000000000005},{"$f":"IF('[1]Class S'!X20=0,\"\",'[1]Class S'!X20)","v":159.9},{"$f":"IF('[1]Class S'!Y20=0,\"\",'[1]Class S'!Y20)","v":160.73902715766948},{"$f":"IF('[1]Class S'!Z20=0,\"\",'[1]Class S'!Z20)","v":49785.01},{"$f":"IF('[1]Class S'!AA20=0,\"\",'[1]Class S'!AA20)","v":237},{"$f":"IF('[1]Class S'!AB20=0,\"\",'[1]Class S'!AB20)","v":""},{"$f":"IF('[1]Class S'!AC20=0,\"\",'[1]Class S'!AC20)","v":168.82},{"$f":"IF('[1]Class S'!AD20=0,\"\",'[1]Class S'!AD20)","v":154.58355321321611},{"$f":"IF('[1]Class S'!AE20=0,\"\",'[1]Class S'!AE20)","v":644.45000000000005},{"$f":"IF('[1]Class S'!AF20=0,\"\",'[1]Class S'!AF20)","v":""},{"$f":"IF('[1]Class S'!AG20=0,\"\",'[1]Class S'!AG20)","v":166.60877545752643},{"$f":"IF('[1]Class S'!AH20=0,\"\",'[1]Class S'!AH20)","v":746.9},{"$f":"IF('[1]Class S'!AI20=0,\"\",'[1]Class S'!AI20)","v":""},{"$f":"IF('[1]Class S'!AJ20=0,\"\",'[1]Class S'!AJ20)","v":164.98},{"$f":"IF('[1]Class S'!AK20=0,\"\",'[1]Class S'!AK20)","v":178.12},{"$f":"IF('[1]Class S'!AL20=0,\"\",'[1]Class S'!AL20)","v":187.1052086569328},{"$f":"IF('[1]Class S'!AM20=0,\"\",'[1]Class S'!AM20)","v":1652},{"$f":"IF('[1]Class S'!AN20=0,\"\",'[1]Class S'!AN20)","v":197.66},{"$f":"IF('[1]Class S'!AO20=0,\"\",'[1]Class S'!AO20)","v":163.13999999999999},{"$f":"IF('[1]Class S'!AP20=0,\"\",'[1]Class S'!AP20)","v":""},{"$f":"IF('[1]Class S'!AQ20=0,\"\",'[1]Class S'!AQ20)","v":162.1381312654631},-1.432931096106449E-2]
["201408","2014-02-17",8,{"$f":"IF('[1]Class S'!D21=0,\"\",'[1]Class S'!D21)","v":140.30000000000001},{"$f":"IF('[1]Class S'!E21=0,\"\",'[1]Class S'!E21)","v":213.94314347070255},{"$f":"IF('[1]Class S'!F21=0,\"\",'[1]Class S'!F21)","v":418.43},{"$f":"IF('[1]Class S'!G21=0,\"\",'[1]Class S'!G21)","v":159.76784932106881},{"$f":"IF('[1]Class S'!H21=0,\"\",'[1]Class S'!H21)","v":4377},{"$f":"IF('[1]Class S'!I21=0,\"\",'[1]Class S'!I21)","v":151.16127698351318},{"$f":"IF('[1]Class S'!J21=0,\"\",'[1]Class S'!J21)","v":1128},{"$f":"IF('[1]Class S'!K21=0,\"\",'[1]Class S'!K21)","v":157.91999999999999},{"$f":"IF('[1]Class S'!L21=0,\"\",'[1]Class S'!L21)","v":168.73},{"$f":"IF('[1]Class S'!M21=0,\"\",'[1]Class S'!M21)","v":""},{"$f":"IF('[1]Class S'!N21=0,\"\",'[1]Class S'!N21)","v":""},{"$f":"IF('[1]Class S'!O21=0,\"\",'[1]Class S'!O21)","v":""},{"$f":"IF('[1]Class S'!P21=0,\"\",'[1]Class S'!P21)","v":162.44356880039666},{"$f":"IF('[1]Class S'!Q21=0,\"\",'[1]Class S'!Q21)","v":1245},{"$f":"IF('[1]Class S'!R21=0,\"\",'[1]Class S'!R21)","v":""},{"$f":"IF('[1]Class S'!S21=0,\"\",'[1]Class S'!S21)","v":""},{"$f":"IF('[1]Class S'!T21=0,\"\",'[1]Class S'!T21)","v":""},{"$f":"IF('[1]Class S'!U21=0,\"\",'[1]Class S'!U21)","v":162.02000000000001},{"$f":"IF('[1]Class S'!V21=0,\"\",'[1]Class S'!V21)","v":158.74362835959224},{"$f":"IF('[1]Class S'!W21=0,\"\",'[1]Class S'!W21)","v":548.11},{"$f":"IF('[1]Class S'!X21=0,\"\",'[1]Class S'!X21)","v":158.30000000000001},{"$f":"IF('[1]Class S'!Y21=0,\"\",'[1]Class S'!Y21)","v":157.67668686312311},{"$f":"IF('[1]Class S'!Z21=0,\"\",'[1]Class S'!Z21)","v":49073.49},{"$f":"IF('[1]Class S'!AA21=0,\"\",'[1]Class S'!AA21)","v":237},{"$f":"IF('[1]Class S'!AB21=0,\"\",'[1]Class S'!AB21)","v":""},{"$f":"IF('[1]Class S'!AC21=0,\"\",'[1]Class S'!AC21)","v":168.78},{"$f":"IF('[1]Class S'!AD21=0,\"\",'[1]Class S'!AD21)","v":148.38670927131633},{"$f":"IF('[1]Class S'!AE21=0,\"\",'[1]Class S'!AE21)","v":617.63},{"$f":"IF('[1]Class S'!AF21=0,\"\",'[1]Class S'!AF21)","v":""},{"$f":"IF('[1]Class S'!AG21=0,\"\",'[1]Class S'!AG21)","v":161.39400665926749},{"$f":"IF('[1]Class S'!AH21=0,\"\",'[1]Class S'!AH21)","v":727.08},{"$f":"IF('[1]Class S'!AI21=0,\"\",'[1]Class S'!AI21)","v":169.53},{"$f":"IF('[1]Class S'!AJ21=0,\"\",'[1]Class S'!AJ21)","v":161.72999999999999},{"$f":"IF('[1]Class S'!AK21=0,\"\",'[1]Class S'!AK21)","v":175.01},{"$f":"IF('[1]Class S'!AL21=0,\"\",'[1]Class S'!AL21)","v":185.39381583200776},{"$f":"IF('[1]Class S'!AM21=0,\"\",'[1]Class S'!AM21)","v":1655},{"$f":"IF('[1]Class S'!AN21=0,\"\",'[1]Class S'!AN21)","v":198.05466813597855},{"$f":"IF('[1]Class S'!AO21=0,\"\",'[1]Class S'!AO21)","v":162.78},{"$f":"IF('[1]Class S'!AP21=0,\"\",'[1]Class S'!AP21)","v":""},{"$f":"IF('[1]Class S'!AQ21=0,\"\",'[1]Class S'!AQ21)","v":159.72335487138423},-1.4893328147005946E-2]
[null,"2014-02-24",9,{"$f":"IF('[1]Class S'!D22=0,\"\",'[1]Class S'!D22)","v":137.69999999999999},{"$f":"IF('[1]Class S'!E22=0,\"\",'[1]Class S'!E22)","v":211.1667859699356},{"$f":"IF('[1]Class S'!F22=0,\"\",'[1]Class S'!F22)","v":413},{"$f":"IF('[1]Class S'!G22=0,\"\",'[1]Class S'!G22)","v":160.16465720793198},{"$f":"IF('[1]Class S'!H22=0,\"\",'[1]Class S'!H22)","v":4380},{"$f":"IF('[1]Class S'!I22=0,\"\",'[1]Class S'!I22)","v":148.74485758206333},{"$f":"IF('[1]Class S'!J22=0,\"\",'[1]Class S'!J22)","v":1110},{"$f":"IF('[1]Class S'!K22=0,\"\",'[1]Class S'!K22)","v":155.52000000000001},{"$f":"IF('[1]Class S'!L22=0,\"\",'[1]Class S'!L22)","v":169.23},{"$f":"IF('[1]Class S'!M22=0,\"\",'[1]Class S'!M22)","v":""},{"$f":"IF('[1]Class S'!N22=0,\"\",'[1]Class S'!N22)","v":""},{"$f":"IF('[1]Class S'!O22=0,\"\",'[1]Class S'!O22)","v":""},{"$f":"IF('[1]Class S'!P22=0,\"\",'[1]Class S'!P22)","v":163.05178941086515},{"$f":"IF('[1]Class S'!Q22=0,\"\",'[1]Class S'!Q22)","v":1249},{"$f":"IF('[1]Class S'!R22=0,\"\",'[1]Class S'!R22)","v":""},{"$f":"IF('[1]Class S'!S22=0,\"\",'[1]Class S'!S22)","v":""},{"$f":"IF('[1]Class S'!T22=0,\"\",'[1]Class S'!T22)","v":""},{"$f":"IF('[1]Class S'!U22=0,\"\",'[1]Class S'!U22)","v":152.55000000000001},{"$f":"IF('[1]Class S'!V22=0,\"\",'[1]Class S'!V22)","v":149.34545875810934},{"$f":"IF('[1]Class S'!W22=0,\"\",'[1]Class S'!W22)","v":515.66},{"$f":"IF('[1]Class S'!X22=0,\"\",'[1]Class S'!X22)","v":156.30000000000001},{"$f":"IF('[1]Class S'!Y22=0,\"\",'[1]Class S'!Y22)","v":157.72912487347011},{"$f":"IF('[1]Class S'!Z22=0,\"\",'[1]Class S'!Z22)","v":48972.639999999999},{"$f":"IF('[1]Class S'!AA22=0,\"\",'[1]Class S'!AA22)","v":237},{"$f":"IF('[1]Class S'!AB22=0,\"\",'[1]Class S'!AB22)","v":""},{"$f":"IF('[1]Class S'!AC22=0,\"\",'[1]Class S'!AC22)","v":168.68},{"$f":"IF('[1]Class S'!AD22=0,\"\",'[1]Class S'!AD22)","v":138.51550225381294},{"$f":"IF('[1]Class S'!AE22=0,\"\",'[1]Class S'!AE22)","v":576.83000000000004},{"$f":"IF('[1]Class S'!AF22=0,\"\",'[1]Class S'!AF22)","v":""},{"$f":"IF('[1]Class S'!AG22=0,\"\",'[1]Class S'!AG22)","v":157.58026912647929},{"$f":"IF('[1]Class S'!AH22=0,\"\",'[1]Class S'!AH22)","v":710.66},{"$f":"IF('[1]Class S'!AI22=0,\"\",'[1]Class S'!AI22)","v":169.31},{"$f":"IF('[1]Class S'!AJ22=0,\"\",'[1]Class S'!AJ22)","v":161.87},{"$f":"IF('[1]Class S'!AK22=0,\"\",'[1]Class S'!AK22)","v":175.63},{"$f":"IF('[1]Class S'!AL22=0,\"\",'[1]Class S'!AL22)","v":184.93685102674161},{"$f":"IF('[1]Class S'!AM22=0,\"\",'[1]Class S'!AM22)","v":1649},{"$f":"IF('[1]Class S'!AN22=0,\"\",'[1]Class S'!AN22)","v":196.61352646950681},{"$f":"IF('[1]Class S'!AO22=0,\"\",'[1]Class S'!AO22)","v":161.94999999999999},{"$f":"IF('[1]Class S'!AP22=0,\"\",'[1]Class S'!AP22)","v":""},{"$f":"IF('[1]Class S'!AQ22=0,\"\",'[1]Class S'!AQ22)","v":157.18423691738445},{"$f":"(AQ23/AQ22)-1","v":-1.5896973589393903E-2}]
[null,"2014-03-03",10,{"$f":"IF('[1]Class S'!D23=0,\"\",'[1]Class S'!D23)","v":135.5},{"$f":"IF('[1]Class S'!E23=0,\"\",'[1]Class S'!E23)","v":210.6657122405154},{"$f":"IF('[1]Class S'!F23=0,\"\",'[1]Class S'!F23)","v":412.02},{"$f":"IF('[1]Class S'!G23=0,\"\",'[1]Class S'!G23)","v":158.94050112562616},{"$f":"IF('[1]Class S'!H23=0,\"\",'[1]Class S'!H23)","v":4347},{"$f":"IF('[1]Class S'!I23=0,\"\",'[1]Class S'!I23)","v":145.92517864970873},{"$f":"IF('[1]Class S'!J23=0,\"\",'[1]Class S'!J23)","v":1089},{"$f":"IF('[1]Class S'!K23=0,\"\",'[1]Class S'!K23)","v":153.62},{"$f":"IF('[1]Class S'!L23=0,\"\",'[1]Class S'!L23)","v":161.69},{"$f":"IF('[1]Class S'!M23=0,\"\",'[1]Class S'!M23)","v":""},{"$f":"IF('[1]Class S'!N23=0,\"\",'[1]Class S'!N23)","v":""},{"$f":"IF('[1]Class S'!O23=0,\"\",'[1]Class S'!O23)","v":""},{"$f":"IF('[1]Class S'!P23=0,\"\",'[1]Class S'!P23)","v":163.05178941086515},{"$f":"IF('[1]Class S'!Q23=0,\"\",'[1]Class S'!Q23)","v":1249},{"$f":"IF('[1]Class S'!R23=0,\"\",'[1]Class S'!R23)","v":""},{"$f":"IF('[1]Class S'!S23=0,\"\",'[1]Class S'!S23)","v":""},{"$f":"IF('[1]Class S'!T23=0,\"\",'[1]Class S'!T23)","v":""},{"$f":"IF('[1]Class S'!U23=0,\"\",'[1]Class S'!U23)","v":148.99},{"$f":"IF('[1]Class S'!V23=0,\"\",'[1]Class S'!V23)","v":143.63125579240037},{"$f":"IF('[1]Class S'!W23=0,\"\",'[1]Class S'!W23)","v":495.93},{"$f":"IF('[1]Class S'!X23=0,\"\",'[1]Class S'!X23)","v":153.9},{"$f":"IF('[1]Class S'!Y23=0,\"\",'[1]Class S'!Y23)","v":154.42694866439081},{"$f":"IF('[1]Class S'!Z23=0,\"\",'[1]Class S'!Z23)","v":47950.45},{"$f":"IF('[1]Class S'!AA23=0,\"\",'[1]Class S'!AA23)","v":237},{"$f":"IF('[1]Class S'!AB23=0,\"\",'[1]Class S'!AB23)","v":""},{"$f":"IF('[1]Class S'!AC23=0,\"\",'[1]Class S'!AC23)","v":168.52},{"$f":"IF('[1]Class S'!AD23=0,\"\",'[1]Class S'!AD23)","v":144.12235576841022},{"$f":"IF('[1]Class S'!AE23=0,\"\",'[1]Class S'!AE23)","v":603.15},{"$f":"IF('[1]Class S'!AF23=0,\"\",'[1]Class S'!AF23)","v":""},{"$f":"IF('[1]Class S'!AG23=0,\"\",'[1]Class S'!AG23)","v":154.78517823342349},{"$f":"IF('[1]Class S'!AH23=0,\"\",'[1]Class S'!AH23)","v":697.42},{"$f":"IF('[1]Class S'!AI23=0,\"\",'[1]Class S'!AI23)","v":169.66},{"$f":"IF('[1]Class S'!AJ23=0,\"\",'[1]Class S'!AJ23)","v":159.37},{"$f":"IF('[1]Class S'!AK23=0,\"\",'[1]Class S'!AK23)","v":173.56},{"$f":"IF('[1]Class S'!AL23=0,\"\",'[1]Class S'!AL23)","v":187.71207156099189},{"$f":"IF('[1]Class S'!AM23=0,\"\",'[1]Class S'!AM23)","v":1662},{"$f":"IF('[1]Class S'!AN23=0,\"\",'[1]Class S'!AN23)","v":196.00242382271469},{"$f":"IF('[1]Class S'!AO23=0,\"\",'[1]Class S'!AO23)","v":161.72999999999999},{"$f":"IF('[1]Class S'!AP23=0,\"\",'[1]Class S'!AP23)","v":""},{"$f":"IF('[1]Class S'!AQ23=0,\"\",'[1]Class S'!AQ23)","v":155.94649711006645},{"$f":"(AQ24/AQ23)-1","v":-7.8744524997665932E-3}]
[null,"2014-03-10",11,{"$f":"IF('[1]Class S'!D24=0,\"\",'[1]Class S'!D24)","v":137.5},{"$f":"IF('[1]Class S'!E24=0,\"\",'[1]Class S'!E24)","v":203.59443705900401},{"$f":"IF('[1]Class S'!F24=0,\"\",'[1]Class S'!F24)","v":398.19},{"$f":"IF('[1]Class S'!G24=0,\"\",'[1]Class S'!G24)","v":157.87521871980363},{"$f":"IF('[1]Class S'!H24=0,\"\",'[1]Class S'!H24)","v":4318},{"$f":"IF('[1]Class S'!I24=0,\"\",'[1]Class S'!I24)","v":145.91931272635389},{"$f":"IF('[1]Class S'!J24=0,\"\",'[1]Class S'!J24)","v":1089},{"$f":"IF('[1]Class S'!K24=0,\"\",'[1]Class S'!K24)","v":160.38999999999999},{"$f":"IF('[1]Class S'!L24=0,\"\",'[1]Class S'!L24)","v":162.97999999999999},{"$f":"IF('[1]Class S'!M24=0,\"\",'[1]Class S'!M24)","v":""},{"$f":"IF('[1]Class S'!N24=0,\"\",'[1]Class S'!N24)","v":""},{"$f":"IF('[1]Class S'!O24=0,\"\",'[1]Class S'!O24)","v":""},{"$f":"IF('[1]Class S'!P24=0,\"\",'[1]Class S'!P24)","v":159.07399011524748},{"$f":"IF('[1]Class S'!Q24=0,\"\",'[1]Class S'!Q24)","v":1218},{"$f":"IF('[1]Class S'!R24=0,\"\",'[1]Class S'!R24)","v":""},{"$f":"IF('[1]Class S'!S24=0,\"\",'[1]Class S'!S24)","v":""},{"$f":"IF('[1]Class S'!T24=0,\"\",'[1]Class S'!T24)","v":""},{"$f":"IF('[1]Class S'!U24=0,\"\",'[1]Class S'!U24)","v":150.16999999999999},{"$f":"IF('[1]Class S'!V24=0,\"\",'[1]Class S'!V24)","v":146.7475671918443},{"$f":"IF('[1]Class S'!W24=0,\"\",'[1]Class S'!W24)","v":506.69},{"$f":"IF('[1]Class S'!X24=0,\"\",'[1]Class S'!X24)","v":159.6},{"$f":"IF('[1]Class S'!Y24=0,\"\",'[1]Class S'!Y24)","v":154.40719610458422},{"$f":"IF('[1]Class S'!Z24=0,\"\",'[1]Class S'!Z24)","v":48290.63},{"$f":"IF('[1]Class S'!AA24=0,\"\",'[1]Class S'!AA24)","v":237},{"$f":"IF('[1]Class S'!AB24=0,\"\",'[1]Class S'!AB24)","v":""},{"$f":"IF('[1]Class S'!AC24=0,\"\",'[1]Class S'!AC24)","v":168.73},{"$f":"IF('[1]Class S'!AD24=0,\"\",'[1]Class S'!AD24)","v":148.34642631096187},{"$f":"IF('[1]Class S'!AE24=0,\"\",'[1]Class S'!AE24)","v":626.13},{"$f":"IF('[1]Class S'!AF24=0,\"\",'[1]Class S'!AF24)","v":""},{"$f":"IF('[1]Class S'!AG24=0,\"\",'[1]Class S'!AG24)","v":150.62260004883137},{"$f":"IF('[1]Class S'!AH24=0,\"\",'[1]Class S'!AH24)","v":678.6},{"$f":"IF('[1]Class S'!AI24=0,\"\",'[1]Class S'!AI24)","v":169.03},{"$f":"IF('[1]Class S'!AJ24=0,\"\",'[1]Class S'!AJ24)","v":157.44},{"$f":"IF('[1]Class S'!AK24=0,\"\",'[1]Class S'!AK24)","v":174.36},{"$f":"IF('[1]Class S'!AL24=0,\"\",'[1]Class S'!AL24)","v":186.37977802792554},{"$f":"IF('[1]Class S'!AM24=0,\"\",'[1]Class S'!AM24)","v":1651},{"$f":"IF('[1]Class S'!AN24=0,\"\",'[1]Class S'!AN24)","v":193.17701243889704},{"$f":"IF('[1]Class S'!AO24=0,\"\",'[1]Class S'!AO24)","v":161.18},{"$f":"IF('[1]Class S'!AP24=0,\"\",'[1]Class S'!AP24)","v":""},{"$f":"IF('[1]Class S'!AQ24=0,\"\",'[1]Class S'!AQ24)","v":156.22137880907638},{"$f":"(AQ25/AQ24)-1","v":1.7626667100827387E-3}]
[null,"2014-03-17",12,{"$f":"IF('[1]Class S'!D25=0,\"\",'[1]Class S'!D25)","v":149.6},{"$f":"IF('[1]Class S'!E25=0,\"\",'[1]Class S'!E25)","v":208.5438183863381},{"$f":"IF('[1]Class S'!F25=0,\"\",'[1]Class S'!F25)","v":407.87},{"$f":"IF('[1]Class S'!G25=0,\"\",'[1]Class S'!G25)","v":156.84426485597049},{"$f":"IF('[1]Class S'!H25=0,\"\",'[1]Class S'!H25)","v":4303},{"$f":"IF('[1]Class S'!I25=0,\"\",'[1]Class S'!I25)","v":148.31161324526636},{"$f":"IF('[1]Class S'!J25=0,\"\",'[1]Class S'!J25)","v":1107},{"$f":"IF('[1]Class S'!K25=0,\"\",'[1]Class S'!K25)","v":164.81},{"$f":"IF('[1]Class S'!L25=0,\"\",'[1]Class S'!L25)","v":163.93},{"$f":"IF('[1]Class S'!M25=0,\"\",'[1]Class S'!M25)","v":""},{"$f":"IF('[1]Class S'!N25=0,\"\",'[1]Class S'!N25)","v":""},{"$f":"IF('[1]Class S'!O25=0,\"\",'[1]Class S'!O25)","v":""},{"$f":"IF('[1]Class S'!P25=0,\"\",'[1]Class S'!P25)","v":155.22337955408011},{"$f":"IF('[1]Class S'!Q25=0,\"\",'[1]Class S'!Q25)","v":1189},{"$f":"IF('[1]Class S'!R25=0,\"\",'[1]Class S'!R25)","v":""},{"$f":"IF('[1]Class S'!S25=0,\"\",'[1]Class S'!S25)","v":""},{"$f":"IF('[1]Class S'!T25=0,\"\",'[1]Class S'!T25)","v":""},{"$f":"IF('[1]Class S'!U25=0,\"\",'[1]Class S'!U25)","v":147.06},{"$f":"IF('[1]Class S'!V25=0,\"\",'[1]Class S'!V25)","v":154.72949490268769},{"$f":"IF('[1]Class S'!W25=0,\"\",'[1]Class S'!W25)","v":534.25},{"$f":"IF('[1]Class S'!X25=0,\"\",'[1]Class S'!X25)","v":166.6},{"$f":"IF('[1]Class S'!Y25=0,\"\",'[1]Class S'!Y25)","v":165.85080444100845},{"$f":"IF('[1]Class S'!Z25=0,\"\",'[1]Class S'!Z25)","v":51792.6},{"$f":"IF('[1]Class S'!AA25=0,\"\",'[1]Class S'!AA25)","v":237},{"$f":"IF('[1]Class S'!AB25=0,\"\",'[1]Class S'!AB25)","v":""},{"$f":"IF('[1]Class S'!AC25=0,\"\",'[1]Class S'!AC25)","v":177.43},{"$f":"IF('[1]Class S'!AD25=0,\"\",'[1]Class S'!AD25)","v":160.01567733200315},{"$f":"IF('[1]Class S'!AE25=0,\"\",'[1]Class S'!AE25)","v":673.65},{"$f":"IF('[1]Class S'!AF25=0,\"\",'[1]Class S'!AF25)","v":""},{"$f":"IF('[1]Class S'!AG25=0,\"\",'[1]Class S'!AG25)","v":146.68797174006963},{"$f":"IF('[1]Class S'!AH25=0,\"\",'[1]Class S'!AH25)","v":659.66},{"$f":"IF('[1]Class S'!AI25=0,\"\",'[1]Class S'!AI25)","v":177.88},{"$f":"IF('[1]Class S'!AJ25=0,\"\",'[1]Class S'!AJ25)","v":158.09},{"$f":"IF('[1]Class S'!AK25=0,\"\",'[1]Class S'!AK25)","v":172.57},{"$f":"IF('[1]Class S'!AL25=0,\"\",'[1]Class S'!AL25)","v":179.20817171183995},{"$f":"IF('[1]Class S'!AM25=0,\"\",'[1]Class S'!AM25)","v":1586},{"$f":"IF('[1]Class S'!AN25=0,\"\",'[1]Class S'!AN25)","v":192.25},{"$f":"IF('[1]Class S'!AO25=0,\"\",'[1]Class S'!AO25)","v":161.37},{"$f":"IF('[1]Class S'!AP25=0,\"\",'[1]Class S'!AP25)","v":""},{"$f":"IF('[1]Class S'!AQ25=0,\"\",'[1]Class S'!AQ25)","v":161.13100088363751},{"$f":"(AQ26/AQ25)-1","v":3.1427337999374361E-2}]
[null,"2014-03-24",13,{"$f":"IF('[1]Class S'!D26=0,\"\",'[1]Class S'!D26)","v":146},{"$f":"IF('[1]Class S'!E26=0,\"\",'[1]Class S'!E26)","v":203.43593414459559},{"$f":"IF('[1]Class S'!F26=0,\"\",'[1]Class S'!F26)","v":397.88},{"$f":"IF('[1]Class S'!G26=0,\"\",'[1]Class S'!G26)","v":159.92374165924397},{"$f":"IF('[1]Class S'!H26=0,\"\",'[1]Class S'!H26)","v":4386},{"$f":"IF('[1]Class S'!I26=0,\"\",'[1]Class S'!I26)","v":150.83319937844936},{"$f":"IF('[1]Class S'!J26=0,\"\",'[1]Class S'!J26)","v":1126},{"$f":"IF('[1]Class S'!K26=0,\"\",'[1]Class S'!K26)","v":162.99},{"$f":"IF('[1]Class S'!L26=0,\"\",'[1]Class S'!L26)","v":164.47},{"$f":"IF('[1]Class S'!M26=0,\"\",'[1]Class S'!M26)","v":""},{"$f":"IF('[1]Class S'!N26=0,\"\",'[1]Class S'!N26)","v":""},{"$f":"IF('[1]Class S'!O26=0,\"\",'[1]Class S'!O26)","v":""},{"$f":"IF('[1]Class S'!P26=0,\"\",'[1]Class S'!P26)","v":156.65358111951363},{"$f":"IF('[1]Class S'!Q26=0,\"\",'[1]Class S'!Q26)","v":1200},{"$f":"IF('[1]Class S'!R26=0,\"\",'[1]Class S'!R26)","v":""},{"$f":"IF('[1]Class S'!S26=0,\"\",'[1]Class S'!S26)","v":""},{"$f":"IF('[1]Class S'!T26=0,\"\",'[1]Class S'!T26)","v":""},{"$f":"IF('[1]Class S'!U26=0,\"\",'[1]Class S'!U26)","v":147.06},{"$f":"IF('[1]Class S'!V26=0,\"\",'[1]Class S'!V26)","v":164.30722891566268},{"$f":"IF('[1]Class S'!W26=0,\"\",'[1]Class S'!W26)","v":567.32000000000005},{"$f":"IF('[1]Class S'!X26=0,\"\",'[1]Class S'!X26)","v":163.30000000000001},{"$f":"IF('[1]Class S'!Y26=0,\"\",'[1]Class S'!Y26)","v":162.47630826560444},{"$f":"IF('[1]Class S'!Z26=0,\"\",'[1]Class S'!Z26)","v":50577.25},{"$f":"IF('[1]Class S'!AA26=0,\"\",'[1]Class S'!AA26)","v":237},{"$f":"IF('[1]Class S'!AB26=0,\"\",'[1]Class S'!AB26)","v":""},{"$f":"IF('[1]Class S'!AC26=0,\"\",'[1]Class S'!AC26)","v":174.64},{"$f":"IF('[1]Class S'!AD26=0,\"\",'[1]Class S'!AD26)","v":159.46224557019923},{"$f":"IF('[1]Class S'!AE26=0,\"\",'[1]Class S'!AE26)","v":667.37},{"$f":"IF('[1]Class S'!AF26=0,\"\",'[1]Class S'!AF26)","v":""},{"$f":"IF('[1]Class S'!AG26=0,\"\",'[1]Class S'!AG26)","v":147.55195817782092},{"$f":"IF('[1]Class S'!AH26=0,\"\",'[1]Class S'!AH26)","v":659.65},{"$f":"IF('[1]Class S'!AI26=0,\"\",'[1]Class S'!AI26)","v":174.62},{"$f":"IF('[1]Class S'!AJ26=0,\"\",'[1]Class S'!AJ26)","v":160.79},{"$f":"IF('[1]Class S'!AK26=0,\"\",'[1]Class S'!AK26)","v":173.72},{"$f":"IF('[1]Class S'!AL26=0,\"\",'[1]Class S'!AL26)","v":187.31488560653273},{"$f":"IF('[1]Class S'!AM26=0,\"\",'[1]Class S'!AM26)","v":1666},{"$f":"IF('[1]Class S'!AN26=0,\"\",'[1]Class S'!AN26)","v":193.95011680637623},{"$f":"IF('[1]Class S'!AO26=0,\"\",'[1]Class S'!AO26)","v":161.30000000000001},{"$f":"IF('[1]Class S'!AP26=0,\"\",'[1]Class S'!AP26)","v":""},{"$f":"IF('[1]Class S'!AQ26=0,\"\",'[1]Class S'!AQ26)","v":161.53509851946117},{"$f":"(AQ27/AQ26)-1","v":2.5078826148139388E-3}]
[null,"2014-03-31",14,{"$f":"IF('[1]Class S'!D27=0,\"\",'[1]Class S'!D27)","v":146},{"$f":"IF('[1]Class S'!E27=0,\"\",'[1]Class S'!E27)","v":205.88505982206772},{"$f":"IF('[1]Class S'!F27=0,\"\",'[1]Class S'!F27)","v":402.67},{"$f":"IF('[1]Class S'!G27=0,\"\",'[1]Class S'!G27)","v":159.92374165924397},{"$f":"IF('[1]Class S'!H27=0,\"\",'[1]Class S'!H27)","v":4403},{"$f":"IF('[1]Class S'!I27=0,\"\",'[1]Class S'!I27)","v":150.8297357704908},{"$f":"IF('[1]Class S'!J27=0,\"\",'[1]Class S'!J27)","v":1126},{"$f":"IF('[1]Class S'!K27=0,\"\",'[1]Class S'!K27)","v":166.08},{"$f":"IF('[1]Class S'!L27=0,\"\",'[1]Class S'!L27)","v":164.59},{"$f":"IF('[1]Class S'!M27=0,\"\",'[1]Class S'!M27)","v":""},{"$f":"IF('[1]Class S'!N27=0,\"\",'[1]Class S'!N27)","v":""},{"$f":"IF('[1]Class S'!O27=0,\"\",'[1]Class S'!O27)","v":""},{"$f":"IF('[1]Class S'!P27=0,\"\",'[1]Class S'!P27)","v":160.59695134824091},{"$f":"IF('[1]Class S'!Q27=0,\"\",'[1]Class S'!Q27)","v":1228},{"$f":"IF('[1]Class S'!R27=0,\"\",'[1]Class S'!R27)","v":""},{"$f":"IF('[1]Class S'!S27=0,\"\",'[1]Class S'!S27)","v":""},{"$f":"IF('[1]Class S'!T27=0,\"\",'[1]Class S'!T27)","v":""},{"$f":"IF('[1]Class S'!U27=0,\"\",'[1]Class S'!U27)","v":157.35},{"$f":"IF('[1]Class S'!V27=0,\"\",'[1]Class S'!V27)","v":166.1144578313253},{"$f":"IF('[1]Class S'!W27=0,\"\",'[1]Class S'!W27)","v":573.55999999999995},{"$f":"IF('[1]Class S'!X27=0,\"\",'[1]Class S'!X27)","v":165.4},{"$f":"IF('[1]Class S'!Y27=0,\"\",'[1]Class S'!Y27)","v":162.13101146989388},{"$f":"IF('[1]Class S'!Z27=0,\"\",'[1]Class S'!Z27)","v":49837.22},{"$f":"IF('[1]Class S'!AA27=0,\"\",'[1]Class S'!AA27)","v":237},{"$f":"IF('[1]Class S'!AB27=0,\"\",'[1]Class S'!AB27)","v":""},{"$f":"IF('[1]Class S'!AC27=0,\"\",'[1]Class S'!AC27)","v":175.13},{"$f":"IF('[1]Class S'!AD27=0,\"\",'[1]Class S'!AD27)","v":161.61276846373002},{"$f":"IF('[1]Class S'!AE27=0,\"\",'[1]Class S'!AE27)","v":674.23},{"$f":"IF('[1]Class S'!AF27=0,\"\",'[1]Class S'!AF27)","v":""},{"$f":"IF('[1]Class S'!AG27=0,\"\",'[1]Class S'!AG27)","v":146.49166893416779},{"$f":"IF('[1]Class S'!AH27=0,\"\",'[1]Class S'!AH27)","v":653.74},{"$f":"IF('[1]Class S'!AI27=0,\"\",'[1]Class S'!AI27)","v":174.42},{"$f":"IF('[1]Class S'!AJ27=0,\"\",'[1]Class S'!AJ27)","v":162.22999999999999},{"$f":"IF('[1]Class S'!AK27=0,\"\",'[1]Class S'!AK27)","v":171.91},{"$f":"IF('[1]Class S'!AL27=0,\"\",'[1]Class S'!AL27)","v":188.31642146049529},{"$f":"IF('[1]Class S'!AM27=0,\"\",'[1]Class S'!AM27)","v":1683},{"$f":"IF('[1]Class S'!AN27=0,\"\",'[1]Class S'!AN27)","v":195.10671704884655},{"$f":"IF('[1]Class S'!AO27=0,\"\",'[1]Class S'!AO27)","v":161.54},{"$f":"IF('[1]Class S'!AP27=0,\"\",'[1]Class S'!AP27)","v":""},{"$f":"IF('[1]Class S'!AQ27=0,\"\",'[1]Class S'!AQ27)","v":162.13734677288062},{"$f":"(AQ28/AQ27)-1","v":3.7282810914736064E-3}]
[null,"2014-04-07",15,{"$f":"IF('[1]Class S'!D28=0,\"\",'[1]Class S'!D28)","v":152.1},{"$f":"IF('[1]Class S'!E28=0,\"\",'[1]Class S'!E28)","v":203.05757234891095},{"$f":"IF('[1]Class S'!F28=0,\"\",'[1]Class S'!F28)","v":397.14},{"$f":"IF('[1]Class S'!G28=0,\"\",'[1]Class S'!G28)","v":163.1298008071866},{"$f":"IF('[1]Class S'!H28=0,\"\",'[1]Class S'!H28)","v":4475},{"$f":"IF('[1]Class S'!I28=0,\"\",'[1]Class S'!I28)","v":150.81819155938584},{"$f":"IF('[1]Class S'!J28=0,\"\",'[1]Class S'!J28)","v":1126},{"$f":"IF('[1]Class S'!K28=0,\"\",'[1]Class S'!K28)","v":169.39},{"$f":"IF('[1]Class S'!L28=0,\"\",'[1]Class S'!L28)","v":166.95},{"$f":"IF('[1]Class S'!M28=0,\"\",'[1]Class S'!M28)","v":""},{"$f":"IF('[1]Class S'!N28=0,\"\",'[1]Class S'!N28)","v":""},{"$f":"IF('[1]Class S'!O28=0,\"\",'[1]Class S'!O28)","v":166},{"$f":"IF('[1]Class S'!P28=0,\"\",'[1]Class S'!P28)","v":167.36440842981892},{"$f":"IF('[1]Class S'!Q28=0,\"\",'[1]Class S'!Q28)","v":1277},{"$f":"IF('[1]Class S'!R28=0,\"\",'[1]Class S'!R28)","v":""},{"$f":"IF('[1]Class S'!S28=0,\"\",'[1]Class S'!S28)","v":""},{"$f":"IF('[1]Class S'!T28=0,\"\",'[1]Class S'!T28)","v":""},{"$f":"IF('[1]Class S'!U28=0,\"\",'[1]Class S'!U28)","v":165.28},{"$f":"IF('[1]Class S'!V28=0,\"\",'[1]Class S'!V28)","v":169.92585727525488},{"$f":"IF('[1]Class S'!W28=0,\"\",'[1]Class S'!W28)","v":586.72},{"$f":"IF('[1]Class S'!X28=0,\"\",'[1]Class S'!X28)","v":170.2},{"$f":"IF('[1]Class S'!Y28=0,\"\",'[1]Class S'!Y28)","v":167.77297738781417},{"$f":"IF('[1]Class S'!Z28=0,\"\",'[1]Class S'!Z28)","v":51354.11},{"$f":"IF('[1]Class S'!AA28=0,\"\",'[1]Class S'!AA28)","v":237},{"$f":"IF('[1]Class S'!AB28=0,\"\",'[1]Class S'!AB28)","v":""},{"$f":"IF('[1]Class S'!AC28=0,\"\",'[1]Class S'!AC28)","v":178.88},{"$f":"IF('[1]Class S'!AD28=0,\"\",'[1]Class S'!AD28)","v":164.69094393866791},{"$f":"IF('[1]Class S'!AE28=0,\"\",'[1]Class S'!AE28)","v":687.42},{"$f":"IF('[1]Class S'!AF28=0,\"\",'[1]Class S'!AF28)","v":""},{"$f":"IF('[1]Class S'!AG28=0,\"\",'[1]Class S'!AG28)","v":150.19740191542297},{"$f":"IF('[1]Class S'!AH28=0,\"\",'[1]Class S'!AH28)","v":670.11},{"$f":"IF('[1]Class S'!AI28=0,\"\",'[1]Class S'!AI28)","v":178.98},{"$f":"IF('[1]Class S'!AJ28=0,\"\",'[1]Class S'!AJ28)","v":163.11000000000001},{"$f":"IF('[1]Class S'!AK28=0,\"\",'[1]Class S'!AK28)","v":171.1},{"$f":"IF('[1]Class S'!AL28=0,\"\",'[1]Class S'!AL28)","v":220.10799365414454},{"$f":"IF('[1]Class S'!AM28=0,\"\",'[1]Class S'!AM28)","v":1984},{"$f":"IF('[1]Class S'!AN28=0,\"\",'[1]Class S'!AN28)","v":195.90299197359667},{"$f":"IF('[1]Class S'!AO28=0,\"\",'[1]Class S'!AO28)","v":161.96},{"$f":"IF('[1]Class S'!AP28=0,\"\",'[1]Class S'!AP28)","v":""},{"$f":"IF('[1]Class S'!AQ28=0,\"\",'[1]Class S'!AQ28)","v":165.46076581823684},{"$f":"(AQ29/AQ28)-1","v":2.0497554150874286E-2}]
[null,"2014-04-14",16,{"$f":"IF('[1]Class S'!D29=0,\"\",'[1]Class S'!D29)","v":153},{"$f":"IF('[1]Class S'!E29=0,\"\",'[1]Class S'!E29)","v":198.97740055220373},{"$f":"IF('[1]Class S'!F29=0,\"\",'[1]Class S'!F29)","v":389.16},{"$f":"IF('[1]Class S'!G29=0,\"\",'[1]Class S'!G29)","v":164.09491229347111},{"$f":"IF('[1]Class S'!H29=0,\"\",'[1]Class S'!H29)","v":4509},{"$f":"IF('[1]Class S'!I29=0,\"\",'[1]Class S'!I29)","v":154.56027429760985},{"$f":"IF('[1]Class S'!J29=0,\"\",'[1]Class S'!J29)","v":1154},{"$f":"IF('[1]Class S'!K29=0,\"\",'[1]Class S'!K29)","v":168.13},{"$f":"IF('[1]Class S'!L29=0,\"\",'[1]Class S'!L29)","v":171.9},{"$f":"IF('[1]Class S'!M29=0,\"\",'[1]Class S'!M29)","v":""},{"$f":"IF('[1]Class S'!N29=0,\"\",'[1]Class S'!N29)","v":""},{"$f":"IF('[1]Class S'!O29=0,\"\",'[1]Class S'!O29)","v":172},{"$f":"IF('[1]Class S'!P29=0,\"\",'[1]Class S'!P29)","v":161.2286587079968},{"$f":"IF('[1]Class S'!Q29=0,\"\",'[1]Class S'!Q29)","v":1229},{"$f":"IF('[1]Class S'!R29=0,\"\",'[1]Class S'!R29)","v":""},{"$f":"IF('[1]Class S'!S29=0,\"\",'[1]Class S'!S29)","v":""},{"$f":"IF('[1]Class S'!T29=0,\"\",'[1]Class S'!T29)","v":""},{"$f":"IF('[1]Class S'!U29=0,\"\",'[1]Class S'!U29)","v":165.88},{"$f":"IF('[1]Class S'!V29=0,\"\",'[1]Class S'!V29)","v":167.93327154772939},{"$f":"IF('[1]Class S'!W29=0,\"\",'[1]Class S'!W29)","v":579.84},{"$f":"IF('[1]Class S'!X29=0,\"\",'[1]Class S'!X29)","v":169.8},{"$f":"IF('[1]Class S'!Y29=0,\"\",'[1]Class S'!Y29)","v":168.68649888771753},{"$f":"IF('[1]Class S'!Z29=0,\"\",'[1]Class S'!Z29)","v":51888.69},{"$f":"IF('[1]Class S'!AA29=0,\"\",'[1]Class S'!AA29)","v":237},{"$f":"IF('[1]Class S'!AB29=0,\"\",'[1]Class S'!AB29)","v":""},{"$f":"IF('[1]Class S'!AC29=0,\"\",'[1]Class S'!AC29)","v":178.14},{"$f":"IF('[1]Class S'!AD29=0,\"\",'[1]Class S'!AD29)","v":163.90438328514537},{"$f":"IF('[1]Class S'!AE29=0,\"\",'[1]Class S'!AE29)","v":686.75},{"$f":"IF('[1]Class S'!AF29=0,\"\",'[1]Class S'!AF29)","v":""},{"$f":"IF('[1]Class S'!AG29=0,\"\",'[1]Class S'!AG29)","v":155.71203756421167},{"$f":"IF('[1]Class S'!AH29=0,\"\",'[1]Class S'!AH29)","v":695.45},{"$f":"IF('[1]Class S'!AI29=0,\"\",'[1]Class S'!AI29)","v":178.75},{"$f":"IF('[1]Class S'!AJ29=0,\"\",'[1]Class S'!AJ29)","v":165.71},{"$f":"IF('[1]Class S'!AK29=0,\"\",'[1]Class S'!AK29)","v":170.73},{"$f":"IF('[1]Class S'!AL29=0,\"\",'[1]Class S'!AL29)","v":187.05903977302188},{"$f":"IF('[1]Class S'!AM29=0,\"\",'[1]Class S'!AM29)","v":1701},{"$f":"IF('[1]Class S'!AN29=0,\"\",'[1]Class S'!AN29)","v":196.58},{"$f":"IF('[1]Class S'!AO29=0,\"\",'[1]Class S'!AO29)","v":162.27000000000001},{"$f":"IF('[1]Class S'!AP29=0,\"\",'[1]Class S'!AP29)","v":""},{"$f":"IF('[1]Class S'!AQ29=0,\"\",'[1]Class S'!AQ29)","v":167.53977103005857},{"$f":"(AQ30/AQ29)-1","v":1.2564943728748279E-2}]
[null,"2014-04-21",17,{"$f":"IF('[1]Class S'!D30=0,\"\",'[1]Class S'!D30)","v":149.4},{"$f":"IF('[1]Class S'!E30=0,\"\",'[1]Class S'!E30)","v":197.9650270988854},{"$f":"IF('[1]Class S'!F30=0,\"\",'[1]Class S'!F30)","v":387.18},{"$f":"IF('[1]Class S'!G30=0,\"\",'[1]Class S'!G30)","v":162.99978679923248},{"$f":"IF('[1]Class S'!H30=0,\"\",'[1]Class S'!H30)","v":4478},{"$f":"IF('[1]Class S'!I30=0,\"\",'[1]Class S'!I30)","v":154.57240008189771},{"$f":"IF('[1]Class S'!J30=0,\"\",'[1]Class S'!J30)","v":1154},{"$f":"IF('[1]Class S'!K30=0,\"\",'[1]Class S'!K30)","v":167.11},{"$f":"IF('[1]Class S'!L30=0,\"\",'[1]Class S'!L30)","v":166.11},{"$f":"IF('[1]Class S'!M30=0,\"\",'[1]Class S'!M30)","v":""},{"$f":"IF('[1]Class S'!N30=0,\"\",'[1]Class S'!N30)","v":""},{"$f":"IF('[1]Class S'!O30=0,\"\",'[1]Class S'!O30)","v":173},{"$f":"IF('[1]Class S'!P30=0,\"\",'[1]Class S'!P30)","v":168.88655600026243},{"$f":"IF('[1]Class S'!Q30=0,\"\",'[1]Class S'!Q30)","v":1287},{"$f":"IF('[1]Class S'!R30=0,\"\",'[1]Class S'!R30)","v":""},{"$f":"IF('[1]Class S'!S30=0,\"\",'[1]Class S'!S30)","v":""},{"$f":"IF('[1]Class S'!T30=0,\"\",'[1]Class S'!T30)","v":""},{"$f":"IF('[1]Class S'!U30=0,\"\",'[1]Class S'!U30)","v":167.39},{"$f":"IF('[1]Class S'!V30=0,\"\",'[1]Class S'!V30)","v":171.72729379054684},{"$f":"IF('[1]Class S'!W30=0,\"\",'[1]Class S'!W30)","v":592.94000000000005},{"$f":"IF('[1]Class S'!X30=0,\"\",'[1]Class S'!X30)","v":167.5},{"$f":"IF('[1]Class S'!Y30=0,\"\",'[1]Class S'!Y30)","v":165.06205208555457},{"$f":"IF('[1]Class S'!Z30=0,\"\",'[1]Class S'!Z30)","v":50867.88},{"$f":"IF('[1]Class S'!AA30=0,\"\",'[1]Class S'!AA30)","v":237},{"$f":"IF('[1]Class S'!AB30=0,\"\",'[1]Class S'!AB30)","v":""},{"$f":"IF('[1]Class S'!AC30=0,\"\",'[1]Class S'!AC30)","v":175.75},{"$f":"IF('[1]Class S'!AD30=0,\"\",'[1]Class S'!AD30)","v":163.22035168008284},{"$f":"IF('[1]Class S'!AE30=0,\"\",'[1]Class S'!AE30)","v":684.77},{"$f":"IF('[1]Class S'!AF30=0,\"\",'[1]Class S'!AF30)","v":""},{"$f":"IF('[1]Class S'!AG30=0,\"\",'[1]Class S'!AG30)","v":159.19943887698531},{"$f":"IF('[1]Class S'!AH30=0,\"\",'[1]Class S'!AH30)","v":710.1},{"$f":"IF('[1]Class S'!AI30=0,\"\",'[1]Class S'!AI30)","v":175.47},{"$f":"IF('[1]Class S'!AJ30=0,\"\",'[1]Class S'!AJ30)","v":164.45},{"$f":"IF('[1]Class S'!AK30=0,\"\",'[1]Class S'!AK30)","v":170.7},{"$f":"IF('[1]Class S'!AL30=0,\"\",'[1]Class S'!AL30)","v":189.60532931121165},{"$f":"IF('[1]Class S'!AM30=0,\"\",'[1]Class S'!AM30)","v":1724},{"$f":"IF('[1]Class S'!AN30=0,\"\",'[1]Class S'!AN30)","v":196.85335925160976},{"$f":"IF('[1]Class S'!AO30=0,\"\",'[1]Class S'!AO30)","v":162.03},{"$f":"IF('[1]Class S'!AP30=0,\"\",'[1]Class S'!AP30)","v":""},{"$f":"IF('[1]Class S'!AQ30=0,\"\",'[1]Class S'!AQ30)","v":167.30519385687765},{"$f":"(AQ31/AQ30)-1","v":-1.4001282903677303E-3}]
[null,"2014-04-28",18,{"$f":"IF('[1]Class S'!D31=0,\"\",'[1]Class S'!D31)","v":150.30000000000001},{"$f":"IF('[1]Class S'!E31=0,\"\",'[1]Class S'!E31)","v":195.1477656202066},{"$f":"IF('[1]Class S'!F31=0,\"\",'[1]Class S'!F31)","v":387.18},{"$f":"IF('[1]Class S'!G31=0,\"\",'[1]Class S'!G31)","v":164.04542331952453},{"$f":"IF('[1]Class S'!H31=0,\"\",'[1]Class S'!H31)","v":4503},{"$f":"IF('[1]Class S'!I31=0,\"\",'[1]Class S'!I31)","v":154.60464617775517},{"$f":"IF('[1]Class S'!J31=0,\"\",'[1]Class S'!J31)","v":1154},{"$f":"IF('[1]Class S'!K31=0,\"\",'[1]Class S'!K31)","v":168.06},{"$f":"IF('[1]Class S'!L31=0,\"\",'[1]Class S'!L31)","v":166.97},{"$f":"IF('[1]Class S'!M31=0,\"\",'[1]Class S'!M31)","v":""},{"$f":"IF('[1]Class S'!N31=0,\"\",'[1]Class S'!N31)","v":""},{"$f":"IF('[1]Class S'!O31=0,\"\",'[1]Class S'!O31)","v":173},{"$f":"IF('[1]Class S'!P31=0,\"\",'[1]Class S'!P31)","v":166.27858940173508},{"$f":"IF('[1]Class S'!Q31=0,\"\",'[1]Class S'!Q31)","v":1265},{"$f":"IF('[1]Class S'!R31=0,\"\",'[1]Class S'!R31)","v":""},{"$f":"IF('[1]Class S'!S31=0,\"\",'[1]Class S'!S31)","v":""},{"$f":"IF('[1]Class S'!T31=0,\"\",'[1]Class S'!T31)","v":""},{"$f":"IF('[1]Class S'!U31=0,\"\",'[1]Class S'!U31)","v":171.44},{"$f":"IF('[1]Class S'!V31=0,\"\",'[1]Class S'!V31)","v":167.91589434661725},{"$f":"IF('[1]Class S'!W31=0,\"\",'[1]Class S'!W31)","v":579.78},{"$f":"IF('[1]Class S'!X31=0,\"\",'[1]Class S'!X31)","v":168.7},{"$f":"IF('[1]Class S'!Y31=0,\"\",'[1]Class S'!Y31)","v":166.86325424043008},{"$f":"IF('[1]Class S'!Z31=0,\"\",'[1]Class S'!Z31)","v":51436.79},{"$f":"IF('[1]Class S'!AA31=0,\"\",'[1]Class S'!AA31)","v":237},{"$f":"IF('[1]Class S'!AB31=0,\"\",'[1]Class S'!AB31)","v":""},{"$f":"IF('[1]Class S'!AC31=0,\"\",'[1]Class S'!AC31)","v":175.59},{"$f":"IF('[1]Class S'!AD31=0,\"\",'[1]Class S'!AD31)","v":165.40622482656886},{"$f":"IF('[1]Class S'!AE31=0,\"\",'[1]Class S'!AE31)","v":695.2},{"$f":"IF('[1]Class S'!AF31=0,\"\",'[1]Class S'!AF31)","v":""},{"$f":"IF('[1]Class S'!AG31=0,\"\",'[1]Class S'!AG31)","v":165.32432727716758},{"$f":"IF('[1]Class S'!AH31=0,\"\",'[1]Class S'!AH31)","v":734.98},{"$f":"IF('[1]Class S'!AI31=0,\"\",'[1]Class S'!AI31)","v":175.41},{"$f":"IF('[1]Class S'!AJ31=0,\"\",'[1]Class S'!AJ31)","v":164.6},{"$f":"IF('[1]Class S'!AK31=0,\"\",'[1]Class S'!AK31)","v":170.17},{"$f":"IF('[1]Class S'!AL31=0,\"\",'[1]Class S'!AL31)","v":188.156607880872},{"$f":"IF('[1]Class S'!AM31=0,\"\",'[1]Class S'!AM31)","v":1704},{"$f":"IF('[1]Class S'!AN31=0,\"\",'[1]Class S'!AN31)","v":197.40300348292848},{"$f":"IF('[1]Class S'!AO31=0,\"\",'[1]Class S'!AO31)","v":162.34},{"$f":"IF('[1]Class S'!AP31=0,\"\",'[1]Class S'!AP31)","v":""},{"$f":"IF('[1]Class S'!AQ31=0,\"\",'[1]Class S'!AQ31)","v":167.55088733709883},{"$f":"(AQ32/AQ31)-1","v":1.4685346853688941E-3}]
[null,"2014-05-05",19,{"$f":"IF('[1]Class S'!D32=0,\"\",'[1]Class S'!D32)","v":151.69999999999999},{"$f":"IF('[1]Class S'!E32=0,\"\",'[1]Class S'!E32)","v":200.8947745168218},{"$f":"IF('[1]Class S'!F32=0,\"\",'[1]Class S'!F32)","v":392.91},{"$f":"IF('[1]Class S'!G32=0,\"\",'[1]Class S'!G32)","v":164.09697942339659},{"$f":"IF('[1]Class S'!H32=0,\"\",'[1]Class S'!H32)","v":4499},{"$f":"IF('[1]Class S'!I32=0,\"\",'[1]Class S'!I32)","v":154.60878885316185},{"$f":"IF('[1]Class S'!J32=0,\"\",'[1]Class S'!J32)","v":1154},{"$f":"IF('[1]Class S'!K32=0,\"\",'[1]Class S'!K32)","v":168.13},{"$f":"IF('[1]Class S'!L32=0,\"\",'[1]Class S'!L32)","v":169.43},{"$f":"IF('[1]Class S'!M32=0,\"\",'[1]Class S'!M32)","v":""},{"$f":"IF('[1]Class S'!N32=0,\"\",'[1]Class S'!N32)","v":""},{"$f":"IF('[1]Class S'!O32=0,\"\",'[1]Class S'!O32)","v":169},{"$f":"IF('[1]Class S'!P32=0,\"\",'[1]Class S'!P32)","v":168.36613706426365},{"$f":"IF('[1]Class S'!Q32=0,\"\",'[1]Class S'!Q32)","v":1278},{"$f":"IF('[1]Class S'!R32=0,\"\",'[1]Class S'!R32)","v":""},{"$f":"IF('[1]Class S'!S32=0,\"\",'[1]Class S'!S32)","v":""},{"$f":"IF('[1]Class S'!T32=0,\"\",'[1]Class S'!T32)","v":""},{"$f":"IF('[1]Class S'!U32=0,\"\",'[1]Class S'!U32)","v":166.95},{"$f":"IF('[1]Class S'!V32=0,\"\",'[1]Class S'!V32)","v":170.05618628359591},{"$f":"IF('[1]Class S'!W32=0,\"\",'[1]Class S'!W32)","v":587.16999999999996},{"$f":"IF('[1]Class S'!X32=0,\"\",'[1]Class S'!X32)","v":168.3},{"$f":"IF('[1]Class S'!Y32=0,\"\",'[1]Class S'!Y32)","v":167.87862462737473},{"$f":"IF('[1]Class S'!Z32=0,\"\",'[1]Class S'!Z32)","v":51328.17},{"$f":"IF('[1]Class S'!AA32=0,\"\",'[1]Class S'!AA32)","v":237},{"$f":"IF('[1]Class S'!AB32=0,\"\",'[1]Class S'!AB32)","v":""},{"$f":"IF('[1]Class S'!AC32=0,\"\",'[1]Class S'!AC32)","v":175.53},{"$f":"IF('[1]Class S'!AD32=0,\"\",'[1]Class S'!AD32)","v":166.23382371466414},{"$f":"IF('[1]Class S'!AE32=0,\"\",'[1]Class S'!AE32)","v":697.51},{"$f":"IF('[1]Class S'!AF32=0,\"\",'[1]Class S'!AF32)","v":""},{"$f":"IF('[1]Class S'!AG32=0,\"\",'[1]Class S'!AG32)","v":169.39091723200423},{"$f":"IF('[1]Class S'!AH32=0,\"\",'[1]Class S'!AH32)","v":751.21},{"$f":"IF('[1]Class S'!AI32=0,\"\",'[1]Class S'!AI32)","v":176.06},{"$f":"IF('[1]Class S'!AJ32=0,\"\",'[1]Class S'!AJ32)","v":165.74},{"$f":"IF('[1]Class S'!AK32=0,\"\",'[1]Class S'!AK32)","v":170.46},{"$f":"IF('[1]Class S'!AL32=0,\"\",'[1]Class S'!AL32)","v":183.32885778823825},{"$f":"IF('[1]Class S'!AM32=0,\"\",'[1]Class S'!AM32)","v":1658},{"$f":"IF('[1]Class S'!AN32=0,\"\",'[1]Class S'!AN32)","v":197.40300348292848},{"$f":"IF('[1]Class S'!AO32=0,\"\",'[1]Class S'!AO32)","v":162.34},{"$f":"IF('[1]Class S'!AP32=0,\"\",'[1]Class S'!AP32)","v":""},{"$f":"IF('[1]Class S'!AQ32=0,\"\",'[1]Class S'!AQ32)","v":166.67566885053193},{"$f":"(AQ33/AQ32)-1","v":-5.223598039239441E-3}]
[]
[]
[]
[]
[]
[]
[]
[]
[]
[null,null,null,null,null,null,null,null,"THE AVERAGE PRICE HAS BEEN CALCULATED ON BASIS OF THE RECEIVED COMMUNICATIONS"]
[]
[]
[]
[]
[]
[]
[]
[]
[]
[]
[]
[]
[]
[]
[]
[]
[]
[]
[]
[]
[]
[]
[]
[]
[]
[]
[]
[]
[]
[]
[]
[]
[]
[]
[]
[]
[]
[]
[]
[]
[]
[]
[]
[]
[]
[]
[]
[]
[]
[]
[]
[]
[]
[]
[]
[]
[]
[]
[]
[]
[]
[]
[]
[]
[]
[]
[]
[]
[]
[]
[]
[]
[]
[]
[]
[]
[]
[]
[]
[]
[]
[]
[]
[]
[]
[]
[]
[]
[]
[]
[]
[]
[]
[]
[]
[]
[]
[]
[]
[]
[]
[]
[]
[]
[]
[]
[]
[]
[]
[]
[]
[]
[]
[]
[]
[]
[]
[]
[]
[]
[]
[]
[]
[]
[]
[]
[]
[]
[]
[]
[]
[]
[]
[]
[]
[]
[]
[]
[]
[]
[]
[]
[]
[]
[]
[]
[]
[]
[]
[]
[]
[]
[]
[]
[]
[]
[]
[]
[]
[]
[]
[]
[]
[]
[]
[]
[]
[]
[]
[]
[]
[]
[]
[]
[]
[]
[]
[]
[]
[]
[]
[]
[]
[]
[]
[]
[]
[]
[]
[]
[]
[]
[]
[]
[]
[]
[]
[]
[]
[]
[]
[]
[]
[]
[]
[]
[]
[]
[]
[]
[]
[]
[]
[]
[]
[]
[]
[]
[]
[]
[]
[]
[]
[]
[]
[]
[]
[]
[]
[]
[]
[]
[]
[]
[]
[]
[]
[]
[]
[]
[]
[]
[]
[]
[]
[]
[]
[]
[]
[]
[]
[]
[]
[]
[]
[]
[]
[]
[]
[]
[]
[]
[]
[]
[]
[]
[]
[]
[]
[]
[]
[]
[]
[]
[]
[]
[]
[]
[]
[]
[]
[]
[]
[]
[]
[]
[]
[]
[]
[]
[]
[]
[]
[]
[]
[]
[]
[]
[]
[]
[]
[]
[]
[]
[]
[]
[]
[]
[]
[]
[]
[]
[]
[]
[]
[]
[]
[]
[]
[]
[]
[]
[]
[]
[]
[]
[]
[]
[]
[]
[]
[]
[]
[]
[]
[]
[]
[]
[]
[]
[]
[]
[]
[]
[]
[]
[]
[]
[]
[]
[]
[]
[]
[]
[]
[]
[]
[]
[]
[]
[]
[]
[]
[]
[]
[]
[]
[]
[]
[]
[]
[]
[]
[]
[]
[]
[]
[]
[]
[]
[]
[]
[]
[]
[]
[]
[]
[]
[]
[]
[]
[]
[]
[]
[]
[]
[]
[]
[]
[]
[]
[]
[]
[]
[]
[]
[]
[]
[]
[]
[]
[]
[]
[]
[]
[]
[]
[]
[]
[]
[]
[]
[]
[]
[]
[]
[]
[]
[]
[]
[]
[]
[]
[]
[]
[]
[]
[]
[]
[]
[]
[]
[]
[]
[]
[]
[]
[]
[]
[]
[]
[]
[]
[]
[]
[]
[null,null,null,{"$f":"D$10","v":"BE"},{"$f":"E$10","v":"BG"},"BG","CZ","CZ","DK","DK","DE","EE","GR","ES","FR","HR","HR","IE","IT","CY","LV","LT","LT","LU","HU","HU","MT","NL","AT","PL","PL","PT","RO","RO","SI","SK","FI","SE","SE","UK","UK"]
[null,"Change 1 week",null,{"$f":"INDEX(D:D,MATCH(MAX($B$14:$B$499),$B:$B,0),1)/INDEX(D:D,MATCH(MAX($B$14:$B$499),$B:$B,0)-1,1)-1","v":9.3147039254821706E-3},2.9449524458301735E-2,1.4799318146598628E-2,3.1427944058903812E-4,-8.8829669109480314E-4,2.6795284030045607E-5,0,4.1651791027019769E-4,1.4733185602203935E-2,null,null,null,{"$f":"INDEX(P:P,MATCH(MAX($B$14:$B$499),$B:$B,0),1)/INDEX(P:P,MATCH(MAX($B$14:$B$499),$B:$B,0)-1,1)-1","v":1.2554518714883889E-2},{"$f":"INDEX(Q:Q,MATCH(MAX($B$14:$B$499),$B:$B,0),1)/INDEX(Q:Q,MATCH(MAX($B$14:$B$499),$B:$B,0)-1,1)-1","v":1.0276679841897174E-2},null,null,null,{"$f":"INDEX(U:U,MATCH(MAX($B$14:$B$499),$B:$B,0),1)/INDEX(U:U,MATCH(MAX($B$14:$B$499),$B:$B,0)-1,1)-1","v":-2.6189920671955247E-2},1.2746214081203133E-2,1.2746214081203133E-2,-2.3710729104918782E-3,6.085044856440458E-3,-2.1117180912728628E-3,0,null,{"$f":"INDEX(AC:AC,MATCH(MAX($B$14:$B$499),$B:$B,0),1)/INDEX(AC:AC,MATCH(MAX($B$14:$B$499),$B:$B,0)-1,1)-1","v":-3.4170510849140801E-4},{"$f":"INDEX(AD:AD,MATCH(MAX($B$14:$B$499),$B:$B,0),1)/INDEX(AD:AD,MATCH(MAX($B$14:$B$499),$B:$B,0)-1,1)-1","v":5.0034325428987003E-3},{"$f":"INDEX(AE:AE,MATCH(MAX($B$14:$B$499),$B:$B,0),1)/INDEX(AE:AE,MATCH(MAX($B$14:$B$499),$B:$B,0)-1,1)-1","v":3.322784810126489E-3},null,{"$f":"INDEX(AG:AG,MATCH(MAX($B$14:$B$499),$B:$B,0),1)/INDEX(AG:AG,MATCH(MAX($B$14:$B$499),$B:$B,0)-1,1)-1","v":2.4597650096703338E-2},2.208223353016403E-2,3.7056040134542112E-3,6.9258809234509222E-3,1.7041781747664242E-3,-2.5658148002382974E-2,-2.699530516431925E-2,0,0,null,{"$f":"INDEX(AQ:AQ,MATCH(MAX($B$9:$B$543),$B:$B,0),1)/INDEX(AQ:AQ,MATCH(MAX($B$9:$B$543),$B:$B,0)-1,1)-1","v":-5.223598039239441E-3}]
[null,"Change 4 weeks",null,{"$f":"'[1]Class S'!D$501","v":-2.629848783694988E-3},{"$f":"'[1]Class S'!E$501","v":-1.0651155763710451E-2},{"$f":"'[1]Class S'!F$501","v":-1.0651155763710451E-2},{"$f":"'[1]Class S'!G$501","v":5.9288898253064826E-3},{"$f":"'[1]Class S'!H$501","v":5.3631284916200173E-3},{"$f":"'[1]Class S'!I$501","v":2.5133554875463648E-2},{"$f":"'[1]Class S'!J$501","v":2.4866785079928899E-2},{"$f":"'[1]Class S'!K$501","v":-7.4384556349252895E-3},{"$f":"'[1]Class S'!L$501","v":1.485474693021871E-2},null,null,{"$f":"'[1]Class S'!O$501","v":1.8072289156626509E-2},{"$f":"'[1]Class S'!P$501","v":5.9853145829675825E-3},{"$f":"'[1]Class S'!Q$501","v":7.8308535630378096E-4},null,null,null,{"$f":"'[1]Class S'!U$501","v":1.0104065827686304E-2},{"$f":"'[1]Class S'!V$501","v":7.6697572947903581E-4},{"$f":"'[1]Class S'!W$501","v":7.6697572947903581E-4},{"$f":"'[1]Class S'!X$501","v":-1.1163337250293615E-2},{"$f":"'[1]Class S'!Y$501","v":6.2970355062819117E-4},{"$f":"'[1]Class S'!Z$501","v":-5.0512023283044716E-4},{"$f":"'[1]Class S'!AA$501","v":0},null,{"$f":"'[1]Class S'!AC$501","v":-1.8727638640429256E-2},{"$f":"'[1]Class S'!AD$501","v":9.3683340388819314E-3},{"$f":"'[1]Class S'!AE$501","v":1.4678071630153333E-2},null,{"$f":"'[1]Class S'!AG$501","v":0.12778859735129933},{"$f":"'[1]Class S'!AH$501","v":0.12102490635865748},{"$f":"'[1]Class S'!AI$501","v":-1.6314672030394384E-2},{"$f":"'[1]Class S'!AJ$501","v":1.6124088038746764E-2},{"$f":"'[1]Class S'!AK$501","v":-3.7405026300408872E-3},{"$f":"'[1]Class S'!AL$501","v":-0.16709586623963013},{"$f":"'[1]Class S'!AM$501","v":-0.16431451612903225},{"$f":"'[1]Class S'!AN$501","v":7.6569096480874066E-3},null,null,{"$f":"'[1]Class S'!AQ$501","v":7.342544477460633E-3}]
[null,"% of Reference Price",null,{"$f":"INDEX(D:D,MATCH(MAX($B$9:$B$544),$B:$B,0),1)*100/150.939","v":100.50417718416048},133.09666455774968,260.31045654204678,108.71741526271977,2980.6743121393411,102.43130592700486,764.54726743916422,111.38936921537841,112.25064430001524,null,null,null,{"$f":"INDEX(P:P,MATCH(MAX($B$9:$B$544),$B:$B,0),1)*100/150.939","v":111.54581457692422},{"$f":"INDEX(Q:Q,MATCH(MAX($B$9:$B$544),$B:$B,0),1)*100/150.939","v":846.69966012760131},null,null,null,{"$f":"INDEX(U:U,MATCH(MAX($B$9:$B$544),$B:$B,0),1)*100/150.939","v":110.6075964462465},112.66550479570945,389.01145495862562,111.50199749567707,111.22282818050653,34005.903046926243,157.01707312225469,null,{"$f":"INDEX(AC:AC,MATCH(MAX($B$9:$B$544),$B:$B,0),1)*100/150.939","v":116.29201200484965},{"$f":"INDEX(AD:AD,MATCH(MAX($B$9:$B$544),$B:$B,0),1)*100/150.939","v":110.13311583796379},{"$f":"INDEX(AE:AE,MATCH(MAX($B$9:$B$544),$B:$B,0),1)*100/150.939","v":462.11383406541717},null,{"$f":"INDEX(AG:AG,MATCH(MAX($B$9:$B$544),$B:$B,0),1)*100/150.939","v":112.22475121208184},497.69112025387744,116.64314723166312,109.80594809823836,112.93303917476597,121.45890577533855,1098.4569925599083,130.78329887101972,107.55338249226509,null,{"$f":"INDEX(AQ:AQ,MATCH(MAX($B$9:$B$544),$B:$B,0),1)*100/150.939","v":110.42584676626448}]
[]
[null,"???","Price not communicated"]

{"sheet":"Class E","index":6,"n_rows":505,"n_cols":44,"rows_kept":505,"cut":false,"hidden":false,"merged":[[3,18,4,24],[5,18,5,24],[7,1,7,2],[7,37,8,40],[8,1,8,2],[8,3,8,8],[9,1,9,2],[10,1,10,2],[12,1,12,40],[505,0,505,2],[505,3,505,5],[505,6,505,8]]}
[null,"EUROPEAN COMMISSION",null,null,null,null,null,null,null,null,null,null,null,null,null,null,null,null,null,null,null,null,null,null,null,null,null,null,null,null,null,null,null,null,null,null,null,null,null,null,null,null,"Week ",{"$f":"[1]COVER!G38","v":19}]
[null,"Directorate-General for Agriculture and Rural Development",null,null,null,null,null,null,null,null,null,null,null,null,null,null,null,null,null,null,null,null,null,null,null,null,null,null,null,null,null,null,null,null,null,null,null,null,null,null,"du / from :"]
[null,"C3. Animal Products"]
[null,null,null,null,null,null,null,null,null,null,null,null,null,null,null,null,null,null,"PIG PRICE\n(CLASS E)"]
[]
[null,null,null,null,null,null,null,null,null,null,null,null,null,null,null,null,null,null,"DG-Agri-C3,  Meat sector"]
[null,null,null,null,null,null,null,null,null,null,null," "]
[null,"PIG",null,null,null,null,null,null,null,null,null,null,null,null,null,null,null,null,null,null,null,null,null,null,null,null,null,null,null,null,null,null,null,null,null,null,null,"€ur per 100 kg carcass"]
[null,"Class E",null,"Country Code/Currency"]
[null,{"$f":"[1]COVER!B22","v":2014},null,"BE","BG","BG","CZ","CZ","DK","DK","DE","EE","GR","ES","FR","HR","HR","IE","IT","CY","LV","LT","LT","LU","HU","HU","MT","NL","AT","PL","PL","PT","RO","RO","SI","SK","FI","SE","SE","UK","UK",null,"EU_28"]
[null,"Weightings from 01/01/2014\nuntil --/--/----",null,{"$f":"VLOOKUP(D$10,'[1]New Pig Coef.'!$A$1:$M$34,13,0)","v":2.0305794997311746},{"$f":"VLOOKUP(E$10,'[1]New Pig Coef.'!$A$1:$M$34,13,0)","v":0.56439342790859282},null,{"$f":"VLOOKUP(G$10,'[1]New Pig Coef.'!$A$1:$M$34,13,0)","v":1.2388241274978522},null,{"$f":"VLOOKUP(I$10,'[1]New Pig Coef.'!$A$1:$M$34,13,0)","v":4.9075573108878734},null,{"$f":"VLOOKUP(K$10,'[1]New Pig Coef.'!$A$1:$M$34,13,0)","v":28.660001511898571},{"$f":"VLOOKUP(L$10,'[1]New Pig Coef.'!$A$1:$M$34,13,0)","v":0.12862094905672103},{"$f":"VLOOKUP(M$10,'[1]New Pig Coef.'!$A$1:$M$34,13,0)","v":0.45422726835892235},{"$f":"VLOOKUP(N$10,'[1]New Pig Coef.'!$A$1:$M$34,13,0)","v":14.95836482671006},{"$f":"VLOOKUP(O$10,'[1]New Pig Coef.'!$A$1:$M$34,13,0)","v":4.3793471788946645},{"$f":"VLOOKUP(P$10,'[1]New Pig Coef.'!$A$1:$M$34,13,0)","v":0.40897268495813943},null,{"$f":"VLOOKUP(R$10,'[1]New Pig Coef.'!$A$1:$M$34,13,0)","v":0.34842941519944803},{"$f":"VLOOKUP(S$10,'[1]New Pig Coef.'!$A$1:$M$34,13,0)","v":8.7613476124456753},{"$f":"VLOOKUP(T$10,'[1]New Pig Coef.'!$A$1:$M$34,13,0)","v":0.28158973416270089},{"$f":"VLOOKUP(U$10,'[1]New Pig Coef.'!$A$1:$M$34,13,0)","v":0.12171728634925612},{"$f":"VLOOKUP(V$10,'[1]New Pig Coef.'!$A$1:$M$34,13,0)","v":0.35316152984631277},null,{"$f":"VLOOKUP(X$10,'[1]New Pig Coef.'!$A$1:$M$34,13,0)","v":7.2327209154287073E-2},{"$f":"VLOOKUP(Y$10,'[1]New Pig Coef.'!$A$1:$M$34,13,0)","v":2.2529886834417998},null,{"$f":"VLOOKUP(AA$10,'[1]New Pig Coef.'!$A$1:$M$34,13,0)","v":4.4549225148028858E-2},{"$f":"VLOOKUP(AB$10,'[1]New Pig Coef.'!$A$1:$M$34,13,0)","v":10.190983853270176},{"$f":"VLOOKUP(AC$10,'[1]New Pig Coef.'!$A$1:$M$34,13,0)","v":1.0210230377791205},{"$f":"VLOOKUP(AD$10,'[1]New Pig Coef.'!$A$1:$M$34,13,0)","v":9.1794959135670329},null,{"$f":"VLOOKUP(AF$10,'[1]New Pig Coef.'!$A$1:$M$34,13,0)","v":1.3439431050243345},{"$f":"VLOOKUP(AG$10,'[1]New Pig Coef.'!$A$1:$M$34,13,0)","v":5.3459070177634631},null,{"$f":"VLOOKUP(AI$10,'[1]New Pig Coef.'!$A$1:$M$34,13,0)","v":0.10224317123953486},{"$f":"VLOOKUP(AJ$10,'[1]New Pig Coef.'!$A$1:$M$34,13,0)","v":0.29691545263722224},{"$f":"VLOOKUP(AK$10,'[1]New Pig Coef.'!$A$1:$M$34,13,0)","v":0.54294470554768715},{"$f":"VLOOKUP(AL$10,'[1]New Pig Coef.'!$A$1:$M$34,13,0)","v":0.99909895744295651},null,{"$f":"VLOOKUP(AN$10,'[1]New Pig Coef.'!$A$1:$M$34,13,0)","v":1.0104453040783994},null,null,{"$f":"SUM(D11:AO11)-S11","v":91.238652387554339}]
[null,"Week beginning","Week N°","EUR","EUR","BGN","EUR","CZK","EUR","DKK","EUR","EUR","EUR","EUR","EUR","EUR","HRK","EUR","EUR","EUR","EUR","EUR","LTL","EUR","EUR","HUF","EUR","EUR","EUR","EUR","PLN","EUR","EUR","RON","EUR","EUR","EUR","EUR","SEK","EUR","GBP",null,"EURO","Compare to previous week"]
[null,"2014"]
[{"$f":"YEAR(B14+3)&TEXT(C14,\"00\")","v":"201401"},"2013-12-30",1,{"$f":"+'[1]Class E'!D14","v":142.70000000000002},{"$f":"+'[1]Class E'!E14","v":205.36353410369159},{"$f":"+'[1]Class E'!F14","v":401.65},{"$f":"+'[1]Class E'!G14","v":164.05},{"$f":"+'[1]Class E'!H14","v":4507},{"$f":"+'[1]Class E'!I14","v":152.43},{"$f":"+'[1]Class E'!J14","v":1137},{"$f":"+'[1]Class E'!K14","v":167.17000000000002},{"$f":"+'[1]Class E'!L14","v":168.07},{"$f":"+'[1]Class E'!M14","v":200.48000000000002},{"$f":"+'[1]Class E'!N14","v":173.93},{"$f":"+'[1]Class E'!O14","v":148},{"$f":"+'[1]Class E'!P14","v":173.03111563871701},{"$f":"+'[1]Class E'!Q14","v":1320},{"$f":"+'[1]Class E'!R14","v":163.43},null,{"$f":"+'[1]Class E'!T14","v":189},{"$f":"+'[1]Class E'!U14","v":165.24},{"$f":"+'[1]Class E'!V14","v":168.52},{"$f":"+'[1]Class E'!W14","v":581.86},{"$f":"+'[1]Class E'!X14","v":151.19999999999999},{"$f":"+'[1]Class E'!Y14","v":159},{"$f":"+'[1]Class E'!Z14","v":47338.42},{"$f":"+'[1]Class E'!AA14","v":237},{"$f":"+'[1]Class E'!AB14","v":140.34},{"$f":"+'[1]Class E'!AC14","v":159.32},{"$f":"+'[1]Class E'!AD14","v":161.82},{"$f":"+'[1]Class E'!AE14","v":672.94},{"$f":"+'[1]Class E'!AF14","v":168},{"$f":"+'[1]Class E'!AG14","v":178.62},{"$f":"+'[1]Class E'!AH14","v":799.96},{"$f":"+'[1]Class E'!AI14","v":166.19},{"$f":"+'[1]Class E'!AJ14","v":168.44},{"$f":"+'[1]Class E'!AK14","v":171.89},{"$f":"+'[1]Class E'!AL14","v":182.59},{"$f":"+'[1]Class E'!AM14","v":1623},{"$f":"+'[1]Class E'!AN14","v":200.17},{"$f":"+'[1]Class E'!AO14","v":166.7},null,{"$f":"+'[1]Class E'!AQ14","v":163.90906540428998}]
[null,{"$f":"B14+7","v":"2014-01-06"},{"$f":"C14+1","v":2},{"$f":"+'[1]Class E'!D15","v":140.69999999999999},{"$f":"+'[1]Class E'!E15","v":207.06104918703346},{"$f":"+'[1]Class E'!F15","v":404.97},{"$f":"+'[1]Class E'!G15","v":160.6004299194812},{"$f":"+'[1]Class E'!H15","v":4408},{"$f":"+'[1]Class E'!I15","v":152.4},{"$f":"+'[1]Class E'!J15","v":1137},{"$f":"+'[1]Class E'!K15","v":155.32},{"$f":"+'[1]Class E'!L15","v":162.9},{"$f":"+'[1]Class E'!M15","v":201.13},{"$f":"+'[1]Class E'!N15","v":173.93},{"$f":"+'[1]Class E'!O15","v":147},{"$f":"+'[1]Class E'!P15","v":168.17438753326135},{"$f":"+'[1]Class E'!Q15","v":1283},{"$f":"+'[1]Class E'!R15","v":159.68},null,{"$f":"+'[1]Class E'!T15","v":189},{"$f":"+'[1]Class E'!U15","v":171.6},{"$f":"+'[1]Class E'!V15","v":167.25},{"$f":"+'[1]Class E'!W15","v":577.47},{"$f":"+'[1]Class E'!X15","v":150.80000000000001},{"$f":"+'[1]Class E'!Y15","v":159.49952561895995},{"$f":"+'[1]Class E'!Z15","v":47792.21},{"$f":"+'[1]Class E'!AA15","v":237},{"$f":"+'[1]Class E'!AB15","v":140.63999999999999},{"$f":"+'[1]Class E'!AC15","v":155.93},{"$f":"+'[1]Class E'!AD15","v":158.07},{"$f":"+'[1]Class E'!AE15","v":659.87},{"$f":"+'[1]Class E'!AF15","v":164},{"$f":"+'[1]Class E'!AG15","v":175.32},{"$f":"+'[1]Class E'!AH15","v":791.32},{"$f":"+'[1]Class E'!AI15","v":159.34},{"$f":"+'[1]Class E'!AJ15","v":172.86},{"$f":"+'[1]Class E'!AK15","v":169.93},{"$f":"+'[1]Class E'!AL15","v":181.96},{"$f":"+'[1]Class E'!AM15","v":1616},{"$f":"+'[1]Class E'!AN15","v":198.33142285847256},{"$f":"+'[1]Class E'!AO15","v":164.37},null,{"$f":"+'[1]Class E'!AQ15","v":159.36550499409751},{"$f":"(AQ15/AQ14)-1","v":-2.7720006815886267E-2}]
[null,"2014-01-13",3,{"$f":"+'[1]Class E'!D16","v":141.4},{"$f":"+'[1]Class E'!E16","v":221.67399529604256},{"$f":"+'[1]Class E'!F16","v":433.55},{"$f":"+'[1]Class E'!G16","v":160.07581003754055},{"$f":"+'[1]Class E'!H16","v":4392},{"$f":"+'[1]Class E'!I16","v":152.3705596875628},{"$f":"+'[1]Class E'!J16","v":1137},{"$f":"+'[1]Class E'!K16","v":156.66},{"$f":"+'[1]Class E'!L16","v":173.5},{"$f":"+'[1]Class E'!M16","v":200.76},{"$f":"+'[1]Class E'!N16","v":173.93},{"$f":"+'[1]Class E'!O16","v":149},{"$f":"+'[1]Class E'!P16","v":171.36681376478785},{"$f":"+'[1]Class E'!Q16","v":1307},{"$f":"+'[1]Class E'!R16","v":155.88},null,{"$f":"+'[1]Class E'!T16","v":189},{"$f":"+'[1]Class E'!U16","v":169.18},{"$f":"+'[1]Class E'!V16","v":162.87360982391104},{"$f":"+'[1]Class E'!W16","v":562.37},{"$f":"+'[1]Class E'!X16","v":151.80000000000001},{"$f":"+'[1]Class E'!Y16","v":158.7493131704623},{"$f":"+'[1]Class E'!Z16","v":47630.01},{"$f":"+'[1]Class E'!AA16","v":237},{"$f":"+'[1]Class E'!AB16","v":140.66},{"$f":"+'[1]Class E'!AC16","v":155.80000000000001},{"$f":"+'[1]Class E'!AD16","v":158.1562011978514},{"$f":"+'[1]Class E'!AE16","v":658.28},{"$f":"+'[1]Class E'!AF16","v":163},{"$f":"+'[1]Class E'!AG16","v":171.97470102501205},{"$f":"+'[1]Class E'!AH16","v":779.21},{"$f":"+'[1]Class E'!AI16","v":159.19999999999999},{"$f":"+'[1]Class E'!AJ16","v":169.34},{"$f":"+'[1]Class E'!AK16","v":168.68},{"$f":"+'[1]Class E'!AL16","v":182.10103377829293},{"$f":"+'[1]Class E'!AM16","v":1607},{"$f":"+'[1]Class E'!AN16","v":195.48734907593996},{"$f":"+'[1]Class E'!AO16","v":162.13999999999999},null,{"$f":"+'[1]Class E'!AQ16","v":159.70439863522574},2.1265181642713404E-3]
[null,"2014-01-20",4,{"$f":"+'[1]Class E'!D17","v":144.5},{"$f":"+'[1]Class E'!E17","v":205.8339298496779},{"$f":"+'[1]Class E'!F17","v":402.57},{"$f":"+'[1]Class E'!G17","v":157.61738624800117},{"$f":"+'[1]Class E'!H17","v":4337},{"$f":"+'[1]Class E'!I17","v":149.82234202223788},{"$f":"+'[1]Class E'!J17","v":1118},{"$f":"+'[1]Class E'!K17","v":160.13},{"$f":"+'[1]Class E'!L17","v":167.09},{"$f":"+'[1]Class E'!M17","v":200.76},{"$f":"+'[1]Class E'!N17","v":173.93},{"$f":"+'[1]Class E'!O17","v":151},{"$f":"+'[1]Class E'!P17","v":167.83180163904382},{"$f":"+'[1]Class E'!Q17","v":1282},{"$f":"+'[1]Class E'!R17","v":156},null,{"$f":"+'[1]Class E'!T17","v":189},{"$f":"+'[1]Class E'!U17","v":167.49},{"$f":"+'[1]Class E'!V17","v":165.09789156626505},{"$f":"+'[1]Class E'!W17","v":570.04999999999995},{"$f":"+'[1]Class E'!X17","v":156.1},{"$f":"+'[1]Class E'!Y17","v":160.71875721494769},{"$f":"+'[1]Class E'!Z17","v":48728.32},{"$f":"+'[1]Class E'!AA17","v":237},{"$f":"+'[1]Class E'!AB17","v":143.43},{"$f":"+'[1]Class E'!AC17","v":158.75},{"$f":"+'[1]Class E'!AD17","v":159.50000513060817},{"$f":"+'[1]Class E'!AE17","v":666.17},{"$f":"+'[1]Class E'!AF17","v":163},{"$f":"+'[1]Class E'!AG17","v":166.12497795025575},{"$f":"+'[1]Class E'!AH17","v":753.41},{"$f":"+'[1]Class E'!AI17","v":162.12},{"$f":"+'[1]Class E'!AJ17","v":167.48},{"$f":"+'[1]Class E'!AK17","v":168.32},{"$f":"+'[1]Class E'!AL17","v":188.90933034126761},{"$f":"+'[1]Class E'!AM17","v":1662},{"$f":"+'[1]Class E'!AN17","v":197.66417038223454},{"$f":"+'[1]Class E'!AO17","v":163.08000000000001},null,{"$f":"+'[1]Class E'!AQ17","v":160.9535309076914},7.8215270408346083E-3]
[null,"2014-01-27",5,{"$f":"+'[1]Class E'!D18","v":149},{"$f":"+'[1]Class E'!E18","v":207.22466509868087},{"$f":"+'[1]Class E'!F18","v":405.29},{"$f":"+'[1]Class E'!G18","v":158.35673610498287},{"$f":"+'[1]Class E'!H18","v":4358},{"$f":"+'[1]Class E'!I18","v":149.82234202223788},{"$f":"+'[1]Class E'!J18","v":1118},{"$f":"+'[1]Class E'!K18","v":162.53},{"$f":"+'[1]Class E'!L18","v":164.71},{"$f":"+'[1]Class E'!M18","v":201.5},{"$f":"+'[1]Class E'!N18","v":172.2},{"$f":"+'[1]Class E'!O18","v":151},{"$f":"+'[1]Class E'!P18","v":167.07099116462263},{"$f":"+'[1]Class E'!Q18","v":1278},{"$f":"+'[1]Class E'!R18","v":156.15},null,{"$f":"+'[1]Class E'!T18","v":197},{"$f":"+'[1]Class E'!U18","v":166.18},{"$f":"+'[1]Class E'!V18","v":166.56626506024097},{"$f":"+'[1]Class E'!W18","v":575.12},{"$f":"+'[1]Class E'!X18","v":156.1},{"$f":"+'[1]Class E'!Y18","v":162.9493859563851},{"$f":"+'[1]Class E'!Z18","v":50287.81},{"$f":"+'[1]Class E'!AA18","v":237},{"$f":"+'[1]Class E'!AB18","v":143.43},{"$f":"+'[1]Class E'!AC18","v":163.35},{"$f":"+'[1]Class E'!AD18","v":161.22856610863789},{"$f":"+'[1]Class E'!AE18","v":680.35},{"$f":"+'[1]Class E'!AF18","v":163},{"$f":"+'[1]Class E'!AG18","v":163.44530642438497},{"$f":"+'[1]Class E'!AH18","v":738.6},{"$f":"+'[1]Class E'!AI18","v":166.08},{"$f":"+'[1]Class E'!AJ18","v":168.4},{"$f":"+'[1]Class E'!AK18","v":168.59},{"$f":"+'[1]Class E'!AL18","v":190.24510264138485},{"$f":"+'[1]Class E'!AM18","v":1679},{"$f":"+'[1]Class E'!AN18","v":197.66417038223454},{"$f":"+'[1]Class E'!AO18","v":163.08000000000001},null,{"$f":"+'[1]Class E'!AQ18","v":161.7158283532568},4.7361337229847589E-3]
[{"$f":"YEAR(B19+3)&TEXT(C19,\"00\")","v":"201406"},"2014-02-03",6,{"$f":"+'[1]Class E'!D19","v":145.4},{"$f":"+'[1]Class E'!E19","v":200.01022599447799},{"$f":"+'[1]Class E'!F19","v":391.18},{"$f":"+'[1]Class E'!G19","v":158.22617236778581},{"$f":"+'[1]Class E'!H19","v":4354},{"$f":"+'[1]Class E'!I19","v":149.82205520021901},{"$f":"+'[1]Class E'!J19","v":1118},{"$f":"+'[1]Class E'!K19","v":157.68},{"$f":"+'[1]Class E'!L19","v":163.27000000000001},{"$f":"+'[1]Class E'!M19","v":200.76},{"$f":"+'[1]Class E'!N19","v":175.74},{"$f":"+'[1]Class E'!O19","v":151},{"$f":"+'[1]Class E'!P19","v":166.26674758414643},{"$f":"+'[1]Class E'!Q19","v":1272},{"$f":"+'[1]Class E'!R19","v":156},null,{"$f":"+'[1]Class E'!T19","v":197},{"$f":"+'[1]Class E'!U19","v":168.59},{"$f":"+'[1]Class E'!V19","v":165.10947636700649},{"$f":"+'[1]Class E'!W19","v":570.09},{"$f":"+'[1]Class E'!X19","v":156},{"$f":"+'[1]Class E'!Y19","v":164.21178294716736},{"$f":"+'[1]Class E'!Z19","v":50835.97},{"$f":"+'[1]Class E'!AA19","v":237},{"$f":"+'[1]Class E'!AB19","v":140.36000000000001},{"$f":"+'[1]Class E'!AC19","v":163.25},{"$f":"+'[1]Class E'!AD19","v":158.75440378598194},{"$f":"+'[1]Class E'!AE19","v":667.56},{"$f":"+'[1]Class E'!AF19","v":165},{"$f":"+'[1]Class E'!AG19","v":159.9235788344655},{"$f":"+'[1]Class E'!AH19","v":715.69},{"$f":"+'[1]Class E'!AI19","v":165.71},{"$f":"+'[1]Class E'!AJ19","v":166.72},{"$f":"+'[1]Class E'!AK19","v":166.85},{"$f":"+'[1]Class E'!AL19","v":180.88001539404385},{"$f":"+'[1]Class E'!AM19","v":1598},{"$f":"+'[1]Class E'!AN19","v":192.61},{"$f":"+'[1]Class E'!AO19","v":159.59},null,{"$f":"+'[1]Class E'!AQ19","v":159.72035764526925},-1.2339365467853858E-2]
[{"$f":"YEAR(B20+3)&TEXT(C20,\"00\")","v":"201407"},"2014-02-10",7,{"$f":"+'[1]Class E'!D20","v":142.19999999999999},{"$f":"+'[1]Class E'!E20","v":214.33684425810412},{"$f":"+'[1]Class E'!F20","v":419.2},{"$f":"+'[1]Class E'!G20","v":157.1513908007168},{"$f":"+'[1]Class E'!H20","v":4322},{"$f":"+'[1]Class E'!I20","v":149.82348932129537},{"$f":"+'[1]Class E'!J20","v":1118},{"$f":"+'[1]Class E'!K20","v":154.93},{"$f":"+'[1]Class E'!L20","v":164.29},{"$f":"+'[1]Class E'!M20","v":199.83},{"$f":"+'[1]Class E'!N20","v":174.6},{"$f":"+'[1]Class E'!O20","v":146},{"$f":"+'[1]Class E'!P20","v":163.84660612791532},{"$f":"+'[1]Class E'!Q20","v":1254},{"$f":"+'[1]Class E'!R20","v":156.47999999999999},null,{"$f":"+'[1]Class E'!T20","v":197},{"$f":"+'[1]Class E'!U20","v":158.63999999999999},{"$f":"+'[1]Class E'!V20","v":162.34070898980536},{"$f":"+'[1]Class E'!W20","v":560.53},{"$f":"+'[1]Class E'!X20","v":150.80000000000001},{"$f":"+'[1]Class E'!Y20","v":157.75012453415002},{"$f":"+'[1]Class E'!Z20","v":48859.27},{"$f":"+'[1]Class E'!AA20","v":237},{"$f":"+'[1]Class E'!AB20","v":136.62},{"$f":"+'[1]Class E'!AC20","v":156.37},{"$f":"+'[1]Class E'!AD20","v":151.02149911248483},{"$f":"+'[1]Class E'!AE20","v":629.6},{"$f":"+'[1]Class E'!AF20","v":165},{"$f":"+'[1]Class E'!AG20","v":155.23904820478828},{"$f":"+'[1]Class E'!AH20","v":695.93},{"$f":"+'[1]Class E'!AI20","v":157.94},{"$f":"+'[1]Class E'!AJ20","v":163.6},{"$f":"+'[1]Class E'!AK20","v":168.2},{"$f":"+'[1]Class E'!AL20","v":180.19636015325671},{"$f":"+'[1]Class E'!AM20","v":1591},{"$f":"+'[1]Class E'!AN20","v":192.73},{"$f":"+'[1]Class E'!AO20","v":159.07},null,{"$f":"+'[1]Class E'!AQ20","v":156.66843518779845},-1.910791149271629E-2]
["201408","2014-02-17",8,{"$f":"+'[1]Class E'!D21","v":140.30000000000001},{"$f":"+'[1]Class E'!E21","v":216.62235402392886},{"$f":"+'[1]Class E'!F21","v":423.67},{"$f":"+'[1]Class E'!G21","v":155.89867133888163},{"$f":"+'[1]Class E'!H21","v":4271},{"$f":"+'[1]Class E'!I21","v":146.47098913384741},{"$f":"+'[1]Class E'!J21","v":1093},{"$f":"+'[1]Class E'!K21","v":153.76},{"$f":"+'[1]Class E'!L21","v":162.26},{"$f":"+'[1]Class E'!M21","v":199.27},{"$f":"+'[1]Class E'!N21","v":172.33},{"$f":"+'[1]Class E'!O21","v":142},{"$f":"+'[1]Class E'!P21","v":160.09498708280054},{"$f":"+'[1]Class E'!Q21","v":1227},{"$f":"+'[1]Class E'!R21","v":156.49},null,{"$f":"+'[1]Class E'!T21","v":197},{"$f":"+'[1]Class E'!U21","v":158.66},{"$f":"+'[1]Class E'!V21","v":155.85032437442078},{"$f":"+'[1]Class E'!W21","v":538.12},{"$f":"+'[1]Class E'!X21","v":150.30000000000001},{"$f":"+'[1]Class E'!Y21","v":154.86444505645827},{"$f":"+'[1]Class E'!Z21","v":48198.239999999998},{"$f":"+'[1]Class E'!AA21","v":237},{"$f":"+'[1]Class E'!AB21","v":131.94},{"$f":"+'[1]Class E'!AC21","v":156.31},{"$f":"+'[1]Class E'!AD21","v":144.47541022992095},{"$f":"+'[1]Class E'!AE21","v":601.35},{"$f":"+'[1]Class E'!AF21","v":158},{"$f":"+'[1]Class E'!AG21","v":151.68257491675917},{"$f":"+'[1]Class E'!AH21","v":683.33},{"$f":"+'[1]Class E'!AI21","v":155.59},{"$f":"+'[1]Class E'!AJ21","v":163.38999999999999},{"$f":"+'[1]Class E'!AK21","v":165.43},{"$f":"+'[1]Class E'!AL21","v":178.11248771775973},{"$f":"+'[1]Class E'!AM21","v":1590},{"$f":"+'[1]Class E'!AN21","v":192.89585382895956},{"$f":"+'[1]Class E'!AO21","v":158.54},null,{"$f":"+'[1]Class E'!AQ21","v":153.85781336991155},-1.7939936749338248E-2]
[null,"2014-02-24",9,{"$f":"+'[1]Class E'!D22","v":137.69999999999999},{"$f":"+'[1]Class E'!E22","v":197.61223028939568},{"$f":"+'[1]Class E'!F22","v":386.49},{"$f":"+'[1]Class E'!G22","v":157.01987170110957},{"$f":"+'[1]Class E'!H22","v":4294},{"$f":"+'[1]Class E'!I22","v":144.05470441506134},{"$f":"+'[1]Class E'!J22","v":1075},{"$f":"+'[1]Class E'!K22","v":151.51},{"$f":"+'[1]Class E'!L22","v":161.29},{"$f":"+'[1]Class E'!M22","v":199.27},{"$f":"+'[1]Class E'!N22","v":172.76},{"$f":"+'[1]Class E'!O22","v":143},{"$f":"+'[1]Class E'!P22","v":159.78814270528341},{"$f":"+'[1]Class E'!Q22","v":1224},{"$f":"+'[1]Class E'!R22","v":151.15},null,{"$f":"+'[1]Class E'!T22","v":197},{"$f":"+'[1]Class E'!U22","v":146.16999999999999},{"$f":"+'[1]Class E'!V22","v":147.96976367006488},{"$f":"+'[1]Class E'!W22","v":510.91},{"$f":"+'[1]Class E'!X22","v":146.80000000000001},{"$f":"+'[1]Class E'!Y22","v":154.9103800496917},{"$f":"+'[1]Class E'!Z22","v":48097.46},{"$f":"+'[1]Class E'!AA22","v":237},{"$f":"+'[1]Class E'!AB22","v":131.9},{"$f":"+'[1]Class E'!AC22","v":156.02000000000001},{"$f":"+'[1]Class E'!AD22","v":135.06240008781981},{"$f":"+'[1]Class E'!AE22","v":562.45000000000005},{"$f":"+'[1]Class E'!AF22","v":158},{"$f":"+'[1]Class E'!AG22","v":148.77949114315399},{"$f":"+'[1]Class E'!AH22","v":670.97},{"$f":"+'[1]Class E'!AI22","v":155.80000000000001},{"$f":"+'[1]Class E'!AJ22","v":162.97999999999999},{"$f":"+'[1]Class E'!AK22","v":166.15},{"$f":"+'[1]Class E'!AL22","v":178.43209823138017},{"$f":"+'[1]Class E'!AM22","v":1591},{"$f":"+'[1]Class E'!AN22","v":191.41744191693201},{"$f":"+'[1]Class E'!AO22","v":157.66999999999999},null,{"$f":"+'[1]Class E'!AQ22","v":151.77285121827592},-1.3551226980087705E-2]
[null,"2014-03-03",10,{"$f":"+'[1]Class E'!D23","v":135.5},{"$f":"+'[1]Class E'!E23","v":208.40576746088561},{"$f":"+'[1]Class E'!F23","v":407.6},{"$f":"+'[1]Class E'!G23","v":154.95510553724489},{"$f":"+'[1]Class E'!H23","v":4238},{"$f":"+'[1]Class E'!I23","v":141.23520504756016},{"$f":"+'[1]Class E'!J23","v":1054},{"$f":"+'[1]Class E'!K23","v":149.63},{"$f":"+'[1]Class E'!L23","v":156.65},{"$f":"+'[1]Class E'!M23","v":195.19},{"$f":"+'[1]Class E'!N23","v":174.65},{"$f":"+'[1]Class E'!O23","v":144},{"$f":"+'[1]Class E'!P23","v":159.78814270528341},{"$f":"+'[1]Class E'!Q23","v":1224},{"$f":"+'[1]Class E'!R23","v":151.44999999999999},null,{"$f":"+'[1]Class E'!T23","v":197},{"$f":"+'[1]Class E'!U23","v":142.9},{"$f":"+'[1]Class E'!V23","v":140.71478220574608},{"$f":"+'[1]Class E'!W23","v":485.86},{"$f":"+'[1]Class E'!X23","v":144.69999999999999},{"$f":"+'[1]Class E'!Y23","v":151.60522925734057},{"$f":"+'[1]Class E'!Z23","v":47074.29},{"$f":"+'[1]Class E'!AA23","v":237},{"$f":"+'[1]Class E'!AB23","v":130.08000000000001},{"$f":"+'[1]Class E'!AC23","v":156.16999999999999},{"$f":"+'[1]Class E'!AD23","v":140.28243824010323},{"$f":"+'[1]Class E'!AE23","v":587.08000000000004},{"$f":"+'[1]Class E'!AF23","v":158},{"$f":"+'[1]Class E'!AG23","v":146.13618853459568},{"$f":"+'[1]Class E'!AH23","v":658.45},{"$f":"+'[1]Class E'!AI23","v":157.06},{"$f":"+'[1]Class E'!AJ23","v":160.87},{"$f":"+'[1]Class E'!AK23","v":164.12},{"$f":"+'[1]Class E'!AL23","v":179.35425369365532},{"$f":"+'[1]Class E'!AM23","v":1588},{"$f":"+'[1]Class E'!AN23","v":190.40339335180059},{"$f":"+'[1]Class E'!AO23","v":157.11000000000001},null,{"$f":"+'[1]Class E'!AQ23","v":151.38687934361707},{"$f":"(AQ23/AQ22)-1","v":-2.5430890410285123E-3}]
[null,"2014-03-10",11,{"$f":"+'[1]Class E'!D24","v":137.5},{"$f":"+'[1]Class E'!E24","v":204.79599141016467},{"$f":"+'[1]Class E'!F24","v":400.54},{"$f":"+'[1]Class E'!G24","v":153.78026168029041},{"$f":"+'[1]Class E'!H24","v":4206},{"$f":"+'[1]Class E'!I24","v":141.22952765250415},{"$f":"+'[1]Class E'!J24","v":1054},{"$f":"+'[1]Class E'!K24","v":156.47},{"$f":"+'[1]Class E'!L24","v":156.32},{"$f":"+'[1]Class E'!M24","v":194.26},{"$f":"+'[1]Class E'!N24","v":173.66},{"$f":"+'[1]Class E'!O24","v":144},{"$f":"+'[1]Class E'!P24","v":157.24555344725613},{"$f":"+'[1]Class E'!Q24","v":1204},{"$f":"+'[1]Class E'!R24","v":151.29},null,{"$f":"+'[1]Class E'!T24","v":197},{"$f":"+'[1]Class E'!U24","v":141.52000000000001},{"$f":"+'[1]Class E'!V24","v":145.61804911955517},{"$f":"+'[1]Class E'!W24","v":502.79},{"$f":"+'[1]Class E'!X24","v":151.19999999999999},{"$f":"+'[1]Class E'!Y24","v":150.90479801209551},{"$f":"+'[1]Class E'!Z24","v":47195.26},{"$f":"+'[1]Class E'!AA24","v":237},{"$f":"+'[1]Class E'!AB24","v":131.66},{"$f":"+'[1]Class E'!AC24","v":156.1},{"$f":"+'[1]Class E'!AD24","v":145.61230119376819},{"$f":"+'[1]Class E'!AE24","v":614.59},{"$f":"+'[1]Class E'!AF24","v":158},{"$f":"+'[1]Class E'!AG24","v":142.18808958337956},{"$f":"+'[1]Class E'!AH24","v":640.6},{"$f":"+'[1]Class E'!AI24","v":157.93},{"$f":"+'[1]Class E'!AJ24","v":158.57},{"$f":"+'[1]Class E'!AK24","v":165.24},{"$f":"+'[1]Class E'!AL24","v":179.04199149139305},{"$f":"+'[1]Class E'!AM24","v":1586},{"$f":"+'[1]Class E'!AN24","v":188.19118062511239},{"$f":"+'[1]Class E'!AO24","v":157.02000000000001},null,{"$f":"+'[1]Class E'!AQ24","v":153.81981579035613},{"$f":"(AQ24/AQ23)-1","v":1.6070986186436986E-2}]
[null,"2014-03-17",12,{"$f":"+'[1]Class E'!D25","v":149.6},{"$f":"+'[1]Class E'!E25","v":205.13344922793743},{"$f":"+'[1]Class E'!F25","v":401.2},{"$f":"+'[1]Class E'!G25","v":152.5431671908521},{"$f":"+'[1]Class E'!H25","v":4185},{"$f":"+'[1]Class E'!I25","v":143.62244751483789},{"$f":"+'[1]Class E'!J25","v":1072},{"$f":"+'[1]Class E'!K25","v":160.84},{"$f":"+'[1]Class E'!L25","v":159.04},{"$f":"+'[1]Class E'!M25","v":192.77},{"$f":"+'[1]Class E'!N25","v":175.05},{"$f":"+'[1]Class E'!O25","v":149},{"$f":"+'[1]Class E'!P25","v":155.35392907431063},{"$f":"+'[1]Class E'!Q25","v":1190},{"$f":"+'[1]Class E'!R25","v":152.35},null,{"$f":"+'[1]Class E'!T25","v":198},{"$f":"+'[1]Class E'!U25","v":149.36000000000001},{"$f":"+'[1]Class E'!V25","v":150.36492122335494},{"$f":"+'[1]Class E'!W25","v":519.17999999999995},{"$f":"+'[1]Class E'!X25","v":157.4},{"$f":"+'[1]Class E'!Y25","v":162.3307425926011},{"$f":"+'[1]Class E'!Z25","v":50693.34},{"$f":"+'[1]Class E'!AA25","v":237},{"$f":"+'[1]Class E'!AB25","v":144.16},{"$f":"+'[1]Class E'!AC25","v":165.01},{"$f":"+'[1]Class E'!AD25","v":157.31965129813059},{"$f":"+'[1]Class E'!AE25","v":662.3},{"$f":"+'[1]Class E'!AF25","v":150},{"$f":"+'[1]Class E'!AG25","v":138.93618643421686},{"$f":"+'[1]Class E'!AH25","v":624.79999999999995},{"$f":"+'[1]Class E'!AI25","v":164.87},{"$f":"+'[1]Class E'!AJ25","v":157.46},{"$f":"+'[1]Class E'!AK25","v":163.65},{"$f":"+'[1]Class E'!AL25","v":186.89175032243585},{"$f":"+'[1]Class E'!AM25","v":1654},{"$f":"+'[1]Class E'!AN25","v":187.94},{"$f":"+'[1]Class E'!AO25","v":157.18},null,{"$f":"+'[1]Class E'!AQ25","v":158.79794971576175},{"$f":"(AQ25/AQ24)-1","v":3.2363411045755131E-2}]
[null,"2014-03-24",13,{"$f":"+'[1]Class E'!D26","v":146},{"$f":"+'[1]Class E'!E26","v":203.2978832191431},{"$f":"+'[1]Class E'!F26","v":397.61},{"$f":"+'[1]Class E'!G26","v":154.96486594887983},{"$f":"+'[1]Class E'!H26","v":4250},{"$f":"+'[1]Class E'!I26","v":146.1447784386219},{"$f":"+'[1]Class E'!J26","v":1091},{"$f":"+'[1]Class E'!K26","v":158.80000000000001},{"$f":"+'[1]Class E'!L26","v":157.99},{"$f":"+'[1]Class E'!M26","v":191.66},{"$f":"+'[1]Class E'!N26","v":178.3},{"$f":"+'[1]Class E'!O26","v":154},{"$f":"+'[1]Class E'!P26","v":156.65358111951363},{"$f":"+'[1]Class E'!Q26","v":1200},{"$f":"+'[1]Class E'!R26","v":152.35},null,{"$f":"+'[1]Class E'!T26","v":198},{"$f":"+'[1]Class E'!U26","v":149.36000000000001},{"$f":"+'[1]Class E'!V26","v":153.19999999999999},{"$f":"+'[1]Class E'!W26","v":553.59},{"$f":"+'[1]Class E'!X26","v":164.09},{"$f":"+'[1]Class E'!Y26","v":159.40746570721836},{"$f":"+'[1]Class E'!Z26","v":49621.95},{"$f":"+'[1]Class E'!AA26","v":237},{"$f":"+'[1]Class E'!AB26","v":139.62},{"$f":"+'[1]Class E'!AC26","v":162.06},{"$f":"+'[1]Class E'!AD26","v":156.75026198205208},{"$f":"+'[1]Class E'!AE26","v":656.02},{"$f":"+'[1]Class E'!AF26","v":167},{"$f":"+'[1]Class E'!AG26","v":139.02519300577737},{"$f":"+'[1]Class E'!AH26","v":621.53},{"$f":"+'[1]Class E'!AI26","v":160.55000000000001},{"$f":"+'[1]Class E'!AJ26","v":158.99},{"$f":"+'[1]Class E'!AK26","v":164.22},{"$f":"+'[1]Class E'!AL26","v":179.89424788142398},{"$f":"+'[1]Class E'!AM26","v":1600},{"$f":"+'[1]Class E'!AN26","v":188.68352342998483},{"$f":"+'[1]Class E'!AO26","v":156.91999999999999},null,{"$f":"+'[1]Class E'!AQ26","v":158.54332072874456},{"$f":"(AQ26/AQ25)-1","v":-1.603477799763553E-3}]
[null,"2014-03-31",14,{"$f":"+'[1]Class E'!D27","v":146},{"$f":"+'[1]Class E'!E27","v":194.29389508129668},{"$f":"+'[1]Class E'!F27","v":380},{"$f":"+'[1]Class E'!G27","v":154.96486594887983},{"$f":"+'[1]Class E'!H27","v":4277},{"$f":"+'[1]Class E'!I27","v":146.14142249165673},{"$f":"+'[1]Class E'!J27","v":1091},{"$f":"+'[1]Class E'!K27","v":161.59},{"$f":"+'[1]Class E'!L27","v":159.03},{"$f":"+'[1]Class E'!M27","v":191.84},{"$f":"+'[1]Class E'!N27","v":185.2},{"$f":"+'[1]Class E'!O27","v":159},{"$f":"+'[1]Class E'!P27","v":157.71980726871217},{"$f":"+'[1]Class E'!Q27","v":1206},{"$f":"+'[1]Class E'!R27","v":155.51},null,{"$f":"+'[1]Class E'!T27","v":198},{"$f":"+'[1]Class E'!U27","v":168.35},{"$f":"+'[1]Class E'!V27","v":161.93524096385542},{"$f":"+'[1]Class E'!W27","v":559.13},{"$f":"+'[1]Class E'!X27","v":157},{"$f":"+'[1]Class E'!Y27","v":159.32114773297641},{"$f":"+'[1]Class E'!Z27","v":48973.5},{"$f":"+'[1]Class E'!AA27","v":237},{"$f":"+'[1]Class E'!AB27","v":142.41999999999999},{"$f":"+'[1]Class E'!AC27","v":162.65},{"$f":"+'[1]Class E'!AD27","v":158.55899353495511},{"$f":"+'[1]Class E'!AE27","v":661.49},{"$f":"+'[1]Class E'!AF27","v":170},{"$f":"+'[1]Class E'!AG27","v":137.97653536501434},{"$f":"+'[1]Class E'!AH27","v":615.74},{"$f":"+'[1]Class E'!AI27","v":159.31},{"$f":"+'[1]Class E'!AJ27","v":158.13},{"$f":"+'[1]Class E'!AK27","v":163.72},{"$f":"+'[1]Class E'!AL27","v":181.37903695036417},{"$f":"+'[1]Class E'!AM27","v":1621},{"$f":"+'[1]Class E'!AN27","v":190.69827630829749},{"$f":"+'[1]Class E'!AO27","v":157.88999999999999},null,{"$f":"+'[1]Class E'!AQ27","v":161.32115832875832},{"$f":"(AQ27/AQ26)-1","v":1.7521000488985639E-2}]
[null,"2014-04-07",15,{"$f":"+'[1]Class E'!D28","v":152.1},{"$f":"+'[1]Class E'!E28","v":190.79660496983334},{"$f":"+'[1]Class E'!F28","v":373.16},{"$f":"+'[1]Class E'!G28","v":157.98984507225623},{"$f":"+'[1]Class E'!H28","v":4334},{"$f":"+'[1]Class E'!I28","v":146.13023711482234},{"$f":"+'[1]Class E'!J28","v":1091},{"$f":"+'[1]Class E'!K28","v":165.49},{"$f":"+'[1]Class E'!L28","v":161.36000000000001},{"$f":"+'[1]Class E'!M28","v":189.99},{"$f":"+'[1]Class E'!N28","v":185.48},{"$f":"+'[1]Class E'!O28","v":157},{"$f":"+'[1]Class E'!P28","v":160.68031694201878},{"$f":"+'[1]Class E'!Q28","v":1226},{"$f":"+'[1]Class E'!R28","v":158.46},null,{"$f":"+'[1]Class E'!T28","v":201},{"$f":"+'[1]Class E'!U28","v":165.54},{"$f":"+'[1]Class E'!V28","v":165.42805838739577},{"$f":"+'[1]Class E'!W28","v":571.19000000000005},{"$f":"+'[1]Class E'!X28","v":161.30000000000001},{"$f":"+'[1]Class E'!Y28","v":164.07955569038342},{"$f":"+'[1]Class E'!Z28","v":50223.58},{"$f":"+'[1]Class E'!AA28","v":237},{"$f":"+'[1]Class E'!AB28","v":147.86000000000001},{"$f":"+'[1]Class E'!AC28","v":166.5},{"$f":"+'[1]Class E'!AD28","v":161.73215141351221},{"$f":"+'[1]Class E'!AE28","v":675.07},{"$f":"+'[1]Class E'!AF28","v":158},{"$f":"+'[1]Class E'!AG28","v":140.57962197453148},{"$f":"+'[1]Class E'!AH28","v":627.20000000000005},{"$f":"+'[1]Class E'!AI28","v":164.47},{"$f":"+'[1]Class E'!AJ28","v":159.84},{"$f":"+'[1]Class E'!AK28","v":161.63},{"$f":"+'[1]Class E'!AL28","v":180.83469236706432},{"$f":"+'[1]Class E'!AM28","v":1630},{"$f":"+'[1]Class E'!AN28","v":190.44780245889598},{"$f":"+'[1]Class E'!AO28","v":157.44999999999999},null,{"$f":"+'[1]Class E'!AQ28","v":163.7451837039157},{"$f":"(AQ28/AQ27)-1","v":1.5026084614501833E-2}]
[null,"2014-04-14",16,{"$f":"+'[1]Class E'!D29","v":153},{"$f":"+'[1]Class E'!E29","v":192.3509561304837},{"$f":"+'[1]Class E'!F29","v":376.2},{"$f":"+'[1]Class E'!G29","v":159.58221122352424},{"$f":"+'[1]Class E'!H29","v":4385},{"$f":"+'[1]Class E'!I29","v":149.8725710043548},{"$f":"+'[1]Class E'!J29","v":1119},{"$f":"+'[1]Class E'!K29","v":163.76},{"$f":"+'[1]Class E'!L29","v":161.68},{"$f":"+'[1]Class E'!M29","v":189.06},{"$f":"+'[1]Class E'!N29","v":185.8},{"$f":"+'[1]Class E'!O29","v":163},{"$f":"+'[1]Class E'!P29","v":159.78560317847038},{"$f":"+'[1]Class E'!Q29","v":1218},{"$f":"+'[1]Class E'!R29","v":160.35},null,{"$f":"+'[1]Class E'!T29","v":201},{"$f":"+'[1]Class E'!U29","v":172.64},{"$f":"+'[1]Class E'!V29","v":163.6468952734013},{"$f":"+'[1]Class E'!W29","v":565.04},{"$f":"+'[1]Class E'!X29","v":160.5},{"$f":"+'[1]Class E'!Y29","v":165.34008907548196},{"$f":"+'[1]Class E'!Z29","v":50859.32},{"$f":"+'[1]Class E'!AA29","v":237},{"$f":"+'[1]Class E'!AB29","v":147.55000000000001},{"$f":"+'[1]Class E'!AC29","v":165.68},{"$f":"+'[1]Class E'!AD29","v":160.83512901642024},{"$f":"+'[1]Class E'!AE29","v":673.89},{"$f":"+'[1]Class E'!AF29","v":180},{"$f":"+'[1]Class E'!AG29","v":146.44029196706734},{"$f":"+'[1]Class E'!AH29","v":654.04},{"$f":"+'[1]Class E'!AI29","v":165.4},{"$f":"+'[1]Class E'!AJ29","v":163.76},{"$f":"+'[1]Class E'!AK29","v":160.57},{"$f":"+'[1]Class E'!AL29","v":180.79074743494883},{"$f":"+'[1]Class E'!AM29","v":1644},{"$f":"+'[1]Class E'!AN29","v":191.08},{"$f":"+'[1]Class E'!AO29","v":157.72999999999999},null,{"$f":"+'[1]Class E'!AQ29","v":164.37427877413086},{"$f":"(AQ29/AQ28)-1","v":3.8419149558175381E-3}]
[null,"2014-04-21",17,{"$f":"+'[1]Class E'!D30","v":149.4},{"$f":"+'[1]Class E'!E30","v":190.2188362818284},{"$f":"+'[1]Class E'!F30","v":372.03},{"$f":"+'[1]Class E'!G30","v":158.34057002605209},{"$f":"+'[1]Class E'!H30","v":4350},{"$f":"+'[1]Class E'!I30","v":149.88432902222144},{"$f":"+'[1]Class E'!J30","v":1119},{"$f":"+'[1]Class E'!K30","v":162.94999999999999},{"$f":"+'[1]Class E'!L30","v":160.91999999999999},{"$f":"+'[1]Class E'!M30","v":189.61},{"$f":"+'[1]Class E'!N30","v":185.88},{"$f":"+'[1]Class E'!O30","v":164},{"$f":"+'[1]Class E'!P30","v":163.50633160553767},{"$f":"+'[1]Class E'!Q30","v":1246},{"$f":"+'[1]Class E'!R30","v":160.61000000000001},null,{"$f":"+'[1]Class E'!T30","v":201},{"$f":"+'[1]Class E'!U30","v":171.91},{"$f":"+'[1]Class E'!V30","v":167.18894810009269},{"$f":"+'[1]Class E'!W30","v":577.27},{"$f":"+'[1]Class E'!X30","v":157.69999999999999},{"$f":"+'[1]Class E'!Y30","v":161.85107684890738},{"$f":"+'[1]Class E'!Z30","v":49878.34},{"$f":"+'[1]Class E'!AA30","v":237},{"$f":"+'[1]Class E'!AB30","v":145.1},{"$f":"+'[1]Class E'!AC30","v":163.44},{"$f":"+'[1]Class E'!AD30","v":160.47208488265983},{"$f":"+'[1]Class E'!AE30","v":673.24},{"$f":"+'[1]Class E'!AF30","v":180},{"$f":"+'[1]Class E'!AG30","v":147.71403223895129},{"$f":"+'[1]Class E'!AH30","v":658.87},{"$f":"+'[1]Class E'!AI30","v":161.86000000000001},{"$f":"+'[1]Class E'!AJ30","v":162.5},{"$f":"+'[1]Class E'!AK30","v":160.88999999999999},{"$f":"+'[1]Class E'!AL30","v":182.56661639014581},{"$f":"+'[1]Class E'!AM30","v":1660},{"$f":"+'[1]Class E'!AN30","v":191.22828331915929},{"$f":"+'[1]Class E'!AO30","v":157.4},null,{"$f":"+'[1]Class E'!AQ30","v":163.76942774729889},{"$f":"(AQ30/AQ29)-1","v":-3.6797182098247116E-3}]
[null,"2014-04-28",18,{"$f":"+'[1]Class E'!D31","v":150.30000000000001},{"$f":"+'[1]Class E'!E31","v":187.64699867062075},{"$f":"+'[1]Class E'!F31","v":372.03},{"$f":"+'[1]Class E'!G31","v":159.67379311780502},{"$f":"+'[1]Class E'!H31","v":4383},{"$f":"+'[1]Class E'!I31","v":149.91559711690471},{"$f":"+'[1]Class E'!J31","v":1119},{"$f":"+'[1]Class E'!K31","v":163.96},{"$f":"+'[1]Class E'!L31","v":160.97999999999999},{"$f":"+'[1]Class E'!M31","v":188.69},{"$f":"+'[1]Class E'!N31","v":185.07},{"$f":"+'[1]Class E'!O31","v":164},{"$f":"+'[1]Class E'!P31","v":163.91256994779735},{"$f":"+'[1]Class E'!Q31","v":1247},{"$f":"+'[1]Class E'!R31","v":162.19},null,{"$f":"+'[1]Class E'!T31","v":201},{"$f":"+'[1]Class E'!U31","v":173.35},{"$f":"+'[1]Class E'!V31","v":166.81823447636702},{"$f":"+'[1]Class E'!W31","v":575.99},{"$f":"+'[1]Class E'!X31","v":159.80000000000001},{"$f":"+'[1]Class E'!Y31","v":163.72743071647048},{"$f":"+'[1]Class E'!Z31","v":50470.15},{"$f":"+'[1]Class E'!AA31","v":237},{"$f":"+'[1]Class E'!AB31","v":147.08000000000001},{"$f":"+'[1]Class E'!AC31","v":163.31},{"$f":"+'[1]Class E'!AD31","v":162.81758885690104},{"$f":"+'[1]Class E'!AE31","v":684.32},{"$f":"+'[1]Class E'!AF31","v":180},{"$f":"+'[1]Class E'!AG31","v":153.97399726219319},{"$f":"+'[1]Class E'!AH31","v":684.52},{"$f":"+'[1]Class E'!AI31","v":162.32},{"$f":"+'[1]Class E'!AJ31","v":161.19},{"$f":"+'[1]Class E'!AK31","v":162.22},{"$f":"+'[1]Class E'!AL31","v":181.53137520901032},{"$f":"+'[1]Class E'!AM31","v":1644},{"$f":"+'[1]Class E'!AN31","v":192.57554306758274},{"$f":"+'[1]Class E'!AO31","v":158.37},null,{"$f":"+'[1]Class E'!AQ31","v":164.85986352233982},{"$f":"(AQ31/AQ30)-1","v":6.6583598052469828E-3}]
[null,"2014-05-05",19,{"$f":"+'[1]Class E'!D32","v":151.69999999999999},{"$f":"+'[1]Class E'!E32","v":199.00807853563762},{"$f":"+'[1]Class E'!F32","v":389.22},159.67379311780502,{"$f":"+'[1]Class E'!H32","v":0},{"$f":"+'[1]Class E'!I32","v":149.91961414790998},{"$f":"+'[1]Class E'!J32","v":1119},{"$f":"+'[1]Class E'!K32","v":164.07},{"$f":"+'[1]Class E'!L32","v":163.01},{"$f":"+'[1]Class E'!M32","v":187.76},{"$f":"+'[1]Class E'!N32","v":185.14},{"$f":"+'[1]Class E'!O32","v":160},{"$f":"+'[1]Class E'!P32","v":166.39000869496479},{"$f":"+'[1]Class E'!Q32","v":1263},{"$f":"+'[1]Class E'!R32","v":163.4},null,{"$f":"+'[1]Class E'!T32","v":201},{"$f":"+'[1]Class E'!U32","v":172.19},{"$f":"+'[1]Class E'!V32","v":167.1599860982391},{"$f":"+'[1]Class E'!W32","v":577.16999999999996},{"$f":"+'[1]Class E'!X32","v":158.69999999999999},{"$f":"+'[1]Class E'!Y32","v":164.79099344927155},{"$f":"+'[1]Class E'!Z32","v":50384.14},{"$f":"+'[1]Class E'!AA32","v":237},{"$f":"+'[1]Class E'!AB32","v":147.15},{"$f":"+'[1]Class E'!AC32","v":163.13999999999999},{"$f":"+'[1]Class E'!AD32","v":163.16420227634086},{"$f":"+'[1]Class E'!AE32","v":684.63},{"$f":"+'[1]Class E'!AF32","v":181},{"$f":"+'[1]Class E'!AG32","v":157.54137755529354},{"$f":"+'[1]Class E'!AH32","v":698.66},{"$f":"+'[1]Class E'!AI32","v":163.81},{"$f":"+'[1]Class E'!AJ32","v":162.36000000000001},{"$f":"+'[1]Class E'!AK32","v":160.55000000000001},{"$f":"+'[1]Class E'!AL32","v":191.17949041970081},{"$f":"+'[1]Class E'!AM32","v":1729},{"$f":"+'[1]Class E'!AN32","v":192.57554306758274},{"$f":"+'[1]Class E'!AO32","v":158.37},null,{"$f":"+'[1]Class E'!AQ32","v":165.2204053036084},{"$f":"(AQ32/AQ31)-1","v":2.1869591152472445E-3}]
[]
[]
[]
[]
[]
[]
[]
[]
[]
[]
[]
[]
[]
[]
[]
[]
[]
[]
[]
[]
[]
[]
[]
[]
[]
[]
[]
[]
[]
[]
[]
[]
[]
[]
[]
[]
[]
[]
[]
[]
[]
[]
[]
[]
[]
[]
[]
[]
[]
[]
[]
[]
[]
[]
[]
[]
[]
[]
[]
[]
[]
[]
[]
[]
[]
[]
[]
[]
[]
[]
[]
[]
[]
[]
[]
[]
[]
[]
[]
[]
[]
[]
[]
[]
[]
[]
[]
[]
[]
[]
[]
[]
[]
[]
[]
[]
[]
[]
[]
[]
[]
[]
[]
[]
[]
[]
[]
[]
[]
[]
[]
[]
[]
[]
[]
[]
[]
[]
[]
[]
[]
[]
[]
[]
[]
[]
[]
[]
[]
[]
[]
[]
[]
[]
[]
[]
[]
[]
[]
[]
[]
[]
[]
[]
[]
[]
[]
[]
[]
[]
[]
[]
[]
[]
[]
[]
[]
[]
[]
[]
[]
[]
[]
[]
[]
[]
[]
[]
[]
[]
[]
[]
[]
[]
[]
[]
[]
[]
[]
[]
[]
[]
[]
[]
[]
[]
[]
[]
[]
[]
[]
[]
[]
[]
[]
[]
[]
[]
[]
[]
[]
[]
[]
[]
[]
[]
[]
[]
[]
[]
[]
[]
[]
[]
[]
[]
[]
[]
[]
[]
[]
[]
[]
[]
[]
[]
[]
[]
[]
[]
[]
[]
[]
[]
[]
[]
[]
[]
[]
[]
[]
[]
[]
[]
[]
[]
[]
[]
[]
[]
[]
[]
[]
[]
[]
[]
[]
[]
[]
[]
[]
[]
[]
[]
[]
[]
[]
[]
[]
[]
[]
[]
[]
[]
[]
[]
[]
[]
[]
[]
[]
[]
[]
[]
[]
[]
[]
[]
[]
[]
[]
[]
[]
[]
[]
[]
[]
[]
[]
[]
[]
[]
[]
[]
[]
[]
[]
[]
[]
[]
[]
[]
[]
[]
[]
[]
[]
[]
[]
[]
[]
[]
[]
[]
[]
[]
[]
[]
[]
[]
[]
[]
[]
[]
[]
[]
[]
[]
[]
[]
[]
[]
[]
[]
[]
[]
[]
[]
[]
[]
[]
[]
[]
[]
[]
[]
[]
[]
[]
[]
[]
[]
[]
[]
[]
[]
[]
[]
[]
[]
[]
[]
[]
[]
[]
[]
[]
[]
[]
[]
[]
[]
[]
[]
[]
[]
[]
[]
[]
[]
[]
[]
[]
[]
[]
[]
[]
[]
[]
[]
[]
[]
[]
[]
[]
[]
[]
[]
[]
[]
[]
[]
[]
[]
[]
[]
[]
[]
[]
[]
[]
[]
[]
[]
[]
[]
[]
[]
[]
[]
[]
[]
[]
[]
[]
[]
[]
[]
[]
[]
[]
[]
[]
[]
[]
[]
[]
[]
[]
[]
[]
[]
[]
[]
[]
[]
[]
[]
[]
[]
[]
[]
[]
[]
[]
[]
[]
[null,null,null,{"$f":"D$10","v":"BE"},{"$f":"E$10","v":"BG"},"BG","CZ","CZ","DK","DK","DE","EE","GR","ES","FR","HR","HR","IE","IT","CY","LV","LT","LT","LU","HU","HU","MT","NL","AT","PL","PL","PT","RO","RO","SI","SK","FI","SE","SE","UK","UK",null,"EU_28"]
[null,"Change 1 week",null,{"$f":"INDEX(D:D,MATCH(MAX($B$13:$B$498),$B:$B,0),1)/INDEX(D:D,MATCH(MAX($B$13:$B$498),$B:$B,0)-1,1)-1","v":9.3147039254821706E-3},6.0544959128065345E-2,4.6205951132973322E-2,0,-1,2.6795284030045607E-5,0,6.7089534032671594E-4,1.261026214436578E-2,-4.9287190630133981E-3,3.7823526233315974E-4,-2.4390243902439046E-2,1.5114391458546761E-2,1.2830793905372895E-2,7.4603859670756556E-3,null,{"$f":"INDEX(T:T,MATCH(MAX($B$13:$B$498),$B:$B,0),1)/INDEX(T:T,MATCH(MAX($B$13:$B$498),$B:$B,0)-1,1)-1","v":0},-6.6916642630515666E-3,2.0486466778935064E-3,2.0486466778937285E-3,-6.8836045056321904E-3,6.4959349092996721E-3,-1.7041756364901683E-3,0,4.7593146586888402E-4,-1.0409650358215172E-3,2.1288450582845897E-3,4.5300444236606729E-4,5.5555555555555358E-3,2.3168719111874791E-2,2.0656810611815457E-2,9.1793987185806447E-3,7.2585147962034302E-3,-1.0294661570706354E-2,5.3148471990486001E-2,{"$f":"INDEX(AM:AM,MATCH(MAX($B$13:$B$498),$B:$B,0),1)/INDEX(AM:AM,MATCH(MAX($B$13:$B$498),$B:$B,0)-1,1)-1","v":5.1703163017031706E-2},0,{"$f":"INDEX(AO:AO,MATCH(MAX($B$13:$B$498),$B:$B,0),1)/INDEX(AO:AO,MATCH(MAX($B$13:$B$498),$B:$B,0)-1,1)-1","v":0},null,{"$f":"INDEX(AQ:AQ,MATCH(MAX($B$9:$B$543),$B:$B,0),1)/INDEX(AQ:AQ,MATCH(MAX($B$9:$B$543),$B:$B,0)-1,1)-1","v":2.1869591152472445E-3}]
[null,"Change 4 weeks",null,{"$f":"'[1]Class E'!D$501","v":-2.629848783694988E-3},{"$f":"'[1]Class E'!E$501","v":4.3037838996677014E-2},{"$f":"'[1]Class E'!F$501","v":4.3037838996677014E-2},{"$f":"'[1]Class E'!G$501","v":1.0658584067720467E-2},{"$f":"'[1]Class E'!H$501","v":-1},{"$f":"'[1]Class E'!I$501","v":2.5931505401651567E-2},{"$f":"'[1]Class E'!J$501","v":2.5664527956003713E-2},{"$f":"'[1]Class E'!K$501","v":-8.5805788869418587E-3},{"$f":"'[1]Class E'!L$501","v":1.0225582548339052E-2},{"$f":"'[1]Class E'!M$501","v":-1.1737459866308808E-2},{"$f":"'[1]Class E'!N$501","v":-1.8330817338796379E-3},{"$f":"'[1]Class E'!O$501","v":1.9108280254777066E-2},{"$f":"'[1]Class E'!P$501","v":3.5534481519639671E-2},{"$f":"'[1]Class E'!Q$501","v":3.0179445350734024E-2},{"$f":"'[1]Class E'!R$501","v":3.1175059952038398E-2},{"$f":"'[1]Class E'!S$501","v":0},{"$f":"'[1]Class E'!T$501","v":0},{"$f":"'[1]Class E'!U$501","v":4.0171559743868546E-2},{"$f":"'[1]Class E'!V$501","v":1.0469370962376656E-2},{"$f":"'[1]Class E'!W$501","v":1.0469370962376656E-2},{"$f":"'[1]Class E'!X$501","v":-1.6119032858028626E-2},{"$f":"'[1]Class E'!Y$501","v":4.3359317734295022E-3},{"$f":"'[1]Class E'!Z$501","v":3.1969047208502133E-3},{"$f":"'[1]Class E'!AA$501","v":0},{"$f":"'[1]Class E'!AB$501","v":-4.8018395779791945E-3},{"$f":"'[1]Class E'!AC$501","v":-2.0180180180180307E-2},{"$f":"'[1]Class E'!AD$501","v":8.8544599840709726E-3},{"$f":"'[1]Class E'!AE$501","v":1.41614943635473E-2},{"$f":"'[1]Class E'!AF$501","v":0.14556962025316467},{"$f":"'[1]Class E'!AG$501","v":0.12065586279521345},{"$f":"'[1]Class E'!AH$501","v":0.11393494897959178},{"$f":"'[1]Class E'!AI$501","v":-4.0128898887334952E-3},{"$f":"'[1]Class E'!AJ$501","v":1.5765765765765938E-2},{"$f":"'[1]Class E'!AK$501","v":-6.6819278599269394E-3},{"$f":"'[1]Class E'!AL$501","v":5.7205826587955144E-2},{"$f":"'[1]Class E'!AM$501","v":6.0736196319018498E-2},{"$f":"'[1]Class E'!AN$501","v":1.1172303283184304E-2},{"$f":"INDEX(AO:AO,MATCH(MAX($B$14:$B$498),$B:$B,0),1)/INDEX(AO:AO,MATCH(MAX($B$14:$B$498),$B:$B,0)-4,1)-1","v":5.8431248015244908E-3},null,{"$f":"'[1]Class E'!AQ$501","v":9.0092518529290011E-3}]
[null,"% of Reference Price",null,{"$f":"INDEX(D:D,MATCH(MAX($B$9:$B$544),$B:$B,0),1)*100/150.939","v":100.50417718416048},131.8466920647663,257.8657603402699,105.78696898601754,0,99.324637203048908,741.35909208355702,108.69954087412796,107.997270420501,124.39462299339469,122.65882243820352,106.00308733991878,110.23659140113872,null,{"$f":"INDEX(R:R,MATCH(MAX($B$9:$B$544),$B:$B,0),1)*100/150.939","v":108.25565294589205},null,{"$f":"INDEX(T:T,MATCH(MAX($B$9:$B$544),$B:$B,0),1)*100/150.939","v":133.16637847077297},{"$f":"INDEX(U:U,MATCH(MAX($B$9:$B$544),$B:$B,0),1)*100/150.939","v":114.07919755662884},{"$f":"INDEX(V:V,MATCH(MAX($B$9:$B$544),$B:$B,0),1)*100/150.939","v":110.7467162881953},null,{"$f":"INDEX(X:X,MATCH(MAX($B$9:$B$544),$B:$B,0),1)*100/150.939","v":105.14181225528193},109.17721294646948,33380.464956041847,157.01707312225469,97.489714387931556,108.08339792896467,108.09943240404459,453.58058553455373,119.91599255328312,104.37420252903063,462.87573125567286,108.5272858572006,107.56663287818259,106.36747295264976,126.66010137850445,1145.4958625669974,127.58501319578289,104.92318088764335,null,{"$f":"INDEX(AQ:AQ,MATCH(MAX($B$9:$B$544),$B:$B,0),1)*100/150.939","v":109.46170658584488}]
[]
[null,"???","Price not communicated"]

{"sheet":"Class R","index":7,"n_rows":504,"n_cols":44,"rows_kept":504,"cut":false,"hidden":false,"merged":[[504,1,504,2],[504,3,504,5],[504,6,504,8],[3,18,4,24],[5,18,5,24],[7,1,7,2],[8,1,8,2],[8,3,8,8],[8,42,9,42],[9,1,9,2],[10,1,10,2],[12,1,12,40],[496,8,497,35],[7,37,8,40]]}
[null,"EUROPEAN COMMISSION",null,null,null,null,null,null,null,null,null,null,null,null,null,null,null,null,null,null,null,null,null,null,null,null,null,null,null,null,null,null,null,null,null,null,null,null,null,null,null,null,"Week ",{"$f":"[1]COVER!G38","v":19}]
[null,"Directorate-General for Agriculture and Rural Development",null,null,null,null,null,null,null,null,null,null,null,null,null,null,null,null,null,null,null,null,null,null,null,null,null,null,null,null,null,null,null,null,null,null,null,null,null,null,"du / from :"]
[null,"C3. Animal Products"]
[null,null,null,null,null,null,null,null,null,null,null,null,null,null,null,null,null,null,"PIG PRICE\n(CLASS R)"]
[]
[null,null,null,null,null,null,null,null,null,null,null,null,null,null,null,null,null,null,"DG-Agri-C3,  Meat sector"]
[null,null,null,null,null,null,null,null,null,null,null," "]
[null,"PIG",null,null,null,null,null,null,null,null,null,null,null,null,null,null,null,null,null,null,null,null,null,null,null,null,null,null,null,null,null,null,null,null,null,null,null,"€ur per 100 kg carcass"]
[null,"Class R",null,"Country Code/Currency",null,null,null,null,null,null,null,null,null,null,null,null,null,null,null,null,null,null,null,null,null,null,null,null,null,null,null,null,null,null,null,null,null,null,null,null,null,null,"Average price"]
[null,{"$f":"[1]COVER!B22","v":2014},null,"BE","BG","BG","CZ","CZ","DK","DK","DE","EE","GR","ES","FR","HR","HR","IE","IT","CY","LV","LT","LT","LU","HU","HU","MT","NL","AT","PL","PL","PT","RO","RO","SI","SK","FI","SE","SE","UK","UK"]
[null,"Weightings from 01/01/2014\nuntil --/--/----",null,0.42988782009528081,8.2871529628974025E-2,null,0.48033676974720013,null,8.7599066987869748E-2,null,3.628696985711434,2.1489319783664935E-3,0.10528596777692355,2.6253147912203879E-2,0.69901537604105335,0.2052074685491545,null,5.2417554602477094E-2,71.165824367256732,5.2920524123985001E-3,9.1014131265837236E-3,7.1476684006706037E-2,null,3.1245692982536382E-3,1.0078699512733567,null,4.9351185875517956E-2,0.93177221942690458,1.3261014808777987E-2,19.479814415350376,null,0.21508046245887649,0.90125558891276902,null,2.1869212656229362E-2,0.16031990268946716,1.501614681187553E-2,0.10663252770585958,null,4.3217666898357862E-2,null,null,{"$f":"SUM(D11:AN11)-D11-E11-G11-I11-K11-M11-N11-O11-P11-R11-T11-Y11-AB11-AC11-AD11-AF11-AG11-AI11-AL11/9","v":71.61436533701378}]
[null,"Week beginning","Week N°","EUR","EUR","BGN","EUR","CZK","EUR","DKK","EUR","EUR","EUR","EUR","EUR","EUR","HRK","EUR","EUR","EUR","EUR","EUR","LTL","EUR","EUR","HUF","EUR","EUR","EUR","EUR","PLN","EUR","EUR","RON","EUR","EUR","EUR","EUR","SEK","EUR","GBP",null,"EURO","Compare to previous week"]
[null,"2014"]
[{"$f":"YEAR(B14+3)&TEXT(C14,\"00\")","v":"201401"},"2013-12-30",1,null,null,null,null,null,null,null,null,163.01,null,null,null,156.25234078890202,1192,null,192.17,null,null,162.42758460000002,560.83000000000004,121.6,148.51707653,44214.67,null,null,null,null,null,null,null,null,null,165.67,126.09,null,null,null,null,null,163.95754316429188]
["201402",{"$f":"B14+7","v":"2014-01-06"},{"$f":"C14+1","v":2},null,null,null,null,null,null,null,null,163.01,null,null,null,152.05166760606639,1160,null,192.17,null,162.56,158.94999999999999,548.82000000000005,119,147.7825427777274,44281.35,null,null,null,null,null,null,null,null,null,184.51,123.56,null,null,184.72079774535234,153.09,null,{"$f":"(SUMPRODUCT(D15:AO15,D$11:AO$11)/$AQ$11)","v":194.22173488834761}]
["201403","2014-01-13",3,null,null,null,null,null,null,null,null,163.01,null,null,null,139.63707472035125,1065,null,191.64,null,156.38999999999999,155.09441612604263,535.51,121.6,147.28176913957046,44189.37,233,null,null,null,null,null,null,null,null,185.57,120.21,null,null,173.9299677913846,144.26,null,193.80363890963309,{"$f":"(AQ16/AQ15)-1","v":-2.1526734840200401E-3}]
["201404","2014-01-20",4,null,null,null,null,null,null,null,null,161.1,null,null,null,null,null,null,191.64,191.56,null,163.22115384615387,563.57000000000005,124.1,149.76638411557104,45407.67,233,null,null,null,null,null,null,null,null,174.2,139.35,null,null,163.20505605817931,134.65,null,193.41301363730841,-2.0155724346684334E-3]
["201405","2014-01-27",5,null,null,null,null,null,null,null,null,161.1,null,null,null,null,null,null,191.64,null,null,159.71095922150141,551.45000000000005]
["201406","2014-02-03",6,null,null,null,null,null,null,null,null,138.22,null,null,null,null,null,null,186.34,null,164.49,150.13322520852643,518.38,134,null,null,233,null,null,null,null,null,null,null,null,181.97,130.03,null,null,168.76,139.83000000000001,null,{"$f":"(SUMPRODUCT(D19:AO19,D$11:AO$11)/$AQ$11)","v":186.05068530784897}]
["201407","2014-02-10",7,null,null,null,null,null,null,null,null,138.22,null,null,null,null,null,null,180.03,null,146.66,155.91693697868399,538.35,134,null,null,233,null,null,null,null,null,null,null,null,168.93,133.54,null,null,168.76,139.83000000000001,null,{"$f":"(SUMPRODUCT(D20:AO20,D$11:AO$11)/$AQ$11)","v":179.75525711897973},-3.3837167428072079E-2]
["201408","2014-02-17",8,null,null,null,null,null,null,null,null,137.27000000000001,null,null,null,null,null,null,178.5,null,146.66,149.53950417052829,516.33000000000004,162.47,null,null,233,null,null,null,null,null,null,null,null,187.77,117.8,null,null,170.41121033987687,140.06,null,178.26956078900508,-8.2651064218459691E-3]
[null,"2014-02-24",9,null,null,null,null,null,null,null,null,137.27000000000001,null,null,null,null,null,null,180.6,null,143.29,141.76031047265988,489.47,115,null,null,233,null,null,null,null,null,null,null,null,181.57,125.38,null,null,128.773058058787,106.07,null,180.30872625040422,1.1438663181610798E-2]
[null,"2014-03-03",10,null,null,null,null,null,null,null,null,140.13,null,null,null,null,null,null,178.54,null,143.91999999999999,131.43825301204819,453.83,114.5,null,null,233,null,null,null,null,null,null,null,null,154.11000000000001,114.85,null,null,145.10214681440445,119.73,null,178.19764328808782,-1.1708157481988057E-2]
[null,"2014-03-10",11,null,null,null,null,null,null,null,null,141.08000000000001,null,null,null,null,null,null,178.63,null,124.74,143.99038461538461,497.17,126.5,null,null,233,null,null,null,null,null,null,null,null,163.16,148.44999999999999,null,null,155.7712886628828,129.97,null,{"$f":"(SUMPRODUCT(D24:AO24,D$11:AO$11)/$AQ$11)","v":178.33146578551674},7.5097793079437203E-4]
[null,"2014-03-17",12,null,null,null,null,null,null,null,null,141.08000000000001,null,null,null,null,null,null,178.63,null,142.28,142.35113531047267,491.51,121.2,null,null,233,null,null,null,null,null,null,null,null,156.99,114.67,null,null,155.94999999999999,130.43,null,{"$f":"(SUMPRODUCT(D25:AO25,D$11:AO$11)/$AQ$11)","v":178.31103992150759},-1.1453875466782559E-4]
[null,"2014-03-24",13,null,null,null,null,null,null,null,null,141.08000000000001,null,null,null,null,null,null,178.33,null,142.28,153.18292400370714,528.91,125.5,null,null,233,null,null,null,null,null,null,null,null,164.79,114.53,null,null,157.10801154321831,130.66,null,{"$f":"(SUMPRODUCT(D26:AO26,D$11:AO$11)/$AQ$11)","v":178.04204847410278},-1.5085518402181419E-3]
[null,"2014-03-31",14,{"$f":"'[1]Class R'!D$27","v":0},{"$f":"'[1]Class R'!E$27","v":0},{"$f":"'[1]Class R'!F$27","v":0},{"$f":"'[1]Class R'!G$27","v":0},{"$f":"'[1]Class R'!H$27","v":0},{"$f":"'[1]Class R'!I$27","v":0},{"$f":"'[1]Class R'!J$27","v":0},{"$f":"'[1]Class R'!K$27","v":0},{"$f":"'[1]Class R'!L$27","v":139.18},{"$f":"'[1]Class R'!M$27","v":0},{"$f":"'[1]Class R'!N$27","v":0},{"$f":"'[1]Class R'!O$27","v":0},{"$f":"'[1]Class R'!P$27","v":0},{"$f":"'[1]Class R'!Q$27","v":0},{"$f":"'[1]Class R'!R$27","v":0},{"$f":"'[1]Class R'!S$27","v":181.58},{"$f":"'[1]Class R'!T$27","v":0},{"$f":"'[1]Class R'!U$27","v":143.18},{"$f":"'[1]Class R'!V$27","v":150.19983781278964},{"$f":"'[1]Class R'!W$27","v":518.61},{"$f":"'[1]Class R'!X$27","v":124.7},{"$f":"'[1]Class R'!Y$27","v":0},{"$f":"'[1]Class R'!Z$27","v":0},{"$f":"'[1]Class R'!AA$27","v":233},{"$f":"'[1]Class R'!AB$27","v":0},{"$f":"'[1]Class R'!AC$27","v":0},{"$f":"'[1]Class R'!AD$27","v":0},{"$f":"'[1]Class R'!AE$27","v":0},{"$f":"'[1]Class R'!AF$27","v":0},{"$f":"'[1]Class R'!AG$27","v":0},{"$f":"'[1]Class R'!AH$27","v":0},{"$f":"'[1]Class R'!AI$27","v":0},{"$f":"'[1]Class R'!AJ$27","v":153.22999999999999},{"$f":"'[1]Class R'!AK$27","v":114.07},{"$f":"'[1]Class R'!AL$27","v":0},{"$f":"'[1]Class R'!AM$27","v":0},{"$f":"'[1]Class R'!AN$27","v":161.44555446279136},{"$f":"'[1]Class R'!AO$27","v":133.66999999999999},{"$f":"'[1]Class R'!AP$27","v":0},{"$f":"'[1]Class R'!AQ27","v":181.24538021673618},1.7991995543116479E-2]
[null,"2014-04-07",15,{"$f":"'[1]Class R'!D28","v":0},{"$f":"'[1]Class R'!E28","v":0},{"$f":"'[1]Class R'!F28","v":0},{"$f":"'[1]Class R'!G28","v":0},{"$f":"'[1]Class R'!H28","v":0},{"$f":"'[1]Class R'!I28","v":0},{"$f":"'[1]Class R'!J28","v":0},{"$f":"'[1]Class R'!K28","v":0},{"$f":"'[1]Class R'!L28","v":139.18},{"$f":"'[1]Class R'!M28","v":0},{"$f":"'[1]Class R'!N28","v":0},{"$f":"'[1]Class R'!O28","v":0},{"$f":"'[1]Class R'!P28","v":0},{"$f":"'[1]Class R'!Q28","v":0},{"$f":"'[1]Class R'!R28","v":0},{"$f":"'[1]Class R'!S28","v":180.3},{"$f":"'[1]Class R'!T28","v":0},{"$f":"'[1]Class R'!U28","v":169.39156},{"$f":"'[1]Class R'!V28","v":146.63171918443004},{"$f":"'[1]Class R'!W28","v":506.29},{"$f":"'[1]Class R'!X28","v":125},{"$f":"'[1]Class R'!Y28","v":0},{"$f":"'[1]Class R'!Z28","v":0},{"$f":"'[1]Class R'!AA28","v":233},{"$f":"'[1]Class R'!AB28","v":0},{"$f":"'[1]Class R'!AC28","v":0},{"$f":"'[1]Class R'!AD28","v":0},{"$f":"'[1]Class R'!AE28","v":0},{"$f":"'[1]Class R'!AF28","v":0},{"$f":"'[1]Class R'!AG28","v":0},{"$f":"'[1]Class R'!AH28","v":0},{"$f":"'[1]Class R'!AI28","v":0},{"$f":"'[1]Class R'!AJ28","v":158.13999999999999},{"$f":"'[1]Class R'!AK28","v":113.04},{"$f":"'[1]Class R'!AL28","v":0},{"$f":"'[1]Class R'!AM28","v":0},{"$f":"'[1]Class R'!AN28","v":156.08373724544896},{"$f":"'[1]Class R'!AO28","v":129.04},{"$f":"'[1]Class R'!AP28","v":0},{"$f":"'[1]Class R'!AQ28","v":179.98072034599633},{"$f":"(AQ28/AQ27)-1","v":-6.9776116181694547E-3}]
[null,"2014-04-14",16,{"$f":"'[1]Class R'!D29","v":0},{"$f":"'[1]Class R'!E29","v":0},{"$f":"'[1]Class R'!F29","v":0},{"$f":"'[1]Class R'!G29","v":0},{"$f":"'[1]Class R'!H29","v":0},{"$f":"'[1]Class R'!I29","v":0},{"$f":"'[1]Class R'!J29","v":0},{"$f":"'[1]Class R'!K29","v":0},{"$f":"'[1]Class R'!L29","v":139.18},{"$f":"'[1]Class R'!M29","v":0},{"$f":"'[1]Class R'!N29","v":0},{"$f":"'[1]Class R'!O29","v":0},{"$f":"'[1]Class R'!P29","v":0},{"$f":"'[1]Class R'!Q29","v":0},{"$f":"'[1]Class R'!R29","v":0},{"$f":"'[1]Class R'!S29","v":178.23},{"$f":"'[1]Class R'!T29","v":0},{"$f":"'[1]Class R'!U29","v":128.58000000000001},{"$f":"'[1]Class R'!V29","v":145.89318813716406},{"$f":"'[1]Class R'!W29","v":503.74},{"$f":"'[1]Class R'!X29","v":128.5},{"$f":"'[1]Class R'!Y29","v":0},{"$f":"'[1]Class R'!Z29","v":0},{"$f":"'[1]Class R'!AA29","v":233},{"$f":"'[1]Class R'!AB29","v":0},{"$f":"'[1]Class R'!AC29","v":0},{"$f":"'[1]Class R'!AD29","v":0},{"$f":"'[1]Class R'!AE29","v":0},{"$f":"'[1]Class R'!AF29","v":0},{"$f":"'[1]Class R'!AG29","v":0},{"$f":"'[1]Class R'!AH29","v":0},{"$f":"'[1]Class R'!AI29","v":0},{"$f":"'[1]Class R'!AJ29","v":149.16999999999999},{"$f":"'[1]Class R'!AK29","v":110.66},{"$f":"'[1]Class R'!AL29","v":0},{"$f":"'[1]Class R'!AM29","v":0},{"$f":"'[1]Class R'!AN29","v":163.72999999999999},{"$f":"'[1]Class R'!AO29","v":135.16},{"$f":"'[1]Class R'!AP29","v":0},{"$f":"'[1]Class R'!AQ29","v":177.90194879387695},{"$f":"(AQ29/AQ28)-1","v":-1.154996795280705E-2}]
[null,"2014-04-21",17,{"$f":"'[1]Class R'!D30","v":0},{"$f":"'[1]Class R'!E30","v":0},{"$f":"'[1]Class R'!F30","v":0},{"$f":"'[1]Class R'!G30","v":0},{"$f":"'[1]Class R'!H30","v":0},{"$f":"'[1]Class R'!I30","v":0},{"$f":"'[1]Class R'!J30","v":0},{"$f":"'[1]Class R'!K30","v":0},{"$f":"'[1]Class R'!L30","v":139.18},{"$f":"'[1]Class R'!M30","v":0},{"$f":"'[1]Class R'!N30","v":0},{"$f":"'[1]Class R'!O30","v":0},{"$f":"'[1]Class R'!P30","v":0},{"$f":"'[1]Class R'!Q30","v":0},{"$f":"'[1]Class R'!R30","v":0},{"$f":"'[1]Class R'!S30","v":179.6},{"$f":"'[1]Class R'!T30","v":0},{"$f":"'[1]Class R'!U30","v":130.44999999999999},{"$f":"'[1]Class R'!V30","v":146.64909638554218},{"$f":"'[1]Class R'!W30","v":506.35},{"$f":"'[1]Class R'!X30","v":128.5},{"$f":"'[1]Class R'!Y30","v":0},{"$f":"'[1]Class R'!Z30","v":0},{"$f":"'[1]Class R'!AA30","v":233},{"$f":"'[1]Class R'!AB30","v":0},{"$f":"'[1]Class R'!AC30","v":0},{"$f":"'[1]Class R'!AD30","v":0},{"$f":"'[1]Class R'!AE30","v":0},{"$f":"'[1]Class R'!AF30","v":0},{"$f":"'[1]Class R'!AG30","v":0},{"$f":"'[1]Class R'!AH30","v":0},{"$f":"'[1]Class R'!AI30","v":0},{"$f":"'[1]Class R'!AJ30","v":147.02000000000001},{"$f":"'[1]Class R'!AK30","v":121.17},{"$f":"'[1]Class R'!AL30","v":0},{"$f":"'[1]Class R'!AM30","v":0},{"$f":"'[1]Class R'!AN30","v":162.43469809257684},{"$f":"'[1]Class R'!AO30","v":133.69999999999999},{"$f":"'[1]Class R'!AP30","v":0},{"$f":"'[1]Class R'!AQ30","v":179.26096915757816},{"$f":"(AQ30/AQ29)-1","v":7.6391538873799014E-3}]
[null,"2014-04-28",18,{"$f":"'[1]Class R'!D31","v":0},{"$f":"'[1]Class R'!E31","v":0},{"$f":"'[1]Class R'!F31","v":0},{"$f":"'[1]Class R'!G31","v":0},{"$f":"'[1]Class R'!H31","v":0},{"$f":"'[1]Class R'!I31","v":0},{"$f":"'[1]Class R'!J31","v":0},{"$f":"'[1]Class R'!K31","v":0},{"$f":"'[1]Class R'!L31","v":139.18},{"$f":"'[1]Class R'!M31","v":0},{"$f":"'[1]Class R'!N31","v":0},{"$f":"'[1]Class R'!O31","v":0},{"$f":"'[1]Class R'!P31","v":0},{"$f":"'[1]Class R'!Q31","v":0},{"$f":"'[1]Class R'!R31","v":0},{"$f":"'[1]Class R'!S31","v":180.61},{"$f":"'[1]Class R'!T31","v":0},{"$f":"'[1]Class R'!U31","v":130.44999999999999},{"$f":"'[1]Class R'!V31","v":149.8262279888786},{"$f":"'[1]Class R'!W31","v":517.32000000000005},{"$f":"'[1]Class R'!X31","v":128},{"$f":"'[1]Class R'!Y31","v":0},{"$f":"'[1]Class R'!Z31","v":0},{"$f":"'[1]Class R'!AA31","v":233},{"$f":"'[1]Class R'!AB31","v":0},{"$f":"'[1]Class R'!AC31","v":0},{"$f":"'[1]Class R'!AD31","v":0},{"$f":"'[1]Class R'!AE31","v":0},{"$f":"'[1]Class R'!AF31","v":0},{"$f":"'[1]Class R'!AG31","v":0},{"$f":"'[1]Class R'!AH31","v":0},{"$f":"'[1]Class R'!AI31","v":0},{"$f":"'[1]Class R'!AJ31","v":148.05000000000001},{"$f":"'[1]Class R'!AK31","v":117.59},{"$f":"'[1]Class R'!AL31","v":0},{"$f":"'[1]Class R'!AM31","v":0},{"$f":"'[1]Class R'!AN31","v":152.3629194062519},{"$f":"'[1]Class R'!AO31","v":125.3},{"$f":"'[1]Class R'!AP31","v":0},{"$f":"'[1]Class R'!AQ31","v":180.26326951642369},{"$f":"(AQ31/AQ30)-1","v":5.591291643438856E-3}]
[null,"2014-05-05",19,null,0,null,0,null,0,null,null,162.06,null,null,null,0,null,null,177.87,null,122.62,148.85020852641335,513.95000000000005,126.6,0,null,null,null,null,0,null,null,0,null,null,157.61000000000001,118.09,0,null,{"$f":"'[1]Class R'!$AN$32","v":152.3629194062519},{"$f":"'[1]Class R'!$AO$32","v":125.3},{"$f":"'[1]Class R'!AP32","v":0},{"$f":"'[1]Class R'!AQ32","v":177.56059352334375},{"$f":"(AQ32/AQ31)-1","v":-1.4992937831041053E-2}]
[]
[]
[]
[]
[]
[]
[]
[]
[]
[]
[]
[]
[]
[]
[]
[]
[]
[]
[]
[]
[]
[]
[]
[]
[]
[]
[]
[]
[]
[]
[]
[]
[]
[]
[]
[]
[]
[]
[]
[]
[]
[]
[]
[]
[]
[]
[]
[]
[]
[]
[]
[]
[]
[]
[]
[]
[]
[]
[]
[]
[]
[]
[]
[]
[]
[]
[]
[]
[]
[]
[]
[]
[]
[]
[]
[]
[]
[]
[]
[]
[]
[]
[]
[]
[]
[]
[]
[]
[]
[]
[]
[]
[]
[]
[]
[]
[]
[]
[]
[]
[]
[]
[]
[]
[]
[]
[]
[]
[]
[]
[]
[]
[]
[]
[]
[]
[]
[]
[]
[]
[]
[]
[]
[]
[]
[]
[]
[]
[]
[]
[]
[]
[]
[]
[]
[]
[]
[]
[]
[]
[]
[]
[]
[]
[]
[]
[]
[]
[]
[]
[]
[]
[]
[]
[]
[]
[]
[]
[]
[]
[]
[]
[]
[]
[]
[]
[]
[]
[]
[]
[]
[]
[]
[]
[]
[]
[]
[]
[]
[]
[]
[]
[]
[]
[]
[]
[]
[]
[]
[]
[]
[]
[]
[]
[]
[]
[]
[]
[]
[]
[]
[]
[]
[]
[]
[]
[]
[]
[]
[]
[]
[]
[]
[]
[]
[]
[]
[]
[]
[]
[]
[]
[]
[]
[]
[]
[]
[]
[]
[]
[]
[]
[]
[]
[]
[]
[]
[]
[]
[]
[]
[]
[]
[]
[]
[]
[]
[]
[]
[]
[]
[]
[]
[]
[]
[]
[]
[]
[]
[]
[]
[]
[]
[]
[]
[]
[]
[]
[]
[]
[]
[]
[]
[]
[]
[]
[]
[]
[]
[]
[]
[]
[]
[]
[]
[]
[]
[]
[]
[]
[]
[]
[]
[]
[]
[]
[]
[]
[]
[]
[]
[]
[]
[]
[]
[]
[]
[]
[]
[]
[]
[]
[]
[]
[]
[]
[]
[]
[]
[]
[]
[]
[]
[]
[]
[]
[]
[]
[]
[]
[]
[]
[]
[]
[]
[]
[]
[]
[]
[]
[]
[]
[]
[]
[]
[]
[]
[]
[]
[]
[]
[]
[]
[]
[]
[]
[]
[]
[]
[]
[]
[]
[]
[]
[]
[]
[]
[]
[]
[]
[]
[]
[]
[]
[]
[]
[]
[]
[]
[]
[]
[]
[]
[]
[]
[]
[]
[]
[]
[]
[]
[]
[]
[]
[]
[]
[]
[]
[]
[]
[]
[]
[]
[]
[]
[]
[]
[]
[]
[]
[]
[]
[]
[]
[]
[]
[]
[]
[]
[]
[]
[]
[]
[]
[]
[]
[]
[]
[]
[]
[]
[]
[]
[]
[]
[]
[]
[]
[]
[]
[]
[]
[]
[]
[]
[]
[]
[]
[]
[]
[]
[]
[]
[]
[]
[]
[]
[]
[]
[]
[]
[]
[]
[]
[null,null,null,null,null,null,null,null,"THE AVERAGE PRICE HAS BEEN CALCULATED ON BASIS OF THE RECEIVED COMMUNICATIONS"]
[]
[null,null,null,{"$f":"D$10","v":"BE"},{"$f":"E$10","v":"BG"},"BG","CZ","CZ","DK","DK","DE","EE","GR","ES","FR","HR","HR","IE","IT","CY","LV","LT","LT","LU","HU","HU","MT","NL","AT","PL","PL","PT","RO","RO","SI","SK","FI","SE","SE","UK","UK"]
[null,"Change 1 week",null,{"$f":"'[1]Class R'!D$500","v":0},{"$f":"'[1]Class R'!E$500","v":0},{"$f":"'[1]Class R'!F$500","v":0},{"$f":"'[1]Class R'!G$500","v":0},{"$f":"'[1]Class R'!H$500","v":0},{"$f":"'[1]Class R'!I$500","v":0},{"$f":"'[1]Class R'!J$500","v":0},{"$f":"'[1]Class R'!K$500","v":0},{"$f":"'[1]Class R'!L$500","v":0.16439143555108493},{"$f":"'[1]Class R'!M$500","v":0},{"$f":"'[1]Class R'!N$500","v":0},{"$f":"'[1]Class R'!O$500","v":0},{"$f":"'[1]Class R'!P$500","v":0},{"$f":"'[1]Class R'!Q$500","v":{"$error":"#DIV/0!"}},{"$f":"'[1]Class R'!R$500","v":0},{"$f":"'[1]Class R'!S$500","v":-1.517081003266707E-2},{"$f":"'[1]Class R'!T$500","v":0},{"$f":"'[1]Class R'!U$500","v":-6.0022997316979576E-2},{"$f":"'[1]Class R'!V$500","v":-6.514343153174007E-3},{"$f":"'[1]Class R'!W$500","v":-6.514343153174007E-3},{"$f":"'[1]Class R'!X$500","v":-1.0937500000000044E-2},{"$f":"'[1]Class R'!Y$500","v":0},{"$f":"'[1]Class R'!Z$500","v":{"$error":"#DIV/0!"}},{"$f":"'[1]Class R'!AA$500","v":0},{"$f":"'[1]Class R'!AB$500","v":0},{"$f":"'[1]Class R'!AC$500","v":0},{"$f":"'[1]Class R'!AD$500","v":0},{"$f":"'[1]Class R'!AE$500","v":0},{"$f":"'[1]Class R'!AF$500","v":0},{"$f":"'[1]Class R'!AG$500","v":0},{"$f":"'[1]Class R'!AH$500","v":{"$error":"#DIV/0!"}},{"$f":"'[1]Class R'!AI$500","v":0},{"$f":"'[1]Class R'!AJ$500","v":6.4572779466396391E-2},{"$f":"'[1]Class R'!AK$500","v":4.2520622501913685E-3},{"$f":"'[1]Class R'!AL$500","v":0},{"$f":"'[1]Class R'!AM$500","v":{"$error":"#DIV/0!"}},{"$f":"'[1]Class R'!AN$500","v":0},{"$f":"'[1]Class R'!AO$500","v":0},null,{"$f":"'[1]Class R'!AQ$500","v":-1.4992937831041053E-2}]
[null,"Change 4 weeks",null,null,null,null,null,null,null,null,null,{"$f":"INDEX(L:L,MATCH(MAX($B$14:$B$498),$B:$B,0),1)/INDEX(L:L,MATCH(MAX($B$14:$B$498),$B:$B,0)-4,1)-1","v":0.16439143555108493},null,null,null,null,null,null,-1.3477537437604048E-2,null,-0.27611505555530624,1.5129668766912241E-2,1.5129668766912241E-2,1.2799999999999923E-2,null,{"$error":"#DIV/0!"},-1,null,null,null,null,null,null,null,null,-3.3514607309976796E-3,4.4674451521585334E-2,null,{"$error":"#DIV/0!"},-2.3838600387597664E-2,null,null,{"$f":"INDEX(AQ:AQ,MATCH(MAX($B$14:$B$498),$B:$B,0),1)/INDEX(AQ:AQ,MATCH(MAX($B$14:$B$498),$B:$B,0)-4,1)-1","v":-1.3446589268006681E-2}]
[null,"% of Reference Price",null,{"$f":"'[1]Class R'!D$501","v":0},{"$f":"'[1]Class R'!E$501","v":0},{"$f":"'[1]Class R'!F$501","v":0},{"$f":"'[1]Class R'!G$501","v":0},{"$f":"'[1]Class R'!H$501","v":0},{"$f":"'[1]Class R'!I$501","v":0},{"$f":"'[1]Class R'!J$501","v":0},{"$f":"'[1]Class R'!K$501","v":0},{"$f":"'[1]Class R'!L$501","v":0.16439143555108493},{"$f":"'[1]Class R'!M$501","v":0},{"$f":"'[1]Class R'!N$501","v":0},{"$f":"'[1]Class R'!O$501","v":0},{"$f":"'[1]Class R'!P$501","v":0},{"$f":"'[1]Class R'!Q$501","v":0},{"$f":"'[1]Class R'!R$501","v":0},{"$f":"'[1]Class R'!S$501","v":-1.3477537437604048E-2},{"$f":"'[1]Class R'!T$501","v":0},{"$f":"'[1]Class R'!U$501","v":-0.27611505555530624},{"$f":"'[1]Class R'!V$501","v":1.5129668766912241E-2},{"$f":"'[1]Class R'!W$501","v":1.5129668766912241E-2},{"$f":"'[1]Class R'!X$501","v":1.2799999999999923E-2},{"$f":"'[1]Class R'!Y$501","v":0},{"$f":"'[1]Class R'!Z$501","v":{"$error":"#DIV/0!"}},{"$f":"'[1]Class R'!AA$501","v":0},{"$f":"'[1]Class R'!AB$501","v":0},{"$f":"'[1]Class R'!AC$501","v":0},{"$f":"'[1]Class R'!AD$501","v":0},{"$f":"'[1]Class R'!AE$501","v":0},{"$f":"'[1]Class R'!AF$501","v":0},{"$f":"'[1]Class R'!AG$501","v":0},{"$f":"'[1]Class R'!AH$501","v":0},{"$f":"'[1]Class R'!AI$501","v":0},{"$f":"'[1]Class R'!AJ$501","v":-3.3514607309976796E-3},{"$f":"'[1]Class R'!AK$501","v":4.4674451521585334E-2},{"$f":"'[1]Class R'!AL$501","v":0},{"$f":"'[1]Class R'!AM$501","v":{"$error":"#DIV/0!"}},{"$f":"'[1]Class R'!AN$501","v":-2.3838600387597664E-2},{"$f":"'[1]Class R'!AO$501","v":0},null,{"$f":"'[1]Class R'!AQ$501","v":-1.3446589268006681E-2}]
[]
[null,"???","Price not communicated"]

{"sheet":"Graphs Prices","index":8,"n_rows":129,"n_cols":2,"rows_kept":129,"cut":false,"hidden":false,"merged":[[128,1,128,3]]}
[]
[null,"GRAPHS"]
[]
[]
[]
[]
[]
[]
[]
[]
[]
[]
[]
[]
[]
[]
[]
[]
[]
[]
[]
[]
[]
[]
[]
[]
[]
[]
[]
[]
[]
[]
[]
[]
[]
[]
[]
[]
[]
[]
[]
[]
[]
[]
[]
[]
[]
[]
[]
[]
[]
[]
[]
[]
[]
[]
[]
[]
[]
[]
[]
[]
[]
[]
[]
[]
[]
[]
[]
[]
[]
[]
[]
[]
[]
[]
[]
[]
[]
[]
[]
[]
[]
[]
[]
[]
[]
[]
[]
[]
[]
[]
[]
[]
[]
[]
[]
[]
[]
[]
[]
[]
[]
[]
[]
[]
[]
[]
[]
[]
[]
[]
[]
[]
[]
[]
[]
[]
[]
[]
[]
[]
[]
[]
[]
[]
[]
[]
[null,"Source:     EU Commission DG AGRI\n"]

{"sheet":"Monthly pig prices-Classe E","index":9,"n_rows":45,"n_cols":17,"rows_kept":45,"cut":false,"hidden":false,"merged":[[0,0,0,16],[2,16,3,16]]}
["Monthly Market Prices for Pig Carcase Grade E in the E.U."]
[]
[null,null,{"$f":"'[1]Monthly Pig Prices - E'!C3","v":2013},{"$f":"'[1]Monthly Pig Prices - E'!D3","v":2013},{"$f":"'[1]Monthly Pig Prices - E'!E3","v":2013},{"$f":"'[1]Monthly Pig Prices - E'!F3","v":2013},{"$f":"'[1]Monthly Pig Prices - E'!G3","v":2013},{"$f":"'[1]Monthly Pig Prices - E'!H3","v":2013},{"$f":"'[1]Monthly Pig Prices - E'!I3","v":2013},{"$f":"'[1]Monthly Pig Prices - E'!J3","v":2013},{"$f":"'[1]Monthly Pig Prices - E'!K3","v":2013},{"$f":"'[1]Monthly Pig Prices - E'!L3","v":2014},{"$f":"'[1]Monthly Pig Prices - E'!M3","v":2014},{"$f":"'[1]Monthly Pig Prices - E'!N3","v":2014},{"$f":"'[1]Monthly Pig Prices - E'!O3","v":2014},null,{"$f":"'[1]Monthly Pig Prices - E'!$Q$3:$Q$4","v":"April 14 /April 13"}]
[null,null,{"$f":"'[1]Monthly Pig Prices - E'!C4","v":"April"},{"$f":"'[1]Monthly Pig Prices - E'!D4","v":"May"},{"$f":"'[1]Monthly Pig Prices - E'!E4","v":"June"},{"$f":"'[1]Monthly Pig Prices - E'!F4","v":"July"},{"$f":"'[1]Monthly Pig Prices - E'!G4","v":"August"},{"$f":"'[1]Monthly Pig Prices - E'!H4","v":"September"},{"$f":"'[1]Monthly Pig Prices - E'!I4","v":"October"},{"$f":"'[1]Monthly Pig Prices - E'!J4","v":"November"},{"$f":"'[1]Monthly Pig Prices - E'!K4","v":"December"},{"$f":"'[1]Monthly Pig Prices - E'!L4","v":"January"},{"$f":"'[1]Monthly Pig Prices - E'!M4","v":"February"},{"$f":"'[1]Monthly Pig Prices - E'!N4","v":"March"},{"$f":"'[1]Monthly Pig Prices - E'!O4","v":"April"},null,{"$f":"'[1]Monthly Pig Prices - E'!Q4","v":0}]
[]
[{"$f":"'[1]Monthly Pig Prices - E'!$A6","v":"Belgique"},"EUR / 100 Kg",{"$f":"'[1]Monthly Pig Prices - E'!C6","v":156.07},{"$f":"'[1]Monthly Pig Prices - E'!D6","v":147.84520000000001},{"$f":"'[1]Monthly Pig Prices - E'!E6","v":153.88},{"$f":"'[1]Monthly Pig Prices - E'!F6","v":163.34520000000001},{"$f":"'[1]Monthly Pig Prices - E'!G6","v":174.5129},{"$f":"'[1]Monthly Pig Prices - E'!H6","v":173.92},{"$f":"'[1]Monthly Pig Prices - E'!I6","v":164.2774},{"$f":"'[1]Monthly Pig Prices - E'!J6","v":154.63999999999999},{"$f":"'[1]Monthly Pig Prices - E'!K6","v":150.4862},{"$f":"'[1]Monthly Pig Prices - E'!L6","v":143.37741935483874},{"$f":"'[1]Monthly Pig Prices - E'!M6","v":142.15357142857144},{"$f":"'[1]Monthly Pig Prices - E'!N6","v":141.98709677419356},{"$f":"'[1]Monthly Pig Prices - E'!O6","v":150.28},null,{"$f":"'[1]Monthly Pig Prices - E'!Q6","v":-3.7098737745883237E-2}]
[{"$f":"'[1]Monthly Pig Prices - E'!$A7","v":"Bulgaria"},"EUR / 100 Kg",{"$f":"'[1]Monthly Pig Prices - E'!C7","v":193.57089999999999},{"$f":"'[1]Monthly Pig Prices - E'!D7","v":186.92740000000001},{"$f":"'[1]Monthly Pig Prices - E'!E7","v":185.83940000000001},{"$f":"'[1]Monthly Pig Prices - E'!F7","v":186.06180000000001},{"$f":"'[1]Monthly Pig Prices - E'!G7","v":202.7953},{"$f":"'[1]Monthly Pig Prices - E'!H7","v":215.30779999999999},{"$f":"'[1]Monthly Pig Prices - E'!I7","v":223.6601},{"$f":"'[1]Monthly Pig Prices - E'!J7","v":211.83799999999999},{"$f":"'[1]Monthly Pig Prices - E'!K7","v":201.0598},{"$f":"'[1]Monthly Pig Prices - E'!L7","v":209.83625214003678},{"$f":"'[1]Monthly Pig Prices - E'!M7","v":210.64471243042672},{"$f":"'[1]Monthly Pig Prices - E'!N7","v":204.54677402861302},{"$f":"'[1]Monthly Pig Prices - E'!O7","v":191.40897160582199},null,{"$f":"'[1]Monthly Pig Prices - E'!Q7","v":-1.1168664268120909E-2}]
[{"$f":"'[1]Monthly Pig Prices - E'!$A8","v":"Bulgaria"},"BGN/ 100 Kg",{"$f":"'[1]Monthly Pig Prices - E'!C8","v":378.58600000000001},{"$f":"'[1]Monthly Pig Prices - E'!D8","v":365.5926},{"$f":"'[1]Monthly Pig Prices - E'!E8","v":363.46469999999999},{"$f":"'[1]Monthly Pig Prices - E'!F8","v":363.8997},{"$f":"'[1]Monthly Pig Prices - E'!G8","v":396.62709999999998},{"$f":"'[1]Monthly Pig Prices - E'!H8","v":421.09899999999999},{"$f":"'[1]Monthly Pig Prices - E'!I8","v":437.43450000000001},{"$f":"'[1]Monthly Pig Prices - E'!J8","v":414.31270000000001},{"$f":"'[1]Monthly Pig Prices - E'!K8","v":393.2328},{"$f":"'[1]Monthly Pig Prices - E'!L8","v":410.39774193548385},{"$f":"'[1]Monthly Pig Prices - E'!M8","v":411.97892857142858},{"$f":"'[1]Monthly Pig Prices - E'!N8","v":400.0525806451613},{"$f":"'[1]Monthly Pig Prices - E'!O8","v":374.86066666666665},null,{"$f":"'[1]Monthly Pig Prices - E'!Q8","v":-9.8401243926964366E-3}]
[{"$f":"'[1]Monthly Pig Prices - E'!$A9","v":"Tchéquie"},"EUR / 100 Kg",{"$f":"'[1]Monthly Pig Prices - E'!C9","v":164.3811},{"$f":"'[1]Monthly Pig Prices - E'!D9","v":166.33160000000001},{"$f":"'[1]Monthly Pig Prices - E'!E9","v":170.74940000000001},{"$f":"'[1]Monthly Pig Prices - E'!F9","v":176.0136},{"$f":"'[1]Monthly Pig Prices - E'!G9","v":183.14949999999999},{"$f":"'[1]Monthly Pig Prices - E'!H9","v":191.73509999999999},{"$f":"'[1]Monthly Pig Prices - E'!I9","v":185.60720000000001},{"$f":"'[1]Monthly Pig Prices - E'!J9","v":171.8741},{"$f":"'[1]Monthly Pig Prices - E'!K9","v":170.26079999999999},{"$f":"'[1]Monthly Pig Prices - E'!L9","v":160.00287303097016},{"$f":"'[1]Monthly Pig Prices - E'!M9","v":158.97572770559961},{"$f":"'[1]Monthly Pig Prices - E'!N9","v":154.28091651135384},{"$f":"'[1]Monthly Pig Prices - E'!O9","v":158.00663197665074},null,{"$f":"'[1]Monthly Pig Prices - E'!Q9","v":-3.8778594518160903E-2}]
[{"$f":"'[1]Monthly Pig Prices - E'!$A10","v":"Tchéquie"},"CZK/ 100kg",{"$f":"'[1]Monthly Pig Prices - E'!C10","v":4245.3333000000002},{"$f":"'[1]Monthly Pig Prices - E'!D10","v":4303.0968000000003},{"$f":"'[1]Monthly Pig Prices - E'!E10","v":4398.3666999999996},{"$f":"'[1]Monthly Pig Prices - E'!F10","v":4566.4516000000003},{"$f":"'[1]Monthly Pig Prices - E'!G10","v":4729.4516000000003},{"$f":"'[1]Monthly Pig Prices - E'!H10","v":4942.4332999999997},{"$f":"'[1]Monthly Pig Prices - E'!I10","v":4763.6773999999996},{"$f":"'[1]Monthly Pig Prices - E'!J10","v":4613.1333000000004},{"$f":"'[1]Monthly Pig Prices - E'!K10","v":4679.0909000000001},{"$f":"'[1]Monthly Pig Prices - E'!L10","v":4396.2580645161288},{"$f":"'[1]Monthly Pig Prices - E'!M10","v":4364.4107142857138},{"$f":"'[1]Monthly Pig Prices - E'!N10","v":4226.3870967741932},{"$f":"'[1]Monthly Pig Prices - E'!O10","v":4343.1333333333332},null,{"$f":"'[1]Monthly Pig Prices - E'!Q10","v":2.3037068334147648E-2}]
[{"$f":"'[1]Monthly Pig Prices - E'!$A11","v":"Danemark"},"EUR / 100 Kg",{"$f":"'[1]Monthly Pig Prices - E'!C11","v":154.38740000000001},{"$f":"'[1]Monthly Pig Prices - E'!D11","v":150.92760000000001},{"$f":"'[1]Monthly Pig Prices - E'!E11","v":154.15950000000001},{"$f":"'[1]Monthly Pig Prices - E'!F11","v":159.74719999999999},{"$f":"'[1]Monthly Pig Prices - E'!G11","v":165.69460000000001},{"$f":"'[1]Monthly Pig Prices - E'!H11","v":169.39359999999999},{"$f":"'[1]Monthly Pig Prices - E'!I11","v":166.7766},{"$f":"'[1]Monthly Pig Prices - E'!J11","v":162.94210000000001},{"$f":"'[1]Monthly Pig Prices - E'!K11","v":158.4008},{"$f":"'[1]Monthly Pig Prices - E'!L11","v":151.4003878090256},{"$f":"'[1]Monthly Pig Prices - E'!M11","v":150.29992916116009},{"$f":"'[1]Monthly Pig Prices - E'!N11","v":143.22175941601446},{"$f":"'[1]Monthly Pig Prices - E'!O11","v":148.2601762096815},null,{"$f":"'[1]Monthly Pig Prices - E'!Q11","v":-3.9687330639148755E-2}]
[{"$f":"'[1]Monthly Pig Prices - E'!$A12","v":"Danemark"},"DKK / 100 Kg",{"$f":"'[1]Monthly Pig Prices - E'!C12","v":1151},{"$f":"'[1]Monthly Pig Prices - E'!D12","v":1125},{"$f":"'[1]Monthly Pig Prices - E'!E12","v":1149.6333},{"$f":"'[1]Monthly Pig Prices - E'!F12","v":1191.3870999999999},{"$f":"'[1]Monthly Pig Prices - E'!G12","v":1235.6774},{"$f":"'[1]Monthly Pig Prices - E'!H12","v":1263.3333},{"$f":"'[1]Monthly Pig Prices - E'!I12","v":1244},{"$f":"'[1]Monthly Pig Prices - E'!J12","v":1215.3333},{"$f":"'[1]Monthly Pig Prices - E'!K12","v":1181.6896999999999},{"$f":"'[1]Monthly Pig Prices - E'!L12","v":949.32258064516134},{"$f":"'[1]Monthly Pig Prices - E'!M12","v":1104.0714285714287},{"$f":"'[1]Monthly Pig Prices - E'!N12","v":1068.9677419354839},{"$f":"'[1]Monthly Pig Prices - E'!O12","v":1106.8666666666666},null,{"$f":"'[1]Monthly Pig Prices - E'!Q12","v":-3.8343469446857847E-2}]
[{"$f":"'[1]Monthly Pig Prices - E'!$A13","v":"Allemagne"},"EUR / 100 Kg",{"$f":"'[1]Monthly Pig Prices - E'!C13","v":171.428},{"$f":"'[1]Monthly Pig Prices - E'!D13","v":163.529},{"$f":"'[1]Monthly Pig Prices - E'!E13","v":170.816},{"$f":"'[1]Monthly Pig Prices - E'!F13","v":177.84190000000001},{"$f":"'[1]Monthly Pig Prices - E'!G13","v":189.82060000000001},{"$f":"'[1]Monthly Pig Prices - E'!H13","v":185.86369999999999},{"$f":"'[1]Monthly Pig Prices - E'!I13","v":177.27289999999999},{"$f":"'[1]Monthly Pig Prices - E'!J13","v":169.1833},{"$f":"'[1]Monthly Pig Prices - E'!K13","v":170.17670000000001},{"$f":"'[1]Monthly Pig Prices - E'!L13","v":159.78290322580645},{"$f":"'[1]Monthly Pig Prices - E'!M13","v":157.43535714285713},{"$f":"'[1]Monthly Pig Prices - E'!N13","v":156.28354838709677},{"$f":"'[1]Monthly Pig Prices - E'!O13","v":163.56066666666666},null,{"$f":"'[1]Monthly Pig Prices - E'!Q13","v":-4.5892930754213634E-2}]
[{"$f":"'[1]Monthly Pig Prices - E'!$A14","v":"Estonie"},"EUR / 100 Kg",{"$f":"'[1]Monthly Pig Prices - E'!C14","v":169.66800000000001},{"$f":"'[1]Monthly Pig Prices - E'!D14","v":172.58680000000001},{"$f":"'[1]Monthly Pig Prices - E'!E14","v":170.1533},{"$f":"'[1]Monthly Pig Prices - E'!F14","v":173.75},{"$f":"'[1]Monthly Pig Prices - E'!G14","v":175.7277},{"$f":"'[1]Monthly Pig Prices - E'!H14","v":181.22370000000001},{"$f":"'[1]Monthly Pig Prices - E'!I14","v":180.46420000000001},{"$f":"'[1]Monthly Pig Prices - E'!J14","v":175.56200000000001},{"$f":"'[1]Monthly Pig Prices - E'!K14","v":171.1327},{"$f":"'[1]Monthly Pig Prices - E'!L14","v":167.36548387096775},{"$f":"'[1]Monthly Pig Prices - E'!M14","v":166.18142857142857},{"$f":"'[1]Monthly Pig Prices - E'!N14","v":157.79387096774192},{"$f":"'[1]Monthly Pig Prices - E'!O14","v":160.82799999999997},null,{"$f":"'[1]Monthly Pig Prices - E'!Q14","v":-5.210175165617581E-2}]
[{"$f":"'[1]Monthly Pig Prices - E'!$A15","v":"Greece"},"EUR / 100 Kg",{"$f":"'[1]Monthly Pig Prices - E'!C15","v":193.6233},{"$f":"'[1]Monthly Pig Prices - E'!D15","v":191.0316},{"$f":"'[1]Monthly Pig Prices - E'!E15","v":189.9727},{"$f":"'[1]Monthly Pig Prices - E'!F15","v":195.77680000000001},{"$f":"'[1]Monthly Pig Prices - E'!G15","v":199.9658},{"$f":"'[1]Monthly Pig Prices - E'!H15","v":202.256},{"$f":"'[1]Monthly Pig Prices - E'!I15","v":201.18350000000001},{"$f":"'[1]Monthly Pig Prices - E'!J15","v":199.35499999999999},{"$f":"'[1]Monthly Pig Prices - E'!K15","v":200.38339999999999},{"$f":"'[1]Monthly Pig Prices - E'!L15","v":200.91774193548386},{"$f":"'[1]Monthly Pig Prices - E'!M15","v":199.94178571428574},{"$f":"'[1]Monthly Pig Prices - E'!N15","v":193.7858064516129},{"$f":"'[1]Monthly Pig Prices - E'!O15","v":189.92433333333332},null,{"$f":"'[1]Monthly Pig Prices - E'!Q15","v":-1.9103933600277845E-2}]
[{"$f":"'[1]Monthly Pig Prices - E'!$A16","v":"Espagne"},"EUR / 100 Kg",{"$f":"'[1]Monthly Pig Prices - E'!C16","v":192.64699999999999},{"$f":"'[1]Monthly Pig Prices - E'!D16","v":185.5848},{"$f":"'[1]Monthly Pig Prices - E'!E16","v":191.535},{"$f":"'[1]Monthly Pig Prices - E'!F16","v":203.76},{"$f":"'[1]Monthly Pig Prices - E'!G16","v":213.2561},{"$f":"'[1]Monthly Pig Prices - E'!H16","v":214.03},{"$f":"'[1]Monthly Pig Prices - E'!I16","v":197.60810000000001},{"$f":"'[1]Monthly Pig Prices - E'!J16","v":184.0027},{"$f":"'[1]Monthly Pig Prices - E'!K16","v":179.0669},{"$f":"'[1]Monthly Pig Prices - E'!L16","v":173.65096774193549},{"$f":"'[1]Monthly Pig Prices - E'!M16","v":173.81750000000002},{"$f":"'[1]Monthly Pig Prices - E'!N16","v":175.55935483870968},{"$f":"'[1]Monthly Pig Prices - E'!O16","v":185.63200000000001},null,{"$f":"'[1]Monthly Pig Prices - E'!Q16","v":-3.6413751576718001E-2}]
[{"$f":"'[1]Monthly Pig Prices - E'!$A17","v":"France"},"EUR / 100 Kg",{"$f":"'[1]Monthly Pig Prices - E'!C17","v":159.30000000000001},{"$f":"'[1]Monthly Pig Prices - E'!D17","v":153.77420000000001},{"$f":"'[1]Monthly Pig Prices - E'!E17","v":163.63329999999999},{"$f":"'[1]Monthly Pig Prices - E'!F17","v":172.5806},{"$f":"'[1]Monthly Pig Prices - E'!G17","v":180.03229999999999},{"$f":"'[1]Monthly Pig Prices - E'!H17","v":185.3},{"$f":"'[1]Monthly Pig Prices - E'!I17","v":166.25810000000001},{"$f":"'[1]Monthly Pig Prices - E'!J17","v":156.1},{"$f":"'[1]Monthly Pig Prices - E'!K17","v":153.03450000000001},{"$f":"'[1]Monthly Pig Prices - E'!L17","v":149.16129032258064},{"$f":"'[1]Monthly Pig Prices - E'!M17","v":146.07142857142858},{"$f":"'[1]Monthly Pig Prices - E'!N17","v":147.80645161290323},{"$f":"'[1]Monthly Pig Prices - E'!O17","v":161.13333333333333},null,{"$f":"'[1]Monthly Pig Prices - E'!Q17","v":1.1508683825067978E-2}]
[{"$f":"'[1]Monthly Pig Prices - E'!$A18","v":"Croatia"},"EUR / 100kg",null,null,null,null,null,null,{"$f":"'[1]Monthly Pig Prices - E'!I18","v":177.3391},{"$f":"'[1]Monthly Pig Prices - E'!J18","v":170.26859999999999},{"$f":"'[1]Monthly Pig Prices - E'!K18","v":171.7646},{"$f":"'[1]Monthly Pig Prices - E'!L18","v":169.42327595407579},{"$f":"'[1]Monthly Pig Prices - E'!M18","v":164.46079308134193},{"$f":"'[1]Monthly Pig Prices - E'!N18","v":157.43821087431698},{"$f":"'[1]Monthly Pig Prices - E'!O18","v":160.86207718459508}]
[{"$f":"'[1]Monthly Pig Prices - E'!$A19","v":"Croatia"},"HRK / 100kg",null,null,null,null,null,null,{"$f":"'[1]Monthly Pig Prices - E'!I19","v":1351.0323000000001},{"$f":"'[1]Monthly Pig Prices - E'!J19","v":1299.4000000000001},{"$f":"'[1]Monthly Pig Prices - E'!K19","v":1311.1034},{"$f":"'[1]Monthly Pig Prices - E'!L19","v":1293.3548387096773},{"$f":"'[1]Monthly Pig Prices - E'!M19","v":1259.1428571428571},{"$f":"'[1]Monthly Pig Prices - E'!N19","v":1205.8064516129032},{"$f":"'[1]Monthly Pig Prices - E'!O19","v":1226.9000000000001}]
[{"$f":"'[1]Monthly Pig Prices - E'!$A20","v":"Irlande"},"EUR / 100 Kg",{"$f":"'[1]Monthly Pig Prices - E'!C20","v":166.29669999999999},{"$f":"'[1]Monthly Pig Prices - E'!D20","v":161.29650000000001},{"$f":"'[1]Monthly Pig Prices - E'!E20","v":160.90600000000001},{"$f":"'[1]Monthly Pig Prices - E'!F20","v":161.5258},{"$f":"'[1]Monthly Pig Prices - E'!G20","v":162.1652},{"$f":"'[1]Monthly Pig Prices - E'!H20","v":165.84299999999999},{"$f":"'[1]Monthly Pig Prices - E'!I20","v":172.22059999999999},{"$f":"'[1]Monthly Pig Prices - E'!J20","v":171.4263},{"$f":"'[1]Monthly Pig Prices - E'!K20","v":165.8903},{"$f":"'[1]Monthly Pig Prices - E'!L20","v":158.02645161290323},{"$f":"'[1]Monthly Pig Prices - E'!M20","v":155.38714285714286},{"$f":"'[1]Monthly Pig Prices - E'!N20","v":151.93193548387094},{"$f":"'[1]Monthly Pig Prices - E'!O20","v":159.18566666666666},null,{"$f":"'[1]Monthly Pig Prices - E'!Q20","v":-4.2761121136699165E-2}]
[{"$f":"'[1]Monthly Pig Prices - E'!$A21","v":"Italie"},"EUR / 100 Kg",{"$f":"'[1]Monthly Pig Prices - E'!C21","v":166.4323},{"$f":"'[1]Monthly Pig Prices - E'!D21","v":163.7277},{"$f":"'[1]Monthly Pig Prices - E'!E21","v":173.8237},{"$f":"'[1]Monthly Pig Prices - E'!F21","v":195.59389999999999},{"$f":"'[1]Monthly Pig Prices - E'!G21","v":208.98259999999999},{"$f":"'[1]Monthly Pig Prices - E'!H21","v":220.93},{"$f":"'[1]Monthly Pig Prices - E'!I21","v":192.0077},{"$f":"'[1]Monthly Pig Prices - E'!J21","v":185.5763},{"$f":"'[1]Monthly Pig Prices - E'!K21","v":193.48830000000001},{"$f":"'[1]Monthly Pig Prices - E'!L21","v":0},{"$f":"'[1]Monthly Pig Prices - E'!M21","v":0},{"$f":"'[1]Monthly Pig Prices - E'!N21","v":0},{"$f":"'[1]Monthly Pig Prices - E'!O21","v":0},null,{"$f":"'[1]Monthly Pig Prices - E'!Q21","v":0}]
[{"$f":"'[1]Monthly Pig Prices - E'!$A22","v":"Chypre"},"EUR / 100 Kg",{"$f":"'[1]Monthly Pig Prices - E'!C22","v":205.8},{"$f":"'[1]Monthly Pig Prices - E'!D22","v":209.83869999999999},{"$f":"'[1]Monthly Pig Prices - E'!E22","v":209},{"$f":"'[1]Monthly Pig Prices - E'!F22","v":209.45160000000001},{"$f":"'[1]Monthly Pig Prices - E'!G22","v":209.4194},{"$f":"'[1]Monthly Pig Prices - E'!H22","v":210},{"$f":"'[1]Monthly Pig Prices - E'!I22","v":203.7097},{"$f":"'[1]Monthly Pig Prices - E'!J22","v":194.73330000000001},{"$f":"'[1]Monthly Pig Prices - E'!K22","v":190.27590000000001},{"$f":"'[1]Monthly Pig Prices - E'!L22","v":190.29032258064515},{"$f":"'[1]Monthly Pig Prices - E'!M22","v":197},{"$f":"'[1]Monthly Pig Prices - E'!N22","v":197.48387096774192},{"$f":"'[1]Monthly Pig Prices - E'!O22","v":200.4},null,{"$f":"'[1]Monthly Pig Prices - E'!Q22","v":-2.6239067055393583E-2}]
[{"$f":"'[1]Monthly Pig Prices - E'!$A23","v":"Lettonie"},"EUR / 100 Kg",{"$f":"'[1]Monthly Pig Prices - E'!C23","v":177.1919},{"$f":"'[1]Monthly Pig Prices - E'!D23","v":177.82069999999999},{"$f":"'[1]Monthly Pig Prices - E'!E23","v":179.47790000000001},{"$f":"'[1]Monthly Pig Prices - E'!F23","v":190.1635},{"$f":"'[1]Monthly Pig Prices - E'!G23","v":198.9487},{"$f":"'[1]Monthly Pig Prices - E'!H23","v":199.1645},{"$f":"'[1]Monthly Pig Prices - E'!I23","v":189.68620000000001},{"$f":"'[1]Monthly Pig Prices - E'!J23","v":183.08500000000001},{"$f":"'[1]Monthly Pig Prices - E'!K23","v":182.42859999999999},{"$f":"'[1]Monthly Pig Prices - E'!L23","v":168.22548387096774},{"$f":"'[1]Monthly Pig Prices - E'!M23","v":160.54678571428573},{"$f":"'[1]Monthly Pig Prices - E'!N23","v":146.53774193548387},{"$f":"'[1]Monthly Pig Prices - E'!O23","v":170.02599999999998},null,{"$f":"'[1]Monthly Pig Prices - E'!Q23","v":-4.0441464875087485E-2}]
[{"$f":"'[1]Monthly Pig Prices - E'!$A24","v":"Lituanie"},"EUR / 100 Kg",{"$f":"'[1]Monthly Pig Prices - E'!C24","v":175.2398},{"$f":"'[1]Monthly Pig Prices - E'!D24","v":172.08320000000001},{"$f":"'[1]Monthly Pig Prices - E'!E24","v":176.44630000000001},{"$f":"'[1]Monthly Pig Prices - E'!F24","v":183.64230000000001},{"$f":"'[1]Monthly Pig Prices - E'!G24","v":192.13040000000001},{"$f":"'[1]Monthly Pig Prices - E'!H24","v":189.91290000000001},{"$f":"'[1]Monthly Pig Prices - E'!I24","v":180.68260000000001},{"$f":"'[1]Monthly Pig Prices - E'!J24","v":175.2405},{"$f":"'[1]Monthly Pig Prices - E'!K24","v":175.62870000000001},{"$f":"'[1]Monthly Pig Prices - E'!L24","v":165.64802834165445},{"$f":"'[1]Monthly Pig Prices - E'!M24","v":160.87362844234082},{"$f":"'[1]Monthly Pig Prices - E'!N24","v":147.97287213369606},{"$f":"'[1]Monthly Pig Prices - E'!O24","v":164.86378205128207},null,{"$f":"'[1]Monthly Pig Prices - E'!Q24","v":-5.9210395975788255E-2}]
[{"$f":"'[1]Monthly Pig Prices - E'!$A25","v":"Lituanie"},"LTL / 100 Kg",{"$f":"'[1]Monthly Pig Prices - E'!C25","v":605.06799999999998},{"$f":"'[1]Monthly Pig Prices - E'!D25","v":594.16899999999998},{"$f":"'[1]Monthly Pig Prices - E'!E25","v":609.2337},{"$f":"'[1]Monthly Pig Prices - E'!F25","v":634.08000000000004},{"$f":"'[1]Monthly Pig Prices - E'!G25","v":663.3877},{"$f":"'[1]Monthly Pig Prices - E'!H25","v":655.73130000000003},{"$f":"'[1]Monthly Pig Prices - E'!I25","v":623.86099999999999},{"$f":"'[1]Monthly Pig Prices - E'!J25","v":605.07029999999997},{"$f":"'[1]Monthly Pig Prices - E'!K25","v":606.41070000000002},{"$f":"'[1]Monthly Pig Prices - E'!L25","v":571.946129032258},{"$f":"'[1]Monthly Pig Prices - E'!M25","v":555.46446428571426},{"$f":"'[1]Monthly Pig Prices - E'!N25","v":516.48032258064518},{"$f":"'[1]Monthly Pig Prices - E'!O25","v":569.24166666666667},null,{"$f":"'[1]Monthly Pig Prices - E'!Q25","v":-5.9210424833792796E-2}]
[{"$f":"'[1]Monthly Pig Prices - E'!$A26","v":"Luxembourg"},"EUR / 100 Kg",{"$f":"'[1]Monthly Pig Prices - E'!C26","v":171.07329999999999},{"$f":"'[1]Monthly Pig Prices - E'!D26","v":163.28389999999999},{"$f":"'[1]Monthly Pig Prices - E'!E26","v":166.9067},{"$f":"'[1]Monthly Pig Prices - E'!F26","v":173.7645},{"$f":"'[1]Monthly Pig Prices - E'!G26","v":186.1},{"$f":"'[1]Monthly Pig Prices - E'!H26","v":182.3167},{"$f":"'[1]Monthly Pig Prices - E'!I26","v":172.9742},{"$f":"'[1]Monthly Pig Prices - E'!J26","v":164.80330000000001},{"$f":"'[1]Monthly Pig Prices - E'!K26","v":160.9828},{"$f":"'[1]Monthly Pig Prices - E'!L26","v":153.14193548387098},{"$f":"'[1]Monthly Pig Prices - E'!M26","v":156.54464285714289},{"$f":"'[1]Monthly Pig Prices - E'!N26","v":153.94612903225806},{"$f":"'[1]Monthly Pig Prices - E'!O26","v":159.05333333333334},null,{"$f":"'[1]Monthly Pig Prices - E'!Q26","v":-7.0262084537251912E-2}]
[{"$f":"'[1]Monthly Pig Prices - E'!$A27","v":"Hongrie"},"EUR / 100 Kg",{"$f":"'[1]Monthly Pig Prices - E'!C27","v":169.6696},{"$f":"'[1]Monthly Pig Prices - E'!D27","v":166.26949999999999},{"$f":"'[1]Monthly Pig Prices - E'!E27","v":172.59639999999999},{"$f":"'[1]Monthly Pig Prices - E'!F27","v":179.03729999999999},{"$f":"'[1]Monthly Pig Prices - E'!G27","v":187.02520000000001},{"$f":"'[1]Monthly Pig Prices - E'!H27","v":187.0762},{"$f":"'[1]Monthly Pig Prices - E'!I27","v":180.08029999999999},{"$f":"'[1]Monthly Pig Prices - E'!J27","v":168.9802},{"$f":"'[1]Monthly Pig Prices - E'!K27","v":171.01900000000001},{"$f":"'[1]Monthly Pig Prices - E'!L27","v":160.0812936068553},{"$f":"'[1]Monthly Pig Prices - E'!M27","v":160.05678261802075},{"$f":"'[1]Monthly Pig Prices - E'!N27","v":156.09288892958543},{"$f":"'[1]Monthly Pig Prices - E'!O27","v":162.86680766168931},null,{"$f":"'[1]Monthly Pig Prices - E'!Q27","v":-4.00943500680776E-2}]
[{"$f":"'[1]Monthly Pig Prices - E'!$A28","v":"Hongrie"},"HUF / 100 Kg",{"$f":"'[1]Monthly Pig Prices - E'!C28","v":50723.701699999998},{"$f":"'[1]Monthly Pig Prices - E'!D28","v":48750.6803},{"$f":"'[1]Monthly Pig Prices - E'!E28","v":50974.8393},{"$f":"'[1]Monthly Pig Prices - E'!F28","v":52793.6806},{"$f":"'[1]Monthly Pig Prices - E'!G28","v":55995.582300000002},{"$f":"'[1]Monthly Pig Prices - E'!H28","v":56097.671000000002},{"$f":"'[1]Monthly Pig Prices - E'!I28","v":53143.262900000002},{"$f":"'[1]Monthly Pig Prices - E'!J28","v":50248.262000000002},{"$f":"'[1]Monthly Pig Prices - E'!K28","v":51643.5213},{"$f":"'[1]Monthly Pig Prices - E'!L28","v":48296.288064516128},{"$f":"'[1]Monthly Pig Prices - E'!M28","v":43161.944154543977},{"$f":"'[1]Monthly Pig Prices - E'!N28","v":48621.364516129026},{"$f":"'[1]Monthly Pig Prices - E'!O28","v":50066.004333333338},null,{"$f":"'[1]Monthly Pig Prices - E'!Q28","v":-1.2966273056263522E-2}]
[{"$f":"'[1]Monthly Pig Prices - E'!$A29","v":"Malte"},"EUR / 100 Kg",{"$f":"'[1]Monthly Pig Prices - E'!C29","v":237},{"$f":"'[1]Monthly Pig Prices - E'!D29","v":237},{"$f":"'[1]Monthly Pig Prices - E'!E29","v":237},{"$f":"'[1]Monthly Pig Prices - E'!F29","v":237},{"$f":"'[1]Monthly Pig Prices - E'!G29","v":237},{"$f":"'[1]Monthly Pig Prices - E'!H29","v":237},{"$f":"'[1]Monthly Pig Prices - E'!I29","v":237},{"$f":"'[1]Monthly Pig Prices - E'!J29","v":237},{"$f":"'[1]Monthly Pig Prices - E'!K29","v":237},{"$f":"'[1]Monthly Pig Prices - E'!L29","v":237},{"$f":"'[1]Monthly Pig Prices - E'!M29","v":237},{"$f":"'[1]Monthly Pig Prices - E'!N29","v":237},{"$f":"'[1]Monthly Pig Prices - E'!O29","v":237},null,{"$f":"'[1]Monthly Pig Prices - E'!Q29","v":0}]
[{"$f":"'[1]Monthly Pig Prices - E'!$A30","v":"Pays-Bas"},"EUR / 100 Kg",{"$f":"'[1]Monthly Pig Prices - E'!C30","v":156.0147},{"$f":"'[1]Monthly Pig Prices - E'!D30","v":148.40520000000001},{"$f":"'[1]Monthly Pig Prices - E'!E30","v":155.01570000000001},{"$f":"'[1]Monthly Pig Prices - E'!F30","v":161.321},{"$f":"'[1]Monthly Pig Prices - E'!G30","v":172.17},{"$f":"'[1]Monthly Pig Prices - E'!H30","v":169.28630000000001},{"$f":"'[1]Monthly Pig Prices - E'!I30","v":160.54},{"$f":"'[1]Monthly Pig Prices - E'!J30","v":151.25569999999999},{"$f":"'[1]Monthly Pig Prices - E'!K30","v":152.65639999999999},{"$f":"'[1]Monthly Pig Prices - E'!L30","v":141.67612903225805},{"$f":"'[1]Monthly Pig Prices - E'!M30","v":136.02857142857144},{"$f":"'[1]Monthly Pig Prices - E'!N30","v":136.2858064516129},{"$f":"'[1]Monthly Pig Prices - E'!O30","v":145.97766666666666},null,{"$f":"'[1]Monthly Pig Prices - E'!Q30","v":-6.4333895032540833E-2}]
[{"$f":"'[1]Monthly Pig Prices - E'!$A31","v":"Autriche"},"EUR / 100 Kg",{"$f":"'[1]Monthly Pig Prices - E'!C31","v":167.6413},{"$f":"'[1]Monthly Pig Prices - E'!D31","v":158.50899999999999},{"$f":"'[1]Monthly Pig Prices - E'!E31","v":167.61699999999999},{"$f":"'[1]Monthly Pig Prices - E'!F31","v":178.01419999999999},{"$f":"'[1]Monthly Pig Prices - E'!G31","v":188.51390000000001},{"$f":"'[1]Monthly Pig Prices - E'!H31","v":187.4263},{"$f":"'[1]Monthly Pig Prices - E'!I31","v":179.3126},{"$f":"'[1]Monthly Pig Prices - E'!J31","v":169.58529999999999},{"$f":"'[1]Monthly Pig Prices - E'!K31","v":167.78899999999999},{"$f":"'[1]Monthly Pig Prices - E'!L31","v":158.28096774193548},{"$f":"'[1]Monthly Pig Prices - E'!M31","v":164.73678571428576},{"$f":"'[1]Monthly Pig Prices - E'!N31","v":159.67967741935482},{"$f":"'[1]Monthly Pig Prices - E'!O31","v":164.50566666666666},null,{"$f":"'[1]Monthly Pig Prices - E'!Q31","v":-1.8704420291022261E-2}]
[{"$f":"'[1]Monthly Pig Prices - E'!$A32","v":"Pologne"},"EUR / 100 Kg",{"$f":"'[1]Monthly Pig Prices - E'!C32","v":171.89340000000001},{"$f":"'[1]Monthly Pig Prices - E'!D32","v":164.739},{"$f":"'[1]Monthly Pig Prices - E'!E32","v":172.8905},{"$f":"'[1]Monthly Pig Prices - E'!F32","v":179.8107},{"$f":"'[1]Monthly Pig Prices - E'!G32","v":187.96879999999999},{"$f":"'[1]Monthly Pig Prices - E'!H32","v":187.4949},{"$f":"'[1]Monthly Pig Prices - E'!I32","v":181.19},{"$f":"'[1]Monthly Pig Prices - E'!J32","v":169.44059999999999},{"$f":"'[1]Monthly Pig Prices - E'!K32","v":168.40700000000001},{"$f":"'[1]Monthly Pig Prices - E'!L32","v":159.52665402717437},{"$f":"'[1]Monthly Pig Prices - E'!M32","v":150.89580773270316},{"$f":"'[1]Monthly Pig Prices - E'!N32","v":149.3043987970637},{"$f":"'[1]Monthly Pig Prices - E'!O32","v":160.70274283228596},null,{"$f":"'[1]Monthly Pig Prices - E'!Q32","v":-6.5102308568648071E-2}]
[{"$f":"'[1]Monthly Pig Prices - E'!$A33","v":"Pologne"},"PLN / 100 Kg",{"$f":"'[1]Monthly Pig Prices - E'!C33","v":711.26130000000001},{"$f":"'[1]Monthly Pig Prices - E'!D33","v":687.51739999999995},{"$f":"'[1]Monthly Pig Prices - E'!E33","v":740.60630000000003},{"$f":"'[1]Monthly Pig Prices - E'!F33","v":769.05650000000003},{"$f":"'[1]Monthly Pig Prices - E'!G33","v":794.84649999999999},{"$f":"'[1]Monthly Pig Prices - E'!H33","v":795.00530000000003},{"$f":"'[1]Monthly Pig Prices - E'!I33","v":759.62869999999998},{"$f":"'[1]Monthly Pig Prices - E'!J33","v":709.62929999999994},{"$f":"'[1]Monthly Pig Prices - E'!K33","v":705.19269999999995},{"$f":"'[1]Monthly Pig Prices - E'!L33","v":666.34483870967733},{"$f":"'[1]Monthly Pig Prices - E'!M33","v":630.7548214285714},{"$f":"'[1]Monthly Pig Prices - E'!N33","v":626.65548387096771},{"$f":"'[1]Monthly Pig Prices - E'!O33","v":672.5766666666666},null,{"$f":"'[1]Monthly Pig Prices - E'!Q33","v":-5.4388778545006455E-2}]
[{"$f":"'[1]Monthly Pig Prices - E'!$A34","v":"Portugal"},"EUR / 100 Kg",{"$f":"'[1]Monthly Pig Prices - E'!C34","v":181},{"$f":"'[1]Monthly Pig Prices - E'!D34","v":176.0968},{"$f":"'[1]Monthly Pig Prices - E'!E34","v":180.4667},{"$f":"'[1]Monthly Pig Prices - E'!F34","v":189.12899999999999},{"$f":"'[1]Monthly Pig Prices - E'!G34","v":195.77420000000001},{"$f":"'[1]Monthly Pig Prices - E'!H34","v":197.7},{"$f":"'[1]Monthly Pig Prices - E'!I34","v":182.9032},{"$f":"'[1]Monthly Pig Prices - E'!J34","v":171.26669999999999},{"$f":"'[1]Monthly Pig Prices - E'!K34","v":170.20689999999999},{"$f":"'[1]Monthly Pig Prices - E'!L34","v":164.03225806451613},{"$f":"'[1]Monthly Pig Prices - E'!M34","v":161.85714285714286},{"$f":"'[1]Monthly Pig Prices - E'!N34","v":158.61290322580646},{"$f":"'[1]Monthly Pig Prices - E'!O34","v":172.86666666666667},null,{"$f":"'[1]Monthly Pig Prices - E'!Q34","v":-4.4935543278084689E-2}]
[{"$f":"'[1]Monthly Pig Prices - E'!$A35","v":"Romania"},"EUR / 100 Kg",{"$f":"'[1]Monthly Pig Prices - E'!C35","v":160.80680000000001},{"$f":"'[1]Monthly Pig Prices - E'!D35","v":166.63300000000001},{"$f":"'[1]Monthly Pig Prices - E'!E35","v":173.7071},{"$f":"'[1]Monthly Pig Prices - E'!F35","v":195.18360000000001},{"$f":"'[1]Monthly Pig Prices - E'!G35","v":203.4205},{"$f":"'[1]Monthly Pig Prices - E'!H35","v":203.17009999999999},{"$f":"'[1]Monthly Pig Prices - E'!I35","v":199.84870000000001},{"$f":"'[1]Monthly Pig Prices - E'!J35","v":193.06460000000001},{"$f":"'[1]Monthly Pig Prices - E'!K35","v":186.43279999999999},{"$f":"'[1]Monthly Pig Prices - E'!L35","v":171.10529951447739},{"$f":"'[1]Monthly Pig Prices - E'!M35","v":160.15304978527337},{"$f":"'[1]Monthly Pig Prices - E'!N35","v":141.92048775990673},{"$f":"'[1]Monthly Pig Prices - E'!O35","v":144.43062757468388},null,{"$f":"'[1]Monthly Pig Prices - E'!Q35","v":-0.10183756175308589}]
[{"$f":"'[1]Monthly Pig Prices - E'!$A36","v":"Romania"},"RON / 100 Kg",{"$f":"'[1]Monthly Pig Prices - E'!C36","v":704.64670000000001},{"$f":"'[1]Monthly Pig Prices - E'!D36","v":722.40419999999995},{"$f":"'[1]Monthly Pig Prices - E'!E36","v":777.39599999999996},{"$f":"'[1]Monthly Pig Prices - E'!F36","v":863.96609999999998},{"$f":"'[1]Monthly Pig Prices - E'!G36","v":902.19870000000003},{"$f":"'[1]Monthly Pig Prices - E'!H36","v":906.53070000000002},{"$f":"'[1]Monthly Pig Prices - E'!I36","v":888.51679999999999},{"$f":"'[1]Monthly Pig Prices - E'!J36","v":858.15229999999997},{"$f":"'[1]Monthly Pig Prices - E'!K36","v":831.58209999999997},{"$f":"'[1]Monthly Pig Prices - E'!L36","v":772.91548387096782},{"$f":"'[1]Monthly Pig Prices - E'!M36","v":719.66821428571427},{"$f":"'[1]Monthly Pig Prices - E'!N36","v":637.91419354838706},{"$f":"'[1]Monthly Pig Prices - E'!O36","v":644.29233333333332},null,{"$f":"'[1]Monthly Pig Prices - E'!Q36","v":-8.5651953903518874E-2}]
[{"$f":"'[1]Monthly Pig Prices - E'!$A37","v":"Slovenie"},"EUR / 100 Kg",{"$f":"'[1]Monthly Pig Prices - E'!C37","v":166.01599999999999},{"$f":"'[1]Monthly Pig Prices - E'!D37","v":158.86680000000001},{"$f":"'[1]Monthly Pig Prices - E'!E37","v":165.58500000000001},{"$f":"'[1]Monthly Pig Prices - E'!F37","v":172.18870000000001},{"$f":"'[1]Monthly Pig Prices - E'!G37","v":180.74520000000001},{"$f":"'[1]Monthly Pig Prices - E'!H37","v":184.19730000000001},{"$f":"'[1]Monthly Pig Prices - E'!I37","v":178.28899999999999},{"$f":"'[1]Monthly Pig Prices - E'!J37","v":172.5943},{"$f":"'[1]Monthly Pig Prices - E'!K37","v":170.33279999999999},{"$f":"'[1]Monthly Pig Prices - E'!L37","v":162.128064516129},{"$f":"'[1]Monthly Pig Prices - E'!M37","v":159.49428571428572},{"$f":"'[1]Monthly Pig Prices - E'!N37","v":159.79935483870969},{"$f":"'[1]Monthly Pig Prices - E'!O37","v":162.83099999999999},null,{"$f":"'[1]Monthly Pig Prices - E'!Q37","v":-1.9184897841171944E-2}]
[{"$f":"'[1]Monthly Pig Prices - E'!$A38","v":"Slovakie"},"EUR / 100 Kg",{"$f":"'[1]Monthly Pig Prices - E'!C38","v":170.18770000000001},{"$f":"'[1]Monthly Pig Prices - E'!D38","v":168.62970000000001},{"$f":"'[1]Monthly Pig Prices - E'!E38","v":173.7577},{"$f":"'[1]Monthly Pig Prices - E'!F38","v":185.25389999999999},{"$f":"'[1]Monthly Pig Prices - E'!G38","v":193.42679999999999},{"$f":"'[1]Monthly Pig Prices - E'!H38","v":199.559},{"$f":"'[1]Monthly Pig Prices - E'!I38","v":189.8416},{"$f":"'[1]Monthly Pig Prices - E'!J38","v":179.03399999999999},{"$f":"'[1]Monthly Pig Prices - E'!K38","v":173.97669999999999},{"$f":"'[1]Monthly Pig Prices - E'!L38","v":169.41806451612902},{"$f":"'[1]Monthly Pig Prices - E'!M38","v":164.49446428571429},{"$f":"'[1]Monthly Pig Prices - E'!N38","v":159.20387096774195},{"$f":"'[1]Monthly Pig Prices - E'!O38","v":161.16833333333332},null,{"$f":"'[1]Monthly Pig Prices - E'!Q38","v":-5.2996583576055634E-2}]
[{"$f":"'[1]Monthly Pig Prices - E'!$A39","v":"Finlande"},"EUR / 100 Kg",{"$f":"'[1]Monthly Pig Prices - E'!C39","v":184.364},{"$f":"'[1]Monthly Pig Prices - E'!D39","v":180.4742},{"$f":"'[1]Monthly Pig Prices - E'!E39","v":177.4933},{"$f":"'[1]Monthly Pig Prices - E'!F39","v":176.23259999999999},{"$f":"'[1]Monthly Pig Prices - E'!G39","v":176.6806},{"$f":"'[1]Monthly Pig Prices - E'!H39","v":176.61969999999999},{"$f":"'[1]Monthly Pig Prices - E'!I39","v":173.82810000000001},{"$f":"'[1]Monthly Pig Prices - E'!J39","v":171.14169999999999},{"$f":"'[1]Monthly Pig Prices - E'!K39","v":172.3262},{"$f":"'[1]Monthly Pig Prices - E'!L39","v":169.38419354838709},{"$f":"'[1]Monthly Pig Prices - E'!M39","v":171.59339285714287},{"$f":"'[1]Monthly Pig Prices - E'!N39","v":164.40741935483871},{"$f":"'[1]Monthly Pig Prices - E'!O39","v":161.68699999999995},null,{"$f":"'[1]Monthly Pig Prices - E'!Q39","v":-0.12300123668395158}]
[{"$f":"'[1]Monthly Pig Prices - E'!$A40","v":"Suède"},"EUR / 100 Kg",{"$f":"'[1]Monthly Pig Prices - E'!C40","v":186.42910000000001},{"$f":"'[1]Monthly Pig Prices - E'!D40","v":180.82429999999999},{"$f":"'[1]Monthly Pig Prices - E'!E40","v":194.40289999999999},{"$f":"'[1]Monthly Pig Prices - E'!F40","v":195.9375},{"$f":"'[1]Monthly Pig Prices - E'!G40","v":194.52},{"$f":"'[1]Monthly Pig Prices - E'!H40","v":195.2593},{"$f":"'[1]Monthly Pig Prices - E'!I40","v":193.1893},{"$f":"'[1]Monthly Pig Prices - E'!J40","v":189.02459999999999},{"$f":"'[1]Monthly Pig Prices - E'!K40","v":185.22489999999999},{"$f":"'[1]Monthly Pig Prices - E'!L40","v":184.99896974334993},{"$f":"'[1]Monthly Pig Prices - E'!M40","v":183.42794311531134},{"$f":"'[1]Monthly Pig Prices - E'!N40","v":181.1135141011446},{"$f":"'[1]Monthly Pig Prices - E'!O40","v":181.51061547392453},null,{"$f":"'[1]Monthly Pig Prices - E'!Q40","v":-2.6382600817551949E-2}]
[{"$f":"'[1]Monthly Pig Prices - E'!$A41","v":"Suède"},"SEK / 100 Kg",{"$f":"'[1]Monthly Pig Prices - E'!C41","v":1572.5667000000001},{"$f":"'[1]Monthly Pig Prices - E'!D41","v":1549.5161000000001},{"$f":"'[1]Monthly Pig Prices - E'!E41","v":1686.1333},{"$f":"'[1]Monthly Pig Prices - E'!F41","v":1697.5806},{"$f":"'[1]Monthly Pig Prices - E'!G41","v":1692.7097000000001},{"$f":"'[1]Monthly Pig Prices - E'!H41","v":1694.8},{"$f":"'[1]Monthly Pig Prices - E'!I41","v":1689.0968},{"$f":"'[1]Monthly Pig Prices - E'!J41","v":1677},{"$f":"'[1]Monthly Pig Prices - E'!K41","v":1657.7273},{"$f":"'[1]Monthly Pig Prices - E'!L41","v":1635.6451612903227},{"$f":"'[1]Monthly Pig Prices - E'!M41","v":1440.9919169142058},{"$f":"'[1]Monthly Pig Prices - E'!N41","v":1606.4193548387098},{"$f":"'[1]Monthly Pig Prices - E'!O41","v":1641.4666666666667},null,{"$f":"'[1]Monthly Pig Prices - E'!Q41","v":4.3813700663168476E-2}]
[{"$f":"'[1]Monthly Pig Prices - E'!$A42","v":"U.K."},"EUR / 100 Kg",{"$f":"'[1]Monthly Pig Prices - E'!C42","v":182.7321},{"$f":"'[1]Monthly Pig Prices - E'!D42","v":187.93979999999999},{"$f":"'[1]Monthly Pig Prices - E'!E42","v":190.58359999999999},{"$f":"'[1]Monthly Pig Prices - E'!F42","v":191.14109999999999},{"$f":"'[1]Monthly Pig Prices - E'!G42","v":190.7175},{"$f":"'[1]Monthly Pig Prices - E'!H42","v":197.2388},{"$f":"'[1]Monthly Pig Prices - E'!I42","v":198.6559},{"$f":"'[1]Monthly Pig Prices - E'!J42","v":199.81700000000001},{"$f":"'[1]Monthly Pig Prices - E'!K42","v":199.72040000000001},{"$f":"'[1]Monthly Pig Prices - E'!L42","v":197.72746606863555},{"$f":"'[1]Monthly Pig Prices - E'!M42","v":195.6033205482974},{"$f":"'[1]Monthly Pig Prices - E'!N42","v":188.96919642297209},{"$f":"'[1]Monthly Pig Prices - E'!O42","v":190.90557027512165},null,{"$f":"'[1]Monthly Pig Prices - E'!Q42","v":4.472925268806982E-2}]
[{"$f":"'[1]Monthly Pig Prices - E'!$A43","v":"U.K."},"GBP / 100 Kg",{"$f":"'[1]Monthly Pig Prices - E'!C43","v":155.33529999999999},{"$f":"'[1]Monthly Pig Prices - E'!D43","v":159.37129999999999},{"$f":"'[1]Monthly Pig Prices - E'!E43","v":162.4537},{"$f":"'[1]Monthly Pig Prices - E'!F43","v":164.6823},{"$f":"'[1]Monthly Pig Prices - E'!G43","v":163.9265},{"$f":"'[1]Monthly Pig Prices - E'!H43","v":166.21629999999999},{"$f":"'[1]Monthly Pig Prices - E'!I43","v":168.18770000000001},{"$f":"'[1]Monthly Pig Prices - E'!J43","v":167.5873},{"$f":"'[1]Monthly Pig Prices - E'!K43","v":167.21899999999999},{"$f":"'[1]Monthly Pig Prices - E'!L43","v":163.74290322580649},{"$f":"'[1]Monthly Pig Prices - E'!M43","v":161.3680357142857},{"$f":"'[1]Monthly Pig Prices - E'!N43","v":157.09258064516129},{"$f":"'[1]Monthly Pig Prices - E'!O43","v":157.58666666666664},null,{"$f":"'[1]Monthly Pig Prices - E'!Q43","v":1.4493593321457832E-2}]
[]
["EU","EUR / 100 Kg",{"$f":"'[1]Monthly Pig Prices - E'!C45","v":171.95050000000001},{"$f":"'[1]Monthly Pig Prices - E'!D45","v":170.864},{"$f":"'[1]Monthly Pig Prices - E'!E45","v":165.44900000000001},{"$f":"'[1]Monthly Pig Prices - E'!F45","v":172.08090000000001},{"$f":"'[1]Monthly Pig Prices - E'!G45","v":181.0924},{"$f":"'[1]Monthly Pig Prices - E'!H45","v":190.07470000000001},{"$f":"'[1]Monthly Pig Prices - E'!I45","v":191.03620000000001},{"$f":"'[1]Monthly Pig Prices - E'!J45","v":180.4417},{"$f":"'[1]Monthly Pig Prices - E'!K45","v":171.5539},{"$f":"'[1]Monthly Pig Prices - E'!L45","v":170.13040000000001},{"$f":"'[1]Monthly Pig Prices - E'!M45","v":163.62186245687388},{"$f":"'[1]Monthly Pig Prices - E'!N45","v":155.57030357445103},{"$f":"'[1]Monthly Pig Prices - E'!O45","v":163.53704726619151},null,{"$f":"'[1]Monthly Pig Prices - E'!Q45","v":-4.8929504327166806E-2}]

{"sheet":"Monthly pig prices-Classe S ","index":10,"n_rows":45,"n_cols":18,"rows_kept":45,"cut":false,"hidden":false,"merged":[[0,0,0,16],[2,16,3,16]]}
["Monthly Market Prices for Pig Carcase Grade S in the E.U."]
[]
[null,null,{"$f":"'[1]Monthly Pig Prices - S'!C3","v":2014},{"$f":"'[1]Monthly Pig Prices - S'!D3","v":2014},{"$f":"'[1]Monthly Pig Prices - S'!E3","v":2014},{"$f":"'[1]Monthly Pig Prices - S'!F3","v":2014},{"$f":"'[1]Monthly Pig Prices - S'!G3","v":2014},{"$f":"'[1]Monthly Pig Prices - S'!H3","v":2014},{"$f":"'[1]Monthly Pig Prices - S'!I3","v":2014},{"$f":"'[1]Monthly Pig Prices - S'!J3","v":2014},{"$f":"'[1]Monthly Pig Prices - S'!K3","v":2014},{"$f":"'[1]Monthly Pig Prices - S'!L3","v":2014},{"$f":"'[1]Monthly Pig Prices - S'!M3","v":2014},{"$f":"'[1]Monthly Pig Prices - S'!N3","v":2014},{"$f":"'[1]Monthly Pig Prices - S'!O3","v":2015},null,"Jan2015/Jan2014"]
[null,null,{"$f":"'[1]Monthly Pig Prices - S'!C4","v":"January"},{"$f":"'[1]Monthly Pig Prices - S'!D4","v":"February"},{"$f":"'[1]Monthly Pig Prices - S'!E4","v":"March"},{"$f":"'[1]Monthly Pig Prices - S'!F4","v":"April"},{"$f":"'[1]Monthly Pig Prices - S'!G4","v":"May"},{"$f":"'[1]Monthly Pig Prices - S'!H4","v":"June"},{"$f":"'[1]Monthly Pig Prices - S'!I4","v":"July"},{"$f":"'[1]Monthly Pig Prices - S'!J4","v":"August"},{"$f":"'[1]Monthly Pig Prices - S'!K4","v":"September"},{"$f":"'[1]Monthly Pig Prices - S'!L4","v":"October"},{"$f":"'[1]Monthly Pig Prices - S'!M4","v":"November"},{"$f":"'[1]Monthly Pig Prices - S'!N4","v":"December"},{"$f":"'[1]Monthly Pig Prices - S'!O4","v":"January"}]
[]
[{"$f":"'[1]Monthly Pig Prices - S'!A6","v":"Belgique"},{"$f":"'[1]Monthly Pig Prices - S'!B6","v":"EUR / 100 Kg"},{"$f":"'[1]Monthly Pig Prices - S'!C6","v":143.50769230769231},{"$f":"'[1]Monthly Pig Prices - S'!D6","v":139.98571428571427},{"$f":"'[1]Monthly Pig Prices - S'!E6","v":143.87741935483871},{"$f":"'[1]Monthly Pig Prices - S'!F6","v":155.14666666666665},{"$f":"'[1]Monthly Pig Prices - S'!G6","v":0},{"$f":"'[1]Monthly Pig Prices - S'!H6","v":0},{"$f":"'[1]Monthly Pig Prices - S'!I6","v":0},{"$f":"'[1]Monthly Pig Prices - S'!J6","v":0},{"$f":"'[1]Monthly Pig Prices - S'!K6","v":0},{"$f":"'[1]Monthly Pig Prices - S'!L6","v":0},{"$f":"'[1]Monthly Pig Prices - S'!M6","v":0},{"$f":"'[1]Monthly Pig Prices - S'!N6","v":0},{"$f":"'[1]Monthly Pig Prices - S'!O6","v":0},null,{"$f":"'[1]Monthly Pig Prices - S'!Q6","v":0},"BE"]
[{"$f":"'[1]Monthly Pig Prices - S'!A7","v":"Bulgaria"},{"$f":"'[1]Monthly Pig Prices - S'!B7","v":"EUR / 100 Kg"},{"$f":"'[1]Monthly Pig Prices - S'!C7","v":216.85293370586746},{"$f":"'[1]Monthly Pig Prices - S'!D7","v":212.42202679210556},{"$f":"'[1]Monthly Pig Prices - S'!E7","v":205.87780266469628},{"$f":"'[1]Monthly Pig Prices - S'!F7","v":207.55462385383646},{"$f":"'[1]Monthly Pig Prices - S'!G7","v":0},{"$f":"'[1]Monthly Pig Prices - S'!H7","v":0},{"$f":"'[1]Monthly Pig Prices - S'!I7","v":0},{"$f":"'[1]Monthly Pig Prices - S'!J7","v":0},{"$f":"'[1]Monthly Pig Prices - S'!K7","v":0},{"$f":"'[1]Monthly Pig Prices - S'!L7","v":0},{"$f":"'[1]Monthly Pig Prices - S'!M7","v":0},{"$f":"'[1]Monthly Pig Prices - S'!N7","v":0},{"$f":"'[1]Monthly Pig Prices - S'!O7","v":0},null,{"$f":"'[1]Monthly Pig Prices - S'!Q7","v":0},"BG"]
[{"$f":"'[1]Monthly Pig Prices - S'!A8","v":"Bulgaria"},{"$f":"'[1]Monthly Pig Prices - S'!B8","v":"BGN/ 100 Kg"},{"$f":"'[1]Monthly Pig Prices - S'!C8","v":424.12096774193549},{"$f":"'[1]Monthly Pig Prices - S'!D8","v":415.45499999999998},{"$f":"'[1]Monthly Pig Prices - S'!E8","v":402.65580645161288},{"$f":"'[1]Monthly Pig Prices - S'!F8","v":406.48633333333333},{"$f":"'[1]Monthly Pig Prices - S'!G8","v":0},{"$f":"'[1]Monthly Pig Prices - S'!H8","v":0},{"$f":"'[1]Monthly Pig Prices - S'!I8","v":0},{"$f":"'[1]Monthly Pig Prices - S'!J8","v":0},{"$f":"'[1]Monthly Pig Prices - S'!K8","v":0},{"$f":"'[1]Monthly Pig Prices - S'!L8","v":0},{"$f":"'[1]Monthly Pig Prices - S'!M8","v":0},{"$f":"'[1]Monthly Pig Prices - S'!N8","v":0},{"$f":"'[1]Monthly Pig Prices - S'!O8","v":0},null,{"$f":"'[1]Monthly Pig Prices - S'!Q8","v":0},"BG"]
[{"$f":"'[1]Monthly Pig Prices - S'!A9","v":"Tchéquie"},{"$f":"'[1]Monthly Pig Prices - S'!B9","v":"EUR / 100 Kg"},{"$f":"'[1]Monthly Pig Prices - S'!C9","v":163.65362444088188},{"$f":"'[1]Monthly Pig Prices - S'!D9","v":160.2136592833555},{"$f":"'[1]Monthly Pig Prices - S'!E9","v":158.67065392376495},{"$f":"'[1]Monthly Pig Prices - S'!F9","v":168.10579869575042},{"$f":"'[1]Monthly Pig Prices - S'!G9","v":0},{"$f":"'[1]Monthly Pig Prices - S'!H9","v":0},{"$f":"'[1]Monthly Pig Prices - S'!I9","v":0},{"$f":"'[1]Monthly Pig Prices - S'!J9","v":0},{"$f":"'[1]Monthly Pig Prices - S'!K9","v":0},{"$f":"'[1]Monthly Pig Prices - S'!L9","v":0},{"$f":"'[1]Monthly Pig Prices - S'!M9","v":0},{"$f":"'[1]Monthly Pig Prices - S'!N9","v":0},{"$f":"'[1]Monthly Pig Prices - S'!O9","v":0},null,{"$f":"'[1]Monthly Pig Prices - S'!Q9","v":0},"CZ"]
[{"$f":"'[1]Monthly Pig Prices - S'!A10","v":"Tchéquie"},{"$f":"'[1]Monthly Pig Prices - S'!B10","v":"CZK/ 100kg"},{"$f":"'[1]Monthly Pig Prices - S'!C10","v":4496.5483870967746},{"$f":"'[1]Monthly Pig Prices - S'!D10","v":4392.5714285714284},{"$f":"'[1]Monthly Pig Prices - S'!E10","v":4351.9677419354839},{"$f":"'[1]Monthly Pig Prices - S'!F10","v":4618.8},{"$f":"'[1]Monthly Pig Prices - S'!G10","v":0},{"$f":"'[1]Monthly Pig Prices - S'!H10","v":0},{"$f":"'[1]Monthly Pig Prices - S'!I10","v":0},{"$f":"'[1]Monthly Pig Prices - S'!J10","v":0},{"$f":"'[1]Monthly Pig Prices - S'!K10","v":0},{"$f":"'[1]Monthly Pig Prices - S'!L10","v":0},{"$f":"'[1]Monthly Pig Prices - S'!M10","v":0},{"$f":"'[1]Monthly Pig Prices - S'!N10","v":0},{"$f":"'[1]Monthly Pig Prices - S'!O10","v":0},null,{"$f":"'[1]Monthly Pig Prices - S'!Q10","v":0},"CZ"]
[{"$f":"'[1]Monthly Pig Prices - S'!A11","v":"Danemark"},{"$f":"'[1]Monthly Pig Prices - S'!B11","v":"EUR / 100 Kg"},{"$f":"'[1]Monthly Pig Prices - S'!C11","v":156.09060043964723},{"$f":"'[1]Monthly Pig Prices - S'!D11","v":151.0063467697876},{"$f":"'[1]Monthly Pig Prices - S'!E11","v":148.67846979977577},{"$f":"'[1]Monthly Pig Prices - S'!F11","v":157.97593834996513},{"$f":"'[1]Monthly Pig Prices - S'!G11","v":0},{"$f":"'[1]Monthly Pig Prices - S'!H11","v":0},{"$f":"'[1]Monthly Pig Prices - S'!I11","v":0},{"$f":"'[1]Monthly Pig Prices - S'!J11","v":0},{"$f":"'[1]Monthly Pig Prices - S'!K11","v":0},{"$f":"'[1]Monthly Pig Prices - S'!L11","v":0},{"$f":"'[1]Monthly Pig Prices - S'!M11","v":0},{"$f":"'[1]Monthly Pig Prices - S'!N11","v":0},{"$f":"'[1]Monthly Pig Prices - S'!O11","v":0},null,{"$f":"'[1]Monthly Pig Prices - S'!Q11","v":0},"DK"]
[{"$f":"'[1]Monthly Pig Prices - S'!A12","v":"Danemark"},{"$f":"'[1]Monthly Pig Prices - S'!B12","v":"DKK / 100 Kg"},{"$f":"'[1]Monthly Pig Prices - S'!C12","v":1164.6451612903227},{"$f":"'[1]Monthly Pig Prices - S'!D12","v":1126.8571428571429},{"$f":"'[1]Monthly Pig Prices - S'!E12","v":1109.7741935483871},{"$f":"'[1]Monthly Pig Prices - S'!F12","v":1179.4000000000001},{"$f":"'[1]Monthly Pig Prices - S'!G12","v":0},{"$f":"'[1]Monthly Pig Prices - S'!H12","v":0},{"$f":"'[1]Monthly Pig Prices - S'!I12","v":0},{"$f":"'[1]Monthly Pig Prices - S'!J12","v":0},{"$f":"'[1]Monthly Pig Prices - S'!K12","v":0},{"$f":"'[1]Monthly Pig Prices - S'!L12","v":0},{"$f":"'[1]Monthly Pig Prices - S'!M12","v":0},{"$f":"'[1]Monthly Pig Prices - S'!N12","v":0},{"$f":"'[1]Monthly Pig Prices - S'!O12","v":0},null,{"$f":"'[1]Monthly Pig Prices - S'!Q12","v":0},"DK"]
[{"$f":"'[1]Monthly Pig Prices - S'!A13","v":"Allemagne"},{"$f":"'[1]Monthly Pig Prices - S'!B13","v":"EUR / 100 Kg"},{"$f":"'[1]Monthly Pig Prices - S'!C13","v":176.33333333333334},{"$f":"'[1]Monthly Pig Prices - S'!D13","v":157.51999999999998},{"$f":"'[1]Monthly Pig Prices - S'!E13","v":162.60483870967744},{"$f":"'[1]Monthly Pig Prices - S'!F13","v":173.30499999999998},{"$f":"'[1]Monthly Pig Prices - S'!G13","v":0},{"$f":"'[1]Monthly Pig Prices - S'!H13","v":0},{"$f":"'[1]Monthly Pig Prices - S'!I13","v":0},{"$f":"'[1]Monthly Pig Prices - S'!J13","v":0},{"$f":"'[1]Monthly Pig Prices - S'!K13","v":0},{"$f":"'[1]Monthly Pig Prices - S'!L13","v":0},{"$f":"'[1]Monthly Pig Prices - S'!M13","v":0},{"$f":"'[1]Monthly Pig Prices - S'!N13","v":0},{"$f":"'[1]Monthly Pig Prices - S'!O13","v":0},null,{"$f":"'[1]Monthly Pig Prices - S'!Q13","v":0},"DE"]
[{"$f":"'[1]Monthly Pig Prices - S'!A14","v":"Estonie"},{"$f":"'[1]Monthly Pig Prices - S'!B14","v":"EUR / 100 Kg"},{"$f":"'[1]Monthly Pig Prices - S'!C14","v":173.43},{"$f":"'[1]Monthly Pig Prices - S'!D14","v":168.30250000000001},{"$f":"'[1]Monthly Pig Prices - S'!E14","v":163.76967741935482},{"$f":"'[1]Monthly Pig Prices - S'!F14","v":172.92533333333333},{"$f":"'[1]Monthly Pig Prices - S'!G14","v":0},{"$f":"'[1]Monthly Pig Prices - S'!H14","v":0},{"$f":"'[1]Monthly Pig Prices - S'!I14","v":0},{"$f":"'[1]Monthly Pig Prices - S'!J14","v":0},{"$f":"'[1]Monthly Pig Prices - S'!K14","v":0},{"$f":"'[1]Monthly Pig Prices - S'!L14","v":0},{"$f":"'[1]Monthly Pig Prices - S'!M14","v":0},{"$f":"'[1]Monthly Pig Prices - S'!N14","v":0},{"$f":"'[1]Monthly Pig Prices - S'!O14","v":0},null,{"$f":"'[1]Monthly Pig Prices - S'!Q14","v":0},"EE"]
[{"$f":"'[1]Monthly Pig Prices - S'!A15","v":"Greece"},{"$f":"'[1]Monthly Pig Prices - S'!B15","v":"EUR / 100 Kg"},{"$f":"'[1]Monthly Pig Prices - S'!C15","v":0},{"$f":"'[1]Monthly Pig Prices - S'!D15","v":0},{"$f":"'[1]Monthly Pig Prices - S'!E15","v":0},{"$f":"'[1]Monthly Pig Prices - S'!F15","v":0},{"$f":"'[1]Monthly Pig Prices - S'!G15","v":0},{"$f":"'[1]Monthly Pig Prices - S'!H15","v":0},{"$f":"'[1]Monthly Pig Prices - S'!I15","v":0},{"$f":"'[1]Monthly Pig Prices - S'!J15","v":0},{"$f":"'[1]Monthly Pig Prices - S'!K15","v":0},{"$f":"'[1]Monthly Pig Prices - S'!L15","v":0},{"$f":"'[1]Monthly Pig Prices - S'!M15","v":0},{"$f":"'[1]Monthly Pig Prices - S'!N15","v":0},{"$f":"'[1]Monthly Pig Prices - S'!O15","v":0},null,{"$f":"'[1]Monthly Pig Prices - S'!Q15","v":0},"GR"]
[{"$f":"'[1]Monthly Pig Prices - S'!A16","v":"Espagne"},{"$f":"'[1]Monthly Pig Prices - S'!B16","v":"EUR / 100 Kg"},{"$f":"'[1]Monthly Pig Prices - S'!C16","v":0},{"$f":"'[1]Monthly Pig Prices - S'!D16","v":0},{"$f":"'[1]Monthly Pig Prices - S'!E16","v":0},{"$f":"'[1]Monthly Pig Prices - S'!F16","v":0},{"$f":"'[1]Monthly Pig Prices - S'!G16","v":0},{"$f":"'[1]Monthly Pig Prices - S'!H16","v":0},{"$f":"'[1]Monthly Pig Prices - S'!I16","v":0},{"$f":"'[1]Monthly Pig Prices - S'!J16","v":0},{"$f":"'[1]Monthly Pig Prices - S'!K16","v":0},{"$f":"'[1]Monthly Pig Prices - S'!L16","v":0},{"$f":"'[1]Monthly Pig Prices - S'!M16","v":0},{"$f":"'[1]Monthly Pig Prices - S'!N16","v":0},{"$f":"'[1]Monthly Pig Prices - S'!O16","v":0},null,{"$f":"'[1]Monthly Pig Prices - S'!Q16","v":0},"ES"]
[{"$f":"'[1]Monthly Pig Prices - S'!A17","v":"France"},{"$f":"'[1]Monthly Pig Prices - S'!B17","v":"EUR / 100 Kg"},{"$f":"'[1]Monthly Pig Prices - S'!C17","v":0},{"$f":"'[1]Monthly Pig Prices - S'!D17","v":0},{"$f":"'[1]Monthly Pig Prices - S'!E17","v":0},136.53,{"$f":"'[1]Monthly Pig Prices - S'!G17","v":0},{"$f":"'[1]Monthly Pig Prices - S'!H17","v":0},{"$f":"'[1]Monthly Pig Prices - S'!I17","v":0},{"$f":"'[1]Monthly Pig Prices - S'!J17","v":0},{"$f":"'[1]Monthly Pig Prices - S'!K17","v":0},{"$f":"'[1]Monthly Pig Prices - S'!L17","v":0},{"$f":"'[1]Monthly Pig Prices - S'!M17","v":0},{"$f":"'[1]Monthly Pig Prices - S'!N17","v":0},{"$f":"'[1]Monthly Pig Prices - S'!O17","v":0},null,{"$f":"'[1]Monthly Pig Prices - S'!Q17","v":0},"FR"]
[{"$f":"'[1]Monthly Pig Prices - S'!A18","v":"Croatia"},{"$f":"'[1]Monthly Pig Prices - S'!B18","v":"EUR / 100kg"},{"$f":"'[1]Monthly Pig Prices - S'!C18","v":173.70939123157282},{"$f":"'[1]Monthly Pig Prices - S'!D18","v":164.51164741764168},{"$f":"'[1]Monthly Pig Prices - S'!E18","v":158.38679623200551},{"$f":"'[1]Monthly Pig Prices - S'!F18","v":170.17905965364798},{"$f":"'[1]Monthly Pig Prices - S'!G18","v":0},{"$f":"'[1]Monthly Pig Prices - S'!H18","v":0},{"$f":"'[1]Monthly Pig Prices - S'!I18","v":0},{"$f":"'[1]Monthly Pig Prices - S'!J18","v":0},{"$f":"'[1]Monthly Pig Prices - S'!K18","v":0},{"$f":"'[1]Monthly Pig Prices - S'!L18","v":0},{"$f":"'[1]Monthly Pig Prices - S'!M18","v":0},{"$f":"'[1]Monthly Pig Prices - S'!N18","v":0},{"$f":"'[1]Monthly Pig Prices - S'!O18","v":0},null,{"$f":"'[1]Monthly Pig Prices - S'!Q18","v":0},"HR"]
[{"$f":"'[1]Monthly Pig Prices - S'!A19","v":"Croatia"},{"$f":"'[1]Monthly Pig Prices - S'!B19","v":"HRK / 100kg"},{"$f":"'[1]Monthly Pig Prices - S'!C19","v":1326.0645161290322},{"$f":"'[1]Monthly Pig Prices - S'!D19","v":1259.8928571428571},{"$f":"'[1]Monthly Pig Prices - S'!E19","v":1212.6451612903227},{"$f":"'[1]Monthly Pig Prices - S'!F19","v":1298.0666666666666},{"$f":"'[1]Monthly Pig Prices - S'!G19","v":0},{"$f":"'[1]Monthly Pig Prices - S'!H19","v":0},{"$f":"'[1]Monthly Pig Prices - S'!I19","v":0},{"$f":"'[1]Monthly Pig Prices - S'!J19","v":0},{"$f":"'[1]Monthly Pig Prices - S'!K19","v":0},{"$f":"'[1]Monthly Pig Prices - S'!L19","v":0},{"$f":"'[1]Monthly Pig Prices - S'!M19","v":0},{"$f":"'[1]Monthly Pig Prices - S'!N19","v":0},{"$f":"'[1]Monthly Pig Prices - S'!O19","v":0},null,{"$f":"'[1]Monthly Pig Prices - S'!Q19","v":0},"HR"]
[{"$f":"'[1]Monthly Pig Prices - S'!A20","v":"Irlande"},{"$f":"'[1]Monthly Pig Prices - S'!B20","v":"EUR / 100 Kg"},{"$f":"'[1]Monthly Pig Prices - S'!C20","v":0},{"$f":"'[1]Monthly Pig Prices - S'!D20","v":0},{"$f":"'[1]Monthly Pig Prices - S'!E20","v":0},{"$f":"'[1]Monthly Pig Prices - S'!F20","v":0},{"$f":"'[1]Monthly Pig Prices - S'!G20","v":0},{"$f":"'[1]Monthly Pig Prices - S'!H20","v":0},{"$f":"'[1]Monthly Pig Prices - S'!I20","v":0},{"$f":"'[1]Monthly Pig Prices - S'!J20","v":0},{"$f":"'[1]Monthly Pig Prices - S'!K20","v":0},{"$f":"'[1]Monthly Pig Prices - S'!L20","v":0},{"$f":"'[1]Monthly Pig Prices - S'!M20","v":0},{"$f":"'[1]Monthly Pig Prices - S'!N20","v":0},{"$f":"'[1]Monthly Pig Prices - S'!O20","v":0},null,{"$f":"'[1]Monthly Pig Prices - S'!Q20","v":0},"IE"]
[{"$f":"'[1]Monthly Pig Prices - S'!A21","v":"Italie"},{"$f":"'[1]Monthly Pig Prices - S'!B21","v":"EUR / 100 Kg"},{"$f":"'[1]Monthly Pig Prices - S'!C21","v":0},{"$f":"'[1]Monthly Pig Prices - S'!D21","v":0},{"$f":"'[1]Monthly Pig Prices - S'!E21","v":0},{"$f":"'[1]Monthly Pig Prices - S'!F21","v":0},{"$f":"'[1]Monthly Pig Prices - S'!G21","v":0},{"$f":"'[1]Monthly Pig Prices - S'!H21","v":0},{"$f":"'[1]Monthly Pig Prices - S'!I21","v":0},{"$f":"'[1]Monthly Pig Prices - S'!J21","v":0},{"$f":"'[1]Monthly Pig Prices - S'!K21","v":0},{"$f":"'[1]Monthly Pig Prices - S'!L21","v":0},{"$f":"'[1]Monthly Pig Prices - S'!M21","v":0},{"$f":"'[1]Monthly Pig Prices - S'!N21","v":0},{"$f":"'[1]Monthly Pig Prices - S'!O21","v":0},null,{"$f":"'[1]Monthly Pig Prices - S'!Q21","v":0},"IT"]
[{"$f":"'[1]Monthly Pig Prices - S'!A22","v":"Chypre"},{"$f":"'[1]Monthly Pig Prices - S'!B22","v":"EUR / 100 Kg"},{"$f":"'[1]Monthly Pig Prices - S'!C22","v":0},{"$f":"'[1]Monthly Pig Prices - S'!D22","v":0},{"$f":"'[1]Monthly Pig Prices - S'!E22","v":0},{"$f":"'[1]Monthly Pig Prices - S'!F22","v":0},{"$f":"'[1]Monthly Pig Prices - S'!G22","v":0},{"$f":"'[1]Monthly Pig Prices - S'!H22","v":0},{"$f":"'[1]Monthly Pig Prices - S'!I22","v":0},{"$f":"'[1]Monthly Pig Prices - S'!J22","v":0},{"$f":"'[1]Monthly Pig Prices - S'!K22","v":0},{"$f":"'[1]Monthly Pig Prices - S'!L22","v":0},{"$f":"'[1]Monthly Pig Prices - S'!M22","v":0},{"$f":"'[1]Monthly Pig Prices - S'!N22","v":0},{"$f":"'[1]Monthly Pig Prices - S'!O22","v":0},null,{"$f":"'[1]Monthly Pig Prices - S'!Q22","v":0},"CY"]
[{"$f":"'[1]Monthly Pig Prices - S'!A23","v":"Lettonie"},{"$f":"'[1]Monthly Pig Prices - S'!B23","v":"EUR / 100 Kg"},{"$f":"'[1]Monthly Pig Prices - S'!C23","v":174.58677419354834},{"$f":"'[1]Monthly Pig Prices - S'!D23","v":158.00857142857146},{"$f":"'[1]Monthly Pig Prices - S'!E23","v":150.2725806451613},{"$f":"'[1]Monthly Pig Prices - S'!F23","v":170.1873333333333},{"$f":"'[1]Monthly Pig Prices - S'!G23","v":0},{"$f":"'[1]Monthly Pig Prices - S'!H23","v":0},{"$f":"'[1]Monthly Pig Prices - S'!I23","v":0},{"$f":"'[1]Monthly Pig Prices - S'!J23","v":0},{"$f":"'[1]Monthly Pig Prices - S'!K23","v":0},{"$f":"'[1]Monthly Pig Prices - S'!L23","v":0},{"$f":"'[1]Monthly Pig Prices - S'!M23","v":0},{"$f":"'[1]Monthly Pig Prices - S'!N23","v":0},{"$f":"'[1]Monthly Pig Prices - S'!O23","v":0},null,{"$f":"'[1]Monthly Pig Prices - S'!Q23","v":0},"LV"]
[{"$f":"'[1]Monthly Pig Prices - S'!A24","v":"Lituanie"},{"$f":"'[1]Monthly Pig Prices - S'!B24","v":"EUR / 100 Kg"},{"$f":"'[1]Monthly Pig Prices - S'!C24","v":170.43777257915036},{"$f":"'[1]Monthly Pig Prices - S'!D24","v":157.32035283993119},{"$f":"'[1]Monthly Pig Prices - S'!E24","v":156.5866132021884},{"$f":"'[1]Monthly Pig Prices - S'!F24","v":174.45512820512823},{"$f":"'[1]Monthly Pig Prices - S'!G24","v":0},{"$f":"'[1]Monthly Pig Prices - S'!H24","v":0},{"$f":"'[1]Monthly Pig Prices - S'!I24","v":0},{"$f":"'[1]Monthly Pig Prices - S'!J24","v":0},{"$f":"'[1]Monthly Pig Prices - S'!K24","v":0},{"$f":"'[1]Monthly Pig Prices - S'!L24","v":0},{"$f":"'[1]Monthly Pig Prices - S'!M24","v":0},{"$f":"'[1]Monthly Pig Prices - S'!N24","v":0},{"$f":"'[1]Monthly Pig Prices - S'!O24","v":0},null,{"$f":"'[1]Monthly Pig Prices - S'!Q24","v":0},"LT"]
[{"$f":"'[1]Monthly Pig Prices - S'!A25","v":"Lituanie"},{"$f":"'[1]Monthly Pig Prices - S'!B25","v":"LTL / 100 Kg"},{"$f":"'[1]Monthly Pig Prices - S'!C25","v":588.49032258064517},{"$f":"'[1]Monthly Pig Prices - S'!D25","v":543.1957142857143},{"$f":"'[1]Monthly Pig Prices - S'!E25","v":540.6622580645161},{"$f":"'[1]Monthly Pig Prices - S'!F25","v":602.35866666666664},{"$f":"'[1]Monthly Pig Prices - S'!G25","v":0},{"$f":"'[1]Monthly Pig Prices - S'!H25","v":0},{"$f":"'[1]Monthly Pig Prices - S'!I25","v":0},{"$f":"'[1]Monthly Pig Prices - S'!J25","v":0},{"$f":"'[1]Monthly Pig Prices - S'!K25","v":0},{"$f":"'[1]Monthly Pig Prices - S'!L25","v":0},{"$f":"'[1]Monthly Pig Prices - S'!M25","v":0},{"$f":"'[1]Monthly Pig Prices - S'!N25","v":0},{"$f":"'[1]Monthly Pig Prices - S'!O25","v":0},null,{"$f":"'[1]Monthly Pig Prices - S'!Q25","v":0},"LT"]
[{"$f":"'[1]Monthly Pig Prices - S'!A26","v":"Luxembourg"},{"$f":"'[1]Monthly Pig Prices - S'!B26","v":"EUR / 100 Kg"},{"$f":"'[1]Monthly Pig Prices - S'!C26","v":161.78387096774193},{"$f":"'[1]Monthly Pig Prices - S'!D26","v":158.28928571428574},{"$f":"'[1]Monthly Pig Prices - S'!E26","v":162.77419354838713},{"$f":"'[1]Monthly Pig Prices - S'!F26","v":173.76000000000002},{"$f":"'[1]Monthly Pig Prices - S'!G26","v":0},{"$f":"'[1]Monthly Pig Prices - S'!H26","v":0},{"$f":"'[1]Monthly Pig Prices - S'!I26","v":0},{"$f":"'[1]Monthly Pig Prices - S'!J26","v":0},{"$f":"'[1]Monthly Pig Prices - S'!K26","v":0},{"$f":"'[1]Monthly Pig Prices - S'!L26","v":0},{"$f":"'[1]Monthly Pig Prices - S'!M26","v":0},{"$f":"'[1]Monthly Pig Prices - S'!N26","v":0},{"$f":"'[1]Monthly Pig Prices - S'!O26","v":0},null,{"$f":"'[1]Monthly Pig Prices - S'!Q26","v":0},"LU"]
[{"$f":"'[1]Monthly Pig Prices - S'!A27","v":"Hongrie"},{"$f":"'[1]Monthly Pig Prices - S'!B27","v":"EUR / 100 Kg"},{"$f":"'[1]Monthly Pig Prices - S'!C27","v":162.4851978821394},{"$f":"'[1]Monthly Pig Prices - S'!D27","v":159.07566138678314},{"$f":"'[1]Monthly Pig Prices - S'!E27","v":160.55929316002607},{"$f":"'[1]Monthly Pig Prices - S'!F27","v":171.53858471793836},{"$f":"'[1]Monthly Pig Prices - S'!G27","v":0},{"$f":"'[1]Monthly Pig Prices - S'!H27","v":0},{"$f":"'[1]Monthly Pig Prices - S'!I27","v":0},{"$f":"'[1]Monthly Pig Prices - S'!J27","v":0},{"$f":"'[1]Monthly Pig Prices - S'!K27","v":0},{"$f":"'[1]Monthly Pig Prices - S'!L27","v":0},{"$f":"'[1]Monthly Pig Prices - S'!M27","v":0},{"$f":"'[1]Monthly Pig Prices - S'!N27","v":0},{"$f":"'[1]Monthly Pig Prices - S'!O27","v":0},null,{"$f":"'[1]Monthly Pig Prices - S'!Q27","v":0},"HU"]
[{"$f":"'[1]Monthly Pig Prices - S'!A28","v":"Hongrie"},{"$f":"'[1]Monthly Pig Prices - S'!B28","v":"HUF / 100 Kg"},{"$f":"'[1]Monthly Pig Prices - S'!C28","v":49023.176129032254},{"$f":"'[1]Monthly Pig Prices - S'!D28","v":43825.827744711169},{"$f":"'[1]Monthly Pig Prices - S'!E28","v":49914.040322580644},{"$f":"'[1]Monthly Pig Prices - S'!F28","v":52731.522333333334},{"$f":"'[1]Monthly Pig Prices - S'!G28","v":0},{"$f":"'[1]Monthly Pig Prices - S'!H28","v":0},{"$f":"'[1]Monthly Pig Prices - S'!I28","v":0},{"$f":"'[1]Monthly Pig Prices - S'!J28","v":0},{"$f":"'[1]Monthly Pig Prices - S'!K28","v":0},{"$f":"'[1]Monthly Pig Prices - S'!L28","v":0},{"$f":"'[1]Monthly Pig Prices - S'!M28","v":0},{"$f":"'[1]Monthly Pig Prices - S'!N28","v":0},{"$f":"'[1]Monthly Pig Prices - S'!O28","v":0},null,{"$f":"'[1]Monthly Pig Prices - S'!Q28","v":0},"HU"]
[{"$f":"'[1]Monthly Pig Prices - S'!A29","v":"Malte"},{"$f":"'[1]Monthly Pig Prices - S'!B29","v":"EUR / 100 Kg"},{"$f":"'[1]Monthly Pig Prices - S'!C29","v":237},{"$f":"'[1]Monthly Pig Prices - S'!D29","v":237},{"$f":"'[1]Monthly Pig Prices - S'!E29","v":237},{"$f":"'[1]Monthly Pig Prices - S'!F29","v":244.9},{"$f":"'[1]Monthly Pig Prices - S'!G29","v":0},{"$f":"'[1]Monthly Pig Prices - S'!H29","v":0},{"$f":"'[1]Monthly Pig Prices - S'!I29","v":0},{"$f":"'[1]Monthly Pig Prices - S'!J29","v":0},{"$f":"'[1]Monthly Pig Prices - S'!K29","v":0},{"$f":"'[1]Monthly Pig Prices - S'!L29","v":0},{"$f":"'[1]Monthly Pig Prices - S'!M29","v":0},{"$f":"'[1]Monthly Pig Prices - S'!N29","v":0},{"$f":"'[1]Monthly Pig Prices - S'!O29","v":0},null,{"$f":"'[1]Monthly Pig Prices - S'!Q29","v":0},"MT"]
[{"$f":"'[1]Monthly Pig Prices - S'!A30","v":"Pays-Bas"},{"$f":"'[1]Monthly Pig Prices - S'!B30","v":"EUR / 100 Kg"},{"$f":"'[1]Monthly Pig Prices - S'!C30","v":0},{"$f":"'[1]Monthly Pig Prices - S'!D30","v":0},{"$f":"'[1]Monthly Pig Prices - S'!E30","v":0},{"$f":"'[1]Monthly Pig Prices - S'!F30","v":0},{"$f":"'[1]Monthly Pig Prices - S'!G30","v":0},{"$f":"'[1]Monthly Pig Prices - S'!H30","v":0},{"$f":"'[1]Monthly Pig Prices - S'!I30","v":0},{"$f":"'[1]Monthly Pig Prices - S'!J30","v":0},{"$f":"'[1]Monthly Pig Prices - S'!K30","v":0},{"$f":"'[1]Monthly Pig Prices - S'!L30","v":0},{"$f":"'[1]Monthly Pig Prices - S'!M30","v":0},{"$f":"'[1]Monthly Pig Prices - S'!N30","v":0},{"$f":"'[1]Monthly Pig Prices - S'!O30","v":0},null,{"$f":"'[1]Monthly Pig Prices - S'!Q30","v":0},"NL"]
[{"$f":"'[1]Monthly Pig Prices - S'!A31","v":"Autriche"},{"$f":"'[1]Monthly Pig Prices - S'!B31","v":"EUR / 100 Kg"},{"$f":"'[1]Monthly Pig Prices - S'!C31","v":143.00677419354841},{"$f":"'[1]Monthly Pig Prices - S'!D31","v":169.45750000000001},{"$f":"'[1]Monthly Pig Prices - S'!E31","v":173.45387096774192},{"$f":"'[1]Monthly Pig Prices - S'!F31","v":182.73566666666665},{"$f":"'[1]Monthly Pig Prices - S'!G31","v":0},{"$f":"'[1]Monthly Pig Prices - S'!H31","v":0},{"$f":"'[1]Monthly Pig Prices - S'!I31","v":0},{"$f":"'[1]Monthly Pig Prices - S'!J31","v":0},{"$f":"'[1]Monthly Pig Prices - S'!K31","v":0},{"$f":"'[1]Monthly Pig Prices - S'!L31","v":0},{"$f":"'[1]Monthly Pig Prices - S'!M31","v":0},{"$f":"'[1]Monthly Pig Prices - S'!N31","v":0},{"$f":"'[1]Monthly Pig Prices - S'!O31","v":0},null,{"$f":"'[1]Monthly Pig Prices - S'!Q31","v":0},"AT"]
[{"$f":"'[1]Monthly Pig Prices - S'!A32","v":"Pologne"},{"$f":"'[1]Monthly Pig Prices - S'!B32","v":"EUR / 100 Kg"},{"$f":"'[1]Monthly Pig Prices - S'!C32","v":161.9610055301392},{"$f":"'[1]Monthly Pig Prices - S'!D32","v":148.28977782290914},{"$f":"'[1]Monthly Pig Prices - S'!E32","v":156.07828680785454},{"$f":"'[1]Monthly Pig Prices - S'!F32","v":169.00726020176961},{"$f":"'[1]Monthly Pig Prices - S'!G32","v":0},{"$f":"'[1]Monthly Pig Prices - S'!H32","v":0},{"$f":"'[1]Monthly Pig Prices - S'!I32","v":0},{"$f":"'[1]Monthly Pig Prices - S'!J32","v":0},{"$f":"'[1]Monthly Pig Prices - S'!K32","v":0},{"$f":"'[1]Monthly Pig Prices - S'!L32","v":0},{"$f":"'[1]Monthly Pig Prices - S'!M32","v":0},{"$f":"'[1]Monthly Pig Prices - S'!N32","v":0},{"$f":"'[1]Monthly Pig Prices - S'!O32","v":0},null,{"$f":"'[1]Monthly Pig Prices - S'!Q32","v":0},"PL"]
[{"$f":"'[1]Monthly Pig Prices - S'!A33","v":"Pologne"},{"$f":"'[1]Monthly Pig Prices - S'!B33","v":"PLN / 100 Kg"},{"$f":"'[1]Monthly Pig Prices - S'!C33","v":676.51129032258075},{"$f":"'[1]Monthly Pig Prices - S'!D33","v":618.76178571428568},{"$f":"'[1]Monthly Pig Prices - S'!E33","v":654.81000000000006},{"$f":"'[1]Monthly Pig Prices - S'!F33","v":707.2596666666667},{"$f":"'[1]Monthly Pig Prices - S'!G33","v":0},{"$f":"'[1]Monthly Pig Prices - S'!H33","v":0},{"$f":"'[1]Monthly Pig Prices - S'!I33","v":0},{"$f":"'[1]Monthly Pig Prices - S'!J33","v":0},{"$f":"'[1]Monthly Pig Prices - S'!K33","v":0},{"$f":"'[1]Monthly Pig Prices - S'!L33","v":0},{"$f":"'[1]Monthly Pig Prices - S'!M33","v":0},{"$f":"'[1]Monthly Pig Prices - S'!N33","v":0},{"$f":"'[1]Monthly Pig Prices - S'!O33","v":0},null,{"$f":"'[1]Monthly Pig Prices - S'!Q33","v":0},"PL"]
[{"$f":"'[1]Monthly Pig Prices - S'!A34","v":"Portugal"},{"$f":"'[1]Monthly Pig Prices - S'!B34","v":"EUR / 100 Kg"},{"$f":"'[1]Monthly Pig Prices - S'!C34","v":0},{"$f":"'[1]Monthly Pig Prices - S'!D34","v":0},{"$f":"'[1]Monthly Pig Prices - S'!E34","v":0},{"$f":"'[1]Monthly Pig Prices - S'!F34","v":0},{"$f":"'[1]Monthly Pig Prices - S'!G34","v":0},{"$f":"'[1]Monthly Pig Prices - S'!H34","v":0},{"$f":"'[1]Monthly Pig Prices - S'!I34","v":0},{"$f":"'[1]Monthly Pig Prices - S'!J34","v":0},{"$f":"'[1]Monthly Pig Prices - S'!K34","v":0},{"$f":"'[1]Monthly Pig Prices - S'!L34","v":0},{"$f":"'[1]Monthly Pig Prices - S'!M34","v":0},{"$f":"'[1]Monthly Pig Prices - S'!N34","v":0},{"$f":"'[1]Monthly Pig Prices - S'!O34","v":0},null,{"$f":"'[1]Monthly Pig Prices - S'!Q34","v":0},"PT"]
[{"$f":"'[1]Monthly Pig Prices - S'!A35","v":"Romania"},{"$f":"'[1]Monthly Pig Prices - S'!B35","v":"EUR / 100 Kg"},{"$f":"'[1]Monthly Pig Prices - S'!C35","v":180.26196039380901},{"$f":"'[1]Monthly Pig Prices - S'!D35","v":161.87103700862644},{"$f":"'[1]Monthly Pig Prices - S'!E35","v":148.5108040969838},{"$f":"'[1]Monthly Pig Prices - S'!F35","v":159.23922709556726},{"$f":"'[1]Monthly Pig Prices - S'!G35","v":0},{"$f":"'[1]Monthly Pig Prices - S'!H35","v":0},{"$f":"'[1]Monthly Pig Prices - S'!I35","v":0},{"$f":"'[1]Monthly Pig Prices - S'!J35","v":0},{"$f":"'[1]Monthly Pig Prices - S'!K35","v":0},{"$f":"'[1]Monthly Pig Prices - S'!L35","v":0},{"$f":"'[1]Monthly Pig Prices - S'!M35","v":0},{"$f":"'[1]Monthly Pig Prices - S'!N35","v":0},{"$f":"'[1]Monthly Pig Prices - S'!O35","v":0},null,{"$f":"'[1]Monthly Pig Prices - S'!Q35","v":0},"RO"]
[{"$f":"'[1]Monthly Pig Prices - S'!A36","v":"Romania"},{"$f":"'[1]Monthly Pig Prices - S'!B36","v":"RON / 100 Kg"},{"$f":"'[1]Monthly Pig Prices - S'!C36","v":814.25709677419354},{"$f":"'[1]Monthly Pig Prices - S'!D36","v":727.97},{"$f":"'[1]Monthly Pig Prices - S'!E36","v":666.25193548387085},{"$f":"'[1]Monthly Pig Prices - S'!F36","v":710.35800000000006},{"$f":"'[1]Monthly Pig Prices - S'!G36","v":0},{"$f":"'[1]Monthly Pig Prices - S'!H36","v":0},{"$f":"'[1]Monthly Pig Prices - S'!I36","v":0},{"$f":"'[1]Monthly Pig Prices - S'!J36","v":0},{"$f":"'[1]Monthly Pig Prices - S'!K36","v":0},{"$f":"'[1]Monthly Pig Prices - S'!L36","v":0},{"$f":"'[1]Monthly Pig Prices - S'!M36","v":0},{"$f":"'[1]Monthly Pig Prices - S'!N36","v":0},{"$f":"'[1]Monthly Pig Prices - S'!O36","v":0},null,{"$f":"'[1]Monthly Pig Prices - S'!Q36","v":0},"RO"]
[{"$f":"'[1]Monthly Pig Prices - S'!A37","v":"Slovenie"},{"$f":"'[1]Monthly Pig Prices - S'!B37","v":"EUR / 100 Kg"},{"$f":"'[1]Monthly Pig Prices - S'!C37","v":0},{"$f":"'[1]Monthly Pig Prices - S'!D37","v":108.94714285714285},{"$f":"'[1]Monthly Pig Prices - S'!E37","v":173.56870967741935},{"$f":"'[1]Monthly Pig Prices - S'!F37","v":182.65233333333333},{"$f":"'[1]Monthly Pig Prices - S'!G37","v":0},{"$f":"'[1]Monthly Pig Prices - S'!H37","v":0},{"$f":"'[1]Monthly Pig Prices - S'!I37","v":0},{"$f":"'[1]Monthly Pig Prices - S'!J37","v":0},{"$f":"'[1]Monthly Pig Prices - S'!K37","v":0},{"$f":"'[1]Monthly Pig Prices - S'!L37","v":0},{"$f":"'[1]Monthly Pig Prices - S'!M37","v":0},{"$f":"'[1]Monthly Pig Prices - S'!N37","v":0},{"$f":"'[1]Monthly Pig Prices - S'!O37","v":0},null,{"$f":"'[1]Monthly Pig Prices - S'!Q37","v":0},"SI"]
[{"$f":"'[1]Monthly Pig Prices - S'!A38","v":"Slovakie"},{"$f":"'[1]Monthly Pig Prices - S'!B38","v":"EUR / 100 Kg"},{"$f":"'[1]Monthly Pig Prices - S'!C38","v":167.58225806451614},{"$f":"'[1]Monthly Pig Prices - S'!D38","v":162.78571428571428},{"$f":"'[1]Monthly Pig Prices - S'!E38","v":159.61161290322582},{"$f":"'[1]Monthly Pig Prices - S'!F38","v":169.41},{"$f":"'[1]Monthly Pig Prices - S'!G38","v":0},{"$f":"'[1]Monthly Pig Prices - S'!H38","v":0},{"$f":"'[1]Monthly Pig Prices - S'!I38","v":0},{"$f":"'[1]Monthly Pig Prices - S'!J38","v":0},{"$f":"'[1]Monthly Pig Prices - S'!K38","v":0},{"$f":"'[1]Monthly Pig Prices - S'!L38","v":0},{"$f":"'[1]Monthly Pig Prices - S'!M38","v":0},{"$f":"'[1]Monthly Pig Prices - S'!N38","v":0},{"$f":"'[1]Monthly Pig Prices - S'!O38","v":0},null,{"$f":"'[1]Monthly Pig Prices - S'!Q38","v":0},"SK"]
[{"$f":"'[1]Monthly Pig Prices - S'!A39","v":"Finlande"},{"$f":"'[1]Monthly Pig Prices - S'!B39","v":"EUR / 100 Kg"},{"$f":"'[1]Monthly Pig Prices - S'!C39","v":178.45064516129034},{"$f":"'[1]Monthly Pig Prices - S'!D39","v":175.95285714285711},{"$f":"'[1]Monthly Pig Prices - S'!E39","v":173.1806451612903},{"$f":"'[1]Monthly Pig Prices - S'!F39","v":176.71966666666665},{"$f":"'[1]Monthly Pig Prices - S'!G39","v":0},{"$f":"'[1]Monthly Pig Prices - S'!H39","v":0},{"$f":"'[1]Monthly Pig Prices - S'!I39","v":0},{"$f":"'[1]Monthly Pig Prices - S'!J39","v":0},{"$f":"'[1]Monthly Pig Prices - S'!K39","v":0},{"$f":"'[1]Monthly Pig Prices - S'!L39","v":0},{"$f":"'[1]Monthly Pig Prices - S'!M39","v":0},{"$f":"'[1]Monthly Pig Prices - S'!N39","v":0},{"$f":"'[1]Monthly Pig Prices - S'!O39","v":0},null,{"$f":"'[1]Monthly Pig Prices - S'!Q39","v":0},"FI"]
[{"$f":"'[1]Monthly Pig Prices - S'!A40","v":"Suède"},{"$f":"'[1]Monthly Pig Prices - S'!B40","v":"EUR / 100 Kg"},{"$f":"'[1]Monthly Pig Prices - S'!C40","v":185.60254235830479},{"$f":"'[1]Monthly Pig Prices - S'!D40","v":186.52519359980997},{"$f":"'[1]Monthly Pig Prices - S'!E40","v":185.53777459130742},{"$f":"'[1]Monthly Pig Prices - S'!F40","v":202.14791591085825},{"$f":"'[1]Monthly Pig Prices - S'!G40","v":0},{"$f":"'[1]Monthly Pig Prices - S'!H40","v":0},{"$f":"'[1]Monthly Pig Prices - S'!I40","v":0},{"$f":"'[1]Monthly Pig Prices - S'!J40","v":0},{"$f":"'[1]Monthly Pig Prices - S'!K40","v":0},{"$f":"'[1]Monthly Pig Prices - S'!L40","v":0},{"$f":"'[1]Monthly Pig Prices - S'!M40","v":0},{"$f":"'[1]Monthly Pig Prices - S'!N40","v":0},{"$f":"'[1]Monthly Pig Prices - S'!O40","v":0},null,{"$f":"'[1]Monthly Pig Prices - S'!Q40","v":0},"SE"]
[{"$f":"'[1]Monthly Pig Prices - S'!A41","v":"Suède"},{"$f":"'[1]Monthly Pig Prices - S'!B41","v":"SEK / 100 Kg"},{"$f":"'[1]Monthly Pig Prices - S'!C41","v":1641.1612903225807},{"$f":"'[1]Monthly Pig Prices - S'!D41","v":1496.778785926462},{"$f":"'[1]Monthly Pig Prices - S'!E41","v":1648},{"$f":"'[1]Monthly Pig Prices - S'!F41","v":1827.2},{"$f":"'[1]Monthly Pig Prices - S'!G41","v":0},{"$f":"'[1]Monthly Pig Prices - S'!H41","v":0},{"$f":"'[1]Monthly Pig Prices - S'!I41","v":0},{"$f":"'[1]Monthly Pig Prices - S'!J41","v":0},{"$f":"'[1]Monthly Pig Prices - S'!K41","v":0},{"$f":"'[1]Monthly Pig Prices - S'!L41","v":0},{"$f":"'[1]Monthly Pig Prices - S'!M41","v":0},{"$f":"'[1]Monthly Pig Prices - S'!N41","v":0},{"$f":"'[1]Monthly Pig Prices - S'!O41","v":0},null,{"$f":"'[1]Monthly Pig Prices - S'!Q41","v":0},"SE"]
[{"$f":"'[1]Monthly Pig Prices - S'!A42","v":"U.K."},{"$f":"'[1]Monthly Pig Prices - S'!B42","v":"EUR / 100 Kg"},{"$f":"'[1]Monthly Pig Prices - S'!C42","v":169.28983458544485},{"$f":"'[1]Monthly Pig Prices - S'!D42","v":197.30310919747345},{"$f":"'[1]Monthly Pig Prices - S'!E42","v":193.85142566216075},{"$f":"'[1]Monthly Pig Prices - S'!F42","v":202.72205185577332},{"$f":"'[1]Monthly Pig Prices - S'!G42","v":0},{"$f":"'[1]Monthly Pig Prices - S'!H42","v":0},{"$f":"'[1]Monthly Pig Prices - S'!I42","v":0},{"$f":"'[1]Monthly Pig Prices - S'!J42","v":0},{"$f":"'[1]Monthly Pig Prices - S'!K42","v":0},{"$f":"'[1]Monthly Pig Prices - S'!L42","v":0},{"$f":"'[1]Monthly Pig Prices - S'!M42","v":0},{"$f":"'[1]Monthly Pig Prices - S'!N42","v":0},{"$f":"'[1]Monthly Pig Prices - S'!O42","v":0},null,{"$f":"'[1]Monthly Pig Prices - S'!Q42","v":0},"UK"]
[{"$f":"'[1]Monthly Pig Prices - S'!A43","v":"U.K."},{"$f":"'[1]Monthly Pig Prices - S'!B43","v":"GBP / 100 Kg"},{"$f":"'[1]Monthly Pig Prices - S'!C43","v":140.0393548387097},{"$f":"'[1]Monthly Pig Prices - S'!D43","v":162.655},{"$f":"'[1]Monthly Pig Prices - S'!E43","v":161.38451612903225},{"$f":"'[1]Monthly Pig Prices - S'!F43","v":167.35633333333334},{"$f":"'[1]Monthly Pig Prices - S'!G43","v":0},{"$f":"'[1]Monthly Pig Prices - S'!H43","v":0},{"$f":"'[1]Monthly Pig Prices - S'!I43","v":0},{"$f":"'[1]Monthly Pig Prices - S'!J43","v":0},{"$f":"'[1]Monthly Pig Prices - S'!K43","v":0},{"$f":"'[1]Monthly Pig Prices - S'!L43","v":0},{"$f":"'[1]Monthly Pig Prices - S'!M43","v":0},{"$f":"'[1]Monthly Pig Prices - S'!N43","v":0},{"$f":"'[1]Monthly Pig Prices - S'!O43","v":0},null,{"$f":"'[1]Monthly Pig Prices - S'!Q43","v":0},"UK"]
[]
[{"$f":"'[1]Monthly Pig Prices - S'!A45","v":"EU"},{"$f":"'[1]Monthly Pig Prices - S'!B45","v":"EUR / 100 Kg"},{"$f":"'[1]Monthly Pig Prices - S'!C45","v":164.45480803420779},{"$f":"'[1]Monthly Pig Prices - S'!D45","v":159.66399120436913},{"$f":"'[1]Monthly Pig Prices - S'!E45","v":159.83913762018031},{"$f":"'[1]Monthly Pig Prices - S'!F45","v":171.32168510544184},{"$f":"'[1]Monthly Pig Prices - S'!G45","v":0},{"$f":"'[1]Monthly Pig Prices - S'!H45","v":0},{"$f":"'[1]Monthly Pig Prices - S'!I45","v":0},{"$f":"'[1]Monthly Pig Prices - S'!J45","v":0},{"$f":"'[1]Monthly Pig Prices - S'!K45","v":0},{"$f":"'[1]Monthly Pig Prices - S'!L45","v":0},{"$f":"'[1]Monthly Pig Prices - S'!M45","v":0},{"$f":"'[1]Monthly Pig Prices - S'!N45","v":0},{"$f":"'[1]Monthly Pig Prices - S'!O45","v":0},null,{"$f":"'[1]Monthly Pig Prices - S'!Q45","v":0},"EU_28"]

{"sheet":"Monthly piglet prices","index":11,"n_rows":403,"n_cols":37,"rows_kept":403,"cut":false,"hidden":false,"merged":[[2,16,3,16]]}
[null,"Monthly Market Prices for Piglets in the E.U."]
[]
[null,null,{"$f":"'[1]Monthly Piglet Prices'!D3","v":2013},{"$f":"'[1]Monthly Piglet Prices'!E3","v":2013},{"$f":"'[1]Monthly Piglet Prices'!F3","v":2013},{"$f":"'[1]Monthly Piglet Prices'!G3","v":2013},{"$f":"'[1]Monthly Piglet Prices'!H3","v":2013},{"$f":"'[1]Monthly Piglet Prices'!I3","v":2013},{"$f":"'[1]Monthly Piglet Prices'!J3","v":2013},{"$f":"'[1]Monthly Piglet Prices'!K3","v":2013},{"$f":"'[1]Monthly Piglet Prices'!L3","v":2013},{"$f":"'[1]Monthly Piglet Prices'!M3","v":2014},{"$f":"'[1]Monthly Piglet Prices'!N3","v":2014},{"$f":"'[1]Monthly Piglet Prices'!O3","v":2014},{"$f":"'[1]Monthly Piglet Prices'!P3","v":2014},null,{"$f":"'[1]Monthly Piglet Prices'!R3","v":"April 14 /April 13"}]
[null,null,{"$f":"'[1]Monthly Piglet Prices'!D4","v":"April"},{"$f":"'[1]Monthly Piglet Prices'!E4","v":"May"},{"$f":"'[1]Monthly Piglet Prices'!F4","v":"June"},{"$f":"'[1]Monthly Piglet Prices'!G4","v":"July"},{"$f":"'[1]Monthly Piglet Prices'!H4","v":"August"},{"$f":"'[1]Monthly Piglet Prices'!I4","v":"September"},{"$f":"'[1]Monthly Piglet Prices'!J4","v":"October"},{"$f":"'[1]Monthly Piglet Prices'!K4","v":"November"},{"$f":"'[1]Monthly Piglet Prices'!L4","v":"December"},{"$f":"'[1]Monthly Piglet Prices'!M4","v":"January"},{"$f":"'[1]Monthly Piglet Prices'!N4","v":"February"},{"$f":"'[1]Monthly Piglet Prices'!O4","v":"March"},{"$f":"'[1]Monthly Piglet Prices'!P4","v":"April"},null,{"$f":"'[1]Monthly Piglet Prices'!R4","v":0}]
[]
[{"$f":"'[1]Monthly Piglet Prices'!B6","v":"Belgique"},{"$f":"'[1]Monthly Piglet Prices'!C6","v":"EUR / piece"},{"$f":"'[1]Monthly Piglet Prices'!D6","v":51.416699999999999},{"$f":"'[1]Monthly Piglet Prices'!E6","v":44.822600000000001},{"$f":"'[1]Monthly Piglet Prices'!F6","v":43.2},{"$f":"'[1]Monthly Piglet Prices'!G6","v":44.322600000000001},{"$f":"'[1]Monthly Piglet Prices'!H6","v":46.145200000000003},{"$f":"'[1]Monthly Piglet Prices'!I6","v":45.366700000000002},{"$f":"'[1]Monthly Piglet Prices'!J6","v":42.241900000000001},{"$f":"'[1]Monthly Piglet Prices'!K6","v":40},{"$f":"'[1]Monthly Piglet Prices'!L6","v":43.409100000000002},{"$f":"'[1]Monthly Piglet Prices'!M6","v":46.387096774193552},{"$f":"'[1]Monthly Piglet Prices'!N6","v":48.553571428571431},{"$f":"'[1]Monthly Piglet Prices'!O6","v":46.806451612903224},{"$f":"'[1]Monthly Piglet Prices'!P6","v":49.8},null,{"$f":"'[1]Monthly Piglet Prices'!R6","v":-3.1443091446942351E-2}]
[{"$f":"'[1]Monthly Piglet Prices'!B7","v":"Tchéquie"},{"$f":"'[1]Monthly Piglet Prices'!C7","v":"EUR / piece"},{"$f":"'[1]Monthly Piglet Prices'!D7","v":56.052},{"$f":"'[1]Monthly Piglet Prices'!E7","v":60.403700000000001},{"$f":"'[1]Monthly Piglet Prices'!F7","v":59.127699999999997},{"$f":"'[1]Monthly Piglet Prices'!G7","v":64.080600000000004},{"$f":"'[1]Monthly Piglet Prices'!H7","v":55.240499999999997},{"$f":"'[1]Monthly Piglet Prices'!I7","v":63.032899999999998},{"$f":"'[1]Monthly Piglet Prices'!J7","v":59.241300000000003},{"$f":"'[1]Monthly Piglet Prices'!K7","v":54.833199999999998},{"$f":"'[1]Monthly Piglet Prices'!L7","v":56.940899999999999},{"$f":"'[1]Monthly Piglet Prices'!M7","v":51.361701999256177},{"$f":"'[1]Monthly Piglet Prices'!N7","v":50.656191101429563},{"$f":"'[1]Monthly Piglet Prices'!O7","v":51.808266641840461},{"$f":"'[1]Monthly Piglet Prices'!P7","v":54.497114656759031},null,{"$f":"'[1]Monthly Piglet Prices'!R7","v":-2.7740051081869832E-2}]
[{"$f":"'[1]Monthly Piglet Prices'!B8","v":"Tchéquie"},{"$f":"'[1]Monthly Piglet Prices'!C8","v":"CZK/ piece"},{"$f":"'[1]Monthly Piglet Prices'!D8","v":1447.5333000000001},{"$f":"'[1]Monthly Piglet Prices'!E8","v":1562.3226},{"$f":"'[1]Monthly Piglet Prices'!F8","v":1523.5333000000001},{"$f":"'[1]Monthly Piglet Prices'!G8","v":1662.4838999999999},{"$f":"'[1]Monthly Piglet Prices'!H8","v":1426.5161000000001},{"$f":"'[1]Monthly Piglet Prices'!I8","v":1624.8667},{"$f":"'[1]Monthly Piglet Prices'!J8","v":1520.5161000000001},{"$f":"'[1]Monthly Piglet Prices'!K8","v":1471.2},{"$f":"'[1]Monthly Piglet Prices'!L8","v":1563.6},{"$f":"'[1]Monthly Piglet Prices'!M8","v":1411.3870967741937},{"$f":"'[1]Monthly Piglet Prices'!N8","v":1390.6428571428571},{"$f":"'[1]Monthly Piglet Prices'!O8","v":764.12903225806451},{"$f":"'[1]Monthly Piglet Prices'!P8","v":1495.4},null,{"$f":"'[1]Monthly Piglet Prices'!R8","v":3.3067771221567011E-2}]
[{"$f":"'[1]Monthly Piglet Prices'!B9","v":"Danemark"},{"$f":"'[1]Monthly Piglet Prices'!C9","v":"EUR / piece"},{"$f":"'[1]Monthly Piglet Prices'!D9","v":42.395000000000003},{"$f":"'[1]Monthly Piglet Prices'!E9","v":41.290300000000002},{"$f":"'[1]Monthly Piglet Prices'!F9","v":42.284399999999998},{"$f":"'[1]Monthly Piglet Prices'!G9","v":44.416800000000002},{"$f":"'[1]Monthly Piglet Prices'!H9","v":47.403599999999997},{"$f":"'[1]Monthly Piglet Prices'!I9","v":50.733199999999997},{"$f":"'[1]Monthly Piglet Prices'!J9","v":49.854799999999997},{"$f":"'[1]Monthly Piglet Prices'!K9","v":48.4893},{"$f":"'[1]Monthly Piglet Prices'!L9","v":47.142600000000002},{"$f":"'[1]Monthly Piglet Prices'!M9","v":44.900009998335676},{"$f":"'[1]Monthly Piglet Prices'!N9","v":43.107661435812886},{"$f":"'[1]Monthly Piglet Prices'!O9","v":41.305102585229015},{"$f":"'[1]Monthly Piglet Prices'!P9","v":42.960894292677921},null,{"$f":"'[1]Monthly Piglet Prices'!R9","v":1.3348137579382469E-2}]
[{"$f":"'[1]Monthly Piglet Prices'!B10","v":"Danemark"},{"$f":"'[1]Monthly Piglet Prices'!C10","v":"DKK / piece"},{"$f":"'[1]Monthly Piglet Prices'!D10","v":316.06670000000003},{"$f":"'[1]Monthly Piglet Prices'!E10","v":307.77420000000001},{"$f":"'[1]Monthly Piglet Prices'!F10","v":315.33330000000001},{"$f":"'[1]Monthly Piglet Prices'!G10","v":331.25810000000001},{"$f":"'[1]Monthly Piglet Prices'!H10","v":353.51609999999999},{"$f":"'[1]Monthly Piglet Prices'!I10","v":378.36669999999998},{"$f":"'[1]Monthly Piglet Prices'!J10","v":371.87099999999998},{"$f":"'[1]Monthly Piglet Prices'!K10","v":361.66669999999999},{"$f":"'[1]Monthly Piglet Prices'!L10","v":351.68970000000002},{"$f":"'[1]Monthly Piglet Prices'!M10","v":335},{"$f":"'[1]Monthly Piglet Prices'!N10","v":321.67857142857144},{"$f":"'[1]Monthly Piglet Prices'!O10","v":308.29032258064518},{"$f":"'[1]Monthly Piglet Prices'!P10","v":320.73333333333335},null,{"$f":"'[1]Monthly Piglet Prices'!R10","v":1.476471052892725E-2}]
[{"$f":"'[1]Monthly Piglet Prices'!B11","v":"Allemagne"},{"$f":"'[1]Monthly Piglet Prices'!C11","v":"EUR / piece"},{"$f":"'[1]Monthly Piglet Prices'!D11","v":59.036700000000003},{"$f":"'[1]Monthly Piglet Prices'!E11","v":54.264499999999998},{"$f":"'[1]Monthly Piglet Prices'!F11","v":53.426699999999997},{"$f":"'[1]Monthly Piglet Prices'!G11","v":54.1},{"$f":"'[1]Monthly Piglet Prices'!H11","v":56.8645},{"$f":"'[1]Monthly Piglet Prices'!I11","v":58.276699999999998},{"$f":"'[1]Monthly Piglet Prices'!J11","v":56.406500000000001},{"$f":"'[1]Monthly Piglet Prices'!K11","v":54.643300000000004},{"$f":"'[1]Monthly Piglet Prices'!L11","v":57.14},{"$f":"'[1]Monthly Piglet Prices'!M11","v":57.674193548387102},{"$f":"'[1]Monthly Piglet Prices'!N11","v":58.753571428571433},{"$f":"'[1]Monthly Piglet Prices'!O11","v":57.590322580645157},{"$f":"'[1]Monthly Piglet Prices'!P11","v":60.43},null,{"$f":"'[1]Monthly Piglet Prices'!R11","v":2.3600573880315112E-2}]
[{"$f":"'[1]Monthly Piglet Prices'!B12","v":"Estonie"},{"$f":"'[1]Monthly Piglet Prices'!C12","v":"EUR / piece"},{"$f":"'[1]Monthly Piglet Prices'!D12","v":39.601999999999997},{"$f":"'[1]Monthly Piglet Prices'!E12","v":39.041899999999998},{"$f":"'[1]Monthly Piglet Prices'!F12","v":39.148000000000003},{"$f":"'[1]Monthly Piglet Prices'!G12","v":39.3994},{"$f":"'[1]Monthly Piglet Prices'!H12","v":38.675199999999997},{"$f":"'[1]Monthly Piglet Prices'!I12","v":38.3613},{"$f":"'[1]Monthly Piglet Prices'!J12","v":39.234200000000001},{"$f":"'[1]Monthly Piglet Prices'!K12","v":38.628},{"$f":"'[1]Monthly Piglet Prices'!L12","v":38.829300000000003},{"$f":"'[1]Monthly Piglet Prices'!M12","v":38.424516129032263},{"$f":"'[1]Monthly Piglet Prices'!N12","v":39.266785714285717},{"$f":"'[1]Monthly Piglet Prices'!O12","v":39.645483870967745},{"$f":"'[1]Monthly Piglet Prices'!P12","v":40.078333333333333},null,{"$f":"'[1]Monthly Piglet Prices'!R12","v":1.2028012053263426E-2}]
[{"$f":"'[1]Monthly Piglet Prices'!B13","v":"Espagne"},{"$f":"'[1]Monthly Piglet Prices'!C13","v":"EUR / piece"},{"$f":"'[1]Monthly Piglet Prices'!D13","v":50.575699999999998},{"$f":"'[1]Monthly Piglet Prices'!E13","v":42.245199999999997},{"$f":"'[1]Monthly Piglet Prices'!F13","v":39.636699999999998},{"$f":"'[1]Monthly Piglet Prices'!G13","v":40.506100000000004},{"$f":"'[1]Monthly Piglet Prices'!H13","v":39.360599999999998},{"$f":"'[1]Monthly Piglet Prices'!I13","v":41.5563},{"$f":"'[1]Monthly Piglet Prices'!J13","v":40.0426},{"$f":"'[1]Monthly Piglet Prices'!K13","v":40.042000000000002},{"$f":"'[1]Monthly Piglet Prices'!L13","v":45.897199999999998},{"$f":"'[1]Monthly Piglet Prices'!M13","v":49.151612903225811},{"$f":"'[1]Monthly Piglet Prices'!N13","v":51.486071428571428},{"$f":"'[1]Monthly Piglet Prices'!O13","v":49.911612903225802},{"$f":"'[1]Monthly Piglet Prices'!P13","v":52.436999999999991},null,{"$f":"'[1]Monthly Piglet Prices'!R13","v":3.6802258792265619E-2}]
[{"$f":"'[1]Monthly Piglet Prices'!B14","v":"France"},{"$f":"'[1]Monthly Piglet Prices'!C14","v":"EUR / piece"},{"$f":"'[1]Monthly Piglet Prices'!D14","v":36.906700000000001},{"$f":"'[1]Monthly Piglet Prices'!E14","v":33.670999999999999},{"$f":"'[1]Monthly Piglet Prices'!F14","v":33.253300000000003},{"$f":"'[1]Monthly Piglet Prices'!G14","v":33.658099999999997},{"$f":"'[1]Monthly Piglet Prices'!H14","v":33.664499999999997},{"$f":"'[1]Monthly Piglet Prices'!I14","v":33.893300000000004},{"$f":"'[1]Monthly Piglet Prices'!J14","v":32.954799999999999},{"$f":"'[1]Monthly Piglet Prices'!K14","v":33.64},{"$f":"'[1]Monthly Piglet Prices'!L14","v":36.2759},{"$f":"'[1]Monthly Piglet Prices'!M14","v":38.045161290322582},{"$f":"'[1]Monthly Piglet Prices'!N14","v":38.878571428571426},{"$f":"'[1]Monthly Piglet Prices'!O14","v":39.619354838709668},{"$f":"'[1]Monthly Piglet Prices'!P14","v":41.393333333333331},null,{"$f":"'[1]Monthly Piglet Prices'!R14","v":0.12156690609925369}]
[{"$f":"'[1]Monthly Piglet Prices'!B15","v":"Croatia"},{"$f":"'[1]Monthly Piglet Prices'!C15","v":"EUR / piece"},{"$f":"'[1]Monthly Piglet Prices'!D15","v":0},{"$f":"'[1]Monthly Piglet Prices'!E15","v":0},{"$f":"'[1]Monthly Piglet Prices'!F15","v":0},{"$f":"'[1]Monthly Piglet Prices'!G15","v":44.0411},{"$f":"'[1]Monthly Piglet Prices'!H15","v":42.690100000000001},{"$f":"'[1]Monthly Piglet Prices'!I15","v":41.698399999999999},{"$f":"'[1]Monthly Piglet Prices'!J15","v":39.904299999999999},{"$f":"'[1]Monthly Piglet Prices'!K15","v":38.748899999999999},{"$f":"'[1]Monthly Piglet Prices'!L15","v":40.504600000000003},{"$f":"'[1]Monthly Piglet Prices'!M15","v":45.927248602948666},{"$f":"'[1]Monthly Piglet Prices'!N15","v":48.472648273253334},{"$f":"'[1]Monthly Piglet Prices'!O15","v":49.55229464486569},{"$f":"'[1]Monthly Piglet Prices'!P15","v":53.017044610040202},null,{"$f":"'[1]Monthly Piglet Prices'!R15","v":0}]
[{"$f":"'[1]Monthly Piglet Prices'!B16","v":"Croatia"},{"$f":"'[1]Monthly Piglet Prices'!C16","v":"HRK / piece"},{"$f":"'[1]Monthly Piglet Prices'!D16","v":0},{"$f":"'[1]Monthly Piglet Prices'!E16","v":0},{"$f":"'[1]Monthly Piglet Prices'!F16","v":0},{"$f":"'[1]Monthly Piglet Prices'!G16","v":330.58710000000002},{"$f":"'[1]Monthly Piglet Prices'!H16","v":321.65159999999997},{"$f":"'[1]Monthly Piglet Prices'!I16","v":316.74},{"$f":"'[1]Monthly Piglet Prices'!J16","v":304.00650000000002},{"$f":"'[1]Monthly Piglet Prices'!K16","v":295.70670000000001},{"$f":"'[1]Monthly Piglet Prices'!L16","v":309.16550000000001},{"$f":"'[1]Monthly Piglet Prices'!M16","v":350.69677419354838},{"$f":"'[1]Monthly Piglet Prices'!N16","v":371.11428571428576},{"$f":"'[1]Monthly Piglet Prices'!O16","v":379.51612903225805},{"$f":"'[1]Monthly Piglet Prices'!P16","v":404.38000000000005},null,{"$f":"'[1]Monthly Piglet Prices'!R16","v":0}]
[{"$f":"'[1]Monthly Piglet Prices'!B17","v":"Italie"},{"$f":"'[1]Monthly Piglet Prices'!C17","v":"EUR / piece"},{"$f":"'[1]Monthly Piglet Prices'!D17","v":75.800299999999993},{"$f":"'[1]Monthly Piglet Prices'!E17","v":71.726799999999997},{"$f":"'[1]Monthly Piglet Prices'!F17","v":65.436999999999998},{"$f":"'[1]Monthly Piglet Prices'!G17","v":64.3035},{"$f":"'[1]Monthly Piglet Prices'!H17","v":64.299000000000007},{"$f":"'[1]Monthly Piglet Prices'!I17","v":64.648300000000006},{"$f":"'[1]Monthly Piglet Prices'!J17","v":64.053899999999999},{"$f":"'[1]Monthly Piglet Prices'!K17","v":62.348300000000002},{"$f":"'[1]Monthly Piglet Prices'!L17","v":64.464100000000002},{"$f":"'[1]Monthly Piglet Prices'!M17","v":68.897096774193543},{"$f":"'[1]Monthly Piglet Prices'!N17","v":76.153571428571439},{"$f":"'[1]Monthly Piglet Prices'!O17","v":78.408709677419353},{"$f":"'[1]Monthly Piglet Prices'!P17","v":77.719333333333324},null,{"$f":"'[1]Monthly Piglet Prices'!R17","v":2.5316962245971686E-2}]
[{"$f":"'[1]Monthly Piglet Prices'!B18","v":"Luxembourg"},{"$f":"'[1]Monthly Piglet Prices'!C18","v":"EUR / piece"},{"$f":"'[1]Monthly Piglet Prices'!D18","v":46.39},{"$f":"'[1]Monthly Piglet Prices'!E18","v":43.890300000000003},{"$f":"'[1]Monthly Piglet Prices'!F18","v":43.87},{"$f":"'[1]Monthly Piglet Prices'!G18","v":40.951599999999999},{"$f":"'[1]Monthly Piglet Prices'!H18","v":42.551600000000001},{"$f":"'[1]Monthly Piglet Prices'!I18","v":42.976700000000001},{"$f":"'[1]Monthly Piglet Prices'!J18","v":41.8613},{"$f":"'[1]Monthly Piglet Prices'!K18","v":42.653300000000002},{"$f":"'[1]Monthly Piglet Prices'!L18","v":47.679299999999998},{"$f":"'[1]Monthly Piglet Prices'!M18","v":50.054193548387097},{"$f":"'[1]Monthly Piglet Prices'!N18","v":44.288571428571423},{"$f":"'[1]Monthly Piglet Prices'!O18","v":44.77129032258064},{"$f":"'[1]Monthly Piglet Prices'!P18","v":44.838666666666661},null,{"$f":"'[1]Monthly Piglet Prices'!R18","v":-3.3441115182869963E-2}]
[{"$f":"'[1]Monthly Piglet Prices'!B19","v":"Hongrie"},{"$f":"'[1]Monthly Piglet Prices'!C19","v":"EUR / piece"},{"$f":"'[1]Monthly Piglet Prices'!D19","v":49.605899999999998},{"$f":"'[1]Monthly Piglet Prices'!E19","v":49.314399999999999},{"$f":"'[1]Monthly Piglet Prices'!F19","v":46.245600000000003},{"$f":"'[1]Monthly Piglet Prices'!G19","v":43.761499999999998},{"$f":"'[1]Monthly Piglet Prices'!H19","v":41.743499999999997},{"$f":"'[1]Monthly Piglet Prices'!I19","v":39.008800000000001},{"$f":"'[1]Monthly Piglet Prices'!J19","v":40.483800000000002},{"$f":"'[1]Monthly Piglet Prices'!K19","v":40.490499999999997},{"$f":"'[1]Monthly Piglet Prices'!L19","v":33.5062},{"$f":"'[1]Monthly Piglet Prices'!M19","v":45.918324985115746},{"$f":"'[1]Monthly Piglet Prices'!N19","v":45.175445246778274},{"$f":"'[1]Monthly Piglet Prices'!O19","v":47.166370544652743},{"$f":"'[1]Monthly Piglet Prices'!P19","v":49.359485513282429},null,{"$f":"'[1]Monthly Piglet Prices'!R19","v":-4.9674431210313674E-3}]
[{"$f":"'[1]Monthly Piglet Prices'!B20","v":"Hongrie"},{"$f":"'[1]Monthly Piglet Prices'!C20","v":"HUF/ piece"},{"$f":"'[1]Monthly Piglet Prices'!D20","v":14822.888999999999},{"$f":"'[1]Monthly Piglet Prices'!E20","v":14458.220600000001},{"$f":"'[1]Monthly Piglet Prices'!F20","v":13657.0723},{"$f":"'[1]Monthly Piglet Prices'!G20","v":12900.381299999999},{"$f":"'[1]Monthly Piglet Prices'!H20","v":12498.2497},{"$f":"'[1]Monthly Piglet Prices'!I20","v":11694.8017},{"$f":"'[1]Monthly Piglet Prices'!J20","v":11944.880300000001},{"$f":"'[1]Monthly Piglet Prices'!K20","v":12039.3343},{"$f":"'[1]Monthly Piglet Prices'!L20","v":10117.248},{"$f":"'[1]Monthly Piglet Prices'!M20","v":13817.818064516128},{"$f":"'[1]Monthly Piglet Prices'!N20","v":14011.278571428571},{"$f":"'[1]Monthly Piglet Prices'!O20","v":14690.717419354838},{"$f":"'[1]Monthly Piglet Prices'!P20","v":15174.66},null,{"$f":"'[1]Monthly Piglet Prices'!R20","v":2.3731608595328524E-2}]
[{"$f":"'[1]Monthly Piglet Prices'!B21","v":"Malte"},{"$f":"'[1]Monthly Piglet Prices'!C21","v":"EUR / piece"},{"$f":"'[1]Monthly Piglet Prices'!D21","v":91.32},{"$f":"'[1]Monthly Piglet Prices'!E21","v":91.32},{"$f":"'[1]Monthly Piglet Prices'!F21","v":91.32},{"$f":"'[1]Monthly Piglet Prices'!G21","v":91.32},{"$f":"'[1]Monthly Piglet Prices'!H21","v":91.32},{"$f":"'[1]Monthly Piglet Prices'!I21","v":91.32},{"$f":"'[1]Monthly Piglet Prices'!J21","v":91.32},{"$f":"'[1]Monthly Piglet Prices'!K21","v":91.32},{"$f":"'[1]Monthly Piglet Prices'!L21","v":91.32},{"$f":"'[1]Monthly Piglet Prices'!M21","v":91.320000000000007},{"$f":"'[1]Monthly Piglet Prices'!N21","v":91.319999999999979},{"$f":"'[1]Monthly Piglet Prices'!O21","v":91.32},{"$f":"'[1]Monthly Piglet Prices'!P21","v":91.32},null,{"$f":"'[1]Monthly Piglet Prices'!R21","v":0}]
[{"$f":"'[1]Monthly Piglet Prices'!B22","v":"Pays-Bas"},{"$f":"'[1]Monthly Piglet Prices'!C22","v":"EUR / piece"},{"$f":"'[1]Monthly Piglet Prices'!D22","v":45.774999999999999},{"$f":"'[1]Monthly Piglet Prices'!E22","v":36.927399999999999},{"$f":"'[1]Monthly Piglet Prices'!F22","v":34.25},{"$f":"'[1]Monthly Piglet Prices'!G22","v":34.572600000000001},{"$f":"'[1]Monthly Piglet Prices'!H22","v":36.612900000000003},{"$f":"'[1]Monthly Piglet Prices'!I22","v":36.966700000000003},{"$f":"'[1]Monthly Piglet Prices'!J22","v":34.403199999999998},{"$f":"'[1]Monthly Piglet Prices'!K22","v":33.9833},{"$f":"'[1]Monthly Piglet Prices'!L22","v":39.079500000000003},{"$f":"'[1]Monthly Piglet Prices'!M22","v":42.532258064516128},{"$f":"'[1]Monthly Piglet Prices'!N22","v":42.4375},{"$f":"'[1]Monthly Piglet Prices'!O22","v":39.612903225806448},{"$f":"'[1]Monthly Piglet Prices'!P22","v":43.741666666666667},null,{"$f":"'[1]Monthly Piglet Prices'!R22","v":-4.4420171126888675E-2}]
[{"$f":"'[1]Monthly Piglet Prices'!B23","v":"Pologne"},{"$f":"'[1]Monthly Piglet Prices'!C23","v":"EUR / piece"},{"$f":"'[1]Monthly Piglet Prices'!D23","v":42.307299999999998},{"$f":"'[1]Monthly Piglet Prices'!E23","v":41.798099999999998},{"$f":"'[1]Monthly Piglet Prices'!F23","v":40.8613},{"$f":"'[1]Monthly Piglet Prices'!G23","v":40.396299999999997},{"$f":"'[1]Monthly Piglet Prices'!H23","v":40.729300000000002},{"$f":"'[1]Monthly Piglet Prices'!I23","v":42.495600000000003},{"$f":"'[1]Monthly Piglet Prices'!J23","v":42.6798},{"$f":"'[1]Monthly Piglet Prices'!K23","v":40.195799999999998},{"$f":"'[1]Monthly Piglet Prices'!L23","v":39.061199999999999},{"$f":"'[1]Monthly Piglet Prices'!M23","v":40.412595989356483},{"$f":"'[1]Monthly Piglet Prices'!N23","v":38.980861937450008},{"$f":"'[1]Monthly Piglet Prices'!O23","v":39.557761944185316},{"$f":"'[1]Monthly Piglet Prices'!P23","v":41.699754490748731},null,{"$f":"'[1]Monthly Piglet Prices'!R23","v":-1.4360299741445703E-2}]
[{"$f":"'[1]Monthly Piglet Prices'!B24","v":"Pologne"},{"$f":"'[1]Monthly Piglet Prices'!C24","v":"PLN/ piece"},{"$f":"'[1]Monthly Piglet Prices'!D24","v":175.05629999999999},{"$f":"'[1]Monthly Piglet Prices'!E24","v":174.42580000000001},{"$f":"'[1]Monthly Piglet Prices'!F24","v":175.00729999999999},{"$f":"'[1]Monthly Piglet Prices'!G24","v":172.79769999999999},{"$f":"'[1]Monthly Piglet Prices'!H24","v":172.2174},{"$f":"'[1]Monthly Piglet Prices'!I24","v":180.161},{"$f":"'[1]Monthly Piglet Prices'!J24","v":178.93610000000001},{"$f":"'[1]Monthly Piglet Prices'!K24","v":168.3417},{"$f":"'[1]Monthly Piglet Prices'!L24","v":163.55860000000001},{"$f":"'[1]Monthly Piglet Prices'!M24","v":169.14419354838708},{"$f":"'[1]Monthly Piglet Prices'!N24","v":162.92464285714283},{"$f":"'[1]Monthly Piglet Prices'!O24","v":166.00838709677421},{"$f":"'[1]Monthly Piglet Prices'!P24","v":174.52233333333336},null,{"$f":"'[1]Monthly Piglet Prices'!R24","v":-3.0502567840553496E-3}]
[{"$f":"'[1]Monthly Piglet Prices'!B25","v":"Portugal"},{"$f":"'[1]Monthly Piglet Prices'!C25","v":"EUR / piece"},{"$f":"'[1]Monthly Piglet Prices'!D25","v":40.566699999999997},{"$f":"'[1]Monthly Piglet Prices'!E25","v":37.161299999999997},{"$f":"'[1]Monthly Piglet Prices'!F25","v":37},{"$f":"'[1]Monthly Piglet Prices'!G25","v":38.419400000000003},{"$f":"'[1]Monthly Piglet Prices'!H25","v":41.871000000000002},{"$f":"'[1]Monthly Piglet Prices'!I25","v":47.9},{"$f":"'[1]Monthly Piglet Prices'!J25","v":47.419400000000003},{"$f":"'[1]Monthly Piglet Prices'!K25","v":47.606699999999996},{"$f":"'[1]Monthly Piglet Prices'!L25","v":48.979300000000002},{"$f":"'[1]Monthly Piglet Prices'!M25","v":50.903225806451616},{"$f":"'[1]Monthly Piglet Prices'!N25","v":44.74285714285714},{"$f":"'[1]Monthly Piglet Prices'!O25","v":43.400000000000006},{"$f":"'[1]Monthly Piglet Prices'!P25","v":43.93333333333333},null,{"$f":"'[1]Monthly Piglet Prices'!R25","v":8.2990071495421924E-2}]
[{"$f":"'[1]Monthly Piglet Prices'!B26","v":"Slovakie"},{"$f":"'[1]Monthly Piglet Prices'!C26","v":"EUR / piece"},{"$f":"'[1]Monthly Piglet Prices'!D26","v":73.592699999999994},{"$f":"'[1]Monthly Piglet Prices'!E26","v":69.228700000000003},{"$f":"'[1]Monthly Piglet Prices'!F26","v":74.045699999999997},{"$f":"'[1]Monthly Piglet Prices'!G26","v":65.988100000000003},{"$f":"'[1]Monthly Piglet Prices'!H26","v":67.167100000000005},{"$f":"'[1]Monthly Piglet Prices'!I26","v":72.774000000000001},{"$f":"'[1]Monthly Piglet Prices'!J26","v":69.058400000000006},{"$f":"'[1]Monthly Piglet Prices'!K26","v":71.232299999999995},{"$f":"'[1]Monthly Piglet Prices'!L26","v":70.510000000000005},{"$f":"'[1]Monthly Piglet Prices'!M26","v":68.368064516129024},{"$f":"'[1]Monthly Piglet Prices'!N26","v":72.542500000000004},{"$f":"'[1]Monthly Piglet Prices'!O26","v":79.710967741935477},{"$f":"'[1]Monthly Piglet Prices'!P26","v":80.256000000000014},null,{"$f":"'[1]Monthly Piglet Prices'!R26","v":9.0542947873906154E-2}]
[{"$f":"'[1]Monthly Piglet Prices'!B27","v":"Finlande"},{"$f":"'[1]Monthly Piglet Prices'!C27","v":"EUR / piece"},{"$f":"'[1]Monthly Piglet Prices'!D27","v":58.589700000000001},{"$f":"'[1]Monthly Piglet Prices'!E27","v":55.617699999999999},{"$f":"'[1]Monthly Piglet Prices'!F27","v":56.05},{"$f":"'[1]Monthly Piglet Prices'!G27","v":54.25},{"$f":"'[1]Monthly Piglet Prices'!H27","v":55.640599999999999},{"$f":"'[1]Monthly Piglet Prices'!I27","v":55.572000000000003},{"$f":"'[1]Monthly Piglet Prices'!J27","v":55.17},{"$f":"'[1]Monthly Piglet Prices'!K27","v":54.337000000000003},{"$f":"'[1]Monthly Piglet Prices'!L27","v":54.133800000000001},{"$f":"'[1]Monthly Piglet Prices'!M27","v":52.130645161290332},{"$f":"'[1]Monthly Piglet Prices'!N27","v":54.097142857142849},{"$f":"'[1]Monthly Piglet Prices'!O27","v":53.361612903225804},{"$f":"'[1]Monthly Piglet Prices'!P27","v":52.066333333333333},null,{"$f":"'[1]Monthly Piglet Prices'!R27","v":-0.1113398202528203}]
[{"$f":"'[1]Monthly Piglet Prices'!B28","v":"Suède"},{"$f":"'[1]Monthly Piglet Prices'!C28","v":"EUR / piece"},{"$f":"'[1]Monthly Piglet Prices'!D28","v":87.4178},{"$f":"'[1]Monthly Piglet Prices'!E28","v":86.0625},{"$f":"'[1]Monthly Piglet Prices'!F28","v":86.877399999999994},{"$f":"'[1]Monthly Piglet Prices'!G28","v":86.171000000000006},{"$f":"'[1]Monthly Piglet Prices'!H28","v":85.926400000000001},{"$f":"'[1]Monthly Piglet Prices'!I28","v":85.359499999999997},{"$f":"'[1]Monthly Piglet Prices'!J28","v":84.068299999999994},{"$f":"'[1]Monthly Piglet Prices'!K28","v":81.894900000000007},{"$f":"'[1]Monthly Piglet Prices'!L28","v":78.835700000000003},{"$f":"'[1]Monthly Piglet Prices'!M28","v":78.220130063202646},{"$f":"'[1]Monthly Piglet Prices'!N28","v":75.785233065754127},{"$f":"'[1]Monthly Piglet Prices'!O28","v":74.300644140260431},{"$f":"'[1]Monthly Piglet Prices'!P28","v":72.543164746936384},null,{"$f":"'[1]Monthly Piglet Prices'!R28","v":-0.17015568057150388}]
[{"$f":"'[1]Monthly Piglet Prices'!B29","v":"Suède"},{"$f":"'[1]Monthly Piglet Prices'!C29","v":"SEK / piece"},{"$f":"'[1]Monthly Piglet Prices'!D29","v":737.41470000000004},{"$f":"'[1]Monthly Piglet Prices'!E29","v":737.48130000000003},{"$f":"'[1]Monthly Piglet Prices'!F29","v":753.476},{"$f":"'[1]Monthly Piglet Prices'!G29","v":746.59550000000002},{"$f":"'[1]Monthly Piglet Prices'!H29","v":747.72260000000006},{"$f":"'[1]Monthly Piglet Prices'!I29","v":740.88199999999995},{"$f":"'[1]Monthly Piglet Prices'!J29","v":735.05},{"$f":"'[1]Monthly Piglet Prices'!K29","v":726.55129999999997},{"$f":"'[1]Monthly Piglet Prices'!L29","v":705.57910000000004},{"$f":"'[1]Monthly Piglet Prices'!M29","v":691.60916129032262},{"$f":"'[1]Monthly Piglet Prices'!N29","v":672.18964285714287},{"$f":"'[1]Monthly Piglet Prices'!O29","v":659.0116129032258},{"$f":"'[1]Monthly Piglet Prices'!P29","v":655.9766666666668},null,{"$f":"'[1]Monthly Piglet Prices'!R29","v":-0.11043722525918354}]
[{"$f":"'[1]Monthly Piglet Prices'!B30","v":"Royaume Uni"},{"$f":"'[1]Monthly Piglet Prices'!C30","v":"EUR / piece"},{"$f":"'[1]Monthly Piglet Prices'!D30","v":57.620699999999999},{"$f":"'[1]Monthly Piglet Prices'!E30","v":58.689799999999998},{"$f":"'[1]Monthly Piglet Prices'!F30","v":60.613300000000002},{"$f":"'[1]Monthly Piglet Prices'!G30","v":62.159799999999997},{"$f":"'[1]Monthly Piglet Prices'!H30","v":62.414499999999997},{"$f":"'[1]Monthly Piglet Prices'!I30","v":64.111999999999995},{"$f":"'[1]Monthly Piglet Prices'!J30","v":64.342399999999998},{"$f":"'[1]Monthly Piglet Prices'!K30","v":67.3827},{"$f":"'[1]Monthly Piglet Prices'!L30","v":68.044499999999999},{"$f":"'[1]Monthly Piglet Prices'!M30","v":68.495034709179379},{"$f":"'[1]Monthly Piglet Prices'!N30","v":67.031862854572509},{"$f":"'[1]Monthly Piglet Prices'!O30","v":67.440808367251066},{"$f":"'[1]Monthly Piglet Prices'!P30","v":68.193878251139523},null,{"$f":"'[1]Monthly Piglet Prices'!R30","v":0.18349617847647681}]
[{"$f":"'[1]Monthly Piglet Prices'!B31","v":"Royaume Uni"},{"$f":"'[1]Monthly Piglet Prices'!C31","v":"GBP / piece"},{"$f":"'[1]Monthly Piglet Prices'!D31","v":48.981299999999997},{"$f":"'[1]Monthly Piglet Prices'!E31","v":49.768099999999997},{"$f":"'[1]Monthly Piglet Prices'!F31","v":51.666699999999999},{"$f":"'[1]Monthly Piglet Prices'!G31","v":53.555799999999998},{"$f":"'[1]Monthly Piglet Prices'!H31","v":53.646799999999999},{"$f":"'[1]Monthly Piglet Prices'!I31","v":54.028300000000002},{"$f":"'[1]Monthly Piglet Prices'!J31","v":54.474800000000002},{"$f":"'[1]Monthly Piglet Prices'!K31","v":56.512700000000002},{"$f":"'[1]Monthly Piglet Prices'!L31","v":56.970999999999997},{"$f":"'[1]Monthly Piglet Prices'!M31","v":56.762903225806461},{"$f":"'[1]Monthly Piglet Prices'!N31","v":55.301785714285714},{"$f":"'[1]Monthly Piglet Prices'!O31","v":56.062903225806451},{"$f":"'[1]Monthly Piglet Prices'!P31","v":56.292999999999999},null,{"$f":"'[1]Monthly Piglet Prices'!R31","v":0.1492753356893346}]
[]
[{"$f":"'[1]Monthly Piglet Prices'!B33","v":"EU"},{"$f":"'[1]Monthly Piglet Prices'!C33","v":"EUR / piece"},{"$f":"'[1]Monthly Piglet Prices'!D33","v":51.438400000000001},{"$f":"'[1]Monthly Piglet Prices'!E33","v":46.9726},{"$f":"'[1]Monthly Piglet Prices'!F33","v":45.524999999999999},{"$f":"'[1]Monthly Piglet Prices'!G33","v":46.017200000000003},{"$f":"'[1]Monthly Piglet Prices'!H33","v":46.883000000000003},{"$f":"'[1]Monthly Piglet Prices'!I33","v":48.270200000000003},{"$f":"'[1]Monthly Piglet Prices'!J33","v":46.946899999999999},{"$f":"'[1]Monthly Piglet Prices'!K33","v":46.072600000000001},{"$f":"'[1]Monthly Piglet Prices'!L33","v":48.416499999999999},{"$f":"'[1]Monthly Piglet Prices'!M33","v":50.236968350367206},{"$f":"'[1]Monthly Piglet Prices'!N33","v":51.142206331862305},{"$f":"'[1]Monthly Piglet Prices'!O33","v":50.432815206186305},{"$f":"'[1]Monthly Piglet Prices'!P33","v":52.609339521672304},null,{"$f":"'[1]Monthly Piglet Prices'!R33","v":2.2763918039291786E-2}]
[]
[]
[]
[]
[]
[]
[]
[]
[]
[]
[]
[]
[]
[]
[]
[]
[]
[]
[]
[]
[]
[]
[]
[]
[]
[]
[]
[]
[]
[]
[]
[]
[]
[]
[]
[]
[]
[]
[]
[]
[]
[]
[]
[]
[]
[]
[]
[]
[]
[]
[]
[]
[]
[]
[]
[]
[]
[]
[]
[]
[]
[]
[]
[]
[]
[]
[]
[]
[]
[]
[]
[]
[]
[]
[]
[]
[]
[]
[]
[]
[]
[]
[]
[]
[]
[]
[]
[]
[]
[]
[]
[]
[]
[]
[]
[]
[]
[]
[]
[]
[]
[]
[]
[]
[]
[]
[]
[]
[]
[]
[]
[]
[]
[]
[]
[]
[]
[]
[]
[]
[]
[]
[]
[]
[]
[]
[]
[]
[]
[]
[]
[]
[]
[]
[]
[]
[]
[]
[]
[]
[]
[]
[]
[]
[]
[]
[]
[]
[]
[]
[]
[]
[]
[]
[]
[]
[]
[]
[]
[]
[]
[]
[]
[]
[]
[]
[]
[]
[]
[]
[]
[]
[]
[]
[]
[]
[]
[]
[]
[]
[]
[]
[]
[]
[]
[]
[]
[]
[]
[]
[]
[]
[]
[]
[]
[]
[]
[]
[]
[]
[]
[]
[]
[]
[]
[]
[]
[]
[]
[]
[]
[]
[]
[]
[]
[]
[]
[]
[]
[]
[]
[]
[]
[]
[]
[]
[]
[]
[]
[]
[]
[]
[]
[]
[]
[]
[]
[]
[]
[]
[]
[]
[]
[]
[]
[]
[]
[]
[]
[]
[]
[]
[]
[]
[]
[]
[]
[]
[]
[]
[]
[]
[]
[]
[]
[]
[]
[]
[]
[]
[]
[]
[]
[]
[]
[]
[]
[]
[]
[]
[]
[]
[]
[]
[]
[]
[]
[]
[]
[]
[]
[]
[]
[]
[]
[]
[]
[]
[]
[]
[]
[]
[]
[]
[]
[]
[]
[]
[]
[]
[]
[]
[]
[]
[]
[]
[]
[]
[]
[]
[]
[]
[]
[]
[]
[]
[]
[]
[]
[]
[]
[]
[]
[]
[]
[]
[]
[]
[]
[]
[]
[]
[]
[]
[]
[]
[]
[]
[]
[]
[]
[]
[]
[]
[]
[]
[]
[]
[]
[]
[]
[]
[]
[]
[]
[]
[]
[]
[]
[null,null,"BG","BG","CZ","CZ","DK","DK","DE","EE","GR","ES","FR","HR",null,null,"HR","IE","IT","LT","LU","HU","HU","MT","NL","AT","PL","PL","PT","RO","RO","SI","SK","FI","SE","SE","UK"]

{"sheet":"Annual pig price","index":12,"n_rows":45,"n_cols":22,"rows_kept":45,"cut":false,"hidden":false,"merged":[[0,0,0,20]]}
["Annual Market Prices for Pig Carcass Grade E in the E.U."]
[]
[null,null,"1995","1996","1997","1998","1999","2000","2001","2002","2003","2004","2005","2006","2007",2008,2009,2010,2011,2012,2013,"13 / 12"]
[]
["BE","EUR ",142.24590833333301,172.859733333333,170.94505833333301,118.36347499999999,101.85804166666699,138.17882499999999,165.35896666666699,132.63184999999999,121.04419166666699,135.05584999999999,136.145258333333,141.05655000000002,129.166416666667,145.333675,133.23542499999999,130.25364166666665,141.29193333333333,160.51012499999999,158.44052500000001,{"$f":"(+U5/T5)-1","v":-1.2893890650200301E-2}]
["BG","EUR ",null,null,null,null,null,null,null,null,null,null,null,null,171.29306666666699,176.824733333333,174.51870833333334,163.52574999999999,168.71776666666668,186.09641666666667,202.47799166666667,{"$f":"(+U6/T6)-1","v":8.8027353204454428E-2}]
["CZ","EUR ",null,null,null,null,null,null,null,null,null,145.81446249999999,144.03037499999999,147.53948333333301,138.56256666666698,163.184908333333,149.95845,142.08476666666667,156.222925,177.38331666666667,173.18677500000001,-2.3658040370012179E-2]
["DK","EUR ",129.345233333333,150.36320833333301,153.247075,108.92955000000001,104.086983333333,132.12905833333301,157.17773333333301,125.969716666667,109.319408333333,120.686916666667,122.0772,128.25274166666699,117.699616666667,130.508141666667,122.870625,126.30896666666666,138.915325,157.39080833333333,159.51092499999999,1.3470396963566778E-2]
["DE","EUR ",143.22014999999999,173.50534999999999,175.90961666666701,121.55130000000001,114.46625,143.79499999999999,170.53988333333302,138.20140000000001,128.506775,145.4804,147.09007500000001,153.99166666666699,139.08119166666702,160.66464166666699,146.02562499999999,144.36543333333333,155.726225,173.84329166666666,173.97309166666668,7.4664946087699136E-4]
["EE","EUR ",null,null,null,null,null,null,null,null,null,143.83282500000001,137.978275,139.79746666666699,141.38057499999999,156.0926,149.80395833333333,142.53116666666668,156.30416666666667,169.86779166666668,173.66485833333334,2.2353070169521594E-2]
["IE","EUR ",130.982316666667,152.246691666667,146.10829166666701,113.67534166666699,103.731275,129.433291666667,146.27374166666701,128.29278333333301,123.093191666667,133.131008333333,130.86793333333301,140.10615833333298,132.57390000000001,144.31296666666699,131.59645,130.63437500000001,142.78958333333333,158.10361666666665,166.14766666666668,5.0878342757708639E-2]
["GR","EUR ",157.23307499999999,182.890975,182.539866666667,140.27282500000001,148.85746666666699,167.96905833333298,221.02563333333299,157.22705833333299,147.40520833333301,159.192825,178.48598333333302,188.46823333333299,161.751816666667,184.45869166666702,172.98246666666665,160.87108333333333,172.54355833333332,190.68975,198.92965000000001,4.3211027336288454E-2]
["ES","EUR ",142.32363333333299,161.520158333333,167.36397499999998,121.865891666667,112.00330000000001,142.36010833333302,174.71577500000001,136.79318333333302,129.14213333333299,139.04784999999998,143.46554166666701,154.16330833333302,139.13527500000001,151.46075833333299,145.17060000000001,145.70089999999999,159.75133333333332,173.73076666666665,193.28234166666667,0.11253950797047474]
["FR","EUR ",138.09572500000002,161.13313333333301,160.277616666667,119.670733333333,114.174816666667,139.498741666667,164.50503333333299,129.38515000000001,122.554183333333,131.29634166666699,135.022525,141.57204999999999,127.74657500000001,142.09895,131.06486666666666,129.91291666666666,146.57216666666667,161.11315833333333,163.557725,1.5172979612310789E-2]
["HR","EUR ",null,null,null,null,null,null,null,null,null,null,null,null,null,null,null,null,null,null,178.12809999999999]
["IT","EUR ",145.01605000000001,160.77235833333299,165.71122500000001,140.67802499999999,132.076991666667,156.984608333333,191.255216666667,159.060791666667,157.571441666667,155.055733333333,142.23875833333298,157.97444999999999,144.15564166666701,165.833575,151.93010000000001,150.22636666666668,172.69064166666666,186.62635,189.04221666666666,1.2944938732749378E-2]
["CY","EUR ",null,null,null,null,null,null,null,null,null,134.248975,141.648008333333,164.89162499999998,149.6885,154.36066666666699,153.02203333333333,161.92983333333333,169.7732,197.66539166666666,201.85651666666666,2.1203130020189365E-2]
["LV","EUR ",null,null,null,null,null,null,null,null,null,144.9845,146.08556666666698,153.84131666666701,148.97085833333298,170.837858333333,155.29195000000001,143.362875,161.80224999999999,181.59620833333332,183.98780833333333,1.3169878501042565E-2]
["LT","EUR ",null,null,null,null,null,null,null,null,null,155.15710000000001,144.94074166666701,143.53039166666701,140.70783333333301,169.7483,156.779775,145.37042500000001,153.98074166666666,174.72696666666667,177.5067,1.5909011564519071E-2]
["LU","EUR ",155.422008333333,185.74314166666699,203.82998333333302,147.974758333333,140.73646666666698,161.29372499999999,180.27978333333303,140.24565833333298,130.65483333333299,145.97143333333301,147.927975,154.79240833333301,139.99025,161.29920000000001,147.31978333333333,146.20859166666668,156.73694166666667,174.63442499999999,170.98605833333335,-2.0891451766549718E-2]
["HU","EUR ",null,null,null,null,null,null,null,null,null,142.85703749999999,143.81063333333299,144.978258333333,136.643933333333,160.423441666667,149.45683333333332,141.21233333333333,154.06823333333332,173.52213333333333,174.22268333333332,4.0372371324772782E-3]
["MT","EUR ",null,null,null,null,null,null,null,null,null,161.18606249999999,160.484508333333,160.7268,152.45704166666698,161.71724166666701,182,182,181.36155833333333,198.42252500000001,237,0.19442084511322477]
["NL","EUR ",123.938666666667,152.509158333333,153.96254999999999,100.41200833333301,93.628174999999999,127.13395833333301,141.49493333333299,119.375391666667,115.165775,131.41413333333301,130.57104166666699,137.220125,123.63605,142.93690833333301,130.39590833333332,128.79150000000001,140.77734166666667,157.06501666666668,157.12572499999999,3.8651721829396912E-4]
["AT","EUR ",143.22561666666701,176.44143333333301,170.88376666666699,122.82910000000001,115.4499,143.011908333333,172.00437500000001,137.383266666667,127.23485833333301,143.06370833333301,145.15118333333302,151.2448,137.82271666666699,155.12528333333302,138.38519166666666,137.78986666666665,151.21410833333334,170.57287500000001,172.18036666666666,9.4240755845069746E-3]
["PL","EUR ",null,null,null,null,null,null,null,null,null,143.97252499999999,133.14525,129.000458333333,128.36879999999999,158.31842499999999,143.68832499999999,134.90825000000001,151.46074166666668,174.62115833333334,173.83294166666667,-4.5138669001498766E-3]
["PT","EUR ",148.65992499999999,172.58994999999999,169.574733333333,129.01015000000001,120.203666666667,149.51113333333299,184.374091666667,143.14410000000001,133.49675833333299,141.63307499999999,147.558766666667,160.66034999999999,147.33368333333303,156.719558333333,151.96039166666668,153.207075,161.31506666666667,174.91201666666666,181.32803333333334,3.6681394388664579E-2]
["RO","EUR ",null,null,null,null,null,null,null,null,null,null,null,null,151.093966666667,173.05430000000001,158.12879166666667,153.41001666666668,158.64179166666668,176.79299166666667,185.41800833333335,4.8785964790553749E-2]
["SI","EUR ",null,null,null,null,null,null,null,null,null,142.8700375,148.666008333333,147.85716666666698,136.552525,150.16354166666699,137.78199166666667,136.85164166666667,151.02505833333333,168.379625,169.62118333333333,7.3735663286655928E-3]
["SK","EUR ",null,null,null,null,null,null,null,null,null,142.1904625,143.783941666667,147.46787499999999,139.18518333333301,167.92734999999999,153.35602499999999,145.76858333333334,158.77485833333333,178.73051666666666,178.97804166666666,1.3849061963024933E-3]
["FI","EUR ",139.33443333333301,141.52861666666701,144.62615,131.28798333333302,118.925366666667,134.72674166666698,157.61574166666699,145.52859166666701,122.77290833333301,127.734483333333,137.91556666666699,133.071091666667,138.286466666667,150.20281666666699,144.74165833333333,141.67058333333333,149.85679166666668,166.09292500000001,178.07147499999999,7.2119568006885126E-2]
["SE","EUR ",125.482066666667,144.709225,153.47514166666699,130.78740000000002,122.536233333333,146.602566666667,152.80090833333301,137.72126666666699,123.161983333333,129.581625,133.208783333333,139.38584166666701,144.03490833333299,152.046425,137.84261666666666,145.75921666666667,148.40431666666666,169.70668333333333,189.38084166666667,0.11593036848578242]
["UK","EUR ",139.40480833333299,165.506233333333,154.50595833333298,120.118658333333,121.87113333333301,157.49844999999999,159.46833333333299,150.40594166666699,149.61659166666701,151.23112499999999,147.27600833333301,149.52635833333301,152.947258333333,154.13830833333301,159.42105833333332,160.42374166666667,161.95929166666667,180.62523333333334,189.83293333333333,5.0976819960740105E-2]
[]
["EU","EUR ",138.42847499999999,162.59458333333302,164.0138,119.43026666666699,112.24850833333301,141.441466666667,166.51127500000001,135.51296666666698,127.25647499999999,138.35544999999999,139.04094166666698,145.22661666666701,135.17066666666699,153.238541666667,142.21501666666666,140.23595833333334,153.18684166666668,170.51689166666668,175.47700833333334,2.9088711494711594E-2]
["change in €uro",null,null,null,null,null,null,null,null,null,null,null,null,null,{"$f":"+O34-N34","v":-10.055950000000024},{"$f":"+P34-O34","v":18.067875000000015},{"$f":"+Q34-P34","v":-11.023525000000348},{"$f":"+R34-Q34","v":-1.9790583333333132},{"$f":"+S34-R34","v":12.950883333333337},17.33005,4.9601166666666643]
[]
[null,null,"1995","1996","1997","1998","1999","2000","2001","2002","2003","2004","2005","2006","2007",2008,2009,2010,2011,2012,2013]
[null,"min",{"$f":"MIN(C5:C32)","v":123.938666666667},141.52861666666701,144.62615,100.41200833333301,93.628174999999999,127.13395833333301,141.49493333333299,119.375391666667,109.319408333333,120.686916666667,122.0772,128.25274166666699,117.699616666667,130.508141666667,122.870625,126.30896666666666,138.915325,157.06501666666668,157.12572499999999]
[null,"max",{"$f":"MAX(C5:C32)","v":157.23307499999999},185.74314166666699,203.82998333333302,147.974758333333,148.85746666666699,167.96905833333298,221.02563333333299,159.060791666667,157.571441666667,161.18606249999999,178.48598333333302,188.46823333333299,171.29306666666699,184.45869166666702,182,182,181.36155833333333,198.42252500000001,237]
[null,"difference",{"$f":"+C39-C38","v":33.294408333332981},{"$f":"+D39-D38","v":44.214524999999981},59.203833333333023,47.562749999999994,55.229291666666995,40.835099999999969,79.530699999999996,39.685400000000001,48.252033333333998,40.499145833332989,56.40878333333302,60.215491666665997,53.59344999999999,53.950550000000021,59.129374999999996,55.691033333333337,42.446233333333339,41.357508333333328,79.874275000000011]
[]
[]
[null,"eu avg - min",{"$f":"+C34-C38","v":14.489808333332988},{"$f":"+D34-D38","v":21.065966666666014},19.387650000000008,19.018258333333989,18.620333333333008,14.307508333333985,25.016341666667017,16.137574999999984,17.937066666666993,17.668533333332988,16.963741666666976,16.973875000000021,17.471049999999991,22.730400000000003,{"$f":"+Q34-Q38","v":19.344391666666652},{"$f":"+R34-R38","v":13.92699166666668},{"$f":"+S34-S38","v":14.271516666666685},{"$f":"+T34-T38","v":13.451875000000001},{"$f":"+U34-U38","v":18.351283333333356}]
[null,"eu max - eu avg",{"$f":"+C39-C34","v":18.804599999999994},{"$f":"+D39-D34","v":23.148558333333966},39.816183333333015,28.544491666666005,36.608958333333987,26.527591666665984,54.514358333332979,23.547825000000017,30.314966666667004,22.830612500000001,39.445041666666043,43.241616666665976,36.122399999999999,31.220150000000018,{"$f":"+Q39-Q34","v":39.784983333333344},{"$f":"+R39-R34","v":41.764041666666657},{"$f":"+S39-S34","v":28.174716666666654},{"$f":"+T39-T34","v":27.905633333333327},{"$f":"+U39-U34","v":61.522991666666655}]
[null,"difference",{"$f":"+C44-C43","v":4.3147916666670056},{"$f":"+D44-D43","v":2.0825916666679518},20.428533333333007,9.5262333333320157,17.98862500000098,12.220083333331999,29.498016666665961,7.4102500000000333,12.377900000000011,5.1620791666670129,22.481299999999067,26.267741666665955,18.651350000000008,8.489750000000015,20.440591666666691,27.837049999999977,13.90319999999997,14.453758333333326,43.171708333333299]

{"sheet":"Annual piglet price","index":13,"n_rows":37,"n_cols":22,"rows_kept":37,"cut":false,"hidden":false,"merged":[[0,0,0,20]]}
["Annual Market Prices for Piglets in the E.U."]
[]
["MN","100 kg","1995","1996","1997","1998","1999","2000","2001","2002","2003","2004","2005","2006","2007",2008,2009,2010,2011,2012,2013,"13/ 12"]
[]
["BE","EUR",36.631008333333305,46.013125000000002,49.063708333333302,25.681266666666698,18.862591666666699,34.063108333333304,41.3849916666667,28.783549999999998,24.044924999999999,27.8271333333333,31.9224416666667,45.792916666666699,35.840516666666701,41.669041666666701,43.589374999999997,38.440291666666667,38.701233333333334,44.955616666666664,46.133375000000001,{"$f":"(+U5/T5)-1","v":2.6198246641039091E-2}]
["CZ","EUR",null,null,null,null,null,null,null,null,null,40.904000000000003,41.654433333333301,43.021166666666701,37.244149999999998,50.924683333333299,55.964133333333336,54.564791666666665,48.375633333333333,62.782391666666669,59.572249999999997,{"$f":"(+U6/T6)-1","v":-5.1131242079951678E-2}]
["DK","EUR",40.532683333333303,49.046924999999995,52.549374999999998,36.4400166666667,34.535316666666702,46.4936333333333,56.518583333333304,43.395158333333299,35.420999999999999,39.589649999999999,39.854941666666697,42.610466666666696,37.4174583333333,37.220983333333301,37.982025,38.498558333333335,40.615291666666664,45.286358333333332,45.288674999999998,5.1155949648551413E-5]
["DE","EUR",47.504574999999996,55.2980916666667,59.521133333333303,36.618983333333304,31.008133333333298,44.8612416666667,56.513283333333298,45.264249999999997,39.489083333333305,45.259758333333302,49.561258333333299,53.027074999999996,40.661274999999996,48.018225000000001,54.54804166666667,47.361841666666663,45.330766666666669,56.347566666666665,56.504508333333334,2.7852430184800436E-3]
["EE","EUR",null,null,null,null,null,null,null,null,null,32.711662500000003,32.4733083333333,34.156691666666696,33.846508333333304,31.496991666666698,39.807850000000002,38.072158333333334,39.727449999999997,40.645474999999998,39.095649999999999,-3.8130320779865334E-2]
["IE","EUR",27.655008333333299,35.304983333333304,30.652833333333298,19.35605,19.941783333333298,29.395474999999998,32.378300000000003]
["GR","EUR",null,null,null,null,null,null,null,79,66.531716666666711,62.281475]
["ES","EUR",35.321391666666699,41.754183333333302,43.896633333333305,29.4681,21.9586166666667,35.761274999999998,48.239049999999999,33.6170166666667,28.922691666666701,32.3555833333333,38.728533333333303,42.336233333333304,28.539108333333299,27.480941666666698,36.05340833333333,36.053750000000001,32.4923,42.821375000000003,44.396650000000001,3.6787118582717104E-2]
["FR","EUR",null,null,null,null,null,36.991475000000001,44.0262666666667,34.329491666666698,29.7757166666667,32.708266666666702,35.167358333333304,37.193033333333304,31.328558333333298,26.8922666666667,31.041416666666667,29.486583333333332,29.167833333333334,33.614983333333335,34.325833333333335,2.1146819944875883E-2]
["HR",null,null,null,null,null,null,null,null,null,null,null,null,null,null,null,null,null,null,null,41.264566666666667]
["IT","EUR",46.017941666666701,49.909641666666701,56.2181833333333,47.7312333333333,41.015283333333301,53.676591666666695,68.074233333333297,60.3427583333333,58.415149999999997,54.386283333333303,55.524583333333304,58.9549916666667,55.164649999999995,51.2522083333333,58.047133333333335,59.47334166666667,57.97775,66.597875000000002,67.407391666666669,1.2155292742698887E-2]
["LV","EUR",null,null,null,null,null,null,null,null,null,23.97955]
["LU","EUR",46.466049999999996,53.399049999999995,58.754324999999994,42.696249999999999,31.663216666666699,43.610400000000006,49.3095833333333,43.709758333333305,35.740349999999999,34.053874999999998,33.538049999999998,37.105941666666702,33.267949999999999,32.661816666666702,38.810091666666665,39.713883333333335,36.338141666666665,44.623208333333331,44.328499999999998,-6.6043734715772739E-3]
["HU","EUR",null,null,null,null,null,null,null,null,null,35.692949999999996,48.799808333333303,41.849499999999999,37.351141666666699,37.2058416666667,49.202925,40.359274999999997,34.176183333333334,46.547758333333334,43.314583333333331,-6.9459306221513417E-2]
["MT","EUR",null,null,null,null,null,null,null,null,null,55.480687500000002,55.239208333333302,55.322600000000001,57.925141666666697,55.3201416666667,61.695666666666668,80,80,82.54965,91.32,0.10624333355744087]
["NL","EUR",38.162574999999997,50.574075000000001,46.722149999999999,28.673866666666701,25.2196,37.617416666666699,44.076583333333303,22.774449999999998,26.270374999999998,32.133624999999995,38.841425000000001,38.775374999999997,26.681808333333301,31.4969583333333,33.563749999999999,30.309941666666667,29.583525000000002,38.777324999999998,38.783000000000001,1.463484136670079E-4]
["PL","EUR",null,null,null,null,null,null,null,null,null,30.138312500000001,33.544499999999999,27.324441666666701,20.939108333333298,29.033758333333299,40.789141666666666,30.259141666666668,28.338566666666665,42.674841666666666,41.199108333333335,-3.4580874250460969E-2]
["PT","EUR",37.398900000000005,42.966724999999997,42.418074999999995,29.823649999999997,28.3702583333333,43.942183333333304,48.293324999999996,43.353366666666702,35.2631333333333,41.203841666666698,44.591391666666695,47.868616666666696,35.767241666666699,31.978375,32.56451666666667,42.524466666666669,30.681541666666668,31.948433333333334,41.155425000000001,0.28818288429375261]
["SK","EUR",null,null,null,null,null,null,null,null,null,35.381675000000001,46.432258333333301,54.334891666666699,43.642424999999996,50.760933333333298,60.900824999999998,53.252716666666664,54.059383333333336,66.246799999999993,71.298316666666665,7.6252991339456067E-2]
["FI","EUR",55.787941666666697,56.308866666666695,54.500958333333301,52.904841666666698,46.413541666666696,58.8714333333333,68.02441666666671,61.335224999999994,45.1959083333333,47.319416666666697,51.246608333333299,48.882683333333304,49.1965583333333,48.582966666666699,50.002025000000003,49.806975000000001,47.710316666666664,56.323974999999997,56.344783333333332,3.6944007118355771E-4]
["SE","EUR",48.034233333333304,50.699583333333301,58.247149999999998,46.371400000000001,44.111325000000001,54.706900000000005,58.2182666666667,54.911191666666696,50.164483333333301,51.785224999999997,55.966449999999995,57.823474999999995,56.897200000000005,57.340133333333299,55.013916666666667,59.567149999999998,57.128116666666664,77.881474999999995,85.232133333333337,9.4382628646072053E-2]
["UK","EUR",29.796141666666699,36.894908333333305,29.70645,20.060166666666699,27.283524999999997,40.050508333333305,46.585366666666701,null,48.082500000000003,48.220666666666702,50.189450000000001,49.911149999999999,48.750358333333303,48.322049999999997,58.49755833333333,57.640916666666669,49.370683333333332,53.372824999999999,60.853583333333333,0.14016043432839331]
[]
["EU","EUR",40.454691666666697,48.144158333333301,49.659633333333304,33.058241666666696,28.790541666666698,41.725874999999995,51.230725,40.186441666666695,35.2798916666667,38.376200000000004,41.837108333333305,43.540541666666698,34.590325,36.9666833333333,43.180166666666665,40.112291666666664,38.041474999999998,47.277133333333332,48.126075,1.7956707753008283E-2]
[]
["change with previous year",null,null,{"$f":"+D28-C28","v":7.6894666666666041},1.5154750000000021,-16.601391666666608,-4.2676999999999978,12.935333333333297,9.5048500000000047,-11.044283333333304,-4.9065499999999957,3.0963083333333046,3.4609083333333004,1.7034333333333933,-8.950216666666698,2.3763583333333003,6.2134833333333646,-3.0678750000000008,-2.0708166666666656,9.2356583333333333,0.84894166666666848]
[]
[]
[]
[null,null,"1995","1996","1997","1998","1999","2000","2001","2002","2003","2004","2005","2006","2007",2008,2009,2010,2011,2012,2013]
[null,"min",{"$f":"MIN(C5:C28)","v":27.655008333333299},{"$f":"MIN(D5:D28)","v":35.304983333333304},29.70645,19.35605,18.862591666666699,29.395474999999998,32.378300000000003,22.774449999999998,24.044924999999999,23.97955,31.9224416666667,27.324441666666701,20.939108333333298,26.8922666666667,31.041416666666667,29.486583333333332,28.338566666666665,31.948433333333334,34.325833333333335]
[null,"max",{"$f":"MAX(C5:C28)","v":55.787941666666697},{"$f":"MAX(D5:D28)","v":56.308866666666695},59.521133333333303,52.904841666666698,46.413541666666696,58.8714333333333,68.074233333333297,79,66.531716666666711,62.281475,55.966449999999995,58.9549916666667,57.925141666666697,57.340133333333299,61.695666666666668,80,80,82.54965,91.32]
[null,"difference",{"$f":"+C36-C35","v":28.132933333333398},{"$f":"+D36-D35","v":21.003883333333391},29.814683333333303,33.548791666666702,27.550949999999997,29.475958333333303,35.695933333333294,56.225549999999998,42.486791666666711,38.301924999999997,24.044008333333295,31.630549999999999,36.986033333333395,30.447866666666599,30.654250000000001,50.513416666666672,51.661433333333335,50.601216666666666,56.994166666666658]

{"sheet":"Sheet2","index":14,"n_rows":0,"n_cols":0,"rows_kept":0,"cut":false,"hidden":false,"merged":[]}