{"text_format":"1","workbook":"xlsx","n_sheets":8,"sheets":["Prices Vertical","Prices","Info Key","COVER","Heavy Lamb Prices","Light Lamb Prices","Graphs","Monthly prices"],"not_rendered":{"charts":15,"images":5,"macros":1,"external_links":0,"defined_names":30,"comments":0,"pivot_tables":0},"unopened":[],"bounds":{"document_bytes":16777216,"sheet_cells":100000,"rows_first":2000,"rows_last":500,"rows_between":2000,"halvings":0,"cell_chars":16384,"cell_head_chars":4096},"cells_cut":0,"cells_raw":0,"read":"whole","date_system":"1900"}

{"sheet":"Prices Vertical","index":0,"n_rows":0,"n_cols":0,"rows_kept":0,"cut":false,"hidden":true,"merged":[]}

{"sheet":"Prices","index":1,"n_rows":94,"n_cols":28,"rows_kept":94,"cut":false,"hidden":true,"merged":[[1,0,2,1],[42,0,42,3]]}
[]
["€ur per 100 kg carcasses"]
[]
[null,null,null,null,null,null,null,null,null,null,null," "]
["HEAVY LAMBS",null,null,"EU_H"]
["Week beginning"]
["Country Code","Weights (%)","2012-12-24",{"$f":"+C7+7","v":"2012-12-31"},{"$f":"+D7+7","v":"2013-01-07"},"2013-01-14","2013-01-21","2013-01-28","2013-02-04","2013-02-11","2013-02-18","2013-02-25","2013-03-04","2013-03-11","2013-03-18","2013-03-25","2013-04-01","2013-04-08","2013-04-15","2013-04-22","2013-04-29","2013-05-06","2013-05-13","2013-05-20","2013-05-27",null,"% over prev ","% over prev "]
[null,null,"52","01","02","03","04","05","06","07","08","09","10","11","12","13","14","15","16","17","18","19","20","21","22",null,"week","year"]
["BE",0.46,{"$f":"VLOOKUP($A9&$D$5&C$7,#REF!,12,0)","v":{"$error":"#REF!"}},{"$f":"VLOOKUP($A9&$D$5&D$7,#REF!,12,0)","v":{"$error":"#REF!"}},{"$f":"VLOOKUP($A9&$D$5&E$7,#REF!,12,0)","v":{"$error":"#REF!"}},{"$f":"VLOOKUP($A9&$D$5&F$7,#REF!,12,0)","v":{"$error":"#REF!"}},{"$f":"VLOOKUP($A9&$D$5&G$7,#REF!,12,0)","v":{"$error":"#REF!"}},{"$f":"VLOOKUP($A9&$D$5&H$7,#REF!,12,0)","v":{"$error":"#REF!"}},{"$f":"VLOOKUP($A9&$D$5&I$7,#REF!,12,0)","v":{"$error":"#REF!"}},{"$f":"VLOOKUP($A9&$D$5&J$7,#REF!,12,0)","v":{"$error":"#REF!"}},{"$f":"VLOOKUP($A9&$D$5&K$7,#REF!,12,0)","v":{"$error":"#REF!"}},{"$f":"VLOOKUP($A9&$D$5&L$7,#REF!,12,0)","v":{"$error":"#REF!"}},{"$f":"VLOOKUP($A9&$D$5&M$7,#REF!,12,0)","v":{"$error":"#REF!"}},{"$f":"VLOOKUP($A9&$D$5&N$7,#REF!,12,0)","v":{"$error":"#REF!"}},{"$f":"VLOOKUP($A9&$D$5&O$7,#REF!,12,0)","v":{"$error":"#REF!"}},{"$f":"VLOOKUP($A9&$D$5&P$7,#REF!,12,0)","v":{"$error":"#REF!"}},{"$f":"VLOOKUP($A9&$D$5&Q$7,#REF!,12,0)","v":{"$error":"#REF!"}},{"$f":"VLOOKUP($A9&$D$5&R$7,#REF!,12,0)","v":{"$error":"#REF!"}},{"$f":"VLOOKUP($A9&$D$5&S$7,#REF!,12,0)","v":{"$error":"#REF!"}},{"$f":"VLOOKUP($A9&$D$5&T$7,#REF!,12,0)","v":{"$error":"#REF!"}},{"$f":"VLOOKUP($A9&$D$5&U$7,#REF!,12,0)","v":{"$error":"#REF!"}},{"$f":"VLOOKUP($A9&$D$5&V$7,#REF!,12,0)","v":{"$error":"#REF!"}},{"$f":"VLOOKUP($A9&$D$5&W$7,#REF!,12,0)","v":{"$error":"#REF!"}},{"$f":"VLOOKUP($A9&$D$5&X$7,#REF!,12,0)","v":{"$error":"#REF!"}},{"$f":"VLOOKUP($A9&$D$5&Y$7,#REF!,12,0)","v":{"$error":"#REF!"}},null,{"$f":"+(Y9/X9)-1","v":{"$error":"#REF!"}},{"$error":"#N/A"}]
["DK",0.26,null,null,null,null,null,null,null,null,null,null,null,null,null,null,{"$f":"VLOOKUP($A10&$D$5&Q$7,#REF!,12,0)","v":{"$error":"#REF!"}},{"$f":"VLOOKUP($A10&$D$5&R$7,#REF!,12,0)","v":{"$error":"#REF!"}},{"$f":"VLOOKUP($A10&$D$5&S$7,#REF!,12,0)","v":{"$error":"#REF!"}},{"$f":"VLOOKUP($A10&$D$5&T$7,#REF!,12,0)","v":{"$error":"#REF!"}},{"$f":"VLOOKUP($A10&$D$5&U$7,#REF!,12,0)","v":{"$error":"#REF!"}},{"$f":"VLOOKUP($A10&$D$5&V$7,#REF!,12,0)","v":{"$error":"#REF!"}},{"$f":"VLOOKUP($A10&$D$5&W$7,#REF!,12,0)","v":{"$error":"#REF!"}},{"$f":"VLOOKUP($A10&$D$5&X$7,#REF!,12,0)","v":{"$error":"#REF!"}},{"$f":"VLOOKUP($A10&$D$5&Y$7,#REF!,12,0)","v":{"$error":"#REF!"}},null,{"$error":"#REF!"}]
["DE",6.87,{"$f":"VLOOKUP($A11&$D$5&C$7,#REF!,12,0)","v":{"$error":"#REF!"}},{"$f":"VLOOKUP($A11&$D$5&D$7,#REF!,12,0)","v":{"$error":"#REF!"}},{"$f":"VLOOKUP($A11&$D$5&E$7,#REF!,12,0)","v":{"$error":"#REF!"}},{"$f":"VLOOKUP($A11&$D$5&F$7,#REF!,12,0)","v":{"$error":"#REF!"}},{"$f":"VLOOKUP($A11&$D$5&G$7,#REF!,12,0)","v":{"$error":"#REF!"}},{"$f":"VLOOKUP($A11&$D$5&H$7,#REF!,12,0)","v":{"$error":"#REF!"}},{"$f":"VLOOKUP($A11&$D$5&I$7,#REF!,12,0)","v":{"$error":"#REF!"}},{"$f":"VLOOKUP($A11&$D$5&J$7,#REF!,12,0)","v":{"$error":"#REF!"}},{"$f":"VLOOKUP($A11&$D$5&K$7,#REF!,12,0)","v":{"$error":"#REF!"}},{"$f":"VLOOKUP($A11&$D$5&L$7,#REF!,12,0)","v":{"$error":"#REF!"}},{"$f":"VLOOKUP($A11&$D$5&M$7,#REF!,12,0)","v":{"$error":"#REF!"}},{"$f":"VLOOKUP($A11&$D$5&N$7,#REF!,12,0)","v":{"$error":"#REF!"}},{"$f":"VLOOKUP($A11&$D$5&O$7,#REF!,12,0)","v":{"$error":"#REF!"}},{"$f":"VLOOKUP($A11&$D$5&P$7,#REF!,12,0)","v":{"$error":"#REF!"}},{"$f":"VLOOKUP($A11&$D$5&Q$7,#REF!,12,0)","v":{"$error":"#REF!"}},{"$f":"VLOOKUP($A11&$D$5&R$7,#REF!,12,0)","v":{"$error":"#REF!"}},{"$f":"VLOOKUP($A11&$D$5&S$7,#REF!,12,0)","v":{"$error":"#REF!"}},{"$f":"VLOOKUP($A11&$D$5&T$7,#REF!,12,0)","v":{"$error":"#REF!"}},{"$f":"VLOOKUP($A11&$D$5&U$7,#REF!,12,0)","v":{"$error":"#REF!"}},{"$f":"VLOOKUP($A11&$D$5&V$7,#REF!,12,0)","v":{"$error":"#REF!"}},{"$f":"VLOOKUP($A11&$D$5&W$7,#REF!,12,0)","v":{"$error":"#REF!"}},{"$f":"VLOOKUP($A11&$D$5&X$7,#REF!,12,0)","v":{"$error":"#REF!"}},{"$f":"VLOOKUP($A11&$D$5&Y$7,#REF!,12,0)","v":{"$error":"#REF!"}},null,{"$error":"#REF!"},{"$error":"#N/A"}]
["EE",0.1,{"$f":"VLOOKUP($A12&$D$5&C$7,#REF!,12,0)","v":{"$error":"#REF!"}},{"$f":"VLOOKUP($A12&$D$5&D$7,#REF!,12,0)","v":{"$error":"#REF!"}},{"$f":"VLOOKUP($A12&$D$5&E$7,#REF!,12,0)","v":{"$error":"#REF!"}},{"$f":"VLOOKUP($A12&$D$5&F$7,#REF!,12,0)","v":{"$error":"#REF!"}},{"$f":"VLOOKUP($A12&$D$5&G$7,#REF!,12,0)","v":{"$error":"#REF!"}},{"$f":"VLOOKUP($A12&$D$5&H$7,#REF!,12,0)","v":{"$error":"#REF!"}},{"$f":"VLOOKUP($A12&$D$5&I$7,#REF!,12,0)","v":{"$error":"#REF!"}},{"$f":"VLOOKUP($A12&$D$5&J$7,#REF!,12,0)","v":{"$error":"#REF!"}},{"$f":"VLOOKUP($A12&$D$5&K$7,#REF!,12,0)","v":{"$error":"#REF!"}},{"$f":"VLOOKUP($A12&$D$5&L$7,#REF!,12,0)","v":{"$error":"#REF!"}},{"$f":"VLOOKUP($A12&$D$5&M$7,#REF!,12,0)","v":{"$error":"#REF!"}},{"$f":"VLOOKUP($A12&$D$5&N$7,#REF!,12,0)","v":{"$error":"#REF!"}},{"$f":"VLOOKUP($A12&$D$5&O$7,#REF!,12,0)","v":{"$error":"#REF!"}},{"$f":"VLOOKUP($A12&$D$5&P$7,#REF!,12,0)","v":{"$error":"#REF!"}},{"$f":"VLOOKUP($A12&$D$5&Q$7,#REF!,12,0)","v":{"$error":"#REF!"}},{"$f":"VLOOKUP($A12&$D$5&R$7,#REF!,12,0)","v":{"$error":"#REF!"}},{"$f":"VLOOKUP($A12&$D$5&S$7,#REF!,12,0)","v":{"$error":"#REF!"}},{"$f":"VLOOKUP($A12&$D$5&T$7,#REF!,12,0)","v":{"$error":"#REF!"}},{"$f":"VLOOKUP($A12&$D$5&U$7,#REF!,12,0)","v":{"$error":"#REF!"}},{"$f":"VLOOKUP($A12&$D$5&V$7,#REF!,12,0)","v":{"$error":"#REF!"}},{"$f":"VLOOKUP($A12&$D$5&W$7,#REF!,12,0)","v":{"$error":"#REF!"}},{"$f":"VLOOKUP($A12&$D$5&X$7,#REF!,12,0)","v":{"$error":"#REF!"}},{"$f":"VLOOKUP($A12&$D$5&Y$7,#REF!,12,0)","v":{"$error":"#REF!"}},null,{"$error":"#REF!"},{"$error":"#N/A"}]
["IE",8.19,{"$f":"VLOOKUP($A13&$D$5&C$7,#REF!,12,0)","v":{"$error":"#REF!"}},{"$f":"VLOOKUP($A13&$D$5&D$7,#REF!,12,0)","v":{"$error":"#REF!"}},{"$f":"VLOOKUP($A13&$D$5&E$7,#REF!,12,0)","v":{"$error":"#REF!"}},{"$f":"VLOOKUP($A13&$D$5&F$7,#REF!,12,0)","v":{"$error":"#REF!"}},{"$f":"VLOOKUP($A13&$D$5&G$7,#REF!,12,0)","v":{"$error":"#REF!"}},{"$f":"VLOOKUP($A13&$D$5&H$7,#REF!,12,0)","v":{"$error":"#REF!"}},{"$f":"VLOOKUP($A13&$D$5&I$7,#REF!,12,0)","v":{"$error":"#REF!"}},{"$f":"VLOOKUP($A13&$D$5&J$7,#REF!,12,0)","v":{"$error":"#REF!"}},{"$f":"VLOOKUP($A13&$D$5&K$7,#REF!,12,0)","v":{"$error":"#REF!"}},{"$f":"VLOOKUP($A13&$D$5&L$7,#REF!,12,0)","v":{"$error":"#REF!"}},{"$f":"VLOOKUP($A13&$D$5&M$7,#REF!,12,0)","v":{"$error":"#REF!"}},{"$f":"VLOOKUP($A13&$D$5&N$7,#REF!,12,0)","v":{"$error":"#REF!"}},{"$f":"VLOOKUP($A13&$D$5&O$7,#REF!,12,0)","v":{"$error":"#REF!"}},{"$f":"VLOOKUP($A13&$D$5&P$7,#REF!,12,0)","v":{"$error":"#REF!"}},{"$f":"VLOOKUP($A13&$D$5&Q$7,#REF!,12,0)","v":{"$error":"#REF!"}},{"$f":"VLOOKUP($A13&$D$5&R$7,#REF!,12,0)","v":{"$error":"#REF!"}},{"$f":"VLOOKUP($A13&$D$5&S$7,#REF!,12,0)","v":{"$error":"#REF!"}},{"$f":"VLOOKUP($A13&$D$5&T$7,#REF!,12,0)","v":{"$error":"#REF!"}},{"$f":"VLOOKUP($A13&$D$5&U$7,#REF!,12,0)","v":{"$error":"#REF!"}},{"$f":"VLOOKUP($A13&$D$5&V$7,#REF!,12,0)","v":{"$error":"#REF!"}},{"$f":"VLOOKUP($A13&$D$5&W$7,#REF!,12,0)","v":{"$error":"#REF!"}},{"$f":"VLOOKUP($A13&$D$5&X$7,#REF!,12,0)","v":{"$error":"#REF!"}},{"$f":"VLOOKUP($A13&$D$5&Y$7,#REF!,12,0)","v":{"$error":"#REF!"}},null,{"$error":"#REF!"},{"$error":"#N/A"}]
["ES",4.6900000000000004,{"$f":"VLOOKUP($A14&$D$5&C$7,#REF!,12,0)","v":{"$error":"#REF!"}},{"$f":"VLOOKUP($A14&$D$5&D$7,#REF!,12,0)","v":{"$error":"#REF!"}},{"$f":"VLOOKUP($A14&$D$5&E$7,#REF!,12,0)","v":{"$error":"#REF!"}},{"$f":"VLOOKUP($A14&$D$5&F$7,#REF!,12,0)","v":{"$error":"#REF!"}},{"$f":"VLOOKUP($A14&$D$5&G$7,#REF!,12,0)","v":{"$error":"#REF!"}},{"$f":"VLOOKUP($A14&$D$5&H$7,#REF!,12,0)","v":{"$error":"#REF!"}},{"$f":"VLOOKUP($A14&$D$5&I$7,#REF!,12,0)","v":{"$error":"#REF!"}},{"$f":"VLOOKUP($A14&$D$5&J$7,#REF!,12,0)","v":{"$error":"#REF!"}},{"$f":"VLOOKUP($A14&$D$5&K$7,#REF!,12,0)","v":{"$error":"#REF!"}},{"$f":"VLOOKUP($A14&$D$5&L$7,#REF!,12,0)","v":{"$error":"#REF!"}},{"$f":"VLOOKUP($A14&$D$5&M$7,#REF!,12,0)","v":{"$error":"#REF!"}},{"$f":"VLOOKUP($A14&$D$5&N$7,#REF!,12,0)","v":{"$error":"#REF!"}},{"$f":"VLOOKUP($A14&$D$5&O$7,#REF!,12,0)","v":{"$error":"#REF!"}},{"$f":"VLOOKUP($A14&$D$5&P$7,#REF!,12,0)","v":{"$error":"#REF!"}},{"$f":"VLOOKUP($A14&$D$5&Q$7,#REF!,12,0)","v":{"$error":"#REF!"}},{"$f":"VLOOKUP($A14&$D$5&R$7,#REF!,12,0)","v":{"$error":"#REF!"}},{"$f":"VLOOKUP($A14&$D$5&S$7,#REF!,12,0)","v":{"$error":"#REF!"}},{"$f":"VLOOKUP($A14&$D$5&T$7,#REF!,12,0)","v":{"$error":"#REF!"}},{"$f":"VLOOKUP($A14&$D$5&U$7,#REF!,12,0)","v":{"$error":"#REF!"}},{"$f":"VLOOKUP($A14&$D$5&V$7,#REF!,12,0)","v":{"$error":"#REF!"}},{"$f":"VLOOKUP($A14&$D$5&W$7,#REF!,12,0)","v":{"$error":"#REF!"}},{"$f":"VLOOKUP($A14&$D$5&X$7,#REF!,12,0)","v":{"$error":"#REF!"}},{"$f":"VLOOKUP($A14&$D$5&Y$7,#REF!,12,0)","v":{"$error":"#REF!"}},null,{"$error":"#REF!"},{"$error":"#N/A"}]
["FR",17.739999999999998,{"$f":"VLOOKUP($A15&$D$5&C$7,#REF!,12,0)","v":{"$error":"#REF!"}},{"$f":"VLOOKUP($A15&$D$5&D$7,#REF!,12,0)","v":{"$error":"#REF!"}},{"$f":"VLOOKUP($A15&$D$5&E$7,#REF!,12,0)","v":{"$error":"#REF!"}},{"$f":"VLOOKUP($A15&$D$5&F$7,#REF!,12,0)","v":{"$error":"#REF!"}},{"$f":"VLOOKUP($A15&$D$5&G$7,#REF!,12,0)","v":{"$error":"#REF!"}},{"$f":"VLOOKUP($A15&$D$5&H$7,#REF!,12,0)","v":{"$error":"#REF!"}},{"$f":"VLOOKUP($A15&$D$5&I$7,#REF!,12,0)","v":{"$error":"#REF!"}},{"$f":"VLOOKUP($A15&$D$5&J$7,#REF!,12,0)","v":{"$error":"#REF!"}},{"$f":"VLOOKUP($A15&$D$5&K$7,#REF!,12,0)","v":{"$error":"#REF!"}},{"$f":"VLOOKUP($A15&$D$5&L$7,#REF!,12,0)","v":{"$error":"#REF!"}},{"$f":"VLOOKUP($A15&$D$5&M$7,#REF!,12,0)","v":{"$error":"#REF!"}},{"$f":"VLOOKUP($A15&$D$5&N$7,#REF!,12,0)","v":{"$error":"#REF!"}},{"$f":"VLOOKUP($A15&$D$5&O$7,#REF!,12,0)","v":{"$error":"#REF!"}},{"$f":"VLOOKUP($A15&$D$5&P$7,#REF!,12,0)","v":{"$error":"#REF!"}},{"$f":"VLOOKUP($A15&$D$5&Q$7,#REF!,12,0)","v":{"$error":"#REF!"}},{"$f":"VLOOKUP($A15&$D$5&R$7,#REF!,12,0)","v":{"$error":"#REF!"}},{"$f":"VLOOKUP($A15&$D$5&S$7,#REF!,12,0)","v":{"$error":"#REF!"}},{"$f":"VLOOKUP($A15&$D$5&T$7,#REF!,12,0)","v":{"$error":"#REF!"}},{"$f":"VLOOKUP($A15&$D$5&U$7,#REF!,12,0)","v":{"$error":"#REF!"}},{"$f":"VLOOKUP($A15&$D$5&V$7,#REF!,12,0)","v":{"$error":"#REF!"}},{"$f":"VLOOKUP($A15&$D$5&W$7,#REF!,12,0)","v":{"$error":"#REF!"}},{"$f":"VLOOKUP($A15&$D$5&X$7,#REF!,12,0)","v":{"$error":"#REF!"}},{"$f":"VLOOKUP($A15&$D$5&Y$7,#REF!,12,0)","v":{"$error":"#REF!"}},null,{"$error":"#REF!"},{"$error":"#N/A"}]
["CY",0.43,{"$f":"VLOOKUP($A16&$D$5&C$7,#REF!,12,0)","v":{"$error":"#REF!"}},{"$f":"VLOOKUP($A16&$D$5&D$7,#REF!,12,0)","v":{"$error":"#REF!"}},{"$f":"VLOOKUP($A16&$D$5&E$7,#REF!,12,0)","v":{"$error":"#REF!"}},{"$f":"VLOOKUP($A16&$D$5&F$7,#REF!,12,0)","v":{"$error":"#REF!"}},{"$f":"VLOOKUP($A16&$D$5&G$7,#REF!,12,0)","v":{"$error":"#REF!"}},{"$f":"VLOOKUP($A16&$D$5&H$7,#REF!,12,0)","v":{"$error":"#REF!"}},{"$f":"VLOOKUP($A16&$D$5&I$7,#REF!,12,0)","v":{"$error":"#REF!"}},{"$f":"VLOOKUP($A16&$D$5&J$7,#REF!,12,0)","v":{"$error":"#REF!"}},{"$f":"VLOOKUP($A16&$D$5&K$7,#REF!,12,0)","v":{"$error":"#REF!"}},{"$f":"VLOOKUP($A16&$D$5&L$7,#REF!,12,0)","v":{"$error":"#REF!"}},{"$f":"VLOOKUP($A16&$D$5&M$7,#REF!,12,0)","v":{"$error":"#REF!"}},{"$f":"VLOOKUP($A16&$D$5&N$7,#REF!,12,0)","v":{"$error":"#REF!"}},{"$f":"VLOOKUP($A16&$D$5&O$7,#REF!,12,0)","v":{"$error":"#REF!"}},{"$f":"VLOOKUP($A16&$D$5&P$7,#REF!,12,0)","v":{"$error":"#REF!"}},{"$f":"VLOOKUP($A16&$D$5&Q$7,#REF!,12,0)","v":{"$error":"#REF!"}},{"$f":"VLOOKUP($A16&$D$5&R$7,#REF!,12,0)","v":{"$error":"#REF!"}},{"$f":"VLOOKUP($A16&$D$5&S$7,#REF!,12,0)","v":{"$error":"#REF!"}},{"$f":"VLOOKUP($A16&$D$5&T$7,#REF!,12,0)","v":{"$error":"#REF!"}},{"$f":"VLOOKUP($A16&$D$5&U$7,#REF!,12,0)","v":{"$error":"#REF!"}},{"$f":"VLOOKUP($A16&$D$5&V$7,#REF!,12,0)","v":{"$error":"#REF!"}},{"$f":"VLOOKUP($A16&$D$5&W$7,#REF!,12,0)","v":{"$error":"#REF!"}},{"$f":"VLOOKUP($A16&$D$5&X$7,#REF!,12,0)","v":{"$error":"#REF!"}},{"$f":"VLOOKUP($A16&$D$5&Y$7,#REF!,12,0)","v":{"$error":"#REF!"}},null,{"$error":"#REF!"}]
["NL",2.19,{"$f":"VLOOKUP($A17&$D$5&C$7,#REF!,12,0)","v":{"$error":"#REF!"}},{"$f":"VLOOKUP($A17&$D$5&D$7,#REF!,12,0)","v":{"$error":"#REF!"}},{"$f":"VLOOKUP($A17&$D$5&E$7,#REF!,12,0)","v":{"$error":"#REF!"}},{"$f":"VLOOKUP($A17&$D$5&F$7,#REF!,12,0)","v":{"$error":"#REF!"}},{"$f":"VLOOKUP($A17&$D$5&G$7,#REF!,12,0)","v":{"$error":"#REF!"}},{"$f":"VLOOKUP($A17&$D$5&H$7,#REF!,12,0)","v":{"$error":"#REF!"}},{"$f":"VLOOKUP($A17&$D$5&I$7,#REF!,12,0)","v":{"$error":"#REF!"}},{"$f":"VLOOKUP($A17&$D$5&J$7,#REF!,12,0)","v":{"$error":"#REF!"}},{"$f":"VLOOKUP($A17&$D$5&K$7,#REF!,12,0)","v":{"$error":"#REF!"}},{"$f":"VLOOKUP($A17&$D$5&L$7,#REF!,12,0)","v":{"$error":"#REF!"}},{"$f":"VLOOKUP($A17&$D$5&M$7,#REF!,12,0)","v":{"$error":"#REF!"}},{"$f":"VLOOKUP($A17&$D$5&N$7,#REF!,12,0)","v":{"$error":"#REF!"}},{"$f":"VLOOKUP($A17&$D$5&O$7,#REF!,12,0)","v":{"$error":"#REF!"}},{"$f":"VLOOKUP($A17&$D$5&P$7,#REF!,12,0)","v":{"$error":"#REF!"}},{"$f":"VLOOKUP($A17&$D$5&Q$7,#REF!,12,0)","v":{"$error":"#REF!"}},{"$f":"VLOOKUP($A17&$D$5&R$7,#REF!,12,0)","v":{"$error":"#REF!"}},{"$f":"VLOOKUP($A17&$D$5&S$7,#REF!,12,0)","v":{"$error":"#REF!"}},{"$f":"VLOOKUP($A17&$D$5&T$7,#REF!,12,0)","v":{"$error":"#REF!"}},{"$f":"VLOOKUP($A17&$D$5&U$7,#REF!,12,0)","v":{"$error":"#REF!"}},{"$f":"VLOOKUP($A17&$D$5&V$7,#REF!,12,0)","v":{"$error":"#REF!"}},{"$f":"VLOOKUP($A17&$D$5&W$7,#REF!,12,0)","v":{"$error":"#REF!"}},{"$f":"VLOOKUP($A17&$D$5&X$7,#REF!,12,0)","v":{"$error":"#REF!"}},{"$f":"VLOOKUP($A17&$D$5&Y$7,#REF!,12,0)","v":{"$error":"#REF!"}},null,{"$error":"#REF!"},{"$error":"#N/A"}]
["AT",1.28,{"$f":"VLOOKUP($A18&$D$5&C$7,#REF!,12,0)","v":{"$error":"#REF!"}},{"$f":"VLOOKUP($A18&$D$5&D$7,#REF!,12,0)","v":{"$error":"#REF!"}},{"$f":"VLOOKUP($A18&$D$5&E$7,#REF!,12,0)","v":{"$error":"#REF!"}},{"$f":"VLOOKUP($A18&$D$5&F$7,#REF!,12,0)","v":{"$error":"#REF!"}},{"$f":"VLOOKUP($A18&$D$5&G$7,#REF!,12,0)","v":{"$error":"#REF!"}},{"$f":"VLOOKUP($A18&$D$5&H$7,#REF!,12,0)","v":{"$error":"#REF!"}},{"$f":"VLOOKUP($A18&$D$5&I$7,#REF!,12,0)","v":{"$error":"#REF!"}},{"$f":"VLOOKUP($A18&$D$5&J$7,#REF!,12,0)","v":{"$error":"#REF!"}},{"$f":"VLOOKUP($A18&$D$5&K$7,#REF!,12,0)","v":{"$error":"#REF!"}},{"$f":"VLOOKUP($A18&$D$5&L$7,#REF!,12,0)","v":{"$error":"#REF!"}},{"$f":"VLOOKUP($A18&$D$5&M$7,#REF!,12,0)","v":{"$error":"#REF!"}},{"$f":"VLOOKUP($A18&$D$5&N$7,#REF!,12,0)","v":{"$error":"#REF!"}},{"$f":"VLOOKUP($A18&$D$5&O$7,#REF!,12,0)","v":{"$error":"#REF!"}},{"$f":"VLOOKUP($A18&$D$5&P$7,#REF!,12,0)","v":{"$error":"#REF!"}},{"$f":"VLOOKUP($A18&$D$5&Q$7,#REF!,12,0)","v":{"$error":"#REF!"}},{"$f":"VLOOKUP($A18&$D$5&R$7,#REF!,12,0)","v":{"$error":"#REF!"}},{"$f":"VLOOKUP($A18&$D$5&S$7,#REF!,12,0)","v":{"$error":"#REF!"}},{"$f":"VLOOKUP($A18&$D$5&T$7,#REF!,12,0)","v":{"$error":"#REF!"}},{"$f":"VLOOKUP($A18&$D$5&U$7,#REF!,12,0)","v":{"$error":"#REF!"}},{"$f":"VLOOKUP($A18&$D$5&V$7,#REF!,12,0)","v":{"$error":"#REF!"}},{"$f":"VLOOKUP($A18&$D$5&W$7,#REF!,12,0)","v":{"$error":"#REF!"}},{"$f":"VLOOKUP($A18&$D$5&X$7,#REF!,12,0)","v":{"$error":"#REF!"}},{"$f":"VLOOKUP($A18&$D$5&Y$7,#REF!,12,0)","v":{"$error":"#REF!"}},null,{"$error":"#REF!"},{"$error":"#N/A"}]
["PL",0.12,{"$f":"VLOOKUP($A19&$D$5&C$7,#REF!,12,0)","v":{"$error":"#REF!"}},{"$f":"VLOOKUP($A19&$D$5&D$7,#REF!,12,0)","v":{"$error":"#REF!"}},{"$f":"VLOOKUP($A19&$D$5&E$7,#REF!,12,0)","v":{"$error":"#REF!"}},{"$f":"VLOOKUP($A19&$D$5&F$7,#REF!,12,0)","v":{"$error":"#REF!"}},{"$f":"VLOOKUP($A19&$D$5&G$7,#REF!,12,0)","v":{"$error":"#REF!"}},{"$f":"VLOOKUP($A19&$D$5&H$7,#REF!,12,0)","v":{"$error":"#REF!"}},{"$f":"VLOOKUP($A19&$D$5&I$7,#REF!,12,0)","v":{"$error":"#REF!"}},{"$f":"VLOOKUP($A19&$D$5&J$7,#REF!,12,0)","v":{"$error":"#REF!"}},{"$f":"VLOOKUP($A19&$D$5&K$7,#REF!,12,0)","v":{"$error":"#REF!"}},{"$f":"VLOOKUP($A19&$D$5&L$7,#REF!,12,0)","v":{"$error":"#REF!"}},{"$f":"VLOOKUP($A19&$D$5&M$7,#REF!,12,0)","v":{"$error":"#REF!"}},{"$f":"VLOOKUP($A19&$D$5&N$7,#REF!,12,0)","v":{"$error":"#REF!"}},{"$f":"VLOOKUP($A19&$D$5&O$7,#REF!,12,0)","v":{"$error":"#REF!"}},{"$f":"VLOOKUP($A19&$D$5&P$7,#REF!,12,0)","v":{"$error":"#REF!"}},{"$f":"VLOOKUP($A19&$D$5&Q$7,#REF!,12,0)","v":{"$error":"#REF!"}},{"$f":"VLOOKUP($A19&$D$5&R$7,#REF!,12,0)","v":{"$error":"#REF!"}},{"$f":"VLOOKUP($A19&$D$5&S$7,#REF!,12,0)","v":{"$error":"#REF!"}},{"$f":"VLOOKUP($A19&$D$5&T$7,#REF!,12,0)","v":{"$error":"#REF!"}},{"$f":"VLOOKUP($A19&$D$5&U$7,#REF!,12,0)","v":{"$error":"#REF!"}},{"$f":"VLOOKUP($A19&$D$5&V$7,#REF!,12,0)","v":{"$error":"#REF!"}},{"$f":"VLOOKUP($A19&$D$5&W$7,#REF!,12,0)","v":{"$error":"#REF!"}},{"$f":"VLOOKUP($A19&$D$5&X$7,#REF!,12,0)","v":{"$error":"#REF!"}},{"$f":"VLOOKUP($A19&$D$5&Y$7,#REF!,12,0)","v":{"$error":"#REF!"}},null,{"$error":"#REF!"},{"$error":"#N/A"}]
["RO",7.47,{"$f":"VLOOKUP($A20&$D$5&C$7,#REF!,12,0)","v":{"$error":"#REF!"}},{"$f":"VLOOKUP($A20&$D$5&D$7,#REF!,12,0)","v":{"$error":"#REF!"}},{"$f":"VLOOKUP($A20&$D$5&E$7,#REF!,12,0)","v":{"$error":"#REF!"}},{"$f":"VLOOKUP($A20&$D$5&F$7,#REF!,12,0)","v":{"$error":"#REF!"}},{"$f":"VLOOKUP($A20&$D$5&G$7,#REF!,12,0)","v":{"$error":"#REF!"}},{"$f":"VLOOKUP($A20&$D$5&H$7,#REF!,12,0)","v":{"$error":"#REF!"}},{"$f":"VLOOKUP($A20&$D$5&I$7,#REF!,12,0)","v":{"$error":"#REF!"}},{"$f":"VLOOKUP($A20&$D$5&J$7,#REF!,12,0)","v":{"$error":"#REF!"}},{"$f":"VLOOKUP($A20&$D$5&K$7,#REF!,12,0)","v":{"$error":"#REF!"}},{"$f":"VLOOKUP($A20&$D$5&L$7,#REF!,12,0)","v":{"$error":"#REF!"}},{"$f":"VLOOKUP($A20&$D$5&M$7,#REF!,12,0)","v":{"$error":"#REF!"}},{"$f":"VLOOKUP($A20&$D$5&N$7,#REF!,12,0)","v":{"$error":"#REF!"}},{"$f":"VLOOKUP($A20&$D$5&O$7,#REF!,12,0)","v":{"$error":"#REF!"}},{"$f":"VLOOKUP($A20&$D$5&P$7,#REF!,12,0)","v":{"$error":"#REF!"}},{"$f":"VLOOKUP($A20&$D$5&Q$7,#REF!,12,0)","v":{"$error":"#REF!"}},{"$f":"VLOOKUP($A20&$D$5&R$7,#REF!,12,0)","v":{"$error":"#REF!"}},{"$f":"VLOOKUP($A20&$D$5&S$7,#REF!,12,0)","v":{"$error":"#REF!"}},{"$f":"VLOOKUP($A20&$D$5&T$7,#REF!,12,0)","v":{"$error":"#REF!"}},{"$f":"VLOOKUP($A20&$D$5&U$7,#REF!,12,0)","v":{"$error":"#REF!"}},{"$f":"VLOOKUP($A20&$D$5&V$7,#REF!,12,0)","v":{"$error":"#REF!"}},{"$f":"VLOOKUP($A20&$D$5&W$7,#REF!,12,0)","v":{"$error":"#REF!"}},{"$f":"VLOOKUP($A20&$D$5&X$7,#REF!,12,0)","v":{"$error":"#REF!"}},{"$f":"VLOOKUP($A20&$D$5&Y$7,#REF!,12,0)","v":{"$error":"#REF!"}},null,{"$error":"#REF!"},{"$error":"#N/A"}]
["SE",0.95,{"$f":"VLOOKUP($A21&$D$5&C$7,#REF!,12,0)","v":{"$error":"#REF!"}},{"$f":"VLOOKUP($A21&$D$5&D$7,#REF!,12,0)","v":{"$error":"#REF!"}},{"$f":"VLOOKUP($A21&$D$5&E$7,#REF!,12,0)","v":{"$error":"#REF!"}},{"$f":"VLOOKUP($A21&$D$5&F$7,#REF!,12,0)","v":{"$error":"#REF!"}},{"$f":"VLOOKUP($A21&$D$5&G$7,#REF!,12,0)","v":{"$error":"#REF!"}},{"$f":"VLOOKUP($A21&$D$5&H$7,#REF!,12,0)","v":{"$error":"#REF!"}},{"$f":"VLOOKUP($A21&$D$5&I$7,#REF!,12,0)","v":{"$error":"#REF!"}},{"$f":"VLOOKUP($A21&$D$5&J$7,#REF!,12,0)","v":{"$error":"#REF!"}},{"$f":"VLOOKUP($A21&$D$5&K$7,#REF!,12,0)","v":{"$error":"#REF!"}},{"$f":"VLOOKUP($A21&$D$5&L$7,#REF!,12,0)","v":{"$error":"#REF!"}},{"$f":"VLOOKUP($A21&$D$5&M$7,#REF!,12,0)","v":{"$error":"#REF!"}},{"$f":"VLOOKUP($A21&$D$5&N$7,#REF!,12,0)","v":{"$error":"#REF!"}},{"$f":"VLOOKUP($A21&$D$5&O$7,#REF!,12,0)","v":{"$error":"#REF!"}},{"$f":"VLOOKUP($A21&$D$5&P$7,#REF!,12,0)","v":{"$error":"#REF!"}},{"$f":"VLOOKUP($A21&$D$5&Q$7,#REF!,12,0)","v":{"$error":"#REF!"}},{"$f":"VLOOKUP($A21&$D$5&R$7,#REF!,12,0)","v":{"$error":"#REF!"}},{"$f":"VLOOKUP($A21&$D$5&S$7,#REF!,12,0)","v":{"$error":"#REF!"}},{"$f":"VLOOKUP($A21&$D$5&T$7,#REF!,12,0)","v":{"$error":"#REF!"}},{"$f":"VLOOKUP($A21&$D$5&U$7,#REF!,12,0)","v":{"$error":"#REF!"}},{"$f":"VLOOKUP($A21&$D$5&V$7,#REF!,12,0)","v":{"$error":"#REF!"}},{"$f":"VLOOKUP($A21&$D$5&W$7,#REF!,12,0)","v":{"$error":"#REF!"}},{"$f":"VLOOKUP($A21&$D$5&X$7,#REF!,12,0)","v":{"$error":"#REF!"}},{"$f":"VLOOKUP($A21&$D$5&Y$7,#REF!,12,0)","v":{"$error":"#REF!"}},null,{"$error":"#REF!"},{"$error":"#N/A"}]
["GB",92.87,{"$f":"VLOOKUP($A22&$D$5&C$7,#REF!,12,0)","v":{"$error":"#REF!"}},{"$f":"VLOOKUP($A22&$D$5&D$7,#REF!,12,0)","v":{"$error":"#REF!"}},{"$f":"VLOOKUP($A22&$D$5&E$7,#REF!,12,0)","v":{"$error":"#REF!"}},{"$f":"VLOOKUP($A22&$D$5&F$7,#REF!,12,0)","v":{"$error":"#REF!"}},{"$f":"VLOOKUP($A22&$D$5&G$7,#REF!,12,0)","v":{"$error":"#REF!"}},{"$f":"VLOOKUP($A22&$D$5&H$7,#REF!,12,0)","v":{"$error":"#REF!"}},{"$f":"VLOOKUP($A22&$D$5&I$7,#REF!,12,0)","v":{"$error":"#REF!"}},{"$f":"VLOOKUP($A22&$D$5&J$7,#REF!,12,0)","v":{"$error":"#REF!"}},{"$f":"VLOOKUP($A22&$D$5&K$7,#REF!,12,0)","v":{"$error":"#REF!"}},{"$f":"VLOOKUP($A22&$D$5&L$7,#REF!,12,0)","v":{"$error":"#REF!"}},{"$f":"VLOOKUP($A22&$D$5&M$7,#REF!,12,0)","v":{"$error":"#REF!"}},{"$f":"VLOOKUP($A22&$D$5&N$7,#REF!,12,0)","v":{"$error":"#REF!"}},{"$f":"VLOOKUP($A22&$D$5&O$7,#REF!,12,0)","v":{"$error":"#REF!"}},{"$f":"VLOOKUP($A22&$D$5&P$7,#REF!,12,0)","v":{"$error":"#REF!"}},{"$f":"VLOOKUP($A22&$D$5&Q$7,#REF!,12,0)","v":{"$error":"#REF!"}},{"$f":"VLOOKUP($A22&$D$5&R$7,#REF!,12,0)","v":{"$error":"#REF!"}},{"$f":"VLOOKUP($A22&$D$5&S$7,#REF!,12,0)","v":{"$error":"#REF!"}},{"$f":"VLOOKUP($A22&$D$5&T$7,#REF!,12,0)","v":{"$error":"#REF!"}},{"$f":"VLOOKUP($A22&$D$5&U$7,#REF!,12,0)","v":{"$error":"#REF!"}},{"$f":"VLOOKUP($A22&$D$5&V$7,#REF!,12,0)","v":{"$error":"#REF!"}},{"$f":"VLOOKUP($A22&$D$5&W$7,#REF!,12,0)","v":{"$error":"#REF!"}},{"$f":"VLOOKUP($A22&$D$5&X$7,#REF!,12,0)","v":{"$error":"#REF!"}},{"$f":"VLOOKUP($A22&$D$5&Y$7,#REF!,12,0)","v":{"$error":"#REF!"}},null,{"$error":"#REF!"},{"$error":"#N/A"}]
["NI",7.13,{"$f":"VLOOKUP($A23&$D$5&C$7,#REF!,12,0)","v":{"$error":"#REF!"}},{"$f":"VLOOKUP($A23&$D$5&D$7,#REF!,12,0)","v":{"$error":"#REF!"}},{"$f":"VLOOKUP($A23&$D$5&E$7,#REF!,12,0)","v":{"$error":"#REF!"}},{"$f":"VLOOKUP($A23&$D$5&F$7,#REF!,12,0)","v":{"$error":"#REF!"}},{"$f":"VLOOKUP($A23&$D$5&G$7,#REF!,12,0)","v":{"$error":"#REF!"}},{"$f":"VLOOKUP($A23&$D$5&H$7,#REF!,12,0)","v":{"$error":"#REF!"}},{"$f":"VLOOKUP($A23&$D$5&I$7,#REF!,12,0)","v":{"$error":"#REF!"}},{"$f":"VLOOKUP($A23&$D$5&J$7,#REF!,12,0)","v":{"$error":"#REF!"}},{"$f":"VLOOKUP($A23&$D$5&K$7,#REF!,12,0)","v":{"$error":"#REF!"}},{"$f":"VLOOKUP($A23&$D$5&L$7,#REF!,12,0)","v":{"$error":"#REF!"}},{"$f":"VLOOKUP($A23&$D$5&M$7,#REF!,12,0)","v":{"$error":"#REF!"}},{"$f":"VLOOKUP($A23&$D$5&N$7,#REF!,12,0)","v":{"$error":"#REF!"}},{"$f":"VLOOKUP($A23&$D$5&O$7,#REF!,12,0)","v":{"$error":"#REF!"}},{"$f":"VLOOKUP($A23&$D$5&P$7,#REF!,12,0)","v":{"$error":"#REF!"}},{"$f":"VLOOKUP($A23&$D$5&Q$7,#REF!,12,0)","v":{"$error":"#REF!"}},{"$f":"VLOOKUP($A23&$D$5&R$7,#REF!,12,0)","v":{"$error":"#REF!"}},{"$f":"VLOOKUP($A23&$D$5&S$7,#REF!,12,0)","v":{"$error":"#REF!"}},{"$f":"VLOOKUP($A23&$D$5&T$7,#REF!,12,0)","v":{"$error":"#REF!"}},{"$f":"VLOOKUP($A23&$D$5&U$7,#REF!,12,0)","v":{"$error":"#REF!"}},{"$f":"VLOOKUP($A23&$D$5&V$7,#REF!,12,0)","v":{"$error":"#REF!"}},{"$f":"VLOOKUP($A23&$D$5&W$7,#REF!,12,0)","v":{"$error":"#REF!"}},{"$f":"VLOOKUP($A23&$D$5&X$7,#REF!,12,0)","v":{"$error":"#REF!"}},{"$f":"VLOOKUP($A23&$D$5&Y$7,#REF!,12,0)","v":{"$error":"#REF!"}},null,{"$error":"#REF!"},{"$error":"#N/A"}]
["UK",49.25,{"$f":"(C$22*$B$22+C$23*$B$23)/100","v":{"$error":"#REF!"}},{"$f":"(D$22*$B$22+D$23*$B$23)/100","v":{"$error":"#REF!"}},{"$error":"#REF!"},{"$error":"#REF!"},{"$error":"#REF!"},{"$error":"#REF!"},{"$error":"#REF!"},{"$error":"#REF!"},{"$error":"#REF!"},{"$error":"#REF!"},{"$error":"#REF!"},{"$error":"#REF!"},{"$error":"#REF!"},{"$error":"#REF!"},{"$error":"#REF!"},{"$error":"#REF!"},{"$error":"#REF!"},{"$error":"#REF!"},{"$error":"#REF!"},{"$error":"#REF!"},{"$error":"#REF!"},{"$error":"#REF!"},{"$error":"#REF!"},null,{"$error":"#REF!"},{"$error":"#N/A"}]
["EU_H",100,453.4246,{"$f":"+(D9*$B$9+D11*$B$11+D12*$B$12+D13*$B$13+D14*$B$14+D15*$B$15+D16*$B$16+D17*$B$17+D18*$B$18+D19*$B$19+D20*$B$20+D21*$B$21+D24*$B$24)/100-$B$10","v":{"$error":"#REF!"}},{"$error":"#REF!"},{"$error":"#REF!"},{"$error":"#REF!"},{"$error":"#REF!"},{"$error":"#REF!"},{"$error":"#REF!"},{"$error":"#REF!"},{"$error":"#REF!"},{"$error":"#REF!"},{"$f":"+(N9*$B$9+N10*$B$10+N11*$B$11+N12*$B$12+N13*$B$13+N14*$B$14+N15*$B$15+N16*$B$16+N17*$B$17+N18*$B$18+N19*$B$19+N20*$B$20+N21*$B$21+N24*$B$24)/100","v":{"$error":"#REF!"}},{"$f":"+(O9*$B$9+O10*$B$10+O11*$B$11+O12*$B$12+O13*$B$13+O14*$B$14+O15*$B$15+O16*$B$16+O17*$B$17+O18*$B$18+O19*$B$19+O20*$B$20+O21*$B$21+O24*$B$24)/100","v":{"$error":"#REF!"}},{"$error":"#REF!"},{"$error":"#REF!"},{"$error":"#REF!"},{"$error":"#REF!"},{"$error":"#REF!"},{"$error":"#REF!"},{"$error":"#REF!"},{"$error":"#REF!"},{"$error":"#REF!"},{"$f":"+(Y9*$B$9+Y10*$B$10+Y11*$B$11+Y12*$B$12+Y13*$B$13+Y14*$B$14+Y15*$B$15+Y16*$B$16+Y17*$B$17+Y18*$B$18+Y19*$B$19+Y20*$B$20+Y21*$B$21+Y24*$B$24)/100","v":{"$error":"#REF!"}},null,{"$error":"#REF!"},{"$error":"#N/A"}]
["EU_H 13/12",null,-0.14371688669027904,-0.15307314363798452,-0.15633618648194636,-0.16977944775242015,-0.16432835662846357,-0.18488325964638008,-0.16615796212386802,-0.16225405780125024,-0.14783009470037201,-0.14134168299617667,-0.10389635930872276,-7.523987636020868E-2,-4.6743864796401358E-2,-5.8784303423127127E-2,-5.4133627589503353E-2,-3.510530823636604E-2,-4.295632862253207E-2,-3.8001691868613241E-3,3.5014852362082793E-2,3.09320513345126E-2,4.5475140848787232E-2,5.3189261690117728E-2,6.0903382531448197E-2]
[]
["LIGHT LAMBS",null,null,"EU_L"]
["Week beginning"]
["Country Code","Weights (%)","2012-12-24",{"$f":"+C30+7","v":"2012-12-31"},{"$f":"+D30+7","v":"2013-01-07"},"2013-01-14","2013-01-21","2013-01-28","2013-02-04","2013-02-11","2013-02-18","2013-02-25","2013-03-04","2013-03-11","2013-03-18","2013-03-25","2013-04-01","2013-04-08","2013-04-15","2013-04-22","2013-04-29","2013-05-06","2013-05-13","2013-05-20","2013-05-27",null,"% over prev ","% over prev "]
[null,null,"52","01","02","03","04","05","06","07","08","09","10","11","12","13","14","15","16","17","18","19","20","21","22",null,"week","year"]
["BG",4.7699999999999996,{"$f":"VLOOKUP($A32&$D$28&C$30,#REF!,12,0)","v":{"$error":"#REF!"}},{"$f":"VLOOKUP($A32&$D$28&D$30,#REF!,12,0)","v":{"$error":"#REF!"}},{"$f":"VLOOKUP($A32&$D$28&E$30,#REF!,12,0)","v":{"$error":"#REF!"}},{"$f":"VLOOKUP($A32&$D$28&F$30,#REF!,12,0)","v":{"$error":"#REF!"}},{"$f":"VLOOKUP($A32&$D$28&G$30,#REF!,12,0)","v":{"$error":"#REF!"}},{"$f":"VLOOKUP($A32&$D$28&H$30,#REF!,12,0)","v":{"$error":"#REF!"}},{"$f":"VLOOKUP($A32&$D$28&I$30,#REF!,12,0)","v":{"$error":"#REF!"}},{"$f":"VLOOKUP($A32&$D$28&J$30,#REF!,12,0)","v":{"$error":"#REF!"}},{"$f":"VLOOKUP($A32&$D$28&K$30,#REF!,12,0)","v":{"$error":"#REF!"}},{"$f":"VLOOKUP($A32&$D$28&L$30,#REF!,12,0)","v":{"$error":"#REF!"}},{"$f":"VLOOKUP($A32&$D$28&M$30,#REF!,12,0)","v":{"$error":"#REF!"}},{"$f":"VLOOKUP($A32&$D$28&N$30,#REF!,12,0)","v":{"$error":"#REF!"}},{"$f":"VLOOKUP($A32&$D$28&O$30,#REF!,12,0)","v":{"$error":"#REF!"}},{"$f":"VLOOKUP($A32&$D$28&P$30,#REF!,12,0)","v":{"$error":"#REF!"}},{"$f":"VLOOKUP($A32&$D$28&Q$30,#REF!,12,0)","v":{"$error":"#REF!"}},{"$f":"VLOOKUP($A32&$D$28&R$30,#REF!,12,0)","v":{"$error":"#REF!"}},{"$f":"VLOOKUP($A32&$D$28&S$30,#REF!,12,0)","v":{"$error":"#REF!"}},{"$f":"VLOOKUP($A32&$D$28&T$30,#REF!,12,0)","v":{"$error":"#REF!"}},{"$f":"VLOOKUP($A32&$D$28&U$30,#REF!,12,0)","v":{"$error":"#REF!"}},{"$f":"VLOOKUP($A32&$D$28&V$30,#REF!,12,0)","v":{"$error":"#REF!"}},{"$f":"VLOOKUP($A32&$D$28&W$30,#REF!,12,0)","v":{"$error":"#REF!"}},{"$f":"VLOOKUP($A32&$D$28&X$30,#REF!,12,0)","v":{"$error":"#REF!"}},{"$f":"VLOOKUP($A32&$D$28&Y$30,#REF!,12,0)","v":{"$error":"#REF!"}},null,{"$f":"+(Y32/X32)-1","v":{"$error":"#REF!"}},{"$error":"#N/A"}]
["GR",31.88,{"$f":"VLOOKUP($A33&$D$28&C$30,#REF!,12,0)","v":{"$error":"#REF!"}},{"$f":"VLOOKUP($A33&$D$28&D$30,#REF!,12,0)","v":{"$error":"#REF!"}},{"$f":"VLOOKUP($A33&$D$28&E$30,#REF!,12,0)","v":{"$error":"#REF!"}},{"$f":"VLOOKUP($A33&$D$28&F$30,#REF!,12,0)","v":{"$error":"#REF!"}},{"$f":"VLOOKUP($A33&$D$28&G$30,#REF!,12,0)","v":{"$error":"#REF!"}},{"$f":"VLOOKUP($A33&$D$28&H$30,#REF!,12,0)","v":{"$error":"#REF!"}},{"$f":"VLOOKUP($A33&$D$28&I$30,#REF!,12,0)","v":{"$error":"#REF!"}},{"$f":"VLOOKUP($A33&$D$28&J$30,#REF!,12,0)","v":{"$error":"#REF!"}},{"$f":"VLOOKUP($A33&$D$28&K$30,#REF!,12,0)","v":{"$error":"#REF!"}},{"$f":"VLOOKUP($A33&$D$28&L$30,#REF!,12,0)","v":{"$error":"#REF!"}},{"$f":"VLOOKUP($A33&$D$28&M$30,#REF!,12,0)","v":{"$error":"#REF!"}},{"$f":"VLOOKUP($A33&$D$28&N$30,#REF!,12,0)","v":{"$error":"#REF!"}},{"$f":"VLOOKUP($A33&$D$28&O$30,#REF!,12,0)","v":{"$error":"#REF!"}},{"$f":"VLOOKUP($A33&$D$28&P$30,#REF!,12,0)","v":{"$error":"#REF!"}},{"$f":"VLOOKUP($A33&$D$28&Q$30,#REF!,12,0)","v":{"$error":"#REF!"}},{"$f":"VLOOKUP($A33&$D$28&R$30,#REF!,12,0)","v":{"$error":"#REF!"}},{"$f":"VLOOKUP($A33&$D$28&S$30,#REF!,12,0)","v":{"$error":"#REF!"}},{"$f":"VLOOKUP($A33&$D$28&T$30,#REF!,12,0)","v":{"$error":"#REF!"}},{"$f":"VLOOKUP($A33&$D$28&U$30,#REF!,12,0)","v":{"$error":"#REF!"}},{"$f":"VLOOKUP($A33&$D$28&V$30,#REF!,12,0)","v":{"$error":"#REF!"}},{"$f":"VLOOKUP($A33&$D$28&W$30,#REF!,12,0)","v":{"$error":"#REF!"}},{"$f":"VLOOKUP($A33&$D$28&X$30,#REF!,12,0)","v":{"$error":"#REF!"}},{"$f":"VLOOKUP($A33&$D$28&Y$30,#REF!,12,0)","v":{"$error":"#REF!"}},null,{"$error":"#REF!"},{"$error":"#N/A"}]
["ES",39.549999999999997,{"$f":"VLOOKUP($A34&$D$28&C$30,#REF!,12,0)","v":{"$error":"#REF!"}},{"$f":"VLOOKUP($A34&$D$28&D$30,#REF!,12,0)","v":{"$error":"#REF!"}},{"$f":"VLOOKUP($A34&$D$28&E$30,#REF!,12,0)","v":{"$error":"#REF!"}},{"$f":"VLOOKUP($A34&$D$28&F$30,#REF!,12,0)","v":{"$error":"#REF!"}},{"$f":"VLOOKUP($A34&$D$28&G$30,#REF!,12,0)","v":{"$error":"#REF!"}},{"$f":"VLOOKUP($A34&$D$28&H$30,#REF!,12,0)","v":{"$error":"#REF!"}},{"$f":"VLOOKUP($A34&$D$28&I$30,#REF!,12,0)","v":{"$error":"#REF!"}},{"$f":"VLOOKUP($A34&$D$28&J$30,#REF!,12,0)","v":{"$error":"#REF!"}},{"$f":"VLOOKUP($A34&$D$28&K$30,#REF!,12,0)","v":{"$error":"#REF!"}},{"$f":"VLOOKUP($A34&$D$28&L$30,#REF!,12,0)","v":{"$error":"#REF!"}},{"$f":"VLOOKUP($A34&$D$28&M$30,#REF!,12,0)","v":{"$error":"#REF!"}},{"$f":"VLOOKUP($A34&$D$28&N$30,#REF!,12,0)","v":{"$error":"#REF!"}},{"$f":"VLOOKUP($A34&$D$28&O$30,#REF!,12,0)","v":{"$error":"#REF!"}},{"$f":"VLOOKUP($A34&$D$28&P$30,#REF!,12,0)","v":{"$error":"#REF!"}},{"$f":"VLOOKUP($A34&$D$28&Q$30,#REF!,12,0)","v":{"$error":"#REF!"}},{"$f":"VLOOKUP($A34&$D$28&R$30,#REF!,12,0)","v":{"$error":"#REF!"}},{"$f":"VLOOKUP($A34&$D$28&S$30,#REF!,12,0)","v":{"$error":"#REF!"}},{"$f":"VLOOKUP($A34&$D$28&T$30,#REF!,12,0)","v":{"$error":"#REF!"}},{"$f":"VLOOKUP($A34&$D$28&U$30,#REF!,12,0)","v":{"$error":"#REF!"}},{"$f":"VLOOKUP($A34&$D$28&V$30,#REF!,12,0)","v":{"$error":"#REF!"}},{"$f":"VLOOKUP($A34&$D$28&W$30,#REF!,12,0)","v":{"$error":"#REF!"}},{"$f":"VLOOKUP($A34&$D$28&X$30,#REF!,12,0)","v":{"$error":"#REF!"}},{"$f":"VLOOKUP($A34&$D$28&Y$30,#REF!,12,0)","v":{"$error":"#REF!"}},null,{"$error":"#REF!"},{"$error":"#N/A"}]
["IT",12.51,{"$f":"VLOOKUP($A35&$D$28&C$30,#REF!,12,0)","v":{"$error":"#REF!"}},{"$f":"VLOOKUP($A35&$D$28&D$30,#REF!,12,0)","v":{"$error":"#REF!"}},{"$f":"VLOOKUP($A35&$D$28&E$30,#REF!,12,0)","v":{"$error":"#REF!"}},{"$f":"VLOOKUP($A35&$D$28&F$30,#REF!,12,0)","v":{"$error":"#REF!"}},{"$f":"VLOOKUP($A35&$D$28&G$30,#REF!,12,0)","v":{"$error":"#REF!"}},{"$f":"VLOOKUP($A35&$D$28&H$30,#REF!,12,0)","v":{"$error":"#REF!"}},{"$f":"VLOOKUP($A35&$D$28&I$30,#REF!,12,0)","v":{"$error":"#REF!"}},{"$f":"VLOOKUP($A35&$D$28&J$30,#REF!,12,0)","v":{"$error":"#REF!"}},{"$f":"VLOOKUP($A35&$D$28&K$30,#REF!,12,0)","v":{"$error":"#REF!"}},{"$f":"VLOOKUP($A35&$D$28&L$30,#REF!,12,0)","v":{"$error":"#REF!"}},{"$f":"VLOOKUP($A35&$D$28&M$30,#REF!,12,0)","v":{"$error":"#REF!"}},{"$f":"VLOOKUP($A35&$D$28&N$30,#REF!,12,0)","v":{"$error":"#REF!"}},{"$f":"VLOOKUP($A35&$D$28&O$30,#REF!,12,0)","v":{"$error":"#REF!"}},{"$f":"VLOOKUP($A35&$D$28&P$30,#REF!,12,0)","v":{"$error":"#REF!"}},{"$f":"VLOOKUP($A35&$D$28&Q$30,#REF!,12,0)","v":{"$error":"#REF!"}},{"$f":"VLOOKUP($A35&$D$28&R$30,#REF!,12,0)","v":{"$error":"#REF!"}},{"$f":"VLOOKUP($A35&$D$28&S$30,#REF!,12,0)","v":{"$error":"#REF!"}},{"$f":"VLOOKUP($A35&$D$28&T$30,#REF!,12,0)","v":{"$error":"#REF!"}},{"$f":"VLOOKUP($A35&$D$28&U$30,#REF!,12,0)","v":{"$error":"#REF!"}},{"$f":"VLOOKUP($A35&$D$28&V$30,#REF!,12,0)","v":{"$error":"#REF!"}},{"$f":"VLOOKUP($A35&$D$28&W$30,#REF!,12,0)","v":{"$error":"#REF!"}},{"$f":"VLOOKUP($A35&$D$28&X$30,#REF!,12,0)","v":{"$error":"#REF!"}},{"$f":"VLOOKUP($A35&$D$28&Y$30,#REF!,12,0)","v":{"$error":"#REF!"}},null,{"$error":"#REF!"},{"$error":"#N/A"}]
["CY"]
["HU",0.38,{"$f":"VLOOKUP($A37&$D$28&C$30,#REF!,12,0)","v":{"$error":"#REF!"}},{"$f":"VLOOKUP($A37&$D$28&D$30,#REF!,12,0)","v":{"$error":"#REF!"}},{"$f":"VLOOKUP($A37&$D$28&E$30,#REF!,12,0)","v":{"$error":"#REF!"}},{"$f":"VLOOKUP($A37&$D$28&F$30,#REF!,12,0)","v":{"$error":"#REF!"}},{"$f":"VLOOKUP($A37&$D$28&G$30,#REF!,12,0)","v":{"$error":"#REF!"}},{"$f":"VLOOKUP($A37&$D$28&H$30,#REF!,12,0)","v":{"$error":"#REF!"}},{"$f":"VLOOKUP($A37&$D$28&I$30,#REF!,12,0)","v":{"$error":"#REF!"}},{"$f":"VLOOKUP($A37&$D$28&J$30,#REF!,12,0)","v":{"$error":"#REF!"}},{"$f":"VLOOKUP($A37&$D$28&K$30,#REF!,12,0)","v":{"$error":"#REF!"}},{"$f":"VLOOKUP($A37&$D$28&L$30,#REF!,12,0)","v":{"$error":"#REF!"}},{"$f":"VLOOKUP($A37&$D$28&M$30,#REF!,12,0)","v":{"$error":"#REF!"}},{"$f":"VLOOKUP($A37&$D$28&N$30,#REF!,12,0)","v":{"$error":"#REF!"}},{"$f":"VLOOKUP($A37&$D$28&O$30,#REF!,12,0)","v":{"$error":"#REF!"}},{"$f":"VLOOKUP($A37&$D$28&P$30,#REF!,12,0)","v":{"$error":"#REF!"}},{"$f":"VLOOKUP($A37&$D$28&Q$30,#REF!,12,0)","v":{"$error":"#REF!"}},{"$f":"VLOOKUP($A37&$D$28&R$30,#REF!,12,0)","v":{"$error":"#REF!"}},{"$f":"VLOOKUP($A37&$D$28&S$30,#REF!,12,0)","v":{"$error":"#REF!"}},{"$f":"VLOOKUP($A37&$D$28&T$30,#REF!,12,0)","v":{"$error":"#REF!"}},{"$f":"VLOOKUP($A37&$D$28&U$30,#REF!,12,0)","v":{"$error":"#REF!"}},{"$f":"VLOOKUP($A37&$D$28&V$30,#REF!,12,0)","v":{"$error":"#REF!"}},{"$f":"VLOOKUP($A37&$D$28&W$30,#REF!,12,0)","v":{"$error":"#REF!"}},{"$f":"VLOOKUP($A37&$D$28&X$30,#REF!,12,0)","v":{"$error":"#REF!"}},{"$f":"VLOOKUP($A37&$D$28&Y$30,#REF!,12,0)","v":{"$error":"#REF!"}},null,{"$f":"+(Y37/X37)-1","v":{"$error":"#REF!"}},{"$error":"#N/A"}]
["PT",7,{"$f":"VLOOKUP($A38&$D$28&C$30,#REF!,12,0)","v":{"$error":"#REF!"}},{"$f":"VLOOKUP($A38&$D$28&D$30,#REF!,12,0)","v":{"$error":"#REF!"}},{"$f":"VLOOKUP($A38&$D$28&E$30,#REF!,12,0)","v":{"$error":"#REF!"}},{"$f":"VLOOKUP($A38&$D$28&F$30,#REF!,12,0)","v":{"$error":"#REF!"}},{"$f":"VLOOKUP($A38&$D$28&G$30,#REF!,12,0)","v":{"$error":"#REF!"}},{"$f":"VLOOKUP($A38&$D$28&H$30,#REF!,12,0)","v":{"$error":"#REF!"}},{"$f":"VLOOKUP($A38&$D$28&I$30,#REF!,12,0)","v":{"$error":"#REF!"}},{"$f":"VLOOKUP($A38&$D$28&J$30,#REF!,12,0)","v":{"$error":"#REF!"}},{"$f":"VLOOKUP($A38&$D$28&K$30,#REF!,12,0)","v":{"$error":"#REF!"}},{"$f":"VLOOKUP($A38&$D$28&L$30,#REF!,12,0)","v":{"$error":"#REF!"}},{"$f":"VLOOKUP($A38&$D$28&M$30,#REF!,12,0)","v":{"$error":"#REF!"}},{"$f":"VLOOKUP($A38&$D$28&N$30,#REF!,12,0)","v":{"$error":"#REF!"}},{"$f":"VLOOKUP($A38&$D$28&O$30,#REF!,12,0)","v":{"$error":"#REF!"}},{"$f":"VLOOKUP($A38&$D$28&P$30,#REF!,12,0)","v":{"$error":"#REF!"}},{"$f":"VLOOKUP($A38&$D$28&Q$30,#REF!,12,0)","v":{"$error":"#REF!"}},{"$f":"VLOOKUP($A38&$D$28&R$30,#REF!,12,0)","v":{"$error":"#REF!"}},{"$f":"VLOOKUP($A38&$D$28&S$30,#REF!,12,0)","v":{"$error":"#REF!"}},{"$f":"VLOOKUP($A38&$D$28&T$30,#REF!,12,0)","v":{"$error":"#REF!"}},{"$f":"VLOOKUP($A38&$D$28&U$30,#REF!,12,0)","v":{"$error":"#REF!"}},{"$f":"VLOOKUP($A38&$D$28&V$30,#REF!,12,0)","v":{"$error":"#REF!"}},{"$f":"VLOOKUP($A38&$D$28&W$30,#REF!,12,0)","v":{"$error":"#REF!"}},{"$f":"VLOOKUP($A38&$D$28&X$30,#REF!,12,0)","v":{"$error":"#REF!"}},{"$f":"VLOOKUP($A38&$D$28&Y$30,#REF!,12,0)","v":{"$error":"#REF!"}},null,{"$f":"+(Y38/X38)-1","v":{"$error":"#REF!"}},{"$error":"#N/A"}]
["SI",0.59,{"$f":"VLOOKUP($A39&$D$28&C$30,#REF!,12,0)","v":{"$error":"#REF!"}},{"$f":"VLOOKUP($A39&$D$28&D$30,#REF!,12,0)","v":{"$error":"#REF!"}},{"$f":"VLOOKUP($A39&$D$28&E$30,#REF!,12,0)","v":{"$error":"#REF!"}},{"$f":"VLOOKUP($A39&$D$28&F$30,#REF!,12,0)","v":{"$error":"#REF!"}},{"$f":"VLOOKUP($A39&$D$28&G$30,#REF!,12,0)","v":{"$error":"#REF!"}},{"$f":"VLOOKUP($A39&$D$28&H$30,#REF!,12,0)","v":{"$error":"#REF!"}},{"$f":"VLOOKUP($A39&$D$28&I$30,#REF!,12,0)","v":{"$error":"#REF!"}},{"$f":"VLOOKUP($A39&$D$28&J$30,#REF!,12,0)","v":{"$error":"#REF!"}},{"$f":"VLOOKUP($A39&$D$28&K$30,#REF!,12,0)","v":{"$error":"#REF!"}},{"$f":"VLOOKUP($A39&$D$28&L$30,#REF!,12,0)","v":{"$error":"#REF!"}},{"$f":"VLOOKUP($A39&$D$28&M$30,#REF!,12,0)","v":{"$error":"#REF!"}},{"$f":"VLOOKUP($A39&$D$28&N$30,#REF!,12,0)","v":{"$error":"#REF!"}},{"$f":"VLOOKUP($A39&$D$28&O$30,#REF!,12,0)","v":{"$error":"#REF!"}},{"$f":"VLOOKUP($A39&$D$28&P$30,#REF!,12,0)","v":{"$error":"#REF!"}},{"$f":"VLOOKUP($A39&$D$28&Q$30,#REF!,12,0)","v":{"$error":"#REF!"}},{"$f":"VLOOKUP($A39&$D$28&R$30,#REF!,12,0)","v":{"$error":"#REF!"}},{"$f":"VLOOKUP($A39&$D$28&S$30,#REF!,12,0)","v":{"$error":"#REF!"}},{"$f":"VLOOKUP($A39&$D$28&T$30,#REF!,12,0)","v":{"$error":"#REF!"}},{"$f":"VLOOKUP($A39&$D$28&U$30,#REF!,12,0)","v":{"$error":"#REF!"}},{"$f":"VLOOKUP($A39&$D$28&V$30,#REF!,12,0)","v":{"$error":"#REF!"}},{"$f":"VLOOKUP($A39&$D$28&W$30,#REF!,12,0)","v":{"$error":"#REF!"}},{"$f":"VLOOKUP($A39&$D$28&X$30,#REF!,12,0)","v":{"$error":"#REF!"}},{"$f":"VLOOKUP($A39&$D$28&Y$30,#REF!,12,0)","v":{"$error":"#REF!"}},null,{"$f":"+(Y39/X39)-1","v":{"$error":"#REF!"}},{"$error":"#N/A"}]
["SK",0.36,{"$f":"VLOOKUP($A40&$D$28&C$30,#REF!,12,0)","v":{"$error":"#REF!"}},{"$f":"VLOOKUP($A40&$D$28&D$30,#REF!,12,0)","v":{"$error":"#REF!"}},{"$f":"VLOOKUP($A40&$D$28&E$30,#REF!,12,0)","v":{"$error":"#REF!"}},{"$f":"VLOOKUP($A40&$D$28&F$30,#REF!,12,0)","v":{"$error":"#REF!"}},{"$f":"VLOOKUP($A40&$D$28&G$30,#REF!,12,0)","v":{"$error":"#REF!"}},{"$f":"VLOOKUP($A40&$D$28&H$30,#REF!,12,0)","v":{"$error":"#REF!"}},{"$f":"VLOOKUP($A40&$D$28&I$30,#REF!,12,0)","v":{"$error":"#REF!"}},{"$f":"VLOOKUP($A40&$D$28&J$30,#REF!,12,0)","v":{"$error":"#REF!"}},{"$f":"VLOOKUP($A40&$D$28&K$30,#REF!,12,0)","v":{"$error":"#REF!"}},{"$f":"VLOOKUP($A40&$D$28&L$30,#REF!,12,0)","v":{"$error":"#REF!"}},{"$f":"VLOOKUP($A40&$D$28&M$30,#REF!,12,0)","v":{"$error":"#REF!"}},{"$f":"VLOOKUP($A40&$D$28&N$30,#REF!,12,0)","v":{"$error":"#REF!"}},{"$f":"VLOOKUP($A40&$D$28&O$30,#REF!,12,0)","v":{"$error":"#REF!"}},{"$f":"VLOOKUP($A40&$D$28&P$30,#REF!,12,0)","v":{"$error":"#REF!"}},{"$f":"VLOOKUP($A40&$D$28&Q$30,#REF!,12,0)","v":{"$error":"#REF!"}},{"$f":"VLOOKUP($A40&$D$28&R$30,#REF!,12,0)","v":{"$error":"#REF!"}},{"$f":"VLOOKUP($A40&$D$28&S$30,#REF!,12,0)","v":{"$error":"#REF!"}},{"$f":"VLOOKUP($A40&$D$28&T$30,#REF!,12,0)","v":{"$error":"#REF!"}},{"$f":"VLOOKUP($A40&$D$28&U$30,#REF!,12,0)","v":{"$error":"#REF!"}},{"$f":"VLOOKUP($A40&$D$28&V$30,#REF!,12,0)","v":{"$error":"#REF!"}},{"$f":"VLOOKUP($A40&$D$28&W$30,#REF!,12,0)","v":{"$error":"#REF!"}},{"$f":"VLOOKUP($A40&$D$28&X$30,#REF!,12,0)","v":{"$error":"#REF!"}},{"$f":"VLOOKUP($A40&$D$28&Y$30,#REF!,12,0)","v":{"$error":"#REF!"}},null,{"$f":"+(Y40/X40)-1","v":{"$error":"#REF!"}},{"$error":"#N/A"}]
["EU_L",100,602.94939999999997,636.02660000000003,647.21,577.85149999999999,558.66930000000002,542.38499999999999,547.96730000000002,545.24249999999995,539.04629999999997,535.11339999999996,542.11109999999996,527.88250000000005,529.93499999999995,556.03679999999997,550.13930000000005,540.89980000000003,543.97789999999998,549.6268,566.2604,555.03110000000004,560.64670000000001,561.64670000000001,562.64670000000001,null,{"$f":"+(Y41/X41)-1","v":1.7804787244366516E-3},1.3051726168162636E-2]
["Change  13/12",null,-6.5744997636276059E-2,3.2984423023412202E-3,6.0102909636140733E-2,-1.8423890296138667E-2,-3.1181473826155659E-2,-5.9982537098267508E-2,-6.3744520955433925E-2,-6.7903700691171243E-2,-7.7138594686692374E-2,-8.3748527031224596E-2,-7.5867492237684631E-2,-9.9407609277006204E-2,-8.8921351718290298E-2,-4.2140942043715435E-2,-8.5811886787028668E-2,-9.6633979134224557E-2,-8.0172792502562595E-2,-7.5186871793767263E-2,-4.9614498831697773E-2,-4.2634363912753104E-2,7.9967795693232091E-3,1.1515659719558258E-2,1.5034539869793299E-2]
["DG-AGRI,  Sheep sector"]
[]
[]
["EU Heavy lambs",null,{"$f":"+C25","v":453.4246},{"$error":"#REF!"},{"$error":"#REF!"},{"$error":"#REF!"},{"$error":"#REF!"},{"$error":"#REF!"},{"$error":"#REF!"},{"$error":"#REF!"},{"$error":"#REF!"},{"$error":"#REF!"},{"$error":"#REF!"},{"$error":"#REF!"},{"$error":"#REF!"},{"$error":"#REF!"},{"$error":"#REF!"},{"$error":"#REF!"},{"$error":"#REF!"},{"$error":"#REF!"},{"$error":"#REF!"},{"$error":"#REF!"},{"$error":"#REF!"},{"$error":"#REF!"},{"$f":"+Y25","v":{"$error":"#REF!"}}]
["maximum Price",null,{"$f":"MAX(C9:C24)","v":{"$error":"#REF!"}},{"$error":"#REF!"},{"$error":"#REF!"},{"$error":"#REF!"},{"$error":"#REF!"},{"$error":"#REF!"},{"$error":"#REF!"},{"$error":"#REF!"},{"$error":"#REF!"},{"$error":"#REF!"},{"$error":"#REF!"},{"$error":"#REF!"},{"$error":"#REF!"},{"$error":"#REF!"},{"$error":"#REF!"},{"$error":"#REF!"},{"$error":"#REF!"},{"$error":"#REF!"},{"$error":"#REF!"},{"$error":"#REF!"},{"$error":"#REF!"},{"$error":"#REF!"},{"$f":"MAX(Y9:Y24)","v":{"$error":"#REF!"}}]
["minimum",null,{"$f":"MIN(C9:C24)","v":{"$error":"#REF!"}},{"$error":"#REF!"},{"$error":"#REF!"},{"$error":"#REF!"},{"$error":"#REF!"},{"$error":"#REF!"},{"$error":"#REF!"},{"$error":"#REF!"},{"$error":"#REF!"},{"$error":"#REF!"},{"$error":"#REF!"},{"$error":"#REF!"},{"$error":"#REF!"},{"$error":"#REF!"},{"$error":"#REF!"},{"$error":"#REF!"},{"$error":"#REF!"},{"$error":"#REF!"},{"$error":"#REF!"},{"$error":"#REF!"},{"$error":"#REF!"},{"$error":"#REF!"},{"$f":"MIN(Y9:Y24)","v":{"$error":"#REF!"}}]
[]
[]
["EU Light lambs",null,{"$f":"+C41","v":602.94939999999997},636.02660000000003,647.21,577.85149999999999,558.66930000000002,542.38499999999999,547.96730000000002,545.24249999999995,539.04629999999997,535.11339999999996,542.11109999999996,527.88250000000005,529.93499999999995,556.03679999999997,550.13930000000005,540.89980000000003,543.97789999999998,549.6268,566.2604,555.03110000000004,560.64670000000001,561.64670000000001,{"$f":"+Y41","v":562.64670000000001}]
["maximum",null,{"$f":"MAX(C34:C40)","v":{"$error":"#REF!"}},{"$error":"#REF!"},{"$error":"#REF!"},{"$error":"#REF!"},{"$error":"#REF!"},{"$error":"#REF!"},{"$error":"#REF!"},{"$error":"#REF!"},{"$error":"#REF!"},{"$error":"#REF!"},{"$error":"#REF!"},{"$error":"#REF!"},{"$error":"#REF!"},{"$error":"#REF!"},{"$error":"#REF!"},{"$error":"#REF!"},{"$error":"#REF!"},{"$error":"#REF!"},{"$error":"#REF!"},{"$error":"#REF!"},{"$error":"#REF!"},{"$error":"#REF!"},{"$f":"MAX(Y34:Y40)","v":{"$error":"#REF!"}}]
["minimum Price",null,{"$f":"MIN(C34:C40)","v":{"$error":"#REF!"}},{"$error":"#REF!"},{"$error":"#REF!"},{"$error":"#REF!"},{"$error":"#REF!"},{"$error":"#REF!"},{"$error":"#REF!"},{"$error":"#REF!"},{"$error":"#REF!"},{"$error":"#REF!"},{"$error":"#REF!"},{"$error":"#REF!"},{"$error":"#REF!"},{"$error":"#REF!"},{"$error":"#REF!"},{"$error":"#REF!"},{"$error":"#REF!"},{"$error":"#REF!"},{"$error":"#REF!"},{"$error":"#REF!"},{"$error":"#REF!"},{"$error":"#REF!"},{"$f":"MIN(Y34:Y40)","v":{"$error":"#REF!"}}]
["EU Light lambs"]
[]
["France - Slowakia",null,{"$f":"+C15-C40","v":{"$error":"#REF!"}},{"$error":"#REF!"},{"$error":"#REF!"},{"$error":"#REF!"},{"$error":"#REF!"},{"$error":"#REF!"},{"$error":"#REF!"},{"$error":"#REF!"},{"$error":"#REF!"},{"$error":"#REF!"},{"$error":"#REF!"},{"$error":"#REF!"},{"$error":"#REF!"},{"$error":"#REF!"},{"$error":"#REF!"},{"$error":"#REF!"},{"$error":"#REF!"},{"$error":"#REF!"},{"$error":"#REF!"},{"$error":"#REF!"},{"$error":"#REF!"},{"$error":"#REF!"},{"$f":"+Y15-Y40","v":{"$error":"#REF!"}}]
[]
[]
[]
[]
[]
[null,2010,2011,2012,2013]
["Weighing coefficients are based on Official plus unofficial slaughter"]
["Country Code","Weights (%)","Weights (%)","Weights (%)","Weights (%)"]
["BE",0.26,0.53,0.53,0.46]
["DK",null,null,null,0.26]
["DE",5.79,6.68,6.67,6.87]
["EE",null,null,0.12,0.1]
["IE",9.3800000000000008,8.43,8.42,8.19]
["ES",7.56,4.6500000000000004,4.6399999999999997,4.6900000000000004]
["FR",16.2,17.91,17.89,17.739999999999998]
["CY",null,null,null,0.43]
["NL",2.14,2.3199999999999998,2.3199999999999998,2.19]
["AT",0.86,1.28,1.28,1.28]
["PL",0.14000000000000001,0.17,0.17,0.12]
["RO",13.15,7.52,7.51,7.47]
["SE",0.56000000000000005,0.94,0.94,0.95]
["GB",92.87,92.87,92.87,92.87]
["NI",7.13,7.13,7.13,7.13]
["UK",43.96,49.57,49.51,49.25]
["EU_H",{"$f":"SUM(B65:B80)-B78-B79","v":100},{"$f":"SUM(C65:C80)-C78-C79","v":100},{"$f":"SUM(D65:D80)-D78-D79","v":100},{"$f":"SUM(E65:E80)-E78-E79","v":100}]
[]
["LIGHT LAMBS"]
["Country Code","Weights (%)","Weights (%)","Weights (%)","Weights (%)"]
["BG",null,4.7699999999999996,4.7699999999999996,5.86]
["GR",23.21,31.88,31.88,33.75]
["ES",52.3,35.6,35.6,39.549999999999997]
["IT",19.37,18.66,18.66,12.51]
["CY",0.93,0.92,0.92]
["HU",0.26,0.28999999999999998,0.28999999999999998,0.38]
["PT",3.64,6.88,6.88,7]
["SI",0.26,0.59,0.59,0.59]
["SK",0.03,0.41,0.41,0.36]
["EU_L",{"$f":"SUM(B86:B93)","v":100.00000000000001},{"$f":"SUM(C85:C93)","v":100},{"$f":"SUM(D85:D93)","v":100},{"$f":"SUM(E85:E93)","v":100}]

{"sheet":"Info Key","index":2,"n_rows":4,"n_cols":7,"rows_kept":4,"cut":false,"hidden":true,"merged":[[1,0,2,1]]}
[]
[null,null,null,null,null,null,"VLOOKUP($A14&\"EU_H\"&AC$7;AMIS2_data!$A:$R;12;0)"]
[]
[null,null,null,null,null,null,"VLOOKUP($A14&\"EU_L\"&AC$7;AMIS2_data!$A:$R;12;0)"]

{"sheet":"COVER","index":3,"n_rows":42,"n_cols":10,"rows_kept":42,"cut":false,"hidden":false,"merged":[[34,9,34,10],[36,9,36,10],[35,9,35,10]]}
["Weekly price report on"]
["Heavy Lamb and Light Lamb prices"]
["in the EU"]
[]
[null,null,null,null,"Note:"]
[null,null,null,null,"New Weighing Coefficients from 01.07.2013"]
[null,null,null,null,"As from 2013 Cyprus communicates Heavy Lamb"]
[null,null,null,null,"instead of light lamb"]
[]
[]
[]
[]
[]
[]
[]
[]
[]
[]
[]
[]
[]
[]
["Period:"]
[null,"2012 - 2013"]
["Week :"]
[null,2013,34]
[]
[]
[]
[]
[]
[]
[]
[]
[null,null,null,null,null,"Week 2013 : ",34,"Varition 1 week","Varition 1 year","Variation - avg last 4 weeks 2013 with same weeks 2012"]
[null,null,null,null,null,"Heavy Lamb",497.94203826691228,1.1345126211592671E-4,-1.5502959267306271E-2,-2.0533995161560403E-2]
[null,null,null,null,null,"Light Lamb",635.73033304355067,4.8288878354034726E-3,3.2141007653071263E-2,3.9029361452895595E-2]
[]
[]
[]
[null,null,null,null,null,"Find more monthly, annual and further information on sheep on the following Circa site:"]
[null,null,null,null,null,"https://circabc.europa.eu/faces/jsp/extension/wai/navigation/container.jsp"]

{"sheet":"Heavy Lamb Prices","index":4,"n_rows":506,"n_cols":48,"rows_kept":506,"cut":false,"hidden":false,"merged":[[66,0,66,41],[5,17,5,27],[3,17,4,27],[8,2,8,7],[14,0,14,41],[10,0,10,1],[11,0,11,1],[12,0,12,1],[7,37,8,41],[9,0,9,1],[7,0,7,2]]}
["COMMISSION EUROPEENNE",null,null,null,null,null,null,null,null,null,null,null,null,null,null,null,null,null,null,null,null,null,null,null,null,null,null,null,null,null,null,null,null,null,null,null,null,null,null,null,null,null,null,"Week",{"$f":"COVER!G35","v":34}]
["Direction générale de l'Agriculture"]
["C4. Produits animaux"]
[null,null,null,null,null,null,null,null,null,null,null,null,null,null,null,null,null,"HEAVY LAMB PRICE"]
[]
[null,null,null,null,null,null,null,null,null,null,null,null,null,null,null,null,null,"DG-Agri-C4,  Meat sector"]
[null,null,null,null,null,null,null,null,null,null," "]
["HEAVY LAMB",null,null,null,null,null,null,null,null,null,null,null,null,null,null,null,null,null,null,null,null,null,null,null,null,null,null,null,null,null,null,null,null,null,null,null,null,"€ur per 100 kg carcass"]
["EU_H",null,"Country Code/Currency"]
[2013,null,"BE","BG","BG","CZ","CZ","DK","DK","DE","EE","GR","ES","FR","HR","HR","IE","IT","CY","LV","LV","LT","LT","LU","HU","HU","MT","NL","AT","PL","PL","PT","RO","RO","SI","SK","FI","SE","SE","NI","GB","UK",null,"EU_27"]
["Weightings from 01/01/2012 until 31/12/2012",null,0.53,"","","","","","",6.67,0.12,"",4.6399999999999997,17.89,null,null,8.42,"","","","","","","","","","",2.3199999999999998,1.28,0.17,null,"",7.51,null,"","","",0.94,null,null,null,49.51,null,100]
["Weightings from 01/01/2012 until 30/06/2013",null,0.46,"","","","",0.26,null,6.87,0.1,"",4.6900000000000004,17.739999999999998,"","",8.19,"",0.43,"","","","","","","","",2.19,1.28,0.12,null,"",7.47,null,"","","",0.95,null,null,null,49.25,null,100]
["Weightings from 01/07/2013\nuntil --/--/----",null,0.42539229537720397,"","","","",0.27951855137721832,null,6.6385655952089344,0.10901223503711514,"",4.5480833856667759,17.779126858537193,null,null,9.3872811498146547,"",0.53737441502270211,"","",6.9704938749693815E-2,null,null,"","","",2.2875099448333098,1.3259661280956792,0.12228936622753299,null,"",7.337886070935812,null,"","","",0.96503779862984618,null,null,null,48.187251266486321,null,100]
["Week beginning","Week N°","EUR","EUR","BGN","EUR","CZK","EUR","DKK","EUR","EUR","EUR","EUR","EUR","EUR","HRK","EUR","EUR","EUR","EUR","LVL","EUR","LTL","EUR","EUR","HUF","EUR","EUR","EUR","EUR","PLN","EUR","EUR","RON","EUR","EUR","EUR","EUR","SEK","EUR","EUR","EUR",null,"EURO","Compare to last week"]
["2012"]
["2012-01-02",1,452.95,"","","","","","",518.16,247.11,"",556.21,642,null,null,478.14,"","","","","","","","","","",499.75,518,452.5634,2029.76,"",230.12650000000002,997,"","","",402.50839999999999,3576,469.39150000000001,545.68370000000004,540.24406614000009,null,525.71464503591403]
["2012-01-09",2,448.63,"","","","","","",518.16,308.04000000000002,"",519.18000000000006,641,null,null,477.67,"","","","","","","","","","",487.08,525,409.64500000000004,1823.16,"",229.89030000000002,1000,"","","",385.70050000000003,3412,473.0093,535.72810000000004,531.25624956000001,null,518.92529288715605,-1.2914519716859307E-2]
["2012-01-16",3,440.73,"","","","","","",507.96000000000004,238.68,"",490.23,637,null,null,477.67,"","","","","","","","","","",477.28000000000003,520,406.28630000000004,1769.1100000000001,"",253.55890000000002,1100,"","","",399.84450000000004,3527,482.17590000000001,526.6499,523.47890380000001,null,513.82380267138001,-9.830876015683776E-3]
["2012-01-23",4,439.26,"","","","","","",496.74,242.12,"",489.32,636,null,null,493.91,"","","","","","","","","","",487.22,525,414.33500000000004,1769.1100000000001,"",232.48400000000001,1010,"","","",403.767,3569,484.85940000000005,525.07479999999998,522.20744198,null,512.35098622429791,-2.8663842340991286E-3]
["2012-01-30",5,439.26,"","","","","","",496.74,231.69,"",489.18,636,null,null,493.91,"","","","","","","","","","",471.79,522,449.59050000000002,1893.81,"",241.61580000000001,1050,"","","",402.18880000000001,3570,484.80190000000005,529.53179999999998,526.34255812999993,null,514.71379168016301,4.6116929983437416E-3]
["2012-02-06",6,438.435,"","","","","","",506.94,257.04000000000002,"",489.21000000000004,637,null,null,486.53000000000003,"","","","","","","","","","",487.1,524,445.86330000000004,1870.1100000000001,"",229.38910000000001,998,"","","",403.0915,3554,481.59720000000004,528.71609999999998,525.35652242999993,null,513.95560487509294,-1.4730260143119844E-3]
["2012-02-13",7,440.73,"","","","","","",486.54,228.48000000000002,"",488.96000000000004,633,null,null,486.1,"","","","","","","","","","",474.58,533,370.56720000000001,1555.89,"",232.10690000000002,1010,"","","",407.94120000000004,3593,482.36540000000002,530.19310000000007,526.78298499000005,null,512.46207857854904,-2.9059441756781323E-3]
["2012-02-20",8,438.85,"","","","","","",494.7,216.24,"",488.84000000000003,630,null,null,481.29,"","","","","","","","","","",495.01,523,431.4957,1802,"",233.7466,1018,"","","",419.8381,3702,475.3417,524.42070000000001,520.92136730000004,null,509.81686844023005,-5.1617675705023514E-3]
["2012-02-27",9,441.92,"","","","","","",516.12,238.53,"",487.37,628,null,null,481.98,"","","","","","","","","","",507.1,529,403.92529999999999,1669.51,"",241.36190000000002,1050,"","","",417.83160000000004,3687,484.35330000000005,523.46120000000008,520.67280673000005,null,511.66109535202304,3.617430151802159E-3]
["2012-03-05",10,460.53000000000003,"","","","","","",527.34,223.92000000000002,"",482.77,625,null,null,482.49,"","","","","","","","","","",526.73,527,411.54400000000004,1696.69,"",241.14410000000001,1050,"","","",415.0104,3687,496.90440000000001,527.75279999999998,525.55330907999996,null,514.59960079550797,5.7430699151812536E-3]
["2012-03-12",11,509.09000000000003,"","","","","","",547.74,209.48000000000002,"",495.15000000000003,623,null,null,486.39,"","","","","","","","","","",560.84,521,405.55060000000003,1673.58,"",240.33430000000001,1050,"","","",457.52960000000002,4068,496.35550000000001,532.79060000000004,530.19277737000004,null,520.08556126588701,1.0660638799366406E-2]
["2012-03-19",12,509.09000000000003,"","","","","","",574.26,264.59000000000003,"",494.46000000000004,623,null,null,488.57,"","","","","","","","","","",552.71,541,426.44550000000004,1768.89,"",239.93730000000002,1050,"","","",460.39330000000001,4100,503.68550000000005,550.54020000000003,547.19945988999996,null,530.592135191539,2.0201625863404127E-2]
["2012-03-26",13,558.86,"","","","","","",576.30000000000007,335,"",494.49,628,null,null,509.76,"","","","","","","","","","",579.37,544,414.02140000000003,1719.07,"",230.84360000000001,1010,"","","",472.85120000000001,4199,515.84620000000007,564.30770000000007,560.85239505000004,null,540.58609280925509,1.8835480126572879E-2]
["2012-04-02",14,590.06000000000006,"","","","","","",572.22,298.73,"",501.55,630,null,null,532.72,"","","","","","","","","","",572.23,540,416.89490000000001,1733.05,"",225.7534,988,"","","",483.50810000000001,4262,513.73090000000002,565.20540000000005,561.53526815000009,null,542.89843707106513,4.2774764141517707E-3]
["2012-04-09",15,598.30000000000007,"","","","","","",565.08000000000004,294.18,"",500.18,632,null,null,533.23,"","","","","","","","","","",593.19000000000005,544,416.34050000000002,1739.56,"",208.7396,913,"","","",497.31830000000002,4411,528.53150000000005,565.03710000000001,562.43425072000002,null,542.63128036147191,-4.920933481307177E-4]
["2012-04-16",16,593.98,"","","","","","",531.41999999999996,293.76,"",497.51,631,null,null,510.52000000000004,"","","","","","","","","","",593.32000000000005,543,421.79510000000005,1766.52,"",208.66050000000001,913,"","","",520.7989,4615,510.67170000000004,569.41680000000008,565.22827437000012,null,539.74537552058712,-5.318353263679132E-3]
["2012-04-23",17,574,"","","","","","",558.96,257.25,"",495.34000000000003,627,null,null,504.59000000000003,"","","","","","","","","","",585.18000000000006,529,415.97770000000003,1741.77,"",239.63070000000002,1050,"","","",527.08879999999999,4681,476.9597,526.58400000000006,523.04578741,null,521.23949372669097,-3.4286318388642267E-2]
["2012-04-30",18,564.11,"","","","","","",555.9,302.52,"",487.83,620,null,null,490.58,"","","","","","","","","","",573.35,531,413.40440000000001,1725.81,"",229.63320000000002,1012,"","","",531.28610000000003,4729,459.87800000000004,515.61070000000007,511.63695849000004,null,511.64379328839902,-1.8409388685584505E-2]
["2012-05-07",19,557,"","","","","","",541.62,283.08,"",488.23,617,null,null,480.34000000000003,"","","","","","","","","","",565.89,528,409.47950000000003,1725.81,"",227.89660000000001,1007,"","","",536.93209999999999,4796,457.88740000000001,539.31910000000005,533.51301979000004,null,519.78530564802907,1.59124618854527E-2]
["2012-05-14",20,557,"","","","","","",532.44000000000005,260.85000000000002,"",480.3,611,null,null,482.74,"","","","","","","","","","",572.08000000000004,523,402.83510000000001,1740.15,"",227.6104,1011,"","","",526.69730000000004,4775,453.21600000000001,546.59339999999997,539.93559137999989,null,521.03747862223793,2.4090195713550866E-3]
["2012-05-21",21,557,"","","","","","",529.38,264.73,"",470.33,608,null,null,439.45,"","","","","","","","","","",557.14,525,369.14879999999999,1604.21,"",244.49800000000002,1090,"","","",528.67349999999999,4783,405.44220000000001,548.66830000000004,538.45627907000005,null,516.369859427557,-8.9583175610002952E-3]
["2012-05-28",22,557,"","","","","","",524.28,293.26,"",477.06,594,null,null,440.42,"","","","","","","","","","",569.86,524,366.29140000000001,1604.21,"",243.87440000000001,1090,"","","",532.30799999999999,4783,409.87970000000001,499.3981,493.01543807999997,null,491.72028941340795,-4.7736268033682916E-2]
["2012-06-04",23,504.48,"","","","","","",506.94,336.90000000000003,"",464.19,587,null,null,440.7,"","","","","","","","","","",556.49,529,378.52850000000001,1644.16,"",244.67780000000002,1093,"","","",528.20069999999998,4747,434.66030000000001,504.11190000000005,499.16000092000002,null,491.35035026549201,-7.5233655368844854E-4]
["2012-06-11",24,494.87,"","","","","","",501.84000000000003,279.04000000000002,"",462.81,582,null,null,458.14,"","","","","","","","","","",584.21,543,379.06980000000004,1633,"",224.10470000000001,1000,"","","",537.35940000000005,4763,465.68530000000004,522.26620000000003,518.23198183,null,500.20654519403303,1.8024195818229671E-2]
["2012-06-18",25,499.03000000000003,"","","","","","",487.56,228.48000000000002,"",466.93,577,null,null,452.90000000000003,"","","","","","","","","","",554.56000000000006,524,373.59980000000002,1592.48,"",251.16560000000001,1122,"","","",519.01940000000002,4582,451.0324,539.09590000000003,532.81697244999998,null,506.21143263999505,1.2004815817899139E-2]
["2012-06-25",26,481.38,"","","","","","",485.52,234.9,"",467.54,575,null,null,450.65000000000003,"","","","","","","","","","",566.4,516,393.16239999999999,1673.49,"",243.71090000000001,1086,"","","",519.81550000000004,4575,449.54970000000003,534.81050000000005,528.73140495999996,null,503.10099296569598,-6.1445464755260915E-3]
["2012-07-02",27,473.56,"","","","","","",469.2,209.85,"",481.71000000000004,579,null,null,440.24,"","","","","","","","","","",570.35,514,379.01400000000001,1598.3400000000001,"",247.53500000000003,1110,"","","",528.55529999999999,4596,435.95770000000005,507.62720000000002,502.51716464999998,null,489.87017033821496,-2.6298542067046071E-2]
["2012-07-09",28,473.56,"","","","","","",487.56,398.82,"",498.06,579,null,null,426.47,"","","","","","","","","","",563.74,514,379.96520000000004,1598.3400000000001,"",242.05300000000003,1099,"","","",522.53840000000002,4488,429.4907,515.45460000000003,509.32537393000001,null,493.6715047327429,7.7598813414245793E-3]
["2012-07-16",29,475.45,"","","","","","",479.40000000000003,292.47000000000003,"",509.38,581,null,null,434.26,"","","","","","","","","","",581.80000000000007,518,361.33850000000001,1508.81,"",234.69470000000001,1074,"","","",512.83940000000007,4374,440.09300000000002,541.0498,533.85158016000003,null,506.48626811721596,2.5958077915415601E-2]
["2012-07-23",30,483.7,"","","","","","",490.62,294.79000000000002,"",511.3,584,null,null,436.91,"","","","","","","","","","",588.91,502,381.71630000000005,1590.77,"",232.63590000000002,1074,"","","",516.51319999999998,4371,435.93270000000001,548.11599999999999,540.11733071000003,null,511.10695431452098,9.1230236398742726E-3]
["2012-07-30",31,493.34000000000003,"","","","","","",488.58,279.47000000000003,"",516.38,588,null,null,442.27,"","","","","","","","","","",562.68000000000006,505,387.95250000000004,1592.8500000000001,"",234.12100000000001,1079,"","","",520.01940000000002,4340,443.50540000000001,537.51670000000001,530.81369430999996,null,507.38494276288094,-7.2822557396657883E-3]
["2012-08-06",32,489.40000000000003,"","","","","","",480.42,295.94,"",529.73,593,null,null,436.04,"","","","","","","","","","",560.87,507,390.88620000000003,1592.8500000000001,"",220.08240000000001,1004,"","","",508.00420000000003,4202,433.74030000000005,510.93870000000004,505.43445408000002,null,494.08501847500804,-2.6212690143011308E-2]
["2012-08-13",33,489.40000000000003,"","","","","","",478.38,229.5,"",539.23,599,null,null,436.74,"","","","","","","","","","",563.08000000000004,539,402.22720000000004,1642.65,"",237.4265,1070,"","","",497.15690000000001,4098,440.7894,537.25580000000002,530.37774567999998,null,509.47251513616794,3.1143418816165225E-2]
["2012-08-20",34,489.46000000000004,"","","","","","",494.7,219.3,"",539.34,606,null,null,435.79,"","","","","","","","","","",560.27,520,373.80450000000002,1525.8700000000001,"",238.35510000000002,1070,"","","",487.5138,4033,433.81440000000003,536.255,528.95098522000001,null,510.64254416242198,2.2965498461509082E-3]
["2012-08-27",35,489.46000000000004,"","","","","","",503.88,224.99,"",540.73,608,null,null,430.03000000000003,"","","","","","","","","","",552.58000000000004,526,385.53650000000005,1596.49,"",239.09660000000002,1068,"","","",457.25010000000003,3794,426.92619999999999,525.68040000000008,518.6392255400001,null,505.78317421485406,-9.516187014026567E-3]
["2012-09-03",36,501.89,"","","","","","",500.82,224.99,"",540.21,610,null,null,432.31,"","","","","","","","","","",557.94000000000005,520,382.51140000000004,1594.1000000000001,"",223.07910000000001,1000,"","","",435.56790000000001,3676,406.90440000000001,521.22969999999998,513.07830610999997,null,502.05307040506102,-7.3749068770099235E-3]
["2012-09-10",37,523.49,"","","","","","",506.94,193.35,"",540.23,616,null,null,418.17,"","","","","","","","","","",563.84,523,369.3655,1512.42,"",222.51610000000002,1000,"","","",421.29349999999999,3588,402.89370000000002,503.02460000000002,495.88526683000003,null,493.88572396753295,-1.6267894609106937E-2]
["2012-09-17",38,524.38,"","","","","","",496.74,236.37,"",547.16,629,null,null,411.27,"","","","","","","","","","",550.22,525,392.30950000000001,1616.13,"",221.86930000000001,1000,"","","",392.25659999999999,3350,394.43270000000001,481.18870000000004,475.00299719999998,null,484.41628453371993,-1.9173341067124094E-2]
["2012-09-24",39,534.78,"","","","","","",516.12,220.66,"",547.16,630,null,null,397.87,"","","","","","","","","","",555.73,527,367.4298,1518.22,"",232.16150000000002,1050,"","","",401.86950000000002,3405,390.73680000000002,475.58680000000004,469.53699499999999,null,483.06404283450001,-2.7914868727452191E-3]
["2012-10-01",40,554.76,"","","","","","",511.02000000000004,236.53,"",545.59,630,null,null,409.02,"","","","","","","","","","",552.44000000000005,538,384.77260000000001,1574.1100000000001,"",230.96650000000002,1050,"","","",375.39280000000002,3208,382.28680000000003,456.95180000000005,451.62818550000003,null,474.60347053105005,-1.7514390542929692E-2]
["2012-10-08",41,548.47,"","","","","","",519.18000000000006,192.78,"",544.13,633,null,null,400.98,"","","","","","","","","","",556.81000000000006,543,401.33920000000001,1639.66,"",259.74630000000002,1187,"","","",360.16130000000004,3109,377.65940000000001,452.5453,447.20593532999999,null,474.87617157188305,5.7458711906988036E-4]
["2012-10-15",42,545.23,"","","","","","",529.38,283.63,"",544.13,633,null,null,402.36,"","","","","","","","","","",553.70000000000005,538,378.22320000000002,1550.51,"",248.39510000000001,1137,"","","",362.20150000000001,3123,385.3329,450.29130000000004,445.65976608000005,null,473.9903007362081,-1.8654775470048346E-3]
["2012-10-22",43,565.54,"","","","","","",519.18000000000006,158.1,"",544.13,633,null,null,401.90000000000003,"","","","","","","","","","",527.54999999999995,489,368.91500000000002,1524.32,"",220.27510000000001,1007,"","","",360.23520000000002,3112,384.90410000000003,451.1977,446.47096632,null,470.24986181503198,-7.891382830759186E-3]
["2012-10-29",44,542.04999999999995,"","","","","","",515.1,222.89000000000001,"",543.99,633,null,null,394.25,"","","","","","","","","","",542.04999999999995,534,378.42900000000003,1563.0900000000001,"",260.35489999999999,1182,"","","",362.98580000000004,3129,377.68080000000003,444.16200000000003,439.42189044000003,null,469.75477576684398,-1.0528148722407371E-3]
["2012-11-05",45,528.31000000000006,"","","","","","",515.1,237.59,"",544.46,636,null,null,386.71000000000004,"","","","","","","","","","",532.1,543,361.77100000000002,1497.3600000000001,"",222.61520000000002,1007,"","","",368.6189,3157,382.2654,452.02880000000005,447.05466958000005,null,470.47696378905806,1.5373723897433855E-3]
["2012-11-12",46,520.82000000000005,"","","","","","",497.76,234.38,"",541.64,638,null,null,388.96000000000004,"","","","","","","","","","",518.68000000000006,550,359.82320000000004,1500,"",223.38500000000002,1013,"","","",367.0795,3164,389.25130000000001,451.66920000000005,447.21880373000005,null,469.59278796672299,-1.8793179908623836E-3]
["2012-11-19",47,520.82000000000005,"","","","","","",500.82,221.36,"",542.45000000000005,639,null,null,388.82,"","","","","","","","","","",516.23,541,391.48770000000002,1616.71,"",227.5419,1032,"","","",363.33019999999999,3132,384.63460000000003,435.24340000000001,431.63499256,null,462.42914647645603,-1.5255007474208937E-2,null,null,0]
["2012-11-26",48,500.43,"","","","","","",496.74,228.94,"",542.45000000000005,637,null,null,386.56,"","","","","","","","","","",507.92,535,393.9393,1616.71,"",232.85300000000001,1052,"","","",379.411,3273,381.5745,437.00980000000004,433.05726311000001,null,462.49871247576101,1.5043601778796933E-4]
["2012-12-03",49,482.43,"","","","","","",483.48,278.61,"",540.14,632,null,null,389.90000000000003,"","","","","","","","","","",496.91,543,466.61330000000004,1923.92,"",231.59960000000001,1050,"","","",384.95760000000001,3325,373.63620000000003,443.15910000000002,438.20211723,null,463.33375725057294,1.8055072420459783E-3]
["2012-12-10",50,479.54,"","","","","","",496.74,304.47000000000003,"",549,631,null,null,387.84000000000003,"","","","","","","","","","",494.43,537,407.57420000000002,1671.5900000000001,"",234.93950000000001,1060,"","","",388.37650000000002,3373,379.262,439.76530000000002,435.45141471000005,null,462.97905511292106,-7.6554348156432361E-4]
["2012-12-17",51,479.54,"","","","","","",513.06000000000006,290.17,"",535.71,629,null,null,394.46000000000004,"","","","","","","","","","",480.61,539,389.22239999999999,1587.1100000000001,"",237.4316,1060,"","","",419.95710000000003,3645,373.91750000000002,417.63530000000003,414.51822085999999,null,453.42715512778597,-2.0631386840610721E-2]
["2013"]
["2012-12-24",52,476.76,null,null,null,"","","",531.41999999999996,210.61,"",535.71,627,null,"",394.21000000000004,"","","","","","","","","","",485.6,530,389.2715,1587.1100000000001,"",239.35410000000002,1060,"","","",421.80080000000004,3630,372.27690000000001,415.80280000000005,412.69940333000005,null,450.57973881002511,-6.2797657475066604E-3]
[{"$f":"A68+7","v":"2012-12-31"},1,476.76,null,null,null,"","","",502.86,351.95,"",499.68,623,null,"",394.36,"",506,"","","","","","","","",474.76,536,388.14140000000003,1587.1100000000001,"",233.8648,1037,"","","",422.11970000000002,3612,370.43430000000001,410.52910000000003,407.67034076000004,null,445.50189821430001,-1.126957152830621E-2]
[{"$f":"A69+7","v":"2013-01-07"},{"$f":"B69+1","v":2},452.75,null,null,null,"","","",503.88,235.25,"",478.90000000000003,623,null,"",323.05,"",494,"","","","","","","","",471.95,550,364.06790000000001,1495.7,"",234.06200000000001,1030,"","","",435.97250000000003,3739,369.22590000000002,409.18990000000002,406.3404668,null,438.05849752900002,-1.6707898922844744E-2]
["2013-01-14",{"$f":"B70+1","v":3},441.79,null,null,null,"","","",490.62,224.4,"",430.26,598,null,"",375.99,"",480,"","","","","","","","",468.39,543,406.06909999999999,1675.47,"",236.38720000000001,1030,"","","",429.9633,3715,353.86770000000001,393.31990000000002,390.50695814000005,null,426.84707899394999,-2.5593427814530223E-2]
["2013-01-21",4,437.79,null,null,null,"","","",522.24,183.73,"",408.93,582,null,"",377.2,"",466,"","","","","","","","",464.49,536,323.4769,1349.25,"",268.04990000000004,1169,"","","",424.22290000000004,3685,360.74029999999999,395.46010000000001,392.98457826000003,null,428.41720215305003,3.6784207655835566E-3]
["2013-01-28",5,440.67,null,null,null,"","","",486.54,204,"",403.21000000000004,577,null,"",379.56,"",456,"","","","","","","","",464.12,535,344.01679999999999,1441.75,"",236.51270000000002,1036,"","","",454.4853,3922,355.04150000000004,389.08340000000004,386.65621253000006,null,419.81183487102504,-2.0086418656342309E-2]
["2013-02-04",6,440.67,null,null,null,"","","",512.04,204,"",395.25,568,null,"",391.07,"",455,"","","","","","","","",462.72,531,359.68119999999999,1501.33,"",252.72240000000002,1109,"","","",481.35760000000005,4137,356.50229999999999,404.01890000000003,400.63096641999999,null,428.81778488185012,2.1452349035352647E-2]
["2013-02-11",7,456.21000000000004,null,null,null,"","","",479.40000000000003,204,"",389.09000000000003,552,null,"",393.63,"",449,"","","","","","","","",469.77,526,359.68119999999999,1501.33,"",221.45490000000001,973,"","","",494.05900000000003,4205,387.42920000000004,419.12260000000003,416.86286058000002,null,429.57304480564994,1.7612607275789838E-3]
["2013-02-18",8,454.27,null,null,null,"","","",495.72,313.01,"",390.63,548,null,"",408.36,"",461,"","","","","","","","",470.56,532,361.56280000000004,1507.5,"",252.21730000000002,1105,"","","",499.00790000000001,4218,400.63339999999999,419.97680000000003,418.59761557999997,null,434.71061939314995,1.1959722914701043E-2]
["2013-02-25",9,462.58,null,null,null,"","","",491.64,163.20000000000002,"",400.56,547,null,"",420.81,"",466,"","","","","","","","",464.04,523,362.87330000000003,1507.5,"",252.84640000000002,1105,"","","",510.12370000000004,4300,417.22570000000002,427.57440000000003,426.83653769,null,439.60205900232495,1.1252174184296138E-2]
["2013-03-04",10,461.61,null,null,null,"","","",505.92,315,"",402.57,559,null,"",450.72,"",486,"","","","","","","","",447.94,545,363.93950000000001,1507.5,"",230.48420000000002,1005,"","","",532.83900000000006,4441,432.88670000000002,464.4796,462.22702622999998,null,461.39457505827494,4.9573280219405769E-2]
["2013-03-11",11,490.99,null,null,null,"",466.08160000000004,3475.81,527.34,315,"",402.57,567,null,"",460.55,"",501,"","","","","","","","",478.13,532,361.38100000000003,1498.42,"",235.47970000000001,1032,"","","",527.43619999999999,4396,456.69210000000004,495.12100000000004,492.38101943000004,null,482.16623591927504,4.5019300147550734E-2]
["2013-03-18",12,536.70000000000005,null,null,null,"","","",518.16,295.44,"",406.83,589,null,"",475.33,"",500,"","","","","","","","",532.28,536,370.81440000000003,1545.03,"",246.82330000000002,1090,"","","",538.56450000000007,4507,478.08300000000003,532.32029999999997,528.45318050999992,null,505.79026994117493,4.8995620725825972E-2]
["2013-03-25",13,546.72,null,null,null,"","","",506.94,287.64,"",406.83,611,null,"",485.67,"",487,"","","","","","","","",533.84,549,353.74040000000002,1477.7,"",237.62030000000001,1050,"","","",530.64610000000005,4441,482.52930000000003,531.1902,527.72067783,null,508.80812267127504,5.9666089077812234E-3]
["2013-04-01",14,552.88,null,null,null,"",472.54360000000003,3522.59,510,275.40000000000003,"",420.57,614,null,"",492.14,"",484,"","","","","","","","",501.55,546,358.69839999999999,1500,"",229.81970000000001,1016,"","","",533.57270000000005,4463,492.25320000000005,536.66880000000003,533.50196772000004,null,513.50943478210002,9.2398527093922045E-3]
["2013-04-08",15,534.70000000000005,null,null,null,"",473.92600000000004,3533.308,516.12,244.57,"",420.57,620,null,"",492.14,"",491,"","","","","","","","",497.71000000000004,529,384.25569999999999,1584.72,"",246.82860000000002,1086,"","","",539.9289,4509,494.4058,553.1386,548.95095135999998,null,523.5820609548,1.9615269925808088E-2]
["2013-04-15",16,547.46,null,null,null,"",466.80940000000004,3480.4110000000001,502.86,274.61,"",420.57,624,null,"",506.21000000000004,"",480,"","","","","","","","",508.72,535,362.2353,1488.43,"",253.93290000000002,1111,"","","",554.45080000000007,4680,489.00810000000001,533.97170000000006,530.76579532000005,null,516.55991922509997,-1.34117309460422E-2]
["2013-04-22",17,549.1,null,null,null,"",484.01620000000003,3608.5410000000002,499.8,278.10000000000002,"",402.57,623,null,"",503.48,"",481,"","","","","","","","",506.79,522,386.29900000000004,1597.28,"",255.37210000000002,1111,"","","",547.56590000000006,4687,498.44210000000004,542.49959999999999,539.35830024999996,null,519.25870171312488,5.2245294061401548E-3]
["2013-04-29",18,528.81000000000006,null,null,null,"",482.0598,3593.88,504.90000000000003,294.43,"",402.38,623,null,"",514.62,"",479,"","","","","","","","",506.64,535,385.3032,1597.28,"",266.41140000000001,1151,"","","",557.62250000000006,4764,529.71180000000004,557.70990000000006,555.71363546999999,null,529.55893211897501,1.9836413664071184E-2]
["2013-05-06",19,528.81000000000006,null,null,null,"",487.31420000000003,3632.28,487.56,287.23,"",412.94,621,"","",518.46,"",484,"","","","","","","","",511.78000000000003,525,372.28790000000004,1541.99,"",241.97980000000001,1045,"","","",556.88040000000001,4757,541.60649999999998,576.20240000000001,573.73571232999996,null,535.86332558252502,1.1904989381113174E-2]
["2013-05-13",20,523.37,null,null,null,"",488.06570000000005,3637.7000000000003,500.82,239.57,"",422.39,619,"","",536.56000000000006,"",484,"","","","","","","","",515.28,524,356.4393,1485.42,"",233.57260000000002,1012,"","","",560.82150000000001,4817,587.95530000000008,586.2165,586.34047643999997,null,543.93645309670001,1.5065646646743147E-2]
["2013-05-20",21,515.89,null,null,null,"",474.00570000000005,3532.92,499.8,281.52,"",428.65000000000003,620,"","",533.96,"",484,"","","","","","","","",514.96,516,359.65630000000004,1506.77,"",251.66630000000001,1095,"","","",559.17950000000008,4798,568.11480000000006,581.67060000000004,580.70407146000002,null,542.54994243405008,-2.5490305986229922E-3]
["2013-05-27",22,515.89,null,null,null,"",485.30040000000002,3617.54,494.7,311.97000000000003,"",440.8,615,"","",505.83,"",480,"","","","","","","","",512.4,513,359.80560000000003,1522.6100000000001,"",246.62520000000001,1074,"","","",559.16090000000008,4803,519.83870000000002,578.32590000000005,574.15576264000003,null,535.92510285020001,-1.2210561767141526E-2]
["2013-06-03",23,486.86,null,null,null,"",491.7208,3665.8,514.08000000000004,353.52,"",462.03000000000003,610,"","",480.73,"",480,"","","","","","","","",523.11,518,352.6816,1507.21,"",226.58950000000002,1010,"","","",567.39580000000001,4891,502.45310000000001,586.50229999999999,580.50959203999992,null,537.23503682969999,2.4442482215021322E-3]
["2013-06-10",24,486.86,null,null,null,"",490.03040000000004,3654.36,508.98,262.55,"",476.75,608,"","",477.17,"",481,"","","","","","","","",543.72,531,356.43080000000003,1518.65,"",222.46800000000002,1000,"","","",555.48149999999998,4819,495.89430000000004,576.44360000000006,570.70043491000001,null,532.207792043175,-9.3576264425929701E-3]
["2013-06-17",25,486.16,null,null,null,"",489.2509,3649.19,498.78000000000003,300.26,"",480.96000000000004,610,"","",480.38,"",480,"","","","","","","","",535.61,523,354.3347,1516.33,"",230.19880000000001,1036,"","","",551.51260000000002,4769,500.27880000000005,562.96310000000005,558.49370941000006,null,526.59581292442499,-1.0544714306427783E-2]
["2013-06-24",26,488.14,null,null,null,"",480.7842,3586.19,516.12,285.53000000000003,"",482.73,617,"","",490.04,"",478,"","","","","","","","",536.29,497,349.86959999999999,1516.33,"",231.18810000000002,1036,"","","",536.09890000000007,4704,503.94140000000004,577.23980000000006,572.01362408,null,536.12956491939997,1.8104496391700753E-2]
["2013-07-01",27,488.14,null,null,null,"",457.64070000000004,3413.83,523.26,250.26000000000002,"",495.22,617,"","",478.37,"",484,"","","","","","","","",538.86,503,362.98420000000004,1566.93,"",233.51560000000001,1038,"","","",536.64380000000006,4669,487.94540000000001,573.04480000000001,566.97721277999995,null,533.057168360074,-5.7306978767116545E-3]
["2013-07-08",28,484.23,null,null,null,"",493.27160000000003,3679.13,516.12,322.38,"",498.2,634,"","",469.78000000000003,"",484,"","","","","","","","",556.88,515,356.37720000000002,1538.17,"",234.0617,1038,"","","",542.9348,4728,476.89980000000003,561.21540000000005,555.20369772000004,null,530.08706854522245,-5.5718222943871298E-3]
["2013-07-15",29,486.93,null,null,null,"",492.84680000000003,3675.37,505.92,291.72000000000003,"",503.88,645,"","",474.09000000000003,"",481,"","","","","","","","",547.41999999999996,501,347.0256,1480.53,"",234.28580000000002,1038,"","","",545.20299999999997,4718,480.53770000000003,549.85800000000006,544.91546260999996,null,526.65656135187328,-6.4715919268959476E-3]
["2013-07-22",30,486.93,null,null,null,"",501.64460000000003,3740.9500000000003,530.4,291.72000000000003,"",498.2,644,"","",440.36,"",480,"","","","","","","","",550.91999999999996,529,347.03,"","",227.12380000000002,1000,"","","",548.23199999999997,4706,422.92220000000003,475.73380000000003,471.96833292000002,null,489.50226127559768,-7.0547493001709372E-2]
["2013-07-29",31,487.93,null,null,null,"",492.33070000000004,3670.41,511.02000000000004,228.19,"",503.67,646,"","",428.26,"",478,"","","","","","","","",539.04999999999995,527,372.83390000000003,1580.48,"",226.64430000000002,1000,"","","",533.09829999999999,4632,429.22400000000005,475.36690000000004,472.07691123000001,null,487.1870243126404,-4.7297778705331917E-3]
["2013-08-05",32,487.93,null,null,null,"",486.7758,3629.88,524.28,256.07,"",512.76,645,"","",432.88,"",486,"","","","","","","","",555.78,512,375.18690000000004,1580.48,"",225.59400000000002,1000,"","","",529.33720000000005,4613,437.70840000000004,493.0197,489.07600431000003,null,497.05918840395782,2.0263602269058323E-2]
["2013-08-12",33,488.93,null,null,null,"",484.3725,3612.63,528.36,231.54,"",512.66,651,"","",431.01,"",485,"","","","","","","","",529.38,529,353.50670000000002,1486.44,"",225.4145,1000,"","","",511.78370000000001,4439,430.12330000000003,494.25230000000005,489.67990230000004,null,497.88555252258925,1.6625064738966522E-3]
["2013-08-19",34,489.93,null,null,null,"",484.3492,3612.38,526.32000000000005,184.13,"",514.97,657,"","",420.02,"",490,"","","","","","","","",536.6,522,372.16040000000004,1576.45,"",236.51560000000001,1000,"","","",505.85700000000003,4406,418.75490000000002,493.3818,488.06090202999997,null,497.94203826691228,1.1345126211592671E-4]
[]
[]
[]
[]
[]
[]
[]
[]
[]
[]
[]
[]
[]
[]
[]
[]
[]
[]
[]
[]
[]
[]
[]
[]
[]
[]
[]
[]
[]
[]
[]
[]
[]
[]
[]
[]
[]
[]
[]
[]
[]
[]
[]
[]
[]
[]
[]
[]
[]
[]
[]
[]
[]
[]
[]
[]
[]
[]
[]
[]
[]
[]
[]
[]
[]
[]
[]
[]
[]
[]
[]
[]
[]
[]
[]
[]
[]
[]
[]
[]
[]
[]
[]
[]
[]
[]
[]
[]
[]
[]
[]
[]
[]
[]
[]
[]
[]
[]
[]
[]
[]
[]
[]
[]
[]
[]
[]
[]
[]
[]
[]
[]
[]
[]
[]
[]
[]
[]
[]
[]
[]
[]
[]
[]
[]
[]
[]
[]
[]
[]
[]
[]
[]
[]
[]
[]
[]
[]
[]
[]
[]
[]
[]
[]
[]
[]
[]
[]
[]
[]
[]
[]
[]
[]
[]
[]
[]
[]
[]
[]
[]
[]
[]
[]
[]
[]
[]
[]
[]
[]
[]
[]
[]
[]
[]
[]
[]
[]
[]
[]
[]
[]
[]
[]
[]
[]
[]
[]
[]
[]
[]
[]
[]
[]
[]
[]
[]
[]
[]
[]
[]
[]
[]
[]
[]
[]
[]
[]
[]
[]
[]
[]
[]
[]
[]
[]
[]
[]
[]
[]
[]
[]
[]
[]
[]
[]
[]
[]
[]
[]
[]
[]
[]
[]
[]
[]
[]
[]
[]
[]
[]
[]
[]
[]
[]
[]
[]
[]
[]
[]
[]
[]
[]
[]
[]
[]
[]
[]
[]
[]
[]
[]
[]
[]
[]
[]
[]
[]
[]
[]
[]
[]
[]
[]
[]
[]
[]
[]
[]
[]
[]
[]
[]
[]
[]
[]
[]
[]
[]
[]
[]
[]
[]
[]
[]
[]
[]
[]
[]
[]
[]
[]
[]
[]
[]
[]
[]
[]
[]
[]
[]
[]
[]
[]
[]
[]
[]
[]
[]
[]
[]
[]
[]
[]
[]
[]
[]
[]
[]
[]
[]
[]
[]
[]
[]
[]
[]
[]
[]
[]
[]
[]
[]
[]
[]
[]
[]
[]
[]
[]
[]
[]
[]
[]
[]
[]
[]
[]
[]
[]
[]
[]
[]
[]
[]
[]
[]
[]
[]
[]
[]
[]
[]
[]
[]
[]
[]
[]
[]
[]
[]
[]
[]
[]
[]
[]
[]
[]
[]
[]
[]
[]
[]
[]
[]
[]
[]
[null,null,"BE","BG","BG","CZ","CZ","DK","DK","DE","EE","GR","ES","FR","HR","HR","IE","IT","CY","LV","LV","LT","LT","LU","HU","HU","MT","NL","AT","PL","PL","PT","RO","RO","SI","SK","FI","SE","SE","NI","GB","UK",null,"EU_27"]
["Change 1 week",null,2.0452825557850662E-3,null,null,null,0,-4.8103474082461517E-5,-6.9201661947126958E-5,-3.8610038610037423E-3,-0.20475943681437336,null,4.5059103499396347E-3,9.2165898617511122E-3,null,0,-2.5498248300503512E-2,null,1.0309278350515427E-2,null,null,null,null,null,null,null,null,1.3638596093543454E-2,-1.3232514177693777E-2,5.2767599595707759E-2,6.0554075509270389E-2,null,4.9247497388144934E-2,0,null,null,null,-1.1580478237192771E-2,-7.4341067808064709E-3,-2.6430560725261842E-2,-1.7612462299114728E-3,-3.3062420213607613E-3,null,1.1345126211592671E-4]
["Change 4 Weeks",null,6.1610498428932292E-3,null,null,null,0,-3.4477396945965411E-2,0,-7.692307692307554E-3,-0.36881255998903062,null,3.3661180248896194E-2,2.0186335403726607E-2,null,0,-4.6189481333454463E-2,null,2.0833333333333259E-2,null,null,null,null,null,null,null,null,-2.5992884629347124E-2,-1.3232514177693777E-2,7.2415641299023337E-2,-1.255253712832527E-2,null,4.1351016494088233E-2,-6.3670411985018771E-2,null,null,null,-7.7293919362605545E-2,0.16130732735898778,-9.8535853639274418E-3,3.7096376166671385E-2,3.4096713672371992E-2,null,1.7241548525886996E-2]
["Change 1 Year",null,9.6024189923582526E-4,null,null,null,0,null,0,4.4534412955465674E-2,-0.18160807146984315,null,-4.7639302424500207E-2,8.0592105263157965E-2,null,0,-2.3277445759598225E-2,null,null,null,null,null,null,null,null,null,null,-2.8918889572550621E-2,-7.6045627376425395E-3,-3.4694769496532718E-2,-1.255253712832527E-2,null,-1.0794800093351431E-2,-6.3670411985018771E-2,null,null,null,0.10630265581133824,0.16130732735898778,-1.9139841968002891E-2,-6.1441514654151264E-2,-5.8958755921637795E-2,null,-1.5502959267306271E-2]
["Difference in average - last 4 weeks 2013 with same weeks 2012",null,-3.5073409461664484E-3,null,null,null,{"$error":"#DIV/0!"},null,-6.9201661947126958E-5,7.6155462184873901E-2,-0.12134230284804881,null,-3.7944537530357536E-2,8.9270746018440983E-2,null,{"$error":"#DIV/0!"},-2.2086541317310471E-2,null,null,null,null,null,null,null,null,null,null,-3.8315011794027409E-2,9.1743119266054496E-3,-5.2211747036923439E-2,0.92593605812508706,null,-1.7007371086630418E-2,-3.1835205992509386E-2,null,null,null,3.3478457210317503E-2,2.4033268524519258E-2,-2.0571915566947818E-2,-7.8203649049640944E-2,-7.4768509315241816E-2,null,-2.0533995161560403E-2]
[]
["???","Price not communicated"]

{"sheet":"Light Lamb Prices","index":5,"n_rows":506,"n_cols":44,"rows_kept":506,"cut":false,"hidden":false,"merged":[[7,0,7,2],[3,16,4,26],[7,37,8,40],[66,0,66,40],[14,0,14,40],[5,15,5,25],[8,2,8,7],[10,0,10,1],[11,0,11,1],[12,0,12,1],[9,0,9,1]]}
["COMMISSION EUROPEENNE",null,null,null,null,null,null,null,null,null,null,null,null,null,null,null,null,null,null,null,null,null,null,null,null,null,null,null,null,null,null,null,null,null,null,null,null,null,null,null,null,null,"Week",{"$f":"COVER!G35","v":34}]
["Direction générale de l'Agriculture"]
["C4. Produits animaux"]
[null,null,null,null,null,null,null,null,null,null,null,null,null,null,null,null,"LIGHT LAMB PRICE"]
[]
[null,null,null,null,null,null,null,null,null,null,null,null,null,null,null,"DG-Agri-C4,  Meat sector"]
[null,null,null,null,null,null,null,null,null,null," "]
["LIGHT LAMB",null,null,null,null,null,null,null,null,null,null,null,null,null,null,null,null,null,null,null,null,null,null,null,null,null,null,null,null,null,null,null,null,null,null,null,null,"€ur per 100 kg carcass"]
["EU_L",null,"Country Code/Currency"]
[2013,null,"BE","BG","BG","CZ","CZ","DK","DK","DE","EE","GR","ES","FR","HR","HR","IE","IT","CY","LV","LV","LT","LT","LU","HU","HU","MT","NL","AT","PL","PL","PT","RO","RO","SI","SK","FI","SE","SEK","GB","GBP",null,"EU_27"]
["Weightings from 01/01/2012 until 31/12/2012",null,"",4.7699999999999996,null,"","","","","","",31.88,35.6,"",null,null,"",18.66,0.92,"","","","","",0.28999999999999998,null,"","","","","",6.88,"","",0.59,0.41,"","","","","",null,100]
["Weightings from 01/01/2012 until 30/06/2013",null,"",5.86,null,"","","","","","",33.75,39.549999999999997,"","","","",12.51,0,"","","","","",0.38,null,"","","","","",7,"","",0.59,0.36,"","","","","",null,100]
["Weightings from 01/07/2013\nuntil --/--/----",null,"",3.7067957852642004,null,"","","","","","",34.681812539296892,39.031232254499677,"",1.3945025334481751,null,"",12.513993696870187,"","","","","","",0.44046030997525359,null,"","","","","",7.2179828269296378,"","",0.61793516014843275,0.39528489356753532,"","","","","",null,100]
["Week beginning","Week N°","EUR","EUR","BGN","EUR","CZK","EUR","DKK","EUR","EUR","EUR","EUR","EUR","EUR","HRK","EUR","EUR","EUR","EUR","LVL","EUR","LTL","EUR","EUR","HUF","EUR","EUR","EUR","EUR","PLN","EUR","EUR","RON","EUR","EUR","EUR","EUR","SEK","EUR","GBP",null,"EURO","Compare to last week"]
["2012"]
["2012-01-02",1,"",528.73500000000001,1034.0999999999999,"","","","","","",515.96400000000006,803.68000000000006,"",null,"","",600.37,603,"","","","","",724.97640000000001,230148.93,"","","","","",480,"","",402.8,740.48,"","","","","",null,633.93562426000005]
["2012-01-09",2,"",527.99369999999999,1032.6500000000001,"","","","","","",491.67600000000004,762.49,"",null,"","",596.13,580,"","","","","",728.17880000000002,227322.86000000002,"","","","","",480,"","",405.52,740.48,"","","","","",null,610.51616080999997,-3.6942967950945871E-2]
["2012-01-16",3,"",528.13679999999999,1032.93,"","","","","","",471.73200000000003,715.61,"",null,"","",606.24,553,"","","","","",589.20850000000007,180803.67,"","","","","",480,"","",403.31,740.48,"","","","","",null,588.69763261000003,-3.5737838898567853E-2]
["2012-01-23",4,"",528.16240000000005,1032.98,"","","","","","",462.1,695.76,"",null,"","",604.63,513,"","","","","",574.3845,171497.26,"","","","","",480,"","",410.88,436.89,"","","","","",null,576.65010053000003,-2.046471976893649E-2]
["2012-01-30",5,"",528.20330000000001,1033.06,"","","","","","",466.28400000000005,697.78,"",null,"","",604.5,492,"","","","","",566.25300000000004,166062.58000000002,"","","","","",456,"","",387.09000000000003,515.47,"","","","","",null,576.99460830999999,5.9742949785901445E-4]
["2012-02-06",6,"",528.33620000000008,1033.32,"","","","","","",485.22400000000005,704.1,"",null,"","",604.5,455,"","","","","",634.73260000000005,185358.25,"","","","","",456,"","",408.83199999999999,515.47,"","","","","",null,585.27540828000008,1.435160719136408E-2]
["2012-02-13",7,"",528.40780000000007,1033.46,"","","","","","",492.19,698.36,"",null,"","",604.5,463,"","","","","",573.70900000000006,167147.65,"","","","","",456,"","",381.89,459.34000000000003,"","","","","",null,584.96368516000007,-5.3260929058351891E-4]
["2012-02-20",8,"",528.4538,1033.55,"","","","","","",491.45,696.13,"",null,"","",604.63,443,"","","","","",594.65070000000003,171710.5,"","","","","",456,"","",426.99,459.34000000000003,"","","","","",null,584.10316628999999,-1.4710637460592091E-3]
["2012-02-27",9,"",537.55500000000006,1051.3499999999999,"","","","","","",485.072,701.2,"",null,"","",604.23,432,"","","","","",597.64729999999997,172911.32,"","","","","",456,"","",407.13,459.34000000000003,"","","","","",null,584.02458326999999,-1.3453619931413918E-4]
["2012-03-05",10,"",560.08789999999999,1095.42,"","","","","","",489.43600000000004,696.28,"",null,"","",604.88,446,"","","","","",586.83080000000007,171603.57,"","","","","",480,"","",408.35,459.34000000000003,"","","","","",null,586.61624595000012,4.4375917628145523E-3]
["2012-03-12",11,"",563.58010000000002,1102.25,"","","","","","",489.12,698.72,"",null,"","",604.75,433,"","","","","",587.3021,171538.36000000002,"","","","","",456,"","",408.35,555.26,"","","","","",null,586.15030386000001,-7.9428773617673532E-4]
["2012-03-19",12,"",562.60350000000005,1100.3399999999999,"","","","","","",489.12,684.55000000000007,"",null,"","",606.09,447,"","","","","",607.17860000000007,177248.44,"","","","","",456,"","",415.81,583.79,"","","","","",null,581.65667288999998,-7.6663458850194655E-3]
["2012-03-26",13,"",564.19880000000001,1103.46,"","","","","","",515.21,657.08,"",null,"","",607.24,461,"","","","","",623.77750000000003,183191.88,"","","","","",456,"","",417.24,542,"","","","","",null,580.49956551000014,-1.9893305345414225E-3]
["2012-04-02",14,"",565.1549,1105.33,"","","","","","",530.38800000000003,701.55000000000007,"",null,"","",607.24,466,"","","","","",620.76370000000009,183320.39,"","","","","",456,"","",435.3,644.44000000000005,"","","","","",null,601.77905586000008,3.6657202889212703E-2]
["2012-04-09",15,"",563.13020000000006,1101.3700000000001,"","","","","","",536.63200000000006,690.63,"",null,"","",607.24,469,"","","","","",587.31190000000004,174247.06,"","","","","",444,"","",413.25,644.44000000000005,"","","","","",null,598.76043965000008,-5.0161536540784812E-3]
["2012-04-16",16,"",563.13020000000006,1101.3700000000001,"","","","","","",543.04200000000003,663.09,"",null,"","",607.37,509,"","","","","",599.84040000000005,178292.27,"","","","","",444,"","",407,644.44000000000005,"","","","","",null,591.39142330000004,-1.2307119612490647E-2]
["2012-04-23",17,"",563.13020000000006,1101.3700000000001,"","","","","","",534.83800000000008,679.93000000000006,"",null,"","",606.84,529,"","","","","",620.85800000000006,181227.56,"","","","","",444,"","",418.76,479.75,"","","","","",null,594.31123614000012,4.9371917227127859E-3]
["2012-04-30",18,"",564.71010000000001,1104.46,"","","","","","",525.99200000000008,692.67,"",null,"","",606.84,550,"","","","","",614.42470000000003,175297.99,"","","","","",439,"","",400,479.75,"","","","","",null,595.82179200000007,2.5416915719294053E-3]
["2012-05-07",19,"",563.59550000000002,1102.28,"","","","","","",500.74800000000005,675.32,"",null,"","",605.16999999999996,556,"","","","","",587.71640000000002,169312.69,"","","","","",415,"","",410.07,511.38,"","","","","",null,579.74825830999998,-2.6977082587137158E-2]
["2012-05-14",20,"",563.59550000000002,1102.28,"","","","","","",505.90800000000002,605.27,"",null,"","",605.16999999999996,564,"","","","","",612.98500000000001,180444.39,"","","","","",410,"","",400,511.38,"","","","","",null,556.1989322500001,-4.0619916873312456E-2]
["2012-05-21",21,"",563.27330000000006,1101.6500000000001,"","","","","","",505.16400000000004,602.12,"",null,"","",604.1,573,"","","","","",549.36630000000002,164426.13,"","","","","",422,"","",404.11,481.89,"","","","","",null,555.25255988000004,-1.7014997964337475E-3]
["2012-05-28",22,"",563.28359999999998,1101.67,"","","","","","",505.16400000000004,602.12,"",null,"","",603.96,573,"","","","","",579.21850000000006,174564.05000000002,"","","","","",422,"","",418.40000000000003,481.89,"","","","","",null,555.39780957000005,2.615921123019227E-4]
["2012-06-04",23,"",563.26310000000001,1101.6300000000001,"","","","","","",505.16400000000004,607.20000000000005,"",null,"","",603.96,561,"","","","","",591.14200000000005,177303.74,"","","","","",422,"","",422.16,481.89,"","","","","",null,557.15167387000008,3.1578523893673882E-3]
["2012-06-11",24,"",563.16090000000008,1101.43,"","","","","","",501.18,605.09,"",null,"","",603.70000000000005,558,"","","","","",562.54669999999999,166897.96,"","","","","",402,"","",390.83,481.89,"","","","","",null,553.4056503600001,-6.723525541940778E-3]
["2012-06-18",25,"",563.1404,1101.3900000000001,"","","","","","",507.61,594.91999999999996,"",null,"","",603.43000000000006,539,"","","","","",568.23570000000007,164459.59,"","","","","",402,"","",400,481.79,"","","","","",null,551.67904561,-3.119962271575849E-3]
["2012-06-25",26,"",563.1404,1101.3900000000001,"","","","","","",508.05800000000005,604.52,"",null,"","",603.43000000000006,515,"","","","","",578.27650000000006,166233.01,"","","","","",402,"","",400,481.79,"","","","","",null,555.04778633000012,6.1063416252746805E-3]
["2012-07-02",27,"",563.09440000000006,1101.3,"","","","","","",518.51200000000006,606.14,"",null,"","",603.43000000000006,495,"","","","","",659.55619999999999,189076.87,"","","","","",394,"","",397.7,481.79,"","","","","",null,558.44278845999997,6.1165943070375928E-3]
["2012-07-09",28,"",563.06880000000001,1101.25,"","","","","","",544.37,638.09,"",null,"","",603.70000000000005,469,"","","","","",577.20609999999999,166613.01999999999,"","","","","",386,"","",400,481.89,"","","","","",null,577.09524445000011,3.3400835995102351E-2]
["2012-07-16",29,"",563.05349999999999,1101.22,"","","","","","",541.34199999999998,679.4,"",null,"","",603.70000000000005,470,"","","","","",571.15440000000001,163660.22,"","","","","",386,"","",413.08,481.89,"","","","","",null,590.90437030999999,2.3928677272606169E-2]
["2012-07-23",30,"",563.02790000000005,1101.17,"","","","","","",555.346,688.04,"",null,"","",603.70000000000005,465,"","","","","",600.86279999999999,171843.34,"","","","","",386,"","",400,481.89,"","","","","",null,598.40644674999999,1.2695923091691208E-2]
["2012-07-30",31,"",563.02790000000005,1101.17,"","","","","","",548.57799999999997,695.72,"",null,"","",604.1,465,"","","","","",631.20479999999998,176692.27,"","","","","",396,"","",400,481.89,"","","","","",null,599.83352015000003,2.384789481715277E-3]
["2012-08-06",32,"",563.02790000000005,1101.17,"","","","","","",551.19600000000003,707.41,"",null,"","",604.1,471,"","","","","",635.19440000000009,176424.34,"","","","","",396,"","",418.61,467.51,"","","","","",null,604.94738939000001,8.5254809346453353E-3]
["2012-08-13",33,"",563.02790000000005,1101.17,"","","","","","",553.13400000000001,731.89,"",null,"","",604.1,468,"","","","","",647.66870000000006,180603.33000000002,"","","","","",396,"","",410.84000000000003,528.73,"","","","","",null,614.49383826000008,1.5780626608912662E-2]
["2012-08-20",34,"",563.04840000000002,1101.21,"","","","","","",549.53,727.30000000000007,"",null,"","",604.1,465,"","","","","",673.08500000000004,186668.58000000002,"","","","","",400,"","",440.36,459.34000000000003,"","","","","",null,611.92279718000009,-4.1839981459865783E-3]
["2012-08-27",35,"",563.59550000000002,1102.28,"","","","","","",562.32799999999997,728.32,"",null,"","",604.1,465,"","","","","",641.23750000000007,180701.65,"","","","","",400,"","",393.91810000000004,436.89,"","","","","",null,615.93360629000006,6.5544364885301576E-3]
["2012-09-03",36,"",563.59550000000002,1102.28,"","","","","","",560.88200000000006,779.95,"",null,"","",604.1,463,"","","","","",643.45540000000005,183599.9,"","","","","",400,"","",399.39,459.34000000000003,"","","","","",null,633.96526261000008,2.9275324703601502E-2]
["2012-09-10",37,"",564.55669999999998,1104.1600000000001,"","","","","","",566.85800000000006,785.42000000000007,"",null,"","",604.1,465,"","","","","",651.75869999999998,185066.87,"","","","","",400,"","",394.87,459.34000000000003,"","","","","",null,637.87939222000011,6.1740442905118265E-3]
["2012-09-17",38,"",565.25210000000004,1105.52,"","","","","","",566.65200000000004,789.07,"",null,"","",605.02,470,"","","","","",665.25920000000008,188223.68,"","","","","",400,"","",402.82,459.34000000000003,"","","","","",null,639.45001845000013,2.462262065770382E-3]
["2012-09-24",39,"",566.12639999999999,1107.23,"","","","","","",556.79,791.4,"",null,"","",605.02,480,"","","","","",649.92340000000002,184701.72,"","","","","",420,"","",396.12,459.34000000000003,"","","","","",null,638.56119314,-1.3899840243254413E-3]
["2012-10-01",40,"",566.28489999999999,1107.54,"","","","","","",529.18799999999999,781.04,"",null,"","",605.02,486,"","","","","",682.00930000000005,194162.21,"","","","","",420,"","",406.66,443.02,"","","","","",null,626.22459910000009,-1.9319360732425794E-2]
["2012-10-08",41,"",566.01390000000004,1107.01,"","","","","","",536.41200000000003,788.61,"",null,"","",605.02,490,"","","","","",668.80759999999998,188861.7,"","","","","",420,"","",410.57080000000002,406.28000000000003,"","","","","",null,631.08055838999996,7.7543413289398178E-3]
["2012-10-15",42,"",565.58950000000004,1106.18,"","","","","","",522.52800000000002,792.63,"",null,"","",606.08000000000004,490,"","","","","",667.36509999999998,186216.80000000002,"","","","","",432,"","",386.12,447.1,"","","","","",null,629.10753034000015,-3.1264281933092164E-3]
["2012-10-22",43,"",565.10379999999998,1105.23,"","","","","","",530.77200000000005,776.47,"",null,"","",605.95000000000005,505,"","","","","",674.95540000000005,189491.79,"","","","","",432,"","",375.2,414.45,"","","","","",null,625.89705052000011,-5.103229042998314E-3]
["2012-10-29",44,"",565.5077,1106.02,"","","","","","",530.77200000000005,783.25,"",null,"","",605.95000000000005,505,"","","","","",692.18340000000001,195869.11000000002,"","","","","",450,"","",395.66,412.40000000000003,"","","","","",null,629.73066675000007,6.1249948802521992E-3]
["2012-11-05",45,"",566.03949999999998,1107.06,"","","","","","",534.11800000000005,785.57,"",null,"","",605.95000000000005,512,"","","","","",685.76200000000006,194097.11000000002,"","","","","",456,"","",404.40000000000003,412.40000000000003,"","","","","",null,632.15880235000009,3.8558319106982708E-3]
["2012-11-12",46,"",566.30529999999999,1107.58,"","","","","","",539.61400000000003,788.49,"",null,"","",605.95000000000005,525,"","","","","",689.95580000000007,196150.48,"","","","","",468,"","",410.73,406.28000000000003,"","","","","",null,635.93274282999994,5.9699247498739005E-3]
["2012-11-19",47,"",566.30529999999999,1107.58,"","","","","","",536.77,796.06000000000006,"",null,"","",608.08000000000004,542,"","","","","",699.43860000000006,196888.95999999999,"","","","","",468,"","",380.75,425.47,"","","","","",null,638.20415074999994,3.5717738166647361E-3]
["2012-11-26",48,"",565.67129999999997,1106.3399999999999,"","","","","","",534.77200000000005,786.37,"",null,"","",608.08000000000004,557,"","","","","",690.798,193901.08000000002,"","","","","",468,"","",402.89,421.59000000000003,"","","","","",null,634.31496680999999,-6.0939496169517549E-3]
["2012-12-03",49,"",565.67129999999997,1106.3399999999999,"","","","","","",530.37599999999998,789.17000000000007,"",null,"","",609.15,543,"","","","","",712.04650000000004,201339.29,"","","","","",473,"","",417,421.59000000000003,"","","","","",null,634.47005365999996,2.4449501921730565E-4]
["2012-12-10",50,"",566.62750000000005,1108.21,"","","","","","",529.35599999999999,785.15,"",null,"","",611.55000000000007,539,"","","","","",699.11329999999998,198044.81,"","","","","",485,"","",382.29,680.47,"","","","","",null,634.81512111999996,5.4386721329002796E-4]
["2012-12-17",51,"",566.62750000000005,1108.21,"","","","","","",522.91600000000005,700.65,"",null,"","",611.55000000000007,528,"","","","","",697.29650000000004,199893.99,"","","","","",495,"","",411.95,680.47,"","","","","",null,603.43657440000004,-4.9429425475308375E-2]
["2013"]
["2012-12-24",52,"",566.62750000000005,1108.21,"","","","","","",522.91600000000005,697.73,"",null,"","",611.55000000000007,528,"","","","","",674.29950000000008,195622,"","","","","",495,"","",400,680.47,"","","","","",null,604.16767160000006,1.2115559961325406E-3]
["2012-12-31",1,"",566.60699999999997,1108.17,"","","","","","",526.31799999999998,775.45,"",null,"","",612.16999999999996,"","","","","","",649.26370000000009,189222.35,"","","","","",495,"","",398.52,680.47,"","","","","",null,636.02659926000001,5.2731930484841927E-2]
[{"$f":"A69+7","v":"2013-01-07"},{"$f":"B69+1","v":2},"",566.50990000000002,1107.98,"","","","","","",526.31799999999998,808.13,"",null,"","",612.16999999999996,"","","","","","",645.04169999999999,188959.43,"","","","","",470,"","",403.63,680.47,"","","","","",null,647.20995459999995,1.7583156668308231E-2]
[{"$f":"A70+7","v":"2013-01-14"},{"$f":"B70+1","v":3},"",566.48430000000008,1107.93,"","","","","","",487.05600000000004,671.39,"",null,"","",611.55000000000007,"","","","","","",585.04090000000008,172370.59,"","","","","",446,"","",396.88,680.47,"","","","","",null,577.85146940000004,-0.10716535601320598]
["2013-01-21",4,"",561.52470000000005,1098.23,"","","","","","",479.10599999999999,634.30000000000007,"",null,"","",611.55000000000007,"","","","","","",531.45910000000003,156769.81,"","","","","",426,"","",407.78000000000003,680.47,"","","","","",null,558.66931599999998,-3.3195647005825668E-2]
["2013-01-28",5,"",561.52470000000005,1098.23,"","","","","","",452.77,615.1,"",null,"","",612.80000000000007,"","","","","","",533.29160000000002,157456.64000000001,"","","","","",426,"","",413.6,680.47,"","","","","",null,542.38499249999984,-2.9148412188794937E-2]
["2013-02-04",6,"",561.54510000000005,1098.27,"","","","","","",462.44,619.32000000000005,"",null,"","",612.80000000000007,"","","","","","",517.60750000000007,151655.29,"","","","","",436,"","",414.97,680.47,"","","","","",null,547.96730635999995,1.0292161356216134E-2]
["2013-02-11",7,"",561.5145,1098.21,"","","","","","",459.678,615.19000000000005,"",null,"","",611.27,"","","","","","",528.81220000000008,154231.85,"","","","","",436,"","",406.13,692.58,"","","","","",null,545.24253806000002,-4.9725015860888622E-3]
["2013-02-18",8,"",561.5145,1098.21,"","","","","","",450.61799999999999,614.09,"",null,"","",611.27,"","","","","","",528.75729999999999,154398.64000000001,"","","","","",412,"","",415.76,392.58,"","","","","",null,539.04634644000009,-1.1364101638229207E-2]
["2013-02-25",9,"",561.06450000000007,1097.33,"","","","","","",444.15000000000003,609.72,"",null,"","",610.73,"","","","","","",535.25740000000008,157735,"","","","","",414,"","",400,392.73,"","","","","",null,535.11339382000006,-7.2961307426981925E-3]
["2013-03-04",10,"",561.5145,1098.21,"","","","","","",440.87400000000002,629.9,"",null,"","",610.73,"","","","","","",538.23670000000004,160251.51,"","","","","",414,"","",414.31,392.73,"","","","","",null,542.11105415999998,1.3076967276124174E-2]
["2013-03-11",11,"",560.37940000000003,1095.99,"","","","","","",442.33800000000002,599.54,"",null,"","",586.20000000000005,"","","","","","",568.29860000000008,172670.21,"","","","","",414,"","",407.19,489.32,"","","","","",null,527.88250552,-2.6246556920052289E-2]
["2013-03-18",12,"",558.28309999999999,1091.8900000000001,"","","","","","",443.08199999999999,568.16999999999996,"",null,"","",694.23,"","","","","","",577.81500000000005,176841.92,"","","","","",426,"","",406.35,474.14,"","","","","",null,529.93503866000003,3.8882386109351241E-3]
["2013-03-25",13,"",553.8143,1083.1500000000001,"","","","","","",445.83,627.86,"",null,"","",704.25,"","","","","","",596.60320000000002,182013.42,"","","","","",431,"","",411.39,508.62,"","","","","",null,556.03677313999992,4.9254592687437704E-2]
["2013-04-01",14,"",551.92250000000001,1079.45,"","","","","","",452.24400000000003,621.57000000000005,"",null,"","",657.12,"","","","","","",595.9325,180183.61000000002,"","","","","",439,"","",418.74,461.81,"","","","","",null,550.1392810000001,-1.0606298764551214E-2]
["2013-04-08",15,"",549.81590000000006,1075.33,"","","","","","",471.512,609.09,"",null,"","",579.09,"","","","","","",579.96230000000003,172458.42,"","","","","",427,"","",415.2,461.81,"","","","","",null,540.89981848000002,-1.679476968669702E-2]
["2013-04-15",16,"",547.80140000000006,1071.3900000000001,"","","","","","",480.27,614.59,"",null,"","",565.44000000000005,"","","","","","",580.29219999999998,171816.24,"","","","","",427,"","",391.23,437.61,"","","","","",null,543.97793940000008,5.6907412700746285E-3]
["2013-04-22",17,"",548.05709999999999,1071.8900000000001,"","","","","","",515.11599999999999,600.32000000000005,"",null,"","",560.41,"","","","","","",523.00080000000003,157005.58000000002,"","","","","",427,"","",452.94,437.61,"","","","","",null,549.62679209999999,1.0384341516184392E-2]
["2013-04-29",18,"",574.97190000000001,1124.53,"","","","","","",536.68600000000004,621.87,"",null,"","",557.38,"","","","","","",522.399,155919.69,"","","","","",427,"","",391.05,437.61,"","","","","",null,566.26040853999984,3.0263474559612646E-2]
["2013-05-06",19,"",546.64080000000001,1069.1200000000001,"","","","","","",515.21199999999999,618.65,"",null,"","",564.34,"","","","","","",526.72630000000004,155126.16,"","","","","",397,"","",418.98,437.61,"","","","","",null,555.03114782,-1.9830559492853284E-2]
["2013-05-13",20,"",545.53120000000001,1066.95,"","","","","","",495.762,639.72,"",null,"","",596.15,"","","","","","",522.86520000000007,152821.56,"","","","","",397,"","",401.97,437.61,"","","","","",null,560.59933508000006,1.0032206808339161E-2]
["2013-05-20",21,"",546.04250000000002,1067.95,"","","","","","",484.464,652.75,"",null,"","",590.94000000000005,"","","","","","",519.13779999999997,150773.19,"","","","","",397,"","",427.12,437.61,"","","","","",null,561.4520371399999,1.521054354939988E-3]
["2013-05-27",22,"",545.53120000000001,1066.95,"","","","","","",482.33600000000001,665.9,"",null,"","",571.05000000000007,"","","","","","",513.73990000000003,149649.51,"","","","","",397,"","",418.66,394.92,"","","","","",null,563.19235093999998,3.0996660175375279E-3]
["2013-06-03",23,"",545.06079999999997,1066.03,"","","","","","",479.45,686.49,"",null,"","",571.05000000000007,"","","","","","",519.49480000000005,153363.76999999999,"","","","","",421,"","",391.23,402.93,"","","","","",null,571.90297311999996,1.5466513643982216E-2]
["2013-06-10",24,"",544.81540000000007,1065.55,"","","","","","",477.32,709.30000000000007,"",null,"","",570.61,"","","","","","",533.09649999999999,157392.93,"","","","","",421,"","",419.62,358.19,"","","","","",null,580.19415214000003,1.4497527394844223E-2]
["2013-06-17",25,"",562.2201,1099.5899999999999,"","","","","","",477.99100000000004,726.17,"",null,"","",575.19000000000005,"","","","","","",533.34990000000005,157426.61000000002,"","","","","",421,"","",401.54,358.05,"","","","","",null,588.57935998000005,1.4452417021219244E-2]
["2013-06-24",26,"",564.54140000000007,1104.1300000000001,"","","","","","",480.03200000000004,716.87,"",null,"","",586.21,"","","","","","",544.05010000000004,161477.97,"","","","","",421,"","",408.45,397.69,"","","","","",null,587.32881141999997,-2.1246897955147226E-3]
["2013-07-01",27,"",566.09570000000008,1107.17,"","","","","","",489.37200000000001,738.89,"",658.17550000000006,4918,"",588.16,"","","","","","",554.61210000000005,163414.88,"","","","","",409,"","",419.07,397.69,"","","","","",null,598.01152786861473,1.8188647042168604E-2]
["2013-07-08",28,"",566.09570000000008,"","","","","","","",501.69600000000003,757.28,"",568.3777,4278,"",587.41,"","","","","","",552.88930000000005,162263.54,"","","","","",409,"","",420,394.77,"","","","","",null,608.10408673672976,1.6876863401088738E-2]
["2013-07-15",29,"",567.61940000000004,1110.1500000000001,"","","","","","",517.31400000000008,749.94,"",610.53970000000004,4592,"",584.93000000000006,"","","","","","",571.91740000000004,168095.52,"","","","","",409,"","",402.06,394.77,"","","","","",null,610.96283699399896,4.7010870665418203E-3]
["2013-07-22",30,"",569.26580000000001,1113.3700000000001,"","","","","","",523.68799999999999,753.02,"",546.01930000000004,4098,"",581.69000000000005,"","","","","","",613.53710000000001,181388.73,"","","","","",423,"","",436.44,394.77,"","","","","",null,614.53773631959132,5.8512549522344859E-3]
[{"$f":"A98+7","v":"2013-07-29"},{"$f":"B98+1","v":31},"",570.10430000000008,1115.01,"","","","","","",526.97199999999998,760.7,"",596.10149999999999,4478,"",626.45000000000005,"","","","","","",611.62720000000002,182836.34,"","","","","",429,"","",418.82,394.77,"","","","","",null,625.32081473264986,1.7546649743004128E-2]
[{"$f":"A99+7","v":"2013-08-05"},{"$f":"B99+1","v":32},"",574.97190000000001,1124.53,"","","","","","",545.83800000000008,760.85,"",597.11990000000003,4486,"",626.45000000000005,"","","","","","",618.79910000000007,185087.24,"","","","","",429,"","",404.62,470.25,"","","","","",null,632.35926955803438,1.1255750103878581E-2]
[{"$f":"A100+7","v":"2013-08-12"},{"$f":"B100+1","v":33},"",574.97190000000001,1124.53,"","","","","","",553.06000000000006,755.73,"",572.29129999999998,4313,"",627.14,"","","","","","",617.87990000000002,184715.19,"","","","","",429,"","",399.56,496.77000000000004,"","","","","",null,632.67521539218205,4.996302724691315E-4]
[{"$f":"A101+7","v":"2013-08-19"},{"$f":"B101+1","v":34},"",574.97190000000001,1124.53,"","","","","","",545.93200000000002,770.09,"",576.06349999999998,4347,"",624.86,"","","","","","",632.12599999999998,189396.68,"","","","","",429,"","",414.5,496.77000000000004,"","","","","",null,635.73033304355067,4.8288878354034726E-3]
[]
[]
[]
[]
[]
[]
[]
[]
[]
[]
[]
[]
[]
[]
[]
[]
[]
[]
[]
[]
[]
[]
[]
[]
[]
[]
[]
[]
[]
[]
[]
[]
[]
[]
[]
[]
[]
[]
[]
[]
[]
[]
[]
[]
[]
[]
[]
[]
[]
[]
[]
[]
[]
[]
[]
[]
[]
[]
[]
[]
[]
[]
[]
[]
[]
[]
[]
[]
[]
[]
[]
[]
[]
[]
[]
[]
[]
[]
[]
[]
[]
[]
[]
[]
[]
[]
[]
[]
[]
[]
[]
[]
[]
[]
[]
[]
[]
[]
[]
[]
[]
[]
[]
[]
[]
[]
[]
[]
[]
[]
[]
[]
[]
[]
[]
[]
[]
[]
[]
[]
[]
[]
[]
[]
[]
[]
[]
[]
[]
[]
[]
[]
[]
[]
[]
[]
[]
[]
[]
[]
[]
[]
[]
[]
[]
[]
[]
[]
[]
[]
[]
[]
[]
[]
[]
[]
[]
[]
[]
[]
[]
[]
[]
[]
[]
[]
[]
[]
[]
[]
[]
[]
[]
[]
[]
[]
[]
[]
[]
[]
[]
[]
[]
[]
[]
[]
[]
[]
[]
[]
[]
[]
[]
[]
[]
[]
[]
[]
[]
[]
[]
[]
[]
[]
[]
[]
[]
[]
[]
[]
[]
[]
[]
[]
[]
[]
[]
[]
[]
[]
[]
[]
[]
[]
[]
[]
[]
[]
[]
[]
[]
[]
[]
[]
[]
[]
[]
[]
[]
[]
[]
[]
[]
[]
[]
[]
[]
[]
[]
[]
[]
[]
[]
[]
[]
[]
[]
[]
[]
[]
[]
[]
[]
[]
[]
[]
[]
[]
[]
[]
[]
[]
[]
[]
[]
[]
[]
[]
[]
[]
[]
[]
[]
[]
[]
[]
[]
[]
[]
[]
[]
[]
[]
[]
[]
[]
[]
[]
[]
[]
[]
[]
[]
[]
[]
[]
[]
[]
[]
[]
[]
[]
[]
[]
[]
[]
[]
[]
[]
[]
[]
[]
[]
[]
[]
[]
[]
[]
[]
[]
[]
[]
[]
[]
[]
[]
[]
[]
[]
[]
[]
[]
[]
[]
[]
[]
[]
[]
[]
[]
[]
[]
[]
[]
[]
[]
[]
[]
[]
[]
[]
[]
[]
[]
[]
[]
[]
[]
[]
[]
[]
[]
[]
[]
[]
[]
[]
[]
[]
[]
[]
[]
[]
[]
[]
[]
[]
[]
[]
[]
[]
[]
[]
[]
[]
[]
[]
[null,null,"BE","BG","BG","CZ","CZ","DK","DK","DE","EE","GR","ES","FR","HR","HR","IE","IT","CY","LV","LV","LT","LT","LU","HU","HU","MT","NL","AT","PL","PL","PT","RO","RO","SI","SK","FI","SE","SEK","GB",null,null,"EU_27"]
["Change 1 week",null,null,0,{"$f":"INDEX(E:E,MATCH(MAX($A$16:$A$500),$A:$A,0),1)/INDEX(E:E,MATCH(MAX($A$16:$A$500),$A:$A,0)-1,1)-1","v":0},null,null,null,null,null,null,-1.2888294217625607E-2,1.900149524300998E-2,null,6.5913984713728002E-3,null,null,-3.6355518703957701E-3,null,null,null,null,null,{"$f":"INDEX(X:X,MATCH(MAX($A$16:$A$500),$A:$A,0),1)/INDEX(X:X,MATCH(MAX($A$16:$A$500),$A:$A,0)-1,1)-1","v":{"$error":"#VALUE!"}},2.3056422453619163E-2,{"$f":"INDEX(Z:Z,MATCH(MAX($A$16:$A$500),$A:$A,0),1)/INDEX(Z:Z,MATCH(MAX($A$16:$A$500),$A:$A,0)-1,1)-1","v":2.5344369350457807E-2},null,null,null,null,{"$f":"INDEX(AE:AE,MATCH(MAX($A$16:$A$500),$A:$A,0),1)/INDEX(AE:AE,MATCH(MAX($A$16:$A$500),$A:$A,0)-1,1)-1","v":{"$error":"#VALUE!"}},0,null,{"$f":"INDEX(AH:AH,MATCH(MAX($A$16:$A$500),$A:$A,0),1)/INDEX(AH:AH,MATCH(MAX($A$16:$A$500),$A:$A,0)-1,1)-1","v":{"$error":"#VALUE!"}},3.7391130243267678E-2,0,null,null,null,null,null,null,4.8288878354034726E-3]
["Change 4 weeks",null,null,1.002361287117548E-2,{"$f":"INDEX(E:E,MATCH(MAX($A$16:$A$500),$A:$A,0),1)/INDEX(E:E,MATCH(MAX($A$16:$A$500),$A:$A,0)-4,1)-1","v":1.0023621976521513E-2},null,null,null,null,null,null,4.2475672537847009E-2,2.2668720618310267E-2,null,null,null,null,7.4214787945469096E-2,null,null,null,null,null,{"$f":"INDEX(X:X,MATCH(MAX($A$16:$A$500),$A:$A,0),1)/INDEX(X:X,MATCH(MAX($A$16:$A$500),$A:$A,0)-4,1)-1","v":{"$error":"#VALUE!"}},3.0297923304067442E-2,{"$f":"INDEX(Z:Z,MATCH(MAX($A$16:$A$500),$A:$A,0),1)/INDEX(Z:Z,MATCH(MAX($A$16:$A$500),$A:$A,0)-4,1)-1","v":4.414800191831092E-2},null,null,null,null,{"$f":"INDEX(AE:AE,MATCH(MAX($A$16:$A$500),$A:$A,0),1)/INDEX(AE:AE,MATCH(MAX($A$16:$A$500),$A:$A,0)-4,1)-1","v":{"$error":"#VALUE!"}},1.4184397163120588E-2,null,{"$f":"INDEX(AH:AH,MATCH(MAX($A$16:$A$500),$A:$A,0),1)/INDEX(AH:AH,MATCH(MAX($A$16:$A$500),$A:$A,0)-4,1)-1","v":{"$error":"#VALUE!"}},-5.0270369352030109E-2,0.25837829622311737,null,null,null,null,null,null,3.4485427780041267E-2]
["Change 1 year",null,null,2.0185398925293141E-2,{"$f":"INDEX(E:E,MATCH(MAX($A$16:$A$500),$A:$A,0),1)/INDEX(E:E,MATCH(MAX($A$16:$A$500),$A:$A,0)-1,1)-1","v":0},null,null,null,null,null,null,-2.9157360117226916E-2,5.7351164323374393E-2,null,null,null,null,3.4365171329250099E-2,null,null,null,null,null,{"$f":"INDEX(X:X,MATCH(MAX($A$16:$A$500),$A:$A,0),1)/INDEX(X:X,MATCH(MAX($A$16:$A$500),$A:$A,0)-1,1)-1","v":{"$error":"#VALUE!"}},-1.4209243844909403E-2,{"$f":"INDEX(Z:Z,MATCH(MAX($A$16:$A$500),$A:$A,0),1)/INDEX(Z:Z,MATCH(MAX($A$16:$A$500),$A:$A,0)-1,1)-1","v":2.5344369350457807E-2},null,null,null,null,{"$f":"INDEX(AE:AE,MATCH(MAX($A$16:$A$500),$A:$A,0),1)/INDEX(AE:AE,MATCH(MAX($A$16:$A$500),$A:$A,0)-1,1)-1","v":{"$error":"#VALUE!"}},7.2500000000000009E-2,null,{"$f":"INDEX(AH:AH,MATCH(MAX($A$16:$A$500),$A:$A,0),1)/INDEX(AH:AH,MATCH(MAX($A$16:$A$500),$A:$A,0)-1,1)-1","v":{"$error":"#VALUE!"}},5.2249185807912824E-2,0.13705967177092648,null,null,null,null,null,null,3.2141007653071263E-2]
["Difference in average - last 4 weeks 2013 with same weeks 2012",null,null,1.904324351133746E-2,{"$f":"AVERAGE(E501:E502)","v":5.0118109882607564E-3},null,null,null,null,null,null,-1.3910039692377474E-2,6.465035355935056E-2,null,null,null,null,3.6624731004800459E-2,null,null,null,null,null,{"$f":"AVERAGE(X501:X502)","v":{"$error":"#VALUE!"}},-4.1250248487439523E-2,{"$f":"AVERAGE(Z501:Z502)","v":3.4746185634384363E-2},null,null,null,null,{"$f":"AVERAGE(AE501:AE502)","v":{"$error":"#VALUE!"}},8.0604534005037864E-2,null,{"$f":"AVERAGE(AH501:AH502)","v":{"$error":"#VALUE!"}},-1.9349506830118379E-2,-4.0728372568349602E-2,null,null,null,null,"GBP",null,3.9029361452895595E-2]
[]
["???","Price not communicated"]

{"sheet":"Graphs","index":6,"n_rows":52,"n_cols":46,"rows_kept":52,"cut":false,"hidden":false,"merged":[]}
[null,null,null,null,null,null,null,null,null,null,null,null,null,null,null,null,null,2,664.86160000000007,718.40980000000002,642.12220000000002,548.02819999999997,610.51620000000003,{"$f":"IF('Light Lamb Prices'!$AQ70=0,NA(),'Light Lamb Prices'!$AQ70)","v":647.20995459999995},null,2,355.65270000000004,401.0616,455.99370000000005,461.4178,518.92529999999999,{"$f":"IF('Heavy Lamb Prices'!$AR70=0,NA(),'Heavy Lamb Prices'!$AR70)","v":438.05849752900002},null,null,{"$f":"+#REF!+7","v":{"$error":"#REF!"}},3,{"$f":"IF('Light Lamb Prices'!M71=0,NA(),'Light Lamb Prices'!M71)","v":671.39},{"$f":"IF('Heavy Lamb Prices'!AO71=0,NA(),'Heavy Lamb Prices'!AO71)","v":393.31990000000002},{"$f":"IF('Heavy Lamb Prices'!AD71=0,NA(),'Heavy Lamb Prices'!AD71)","v":406.06909999999999},{"$f":"IF('Heavy Lamb Prices'!N71=0,NA(),'Heavy Lamb Prices'!N71)","v":598},{"$f":"IF('Light Lamb Prices'!AJ71=0,NA(),'Light Lamb Prices'!AJ71)","v":680.47},{"$f":"IF('Light Lamb Prices'!R71=0,NA(),'Light Lamb Prices'!R71)","v":611.55000000000007},{"$f":"IF('Heavy Lamb Prices'!AG71=0,NA(),'Heavy Lamb Prices'!AG71)","v":236.38720000000001},383.49116808218957,277.08803149735223,268.93787575150299]
[null,null,null,null,null,null,null,null,null,null,null,null,null,null,null,null,null,3,653.11570000000006,671.74009999999998,603.6576,533.79090000000008,588.69760000000008,{"$f":"IF('Light Lamb Prices'!$AQ71=0,NA(),'Light Lamb Prices'!$AQ71)","v":577.85146940000004},null,3,356.71,408.08850000000001,443.41450000000003,464.76580000000001,513.82380000000001,{"$f":"IF('Heavy Lamb Prices'!$AR71=0,NA(),'Heavy Lamb Prices'!$AR71)","v":426.84707899394999},null,null,{"$f":"+AI1+7","v":{"$error":"#REF!"}},4,{"$f":"IF('Light Lamb Prices'!M72=0,NA(),'Light Lamb Prices'!M72)","v":634.30000000000007},{"$f":"IF('Heavy Lamb Prices'!AO72=0,NA(),'Heavy Lamb Prices'!AO72)","v":395.46010000000001},{"$f":"IF('Heavy Lamb Prices'!AD72=0,NA(),'Heavy Lamb Prices'!AD72)","v":323.4769},{"$f":"IF('Heavy Lamb Prices'!N72=0,NA(),'Heavy Lamb Prices'!N72)","v":582},{"$f":"IF('Light Lamb Prices'!AJ72=0,NA(),'Light Lamb Prices'!AJ72)","v":680.47},{"$f":"IF('Light Lamb Prices'!R72=0,NA(),'Light Lamb Prices'!R72)","v":611.55000000000007},{"$f":"IF('Heavy Lamb Prices'!AG72=0,NA(),'Heavy Lamb Prices'!AG72)","v":268.04990000000004},379.35489970534013,275.98821028545336,269.77549299295737]
[null,null,null,null,null,null,null,null,null,null,null,null,null,null,null,null,null,4,585.30730000000005,650.62080000000003,579.71630000000005,531.12080000000003,576.65010000000007,{"$f":"IF('Light Lamb Prices'!$AQ72=0,NA(),'Light Lamb Prices'!$AQ72)","v":558.66931599999998},null,4,357.75260000000003,402.2414,444.6157,456.00130000000001,512.351,{"$f":"IF('Heavy Lamb Prices'!$AR72=0,NA(),'Heavy Lamb Prices'!$AR72)","v":428.41720215305003},null,null,{"$error":"#REF!"},5,{"$f":"IF('Light Lamb Prices'!M73=0,NA(),'Light Lamb Prices'!M73)","v":615.1},{"$f":"IF('Heavy Lamb Prices'!AO73=0,NA(),'Heavy Lamb Prices'!AO73)","v":389.08340000000004},{"$f":"IF('Heavy Lamb Prices'!AD73=0,NA(),'Heavy Lamb Prices'!AD73)","v":344.01679999999999},{"$f":"IF('Heavy Lamb Prices'!N73=0,NA(),'Heavy Lamb Prices'!N73)","v":577},{"$f":"IF('Light Lamb Prices'!AJ73=0,NA(),'Light Lamb Prices'!AJ73)","v":680.47},{"$f":"IF('Light Lamb Prices'!R73=0,NA(),'Light Lamb Prices'!R73)","v":612.80000000000007},{"$f":"IF('Heavy Lamb Prices'!AG73=0,NA(),'Heavy Lamb Prices'!AG73)","v":236.51270000000002},380.06397428422861,262.83468131449496,279.50373954020063]
[null,null,null,null,null,null,null,null,null,null,null,null,null,null,null,null,null,5,551.19670000000008,631.1508,565.46699999999998,525.7921,576.99459999999999,{"$f":"IF('Light Lamb Prices'!$AQ73=0,NA(),'Light Lamb Prices'!$AQ73)","v":542.38499249999984},null,5,361.00210000000004,403.2285,444.35970000000003,458.65790000000004,514.71379999999999,{"$f":"IF('Heavy Lamb Prices'!$AR73=0,NA(),'Heavy Lamb Prices'!$AR73)","v":419.81183487102504},null,null,{"$error":"#REF!"},6,{"$f":"IF('Light Lamb Prices'!M74=0,NA(),'Light Lamb Prices'!M74)","v":619.32000000000005},{"$f":"IF('Heavy Lamb Prices'!AO74=0,NA(),'Heavy Lamb Prices'!AO74)","v":404.01890000000003},{"$f":"IF('Heavy Lamb Prices'!AD74=0,NA(),'Heavy Lamb Prices'!AD74)","v":359.68119999999999},{"$f":"IF('Heavy Lamb Prices'!N74=0,NA(),'Heavy Lamb Prices'!N74)","v":568},{"$f":"IF('Light Lamb Prices'!AJ74=0,NA(),'Light Lamb Prices'!AJ74)","v":680.47},{"$f":"IF('Light Lamb Prices'!R74=0,NA(),'Light Lamb Prices'!R74)","v":612.80000000000007},{"$f":"IF('Heavy Lamb Prices'!AG74=0,NA(),'Heavy Lamb Prices'!AG74)","v":252.72240000000002},373.46130571662746,257.46044131986514,278.53502885761395]
[null,null,null,null,null,null,null,null,null,null,null,null,null,null,null,null,null,6,546.35410000000002,626.55520000000001,574.07370000000003,527.34400000000005,585.27539999999999,{"$f":"IF('Light Lamb Prices'!$AQ74=0,NA(),'Light Lamb Prices'!$AQ74)","v":547.96730635999995},null,6,373.28680000000003,416.95749999999998,438.92270000000002,461.83770000000004,513.9556,{"$f":"IF('Heavy Lamb Prices'!$AR74=0,NA(),'Heavy Lamb Prices'!$AR74)","v":428.81778488185012},null,null,{"$error":"#REF!"},7,{"$f":"IF('Light Lamb Prices'!M75=0,NA(),'Light Lamb Prices'!M75)","v":615.19000000000005},{"$f":"IF('Heavy Lamb Prices'!AO75=0,NA(),'Heavy Lamb Prices'!AO75)","v":419.12260000000003},{"$f":"IF('Heavy Lamb Prices'!AD75=0,NA(),'Heavy Lamb Prices'!AD75)","v":359.68119999999999},{"$f":"IF('Heavy Lamb Prices'!N75=0,NA(),'Heavy Lamb Prices'!N75)","v":552},{"$f":"IF('Light Lamb Prices'!AJ75=0,NA(),'Light Lamb Prices'!AJ75)","v":692.58},{"$f":"IF('Light Lamb Prices'!R75=0,NA(),'Light Lamb Prices'!R75)","v":611.27},{"$f":"IF('Heavy Lamb Prices'!AG75=0,NA(),'Heavy Lamb Prices'!AG75)","v":221.45490000000001},377.86578219672305,251.64687149463771,279.90797546012271]
[null,null,null,null,null,null,null,null,null,null,null,null,null,null,null,null,null,7,558.00160000000005,612.1155,566.91250000000002,534.52970000000005,584.96370000000002,{"$f":"IF('Light Lamb Prices'!$AQ75=0,NA(),'Light Lamb Prices'!$AQ75)","v":545.24253806000002},null,7,378.4556,416.6549,434.66540000000003,469.7099,512.46210000000008,{"$f":"IF('Heavy Lamb Prices'!$AR75=0,NA(),'Heavy Lamb Prices'!$AR75)","v":429.57304480564994},null,null,{"$error":"#REF!"},8,{"$f":"IF('Light Lamb Prices'!M76=0,NA(),'Light Lamb Prices'!M76)","v":614.09},{"$f":"IF('Heavy Lamb Prices'!AO76=0,NA(),'Heavy Lamb Prices'!AO76)","v":419.97680000000003},{"$f":"IF('Heavy Lamb Prices'!AD76=0,NA(),'Heavy Lamb Prices'!AD76)","v":361.56280000000004},{"$f":"IF('Heavy Lamb Prices'!N76=0,NA(),'Heavy Lamb Prices'!N76)","v":548},{"$f":"IF('Light Lamb Prices'!AJ76=0,NA(),'Light Lamb Prices'!AJ76)","v":392.58},{"$f":"IF('Light Lamb Prices'!R76=0,NA(),'Light Lamb Prices'!R76)","v":611.27},{"$f":"IF('Heavy Lamb Prices'!AG76=0,NA(),'Heavy Lamb Prices'!AG76)","v":252.21730000000002},371.04841860144467,253.29505200780653,285.29570514303339]
[null,null,null,null,null,null,null,null,null,null,null,null,null,null,null,null,null,8,560.98829999999998,593.76200000000006,565.38340000000005,539.12310000000002,584.10320000000002,{"$f":"IF('Light Lamb Prices'!$AQ76=0,NA(),'Light Lamb Prices'!$AQ76)","v":539.04634644000009},null,8,379.23380000000003,415.87900000000002,435.92060000000004,481.61660000000001,509.81690000000003,{"$f":"IF('Heavy Lamb Prices'!$AR76=0,NA(),'Heavy Lamb Prices'!$AR76)","v":434.71061939314995},null,null,{"$error":"#REF!"},9,{"$f":"IF('Light Lamb Prices'!M77=0,NA(),'Light Lamb Prices'!M77)","v":609.72},{"$f":"IF('Heavy Lamb Prices'!AO77=0,NA(),'Heavy Lamb Prices'!AO77)","v":427.57440000000003},{"$f":"IF('Heavy Lamb Prices'!AD77=0,NA(),'Heavy Lamb Prices'!AD77)","v":362.87330000000003},{"$f":"IF('Heavy Lamb Prices'!N77=0,NA(),'Heavy Lamb Prices'!N77)","v":547},{"$f":"IF('Light Lamb Prices'!AJ77=0,NA(),'Light Lamb Prices'!AJ77)","v":392.73},{"$f":"IF('Light Lamb Prices'!R77=0,NA(),'Light Lamb Prices'!R77)","v":610.73},{"$f":"IF('Heavy Lamb Prices'!AG77=0,NA(),'Heavy Lamb Prices'!AG77)","v":252.84640000000002},369.78452535063462,246.84434818218125,312.34727422614407]
[null,null,null,null,null,null,null,null,null,null,null,null,null,null,null,null,null,9,569.21580000000006,571.08479999999997,565.75670000000002,538.68450000000007,584.02460000000008,{"$f":"IF('Light Lamb Prices'!$AQ77=0,NA(),'Light Lamb Prices'!$AQ77)","v":535.11339382000006},null,9,381.4323,412.03210000000001,432.10580000000004,478.80580000000003,511.66110000000003,{"$f":"IF('Heavy Lamb Prices'!$AR77=0,NA(),'Heavy Lamb Prices'!$AR77)","v":439.60205900232495},null,null,{"$f":"+AI7+7","v":{"$error":"#REF!"}},10,{"$f":"IF('Light Lamb Prices'!M78=0,NA(),'Light Lamb Prices'!M78)","v":629.9},{"$f":"IF('Heavy Lamb Prices'!AO78=0,NA(),'Heavy Lamb Prices'!AO78)","v":464.4796},{"$f":"IF('Heavy Lamb Prices'!AD78=0,NA(),'Heavy Lamb Prices'!AD78)","v":363.93950000000001},{"$f":"IF('Heavy Lamb Prices'!N78=0,NA(),'Heavy Lamb Prices'!N78)","v":559},{"$f":"IF('Light Lamb Prices'!AJ78=0,NA(),'Light Lamb Prices'!AJ78)","v":392.73},{"$f":"IF('Light Lamb Prices'!R78=0,NA(),'Light Lamb Prices'!R78)","v":610.73},{"$f":"IF('Heavy Lamb Prices'!AG78=0,NA(),'Heavy Lamb Prices'!AG78)","v":230.48420000000002},387.73587165707073,247.61448836815069,336.8842970490968]
[null,null,null,null,null,null,null,null,null,null,null,null,null,null,null,null,null,10,569.50030000000004,555.47760000000005,571.97130000000004,540.58120000000008,586.61620000000005,{"$f":"IF('Light Lamb Prices'!$AQ78=0,NA(),'Light Lamb Prices'!$AQ78)","v":542.11105415999998},null,10,385.53020000000004,410.98850000000004,434.50290000000001,488.23270000000002,514.59960000000001,{"$f":"IF('Heavy Lamb Prices'!$AR78=0,NA(),'Heavy Lamb Prices'!$AR78)","v":461.39457505827494},null,null,{"$error":"#REF!"},11,{"$f":"IF('Light Lamb Prices'!M79=0,NA(),'Light Lamb Prices'!M79)","v":599.54},{"$f":"IF('Heavy Lamb Prices'!AO79=0,NA(),'Heavy Lamb Prices'!AO79)","v":495.12100000000004},{"$f":"IF('Heavy Lamb Prices'!AD79=0,NA(),'Heavy Lamb Prices'!AD79)","v":361.38100000000003},{"$f":"IF('Heavy Lamb Prices'!N79=0,NA(),'Heavy Lamb Prices'!N79)","v":567},{"$f":"IF('Light Lamb Prices'!AJ79=0,NA(),'Light Lamb Prices'!AJ79)","v":489.32},{"$f":"IF('Light Lamb Prices'!R79=0,NA(),'Light Lamb Prices'!R79)","v":586.20000000000005},{"$f":"IF('Heavy Lamb Prices'!AG79=0,NA(),'Heavy Lamb Prices'!AG79)","v":235.47970000000001},386.21862697341629,246.55455809836894,338.50196778812131]
[null,null,null,null,null,null,null,null,null,null,null,null,null,null,null,null,null,11,591.60180000000003,551.04420000000005,579.26220000000001,543.84670000000006,586.15030000000002,{"$f":"IF('Light Lamb Prices'!$AQ79=0,NA(),'Light Lamb Prices'!$AQ79)","v":527.88250552},null,11,402.33790000000005,407.82350000000002,441.2885,501.06350000000003,520.0856,{"$f":"IF('Heavy Lamb Prices'!$AR79=0,NA(),'Heavy Lamb Prices'!$AR79)","v":482.16623591927504},null,null,{"$error":"#REF!"},12,{"$f":"IF('Light Lamb Prices'!M80=0,NA(),'Light Lamb Prices'!M80)","v":568.16999999999996},{"$f":"IF('Heavy Lamb Prices'!AO80=0,NA(),'Heavy Lamb Prices'!AO80)","v":532.32029999999997},{"$f":"IF('Heavy Lamb Prices'!AD80=0,NA(),'Heavy Lamb Prices'!AD80)","v":370.81440000000003},{"$f":"IF('Heavy Lamb Prices'!N80=0,NA(),'Heavy Lamb Prices'!N80)","v":589},{"$f":"IF('Light Lamb Prices'!AJ80=0,NA(),'Light Lamb Prices'!AJ80)","v":474.14},{"$f":"IF('Light Lamb Prices'!R80=0,NA(),'Light Lamb Prices'!R80)","v":694.23},{"$f":"IF('Heavy Lamb Prices'!AG80=0,NA(),'Heavy Lamb Prices'!AG80)","v":246.82330000000002},390.77036102437972,249.00128139890197,336.69473512423247]
[null,null,null,null,null,null,null,null,null,null,null,null,null,null,null,null,null,12,584.31600000000003,556.85540000000003,579.59030000000007,541.0607,581.6567,{"$f":"IF('Light Lamb Prices'!$AQ80=0,NA(),'Light Lamb Prices'!$AQ80)","v":529.93503866000003},null,12,409.62730000000005,408.63470000000001,446.3931,508.983,530.59220000000005,{"$f":"IF('Heavy Lamb Prices'!$AR80=0,NA(),'Heavy Lamb Prices'!$AR80)","v":505.79026994117493},null,null,{"$error":"#REF!"},13,{"$f":"IF('Light Lamb Prices'!M81=0,NA(),'Light Lamb Prices'!M81)","v":627.86},{"$f":"IF('Heavy Lamb Prices'!AO81=0,NA(),'Heavy Lamb Prices'!AO81)","v":531.1902},{"$f":"IF('Heavy Lamb Prices'!AD81=0,NA(),'Heavy Lamb Prices'!AD81)","v":353.74040000000002},{"$f":"IF('Heavy Lamb Prices'!N81=0,NA(),'Heavy Lamb Prices'!N81)","v":611},{"$f":"IF('Light Lamb Prices'!AJ81=0,NA(),'Light Lamb Prices'!AJ81)","v":508.62},{"$f":"IF('Light Lamb Prices'!R81=0,NA(),'Light Lamb Prices'!R81)","v":704.25},{"$f":"IF('Heavy Lamb Prices'!AG81=0,NA(),'Heavy Lamb Prices'!AG81)","v":237.62030000000001},394.16419781676473,253.70094383256259,343.58578325517021]
[null,null,null,null,null,null,null,null,null,null,null,null,null,null,null,null,null,13,567.51310000000001,557.52520000000004,583.97,542.33950000000004,580.49959999999999,{"$f":"IF('Light Lamb Prices'!$AQ81=0,NA(),'Light Lamb Prices'!$AQ81)","v":556.03677313999992},null,13,412.69450000000001,420.79349999999999,452.27360000000004,514.13880000000006,540.58609999999999,{"$f":"IF('Heavy Lamb Prices'!$AR81=0,NA(),'Heavy Lamb Prices'!$AR81)","v":508.80812267127504},null,null,{"$error":"#REF!"},14,{"$f":"IF('Light Lamb Prices'!M82=0,NA(),'Light Lamb Prices'!M82)","v":621.57000000000005},{"$f":"IF('Heavy Lamb Prices'!AO82=0,NA(),'Heavy Lamb Prices'!AO82)","v":536.66880000000003},{"$f":"IF('Heavy Lamb Prices'!AD82=0,NA(),'Heavy Lamb Prices'!AD82)","v":358.69839999999999},{"$f":"IF('Heavy Lamb Prices'!N82=0,NA(),'Heavy Lamb Prices'!N82)","v":614},{"$f":"IF('Light Lamb Prices'!AJ82=0,NA(),'Light Lamb Prices'!AJ82)","v":461.81},{"$f":"IF('Light Lamb Prices'!R82=0,NA(),'Light Lamb Prices'!R82)","v":657.12},{"$f":"IF('Heavy Lamb Prices'!AG82=0,NA(),'Heavy Lamb Prices'!AG82)","v":229.81970000000001},396.95015533908474,254.83771598196529,350.04479111422262]
[null,null,null,null,null,null,null,null,null,null,null,null,null,null,null,null,null,14,534.05690000000004,533.87110000000007,592.12570000000005,559.0942,601.77910000000008,{"$f":"IF('Light Lamb Prices'!$AQ82=0,NA(),'Light Lamb Prices'!$AQ82)","v":550.1392810000001},null,14,419.8723,436.87330000000003,464.60930000000002,528.78050000000007,542.89850000000001,{"$f":"IF('Heavy Lamb Prices'!$AR82=0,NA(),'Heavy Lamb Prices'!$AR82)","v":513.50943478210002},null,null,{"$error":"#REF!"},15,{"$f":"IF('Light Lamb Prices'!M83=0,NA(),'Light Lamb Prices'!M83)","v":609.09},{"$f":"IF('Heavy Lamb Prices'!AO83=0,NA(),'Heavy Lamb Prices'!AO83)","v":553.1386},{"$f":"IF('Heavy Lamb Prices'!AD83=0,NA(),'Heavy Lamb Prices'!AD83)","v":384.25569999999999},{"$f":"IF('Heavy Lamb Prices'!N83=0,NA(),'Heavy Lamb Prices'!N83)","v":620},{"$f":"IF('Light Lamb Prices'!AJ83=0,NA(),'Light Lamb Prices'!AJ83)","v":461.81},{"$f":"IF('Light Lamb Prices'!R83=0,NA(),'Light Lamb Prices'!R83)","v":579.09},{"$f":"IF('Heavy Lamb Prices'!AG83=0,NA(),'Heavy Lamb Prices'!AG83)","v":246.82860000000002},398.31169313413619,256.84051115702096,337.58404822629262]
[null,null,null,null,null,null,null,null,null,null,null,null,null,null,null,null,null,15,536.90940000000001,549.70260000000007,578.46230000000003,590.56920000000002,598.7604,{"$f":"IF('Light Lamb Prices'!$AQ83=0,NA(),'Light Lamb Prices'!$AQ83)","v":540.89981848000002},null,15,406.45260000000002,442.45610000000005,467.89450000000005,556.22739999999999,542.63130000000001,{"$f":"IF('Heavy Lamb Prices'!$AR83=0,NA(),'Heavy Lamb Prices'!$AR83)","v":523.5820609548},null,null,{"$error":"#REF!"},16,{"$f":"IF('Light Lamb Prices'!M84=0,NA(),'Light Lamb Prices'!M84)","v":614.59},{"$f":"IF('Heavy Lamb Prices'!AO84=0,NA(),'Heavy Lamb Prices'!AO84)","v":533.97170000000006},{"$f":"IF('Heavy Lamb Prices'!AD84=0,NA(),'Heavy Lamb Prices'!AD84)","v":362.2353},{"$f":"IF('Heavy Lamb Prices'!N84=0,NA(),'Heavy Lamb Prices'!N84)","v":624},{"$f":"IF('Light Lamb Prices'!AJ84=0,NA(),'Light Lamb Prices'!AJ84)","v":437.61},{"$f":"IF('Light Lamb Prices'!R84=0,NA(),'Light Lamb Prices'!R84)","v":565.44000000000005},{"$f":"IF('Heavy Lamb Prices'!AG84=0,NA(),'Heavy Lamb Prices'!AG84)","v":253.93290000000002},406.52217862550691,254.34869145814235,312.15161649944258]
[null,null,null,null,null,null,null,null,null,null,null,null,null,null,null,null,null,16,534.93450000000007,579.0222,562.08680000000004,610.95680000000004,591.39139999999998,{"$f":"IF('Light Lamb Prices'!$AQ84=0,NA(),'Light Lamb Prices'!$AQ84)","v":543.97793940000008},null,16,402.43620000000004,444.7978,461.9391,559.21490000000006,539.74540000000002,{"$f":"IF('Heavy Lamb Prices'!$AR84=0,NA(),'Heavy Lamb Prices'!$AR84)","v":516.55991922509997},null,null,{"$error":"#REF!"},17,{"$f":"IF('Light Lamb Prices'!M85=0,NA(),'Light Lamb Prices'!M85)","v":600.32000000000005},{"$f":"IF('Heavy Lamb Prices'!AO85=0,NA(),'Heavy Lamb Prices'!AO85)","v":542.49959999999999},{"$f":"IF('Heavy Lamb Prices'!AD85=0,NA(),'Heavy Lamb Prices'!AD85)","v":386.29900000000004},{"$f":"IF('Heavy Lamb Prices'!N85=0,NA(),'Heavy Lamb Prices'!N85)","v":623},{"$f":"IF('Light Lamb Prices'!AJ85=0,NA(),'Light Lamb Prices'!AJ85)","v":437.61},{"$f":"IF('Light Lamb Prices'!R85=0,NA(),'Light Lamb Prices'!R85)","v":560.41},{"$f":"IF('Heavy Lamb Prices'!AG85=0,NA(),'Heavy Lamb Prices'!AG85)","v":255.37210000000002},395.17603033341169,256.87954068265856,316.98950538316109]
[null,null,null,null,null,null,null,null,null,null,null,null,null,null,null,null,null,17,523.53390000000002,567.94170000000008,550.68830000000003,584.51960000000008,594.31119999999999,{"$f":"IF('Light Lamb Prices'!$AQ85=0,NA(),'Light Lamb Prices'!$AQ85)","v":549.62679209999999},null,17,397.86250000000001,447.16770000000002,462.04180000000002,555.9461,521.23950000000002,{"$f":"IF('Heavy Lamb Prices'!$AR85=0,NA(),'Heavy Lamb Prices'!$AR85)","v":519.25870171312488},null,null,{"$error":"#REF!"},18,{"$f":"IF('Light Lamb Prices'!M86=0,NA(),'Light Lamb Prices'!M86)","v":621.87},{"$f":"IF('Heavy Lamb Prices'!AO86=0,NA(),'Heavy Lamb Prices'!AO86)","v":557.70990000000006},{"$f":"IF('Heavy Lamb Prices'!AD86=0,NA(),'Heavy Lamb Prices'!AD86)","v":385.3032},{"$f":"IF('Heavy Lamb Prices'!N86=0,NA(),'Heavy Lamb Prices'!N86)","v":623},{"$f":"IF('Light Lamb Prices'!AJ86=0,NA(),'Light Lamb Prices'!AJ86)","v":437.61},{"$f":"IF('Light Lamb Prices'!R86=0,NA(),'Light Lamb Prices'!R86)","v":557.38},{"$f":"IF('Heavy Lamb Prices'!AG86=0,NA(),'Heavy Lamb Prices'!AG86)","v":266.41140000000001},385.98976274023761,266.24947657376822,307.7998511736983]
[null,null,null,null,null,null,null,null,null,null,null,null,null,null,null,null,null,18,503.61190000000005,559.46069999999997,540.44820000000004,568.31510000000003,595.82180000000005,{"$f":"IF('Light Lamb Prices'!$AQ86=0,NA(),'Light Lamb Prices'!$AQ86)","v":566.26040853999984},null,18,404.95609999999999,425.92150000000004,461.49630000000002,558.37470000000008,511.6438,{"$f":"IF('Heavy Lamb Prices'!$AR86=0,NA(),'Heavy Lamb Prices'!$AR86)","v":529.55893211897501},null,null,{"$error":"#REF!"},19,{"$f":"IF('Light Lamb Prices'!M87=0,NA(),'Light Lamb Prices'!M87)","v":618.65},{"$f":"IF('Heavy Lamb Prices'!AO87=0,NA(),'Heavy Lamb Prices'!AO87)","v":576.20240000000001},{"$f":"IF('Heavy Lamb Prices'!AD87=0,NA(),'Heavy Lamb Prices'!AD87)","v":372.28790000000004},{"$f":"IF('Heavy Lamb Prices'!N87=0,NA(),'Heavy Lamb Prices'!N87)","v":621},{"$f":"IF('Light Lamb Prices'!AJ87=0,NA(),'Light Lamb Prices'!AJ87)","v":437.61},{"$f":"IF('Light Lamb Prices'!R87=0,NA(),'Light Lamb Prices'!R87)","v":564.34},{"$f":"IF('Heavy Lamb Prices'!AG87=0,NA(),'Heavy Lamb Prices'!AG87)","v":241.97980000000001},385.98976274023761,269.66421343146271,290.84457221142941]
[null,null,null,null,null,null,null,null,null,null,null,null,null,null,null,null,null,19,506.22270000000003,557.2903,536.4982,561.31470000000002,579.74829999999997,{"$f":"IF('Light Lamb Prices'!$AQ87=0,NA(),'Light Lamb Prices'!$AQ87)","v":555.03114782},null,19,425.66040000000004,437.06280000000004,468.18870000000004,562.92899999999997,519.78530000000001,{"$f":"IF('Heavy Lamb Prices'!$AR87=0,NA(),'Heavy Lamb Prices'!$AR87)","v":535.86332558252502},null,null,{"$error":"#REF!"},20,{"$f":"IF('Light Lamb Prices'!M88=0,NA(),'Light Lamb Prices'!M88)","v":639.72},{"$f":"IF('Heavy Lamb Prices'!AO88=0,NA(),'Heavy Lamb Prices'!AO88)","v":586.2165},{"$f":"IF('Heavy Lamb Prices'!AD88=0,NA(),'Heavy Lamb Prices'!AD88)","v":356.4393},{"$f":"IF('Heavy Lamb Prices'!N88=0,NA(),'Heavy Lamb Prices'!N88)","v":619},{"$f":"IF('Light Lamb Prices'!AJ88=0,NA(),'Light Lamb Prices'!AJ88)","v":437.61},{"$f":"IF('Light Lamb Prices'!R88=0,NA(),'Light Lamb Prices'!R88)","v":596.15},{"$f":"IF('Heavy Lamb Prices'!AG88=0,NA(),'Heavy Lamb Prices'!AG88)","v":233.57260000000002},391.62347487364383,265.67060017764243,293.42618878637325]
[null,null,null,null,null,null,null,null,null,null,null,null,null,null,null,null,null,20,507.98440000000005,551.48239999999998,528.21980000000008,559.58440000000007,556.19889999999998,{"$f":"IF('Light Lamb Prices'!$AQ88=0,NA(),'Light Lamb Prices'!$AQ88)","v":560.59933508000006},null,20,433.48650000000004,440.80720000000002,464.81890000000004,577.29489999999998,521.03750000000002,{"$f":"IF('Heavy Lamb Prices'!$AR88=0,NA(),'Heavy Lamb Prices'!$AR88)","v":543.93645309670001},null,null,{"$error":"#REF!"},21,{"$f":"IF('Light Lamb Prices'!M89=0,NA(),'Light Lamb Prices'!M89)","v":652.75},{"$f":"IF('Heavy Lamb Prices'!AO89=0,NA(),'Heavy Lamb Prices'!AO89)","v":581.67060000000004},{"$f":"IF('Heavy Lamb Prices'!AD89=0,NA(),'Heavy Lamb Prices'!AD89)","v":359.65630000000004},{"$f":"IF('Heavy Lamb Prices'!N89=0,NA(),'Heavy Lamb Prices'!N89)","v":620},{"$f":"IF('Light Lamb Prices'!AJ89=0,NA(),'Light Lamb Prices'!AJ89)","v":437.61},{"$f":"IF('Light Lamb Prices'!R89=0,NA(),'Light Lamb Prices'!R89)","v":590.94000000000005},{"$f":"IF('Heavy Lamb Prices'!AG89=0,NA(),'Heavy Lamb Prices'!AG89)","v":251.66630000000001},393.7159965231948,269.80195794640372,316.27886672196269]
[null,null,null,null,null,null,null,null,null,null,null,null,null,null,null,null,null,21,510.3621,551.11570000000006,532.23070000000007,555.88459999999998,555.25260000000003,{"$f":"IF('Light Lamb Prices'!$AQ89=0,NA(),'Light Lamb Prices'!$AQ89)","v":561.4520371399999},null,21,457.2253,456.62370000000004,461.47110000000004,576.47130000000004,516.36990000000003,{"$f":"IF('Heavy Lamb Prices'!$AR89=0,NA(),'Heavy Lamb Prices'!$AR89)","v":542.54994243405008},null,null,{"$error":"#REF!"},22,{"$f":"IF('Light Lamb Prices'!M90=0,NA(),'Light Lamb Prices'!M90)","v":665.9},{"$f":"IF('Heavy Lamb Prices'!AO90=0,NA(),'Heavy Lamb Prices'!AO90)","v":578.32590000000005},{"$f":"IF('Heavy Lamb Prices'!AD90=0,NA(),'Heavy Lamb Prices'!AD90)","v":359.80560000000003},{"$f":"IF('Heavy Lamb Prices'!N90=0,NA(),'Heavy Lamb Prices'!N90)","v":615},{"$f":"IF('Light Lamb Prices'!AJ90=0,NA(),'Light Lamb Prices'!AJ90)","v":394.92},{"$f":"IF('Light Lamb Prices'!R90=0,NA(),'Light Lamb Prices'!R90)","v":571.05000000000007},{"$f":"IF('Heavy Lamb Prices'!AG90=0,NA(),'Heavy Lamb Prices'!AG90)","v":246.62520000000001},395.64755496893406,273.05339710876791,320.74088449015682]
[null,null,null,null,null,null,null,null,null,null,null,null,null,null,null,null,null,22,509.54570000000001,556.86500000000001,531.7722,556.73820000000001,555.39780000000007,{"$f":"IF('Light Lamb Prices'!$AQ90=0,NA(),'Light Lamb Prices'!$AQ90)","v":563.19235093999998},null,22,457.34140000000002,453.96110000000004,460.3553,533.11990000000003,491.72030000000001,{"$f":"IF('Heavy Lamb Prices'!$AR90=0,NA(),'Heavy Lamb Prices'!$AR90)","v":535.92510285020001},null,null,{"$error":"#REF!"},23,{"$f":"IF('Light Lamb Prices'!M91=0,NA(),'Light Lamb Prices'!M91)","v":686.49},{"$f":"IF('Heavy Lamb Prices'!AO91=0,NA(),'Heavy Lamb Prices'!AO91)","v":586.50229999999999},{"$f":"IF('Heavy Lamb Prices'!AD91=0,NA(),'Heavy Lamb Prices'!AD91)","v":352.6816},{"$f":"IF('Heavy Lamb Prices'!N91=0,NA(),'Heavy Lamb Prices'!N91)","v":610},{"$f":"IF('Light Lamb Prices'!AJ91=0,NA(),'Light Lamb Prices'!AJ91)","v":402.93},{"$f":"IF('Light Lamb Prices'!R91=0,NA(),'Light Lamb Prices'!R91)","v":571.05000000000007},{"$f":"IF('Heavy Lamb Prices'!AG91=0,NA(),'Heavy Lamb Prices'!AG91)","v":226.58950000000002},397.2091218316524,271.73676656082819,327.21400645928958]
[null,null,null,null,null,null,null,null,null,null,null,null,null,null,null,null,null,23,521.82619999999997,553.79550000000006,544.44950000000006,560.71249999999998,557.15170000000001,{"$f":"IF('Light Lamb Prices'!$AQ91=0,NA(),'Light Lamb Prices'!$AQ91)","v":571.90297311999996},null,23,425.5265,448.572,456.97110000000004,517.53960000000006,491.3503,{"$f":"IF('Heavy Lamb Prices'!$AR91=0,NA(),'Heavy Lamb Prices'!$AR91)","v":537.23503682969999},null,null,{"$error":"#REF!"},24,{"$f":"IF('Light Lamb Prices'!M92=0,NA(),'Light Lamb Prices'!M92)","v":709.30000000000007},{"$f":"IF('Heavy Lamb Prices'!AO92=0,NA(),'Heavy Lamb Prices'!AO92)","v":576.44360000000006},{"$f":"IF('Heavy Lamb Prices'!AD92=0,NA(),'Heavy Lamb Prices'!AD92)","v":356.43080000000003},{"$f":"IF('Heavy Lamb Prices'!N92=0,NA(),'Heavy Lamb Prices'!N92)","v":608},{"$f":"IF('Light Lamb Prices'!AJ92=0,NA(),'Light Lamb Prices'!AJ92)","v":358.19},{"$f":"IF('Light Lamb Prices'!R92=0,NA(),'Light Lamb Prices'!R92)","v":570.61},{"$f":"IF('Heavy Lamb Prices'!AG92=0,NA(),'Heavy Lamb Prices'!AG92)","v":222.46800000000002},388.18074183189003,272.16290786948173,322.15647600262986]
[null,null,null,null,null,null,null,null,null,null,null,null,null,null,null,null,null,24,523.07910000000004,561.92360000000008,535.01100000000008,558.18979999999999,553.40570000000002,{"$f":"IF('Light Lamb Prices'!$AQ92=0,NA(),'Light Lamb Prices'!$AQ92)","v":580.19415214000003},null,24,421.52379999999999,441.58570000000003,436.92750000000001,504.09430000000003,500.20660000000004,{"$f":"IF('Heavy Lamb Prices'!$AR92=0,NA(),'Heavy Lamb Prices'!$AR92)","v":532.207792043175},null,null,{"$error":"#REF!"},25,{"$f":"IF('Light Lamb Prices'!M93=0,NA(),'Light Lamb Prices'!M93)","v":726.17},{"$f":"IF('Heavy Lamb Prices'!AO93=0,NA(),'Heavy Lamb Prices'!AO93)","v":562.96310000000005},{"$f":"IF('Heavy Lamb Prices'!AD93=0,NA(),'Heavy Lamb Prices'!AD93)","v":354.3347},{"$f":"IF('Heavy Lamb Prices'!N93=0,NA(),'Heavy Lamb Prices'!N93)","v":610},{"$f":"IF('Light Lamb Prices'!AJ93=0,NA(),'Light Lamb Prices'!AJ93)","v":358.05},{"$f":"IF('Light Lamb Prices'!R93=0,NA(),'Light Lamb Prices'!R93)","v":575.19000000000005},{"$f":"IF('Heavy Lamb Prices'!AG93=0,NA(),'Heavy Lamb Prices'!AG93)","v":230.19880000000001},399.10983341054981,276.44599243791941,346.97827801276077]
[null,null,null,null,null,null,null,null,null,null,null,null,null,null,null,null,null,25,531.47140000000002,562.95810000000006,532.9171,565.3057,551.67899999999997,{"$f":"IF('Light Lamb Prices'!$AQ93=0,NA(),'Light Lamb Prices'!$AQ93)","v":588.57935998000005},null,25,427.36260000000004,422.26030000000003,423.64120000000003,486.47750000000002,506.21140000000003,{"$f":"IF('Heavy Lamb Prices'!$AR93=0,NA(),'Heavy Lamb Prices'!$AR93)","v":526.59581292442499},null,null,{"$error":"#REF!"},26,{"$f":"IF('Light Lamb Prices'!M94=0,NA(),'Light Lamb Prices'!M94)","v":716.87},{"$f":"IF('Heavy Lamb Prices'!AO94=0,NA(),'Heavy Lamb Prices'!AO94)","v":577.23980000000006},{"$f":"IF('Heavy Lamb Prices'!AD94=0,NA(),'Heavy Lamb Prices'!AD94)","v":349.86959999999999},{"$f":"IF('Heavy Lamb Prices'!N94=0,NA(),'Heavy Lamb Prices'!N94)","v":617},{"$f":"IF('Light Lamb Prices'!AJ94=0,NA(),'Light Lamb Prices'!AJ94)","v":397.69},{"$f":"IF('Light Lamb Prices'!R94=0,NA(),'Light Lamb Prices'!R94)","v":586.21},{"$f":"IF('Heavy Lamb Prices'!AG94=0,NA(),'Heavy Lamb Prices'!AG94)","v":231.18810000000002},399.86219841052997,275.41869580710301,340.55508354573772]
[null,null,null,null,null,null,null,null,null,null,null,null,null,null,null,null,null,26,531.50900000000001,578.21789999999999,535.23090000000002,571.05860000000007,555.04780000000005,{"$f":"IF('Light Lamb Prices'!$AQ94=0,NA(),'Light Lamb Prices'!$AQ94)","v":587.32881141999997},null,26,407.0077,403.9264,420.19330000000002,473.43080000000003,503.101,{"$f":"IF('Heavy Lamb Prices'!$AR94=0,NA(),'Heavy Lamb Prices'!$AR94)","v":536.12956491939997},null,null,{"$error":"#REF!"},27,{"$f":"IF('Light Lamb Prices'!M95=0,NA(),'Light Lamb Prices'!M95)","v":738.89},{"$f":"IF('Heavy Lamb Prices'!AO95=0,NA(),'Heavy Lamb Prices'!AO95)","v":573.04480000000001},{"$f":"IF('Heavy Lamb Prices'!AD95=0,NA(),'Heavy Lamb Prices'!AD95)","v":362.98420000000004},{"$f":"IF('Heavy Lamb Prices'!N95=0,NA(),'Heavy Lamb Prices'!N95)","v":617},{"$f":"IF('Light Lamb Prices'!AJ95=0,NA(),'Light Lamb Prices'!AJ95)","v":397.69},{"$f":"IF('Light Lamb Prices'!R95=0,NA(),'Light Lamb Prices'!R95)","v":588.16},{"$f":"IF('Heavy Lamb Prices'!AG95=0,NA(),'Heavy Lamb Prices'!AG95)","v":233.51560000000001},{"$error":"#N/A"},{"$error":"#N/A"},{"$error":"#N/A"}]
[null,null,null,null,null,null,null,null,null,null,null,null,null,null,null,null,null,27,530.8877,588.84820000000002,555.06259999999997,570.03830000000005,558.44280000000003,{"$f":"IF('Light Lamb Prices'!$AQ95=0,NA(),'Light Lamb Prices'!$AQ95)","v":598.01152786861473},null,27,393.34550000000002,392.6026,408.52960000000002,476.75110000000001,489.87020000000001,{"$f":"IF('Heavy Lamb Prices'!$AR95=0,NA(),'Heavy Lamb Prices'!$AR95)","v":533.057168360074},null,null,{"$error":"#REF!"},28,{"$f":"IF('Light Lamb Prices'!M96=0,NA(),'Light Lamb Prices'!M96)","v":757.28},{"$f":"IF('Heavy Lamb Prices'!AO96=0,NA(),'Heavy Lamb Prices'!AO96)","v":561.21540000000005},{"$f":"IF('Heavy Lamb Prices'!AD96=0,NA(),'Heavy Lamb Prices'!AD96)","v":356.37720000000002},{"$f":"IF('Heavy Lamb Prices'!N96=0,NA(),'Heavy Lamb Prices'!N96)","v":634},{"$f":"IF('Light Lamb Prices'!AJ96=0,NA(),'Light Lamb Prices'!AJ96)","v":394.77},{"$f":"IF('Light Lamb Prices'!R96=0,NA(),'Light Lamb Prices'!R96)","v":587.41},{"$f":"IF('Heavy Lamb Prices'!AG96=0,NA(),'Heavy Lamb Prices'!AG96)","v":234.0617},{"$error":"#N/A"},{"$error":"#N/A"},{"$error":"#N/A"}]
[null,null,null,null,null,null,null,null,null,null,null,null,null,null,null,null,null,28,570.39250000000004,614.02539999999999,576.19400000000007,570.15710000000001,577.09519999999998,{"$f":"IF('Light Lamb Prices'!$AQ96=0,NA(),'Light Lamb Prices'!$AQ96)","v":608.10408673672976},null,28,386.80630000000002,383.82070000000004,410.06960000000004,477.65140000000002,493.67149999999998,{"$f":"IF('Heavy Lamb Prices'!$AR96=0,NA(),'Heavy Lamb Prices'!$AR96)","v":530.08706854522245},null,null,{"$error":"#REF!"},29,{"$f":"IF('Light Lamb Prices'!M97=0,NA(),'Light Lamb Prices'!M97)","v":749.94},{"$f":"IF('Heavy Lamb Prices'!AO97=0,NA(),'Heavy Lamb Prices'!AO97)","v":549.85800000000006},{"$f":"IF('Heavy Lamb Prices'!AD97=0,NA(),'Heavy Lamb Prices'!AD97)","v":347.0256},{"$f":"IF('Heavy Lamb Prices'!N97=0,NA(),'Heavy Lamb Prices'!N97)","v":645},{"$f":"IF('Light Lamb Prices'!AJ97=0,NA(),'Light Lamb Prices'!AJ97)","v":394.77},{"$f":"IF('Light Lamb Prices'!R97=0,NA(),'Light Lamb Prices'!R97)","v":584.93000000000006},{"$f":"IF('Heavy Lamb Prices'!AG97=0,NA(),'Heavy Lamb Prices'!AG97)","v":234.28580000000002},{"$error":"#N/A"},{"$error":"#N/A"},{"$error":"#N/A"}]
[null,null,null,null,null,null,null,null,null,null,null,null,null,null,null,null,null,29,582.17349999999999,619.41150000000005,572.70130000000006,590.03899999999999,591.86969999999997,{"$f":"IF('Light Lamb Prices'!$AQ97=0,NA(),'Light Lamb Prices'!$AQ97)","v":610.96283699399896},null,29,384.96430000000004,389.5489,412.25230000000005,473.11760000000004,506.48630000000003,{"$f":"IF('Heavy Lamb Prices'!$AR97=0,NA(),'Heavy Lamb Prices'!$AR97)","v":526.65656135187328},null,null,{"$error":"#REF!"},30,{"$f":"IF('Light Lamb Prices'!M98=0,NA(),'Light Lamb Prices'!M98)","v":753.02},{"$f":"IF('Heavy Lamb Prices'!AO98=0,NA(),'Heavy Lamb Prices'!AO98)","v":475.73380000000003},{"$f":"IF('Heavy Lamb Prices'!AD98=0,NA(),'Heavy Lamb Prices'!AD98)","v":347.03},{"$f":"IF('Heavy Lamb Prices'!N98=0,NA(),'Heavy Lamb Prices'!N98)","v":644},{"$f":"IF('Light Lamb Prices'!AJ98=0,NA(),'Light Lamb Prices'!AJ98)","v":394.77},{"$f":"IF('Light Lamb Prices'!R98=0,NA(),'Light Lamb Prices'!R98)","v":581.69000000000005},{"$f":"IF('Heavy Lamb Prices'!AG98=0,NA(),'Heavy Lamb Prices'!AG98)","v":227.12380000000002},{"$error":"#N/A"},{"$error":"#N/A"},{"$error":"#N/A"}]
[null,null,null,null,null,null,null,null,null,null,null,null,null,null,null,null,null,30,588.7133,633.35559999999998,576.31060000000002,584.78110000000004,594.90729999999996,{"$f":"IF('Light Lamb Prices'!$AQ98=0,NA(),'Light Lamb Prices'!$AQ98)","v":614.53773631959132},null,30,387.88510000000002,384.73180000000002,420.26130000000001,469.74870000000004,511.1069,{"$f":"IF('Heavy Lamb Prices'!$AR98=0,NA(),'Heavy Lamb Prices'!$AR98)","v":489.50226127559768},null,null,{"$error":"#REF!"},31,{"$f":"IF('Light Lamb Prices'!M99=0,NA(),'Light Lamb Prices'!M99)","v":760.7},{"$f":"IF('Heavy Lamb Prices'!AO99=0,NA(),'Heavy Lamb Prices'!AO99)","v":475.36690000000004},{"$f":"IF('Heavy Lamb Prices'!AD99=0,NA(),'Heavy Lamb Prices'!AD99)","v":372.83390000000003},{"$f":"IF('Heavy Lamb Prices'!N99=0,NA(),'Heavy Lamb Prices'!N99)","v":646},{"$f":"IF('Light Lamb Prices'!AJ99=0,NA(),'Light Lamb Prices'!AJ99)","v":394.77},{"$f":"IF('Light Lamb Prices'!R99=0,NA(),'Light Lamb Prices'!R99)","v":626.45000000000005},{"$f":"IF('Heavy Lamb Prices'!AG99=0,NA(),'Heavy Lamb Prices'!AG99)","v":226.64430000000002},{"$error":"#N/A"},{"$error":"#N/A"},{"$error":"#N/A"}]
[null,null,null,null,null,null,null,null,null,null,null,null,null,null,null,null,null,31,592.27769999999998,647.02629999999999,575.26790000000005,582.27539999999999,579.18259999999998,{"$f":"IF('Light Lamb Prices'!$AQ99=0,NA(),'Light Lamb Prices'!$AQ99)","v":625.32081473264986},null,31,384.13839999999999,379.9581,423.28700000000003,473.12569999999999,507.38490000000002,{"$f":"IF('Heavy Lamb Prices'!$AR99=0,NA(),'Heavy Lamb Prices'!$AR99)","v":487.1870243126404},null,null,{"$error":"#REF!"},32,{"$f":"IF('Light Lamb Prices'!M100=0,NA(),'Light Lamb Prices'!M100)","v":760.85},{"$f":"IF('Heavy Lamb Prices'!AO100=0,NA(),'Heavy Lamb Prices'!AO100)","v":493.0197},{"$f":"IF('Heavy Lamb Prices'!AD100=0,NA(),'Heavy Lamb Prices'!AD100)","v":375.18690000000004},{"$f":"IF('Heavy Lamb Prices'!N100=0,NA(),'Heavy Lamb Prices'!N100)","v":645},{"$f":"IF('Light Lamb Prices'!AJ100=0,NA(),'Light Lamb Prices'!AJ100)","v":470.25},{"$f":"IF('Light Lamb Prices'!R100=0,NA(),'Light Lamb Prices'!R100)","v":626.45000000000005},{"$f":"IF('Heavy Lamb Prices'!AG100=0,NA(),'Heavy Lamb Prices'!AG100)","v":225.59400000000002},{"$error":"#N/A"},{"$error":"#N/A"},{"$error":"#N/A"}]
[null,null,null,null,null,null,null,null,null,null,null,null,null,null,null,null,null,32,595.02780000000007,648.8347,588.86599999999999,601.89160000000004,604.94740000000002,{"$f":"IF('Light Lamb Prices'!$AQ100=0,NA(),'Light Lamb Prices'!$AQ100)","v":632.35926955803438},null,32,374.11310000000003,382.59590000000003,430.50060000000002,463.78250000000003,494.08499999999998,{"$f":"IF('Heavy Lamb Prices'!$AR100=0,NA(),'Heavy Lamb Prices'!$AR100)","v":497.05918840395782},null,null,{"$error":"#REF!"},33,{"$f":"IF('Light Lamb Prices'!M101=0,NA(),'Light Lamb Prices'!M101)","v":755.73},{"$f":"IF('Heavy Lamb Prices'!AO101=0,NA(),'Heavy Lamb Prices'!AO101)","v":494.25230000000005},{"$f":"IF('Heavy Lamb Prices'!AD101=0,NA(),'Heavy Lamb Prices'!AD101)","v":353.50670000000002},{"$f":"IF('Heavy Lamb Prices'!N101=0,NA(),'Heavy Lamb Prices'!N101)","v":651},{"$f":"IF('Light Lamb Prices'!AJ101=0,NA(),'Light Lamb Prices'!AJ101)","v":496.77000000000004},{"$f":"IF('Light Lamb Prices'!R101=0,NA(),'Light Lamb Prices'!R101)","v":627.14},{"$f":"IF('Heavy Lamb Prices'!AG101=0,NA(),'Heavy Lamb Prices'!AG101)","v":225.4145},{"$error":"#N/A"},{"$error":"#N/A"},{"$error":"#N/A"}]
[null,null,null,null,null,null,null,null,null,null,null,null,null,null,null,null,null,33,592.25459999999998,647.02730000000008,630.91210000000001,598.80550000000005,614.49379999999996,{"$f":"IF('Light Lamb Prices'!$AQ101=0,NA(),'Light Lamb Prices'!$AQ101)","v":632.67521539218205},null,33,382.30600000000004,388.4871,427.05670000000003,463.13650000000001,509.47250000000003,{"$f":"IF('Heavy Lamb Prices'!$AR101=0,NA(),'Heavy Lamb Prices'!$AR101)","v":497.88555252258925},null,null,{"$error":"#REF!"},34,{"$f":"IF('Light Lamb Prices'!M102=0,NA(),'Light Lamb Prices'!M102)","v":770.09},{"$f":"IF('Heavy Lamb Prices'!AO102=0,NA(),'Heavy Lamb Prices'!AO102)","v":493.3818},{"$f":"IF('Heavy Lamb Prices'!AD102=0,NA(),'Heavy Lamb Prices'!AD102)","v":372.16040000000004},{"$f":"IF('Heavy Lamb Prices'!N102=0,NA(),'Heavy Lamb Prices'!N102)","v":657},{"$f":"IF('Light Lamb Prices'!AJ102=0,NA(),'Light Lamb Prices'!AJ102)","v":496.77000000000004},{"$f":"IF('Light Lamb Prices'!R102=0,NA(),'Light Lamb Prices'!R102)","v":624.86},{"$f":"IF('Heavy Lamb Prices'!AG102=0,NA(),'Heavy Lamb Prices'!AG102)","v":236.51560000000001},{"$error":"#N/A"},{"$error":"#N/A"},{"$error":"#N/A"}]
[null,null,null,null,null,null,null,null,null,null,null,null,null,null,null,null,null,34,598.13670000000002,647.66120000000001,601.5059,599.69640000000004,611.92280000000005,{"$f":"IF('Light Lamb Prices'!$AQ102=0,NA(),'Light Lamb Prices'!$AQ102)","v":635.73033304355067},null,34,388.05400000000003,388.11760000000004,425.21710000000002,464.77800000000002,510.64260000000002,{"$f":"IF('Heavy Lamb Prices'!$AR102=0,NA(),'Heavy Lamb Prices'!$AR102)","v":497.94203826691228},null,null,{"$error":"#REF!"},35,{"$f":"IF('Light Lamb Prices'!M103=0,NA(),'Light Lamb Prices'!M103)","v":{"$error":"#N/A"}},{"$f":"IF('Heavy Lamb Prices'!AO103=0,NA(),'Heavy Lamb Prices'!AO103)","v":{"$error":"#N/A"}},{"$f":"IF('Heavy Lamb Prices'!AD103=0,NA(),'Heavy Lamb Prices'!AD103)","v":{"$error":"#N/A"}},{"$f":"IF('Heavy Lamb Prices'!N103=0,NA(),'Heavy Lamb Prices'!N103)","v":{"$error":"#N/A"}},{"$f":"IF('Light Lamb Prices'!AJ103=0,NA(),'Light Lamb Prices'!AJ103)","v":{"$error":"#N/A"}},{"$f":"IF('Light Lamb Prices'!R103=0,NA(),'Light Lamb Prices'!R103)","v":{"$error":"#N/A"}},{"$f":"IF('Heavy Lamb Prices'!AG103=0,NA(),'Heavy Lamb Prices'!AG103)","v":{"$error":"#N/A"}},{"$error":"#N/A"},{"$error":"#N/A"},{"$error":"#N/A"}]
[null,null,null,null,null,null,null,null,null,null,null,null,null,null,null,null,null,35,622.55600000000004,665.65420000000006,621.25279999999998,608.89340000000004,615.93359999999996,{"$f":"IF('Light Lamb Prices'!$AQ103=0,NA(),'Light Lamb Prices'!$AQ103)","v":{"$error":"#N/A"}},null,35,388.60920000000004,387.75550000000004,428.1336,459.0444,505.78320000000002,{"$f":"IF('Heavy Lamb Prices'!$AR103=0,NA(),'Heavy Lamb Prices'!$AR103)","v":{"$error":"#N/A"}},null,null,{"$error":"#REF!"},36,{"$f":"IF('Light Lamb Prices'!M104=0,NA(),'Light Lamb Prices'!M104)","v":{"$error":"#N/A"}},{"$f":"IF('Heavy Lamb Prices'!AO104=0,NA(),'Heavy Lamb Prices'!AO104)","v":{"$error":"#N/A"}},{"$f":"IF('Heavy Lamb Prices'!AD104=0,NA(),'Heavy Lamb Prices'!AD104)","v":{"$error":"#N/A"}},{"$f":"IF('Heavy Lamb Prices'!N104=0,NA(),'Heavy Lamb Prices'!N104)","v":{"$error":"#N/A"}},{"$f":"IF('Light Lamb Prices'!AJ104=0,NA(),'Light Lamb Prices'!AJ104)","v":{"$error":"#N/A"}},{"$f":"IF('Light Lamb Prices'!R104=0,NA(),'Light Lamb Prices'!R104)","v":{"$error":"#N/A"}},{"$f":"IF('Heavy Lamb Prices'!AG104=0,NA(),'Heavy Lamb Prices'!AG104)","v":{"$error":"#N/A"}},{"$error":"#N/A"},{"$error":"#N/A"},{"$error":"#N/A"}]
[null,null,null,null,null,null,null,null,null,null,null,null,null,null,null,null,null,36,626.6146,677.15140000000008,620.53060000000005,622.81330000000003,633.96529999999996,{"$f":"IF('Light Lamb Prices'!$AQ104=0,NA(),'Light Lamb Prices'!$AQ104)","v":{"$error":"#N/A"}},null,36,386.32890000000003,387.32370000000003,428.86310000000003,460.77460000000002,502.05309999999997,{"$f":"IF('Heavy Lamb Prices'!$AR104=0,NA(),'Heavy Lamb Prices'!$AR104)","v":{"$error":"#N/A"}},null,null,{"$error":"#REF!"},37,{"$f":"IF('Light Lamb Prices'!M105=0,NA(),'Light Lamb Prices'!M105)","v":{"$error":"#N/A"}},{"$f":"IF('Heavy Lamb Prices'!AO105=0,NA(),'Heavy Lamb Prices'!AO105)","v":{"$error":"#N/A"}},{"$f":"IF('Heavy Lamb Prices'!AD105=0,NA(),'Heavy Lamb Prices'!AD105)","v":{"$error":"#N/A"}},{"$f":"IF('Heavy Lamb Prices'!N105=0,NA(),'Heavy Lamb Prices'!N105)","v":{"$error":"#N/A"}},{"$f":"IF('Light Lamb Prices'!AJ105=0,NA(),'Light Lamb Prices'!AJ105)","v":{"$error":"#N/A"}},{"$f":"IF('Light Lamb Prices'!R105=0,NA(),'Light Lamb Prices'!R105)","v":{"$error":"#N/A"}},{"$f":"IF('Heavy Lamb Prices'!AG105=0,NA(),'Heavy Lamb Prices'!AG105)","v":{"$error":"#N/A"}},{"$error":"#N/A"},{"$error":"#N/A"},{"$error":"#N/A"}]
[null,null,null,null,null,null,null,null,null,null,null,null,null,null,null,null,null,37,644.8152,700.42230000000006,630.53610000000003,622.50380000000007,637.87940000000003,{"$f":"IF('Light Lamb Prices'!$AQ105=0,NA(),'Light Lamb Prices'!$AQ105)","v":{"$error":"#N/A"}},null,37,391.69400000000002,388.3877,421.00350000000003,458.27499999999998,493.88569999999999,{"$f":"IF('Heavy Lamb Prices'!$AR105=0,NA(),'Heavy Lamb Prices'!$AR105)","v":{"$error":"#N/A"}},null,null,{"$error":"#REF!"},38,{"$f":"IF('Light Lamb Prices'!M106=0,NA(),'Light Lamb Prices'!M106)","v":{"$error":"#N/A"}},{"$f":"IF('Heavy Lamb Prices'!AO106=0,NA(),'Heavy Lamb Prices'!AO106)","v":{"$error":"#N/A"}},{"$f":"IF('Heavy Lamb Prices'!AD106=0,NA(),'Heavy Lamb Prices'!AD106)","v":{"$error":"#N/A"}},{"$f":"IF('Heavy Lamb Prices'!N106=0,NA(),'Heavy Lamb Prices'!N106)","v":{"$error":"#N/A"}},{"$f":"IF('Light Lamb Prices'!AJ106=0,NA(),'Light Lamb Prices'!AJ106)","v":{"$error":"#N/A"}},{"$f":"IF('Light Lamb Prices'!R106=0,NA(),'Light Lamb Prices'!R106)","v":{"$error":"#N/A"}},{"$f":"IF('Heavy Lamb Prices'!AG106=0,NA(),'Heavy Lamb Prices'!AG106)","v":{"$error":"#N/A"}},{"$error":"#N/A"},{"$error":"#N/A"},{"$error":"#N/A"}]
[null,null,null,null,null,null,null,null,null,null,null,null,null,null,null,null,null,38,645.76560000000006,717.29219999999998,628.59190000000001,622.61560000000009,639.45000000000005,{"$f":"IF('Light Lamb Prices'!$AQ106=0,NA(),'Light Lamb Prices'!$AQ106)","v":{"$error":"#N/A"}},null,38,390.4085,390.4239,418.6112,457.69580000000002,484.41629999999998,{"$f":"IF('Heavy Lamb Prices'!$AR106=0,NA(),'Heavy Lamb Prices'!$AR106)","v":{"$error":"#N/A"}},null,null,{"$error":"#REF!"},39,{"$f":"IF('Light Lamb Prices'!M107=0,NA(),'Light Lamb Prices'!M107)","v":{"$error":"#N/A"}},{"$f":"IF('Heavy Lamb Prices'!AO107=0,NA(),'Heavy Lamb Prices'!AO107)","v":{"$error":"#N/A"}},{"$f":"IF('Heavy Lamb Prices'!AD107=0,NA(),'Heavy Lamb Prices'!AD107)","v":{"$error":"#N/A"}},{"$f":"IF('Heavy Lamb Prices'!N107=0,NA(),'Heavy Lamb Prices'!N107)","v":{"$error":"#N/A"}},{"$f":"IF('Light Lamb Prices'!AJ107=0,NA(),'Light Lamb Prices'!AJ107)","v":{"$error":"#N/A"}},{"$f":"IF('Light Lamb Prices'!R107=0,NA(),'Light Lamb Prices'!R107)","v":{"$error":"#N/A"}},{"$f":"IF('Heavy Lamb Prices'!AG107=0,NA(),'Heavy Lamb Prices'!AG107)","v":{"$error":"#N/A"}},{"$error":"#N/A"},{"$error":"#N/A"},{"$error":"#N/A"}]
[null,null,null,null,null,null,null,null,null,null,null,null,null,null,null,null,null,39,663.40610000000004,726.48670000000004,630.31020000000001,620.67610000000002,638.56119999999999,{"$f":"IF('Light Lamb Prices'!$AQ107=0,NA(),'Light Lamb Prices'!$AQ107)","v":{"$error":"#N/A"}},null,39,390.98040000000003,385.88420000000002,413.52930000000003,456.48420000000004,483.06400000000002,{"$f":"IF('Heavy Lamb Prices'!$AR107=0,NA(),'Heavy Lamb Prices'!$AR107)","v":{"$error":"#N/A"}},null,null,{"$error":"#REF!"},40,{"$f":"IF('Light Lamb Prices'!M108=0,NA(),'Light Lamb Prices'!M108)","v":{"$error":"#N/A"}},{"$f":"IF('Heavy Lamb Prices'!AO108=0,NA(),'Heavy Lamb Prices'!AO108)","v":{"$error":"#N/A"}},{"$f":"IF('Heavy Lamb Prices'!AD108=0,NA(),'Heavy Lamb Prices'!AD108)","v":{"$error":"#N/A"}},{"$f":"IF('Heavy Lamb Prices'!N108=0,NA(),'Heavy Lamb Prices'!N108)","v":{"$error":"#N/A"}},{"$f":"IF('Light Lamb Prices'!AJ108=0,NA(),'Light Lamb Prices'!AJ108)","v":{"$error":"#N/A"}},{"$f":"IF('Light Lamb Prices'!R108=0,NA(),'Light Lamb Prices'!R108)","v":{"$error":"#N/A"}},{"$f":"IF('Heavy Lamb Prices'!AG108=0,NA(),'Heavy Lamb Prices'!AG108)","v":{"$error":"#N/A"}},{"$error":"#N/A"},{"$error":"#N/A"},{"$error":"#N/A"}]
[null,null,null,null,null,null,null,null,null,null,null,null,null,null,null,null,null,40,681.18430000000001,730.86810000000003,628.91100000000006,630.30320000000006,626.22460000000001,{"$f":"IF('Light Lamb Prices'!$AQ108=0,NA(),'Light Lamb Prices'!$AQ108)","v":{"$error":"#N/A"}},null,40,390.80440000000004,372.88420000000002,405.9667,458.85120000000001,474.6035,{"$f":"IF('Heavy Lamb Prices'!$AR108=0,NA(),'Heavy Lamb Prices'!$AR108)","v":{"$error":"#N/A"}},null,null,{"$error":"#REF!"},41,{"$f":"IF('Light Lamb Prices'!M109=0,NA(),'Light Lamb Prices'!M109)","v":{"$error":"#N/A"}},{"$f":"IF('Heavy Lamb Prices'!AO109=0,NA(),'Heavy Lamb Prices'!AO109)","v":{"$error":"#N/A"}},{"$f":"IF('Heavy Lamb Prices'!AD109=0,NA(),'Heavy Lamb Prices'!AD109)","v":{"$error":"#N/A"}},{"$f":"IF('Heavy Lamb Prices'!N109=0,NA(),'Heavy Lamb Prices'!N109)","v":{"$error":"#N/A"}},{"$f":"IF('Light Lamb Prices'!AJ109=0,NA(),'Light Lamb Prices'!AJ109)","v":{"$error":"#N/A"}},{"$f":"IF('Light Lamb Prices'!R109=0,NA(),'Light Lamb Prices'!R109)","v":{"$error":"#N/A"}},{"$f":"IF('Heavy Lamb Prices'!AG109=0,NA(),'Heavy Lamb Prices'!AG109)","v":{"$error":"#N/A"}},{"$error":"#N/A"},{"$error":"#N/A"},{"$error":"#N/A"}]
[null,null,null,null,null,null,null,null,null,null,null,null,null,null,null,null,null,41,675.30849999999998,727.95010000000002,629.23340000000007,638.30540000000008,631.0806,{"$f":"IF('Light Lamb Prices'!$AQ109=0,NA(),'Light Lamb Prices'!$AQ109)","v":{"$error":"#N/A"}},null,41,385.52199999999999,386.53739999999999,406.6123,461.61560000000003,474.87619999999998,{"$f":"IF('Heavy Lamb Prices'!$AR109=0,NA(),'Heavy Lamb Prices'!$AR109)","v":{"$error":"#N/A"}},null,null,{"$error":"#REF!"},42,{"$f":"IF('Light Lamb Prices'!M110=0,NA(),'Light Lamb Prices'!M110)","v":{"$error":"#N/A"}},{"$f":"IF('Heavy Lamb Prices'!AO110=0,NA(),'Heavy Lamb Prices'!AO110)","v":{"$error":"#N/A"}},{"$f":"IF('Heavy Lamb Prices'!AD110=0,NA(),'Heavy Lamb Prices'!AD110)","v":{"$error":"#N/A"}},{"$f":"IF('Heavy Lamb Prices'!N110=0,NA(),'Heavy Lamb Prices'!N110)","v":{"$error":"#N/A"}},{"$f":"IF('Light Lamb Prices'!AJ110=0,NA(),'Light Lamb Prices'!AJ110)","v":{"$error":"#N/A"}},{"$f":"IF('Light Lamb Prices'!R110=0,NA(),'Light Lamb Prices'!R110)","v":{"$error":"#N/A"}},{"$f":"IF('Heavy Lamb Prices'!AG110=0,NA(),'Heavy Lamb Prices'!AG110)","v":{"$error":"#N/A"}},{"$error":"#N/A"},{"$error":"#N/A"},{"$error":"#N/A"}]
[null,null,null,null,null,null,null,null,null,null,null,null,null,null,null,null,null,42,685.36630000000002,725.11860000000001,628.34500000000003,633.8895,629.10749999999996,{"$f":"IF('Light Lamb Prices'!$AQ110=0,NA(),'Light Lamb Prices'!$AQ110)","v":{"$error":"#N/A"}},null,42,383.21440000000001,394.78050000000002,410.69080000000002,469.6832,473.99029999999999,{"$f":"IF('Heavy Lamb Prices'!$AR110=0,NA(),'Heavy Lamb Prices'!$AR110)","v":{"$error":"#N/A"}},null,null,{"$error":"#REF!"},43,{"$f":"IF('Light Lamb Prices'!M111=0,NA(),'Light Lamb Prices'!M111)","v":{"$error":"#N/A"}},{"$f":"IF('Heavy Lamb Prices'!AO111=0,NA(),'Heavy Lamb Prices'!AO111)","v":{"$error":"#N/A"}},{"$f":"IF('Heavy Lamb Prices'!AD111=0,NA(),'Heavy Lamb Prices'!AD111)","v":{"$error":"#N/A"}},{"$f":"IF('Heavy Lamb Prices'!N111=0,NA(),'Heavy Lamb Prices'!N111)","v":{"$error":"#N/A"}},{"$f":"IF('Light Lamb Prices'!AJ111=0,NA(),'Light Lamb Prices'!AJ111)","v":{"$error":"#N/A"}},{"$f":"IF('Light Lamb Prices'!R111=0,NA(),'Light Lamb Prices'!R111)","v":{"$error":"#N/A"}},{"$f":"IF('Heavy Lamb Prices'!AG111=0,NA(),'Heavy Lamb Prices'!AG111)","v":{"$error":"#N/A"}},{"$error":"#N/A"},{"$error":"#N/A"},{"$error":"#N/A"}]
[null,null,null,null,null,null,null,null,null,null,null,null,null,null,null,null,null,43,681.58339999999998,723.87260000000003,623.20500000000004,621.1463,625.89710000000002,{"$f":"IF('Light Lamb Prices'!$AQ111=0,NA(),'Light Lamb Prices'!$AQ111)","v":{"$error":"#N/A"}},null,43,381.62940000000003,378.11920000000003,411.06950000000001,470.51740000000001,470.24990000000003,{"$f":"IF('Heavy Lamb Prices'!$AR111=0,NA(),'Heavy Lamb Prices'!$AR111)","v":{"$error":"#N/A"}},null,null,{"$error":"#REF!"},44,{"$f":"IF('Light Lamb Prices'!M112=0,NA(),'Light Lamb Prices'!M112)","v":{"$error":"#N/A"}},{"$f":"IF('Heavy Lamb Prices'!AO112=0,NA(),'Heavy Lamb Prices'!AO112)","v":{"$error":"#N/A"}},{"$f":"IF('Heavy Lamb Prices'!AD112=0,NA(),'Heavy Lamb Prices'!AD112)","v":{"$error":"#N/A"}},{"$f":"IF('Heavy Lamb Prices'!N112=0,NA(),'Heavy Lamb Prices'!N112)","v":{"$error":"#N/A"}},{"$f":"IF('Light Lamb Prices'!AJ112=0,NA(),'Light Lamb Prices'!AJ112)","v":{"$error":"#N/A"}},{"$f":"IF('Light Lamb Prices'!R112=0,NA(),'Light Lamb Prices'!R112)","v":{"$error":"#N/A"}},{"$f":"IF('Heavy Lamb Prices'!AG112=0,NA(),'Heavy Lamb Prices'!AG112)","v":{"$error":"#N/A"}},{"$error":"#N/A"},{"$error":"#N/A"},{"$error":"#N/A"}]
[null,null,null,null,null,null,null,null,null,null,null,null,null,null,null,null,null,44,714.54910000000007,718.2867,622.51980000000003,634.97990000000004,629.73069999999996,{"$f":"IF('Light Lamb Prices'!$AQ112=0,NA(),'Light Lamb Prices'!$AQ112)","v":{"$error":"#N/A"}},null,44,380.83610000000004,380.1721,416.9194,476.7851,469.75479999999999,{"$f":"IF('Heavy Lamb Prices'!$AR112=0,NA(),'Heavy Lamb Prices'!$AR112)","v":{"$error":"#N/A"}},null,null,{"$error":"#REF!"},45,{"$f":"IF('Light Lamb Prices'!M113=0,NA(),'Light Lamb Prices'!M113)","v":{"$error":"#N/A"}},{"$f":"IF('Heavy Lamb Prices'!AO113=0,NA(),'Heavy Lamb Prices'!AO113)","v":{"$error":"#N/A"}},{"$f":"IF('Heavy Lamb Prices'!AD113=0,NA(),'Heavy Lamb Prices'!AD113)","v":{"$error":"#N/A"}},{"$f":"IF('Heavy Lamb Prices'!N113=0,NA(),'Heavy Lamb Prices'!N113)","v":{"$error":"#N/A"}},{"$f":"IF('Light Lamb Prices'!AJ113=0,NA(),'Light Lamb Prices'!AJ113)","v":{"$error":"#N/A"}},{"$f":"IF('Light Lamb Prices'!R113=0,NA(),'Light Lamb Prices'!R113)","v":{"$error":"#N/A"}},{"$f":"IF('Heavy Lamb Prices'!AG113=0,NA(),'Heavy Lamb Prices'!AG113)","v":{"$error":"#N/A"}},{"$error":"#N/A"},{"$error":"#N/A"},{"$error":"#N/A"}]
[null,null,null,null,null,null,null,null,null,null,null,null,null,null,null,null,null,45,740.73249999999996,711.71630000000005,619.96990000000005,627.39620000000002,632.15880000000004,{"$f":"IF('Light Lamb Prices'!$AQ113=0,NA(),'Light Lamb Prices'!$AQ113)","v":{"$error":"#N/A"}},null,45,383.84640000000002,384.25120000000004,425.10250000000002,481.26240000000001,470.47699999999998,{"$f":"IF('Heavy Lamb Prices'!$AR113=0,NA(),'Heavy Lamb Prices'!$AR113)","v":{"$error":"#N/A"}},null,null,{"$error":"#REF!"},46,{"$f":"IF('Light Lamb Prices'!M114=0,NA(),'Light Lamb Prices'!M114)","v":{"$error":"#N/A"}},{"$f":"IF('Heavy Lamb Prices'!AO114=0,NA(),'Heavy Lamb Prices'!AO114)","v":{"$error":"#N/A"}},{"$f":"IF('Heavy Lamb Prices'!AD114=0,NA(),'Heavy Lamb Prices'!AD114)","v":{"$error":"#N/A"}},{"$f":"IF('Heavy Lamb Prices'!N114=0,NA(),'Heavy Lamb Prices'!N114)","v":{"$error":"#N/A"}},{"$f":"IF('Light Lamb Prices'!AJ114=0,NA(),'Light Lamb Prices'!AJ114)","v":{"$error":"#N/A"}},{"$f":"IF('Light Lamb Prices'!R114=0,NA(),'Light Lamb Prices'!R114)","v":{"$error":"#N/A"}},{"$f":"IF('Heavy Lamb Prices'!AG114=0,NA(),'Heavy Lamb Prices'!AG114)","v":{"$error":"#N/A"}},{"$error":"#N/A"},{"$error":"#N/A"},{"$error":"#N/A"}]
[null,null,null,null,null,null,null,null,null,null,null,null,null,null,null,null,null,46,751.45410000000004,706.74459999999999,604.33230000000003,636.58040000000005,635.93269999999995,{"$f":"IF('Light Lamb Prices'!$AQ114=0,NA(),'Light Lamb Prices'!$AQ114)","v":{"$error":"#N/A"}},null,46,374.52820000000003,394.01830000000001,427.06360000000001,488.79680000000002,469.59280000000001,{"$f":"IF('Heavy Lamb Prices'!$AR114=0,NA(),'Heavy Lamb Prices'!$AR114)","v":{"$error":"#N/A"}},null,null,{"$error":"#REF!"},47,{"$f":"IF('Light Lamb Prices'!M115=0,NA(),'Light Lamb Prices'!M115)","v":{"$error":"#N/A"}},{"$f":"IF('Heavy Lamb Prices'!AO115=0,NA(),'Heavy Lamb Prices'!AO115)","v":{"$error":"#N/A"}},{"$f":"IF('Heavy Lamb Prices'!AD115=0,NA(),'Heavy Lamb Prices'!AD115)","v":{"$error":"#N/A"}},{"$f":"IF('Heavy Lamb Prices'!N115=0,NA(),'Heavy Lamb Prices'!N115)","v":{"$error":"#N/A"}},{"$f":"IF('Light Lamb Prices'!AJ115=0,NA(),'Light Lamb Prices'!AJ115)","v":{"$error":"#N/A"}},{"$f":"IF('Light Lamb Prices'!R115=0,NA(),'Light Lamb Prices'!R115)","v":{"$error":"#N/A"}},{"$f":"IF('Heavy Lamb Prices'!AG115=0,NA(),'Heavy Lamb Prices'!AG115)","v":{"$error":"#N/A"}},{"$error":"#N/A"},{"$error":"#N/A"},{"$error":"#N/A"}]
[null,null,null,null,null,null,null,null,null,null,null,null,null,null,null,null,null,47,739.25710000000004,701.88430000000005,615.72840000000008,637.70010000000002,638.20420000000001,{"$f":"IF('Light Lamb Prices'!$AQ115=0,NA(),'Light Lamb Prices'!$AQ115)","v":{"$error":"#N/A"}},null,47,376.72380000000004,425.49460000000005,427.12620000000004,499.00470000000001,462.42919999999998,{"$f":"IF('Heavy Lamb Prices'!$AR115=0,NA(),'Heavy Lamb Prices'!$AR115)","v":{"$error":"#N/A"}},null,null,{"$error":"#REF!"},48,{"$f":"IF('Light Lamb Prices'!M116=0,NA(),'Light Lamb Prices'!M116)","v":{"$error":"#N/A"}},{"$f":"IF('Heavy Lamb Prices'!AO116=0,NA(),'Heavy Lamb Prices'!AO116)","v":{"$error":"#N/A"}},{"$f":"IF('Heavy Lamb Prices'!AD116=0,NA(),'Heavy Lamb Prices'!AD116)","v":{"$error":"#N/A"}},{"$f":"IF('Heavy Lamb Prices'!N116=0,NA(),'Heavy Lamb Prices'!N116)","v":{"$error":"#N/A"}},{"$f":"IF('Light Lamb Prices'!AJ116=0,NA(),'Light Lamb Prices'!AJ116)","v":{"$error":"#N/A"}},{"$f":"IF('Light Lamb Prices'!R116=0,NA(),'Light Lamb Prices'!R116)","v":{"$error":"#N/A"}},{"$f":"IF('Heavy Lamb Prices'!AG116=0,NA(),'Heavy Lamb Prices'!AG116)","v":{"$error":"#N/A"}},{"$error":"#N/A"},{"$error":"#N/A"},{"$error":"#N/A"}]
[null,null,null,null,null,null,null,null,null,null,null,null,null,null,null,null,null,48,734.17410000000007,713.53970000000004,608.19740000000002,637.79399999999998,634.31500000000005,{"$f":"IF('Light Lamb Prices'!$AQ116=0,NA(),'Light Lamb Prices'!$AQ116)","v":{"$error":"#N/A"}},null,48,377.3526,409.9785,437.36080000000004,505.2482,462.49869999999999,{"$f":"IF('Heavy Lamb Prices'!$AR116=0,NA(),'Heavy Lamb Prices'!$AR116)","v":{"$error":"#N/A"}},null,null,{"$error":"#REF!"},49,{"$f":"IF('Light Lamb Prices'!M117=0,NA(),'Light Lamb Prices'!M117)","v":{"$error":"#N/A"}},{"$f":"IF('Heavy Lamb Prices'!AO117=0,NA(),'Heavy Lamb Prices'!AO117)","v":{"$error":"#N/A"}},{"$f":"IF('Heavy Lamb Prices'!AD117=0,NA(),'Heavy Lamb Prices'!AD117)","v":{"$error":"#N/A"}},{"$f":"IF('Heavy Lamb Prices'!N117=0,NA(),'Heavy Lamb Prices'!N117)","v":{"$error":"#N/A"}},{"$f":"IF('Light Lamb Prices'!AJ117=0,NA(),'Light Lamb Prices'!AJ117)","v":{"$error":"#N/A"}},{"$f":"IF('Light Lamb Prices'!R117=0,NA(),'Light Lamb Prices'!R117)","v":{"$error":"#N/A"}},{"$f":"IF('Heavy Lamb Prices'!AG117=0,NA(),'Heavy Lamb Prices'!AG117)","v":{"$error":"#N/A"}},{"$error":"#N/A"},{"$error":"#N/A"},{"$error":"#N/A"}]
[null,null,null,null,null,null,null,null,null,null,null,null,null,null,null,null,null,49,718.04390000000001,713.63819999999998,610.10050000000001,642.17079999999999,635.31939999999997,{"$f":"IF('Light Lamb Prices'!$AQ117=0,NA(),'Light Lamb Prices'!$AQ117)","v":{"$error":"#N/A"}},null,49,381.00620000000004,411.45510000000002,440.12510000000003,517.96680000000003,463.33370000000002,{"$f":"IF('Heavy Lamb Prices'!$AR117=0,NA(),'Heavy Lamb Prices'!$AR117)","v":{"$error":"#N/A"}},null,null,{"$error":"#REF!"},50,{"$f":"IF('Light Lamb Prices'!M118=0,NA(),'Light Lamb Prices'!M118)","v":{"$error":"#N/A"}},{"$f":"IF('Heavy Lamb Prices'!AO118=0,NA(),'Heavy Lamb Prices'!AO118)","v":{"$error":"#N/A"}},{"$f":"IF('Heavy Lamb Prices'!AD118=0,NA(),'Heavy Lamb Prices'!AD118)","v":{"$error":"#N/A"}},{"$f":"IF('Heavy Lamb Prices'!N118=0,NA(),'Heavy Lamb Prices'!N118)","v":{"$error":"#N/A"}},{"$f":"IF('Light Lamb Prices'!AJ118=0,NA(),'Light Lamb Prices'!AJ118)","v":{"$error":"#N/A"}},{"$f":"IF('Light Lamb Prices'!R118=0,NA(),'Light Lamb Prices'!R118)","v":{"$error":"#N/A"}},{"$f":"IF('Heavy Lamb Prices'!AG118=0,NA(),'Heavy Lamb Prices'!AG118)","v":{"$error":"#N/A"}},{"$error":"#N/A"},{"$error":"#N/A"},{"$error":"#N/A"}]
[null,null,null,null,null,null,null,null,null,null,null,null,null,null,null,null,null,50,706.70749999999998,714.43400000000008,611.02409999999998,643.76600000000008,635.70479999999998,{"$f":"IF('Light Lamb Prices'!$AQ118=0,NA(),'Light Lamb Prices'!$AQ118)","v":{"$error":"#N/A"}},null,50,382.52610000000004,422.52880000000005,445.44,526.01170000000002,462.97899999999998,{"$f":"IF('Heavy Lamb Prices'!$AR118=0,NA(),'Heavy Lamb Prices'!$AR118)","v":{"$error":"#N/A"}},null,null,{"$error":"#REF!"},51,{"$f":"IF('Light Lamb Prices'!M119=0,NA(),'Light Lamb Prices'!M119)","v":{"$error":"#N/A"}},{"$f":"IF('Heavy Lamb Prices'!AO119=0,NA(),'Heavy Lamb Prices'!AO119)","v":{"$error":"#N/A"}},{"$f":"IF('Heavy Lamb Prices'!AD119=0,NA(),'Heavy Lamb Prices'!AD119)","v":{"$error":"#N/A"}},{"$f":"IF('Heavy Lamb Prices'!N119=0,NA(),'Heavy Lamb Prices'!N119)","v":{"$error":"#N/A"}},{"$f":"IF('Light Lamb Prices'!AJ119=0,NA(),'Light Lamb Prices'!AJ119)","v":{"$error":"#N/A"}},{"$f":"IF('Light Lamb Prices'!R119=0,NA(),'Light Lamb Prices'!R119)","v":{"$error":"#N/A"}},{"$f":"IF('Heavy Lamb Prices'!AG119=0,NA(),'Heavy Lamb Prices'!AG119)","v":{"$error":"#N/A"}},{"$error":"#N/A"},{"$error":"#N/A"},{"$error":"#N/A"}]
[null,null,null,null,null,null,null,null,null,null,null,null,null,null,null,null,null,51,705.42460000000005,725.02330000000006,628.11940000000004,651.48290000000009,604.13699999999994,{"$f":"IF('Light Lamb Prices'!$AQ119=0,NA(),'Light Lamb Prices'!$AQ119)","v":{"$error":"#N/A"}},null,51,377.06290000000001,427.09249999999997,451.46690000000001,524.38850000000002,453.4271,{"$f":"IF('Heavy Lamb Prices'!$AR119=0,NA(),'Heavy Lamb Prices'!$AR119)","v":{"$error":"#N/A"}},null,null,{"$error":"#REF!"},52,{"$f":"IF('Light Lamb Prices'!M120=0,NA(),'Light Lamb Prices'!M120)","v":{"$error":"#N/A"}},{"$f":"IF('Heavy Lamb Prices'!AO120=0,NA(),'Heavy Lamb Prices'!AO120)","v":{"$error":"#N/A"}},{"$f":"IF('Heavy Lamb Prices'!AD120=0,NA(),'Heavy Lamb Prices'!AD120)","v":{"$error":"#N/A"}},{"$f":"IF('Heavy Lamb Prices'!N120=0,NA(),'Heavy Lamb Prices'!N120)","v":{"$error":"#N/A"}},{"$f":"IF('Light Lamb Prices'!AJ120=0,NA(),'Light Lamb Prices'!AJ120)","v":{"$error":"#N/A"}},{"$f":"IF('Light Lamb Prices'!R120=0,NA(),'Light Lamb Prices'!R120)","v":{"$error":"#N/A"}},{"$f":"IF('Heavy Lamb Prices'!AG120=0,NA(),'Heavy Lamb Prices'!AG120)","v":{"$error":"#N/A"}},{"$error":"#N/A"},{"$error":"#N/A"},{"$error":"#N/A"}]
[null,null,null,null,null,null,null,null,null,null,null,null,null,null,null,null,null,52,709.12610000000006,720.30860000000007,615.21140000000003,645.37990000000002,602.94939999999997,{"$f":"IF('Light Lamb Prices'!$AQ120=0,NA(),'Light Lamb Prices'!$AQ120)","v":{"$error":"#N/A"}},null,52,374.76249999999999,429.76170000000002,450.61080000000004,529.52650000000006,453.4246,{"$f":"IF('Heavy Lamb Prices'!$AR120=0,NA(),'Heavy Lamb Prices'!$AR120)","v":{"$error":"#N/A"}},null,null,null,null,"ESP/LL","UK","PL","FR","SK","IT","RO","Uruguay","New Z","AUS"]
[null,null,null,null,null,null,null,null,null,null,null,null,null,null,null,null,null,53,0,717.56100000000004,0,0,0,{"$f":"IF('Light Lamb Prices'!$AQ121=0,NA(),'Light Lamb Prices'!$AQ121)","v":{"$error":"#N/A"}},null,53,0,449.19970000000001,0,0,0,{"$f":"IF('Heavy Lamb Prices'!$AR121=0,NA(),'Heavy Lamb Prices'!$AR121)","v":{"$error":"#N/A"}}]

{"sheet":"Monthly prices","index":7,"n_rows":92,"n_cols":88,"rows_kept":92,"cut":false,"hidden":false,"merged":[[1,0,1,8],[1,86,1,89]]}
[null,null,null,null,null,null,"|",null,null,null,null,null,2007,null,null,null,null,null,"|",null,null,null,null,null,2008,null,null,null,null,null,"|",null,null,null,null,null,2009,null,null,null,null,null,"|",null,null,null,null,null,2010,null,null,null,null,null,"|",null,null,null,null,null,2011,null,null,null,null,null,"|",null,null,null,null,null,2012,null,null,null,null,null,"|",null,null,null,null,null,null,2013]
["€UR per 100 kg carcasses weight",null,null,null,null,null,null,null,null,null,null,null,null,null,null,null,null,null,null,null,null,null,null,null,null,null,null,null,null,null,null,null,null,null,null,null,null,null,null,null,null,null,null,null,null,null,null,null,null,null,null,null,null,null,null,null,null,null,null,null,null,null,null,null,null,null,null,null,null,null,null,null,null,null,null,null,null,null,null,null,null,null,null,null,null,null,"€UR per 100 kg carcasses weight"]
[]
[]
["HEAVY LAMBS",null,null,null,null,null,null,null,null,null,null,null,null,null,null,null,null,null,null,null,null,null,null,null,null,null,null,null,null,null,null,null,null,null,null,null,null,null,null,null,null,null,null,null,null,null,null,null,null,null,null,null,null,null,null,null,null,null,null,null,null,null,null,null,null,null,null,null,null,null,null,null,null,null,null,null,null,null,null,null,null,null,null,null,null,null,"HEAVY LAMBS"]
[null,null,null,null,null,null,"Month beginning"]
[null,">2011",2011,2012,"2013-I","2013-II","2007-01-01","2007-02-01","2007-03-01","2007-04-01","2007-05-01","2007-06-01","2007-07-01","2007-08-01","2007-09-01","2007-10-01","2007-11-01","2007-12-01","2008-01-01","2008-02-01","2008-03-01","2008-04-01","2008-05-01","2008-06-01","2008-07-01","2008-08-01","2008-09-01","2008-10-01","2008-11-01","2008-12-01","2009-01-01","2009-02-01","2009-03-01","2009-04-01","2009-05-01","2009-06-01","2009-07-01","2009-08-01","2009-09-01","2009-10-01","2009-11-01","2009-12-01","2010-01-01","2010-02-01","2010-03-01","2010-04-01","2010-05-01","2010-06-01","2010-07-01","2010-08-01","2010-09-01","2010-10-01","2010-11-01","2010-12-01","2011-01-01","2011-02-01","2011-03-01","2011-04-01","2011-05-01","2011-06-01","2011-07-01","2011-08-01","2011-09-01","2011-10-01","2011-11-01","2011-12-01","2012-01-01","2012-02-01","2012-03-01","2012-04-01","2012-05-01","2012-06-01","2012-07-01","2012-08-01","2012-09-01","2012-10-01","2012-11-01","2012-12-01","2013-01-01","2013-02-01","2013-03-01","2013-04-01","2013-05-01","2013-06-01","2013-07-01"]
[null,"Weights (%)","Weights (%)","Weights (%)","Weights (%)","Weights (%)",null,null,null,null,null,null,null,null,null,null,null,null,null,null,null,null,null,null,null,null,null,null,null,null,null,null,null,null,null,null,null,null,null,null,null,null,null,null,null,null,null,null,null,null,null,null,null,null,null,null,null,null,null,null,null,null,null,null,null,null,null,null,null,null,null,null,null,null,null,null,null,null,null,null,null,null,null,null,null,null,null,"Weights (%)"]
["BE",0.26,0.53,0.53,0.46,0.43,404.15390000000002,405.06390000000005,412.34230000000002,449.37330000000003,439.00030000000004,430.49770000000001,418.95100000000002,424.33350000000002,428.27570000000003,420.66840000000002,433.06300000000005,433.8845,429.73520000000002,441.0976,494.01060000000001,522.7903,514.75419999999997,469.63300000000004,458.96520000000004,433.38580000000002,427.57570000000004,442.07190000000003,445.57930000000005,450.31450000000001,455.07420000000002,458.38140000000004,476.97710000000001,512.85230000000001,528.43900000000008,520.92100000000005,467.72060000000005,455.88840000000005,433.44,412.53579999999999,441.52730000000003,442.50870000000003,436.52160000000003,443.93,468.48650000000004,526.50630000000001,509.51550000000003,456.41,410.85230000000001,404.81479999999999,427.267,455.15480000000002,482.41200000000003,437.79520000000002,430.45580000000001,429.29500000000002,465.02550000000002,526.02200000000005,531.35059999999999,489.08070000000004,442.47580000000005,443.65710000000001,467.55330000000004,494.4119,506.58530000000002,452.99190000000004,444.82740000000001,439.59190000000001,499.09060000000005,587.245,558.37609999999995,501.59800000000001,477.8048,490.05869999999999,519.02329999999995,552.39189999999996,512.32420000000002,480.8229,449.9855,451.08499999999998,504.51229999999998,544.88670000000002,522.58029999999997,488.9307,486.43329999999997,null,"BE",0.46]
["DK",null,null,null,0.26,0.28000000000000003,null,null,null,null,null,null,null,null,null,null,null,null,null,null,null,null,null,null,null,null,null,null,null,null,null,null,null,null,null,null,null,null,null,null,null,null,null,null,null,null,null,null,null,null,null,null,null,null,null,null,null,null,null,null,null,null,null,null,null,null,null,null,null,null,null,null,null,null,null,null,null,null,null,null,466.22121372794822,482.0598,483.30650000000003,487.77019999999999,486.92959999999999,null,"DK",0.26]
["DE",5.79,6.68,6.67,6.87,6.64,399.72520000000003,382.48290000000003,378.34230000000002,412.91300000000001,407.53290000000004,395.16030000000001,368.95,375.85,388.13630000000001,397.5016,389.07730000000004,396.38100000000003,404.50740000000002,409.91210000000001,442.02030000000002,430.89100000000002,429.9384,422.95530000000002,388.07840000000004,390.87260000000003,404.17869999999999,411.60160000000002,400.29930000000002,415.44030000000004,434.76190000000003,428.22820000000002,445.70100000000002,454.53130000000004,452.36610000000002,438.5487,414.22710000000001,394.7568,411.80470000000003,404.32580000000002,400.48770000000002,409.28230000000002,424.65129999999999,412.19749999999999,458.67970000000003,467.75530000000003,459.44810000000001,435.72900000000004,410.97970000000004,403.73260000000005,411.53700000000003,408.75900000000001,417.93470000000002,424.99350000000004,431.6748,442.935,459.16450000000003,512.07400000000007,519.64060000000006,497.45400000000001,446.92450000000002,457.3877,469.09800000000001,471.96390000000002,481.30400000000003,480.65030000000002,508.7826,498.25240000000002,550.56970000000001,557.53200000000004,537.30970000000002,498.678,482.26260000000002,488.28390000000002,505.07,519.24580000000003,499.12,505.45940000000002,502.59679999999997,494.15359999999998,512.36900000000003,507.04199999999997,497.26650000000001,508.50400000000002,518.16,null,"DE",6.87]
["EE",null,null,0.12,0.1,0.11,null,null,null,null,null,null,null,null,null,null,null,null,null,null,null,null,null,null,null,null,null,null,null,null,null,null,null,null,null,null,null,null,null,null,null,null,null,null,null,null,null,null,null,null,null,null,null,null,null,null,null,null,null,null,null,null,null,null,null,228.48,256.2423,234.01240000000001,253.22740000000002,288.1653,278.99290000000002,273.33730000000003,295.65649999999999,249.5316,219.25229999999999,218.25649999999999,224.51830000000001,270.86610000000002,239.72130000000001,225.4239,289.71480000000003,269.92070000000001,280.33030000000002,301.23200000000003,280.62880000000001,null,"EE",0.1]
["IE",9.3800000000000008,8.43,8.42,8.19,9.39,316.86420000000004,337.1146,347.8313,393.16669999999999,357.17,344.2663,327.83940000000001,335.46940000000001,341.0727,330.15970000000004,321.83699999999999,323.42450000000002,327.99580000000003,357.33969999999999,382.71680000000003,409.31229999999999,425.68900000000002,396.41800000000001,349.61160000000001,325.14350000000002,325.1293,313.3494,309.65170000000001,311.09160000000003,339.21770000000004,361.6979,372.02289999999999,420.3433,437.37479999999999,396.59200000000004,336.78480000000002,322.80940000000004,318.71370000000002,311.9171,331.44499999999999,368.46289999999999,412.56060000000002,422.14249999999998,444.08870000000002,483.93400000000003,475.68450000000001,439.18370000000004,390.31940000000003,401.88,387.42529999999999,392.8116,416.64499999999998,440.66130000000004,443.15649999999999,446.65210000000002,493.17680000000001,562.95670000000007,568.61419999999998,475.56200000000001,440.43520000000001,433.43060000000003,417.673,422.43900000000002,443.35300000000001,465.59740000000005,482.4545,485.9631,489.95580000000001,518.92529999999999,468.47969999999998,449.57799999999997,435.49520000000001,436.1771,415.91329999999999,402.6635,387.87830000000002,391.36610000000002,368.3252,399.04790000000003,463.49419999999998,499.5677,523.39059999999995,483.66329999999999,462.03160000000003,null,"IE",8.19]
["ES",7.56,4.6500000000000004,4.6399999999999997,4.6900000000000004,4.55,383.83420000000001,429.54360000000003,447.19450000000001,417.47329999999999,407.97,374.72,408.48900000000003,443.55549999999999,473.80130000000003,542.84289999999999,577.38700000000006,555.42060000000004,474.80650000000003,450.52,450.96260000000001,404.87430000000001,405.89680000000004,424.61270000000002,484.21610000000004,508.47290000000004,566.0077,604.41870000000006,655.37070000000006,618.11189999999999,569.05520000000001,490.14610000000005,460.92870000000005,458.29970000000003,451.14420000000001,451.60330000000005,482.07420000000002,501.99190000000004,556.55430000000001,594.96030000000007,594.53499999999997,588.96870000000001,503.9855,456.25,448.08,446.67930000000001,430.15320000000003,427.79130000000004,443.1019,463.12,498.18,494.85580000000004,492.04670000000004,491.79450000000003,476.92610000000002,477.35790000000003,480.21900000000005,476.57499999999999,471.62290000000002,479.15230000000003,498.96550000000002,523.13350000000003,546.35430000000008,558.99450000000002,587.93770000000006,597.59130000000005,514.99840000000006,488.8648,491.06710000000004,498.14600000000002,480.87869999999998,466.46429999999998,500.11130000000003,533.66610000000003,543.49270000000001,544.4461,542.45000000000005,538.98389999999995,446.37259999999998,394.16640000000001,404.29939999999999,415.15730000000002,421.41160000000002,473.29629999999997,499.339,null,"ES",4.6900000000000004]
["FR",16.2,17.91,17.89,17.739999999999998,17.78,548.7097,529.82140000000004,542.09680000000003,553.9,526.03230000000008,481.4667,484.25810000000001,544.38710000000003,568.79999999999995,568.51610000000005,566.36670000000004,567.35480000000007,562.06450000000007,538.58620000000008,562.51610000000005,558.5,552.45159999999998,544.53330000000005,562.96770000000004,568.09680000000003,569.4,565.32260000000008,574.96670000000006,601.96770000000004,610.51610000000005,590,586.67740000000003,601.03330000000005,587.64520000000005,575.26670000000001,562.7097,553,558.86670000000004,559.83870000000002,587.53330000000005,608.51610000000005,612.22580000000005,584.5,592.93550000000005,598.20000000000005,570.48390000000006,550.29999999999995,547.83870000000002,556.48390000000006,570.13330000000008,580.22580000000005,603.5,610.51610000000005,597.54840000000002,581.46429999999998,595.93550000000005,623.5,627.12900000000002,607.43330000000003,592.25810000000001,588.77420000000006,604.20000000000005,625.61290000000008,635.20000000000005,645.25810000000001,639.12900000000002,633.2414,625.06450000000007,629.6,611.22580000000005,581.79999999999995,581.03229999999996,598.90319999999997,620.36670000000004,632.32259999999997,638.16669999999999,630,602.16129999999998,556.96429999999998,578.16129999999998,620.43330000000003,619.67740000000003,611.5,636.06449999999995,null,"FR",17.739999999999998]
["CY",null,null,null,0.43,0.54,null,null,null,null,null,null,null,null,null,null,null,null,null,null,null,null,null,null,null,null,null,null,null,null,null,null,null,null,null,null,null,null,null,null,null,null,null,null,null,null,null,null,null,null,null,null,null,null,null,null,null,null,null,null,null,null,null,null,null,null,null,null,null,null,null,null,null,null,null,null,null,null,481.93549999999999,456.67860000000002,493.77420000000001,483.66669999999999,482.54840000000002,479.76670000000001,481.83870000000002,null,"CY",0.43]
["NL",2.14,2.3199999999999998,2.3199999999999998,2.19,2.29,370.60580000000004,355.38040000000001,368.78680000000003,379.57400000000001,394.93740000000003,403.94670000000002,393.98420000000004,388.34550000000002,417.87400000000002,424.41419999999999,431.26800000000003,416.50030000000004,421.02870000000001,426.67099999999999,448.74160000000001,462.928,485.03,483.98900000000003,481.07810000000001,471.64580000000001,445.17130000000003,430.50870000000003,423.08100000000002,430.23160000000001,428.91030000000001,445.59110000000004,473.87610000000001,501.16800000000001,498.03810000000004,491.78930000000003,466.50870000000003,438.14770000000004,427.68030000000005,432.06130000000002,441.84200000000004,447.79230000000001,458.9803,455.57249999999999,490.93680000000001,511.02800000000002,503.38840000000005,459.64530000000002,438.02230000000003,442.59190000000001,444.95699999999999,451.55190000000005,453.85730000000001,446.57480000000004,448.55450000000002,457.94640000000004,494.83390000000003,537.92230000000006,556.72940000000006,538.03570000000002,516.30320000000006,495.67900000000003,510.76870000000002,524.1123,518.58730000000003,501.5797,487.03550000000001,485.41660000000002,547.95420000000001,585.33870000000002,567.2681,565.82669999999996,575.01160000000004,560.1884,556.64229999999998,547.08550000000002,512.76750000000004,490.11130000000003,468.99520000000001,466.78109999999998,494.75650000000002,503.88900000000001,512.55939999999998,533.197,547.60350000000005,null,"NL",2.19]
["AT",0.86,1.28,1.28,1.28,1.33,467.80650000000003,466.5,464.87100000000004,468.26670000000001,464.22580000000005,464,462.12900000000002,460.32260000000002,459.4667,459.90320000000003,459.7,463.25810000000001,463.83870000000002,463.41380000000004,467.67740000000003,467.7,467.2903,465.0333,465.35480000000001,463.96770000000004,463,464.06450000000001,493.63330000000002,490.4194,509.48390000000001,504.96430000000004,504.48390000000001,506.5,496.35480000000001,498.0333,492.54840000000002,488.06450000000001,496.9667,496.93550000000005,505.9667,513.2903,503.48390000000001,500,510.2903,512.56669999999997,494.51610000000005,496.43330000000003,481.32260000000002,491,479.9667,505.09680000000003,502.23330000000004,502.38710000000003,510.61290000000002,503.03570000000002,511.38710000000003,516.1,501.96770000000004,507.76670000000001,494.87100000000004,495.5806,519.63330000000008,516.7097,526.06669999999997,535.61290000000008,522.64520000000005,526.10340000000008,532.35480000000007,538.9,526.25810000000001,528,511.67739999999998,519.90319999999997,523.9,527.67740000000003,538.5,537.06449999999995,540.61289999999997,529.28570000000002,538.80650000000003,533.13329999999996,522.4194,516.96669999999995,513.45159999999998,null,"AT",1.28]
["PL",0.14000000000000001,0.17,0.17,0.12,0.12,312.24830000000003,303.15600000000001,327.26190000000003,339.36360000000002,311.64940000000001,302.42680000000001,293.91660000000002,292.93360000000001,315.17320000000001,301.7962,322.71940000000001,381.83140000000003,370.97140000000002,346.21610000000004,368.78210000000001,356.78500000000003,316.25060000000002,304.8646,319.74900000000002,333.84680000000003,325.41040000000004,307.74270000000001,294.51150000000001,274.59350000000001,303.29000000000002,321.37310000000002,322.75740000000002,330.4468,334.9778,327.24029999999999,320.0378,320.41570000000002,321.40249999999997,330.23900000000003,328.86180000000002,411.3107,422.38320000000004,382.07010000000002,401.89940000000001,373.0351,340.1968,321.71520000000004,316.49420000000003,319.4076,336.32510000000002,331.05150000000003,327.75409999999999,394.12490000000003,421.69589999999999,358.3184,391.42930000000001,415.53800000000001,410.3655,392.54400000000004,393.87710000000004,365.04500000000002,376.56200000000001,345.9511,368.36400000000003,448.3956,423.76780000000002,420.52450000000005,413.05190000000005,417.4828,394.05919999999998,379.20780000000002,376.88080000000002,388.25389999999999,378.41289999999998,382.8399,392.50920000000002,411.1223,366.45850000000002,358.92930000000001,362.50799999999998,373.70080000000002,365.94290000000001,353.76089999999999,357.63380000000001,null,"PL",0.12]
["RO",13.15,7.52,7.51,7.47,7.34,null,null,null,null,null,null,null,null,null,null,null,180.78730000000002,175.00050000000002,174.36490000000001,178.2978,184.27380000000002,218.8219,191.7851,182.90890000000002,194.37010000000001,187.381,188.59700000000001,185.37130000000002,199.2604,179.25890000000001,189.97220000000002,189.1859,185.60070000000002,170.5591,181.42700000000002,188.82749999999999,195.31190000000001,200.053,182.92750000000001,165.6276,165.4819,168.7355,169.8228,175.16249999999999,181.77809999999999,188.52930000000001,201.87310000000002,210.97410000000002,212.76760000000002,208.8237,182.8417,185.6808,194.03320000000002,182.34450000000001,254.14700000000002,236.61110000000002,244.23100000000002,246.50300000000001,246.64360000000002,252.92620000000002,243.76430000000002,226.66850000000002,225.41,226.15720000000002,230.9838,236.71950000000001,234.4435,238.72320000000002,221.3322,233.97839999999999,241.11750000000001,239.0446,233.45599999999999,225.85249999999999,241.8305,229.75489999999999,235.57560000000001,242.53980000000001,243.06020000000001,241.12119999999999,247.81649999999999,246.95849999999999,228.87870000000001,229.6711,null,"RO",7.47]
["SE",0.56000000000000005,0.94,0.94,0.95,0.97,319.3168,342.47720000000004,367.31700000000001,378.91380000000004,395.6266,393.3963,389.0145,355.2758,324.47290000000004,308.29669999999999,286.7903,302.73950000000002,322.14879999999999,354.60980000000001,379.21690000000001,399.49549999999999,427.09790000000004,414.4119,388.01859999999999,352.91970000000003,315.7389,296.13229999999999,279.25920000000002,262.93299999999999,272.726,296.18130000000002,312.92110000000002,344.44110000000001,376.26150000000001,360.8229,343.2389,335.22130000000004,305.54349999999999,271.84550000000002,264.37830000000002,264.94229999999999,284.4049,304.68490000000003,349.88130000000001,391.61720000000003,425.07400000000001,429.45180000000005,416.38920000000002,398.83570000000003,372.64730000000003,333.2287,318.85470000000004,343.34190000000001,368.15540000000004,395.08860000000004,423.54540000000003,436.2045,477.755,466.99690000000004,441.5197,427.58640000000003,376.69310000000002,336.3032,332.45400000000001,370.3399,398.10580000000004,409.67360000000002,446.41830000000004,506.83789999999999,531.06669999999997,526.92909999999995,520.09609999999998,494.67970000000003,415.71379999999999,364.35140000000001,370.03050000000002,402.79309999999998,431.67,490.17579999999998,530.21839999999997,544.79579999999999,558.77700000000004,553.05809999999997,542.27059999999994,null,"SE",0.95]
["GB",92.87,92.87,92.87,92.87,92.87,344.53309999999999,362.63800000000003,377.84620000000001,365.75480000000005,368.78270000000003,393.19140000000004,384.53320000000002,365.6062,330.69920000000002,299.89590000000004,279.71080000000001,278.48670000000004,310.84520000000003,359.78590000000003,398.17360000000002,409.59690000000001,469.55450000000002,447.38120000000004,371.20249999999999,358.32920000000001,366.40649999999999,350.12740000000002,326.43360000000001,318.67500000000001,370.464,415.78050000000002,411.40840000000003,456.6121,473.3304,445.60920000000004,367.26530000000002,374.54360000000003,361.51990000000001,355.46430000000004,390.50300000000004,427.3646,476.09380000000004,472.12960000000004,456.60490000000004,493.52810000000005,509.94200000000001,478.68470000000002,425.71720000000005,446.09910000000002,430.17650000000003,401.19810000000001,420.98420000000004,456.68890000000005,465.01210000000003,470.93380000000002,512.06920000000002,578.42129999999997,613.38470000000007,516.43290000000002,473.48930000000001,457.0677,437.92320000000001,440.43400000000003,477.94440000000003,539.22680000000003,533.55430000000001,527.63279999999997,540.55730000000005,555.45410000000004,533.33299999999997,522.17920000000004,528.88959999999997,529.26229999999998,497.28559999999999,451.91579999999999,435.9794,429.00279999999998,400.17090000000002,413.54910000000001,498.2097,542.64570000000003,577.05820000000006,575.95640000000003,533.71180000000004,null,"GB",92.87]
["NI",7.13,7.13,7.13,7.13,7.13,320.34989999999999,342.6397,349.68040000000002,358.74530000000004,338.17880000000002,348.4871,335.5659,342.48310000000004,326.38730000000004,311.77770000000004,306.43680000000001,295.053,308.41410000000002,350.73920000000004,366.24310000000003,387.3329,445.52850000000001,399.0693,343.77870000000001,326.97649999999999,316.2373,304.1542,296.78270000000003,291.84780000000001,343.54390000000001,376.62240000000003,392.68970000000002,433.23830000000004,446.49450000000002,392.62139999999999,330.5521,318.07749999999999,304.7115,300.23390000000001,332.49130000000002,372.75400000000002,421.2876,424.20670000000001,436.28320000000002,469.27020000000005,491.512,430.14850000000001,380.82769999999999,403.72840000000002,378.94490000000002,376.07,410.85509999999999,435.67760000000004,433.04150000000004,439.29170000000005,491.16910000000001,549.88890000000004,591.33760000000007,468.44440000000003,438.59100000000001,426.27760000000001,411.88339999999999,423.03700000000003,447.07870000000003,463.31870000000004,477.71290000000005,481.1103,500.35830000000004,506.166,439.18079999999998,446.21940000000001,436.35090000000002,435.82470000000001,400.62090000000001,382.07499999999999,383.3596,375.072,362.24549999999999,383.7851,458.16180000000003,495.93959999999998,552.62869999999998,501.92169999999999,463.41320000000002,null,"NI",7.13]
["UK",43.96,49.57,49.51,49.25,48.16,342.80880000000002,361.21210000000002,375.83800000000002,365.255,366.60060000000004,390.00400000000002,381.04180000000002,363.95760000000001,330.39179999999999,300.74299999999999,281.61630000000002,279.66790000000003,310.67189999999999,359.14090000000004,395.89690000000002,408.0095,467.84140000000002,443.9366,369.24720000000002,356.09380000000004,362.8295,346.84950000000003,324.31950000000001,316.76220000000001,368.5446,412.98850000000004,410.07370000000003,454.94550000000004,471.41700000000003,441.83120000000002,364.64770000000004,370.51749999999998,357.46950000000004,351.52640000000002,386.36680000000001,423.47090000000003,472.18620000000004,468.71270000000004,455.15590000000003,491.79850000000005,508.62790000000001,475.22410000000002,422.51660000000004,443.07800000000003,426.52370000000002,399.40640000000002,420.262,455.19080000000002,462.73260000000005,468.67780000000005,510.57900000000001,576.38690000000008,611.81270000000006,513.01139999999998,471.00100000000003,454.87240000000003,436.06659999999999,439.1936,475.74370000000005,533.81460000000004,529.57280000000003,524.31580000000008,537.69110000000001,551.93979999999999,526.61990000000003,516.76329999999996,522.29160000000002,522.60019999999997,490.39350000000002,446.93610000000001,432.2276,425.15750000000003,397.46679999999998,411.42700000000002,495.35430000000002,539.31560000000002,575.31640000000004,570.67780000000005,528.69949999999994,null,"UK",49.25]
["EU_H",{"$f":"SUM(B9:B24)-B22-B23","v":100},{"$f":"SUM(C9:C24)-C22-C23","v":100},{"$f":"SUM(D9:D24)-D22-D23","v":100},{"$f":"SUM(E9:E24)-E22-E23","v":100},{"$f":"SUM(F9:F24)-F22-F23","v":99.929999999999978},{"$f":"+(G9*$B$9+G11*$B$11+G13*$B$13+G14*$B$14+G15*$B$15+G17*$B$17+G18*$B$18+G19*$B$19+G21*$B$21+G24*$B$24)/86.85","v":387.68423523316068},398.24180648244101,410.88742161197473,412.85083795048939,403.63075464594129,402.21615004029945,397.27795615428909,403.82302632124356,396.01226177317216,386.42466572251016,377.98805548647096,{"$f":"+(R9*$B$9+R11*$B$11+R13*$B$13+R14*$B$14+R15*$B$15+R17*$B$17+R18*$B$18+R19*$B$19+R20*$B$20+R21*$B$21+R24*$B$24)/100","v":350.15962269000011},357.16046965000004,376.1034641,401.7440629300001,406.04536840000003,438.01537671,420.68771886000002,387.55538637000006,383.35460057000006,389.91638193,384.21817546,378.2943209799999,379.38605469000004,401.19557357999997,415.06648164000001,413.65999786999998,440.96675644000004,445.06285354000005,426.65387689000011,386.11335616000002,386.32038251000006,386.51553251000007,383.50414717000001,402.92752250999996,426.49067088000004,447.80024975999999,438.46710594999996,439.89847951999997,462.68013156000001,463.75043304000008,441.51632261000009,413.49358786000005,426.41798924,422.47099074999988,409.06328768999998,424.94011690999997,445.13165427000007,{"$f":"+(BC9*$C$9+BC11*$C$11+BC13*$C$13+BC14*$C$14+BC15*$C$15+BC17*$C$17+BC18*$C$18+BC19*$C$19+BC20*$C$20+BC21*$C$21+BC24*$C$24)/100","v":461.88207695000006},468.67511943000005,497.33368249,546.25506890000008,566.05400405000012,503.8701048499999,474.23139238999994,465.51264471999997,458.52720318000001,464.98144991999999,488.66342929000007,521.82971981000014,{"$f":"+(BO9*$D$9+BO11*$D$11+BO12*$D$12+BO13*$D$13+BO14*$D$14+BO15*$D$15+BO17*$D$17+BO18*$D$18+BO19*$D$19+BO20*$D$20+BO21*$D$21+BO24*$D$24)/100","v":517.88045783000007},512.48946479000006,524.10005795999996,535.92772398,514.09974138999996,499.27152819999998,500.83276845,505.33034376999996,491.85003662999998,473.07427758000006,462.45813579999992,458.17379786999999,{"$f":"+(CA9*$E$9+CA10*$E$10+CA11*$E$11+CA12*$E$12+CA13*$E$13+CA14*$E$14+CA15*$E$15+CA16*$E$16+CA17*$E$17+CA18*$E$18+CA19*$E$19+CA20*$E$20+CA21*$E$21+CA24*$E$24)/(100-0.26)","v":433.56334280128328},{"$f":"+(CB9*$E$9+CB10*$E$10+CB11*$E$11+CB12*$E$12+CB13*$E$13+CB14*$E$14+CB15*$E$15+CB16*$E$16+CB17*$E$17+CB18*$E$18+CB19*$E$19+CB20*$E$20+CB21*$E$21+CB24*$E$24)/(100-0.26)","v":432.1791878283538},{"$f":"+(CC9*$E$9+CC10*$E$10+CC11*$E$11+CC12*$E$12+CC13*$E$13+CC14*$E$14+CC15*$E$15+CC16*$E$16+CC17*$E$17+CC18*$E$18+CC19*$E$19+CC20*$E$20+CC21*$E$21+CC24*$E$24)/(100)","v":485.81097869569277},{"$f":"+(CD9*$E$9+CD10*$E$10+CD11*$E$11+CD12*$E$12+CD13*$E$13+CD14*$E$14+CD15*$E$15+CD16*$E$16+CD17*$E$17+CD18*$E$18+CD19*$E$19+CD20*$E$20+CD21*$E$21+CD24*$E$24)/(100)","v":519.00174858000003},{"$f":"+(CE9*$E$9+CE10*$E$10+CE11*$E$11+CE12*$E$12+CE13*$E$13+CE14*$E$14+CE15*$E$15+CE16*$E$16+CE17*$E$17+CE18*$E$18+CE19*$E$19+CE20*$E$20+CE21*$E$21+CE24*$E$24)/(100)","v":538.18928730000005},{"$f":"+(CF9*$E$9+CF10*$E$10+CF11*$E$11+CF12*$E$12+CF13*$E$13+CF14*$E$14+CF15*$E$15+CF16*$E$16+CF17*$E$17+CF18*$E$18+CF19*$E$19+CF20*$E$20+CF21*$E$21+CF24*$E$24)/(100)","v":533.23426657000005},{"$f":"+(CG9*$F$9+CG10*$F$10+CG11*$F$11+CG12*$F$12+CG13*$F$13+CG14*$F$14+CG15*$F$15+CG16*$F$16+CG17*$F$17+CG18*$F$18+CG19*$F$19+CG20*$F$20+CG21*$F$21+CG24*$F$24)/$F$25","v":516.86802793955781},null,"EU_H",100]
["EU_H 25",{"$f":"+B9+B11+B13+B14+B15+B17+B18+B19+B21+B24","v":86.85},{"$f":"+C9+C11+C13+C14+C15+C17+C18+C19+C21+C24","v":92.48},{"$f":"+D9+D11+D12+D13+D14+D15+D17+D18+D19+D21+D24","v":92.49},{"$f":"+E9+E10+E11+E12+E13+E14+E15+E16+E17+E18+E19+E21+E24","v":92.53},{"$f":"+F9+F10+F11+F12+F13+F14+F15+F16+F17+F18+F19+F21+F24","v":92.59},{"$f":"+(G9*$B$9+G11*$B$11+G13*$B$13+G14*$B$14+G15*$B$15+G17*$B$17+G18*$B$18+G19*$B$19+G21*$B$21+G24*$B$24)/$B$26","v":387.68423523316068},398.24180648244101,410.88742161197473,412.85083795048939,403.63075464594129,402.21615004029945,397.27795615428909,403.82302632124356,396.01226177317216,386.42466572251016,377.98805548647096,375.80436700057578,384.74139769717902,406.64879648819812,435.57616837075426,439.62390754173862,471.20356575705244,455.34597375935522,418.54100865860681,411.96883410477841,420.58236088658612,413.83727111111114,407.50488777202071,406.6589661370179,434.79911137593552,449.14811438111695,447.64772829015544,479.63185306850903,486.62559803108815,463.78379549798518,415.98450191134145,415.24106811744389,414.74791365572838,413.87355316062178,438.85721716753022,466.01013359815778,490.05357686816359,479.14266868163503,479.98228067933223,505.21164238341976,505.42179630397237,477.80081745538291,444.15716028785266,458.76689676453657,454.81942913068502,443.3156063788141,461.16648440990218,483.15059121473814,{"$f":"+(BC9*$C$9+BC11*$C$11+BC13*$C$13+BC14*$C$14+BC15*$C$15+BC17*$C$17+BC18*$C$18+BC19*$C$19+BC21*$C$21+BC24*$C$24)/$C$26","v":484.61264116565746},486.11944748053634,518.53430770977513,570.81411948529421,592.03825524437718,524.78644693987883,492.22679730752589,483.54408451557089,477.38076554930797,484.46217335640137,510.00909153330451,545.47982055579587]
[null,null,null,null,null,null,null,null,null,null,null,null,null,null,null,null,null,null,null,null,null,null,null,null,null,null,null,null,null,null,{"$f":"+(AE25/S25)-1","v":0.12329221084615605},0.10359653993944695,2.9660512847643705E-2,8.6003660570260543E-2,1.608956489823421E-2,1.4181916330163968E-2,-3.7208364551624129E-3,7.7363932390279722E-3,-8.7219967603476833E-3,-1.8583927976471015E-3,6.5116498355528796E-2,0.12416011502713142,0.11616448248451783,5.6378014956881106E-2,6.3430067652434419E-2,4.9240390126674694E-2,4.1988630035870722E-2,3.4834901368614224E-2,7.0912417980832698E-2,0.10379366076798191,9.3024614060159605E-2,6.6646321059652402E-2,5.4631647555060558E-2,4.3707833870169077E-2,3.1446671138632087E-2,6.8894594531898168E-2,0.13056467717885978,0.18063221573447263,0.22060048621275574,0.14122644859741262,0.14688935043550022,9.1681534237516349E-2,8.5346007701003757E-2,0.13669807072096973,0.14995833493757038,0.17230422686021307,0.12123956237873679,9.3485537302015809E-2,5.3819752034466539E-2,-1.8905719155698386E-2,-9.1783226137926888E-2,-9.1265121818824291E-3,5.6093663318946829E-2,8.5535161078062361E-2,7.2673623765172168E-2,1.7404624768132981E-2,-5.36264674605893E-2,-0.12198600333299814,-0.16281192648592813,-0.15670620076952124,-7.3056811734276583E-2,-3.158257101219053E-2,4.6857728122694287E-2,6.8024584723355597E-2,3.2017193162469093E-2]
[]
["LIGHT LAMBS",null,null,null,null,null,null,null,null,null,null,null,null,null,null,null,null,null,null,null,null,null,null,null,null,null,null,null,null,null,null,null,null,null,null,null,null,null,null,null,null,null,null,null,null,null,null,null,null,null,null,null,null,null,null,null,null,null,null,null,null,null,null,null,null,null,null,null,null,null,null,null,null,null,null,null,null,null,null,null,null,null,null,null,null,null,"LIGHT LAMBS"]
[null,null,null,null,null,null,"Month beginning"]
[null,null,null,null,null,null,"2007-01-01","2007-02-01","2007-03-01","2007-04-01","2007-05-01","2007-06-01","2007-07-01","2007-08-01","2007-09-01","2007-10-01","2007-11-01","2007-12-01","2008-01-01","2008-02-01","2008-03-01","2008-04-01","2008-05-01","2008-06-01","2008-07-01","2008-08-01","2008-09-01","2008-10-01","2008-11-01","2008-12-01","2009-01-01","2009-02-01","2009-03-01","2009-04-01","2009-05-01","2009-06-01","2009-07-01","2009-08-01","2009-09-01","2009-10-01","2009-11-01","2009-12-01","2010-01-01","2010-02-01","2010-03-01","2010-04-01","2010-05-01","2010-06-01","2010-07-01","2010-08-01","2010-09-01","2010-10-01","2010-11-01","2010-12-01","2011-01-01","2011-02-01","2011-03-01","2011-04-01","2011-05-01","2011-06-01","2011-07-01","2011-08-01","2011-09-01","2011-10-01","2011-11-01","2011-12-01","2012-01-01","2012-02-01","2012-03-01","2012-04-01","2012-05-01","2012-06-01","2012-07-01","2012-08-01","2012-09-01","2012-10-01","2012-11-01","2012-12-01","2013-01-01","2013-02-01","2013-03-01","2013-04-01","2013-05-01","2013-06-01","2013-07-01"]
[null,"Weights (%)","Weights (%)","Weights (%)","Weights (%)","Weights (%)",null,null,null,null,null,null,null,null,null,null,null,null,null,null,null,null,null,null,null,null,null,null,null,null,null,null,null,null,null,null,null,null,null,null,null,null,null,null,null,null,null,null,null,null,null,null,null,null,null,null,null,null,null,null,null,null,null,null,null,null,null,null,null,null,null,null,null,null,null,null,null,null,null,null,null,null,null,null,null,null,null,"Weights (%)"]
["BG",null,4.7699999999999996,4.7699999999999996,5.86,3.71,null,null,null,null,null,null,null,null,null,null,null,null,null,null,null,null,null,null,null,null,null,null,null,null,null,null,null,null,null,null,null,null,null,null,null,null,null,null,null,null,null,null,null,null,null,null,null,540.16770000000008,551.46429999999998,570.51900000000001,562.73910000000001,548.94690000000003,532.24189999999999,532.32450000000006,532.36689999999999,532.31450000000007,530.94560000000001,527.19080000000008,527.42050000000006,527.74099999999999,528.24959999999999,529.31259999999997,559.33270000000005,563.69090000000006,563.69820000000004,563.18809999999996,563.0616,563.1241,564.79690000000005,565.72479999999996,566.04110000000003,566.3492,564.75400000000002,561.45899999999995,558.74620000000004,551.10410000000002,550.64570000000003,553.58420000000001,567.96579999999994,null,"BG",5.86]
["GR",23.21,31.88,31.88,33.75,34.68,472.9135,477.1044,504.65530000000001,518.90549999999996,476.89280000000002,485.17849999999999,552.72670000000005,616.99519999999995,602.68910000000005,540.45849999999996,505.54919999999998,498.39389999999997,479.44709999999998,444.62060000000002,443.34010000000001,492.79739999999998,504.04500000000002,493.68700000000001,533.92840000000001,580.99120000000005,587.68449999999996,572.53150000000005,526.12170000000003,518.29859999999996,505.37580000000003,475.08109999999999,466.63189999999997,523.29250000000002,525.72209999999995,531.04650000000004,563.15650000000005,610.64559999999994,625.10270000000003,598.04920000000004,528.74670000000003,534.62549999999999,512.95069999999998,516.47749999999996,539.21749999999997,563.41819999999996,506.47430000000003,515.11839999999995,552.83029999999997,607.49829999999997,603.87829999999997,574.38,517.33389999999997,517.20719999999994,486.18400000000003,477.68740000000003,481.70960000000002,581.77780000000007,560.20069999999998,555.69850000000008,589.80460000000005,613.71940000000006,638.84749999999997,596.74030000000005,533.8963,538.42790000000002,485.5754,485.12700000000001,493.71870000000001,535.18340000000001,508.36610000000002,505.38389999999998,539.42589999999996,552.63059999999996,562.76430000000005,529.82629999999995,535.9375,526.92939999999999,497.30149999999998,455.14510000000001,443.13929999999999,483.57889999999998,502.03789999999998,478.94080000000002,509.85180000000003,null,"GR",33.75]
["ES",52.3,35.6,35.6,39.549999999999997,39.03,526.99350000000004,573.85680000000002,597.56679999999994,579.22,503.79969999999997,496.37,539.1377,567.22130000000004,613.69529999999997,713.05229999999995,797.38030000000003,767.5616,693.89229999999998,608.97519999999997,606.14390000000003,543.66930000000002,503.8784,524.50900000000001,594.9239,624.21259999999995,690.45129999999995,766.12480000000005,884.85699999999997,852.22389999999996,814.78229999999996,685.42,595.29449999999997,569.02030000000002,572.33159999999998,579.26400000000001,657.47770000000003,693.00549999999998,772.31299999999999,822.6277,835.00400000000002,836.96579999999994,740.73969999999997,629.80499999999995,618.62,611.37469999999996,571.59130000000005,562.61599999999999,604.26130000000001,642.51520000000005,684.63170000000002,695.27419999999995,690.97829999999999,695.25450000000001,658.43320000000006,632.01570000000004,652.78680000000008,638.26300000000003,627.13580000000002,633.99130000000002,648.03770000000009,679.1223,720.70630000000006,775.06970000000001,806.68100000000004,814.06770000000006,743.79970000000003,699.40100000000007,687.23,683.20500000000004,636.88610000000006,602.79830000000004,654.11770000000001,718.91610000000003,782.58399999999995,784.54840000000002,792.02250000000004,747.00289999999995,706.76900000000001,615.15639999999996,606.69190000000003,612.09100000000001,639.24810000000002,706.78700000000003,750.83900000000006,null,"ES",39.549999999999997]
["HR",null,null,null,null,1.39,null,null,null,null,null,null,null,null,null,null,null,null,null,null,null,null,null,null,null,null,null,null,null,null,null,null,null,null,null,null,null,null,null,null,null,null,null,null,null,null,null,null,null,null,null,null,null,null,null,null,null,null,null,null,null,null,null,null,null,null,null,null,null,null,null,null,null,null,null,null,null,null,null,null,null,null,null,null,595.80935161290324]
["IT",19.37,18.66,18.66,12.51,12.51,659.58230000000003,572.41070000000002,613.06610000000001,647.01030000000003,646.9194,665.4,662.53290000000004,658.86,579.81370000000004,715.33349999999996,719.05129999999997,724.98479999999995,703.12710000000004,589.26239999999996,691.63520000000005,561.82169999999996,554.78030000000001,613.12699999999995,612.62419999999997,622.91999999999996,666.70500000000004,665.35609999999997,663.13469999999995,598.79650000000004,530.78679999999997,552.16890000000001,568.16650000000004,603.06870000000004,567.99770000000001,604.01930000000004,634.86099999999999,644.89970000000005,694.20500000000004,666.49869999999999,625.46529999999996,658.00710000000004,557.63260000000002,475.6,520.75059999999996,507.49869999999999,492.84059999999999,517.08330000000001,512.85230000000001,518.09320000000002,541.69029999999998,549.82000000000005,563.31730000000005,545.58029999999997,469.55710000000005,454.27820000000003,465.25450000000001,542.01769999999999,508.0335,510.26930000000004,511.88160000000005,513.64870000000008,515.36469999999997,518.19000000000005,575.98770000000002,598.28550000000007,602.08550000000002,604.50340000000006,605.49680000000001,607.16369999999995,605.09550000000002,603.66970000000003,603.65610000000004,604.1,604.52930000000003,605.55939999999998,608.08000000000004,610.80420000000004,611.97130000000004,611.73929999999996,645.16319999999996,588.30600000000004,577.48900000000003,575.45069999999998,589.50580000000002,null,"IT",12.51]
["CY",0.93,0.92,0.92,null,null,626.0761,613.84540000000004,591.55510000000004,576.56979999999999,491.76830000000001,443.87779999999998,408.51069999999999,434.83780000000002,490.24310000000003,481.33089999999999,452.52760000000001,593.54520000000002,536.35479999999995,459.44830000000002,480.90320000000003,523.96669999999995,461.51609999999999,419.9667,428.35480000000001,467.67739999999998,543.1,627.45159999999998,720.93330000000003,802.45159999999998,938.7097,906.07140000000004,735.35479999999995,641.66669999999999,641.5806,698.43330000000003,727.51610000000005,724.12900000000002,746.73329999999999,780.38710000000003,842.8,868.54840000000002,819.06449999999995,751.25,745.12900000000002,740.3,709.7097,636.86670000000004,564.83870000000002,609.51610000000005,627.4,630.54840000000002,652.23329999999999,693.87099999999998,670.12900000000002,584.89290000000005,548.51610000000005,533.56669999999997,529.38710000000003,504.4667,493.90320000000003,476,484.5,539.51610000000005,613.1,647.77420000000006,560.12900000000002,458.03450000000004,444.38710000000003,494.06670000000003,562.67740000000003,547.16669999999999,475.4194,467.03230000000002,469.2,493.93549999999999,548.25,536,null,null,null,null,null,null,null,null,"CY"]
["HU",0.26,0.28999999999999998,0.28999999999999998,0.38,0.44,523.68470000000002,509.16140000000001,552.03869999999995,570.33699999999999,435.05599999999998,413.06869999999998,463.75850000000003,491.20639999999997,524.27250000000004,530.81389999999999,601.01589999999999,645.99659999999994,594.96029999999996,532.43320000000006,574.55110000000002,438.13470000000001,407.99939999999998,416.26069999999999,460.05309999999997,516.9914,542.97969999999998,526.55319999999995,586.98289999999997,648.91430000000003,600.4873,547.50670000000002,464.22730000000001,470.27640000000002,471.45080000000002,442.71499999999997,504.70089999999999,545.98149999999998,556.92269999999996,571.92499999999995,619.18430000000001,676.22580000000005,621.69389999999999,544.55200000000002,524.65679999999998,530.6087,491.92160000000001,471.38409999999999,503.70870000000002,564.9425,577.89670000000001,584.69389999999999,618.08579999999995,662.32370000000003,593.60310000000004,575.79079999999999,592.54360000000008,624.36540000000002,633.8143,626.42899999999997,598.4991,625.51690000000008,632.6875,656.72969999999998,690.98300000000006,742.68970000000002,650.69090000000006,594.68460000000005,600.07850000000008,607.9873,588.83540000000005,575.35950000000003,603.29489999999998,646.89829999999995,651.84169999999995,675.11329999999998,695.83839999999998,693.87580000000003,592.2432,527.39800000000002,566.85310000000004,566.63710000000003,521.34839999999997,531.2473,576.95399999999995,null,"HU",0.38]
["PT",3.64,6.88,6.88,7,7.22,435.51609999999999,408,394.77420000000001,383.4,362.32260000000002,352,348,348,358.73329999999999,377.74189999999999,378.4,457.22579999999999,428.09679999999997,396,414.77420000000001,401.42,362.70319999999998,347.6,336.54840000000002,335.25810000000001,363.4,423.77420000000001,464.06670000000003,488.74189999999999,473.74189999999999,447.78570000000002,423.87099999999998,418.13330000000002,410.5806,380,386.7097,393.38709999999998,432.8,462.32260000000002,488.43329999999997,496,493.2903,468,441.48390000000001,430.06670000000003,393.12900000000002,380,383.35480000000001,388,398.93329999999997,431.61290000000002,432,445.16129999999998,466.12900000000002,466.57140000000004,452.80650000000003,446.8,415.16130000000004,403,404.4452,405.31610000000001,412,457.2903,478.9,485,478.61290000000002,456,461.4194,447.0333,421,408.66669999999999,388.96769999999998,397.54840000000002,404.66669999999999,428.32260000000002,468,486.03230000000002,453.80650000000003,425.78570000000002,420.54840000000002,429.8,401.83870000000002,419.4,414.09679999999997,null,"PT",7]
["SI",0.26,0.59,0.59,0.59,0.62,400.96230000000003,421.2636,418.52769999999998,417.86270000000002,416.49650000000003,411.53100000000001,426.66680000000002,415.93060000000003,405.97070000000002,402.72390000000001,413.48669999999998,412.95479999999998,401.08580000000001,406.14760000000001,426.53870000000001,431.21230000000003,470.17770000000002,424.90600000000001,420.40870000000001,414.45260000000002,424.89569999999998,423.45519999999999,404.19799999999998,412.29289999999997,414.07420000000002,411.35930000000002,413.03100000000001,408.49599999999998,418.3116,415.23129999999998,415.48939999999999,415.83519999999999,424.59429999999998,411.0258,411.04500000000002,414.13260000000002,417.88479999999998,395.81,406.04649999999998,405.51029999999997,407.54349999999999,403.59699999999998,408.90679999999998,409.79770000000002,404.93630000000002,405.40230000000003,410.46,414.63679999999999,415.79840000000002,408.25210000000004,409.6481,407.04770000000002,410.51580000000001,402.23570000000001,405.55840000000001,397.75260000000003,392.69800000000004,403.65160000000003,388.85500000000002,402.14060000000001,404.66320000000002,402.78700000000003,411.59770000000003,417.91370000000001,405.5761,404.87099999999998,402.43419999999998,414.7826,398.00790000000001,394.73660000000001,389.97500000000002,402.76429999999999,403.34030000000001,410.6721,408.86059999999998,417.62900000000002,412.42059999999998,406.10669999999999,419.33710000000002,null,"SI",0.59]
["SK",0.03,0.41,0.41,0.36,0.4,416.2269,354.5145,400.00439999999998,466.40519999999998,358.7285,351.62860000000001,340.89620000000002,333.81779999999998,320.55739999999997,247.4341,255.4572,508.89019999999999,601.43870000000004,608.12990000000002,569.29300000000001,467.71839999999997,351.79770000000002,366.95420000000001,363.14949999999999,360.4821,363.92290000000003,317.77140000000003,326.8503,470.64769999999999,488.8313,365.25,375.84899999999999,405.14499999999998,342.30189999999999,325.995,305.69970000000001,373.73649999999998,355.62169999999998,373.47519999999997,310.55829999999997,528.71839999999997,431.36059999999998,354.1225,387.7765,469.69,377.5206,343.19069999999999,369.26229999999998,373.01319999999998,370.71,372.55259999999998,357.88600000000002,324.79000000000002,324.79000000000002,324.79000000000002,324.79000000000002,505.0437,487.55130000000003,460.89,455.82060000000001,454.13710000000003,438.74600000000004,405.85130000000004,388.0967,625.33839999999998,657.41060000000004,482.56620000000004,525.09969999999998,597.10799999999995,494.79390000000001,481.8467,481.86419999999998,476.86970000000002,457.8433,426.23059999999998,423.85329999999999,605.31129999999996,680.47,570.41930000000002,459.09230000000002,448.9033,430.72449999999998,380.262,395.42939999999999,null,"SK",0.36]
["EU_L",{"$f":"SUM(B34:B42)","v":100.00000000000001},{"$f":"SUM(C33:C42)","v":100},{"$f":"SUM(D33:D42)","v":100},100,{"$f":"SUM(F33:F42)","v":100.00000000000001},{"$f":"+(G34*$B$34+G35*$B$35+G37*$B$37+G38*$B$38+G39*$B$39+G40*$B$40+G41*$B$41+G42*$B$42)/100","v":537.34615940000003},{"$f":"+(H34*$B$34+H35*$B$35+H37*$B$37+H38*$B$38+H39*$B$39+H40*$B$40+H41*$B$41+H42*$B$42)/100","v":544.82441180000001},570.92355237000004,570.72302158000002,519.56599263999999,520.28973119,557.47323104999998,586.65240090000009,593.28864819000012,657.65448073999983,694.34471363,682.61042692999979,633.72203870999999,557.14061598000001,576.22603716999993,529.42737976000001,507.86148779000001,526.52110959000004,572.36749580999992,601.05354500999999,647.55260376000001,686.27334214000007,739.61408196000002,710.15042487999995,675.00098389999982,603.02458933999992,554.35946885999999,559.4621175100001,554.69858692999992,565.86539163000009,620.86837394999998,652.75632666000001,708.83071456999994,724.89616192000005,708.97060547000001,718.40111469999999,642.88153476000002,567.95916569999997,575.09590816000002,573.93486478999989,535.32022040000004,536.09895223000001,565.3707566600001,599.82838607999986,626.1705145599999,627.70296417999998,615.14156466999998,{"$f":"+(BB34*$B$34+BB35*$B$35+BB37*$B$37+BB38*$B$38+BB39*$B$39+BB40*$B$40+BB41*$B$41+BB42*$B$42)/100","v":614.89520464999998},{"$f":"+(BC33*$C$33+BC34*$C$34+BC35*$C$35+BC37*$C$37+BC38*$C$38+BC39*$C$39+BC40*$C$40+BC41*$C$41+BC42*$C$42)/100","v":547.06304092000005},{"$f":"+(BD33*$C$33+BD34*$C$34+BD35*$C$35+BD37*$C$37+BD38*$C$38+BD39*$C$39+BD40*$C$40+BD41*$C$41+BD42*$C$42)/100","v":532.15764745000013},541.28664060000006,581.94923448999998,561.73184146999995,561.91269199999999,578.00918098,596.94718173000001,620.48275449000005,630.38204766000001,634.49997078000001,644.69007547000012,{"$f":"+(BO33*$D$33+BO34*$D$34+BO35*$D$35+BO37*$D$37+BO38*$D$38+BO39*$D$39+BO40*$D$40+BO41*$D$41+BO42*$D$42)/100","v":602.19244521000007},583.36005651999994,583.87285312000006,596.00055174999989,568.86839744000008,554.40447603000007,581.56954114999996,609.62526171000002,{"$f":"+(BW33*$D$33+BW34*$D$34+BW35*$D$35+BW37*$D$37+BW38*$D$38+BW39*$D$39+BW40*$D$40+BW41*$D$41+BW42*$D$42)/100","v":636.02859637999995},{"$f":"+(BX33*$D$33+BX34*$D$34+BX35*$D$35+BX37*$D$37+BX38*$D$38+BX39*$D$39+BX40*$D$40+BX41*$D$41+BX42*$D$42)/100","v":628.23743329000001},{"$f":"+(BY33*$D$33+BY34*$D$34+BY35*$D$35+BY37*$D$37+BY38*$D$38+BY39*$D$39+BY40*$D$40+BY41*$D$41+BY42*$D$42)/100","v":636.58365585999991},{"$f":"+(BZ33*$D$33+BZ34*$D$34+BZ35*$D$35+BZ37*$D$37+BZ38*$D$38+BZ39*$D$39+BZ40*$D$40+BZ41*$D$41+BZ42*$D$42)/100","v":620.1495934400001},{"$f":"+(CA33*$E$33+CA34*$E$34+CA35*$E$35+CA37*$E$37+CA39*$E$39+CA40*$E$40+CA41*$E$41+CA42*$E$42)/100","v":595.86496870999997},{"$f":"+(CB33*$E$33+CB34*$E$34+CB35*$E$35+CB37*$E$37+CB39*$E$39+CB40*$E$40+CB41*$E$41+CB42*$E$42)/100","v":542.62149755000007},538.61604343999988,547.50093406999997,560.8658493800001,580.74740766000002,{"$f":"+(CG33*$F$33+CG34*$F$34+CG35*$F$35+CG36*$F$36+CG37*$F$37+CG39*$F$39+CG40*$F$40+CG41*$F$41+CG42*$F$42)/100","v":609.58751686741937},null,"EU_L",100]
[null,null,null,null,null,null,null,null,null,null,null,null,null,null,null,null,null,null,null,null,null,null,null,null,null,null,null,null,null,null,{"$f":"(+AE43/S43)-1","v":6.5137304162605769E-2},8.2356180906485887E-2,-3.7947900475640561E-2,5.6730609141551147E-2,9.2224160063436367E-2,7.4724985045020009E-2,8.4737303384712304E-2,8.6020259058849469E-2,9.4630321080001689E-2,5.6279061721329349E-2,-4.1431710452015547E-2,1.1618228379422835E-2,-4.758429973601086E-2,-5.8149243430319242E-2,3.7406124482085579E-2,2.5869038898314933E-2,-3.4934948432535529E-2,-5.2603392680115268E-2,-8.9387090112064915E-2,-8.1083764979835493E-2,-0.11661486771230622,-0.13407878651553184,-0.13234545984850477,-0.14407815902850241,-0.14904533519658614,-6.3035373689013463E-2,-5.8788920387508159E-2,1.3963901117825417E-2,4.9337985122745343E-2,4.8151072973791731E-2,2.2354223615425495E-2,-4.80338112844092E-3,-9.0834045004443142E-3,4.2680752408106315E-3,{"$f":"(+BM43/BA43)-1","v":3.1469839174963044E-2},4.8455201137825421E-2,0.10077340300176107,9.6216617980315E-2,7.8675897991486554E-2,2.4145262897912412E-2,1.2704560153336653E-2,-1.3361890693865841E-2,6.1596948407696139E-3,2.123819387714998E-2,2.5054430244040748E-2,-3.4020866837196628E-3,3.2839797887436184E-3,-3.8065549577615543E-2,-1.0507399337754131E-2,-6.9834330469973116E-2,-7.7511412695700055E-2,-8.1375122116235432E-2,-1.4067485724312934E-2,4.7515726818508686E-2,4.817648404009689E-2]
["DG-AGRI,  Sheep sector",null,null,null,null,null,null,null,null,null,null,null,null,null,null,null,null,null,null,null,null,null,null,null,null,null,null,null,null,null,null,null,null,null,null,null,null,null,null,null,null,null,null,null,null,null,null,null,null,null,null,null,null,null,null,null,null,null,null,null,null,null,null,null,null,null,null,null,null,null,null,null,null,null,null,null,null,null,null,null,null,null,null,null,null,null,"DG-AGRI,  Sheep sector"]
[]
[]
["EU Heavy lambs",null,null,null,null,null,{"$f":"+G25","v":387.68423523316068},{"$f":"+H25","v":398.24180648244101},{"$f":"+I25","v":410.88742161197473},{"$f":"+J25","v":412.85083795048939},{"$f":"+K25","v":403.63075464594129},{"$f":"+L25","v":402.21615004029945},397.27795615428909,403.82302632124356,396.01226177317216,386.42466572251016,377.98805548647096,350.15962269000011,357.16046965000004,376.1034641,401.7440629300001,406.04536840000003,438.01537671,420.68771886000002,387.55538637000006,383.35460057000006,389.91638193,384.21817546,378.2943209799999,379.38605469000004,401.19557357999997,415.06648164000001,413.65999786999998,440.96675644000004,445.06285354000005,426.65387689000011,386.11335616000002,386.32038251000006,386.51553251000007,383.50414717000001,402.92752250999996,426.49067088000004,447.80024975999999,438.46710594999996,439.89847951999997,462.68013156000001,463.75043304000008,441.51632261000009,413.49358786000005,426.41798924,422.47099074999988,409.06328768999998,424.94011690999997,445.13165427000007,461.88207695000006,468.67511943000005,497.33368249,546.25506890000008,566.05400405000012,503.8701048499999,474.23139238999994,465.51264471999997,458.52720318000001,464.98144991999999,488.66342929000007,521.82971981000014,517.88045783000007,512.48946479000006,524.10005795999996,535.92772398,514.09974138999996,499.27152819999998,500.83276845,505.33034376999996,491.85003662999998,{"$f":"+BX25","v":473.07427758000006},462.45813579999992,458.17379786999999,433.56334280128328,432.1791878283538,485.81097869569277,519.00174858000003,538.18928730000005,533.23426657000005,{"$f":"+CG25","v":516.86802793955781}]
["maximum",null,null,null,null,null,{"$f":"MAX(G9:G24)","v":548.7097},529.82140000000004,542.09680000000003,553.9,526.03230000000008,481.4667,484.25810000000001,544.38710000000003,568.79999999999995,568.51610000000005,577.38700000000006,567.35480000000007,562.06450000000007,538.58620000000008,562.51610000000005,558.5,552.45159999999998,544.53330000000005,562.96770000000004,568.09680000000003,569.4,604.41870000000006,655.37070000000006,618.11189999999999,610.51610000000005,590,586.67740000000003,601.03330000000005,587.64520000000005,575.26670000000001,562.7097,553,558.86670000000004,594.96030000000007,594.53499999999997,608.51610000000005,612.22580000000005,584.5,592.93550000000005,598.20000000000005,570.48390000000006,550.29999999999995,547.83870000000002,556.48390000000006,570.13330000000008,580.22580000000005,603.5,610.51610000000005,597.54840000000002,581.46429999999998,595.93550000000005,623.5,627.12900000000002,607.43330000000003,592.25810000000001,588.77420000000006,604.20000000000005,625.61290000000008,635.20000000000005,645.25810000000001,639.12900000000002,633.2414,625.06450000000007,629.6,{"$f":"MAX(BS9:BS24)","v":611.22580000000005},581.79999999999995,581.03229999999996,598.90319999999997,620.36670000000004,632.32259999999997,638.16669999999999,630,602.16129999999998,556.96429999999998,578.16129999999998,620.43330000000003,619.67740000000003,611.5,{"$f":"MAX(CG9:CG24)","v":636.06449999999995}]
["minimum",null,null,null,null,null,{"$f":"MIN(G9:G24)","v":312.24830000000003},303.15600000000001,327.26190000000003,339.36360000000002,311.64940000000001,302.42680000000001,293.91660000000002,292.93360000000001,315.17320000000001,299.89590000000004,279.71080000000001,180.78730000000002,175.00050000000002,174.36490000000001,178.2978,184.27380000000002,218.8219,191.7851,182.90890000000002,194.37010000000001,187.381,188.59700000000001,185.37130000000002,199.2604,179.25890000000001,189.97220000000002,189.1859,185.60070000000002,170.5591,181.42700000000002,188.82749999999999,195.31190000000001,200.053,182.92750000000001,165.6276,165.4819,168.7355,169.8228,175.16249999999999,181.77809999999999,188.52930000000001,201.87310000000002,210.97410000000002,212.76760000000002,208.8237,182.8417,185.6808,194.03320000000002,182.34450000000001,254.14700000000002,236.61110000000002,244.23100000000002,246.50300000000001,246.64360000000002,252.92620000000002,243.76430000000002,226.66850000000002,225.41,226.15720000000002,228.48,236.71950000000001,234.01240000000001,238.72320000000002,221.3322,{"$f":"MIN(BS9:BS24)","v":233.97839999999999},241.11750000000001,239.0446,233.45599999999999,219.25229999999999,218.25649999999999,224.51830000000001,235.57560000000001,239.72130000000001,225.4239,241.12119999999999,247.81649999999999,246.95849999999999,228.87870000000001,{"$f":"MIN(CG9:CG24)","v":229.6711}]
["difference 25-27",null,null,null,null,null,null,null,null,null,null,null,null,null,null,null,null,{"$f":"+R26-R25","v":25.644744310575675},{"$f":"+S26-S25","v":27.580928047178986},{"$f":"+T26-T25","v":30.545332388198119},{"$f":"+U26-U25","v":33.832105440754162},{"$f":"+V26-V25","v":33.578539141738588},{"$f":"+W26-W25","v":33.188189047052447},34.6582548993552,30.985622288606748,28.61423353477835,30.665978956586116,29.619095651111138,29.210566792020813,27.272911447017862,33.603537795935551,34.081632741116948,33.987730420155458,38.665096628508991,41.562744491088097,37.129918607985076,29.87114575134143,28.920685607443829,28.232381145728311,30.369405990621772,35.929694657530263,39.51946271815774,42.253327108163603,40.675562731635068,40.083801159332268,42.531510823419751,41.671363263972296,36.284494845382824,30.663572427852614,32.348907524536571,32.348438380685138,34.252318688814114,36.22636749990221,38.018936944738073,22.730564215657409,17.444328050536285,21.200625219775134,24.559050585294131,25.984251194377066,20.916342089878924,17.995404917525946,18.031439795570918,18.853562369307951,19.480723436401377,21.345662243304446,23.650100745795726,-517.88045783000007,-512.48946479000006,-524.10005795999996,-535.92772398,-514.09974138999996,-499.27152819999998,-500.83276845,-505.33034376999996,-491.85003662999998,-473.07427758000006,-462.45813579999992,-458.17379786999999,-433.56334280128328,-432.1791878283538,-485.81097869569277,-519.00174858000003,-538.18928730000005,-533.23426657000005,{"$f":"+CG26-CG25","v":-516.86802793955781}]
[]
[]
["EU Light lambs",null,null,null,null,null,{"$f":"+G43","v":537.34615940000003},{"$f":"+H43","v":544.82441180000001},{"$f":"+I43","v":570.92355237000004},{"$f":"+J43","v":570.72302158000002},{"$f":"+K43","v":519.56599263999999},{"$f":"+L43","v":520.28973119},557.47323104999998,586.65240090000009,593.28864819000012,657.65448073999983,694.34471363,682.61042692999979,633.72203870999999,557.14061598000001,576.22603716999993,529.42737976000001,507.86148779000001,526.52110959000004,572.36749580999992,601.05354500999999,647.55260376000001,686.27334214000007,739.61408196000002,710.15042487999995,675.00098389999982,603.02458933999992,554.35946885999999,559.4621175100001,554.69858692999992,565.86539163000009,620.86837394999998,652.75632666000001,708.83071456999994,724.89616192000005,708.97060547000001,718.40111469999999,642.88153476000002,567.95916569999997,575.09590816000002,573.93486478999989,535.32022040000004,536.09895223000001,565.3707566600001,599.82838607999986,626.1705145599999,627.70296417999998,615.14156466999998,614.89520464999998,547.06304092000005,532.15764745000013,541.28664060000006,581.94923448999998,561.73184146999995,561.91269199999999,578.00918098,596.94718173000001,620.48275449000005,630.38204766000001,634.49997078000001,644.69007547000012,602.19244521000007,583.36005651999994,583.87285312000006,596.00055174999989,568.86839744000008,554.40447603000007,581.56954114999996,609.62526171000002,636.02859637999995,{"$f":"+BX43","v":628.23743329000001},636.58365585999991,620.1495934400001,595.86496870999997,542.62149755000007,538.61604343999988,547.50093406999997,560.8658493800001,580.74740766000002,{"$f":"+CG43","v":609.58751686741937}]
["maximum",null,null,null,null,null,{"$f":"MAX(G34:G42)","v":659.58230000000003},{"$f":"MAX(H34:H42)","v":613.84540000000004},{"$f":"MAX(I34:I42)","v":613.06610000000001},{"$f":"MAX(J34:J42)","v":647.01030000000003},{"$f":"MAX(K34:K42)","v":646.9194},{"$f":"MAX(L34:L42)","v":665.4},662.53290000000004,658.86,613.69529999999997,715.33349999999996,797.38030000000003,767.5616,703.12710000000004,608.97519999999997,691.63520000000005,561.82169999999996,554.78030000000001,613.12699999999995,612.62419999999997,624.21259999999995,690.45129999999995,766.12480000000005,884.85699999999997,852.22389999999996,938.7097,906.07140000000004,735.35479999999995,641.66669999999999,641.5806,698.43330000000003,727.51610000000005,724.12900000000002,772.31299999999999,822.6277,842.8,868.54840000000002,819.06449999999995,751.25,745.12900000000002,740.3,709.7097,636.86670000000004,604.26130000000001,642.51520000000005,684.63170000000002,695.27419999999995,690.97829999999999,695.25450000000001,670.12900000000002,632.01570000000004,652.78680000000008,638.26300000000003,633.8143,633.99130000000002,648.03770000000009,679.1223,720.70630000000006,775.06970000000001,806.68100000000004,814.06770000000006,743.79970000000003,699.40100000000007,687.23,683.20500000000004,636.88610000000006,603.66970000000003,654.11770000000001,718.91610000000003,782.58399999999995,{"$f":"MAX(BX34:BX42)","v":784.54840000000002},792.02250000000004,747.00289999999995,706.76900000000001,615.15639999999996,645.16319999999996,612.09100000000001,639.24810000000002,706.78700000000003,{"$f":"MAX(CG34:CG42)","v":750.83900000000006}]
["minimum",null,null,null,null,null,{"$f":"MIN(G34:G42)","v":400.96230000000003},{"$f":"MIN(H34:H42)","v":354.5145},{"$f":"MIN(I34:I42)","v":394.77420000000001},{"$f":"MIN(J34:J42)","v":383.4},{"$f":"MIN(K34:K42)","v":358.7285},{"$f":"MIN(L34:L42)","v":351.62860000000001},340.89620000000002,333.81779999999998,320.55739999999997,247.4341,255.4572,412.95479999999998,401.08580000000001,396,414.77420000000001,401.42,351.79770000000002,347.6,336.54840000000002,335.25810000000001,363.4,317.77140000000003,326.8503,412.29289999999997,414.07420000000002,365.25,375.84899999999999,405.14499999999998,342.30189999999999,325.995,305.69970000000001,373.73649999999998,355.62169999999998,373.47519999999997,310.55829999999997,414.13260000000002,417.88479999999998,354.1225,387.7765,405.51029999999997,377.5206,343.19069999999999,369.26229999999998,373.01319999999998,370.71,372.55259999999998,357.88600000000002,324.79000000000002,324.79000000000002,324.79000000000002,324.79000000000002,407.04770000000002,410.51580000000001,402.23570000000001,404.4452,397.75260000000003,392.69800000000004,403.65160000000003,388.0967,402.14060000000001,404.66320000000002,402.78700000000003,411.59770000000003,417.91370000000001,405.5761,404.87099999999998,388.96769999999998,397.54840000000002,398.00790000000001,{"$f":"MIN(BX34:BX42)","v":394.73660000000001},389.97500000000002,402.76429999999999,403.34030000000001,410.6721,408.86059999999998,417.62900000000002,401.83870000000002,380.262,{"$f":"MIN(CG34:CG42)","v":395.42939999999999}]
[]
[null,null,null,null,null,null,null,null,null,null,null,null,null,null,null,null,null,null,null,null,null,null,null,null,null,null,null,null,null,null,null,null,null,null,null,null,null,null,null,null,null,null,null,null,null,null,null,null,null,null,null,null,null,null,null,null,null,null,null,null,null,7,8,9,10,11,12]
[null,null,null,null,null,null,null,null,null,null,null,null,null,null,null,null,null,null,null,null,null,null,null,null,null,null,null,null,null,null,null,null,null,null,null,null,null,null,null,null,null,null,null,null,null,null,null,null,null,null,null,null,null,null,null,null,null,null,null,"BE",null,{"$f":"AVERAGE(G9:R9)","v":424.96729166666665},{"$f":"AVERAGE(S9:AD9)","v":460.82610833333337},{"$f":"AVERAGE(AE9:AP9)","v":467.1888166666667},{"$f":"AVERAGE(AQ9:BB9)","v":454.97216666666674},{"$f":"AVERAGE(BC9:BN9)","v":473.24207500000006},{"$f":"AVERAGE(BO9:BZ9)","v":505.26289999999995}]
[]
[null,null,null,null,null,null,null,null,null,null,null,null,null,null,null,null,null,null,null,null,null,null,null,null,null,null,null,null,null,null,null,null,null,null,null,null,null,null,null,null,null,null,null,null,null,null,null,null,null,null,null,null,null,null,null,null,null,null,null,"DE",null,{"$f":"AVERAGE(G11:R11)","v":391.00440000000003},{"$f":"AVERAGE(S11:AD11)","v":412.55795000000006},{"$f":"AVERAGE(AE11:AP11)","v":424.08513333333332},{"$f":"AVERAGE(AQ11:BB11)","v":428.03311666666667},{"$f":"AVERAGE(BC11:BN11)","v":472.52260833333338},{"$f":"AVERAGE(BO11:BZ11)","v":512.54717499999992}]
[null,null,null,null,null,null,null,null,null,null,null,null,null,null,null,null,null,null,null,null,null,null,null,null,null,null,null,null,null,null,null,null,null,null,null,null,null,null,null,null,null,null,null,null,null,null,null,null,null,null,null,null,null,null,null,null,null,null,null,"EE",null,null,null,null,null,null,{"$f":"AVERAGE(BO12:BZ12)","v":255.17157500000005}]
[null,null,null,null,null,null,null,null,null,null,null,null,null,null,null,null,null,null,null,null,null,null,null,null,null,null,null,null,null,null,null,null,null,null,null,null,null,null,null,null,null,null,null,null,null,null,null,null,null,null,null,null,null,null,null,null,null,null,null,"IE",null,{"$f":"AVERAGE(G13:R13)","v":339.68465000000003},{"$f":"AVERAGE(S13:AD13)","v":352.78739166666674},{"$f":"AVERAGE(AE13:AP13)","v":359.78179166666661},{"$f":"AVERAGE(AQ13:BB13)","v":425.61138333333338},{"$f":"AVERAGE(BC13:BN13)","v":467.75387500000005},{"$f":"AVERAGE(BO13:BZ13)","v":447.07082499999996}]
[null,null,null,null,null,null,null,null,null,null,null,null,null,null,null,null,null,null,null,null,null,null,null,null,null,null,null,null,null,null,null,null,null,null,null,null,null,null,null,null,null,null,null,null,null,null,null,null,null,null,null,null,null,null,null,null,null,null,null,"ES",null,{"$f":"AVERAGE(G14:R14)","v":455.18599166666667},{"$f":"AVERAGE(S14:AD14)","v":504.02257500000002},{"$f":"AVERAGE(AE14:AP14)","v":516.68846666666673},{"$f":"AVERAGE(AQ14:BB14)","v":466.33651666666668},{"$f":"AVERAGE(BC14:BN14)","v":514.56916666666677},{"$f":"AVERAGE(BO14:BZ14)","v":511.96411666666671}]
[null,null,null,null,null,null,null,null,null,null,null,null,null,null,null,null,null,null,null,null,null,null,null,null,null,null,null,null,null,null,null,null,null,null,null,null,null,null,null,null,null,null,null,null,null,null,null,null,null,null,null,null,null,null,null,null,null,null,null,"FR",null,{"$f":"AVERAGE(G15:R15)","v":540.14247499999999},{"$f":"AVERAGE(S15:AD15)","v":563.44776666666667},{"$f":"AVERAGE(AE15:AP15)","v":581.80026666666674},{"$f":"AVERAGE(AQ15:BB15)","v":581.4452500000001},{"$f":"AVERAGE(BC15:BN15)","v":610.35948333333329},{"$f":"AVERAGE(BO15:BZ15)","v":618.40434999999991}]
[]
[null,null,null,null,null,null,null,null,null,null,null,null,null,null,null,null,null,null,null,null,null,null,null,null,null,null,null,null,null,null,null,null,null,null,null,null,null,null,null,null,null,null,null,null,null,null,null,null,null,null,null,null,null,null,null,null,null,null,null,"NL",null,{"$f":"AVERAGE(G17:R17)","v":395.4681083333333},{"$f":"AVERAGE(S17:AD17)","v":450.84206666666677},{"$f":"AVERAGE(AE17:AP17)","v":457.78376666666668},{"$f":"AVERAGE(AQ17:BB17)","v":463.09220833333342},{"$f":"AVERAGE(BC17:BN17)","v":508.42103333333336},{"$f":"AVERAGE(BO17:BZ17)","v":540.05386666666664}]
[null,null,null,null,null,null,null,null,null,null,null,null,null,null,null,null,null,null,null,null,null,null,null,null,null,null,null,null,null,null,null,null,null,null,null,null,null,null,null,null,null,null,null,null,null,null,null,null,null,null,null,null,null,null,null,null,null,null,null,"AT",null,463.37079999999997,469.61610000000002,501.13269166666669,498.27473333333336,511.61202500000013,527.74866666666674]
[null,null,null,null,null,null,null,null,null,null,null,null,null,null,null,null,null,null,null,null,null,null,null,null,null,null,null,null,null,null,null,null,null,null,null,null,null,null,null,null,null,null,null,null,null,null,null,null,null,null,null,null,null,null,null,null,null,null,null,"PL",null,317.03970000000004,326.64364166666672,331.02940833333338,355.53810000000004,390.67382500000002,398.17608333333334]
[null,null,null,null,null,null,null,null,null,null,null,null,null,null,null,null,null,null,null,null,null,null,null,null,null,null,null,null,null,null,null,null,null,null,null,null,null,null,null,null,null,null,null,null,null,null,null,null,null,null,null,null,null,null,null,null,null,null,null,"RO",null,180.78730000000002,188.3693916666667,182.85276666666664,190.08519999999999,234.69918333333337,234.31903333333332]
[null,null,null,null,null,null,null,null,null,null,null,null,null,null,null,null,null,null,null,null,null,null,null,null,null,null,null,null,null,null,null,null,null,null,null,null,null,null,null,null,null,null,null,null,null,null,null,null,null,null,null,null,null,null,null,null,null,null,null,"SE",null,346.9697833333334,349.33187500000003,312.37697500000002,364.03430000000003,404.38684166666667,448.89133333333331]
[null,null,null,null,null,null,null,null,null,null,null,null,null,null,null,null,null,null,null,null,null,null,null,null,null,null,null,null,null,null,null,null,null,null,null,null,null,null,null,null,null,null,null,null,null,null,null,null,null,null,null,null,null,null,null,null,null,null,null,"GB",null,345.97318333333334,373.87595833333336,404.15544166666672,455.65392500000002,498.52828333333338,507.08718333333337]
[null,null,null,null,null,null,null,null,null,null,null,null,null,null,null,null,null,null,null,null,null,null,null,null,null,null,null,null,null,null,null,null,null,null,null,null,null,null,null,null,null,null,null,null,null,null,null,null,null,null,null,null,null,null,null,null,null,null,null,"NI",null,331.31541666666664,344.75869166666666,362.00254166666673,421.56765833333333,465.27996666666667,438.67090000000002]
[null,null,null,null,null,null,null,null,null,null,null,null,null,null,null,null,null,null,null,null,null,null,null,null,null,null,null,null,null,null,null,null,null,null,null,null,null,null,null,null,null,null,null,null,null,null,null,null,null,null,null,null,null,null,null,null,null,null,null,"UK",null,344.92807500000004,371.79990833333324,401.14994166666673,453.22356666666661,496.15769166666661,502.20910000000009]
[null,null,null,null,null,null,null,null,null,null,null,null,null,null,null,null,null,null,null,null,null,null,null,null,null,null,null,null,null,null,null,null,null,null,null,null,null,null,null,null,null,null,null,null,null,null,null,null,null,null,null,null,null,null,null,null,null,null,null,"EU_H",null,393.9330661759995,391.87344838750005,409.53976264166664,436.3025290966666,493.15132466499995,499.62402785416657]
[]
[]
[]
[]
[]
[]
[]
[null,null,null,null,null,null,null,null,null,null,null,null,null,null,null,null,null,null,null,null,null,null,null,null,null,null,null,null,null,null,null,null,null,null,null,null,null,null,null,null,null,null,null,null,null,null,null,null,null,null,null,null,null,null,null,null,null,null,null,"BG",null,null,null,null,{"$f":"AVERAGE(AQ33:BB33)","v":540.16770000000008},{"$f":"AVERAGE(BC33:BN33)","v":539.68458333333342},{"$f":"AVERAGE(BO33:BZ33)","v":558.04748333333328}]
[null,null,null,null,null,null,null,null,null,null,null,null,null,null,null,null,null,null,null,null,null,null,null,null,null,null,null,null,null,null,null,null,null,null,null,null,null,null,null,null,null,null,null,null,null,null,null,null,null,null,null,null,null,null,null,null,null,null,null,"GR",null,{"$f":"AVERAGE(G34:R34)","v":521.03854999999999},{"$f":"AVERAGE(S34:AD34)","v":514.7910916666666},{"$f":"AVERAGE(AE34:AP34)","v":540.62300833333336},{"$f":"AVERAGE(AQ34:BB34)","v":543.89871666666659},{"$f":"AVERAGE(BC34:BN34)","v":554.55783333333341},{"$f":"AVERAGE(BO34:BZ34)","v":521.73904166666659}]
[null,null,null,null,null,null,null,null,null,null,null,null,null,null,null,null,null,null,null,null,null,null,null,null,null,null,null,null,null,null,null,null,null,null,null,null,null,null,null,null,null,null,null,null,null,null,null,null,null,null,null,null,null,null,null,null,null,null,null,"ES",null,{"$f":"AVERAGE(G35:R35)","v":606.32127500000001},{"$f":"AVERAGE(S35:AD35)","v":657.82179999999994},{"$f":"AVERAGE(AE35:AP35)","v":702.79219999999998},{"$f":"AVERAGE(AQ35:BB35)","v":645.6384916666666},{"$f":"AVERAGE(BC35:BN35)","v":690.52587499999993},{"$f":"AVERAGE(BO35:BZ35)","v":711.04264166666655}]
[null,null,null,null,null,null,null,null,null,null,null,null,null,null,null,null,null,null,null,null,null,null,null,null,null,null,null,null,null,null,null,null,null,null,null,null,null,null,null,null,null,null,null,null,null,null,null,null,null,null,null,null,null,null,null,null,null,null,null,"IT",null,{"$f":"AVERAGE(G37:R37)","v":655.41374999999994},{"$f":"AVERAGE(S37:AD37)","v":628.60751666666658},{"$f":"AVERAGE(AE37:AP37)","v":612.51205833333336},{"$f":"AVERAGE(AQ37:BB37)","v":525.22993333333329},{"$f":"AVERAGE(BC37:BN37)","v":515.23070833333338},{"$f":"AVERAGE(BO37:BZ37)","v":605.39530000000002}]
[null,null,null,null,null,null,null,null,null,null,null,null,null,null,null,null,null,null,null,null,null,null,null,null,null,null,null,null,null,null,null,null,null,null,null,null,null,null,null,null,null,null,null,null,null,null,null,null,null,null,null,null,null,null,null,null,null,null,null,"CY",null,517.05731666666668,539.34370833333344,770.99419999999998,681.72728333333328,552.14600000000007,504.69154999999995]
[null,null,null,null,null,null,null,null,null,null,null,null,null,null,null,null,null,null,null,null,null,null,null,null,null,null,null,null,null,null,null,null,null,null,null,null,null,null,null,null,null,null,null,null,null,null,null,null,null,null,null,null,null,null,null,null,null,null,null,"HU",null,521.70085833333326,520.5678333333334,539.30030833333342,558.03903333333335,632.80434166666669,632.04155000000003]
[null,null,null,null,null,null,null,null,null,null,null,null,null,null,null,null,null,null,null,null,null,null,null,null,null,null,null,null,null,null,null,null,null,null,null,null,null,null,null,null,null,null,null,null,null,null,null,null,null,null,null,null,null,null,null,null,null,null,null,"PT",null,383.67615833333338,396.86529166666668,434.48043333333334,423.75268333333332,441.11831666666666,437.18916666666672]
[null,null,null,null,null,null,null,null,null,null,null,null,null,null,null,null,null,null,null,null,null,null,null,null,null,null,null,null,null,null,null,null,null,null,null,null,null,null,null,null,null,null,null,null,null,null,null,null,null,null,null,null,null,null,null,null,null,null,null,"SI",null,413.69810833333332,421.64760000000007,414.38547500000004,407.54433333333333,403.67950000000002,404.17577499999999]
[null,null,null,null,null,null,null,null,null,null,null,null,null,null,null,null,null,null,null,null,null,null,null,null,null,null,null,null,null,null,null,null,null,null,null,null,null,null,null,null,null,null,null,null,null,null,null,null,null,null,null,null,null,null,null,null,null,null,null,"SK",null,362.88008333333329,430.67965000000004,379.26516666666663,377.65625,432.98709166666663,509.23312499999997]
[null,null,null,null,null,null,null,null,null,null,null,null,null,null,null,null,null,null,null,null,null,null,null,null,null,null,null,null,null,null,null,null,null,null,null,null,null,null,null,null,null,null,null,null,null,null,null,null,null,null,null,null,null,null,null,null,null,null,null,"EU_L",null,586.30806420166664,607.32584688000009,637.26120295333328,590.03333640333324,585.92602567000006,600.07440515833321]